{"text_format":"1","workbook":"xlsx","n_sheets":5,"sheets":["Hoclas 8","Referencias","Fichero de Jugadores","Instrucciones","Varios"],"not_rendered":{"charts":0,"images":3,"macros":1,"external_links":0,"defined_names":9,"comments":0,"pivot_tables":0},"unopened":[],"bounds":{"document_bytes":16777216,"sheet_cells":100000,"rows_first":2000,"rows_last":500,"rows_between":2000,"halvings":0,"cell_chars":16384,"cell_head_chars":4096},"cells_cut":0,"cells_raw":0,"read":"whole","date_system":"1900"}

{"sheet":"Hoclas 8","index":0,"n_rows":203,"n_cols":45,"rows_kept":203,"cut":false,"hidden":false,"merged":[[0,0,1,1],[0,2,1,3],[0,4,0,13],[1,4,1,13]]}
["HOCLAS 8.4",null,null,null,"<NOMBRE DEL TORNEO>"]
[null,null,null,null,"FECHA",null,null,null,null,null,null,null,null,null,null,null,null,null,null,"SOLO SE PUEDEN CAMBIAR CELDAS CON FONDO CELESTE","Jugadores actualizados el: 31/10/2025"]
["Lic1","Lic2","Pto.","Jugador 1","Jugador 2","% ","C1","C2","CAT","AT1","AT2","P",null,"Puntos","J1","J2","CAT1","CAT2"]
[null,null,"1",{"$f":"IF(A4=\"\",\"\",VLOOKUP(A4&\"\",'Fichero de Jugadores'!$A$2:$H$5000,2,0))","v":""},{"$f":"IF(B4=\"\",\"\",VLOOKUP(B4&\"\",'Fichero de Jugadores'!$A$2:$H$5000,2,0))","v":""},null,{"$f":"IF(A4=\"\",\"\",VLOOKUP(A4&\"\",'Fichero de Jugadores'!$A$2:$H$5000,3,0))","v":""},{"$f":"IF(B4=\"\",\"\",VLOOKUP(B4&\"\",'Fichero de Jugadores'!$A$2:$H$5000,3,0))","v":""},{"$f":"INDEX(AN$4:AS$9,(Q4)+2,(R4)+2)","v":{"$error":"#N/A"}},{"$f":"IF(A4=\"\",\"\",VLOOKUP(A4&\"\",'Fichero de Jugadores'!$A$2:$I$5000,6,0))","v":""},{"$f":"IF(B4=\"\",\"\",VLOOKUP(B4&\"\",'Fichero de Jugadores'!$A$2:$I$5000,6,0))","v":""},{"$f":"IF(AND(O4=\"D\",P4=\"D\"),\"D\",IF(AND(O4=\"D\",P4=\"C\"),\"X\",IF(AND(O4=\"C\",P4=\"D\"),\"X\",IF(AND(O4=\"C\",P4=\"C\"),\"C\",IF(OR(O4=\"\",P4=\"\"),\"\")))))","v":""},null,null,{"$f":"IF(A4=\"\",\"\",VLOOKUP(A4&\"\",'Fichero de Jugadores'!$A$2:$I$4565,4,0))","v":""},{"$f":"IF(B4=\"\",\"\",VLOOKUP(B4&\"\",'Fichero de Jugadores'!$A$2:$I$4565,4,0))","v":""},{"$f":"IF(C4=\"\",\"\",VLOOKUP(A4&\"\",'Fichero de Jugadores'!$A$2:$I$4565,7,0))","v":{"$error":"#N/A"}},{"$f":"IF(C4=\"\",\"\",VLOOKUP(B4&\"\",'Fichero de Jugadores'!$A$2:$I$4565,7,0))","v":{"$error":"#N/A"}},null,null,null,null,null,null,null,null,null,null,null,null,null,null,null,null,null,0,"MM, MM-0, MM-D ME, MN-O, MN-D",null,null,null,0,1,2,3,4]
[null,null,"2",{"$f":"IF(A5=\"\",\"\",VLOOKUP(A5&\"\",'Fichero de Jugadores'!$A$2:$H$5000,2,0))","v":""},{"$f":"IF(B5=\"\",\"\",VLOOKUP(B5&\"\",'Fichero de Jugadores'!$A$2:$H$5000,2,0))","v":""},null,{"$f":"IF(A5=\"\",\"\",VLOOKUP(A5&\"\",'Fichero de Jugadores'!$A$2:$H$5000,3,0))","v":""},{"$f":"IF(B5=\"\",\"\",VLOOKUP(B5&\"\",'Fichero de Jugadores'!$A$2:$H$5000,3,0))","v":""},{"$error":"#N/A"},{"$f":"IF(A5=\"\",\"\",VLOOKUP(A5&\"\",'Fichero de Jugadores'!$A$2:$I$5000,6,0))","v":""},{"$f":"IF(B5=\"\",\"\",VLOOKUP(B5&\"\",'Fichero de Jugadores'!$A$2:$I$5000,6,0))","v":""},{"$f":"IF(AND(O5=\"D\",P5=\"D\"),\"D\",IF(AND(O5=\"D\",P5=\"C\"),\"X\",IF(AND(O5=\"C\",P5=\"D\"),\"X\",IF(AND(O5=\"C\",P5=\"C\"),\"C\",IF(OR(O5=\"\",P5=\"\"),\"\")))))","v":""},null,null,{"$f":"IF(A5=\"\",\"\",VLOOKUP(A5&\"\",'Fichero de Jugadores'!$A$2:$I$4565,4,0))","v":""},{"$f":"IF(B5=\"\",\"\",VLOOKUP(B5&\"\",'Fichero de Jugadores'!$A$2:$I$4565,4,0))","v":""},{"$f":"IF(C5=\"\",\"\",VLOOKUP(A5&\"\",'Fichero de Jugadores'!$A$2:$I$4565,7,0))","v":{"$error":"#N/A"}},{"$f":"IF(C5=\"\",\"\",VLOOKUP(B5&\"\",'Fichero de Jugadores'!$A$2:$I$4565,7,0))","v":{"$error":"#N/A"}},null,"Tipo de torneo","Parejas",null,null,null,null,null,null,null,null,null,null,null,null,null,null,1,"1P, 1C, 1D",null,null,0,0,0,1,1,0]
[null,null,"3",{"$f":"IF(A6=\"\",\"\",VLOOKUP(A6&\"\",'Fichero de Jugadores'!$A$2:$H$5000,2,0))","v":""},{"$f":"IF(B6=\"\",\"\",VLOOKUP(B6&\"\",'Fichero de Jugadores'!$A$2:$H$5000,2,0))","v":""},null,{"$f":"IF(A6=\"\",\"\",VLOOKUP(A6&\"\",'Fichero de Jugadores'!$A$2:$H$5000,3,0))","v":""},{"$f":"IF(B6=\"\",\"\",VLOOKUP(B6&\"\",'Fichero de Jugadores'!$A$2:$H$5000,3,0))","v":""},{"$error":"#N/A"},{"$f":"IF(A6=\"\",\"\",VLOOKUP(A6&\"\",'Fichero de Jugadores'!$A$2:$I$5000,6,0))","v":""},{"$f":"IF(B6=\"\",\"\",VLOOKUP(B6&\"\",'Fichero de Jugadores'!$A$2:$I$5000,6,0))","v":""},"",null,null,{"$f":"IF(A6=\"\",\"\",VLOOKUP(A6&\"\",'Fichero de Jugadores'!$A$2:$I$4565,4,0))","v":""},{"$f":"IF(B6=\"\",\"\",VLOOKUP(B6&\"\",'Fichero de Jugadores'!$A$2:$I$4565,4,0))","v":""},{"$f":"IF(C6=\"\",\"\",VLOOKUP(A6&\"\",'Fichero de Jugadores'!$A$2:$I$4565,7,0))","v":{"$error":"#N/A"}},{"$f":"IF(C6=\"\",\"\",VLOOKUP(B6&\"\",'Fichero de Jugadores'!$A$2:$I$4565,7,0))","v":{"$error":"#N/A"}},null,"Categoría de torneo","Pool de club (o equivalente)",{"$f":"VLOOKUP(U6,Instrucciones!A12:B21,2,FALSE)","v":5},null,null,null,null,null,null,null,null,null,null,null,null,null,2,"2P, 2C, 2D",null,null,1,0,1,1,2,1]
[null,null,"4",{"$f":"IF(A7=\"\",\"\",VLOOKUP(A7&\"\",'Fichero de Jugadores'!$A$2:$H$5000,2,0))","v":""},{"$f":"IF(B7=\"\",\"\",VLOOKUP(B7&\"\",'Fichero de Jugadores'!$A$2:$H$5000,2,0))","v":""},null,{"$f":"IF(A7=\"\",\"\",VLOOKUP(A7&\"\",'Fichero de Jugadores'!$A$2:$H$5000,3,0))","v":""},{"$f":"IF(B7=\"\",\"\",VLOOKUP(B7&\"\",'Fichero de Jugadores'!$A$2:$H$5000,3,0))","v":""},{"$error":"#N/A"},{"$f":"IF(A7=\"\",\"\",VLOOKUP(A7&\"\",'Fichero de Jugadores'!$A$2:$I$5000,6,0))","v":""},{"$f":"IF(B7=\"\",\"\",VLOOKUP(B7&\"\",'Fichero de Jugadores'!$A$2:$I$5000,6,0))","v":""},"",null,null,{"$f":"IF(A7=\"\",\"\",VLOOKUP(A7&\"\",'Fichero de Jugadores'!$A$2:$I$4565,4,0))","v":""},{"$f":"IF(B7=\"\",\"\",VLOOKUP(B7&\"\",'Fichero de Jugadores'!$A$2:$I$4565,4,0))","v":""},{"$f":"IF(C7=\"\",\"\",VLOOKUP(A7&\"\",'Fichero de Jugadores'!$A$2:$I$4565,7,0))","v":{"$error":"#N/A"}},{"$f":"IF(C7=\"\",\"\",VLOOKUP(B7&\"\",'Fichero de Jugadores'!$A$2:$I$4565,7,0))","v":{"$error":"#N/A"}},null,"Número de participantes",16,{"$f":"IF(U5=\"Parejas\",\"Parejas\",IF(U5=\"Equipos\",\"Equipos\",IF(U5=\"Individual\",\"Jugadores\",\"\")))","v":"Parejas"},null,null,null,null,null,null,null,null,null,null,null,null,null,3,"3P, 3C, 3D",null,null,2,1,1,2,2,2]
[null,null,"5",{"$f":"IF(A8=\"\",\"\",VLOOKUP(A8&\"\",'Fichero de Jugadores'!$A$2:$H$5000,2,0))","v":""},{"$f":"IF(B8=\"\",\"\",VLOOKUP(B8&\"\",'Fichero de Jugadores'!$A$2:$H$5000,2,0))","v":""},null,{"$f":"IF(A8=\"\",\"\",VLOOKUP(A8&\"\",'Fichero de Jugadores'!$A$2:$H$5000,3,0))","v":""},{"$f":"IF(B8=\"\",\"\",VLOOKUP(B8&\"\",'Fichero de Jugadores'!$A$2:$H$5000,3,0))","v":""},{"$error":"#N/A"},{"$f":"IF(A8=\"\",\"\",VLOOKUP(A8&\"\",'Fichero de Jugadores'!$A$2:$I$5000,6,0))","v":""},{"$f":"IF(B8=\"\",\"\",VLOOKUP(B8&\"\",'Fichero de Jugadores'!$A$2:$I$5000,6,0))","v":""},"",null,null,{"$f":"IF(A8=\"\",\"\",VLOOKUP(A8&\"\",'Fichero de Jugadores'!$A$2:$I$4565,4,0))","v":""},{"$f":"IF(B8=\"\",\"\",VLOOKUP(B8&\"\",'Fichero de Jugadores'!$A$2:$I$4565,4,0))","v":""},{"$f":"IF(C8=\"\",\"\",VLOOKUP(A8&\"\",'Fichero de Jugadores'!$A$2:$I$4565,7,0))","v":{"$error":"#N/A"}},{"$f":"IF(C8=\"\",\"\",VLOOKUP(B8&\"\",'Fichero de Jugadores'!$A$2:$I$4565,7,0))","v":{"$error":"#N/A"}},null,"Nº de manos jugadas por el ganador",24,{"$f":"0.23*SQRT(U8)-0.035","v":1.0917652816802619},null,null,null,null,null,null,null,null,null,null,null,null,null,4,"SC",null,null,3,1,2,2,3,3]
[null,null,"6",{"$f":"IF(A9=\"\",\"\",VLOOKUP(A9&\"\",'Fichero de Jugadores'!$A$2:$H$5000,2,0))","v":""},{"$f":"IF(B9=\"\",\"\",VLOOKUP(B9&\"\",'Fichero de Jugadores'!$A$2:$H$5000,2,0))","v":""},null,{"$f":"IF(A9=\"\",\"\",VLOOKUP(A9&\"\",'Fichero de Jugadores'!$A$2:$H$5000,3,0))","v":""},{"$f":"IF(B9=\"\",\"\",VLOOKUP(B9&\"\",'Fichero de Jugadores'!$A$2:$H$5000,3,0))","v":""},{"$error":"#N/A"},{"$f":"IF(A9=\"\",\"\",VLOOKUP(A9&\"\",'Fichero de Jugadores'!$A$2:$I$5000,6,0))","v":""},{"$f":"IF(B9=\"\",\"\",VLOOKUP(B9&\"\",'Fichero de Jugadores'!$A$2:$I$5000,6,0))","v":""},"",null,null,{"$f":"IF(A9=\"\",\"\",VLOOKUP(A9&\"\",'Fichero de Jugadores'!$A$2:$I$4565,4,0))","v":""},{"$f":"IF(B9=\"\",\"\",VLOOKUP(B9&\"\",'Fichero de Jugadores'!$A$2:$I$4565,4,0))","v":""},{"$f":"IF(C9=\"\",\"\",VLOOKUP(A9&\"\",'Fichero de Jugadores'!$A$2:$I$4565,7,0))","v":{"$error":"#N/A"}},{"$f":"IF(C9=\"\",\"\",VLOOKUP(B9&\"\",'Fichero de Jugadores'!$A$2:$I$4565,7,0))","v":{"$error":"#N/A"}},null,"Presencial / Online","Presencial",null,null,null,null,null,null,null,null,null,null,null,null,null,null,null,null,null,null,4,0,1,2,3,4]
[null,null,"7",{"$f":"IF(A10=\"\",\"\",VLOOKUP(A10&\"\",'Fichero de Jugadores'!$A$2:$H$5000,2,0))","v":""},{"$f":"IF(B10=\"\",\"\",VLOOKUP(B10&\"\",'Fichero de Jugadores'!$A$2:$H$5000,2,0))","v":""},null,{"$f":"IF(A10=\"\",\"\",VLOOKUP(A10&\"\",'Fichero de Jugadores'!$A$2:$H$5000,3,0))","v":""},{"$f":"IF(B10=\"\",\"\",VLOOKUP(B10&\"\",'Fichero de Jugadores'!$A$2:$H$5000,3,0))","v":""},{"$error":"#N/A"},{"$f":"IF(A10=\"\",\"\",VLOOKUP(A10&\"\",'Fichero de Jugadores'!$A$2:$I$5000,6,0))","v":""},{"$f":"IF(B10=\"\",\"\",VLOOKUP(B10&\"\",'Fichero de Jugadores'!$A$2:$I$5000,6,0))","v":""},"",null,null,{"$f":"IF(A10=\"\",\"\",VLOOKUP(A10&\"\",'Fichero de Jugadores'!$A$2:$I$4565,4,0))","v":""},{"$f":"IF(B10=\"\",\"\",VLOOKUP(B10&\"\",'Fichero de Jugadores'!$A$2:$I$4565,4,0))","v":""},{"$f":"IF(C10=\"\",\"\",VLOOKUP(A10&\"\",'Fichero de Jugadores'!$A$2:$I$4565,7,0))","v":{"$error":"#N/A"}},{"$f":"IF(C10=\"\",\"\",VLOOKUP(B10&\"\",'Fichero de Jugadores'!$A$2:$I$4565,7,0))","v":{"$error":"#N/A"}}]
[null,null,"8",{"$f":"IF(A11=\"\",\"\",VLOOKUP(A11&\"\",'Fichero de Jugadores'!$A$2:$H$5000,2,0))","v":""},{"$f":"IF(B11=\"\",\"\",VLOOKUP(B11&\"\",'Fichero de Jugadores'!$A$2:$H$5000,2,0))","v":""},null,{"$f":"IF(A11=\"\",\"\",VLOOKUP(A11&\"\",'Fichero de Jugadores'!$A$2:$H$5000,3,0))","v":""},{"$f":"IF(B11=\"\",\"\",VLOOKUP(B11&\"\",'Fichero de Jugadores'!$A$2:$H$5000,3,0))","v":""},{"$error":"#N/A"},{"$f":"IF(A11=\"\",\"\",VLOOKUP(A11&\"\",'Fichero de Jugadores'!$A$2:$I$5000,6,0))","v":""},{"$f":"IF(B11=\"\",\"\",VLOOKUP(B11&\"\",'Fichero de Jugadores'!$A$2:$I$5000,6,0))","v":""},"",null,null,{"$f":"IF(A11=\"\",\"\",VLOOKUP(A11&\"\",'Fichero de Jugadores'!$A$2:$I$4565,4,0))","v":""},{"$f":"IF(B11=\"\",\"\",VLOOKUP(B11&\"\",'Fichero de Jugadores'!$A$2:$I$4565,4,0))","v":""},{"$f":"IF(C11=\"\",\"\",VLOOKUP(A11&\"\",'Fichero de Jugadores'!$A$2:$I$4565,7,0))","v":{"$error":"#N/A"}},{"$f":"IF(C11=\"\",\"\",VLOOKUP(B11&\"\",'Fichero de Jugadores'!$A$2:$I$4565,7,0))","v":{"$error":"#N/A"}}]
[null,null,"9",{"$f":"IF(A12=\"\",\"\",VLOOKUP(A12&\"\",'Fichero de Jugadores'!$A$2:$H$5000,2,0))","v":""},{"$f":"IF(B12=\"\",\"\",VLOOKUP(B12&\"\",'Fichero de Jugadores'!$A$2:$H$5000,2,0))","v":""},null,{"$f":"IF(A12=\"\",\"\",VLOOKUP(A12&\"\",'Fichero de Jugadores'!$A$2:$H$5000,3,0))","v":""},{"$f":"IF(B12=\"\",\"\",VLOOKUP(B12&\"\",'Fichero de Jugadores'!$A$2:$H$5000,3,0))","v":""},{"$error":"#N/A"},{"$f":"IF(A12=\"\",\"\",VLOOKUP(A12&\"\",'Fichero de Jugadores'!$A$2:$I$5000,6,0))","v":""},{"$f":"IF(B12=\"\",\"\",VLOOKUP(B12&\"\",'Fichero de Jugadores'!$A$2:$I$5000,6,0))","v":""},"",null,null,{"$f":"IF(A12=\"\",\"\",VLOOKUP(A12&\"\",'Fichero de Jugadores'!$A$2:$I$4565,4,0))","v":""},{"$f":"IF(B12=\"\",\"\",VLOOKUP(B12&\"\",'Fichero de Jugadores'!$A$2:$I$4565,4,0))","v":""},{"$f":"IF(C12=\"\",\"\",VLOOKUP(A12&\"\",'Fichero de Jugadores'!$A$2:$I$4565,7,0))","v":{"$error":"#N/A"}},{"$f":"IF(C12=\"\",\"\",VLOOKUP(B12&\"\",'Fichero de Jugadores'!$A$2:$I$4565,7,0))","v":{"$error":"#N/A"}}]
[null,null,"10",{"$f":"IF(A13=\"\",\"\",VLOOKUP(A13&\"\",'Fichero de Jugadores'!$A$2:$H$5000,2,0))","v":""},{"$f":"IF(B13=\"\",\"\",VLOOKUP(B13&\"\",'Fichero de Jugadores'!$A$2:$H$5000,2,0))","v":""},null,{"$f":"IF(A13=\"\",\"\",VLOOKUP(A13&\"\",'Fichero de Jugadores'!$A$2:$H$5000,3,0))","v":""},{"$f":"IF(B13=\"\",\"\",VLOOKUP(B13&\"\",'Fichero de Jugadores'!$A$2:$H$5000,3,0))","v":""},{"$error":"#N/A"},{"$f":"IF(A13=\"\",\"\",VLOOKUP(A13&\"\",'Fichero de Jugadores'!$A$2:$I$5000,6,0))","v":""},{"$f":"IF(B13=\"\",\"\",VLOOKUP(B13&\"\",'Fichero de Jugadores'!$A$2:$I$5000,6,0))","v":""},"",null,null,{"$f":"IF(A13=\"\",\"\",VLOOKUP(A13&\"\",'Fichero de Jugadores'!$A$2:$I$4565,4,0))","v":""},{"$f":"IF(B13=\"\",\"\",VLOOKUP(B13&\"\",'Fichero de Jugadores'!$A$2:$I$4565,4,0))","v":""},{"$f":"IF(C13=\"\",\"\",VLOOKUP(A13&\"\",'Fichero de Jugadores'!$A$2:$I$4565,7,0))","v":{"$error":"#N/A"}},{"$f":"IF(C13=\"\",\"\",VLOOKUP(B13&\"\",'Fichero de Jugadores'!$A$2:$I$4565,7,0))","v":{"$error":"#N/A"}}]
[null,null,"11",{"$f":"IF(A14=\"\",\"\",VLOOKUP(A14&\"\",'Fichero de Jugadores'!$A$2:$H$5000,2,0))","v":""},{"$f":"IF(B14=\"\",\"\",VLOOKUP(B14&\"\",'Fichero de Jugadores'!$A$2:$H$5000,2,0))","v":""},null,{"$f":"IF(A14=\"\",\"\",VLOOKUP(A14&\"\",'Fichero de Jugadores'!$A$2:$H$5000,3,0))","v":""},{"$f":"IF(B14=\"\",\"\",VLOOKUP(B14&\"\",'Fichero de Jugadores'!$A$2:$H$5000,3,0))","v":""},{"$error":"#N/A"},{"$f":"IF(A14=\"\",\"\",VLOOKUP(A14&\"\",'Fichero de Jugadores'!$A$2:$I$5000,6,0))","v":""},{"$f":"IF(B14=\"\",\"\",VLOOKUP(B14&\"\",'Fichero de Jugadores'!$A$2:$I$5000,6,0))","v":""},"",null,null,{"$f":"IF(A14=\"\",\"\",VLOOKUP(A14&\"\",'Fichero de Jugadores'!$A$2:$I$4565,4,0))","v":""},{"$f":"IF(B14=\"\",\"\",VLOOKUP(B14&\"\",'Fichero de Jugadores'!$A$2:$I$4565,4,0))","v":""},{"$f":"IF(C14=\"\",\"\",VLOOKUP(A14&\"\",'Fichero de Jugadores'!$A$2:$I$4565,7,0))","v":{"$error":"#N/A"}},{"$f":"IF(C14=\"\",\"\",VLOOKUP(B14&\"\",'Fichero de Jugadores'!$A$2:$I$4565,7,0))","v":{"$error":"#N/A"}}]
[null,null,"12",{"$f":"IF(A15=\"\",\"\",VLOOKUP(A15&\"\",'Fichero de Jugadores'!$A$2:$H$5000,2,0))","v":""},{"$f":"IF(B15=\"\",\"\",VLOOKUP(B15&\"\",'Fichero de Jugadores'!$A$2:$H$5000,2,0))","v":""},null,{"$f":"IF(A15=\"\",\"\",VLOOKUP(A15&\"\",'Fichero de Jugadores'!$A$2:$H$5000,3,0))","v":""},{"$f":"IF(B15=\"\",\"\",VLOOKUP(B15&\"\",'Fichero de Jugadores'!$A$2:$H$5000,3,0))","v":""},{"$error":"#N/A"},{"$f":"IF(A15=\"\",\"\",VLOOKUP(A15&\"\",'Fichero de Jugadores'!$A$2:$I$5000,6,0))","v":""},{"$f":"IF(B15=\"\",\"\",VLOOKUP(B15&\"\",'Fichero de Jugadores'!$A$2:$I$5000,6,0))","v":""},"",null,null,{"$f":"IF(A15=\"\",\"\",VLOOKUP(A15&\"\",'Fichero de Jugadores'!$A$2:$I$4565,4,0))","v":""},{"$f":"IF(B15=\"\",\"\",VLOOKUP(B15&\"\",'Fichero de Jugadores'!$A$2:$I$4565,4,0))","v":""},{"$f":"IF(C15=\"\",\"\",VLOOKUP(A15&\"\",'Fichero de Jugadores'!$A$2:$I$4565,7,0))","v":{"$error":"#N/A"}},{"$f":"IF(C15=\"\",\"\",VLOOKUP(B15&\"\",'Fichero de Jugadores'!$A$2:$I$4565,7,0))","v":{"$error":"#N/A"}}]
[null,null,"13",{"$f":"IF(A16=\"\",\"\",VLOOKUP(A16&\"\",'Fichero de Jugadores'!$A$2:$H$5000,2,0))","v":""},{"$f":"IF(B16=\"\",\"\",VLOOKUP(B16&\"\",'Fichero de Jugadores'!$A$2:$H$5000,2,0))","v":""},null,{"$f":"IF(A16=\"\",\"\",VLOOKUP(A16&\"\",'Fichero de Jugadores'!$A$2:$H$5000,3,0))","v":""},{"$f":"IF(B16=\"\",\"\",VLOOKUP(B16&\"\",'Fichero de Jugadores'!$A$2:$H$5000,3,0))","v":""},{"$error":"#N/A"},{"$f":"IF(A16=\"\",\"\",VLOOKUP(A16&\"\",'Fichero de Jugadores'!$A$2:$I$5000,6,0))","v":""},{"$f":"IF(B16=\"\",\"\",VLOOKUP(B16&\"\",'Fichero de Jugadores'!$A$2:$I$5000,6,0))","v":""},"",null,null,{"$f":"IF(A16=\"\",\"\",VLOOKUP(A16&\"\",'Fichero de Jugadores'!$A$2:$I$4565,4,0))","v":""},{"$f":"IF(B16=\"\",\"\",VLOOKUP(B16&\"\",'Fichero de Jugadores'!$A$2:$I$4565,4,0))","v":""},{"$f":"IF(C16=\"\",\"\",VLOOKUP(A16&\"\",'Fichero de Jugadores'!$A$2:$I$4565,7,0))","v":{"$error":"#N/A"}},{"$f":"IF(C16=\"\",\"\",VLOOKUP(B16&\"\",'Fichero de Jugadores'!$A$2:$I$4565,7,0))","v":{"$error":"#N/A"}}]
[null,null,"14",{"$f":"IF(A17=\"\",\"\",VLOOKUP(A17&\"\",'Fichero de Jugadores'!$A$2:$H$5000,2,0))","v":""},{"$f":"IF(B17=\"\",\"\",VLOOKUP(B17&\"\",'Fichero de Jugadores'!$A$2:$H$5000,2,0))","v":""},null,{"$f":"IF(A17=\"\",\"\",VLOOKUP(A17&\"\",'Fichero de Jugadores'!$A$2:$H$5000,3,0))","v":""},{"$f":"IF(B17=\"\",\"\",VLOOKUP(B17&\"\",'Fichero de Jugadores'!$A$2:$H$5000,3,0))","v":""},{"$error":"#N/A"},{"$f":"IF(A17=\"\",\"\",VLOOKUP(A17&\"\",'Fichero de Jugadores'!$A$2:$I$5000,6,0))","v":""},{"$f":"IF(B17=\"\",\"\",VLOOKUP(B17&\"\",'Fichero de Jugadores'!$A$2:$I$5000,6,0))","v":""},"",null,null,{"$f":"IF(A17=\"\",\"\",VLOOKUP(A17&\"\",'Fichero de Jugadores'!$A$2:$I$4565,4,0))","v":""},{"$f":"IF(B17=\"\",\"\",VLOOKUP(B17&\"\",'Fichero de Jugadores'!$A$2:$I$4565,4,0))","v":""},{"$f":"IF(C17=\"\",\"\",VLOOKUP(A17&\"\",'Fichero de Jugadores'!$A$2:$I$4565,7,0))","v":{"$error":"#N/A"}},{"$f":"IF(C17=\"\",\"\",VLOOKUP(B17&\"\",'Fichero de Jugadores'!$A$2:$I$4565,7,0))","v":{"$error":"#N/A"}}]
[null,null,"15",{"$f":"IF(A18=\"\",\"\",VLOOKUP(A18&\"\",'Fichero de Jugadores'!$A$2:$H$5000,2,0))","v":""},{"$f":"IF(B18=\"\",\"\",VLOOKUP(B18&\"\",'Fichero de Jugadores'!$A$2:$H$5000,2,0))","v":""},null,{"$f":"IF(A18=\"\",\"\",VLOOKUP(A18&\"\",'Fichero de Jugadores'!$A$2:$H$5000,3,0))","v":""},{"$f":"IF(B18=\"\",\"\",VLOOKUP(B18&\"\",'Fichero de Jugadores'!$A$2:$H$5000,3,0))","v":""},{"$error":"#N/A"},{"$f":"IF(A18=\"\",\"\",VLOOKUP(A18&\"\",'Fichero de Jugadores'!$A$2:$I$5000,6,0))","v":""},{"$f":"IF(B18=\"\",\"\",VLOOKUP(B18&\"\",'Fichero de Jugadores'!$A$2:$I$5000,6,0))","v":""},"",null,null,{"$f":"IF(A18=\"\",\"\",VLOOKUP(A18&\"\",'Fichero de Jugadores'!$A$2:$I$4565,4,0))","v":""},{"$f":"IF(B18=\"\",\"\",VLOOKUP(B18&\"\",'Fichero de Jugadores'!$A$2:$I$4565,4,0))","v":""},{"$f":"IF(C18=\"\",\"\",VLOOKUP(A18&\"\",'Fichero de Jugadores'!$A$2:$I$4565,7,0))","v":{"$error":"#N/A"}},{"$f":"IF(C18=\"\",\"\",VLOOKUP(B18&\"\",'Fichero de Jugadores'!$A$2:$I$4565,7,0))","v":{"$error":"#N/A"}}]
[null,null,"16",{"$f":"IF(A19=\"\",\"\",VLOOKUP(A19&\"\",'Fichero de Jugadores'!$A$2:$H$5000,2,0))","v":""},{"$f":"IF(B19=\"\",\"\",VLOOKUP(B19&\"\",'Fichero de Jugadores'!$A$2:$H$5000,2,0))","v":""},null,{"$f":"IF(A19=\"\",\"\",VLOOKUP(A19&\"\",'Fichero de Jugadores'!$A$2:$H$5000,3,0))","v":""},{"$f":"IF(B19=\"\",\"\",VLOOKUP(B19&\"\",'Fichero de Jugadores'!$A$2:$H$5000,3,0))","v":""},{"$error":"#N/A"},{"$f":"IF(A19=\"\",\"\",VLOOKUP(A19&\"\",'Fichero de Jugadores'!$A$2:$I$5000,6,0))","v":""},{"$f":"IF(B19=\"\",\"\",VLOOKUP(B19&\"\",'Fichero de Jugadores'!$A$2:$I$5000,6,0))","v":""},"",null,null,{"$f":"IF(A19=\"\",\"\",VLOOKUP(A19&\"\",'Fichero de Jugadores'!$A$2:$I$4565,4,0))","v":""},{"$f":"IF(B19=\"\",\"\",VLOOKUP(B19&\"\",'Fichero de Jugadores'!$A$2:$I$4565,4,0))","v":""},{"$f":"IF(C19=\"\",\"\",VLOOKUP(A19&\"\",'Fichero de Jugadores'!$A$2:$I$4565,7,0))","v":{"$error":"#N/A"}},{"$f":"IF(C19=\"\",\"\",VLOOKUP(B19&\"\",'Fichero de Jugadores'!$A$2:$I$4565,7,0))","v":{"$error":"#N/A"}}]
[null,null,"17",{"$f":"IF(A20=\"\",\"\",VLOOKUP(A20&\"\",'Fichero de Jugadores'!$A$2:$H$5000,2,0))","v":""},{"$f":"IF(B20=\"\",\"\",VLOOKUP(B20&\"\",'Fichero de Jugadores'!$A$2:$H$5000,2,0))","v":""},null,{"$f":"IF(A20=\"\",\"\",VLOOKUP(A20&\"\",'Fichero de Jugadores'!$A$2:$H$5000,3,0))","v":""},{"$f":"IF(B20=\"\",\"\",VLOOKUP(B20&\"\",'Fichero de Jugadores'!$A$2:$H$5000,3,0))","v":""},{"$error":"#N/A"},{"$f":"IF(A20=\"\",\"\",VLOOKUP(A20&\"\",'Fichero de Jugadores'!$A$2:$I$5000,6,0))","v":""},{"$f":"IF(B20=\"\",\"\",VLOOKUP(B20&\"\",'Fichero de Jugadores'!$A$2:$I$5000,6,0))","v":""},"",null,null,{"$f":"IF(A20=\"\",\"\",VLOOKUP(A20&\"\",'Fichero de Jugadores'!$A$2:$I$4565,4,0))","v":""},{"$f":"IF(B20=\"\",\"\",VLOOKUP(B20&\"\",'Fichero de Jugadores'!$A$2:$I$4565,4,0))","v":""},{"$f":"IF(C20=\"\",\"\",VLOOKUP(A20&\"\",'Fichero de Jugadores'!$A$2:$I$4565,7,0))","v":{"$error":"#N/A"}},{"$f":"IF(C20=\"\",\"\",VLOOKUP(B20&\"\",'Fichero de Jugadores'!$A$2:$I$4565,7,0))","v":{"$error":"#N/A"}}]
[null,null,"18",{"$f":"IF(A21=\"\",\"\",VLOOKUP(A21&\"\",'Fichero de Jugadores'!$A$2:$H$5000,2,0))","v":""},{"$f":"IF(B21=\"\",\"\",VLOOKUP(B21&\"\",'Fichero de Jugadores'!$A$2:$H$5000,2,0))","v":""},null,{"$f":"IF(A21=\"\",\"\",VLOOKUP(A21&\"\",'Fichero de Jugadores'!$A$2:$H$5000,3,0))","v":""},{"$f":"IF(B21=\"\",\"\",VLOOKUP(B21&\"\",'Fichero de Jugadores'!$A$2:$H$5000,3,0))","v":""},{"$error":"#N/A"},{"$f":"IF(A21=\"\",\"\",VLOOKUP(A21&\"\",'Fichero de Jugadores'!$A$2:$I$5000,6,0))","v":""},{"$f":"IF(B21=\"\",\"\",VLOOKUP(B21&\"\",'Fichero de Jugadores'!$A$2:$I$5000,6,0))","v":""},"",null,null,{"$f":"IF(A21=\"\",\"\",VLOOKUP(A21&\"\",'Fichero de Jugadores'!$A$2:$I$4565,4,0))","v":""},{"$f":"IF(B21=\"\",\"\",VLOOKUP(B21&\"\",'Fichero de Jugadores'!$A$2:$I$4565,4,0))","v":""},{"$f":"IF(C21=\"\",\"\",VLOOKUP(A21&\"\",'Fichero de Jugadores'!$A$2:$I$4565,7,0))","v":{"$error":"#N/A"}},{"$f":"IF(C21=\"\",\"\",VLOOKUP(B21&\"\",'Fichero de Jugadores'!$A$2:$I$4565,7,0))","v":{"$error":"#N/A"}}]
[null,null,"19",{"$f":"IF(A22=\"\",\"\",VLOOKUP(A22&\"\",'Fichero de Jugadores'!$A$2:$H$5000,2,0))","v":""},{"$f":"IF(B22=\"\",\"\",VLOOKUP(B22&\"\",'Fichero de Jugadores'!$A$2:$H$5000,2,0))","v":""},null,{"$f":"IF(A22=\"\",\"\",VLOOKUP(A22&\"\",'Fichero de Jugadores'!$A$2:$H$5000,3,0))","v":""},{"$f":"IF(B22=\"\",\"\",VLOOKUP(B22&\"\",'Fichero de Jugadores'!$A$2:$H$5000,3,0))","v":""},{"$error":"#N/A"},{"$f":"IF(A22=\"\",\"\",VLOOKUP(A22&\"\",'Fichero de Jugadores'!$A$2:$I$5000,6,0))","v":""},{"$f":"IF(B22=\"\",\"\",VLOOKUP(B22&\"\",'Fichero de Jugadores'!$A$2:$I$5000,6,0))","v":""},"",null,null,{"$f":"IF(A22=\"\",\"\",VLOOKUP(A22&\"\",'Fichero de Jugadores'!$A$2:$I$4565,4,0))","v":""},{"$f":"IF(B22=\"\",\"\",VLOOKUP(B22&\"\",'Fichero de Jugadores'!$A$2:$I$4565,4,0))","v":""},{"$f":"IF(C22=\"\",\"\",VLOOKUP(A22&\"\",'Fichero de Jugadores'!$A$2:$I$4565,7,0))","v":{"$error":"#N/A"}},{"$f":"IF(C22=\"\",\"\",VLOOKUP(B22&\"\",'Fichero de Jugadores'!$A$2:$I$4565,7,0))","v":{"$error":"#N/A"}}]
[null,null,"20",{"$f":"IF(A23=\"\",\"\",VLOOKUP(A23&\"\",'Fichero de Jugadores'!$A$2:$H$5000,2,0))","v":""},{"$f":"IF(B23=\"\",\"\",VLOOKUP(B23&\"\",'Fichero de Jugadores'!$A$2:$H$5000,2,0))","v":""},null,{"$f":"IF(A23=\"\",\"\",VLOOKUP(A23&\"\",'Fichero de Jugadores'!$A$2:$H$5000,3,0))","v":""},{"$f":"IF(B23=\"\",\"\",VLOOKUP(B23&\"\",'Fichero de Jugadores'!$A$2:$H$5000,3,0))","v":""},{"$error":"#N/A"},{"$f":"IF(A23=\"\",\"\",VLOOKUP(A23&\"\",'Fichero de Jugadores'!$A$2:$I$5000,6,0))","v":""},{"$f":"IF(B23=\"\",\"\",VLOOKUP(B23&\"\",'Fichero de Jugadores'!$A$2:$I$5000,6,0))","v":""},"",null,null,{"$f":"IF(A23=\"\",\"\",VLOOKUP(A23&\"\",'Fichero de Jugadores'!$A$2:$I$4565,4,0))","v":""},{"$f":"IF(B23=\"\",\"\",VLOOKUP(B23&\"\",'Fichero de Jugadores'!$A$2:$I$4565,4,0))","v":""},{"$f":"IF(C23=\"\",\"\",VLOOKUP(A23&\"\",'Fichero de Jugadores'!$A$2:$I$4565,7,0))","v":{"$error":"#N/A"}},{"$f":"IF(C23=\"\",\"\",VLOOKUP(B23&\"\",'Fichero de Jugadores'!$A$2:$I$4565,7,0))","v":{"$error":"#N/A"}}]
[null,null,"21",{"$f":"IF(A24=\"\",\"\",VLOOKUP(A24&\"\",'Fichero de Jugadores'!$A$2:$H$5000,2,0))","v":""},{"$f":"IF(B24=\"\",\"\",VLOOKUP(B24&\"\",'Fichero de Jugadores'!$A$2:$H$5000,2,0))","v":""},null,{"$f":"IF(A24=\"\",\"\",VLOOKUP(A24&\"\",'Fichero de Jugadores'!$A$2:$H$5000,3,0))","v":""},{"$f":"IF(B24=\"\",\"\",VLOOKUP(B24&\"\",'Fichero de Jugadores'!$A$2:$H$5000,3,0))","v":""},{"$error":"#N/A"},{"$f":"IF(A24=\"\",\"\",VLOOKUP(A24&\"\",'Fichero de Jugadores'!$A$2:$I$5000,6,0))","v":""},{"$f":"IF(B24=\"\",\"\",VLOOKUP(B24&\"\",'Fichero de Jugadores'!$A$2:$I$5000,6,0))","v":""},"",null,null,{"$f":"IF(A24=\"\",\"\",VLOOKUP(A24&\"\",'Fichero de Jugadores'!$A$2:$I$4565,4,0))","v":""},{"$f":"IF(B24=\"\",\"\",VLOOKUP(B24&\"\",'Fichero de Jugadores'!$A$2:$I$4565,4,0))","v":""},{"$f":"IF(C24=\"\",\"\",VLOOKUP(A24&\"\",'Fichero de Jugadores'!$A$2:$I$4565,7,0))","v":{"$error":"#N/A"}},{"$f":"IF(C24=\"\",\"\",VLOOKUP(B24&\"\",'Fichero de Jugadores'!$A$2:$I$4565,7,0))","v":{"$error":"#N/A"}}]
[null,null,"22",{"$f":"IF(A25=\"\",\"\",VLOOKUP(A25&\"\",'Fichero de Jugadores'!$A$2:$H$5000,2,0))","v":""},{"$f":"IF(B25=\"\",\"\",VLOOKUP(B25&\"\",'Fichero de Jugadores'!$A$2:$H$5000,2,0))","v":""},null,{"$f":"IF(A25=\"\",\"\",VLOOKUP(A25&\"\",'Fichero de Jugadores'!$A$2:$H$5000,3,0))","v":""},{"$f":"IF(B25=\"\",\"\",VLOOKUP(B25&\"\",'Fichero de Jugadores'!$A$2:$H$5000,3,0))","v":""},{"$error":"#N/A"},{"$f":"IF(A25=\"\",\"\",VLOOKUP(A25&\"\",'Fichero de Jugadores'!$A$2:$I$5000,6,0))","v":""},{"$f":"IF(B25=\"\",\"\",VLOOKUP(B25&\"\",'Fichero de Jugadores'!$A$2:$I$5000,6,0))","v":""},"",null,null,{"$f":"IF(A25=\"\",\"\",VLOOKUP(A25&\"\",'Fichero de Jugadores'!$A$2:$I$4565,4,0))","v":""},{"$f":"IF(B25=\"\",\"\",VLOOKUP(B25&\"\",'Fichero de Jugadores'!$A$2:$I$4565,4,0))","v":""},{"$f":"IF(C25=\"\",\"\",VLOOKUP(A25&\"\",'Fichero de Jugadores'!$A$2:$I$4565,7,0))","v":{"$error":"#N/A"}},{"$f":"IF(C25=\"\",\"\",VLOOKUP(B25&\"\",'Fichero de Jugadores'!$A$2:$I$4565,7,0))","v":{"$error":"#N/A"}}]
[null,null,"23",{"$f":"IF(A26=\"\",\"\",VLOOKUP(A26&\"\",'Fichero de Jugadores'!$A$2:$H$5000,2,0))","v":""},{"$f":"IF(B26=\"\",\"\",VLOOKUP(B26&\"\",'Fichero de Jugadores'!$A$2:$H$5000,2,0))","v":""},null,{"$f":"IF(A26=\"\",\"\",VLOOKUP(A26&\"\",'Fichero de Jugadores'!$A$2:$H$5000,3,0))","v":""},{"$f":"IF(B26=\"\",\"\",VLOOKUP(B26&\"\",'Fichero de Jugadores'!$A$2:$H$5000,3,0))","v":""},{"$error":"#N/A"},{"$f":"IF(A26=\"\",\"\",VLOOKUP(A26&\"\",'Fichero de Jugadores'!$A$2:$I$5000,6,0))","v":""},{"$f":"IF(B26=\"\",\"\",VLOOKUP(B26&\"\",'Fichero de Jugadores'!$A$2:$I$5000,6,0))","v":""},"",null,null,{"$f":"IF(A26=\"\",\"\",VLOOKUP(A26&\"\",'Fichero de Jugadores'!$A$2:$I$4565,4,0))","v":""},{"$f":"IF(B26=\"\",\"\",VLOOKUP(B26&\"\",'Fichero de Jugadores'!$A$2:$I$4565,4,0))","v":""},{"$f":"IF(C26=\"\",\"\",VLOOKUP(A26&\"\",'Fichero de Jugadores'!$A$2:$I$4565,7,0))","v":{"$error":"#N/A"}},{"$f":"IF(C26=\"\",\"\",VLOOKUP(B26&\"\",'Fichero de Jugadores'!$A$2:$I$4565,7,0))","v":{"$error":"#N/A"}}]
[null,null,"24",{"$f":"IF(A27=\"\",\"\",VLOOKUP(A27&\"\",'Fichero de Jugadores'!$A$2:$H$5000,2,0))","v":""},{"$f":"IF(B27=\"\",\"\",VLOOKUP(B27&\"\",'Fichero de Jugadores'!$A$2:$H$5000,2,0))","v":""},null,{"$f":"IF(A27=\"\",\"\",VLOOKUP(A27&\"\",'Fichero de Jugadores'!$A$2:$H$5000,3,0))","v":""},{"$f":"IF(B27=\"\",\"\",VLOOKUP(B27&\"\",'Fichero de Jugadores'!$A$2:$H$5000,3,0))","v":""},{"$error":"#N/A"},{"$f":"IF(A27=\"\",\"\",VLOOKUP(A27&\"\",'Fichero de Jugadores'!$A$2:$I$5000,6,0))","v":""},{"$f":"IF(B27=\"\",\"\",VLOOKUP(B27&\"\",'Fichero de Jugadores'!$A$2:$I$5000,6,0))","v":""},"",null,null,{"$f":"IF(A27=\"\",\"\",VLOOKUP(A27&\"\",'Fichero de Jugadores'!$A$2:$I$4565,4,0))","v":""},{"$f":"IF(B27=\"\",\"\",VLOOKUP(B27&\"\",'Fichero de Jugadores'!$A$2:$I$4565,4,0))","v":""},{"$f":"IF(C27=\"\",\"\",VLOOKUP(A27&\"\",'Fichero de Jugadores'!$A$2:$I$4565,7,0))","v":{"$error":"#N/A"}},{"$f":"IF(C27=\"\",\"\",VLOOKUP(B27&\"\",'Fichero de Jugadores'!$A$2:$I$4565,7,0))","v":{"$error":"#N/A"}}]
[null,null,"25",{"$f":"IF(A28=\"\",\"\",VLOOKUP(A28&\"\",'Fichero de Jugadores'!$A$2:$H$5000,2,0))","v":""},{"$f":"IF(B28=\"\",\"\",VLOOKUP(B28&\"\",'Fichero de Jugadores'!$A$2:$H$5000,2,0))","v":""},null,{"$f":"IF(A28=\"\",\"\",VLOOKUP(A28&\"\",'Fichero de Jugadores'!$A$2:$H$5000,3,0))","v":""},{"$f":"IF(B28=\"\",\"\",VLOOKUP(B28&\"\",'Fichero de Jugadores'!$A$2:$H$5000,3,0))","v":""},{"$error":"#N/A"},{"$f":"IF(A28=\"\",\"\",VLOOKUP(A28&\"\",'Fichero de Jugadores'!$A$2:$I$5000,6,0))","v":""},{"$f":"IF(B28=\"\",\"\",VLOOKUP(B28&\"\",'Fichero de Jugadores'!$A$2:$I$5000,6,0))","v":""},"",null,null,{"$f":"IF(A28=\"\",\"\",VLOOKUP(A28&\"\",'Fichero de Jugadores'!$A$2:$I$4565,4,0))","v":""},{"$f":"IF(B28=\"\",\"\",VLOOKUP(B28&\"\",'Fichero de Jugadores'!$A$2:$I$4565,4,0))","v":""},{"$f":"IF(C28=\"\",\"\",VLOOKUP(A28&\"\",'Fichero de Jugadores'!$A$2:$I$4565,7,0))","v":{"$error":"#N/A"}},{"$f":"IF(C28=\"\",\"\",VLOOKUP(B28&\"\",'Fichero de Jugadores'!$A$2:$I$4565,7,0))","v":{"$error":"#N/A"}}]
[null,null,"26",{"$f":"IF(A29=\"\",\"\",VLOOKUP(A29&\"\",'Fichero de Jugadores'!$A$2:$H$5000,2,0))","v":""},{"$f":"IF(B29=\"\",\"\",VLOOKUP(B29&\"\",'Fichero de Jugadores'!$A$2:$H$5000,2,0))","v":""},null,{"$f":"IF(A29=\"\",\"\",VLOOKUP(A29&\"\",'Fichero de Jugadores'!$A$2:$H$5000,3,0))","v":""},{"$f":"IF(B29=\"\",\"\",VLOOKUP(B29&\"\",'Fichero de Jugadores'!$A$2:$H$5000,3,0))","v":""},{"$error":"#N/A"},{"$f":"IF(A29=\"\",\"\",VLOOKUP(A29&\"\",'Fichero de Jugadores'!$A$2:$I$5000,6,0))","v":""},{"$f":"IF(B29=\"\",\"\",VLOOKUP(B29&\"\",'Fichero de Jugadores'!$A$2:$I$5000,6,0))","v":""},"",null,null,{"$f":"IF(A29=\"\",\"\",VLOOKUP(A29&\"\",'Fichero de Jugadores'!$A$2:$I$4565,4,0))","v":""},{"$f":"IF(B29=\"\",\"\",VLOOKUP(B29&\"\",'Fichero de Jugadores'!$A$2:$I$4565,4,0))","v":""},{"$f":"IF(C29=\"\",\"\",VLOOKUP(A29&\"\",'Fichero de Jugadores'!$A$2:$I$4565,7,0))","v":{"$error":"#N/A"}},{"$f":"IF(C29=\"\",\"\",VLOOKUP(B29&\"\",'Fichero de Jugadores'!$A$2:$I$4565,7,0))","v":{"$error":"#N/A"}}]
[null,null,"27",{"$f":"IF(A30=\"\",\"\",VLOOKUP(A30&\"\",'Fichero de Jugadores'!$A$2:$H$5000,2,0))","v":""},{"$f":"IF(B30=\"\",\"\",VLOOKUP(B30&\"\",'Fichero de Jugadores'!$A$2:$H$5000,2,0))","v":""},null,{"$f":"IF(A30=\"\",\"\",VLOOKUP(A30&\"\",'Fichero de Jugadores'!$A$2:$H$5000,3,0))","v":""},{"$f":"IF(B30=\"\",\"\",VLOOKUP(B30&\"\",'Fichero de Jugadores'!$A$2:$H$5000,3,0))","v":""},{"$error":"#N/A"},{"$f":"IF(A30=\"\",\"\",VLOOKUP(A30&\"\",'Fichero de Jugadores'!$A$2:$I$5000,6,0))","v":""},{"$f":"IF(B30=\"\",\"\",VLOOKUP(B30&\"\",'Fichero de Jugadores'!$A$2:$I$5000,6,0))","v":""},"",null,null,{"$f":"IF(A30=\"\",\"\",VLOOKUP(A30&\"\",'Fichero de Jugadores'!$A$2:$I$4565,4,0))","v":""},{"$f":"IF(B30=\"\",\"\",VLOOKUP(B30&\"\",'Fichero de Jugadores'!$A$2:$I$4565,4,0))","v":""},{"$f":"IF(C30=\"\",\"\",VLOOKUP(A30&\"\",'Fichero de Jugadores'!$A$2:$I$4565,7,0))","v":{"$error":"#N/A"}},{"$f":"IF(C30=\"\",\"\",VLOOKUP(B30&\"\",'Fichero de Jugadores'!$A$2:$I$4565,7,0))","v":{"$error":"#N/A"}}]
[null,null,"28",{"$f":"IF(A31=\"\",\"\",VLOOKUP(A31&\"\",'Fichero de Jugadores'!$A$2:$H$5000,2,0))","v":""},{"$f":"IF(B31=\"\",\"\",VLOOKUP(B31&\"\",'Fichero de Jugadores'!$A$2:$H$5000,2,0))","v":""},null,{"$f":"IF(A31=\"\",\"\",VLOOKUP(A31&\"\",'Fichero de Jugadores'!$A$2:$H$5000,3,0))","v":""},{"$f":"IF(B31=\"\",\"\",VLOOKUP(B31&\"\",'Fichero de Jugadores'!$A$2:$H$5000,3,0))","v":""},{"$error":"#N/A"},{"$f":"IF(A31=\"\",\"\",VLOOKUP(A31&\"\",'Fichero de Jugadores'!$A$2:$I$5000,6,0))","v":""},{"$f":"IF(B31=\"\",\"\",VLOOKUP(B31&\"\",'Fichero de Jugadores'!$A$2:$I$5000,6,0))","v":""},"",null,null,{"$f":"IF(A31=\"\",\"\",VLOOKUP(A31&\"\",'Fichero de Jugadores'!$A$2:$I$4565,4,0))","v":""},{"$f":"IF(B31=\"\",\"\",VLOOKUP(B31&\"\",'Fichero de Jugadores'!$A$2:$I$4565,4,0))","v":""},{"$f":"IF(C31=\"\",\"\",VLOOKUP(A31&\"\",'Fichero de Jugadores'!$A$2:$I$4565,7,0))","v":{"$error":"#N/A"}},{"$f":"IF(C31=\"\",\"\",VLOOKUP(B31&\"\",'Fichero de Jugadores'!$A$2:$I$4565,7,0))","v":{"$error":"#N/A"}}]
[null,null,"29",{"$f":"IF(A32=\"\",\"\",VLOOKUP(A32&\"\",'Fichero de Jugadores'!$A$2:$H$5000,2,0))","v":""},{"$f":"IF(B32=\"\",\"\",VLOOKUP(B32&\"\",'Fichero de Jugadores'!$A$2:$H$5000,2,0))","v":""},null,{"$f":"IF(A32=\"\",\"\",VLOOKUP(A32&\"\",'Fichero de Jugadores'!$A$2:$H$5000,3,0))","v":""},{"$f":"IF(B32=\"\",\"\",VLOOKUP(B32&\"\",'Fichero de Jugadores'!$A$2:$H$5000,3,0))","v":""},{"$error":"#N/A"},{"$f":"IF(A32=\"\",\"\",VLOOKUP(A32&\"\",'Fichero de Jugadores'!$A$2:$I$5000,6,0))","v":""},{"$f":"IF(B32=\"\",\"\",VLOOKUP(B32&\"\",'Fichero de Jugadores'!$A$2:$I$5000,6,0))","v":""},"",null,null,{"$f":"IF(A32=\"\",\"\",VLOOKUP(A32&\"\",'Fichero de Jugadores'!$A$2:$I$4565,4,0))","v":""},{"$f":"IF(B32=\"\",\"\",VLOOKUP(B32&\"\",'Fichero de Jugadores'!$A$2:$I$4565,4,0))","v":""},{"$f":"IF(C32=\"\",\"\",VLOOKUP(A32&\"\",'Fichero de Jugadores'!$A$2:$I$4565,7,0))","v":{"$error":"#N/A"}},{"$f":"IF(C32=\"\",\"\",VLOOKUP(B32&\"\",'Fichero de Jugadores'!$A$2:$I$4565,7,0))","v":{"$error":"#N/A"}}]
[null,null,"30",{"$f":"IF(A33=\"\",\"\",VLOOKUP(A33&\"\",'Fichero de Jugadores'!$A$2:$H$5000,2,0))","v":""},{"$f":"IF(B33=\"\",\"\",VLOOKUP(B33&\"\",'Fichero de Jugadores'!$A$2:$H$5000,2,0))","v":""},null,{"$f":"IF(A33=\"\",\"\",VLOOKUP(A33&\"\",'Fichero de Jugadores'!$A$2:$H$5000,3,0))","v":""},{"$f":"IF(B33=\"\",\"\",VLOOKUP(B33&\"\",'Fichero de Jugadores'!$A$2:$H$5000,3,0))","v":""},{"$error":"#N/A"},{"$f":"IF(A33=\"\",\"\",VLOOKUP(A33&\"\",'Fichero de Jugadores'!$A$2:$I$5000,6,0))","v":""},{"$f":"IF(B33=\"\",\"\",VLOOKUP(B33&\"\",'Fichero de Jugadores'!$A$2:$I$5000,6,0))","v":""},"",null,null,{"$f":"IF(A33=\"\",\"\",VLOOKUP(A33&\"\",'Fichero de Jugadores'!$A$2:$I$4565,4,0))","v":""},{"$f":"IF(B33=\"\",\"\",VLOOKUP(B33&\"\",'Fichero de Jugadores'!$A$2:$I$4565,4,0))","v":""},{"$f":"IF(C33=\"\",\"\",VLOOKUP(A33&\"\",'Fichero de Jugadores'!$A$2:$I$4565,7,0))","v":{"$error":"#N/A"}},{"$f":"IF(C33=\"\",\"\",VLOOKUP(B33&\"\",'Fichero de Jugadores'!$A$2:$I$4565,7,0))","v":{"$error":"#N/A"}}]
[null,null,"31",{"$f":"IF(A34=\"\",\"\",VLOOKUP(A34&\"\",'Fichero de Jugadores'!$A$2:$H$5000,2,0))","v":""},{"$f":"IF(B34=\"\",\"\",VLOOKUP(B34&\"\",'Fichero de Jugadores'!$A$2:$H$5000,2,0))","v":""},null,{"$f":"IF(A34=\"\",\"\",VLOOKUP(A34&\"\",'Fichero de Jugadores'!$A$2:$H$5000,3,0))","v":""},{"$f":"IF(B34=\"\",\"\",VLOOKUP(B34&\"\",'Fichero de Jugadores'!$A$2:$H$5000,3,0))","v":""},{"$error":"#N/A"},{"$f":"IF(A34=\"\",\"\",VLOOKUP(A34&\"\",'Fichero de Jugadores'!$A$2:$I$5000,6,0))","v":""},{"$f":"IF(B34=\"\",\"\",VLOOKUP(B34&\"\",'Fichero de Jugadores'!$A$2:$I$5000,6,0))","v":""},"",null,null,{"$f":"IF(A34=\"\",\"\",VLOOKUP(A34&\"\",'Fichero de Jugadores'!$A$2:$I$4565,4,0))","v":""},{"$f":"IF(B34=\"\",\"\",VLOOKUP(B34&\"\",'Fichero de Jugadores'!$A$2:$I$4565,4,0))","v":""},{"$f":"IF(C34=\"\",\"\",VLOOKUP(A34&\"\",'Fichero de Jugadores'!$A$2:$I$4565,7,0))","v":{"$error":"#N/A"}},{"$f":"IF(C34=\"\",\"\",VLOOKUP(B34&\"\",'Fichero de Jugadores'!$A$2:$I$4565,7,0))","v":{"$error":"#N/A"}}]
[null,null,"32",{"$f":"IF(A35=\"\",\"\",VLOOKUP(A35&\"\",'Fichero de Jugadores'!$A$2:$H$5000,2,0))","v":""},{"$f":"IF(B35=\"\",\"\",VLOOKUP(B35&\"\",'Fichero de Jugadores'!$A$2:$H$5000,2,0))","v":""},null,{"$f":"IF(A35=\"\",\"\",VLOOKUP(A35&\"\",'Fichero de Jugadores'!$A$2:$H$5000,3,0))","v":""},{"$f":"IF(B35=\"\",\"\",VLOOKUP(B35&\"\",'Fichero de Jugadores'!$A$2:$H$5000,3,0))","v":""},{"$error":"#N/A"},{"$f":"IF(A35=\"\",\"\",VLOOKUP(A35&\"\",'Fichero de Jugadores'!$A$2:$I$5000,6,0))","v":""},{"$f":"IF(B35=\"\",\"\",VLOOKUP(B35&\"\",'Fichero de Jugadores'!$A$2:$I$5000,6,0))","v":""},"",null,null,{"$f":"IF(A35=\"\",\"\",VLOOKUP(A35&\"\",'Fichero de Jugadores'!$A$2:$I$4565,4,0))","v":""},{"$f":"IF(B35=\"\",\"\",VLOOKUP(B35&\"\",'Fichero de Jugadores'!$A$2:$I$4565,4,0))","v":""},{"$f":"IF(C35=\"\",\"\",VLOOKUP(A35&\"\",'Fichero de Jugadores'!$A$2:$I$4565,7,0))","v":{"$error":"#N/A"}},{"$f":"IF(C35=\"\",\"\",VLOOKUP(B35&\"\",'Fichero de Jugadores'!$A$2:$I$4565,7,0))","v":{"$error":"#N/A"}}]
[null,null,"33",{"$f":"IF(A36=\"\",\"\",VLOOKUP(A36&\"\",'Fichero de Jugadores'!$A$2:$H$5000,2,0))","v":""},{"$f":"IF(B36=\"\",\"\",VLOOKUP(B36&\"\",'Fichero de Jugadores'!$A$2:$H$5000,2,0))","v":""},null,{"$f":"IF(A36=\"\",\"\",VLOOKUP(A36&\"\",'Fichero de Jugadores'!$A$2:$H$5000,3,0))","v":""},{"$f":"IF(B36=\"\",\"\",VLOOKUP(B36&\"\",'Fichero de Jugadores'!$A$2:$H$5000,3,0))","v":""},{"$error":"#N/A"},{"$f":"IF(A36=\"\",\"\",VLOOKUP(A36&\"\",'Fichero de Jugadores'!$A$2:$I$5000,6,0))","v":""},{"$f":"IF(B36=\"\",\"\",VLOOKUP(B36&\"\",'Fichero de Jugadores'!$A$2:$I$5000,6,0))","v":""},"",null,null,{"$f":"IF(A36=\"\",\"\",VLOOKUP(A36&\"\",'Fichero de Jugadores'!$A$2:$I$4565,4,0))","v":""},{"$f":"IF(B36=\"\",\"\",VLOOKUP(B36&\"\",'Fichero de Jugadores'!$A$2:$I$4565,4,0))","v":""},{"$f":"IF(C36=\"\",\"\",VLOOKUP(A36&\"\",'Fichero de Jugadores'!$A$2:$I$4565,7,0))","v":{"$error":"#N/A"}},{"$f":"IF(C36=\"\",\"\",VLOOKUP(B36&\"\",'Fichero de Jugadores'!$A$2:$I$4565,7,0))","v":{"$error":"#N/A"}}]
[null,null,"34",{"$f":"IF(A37=\"\",\"\",VLOOKUP(A37&\"\",'Fichero de Jugadores'!$A$2:$H$5000,2,0))","v":""},{"$f":"IF(B37=\"\",\"\",VLOOKUP(B37&\"\",'Fichero de Jugadores'!$A$2:$H$5000,2,0))","v":""},null,{"$f":"IF(A37=\"\",\"\",VLOOKUP(A37&\"\",'Fichero de Jugadores'!$A$2:$H$5000,3,0))","v":""},{"$f":"IF(B37=\"\",\"\",VLOOKUP(B37&\"\",'Fichero de Jugadores'!$A$2:$H$5000,3,0))","v":""},{"$error":"#N/A"},{"$f":"IF(A37=\"\",\"\",VLOOKUP(A37&\"\",'Fichero de Jugadores'!$A$2:$I$5000,6,0))","v":""},{"$f":"IF(B37=\"\",\"\",VLOOKUP(B37&\"\",'Fichero de Jugadores'!$A$2:$I$5000,6,0))","v":""},"",null,null,{"$f":"IF(A37=\"\",\"\",VLOOKUP(A37&\"\",'Fichero de Jugadores'!$A$2:$I$4565,4,0))","v":""},{"$f":"IF(B37=\"\",\"\",VLOOKUP(B37&\"\",'Fichero de Jugadores'!$A$2:$I$4565,4,0))","v":""},{"$f":"IF(C37=\"\",\"\",VLOOKUP(A37&\"\",'Fichero de Jugadores'!$A$2:$I$4565,7,0))","v":{"$error":"#N/A"}},{"$f":"IF(C37=\"\",\"\",VLOOKUP(B37&\"\",'Fichero de Jugadores'!$A$2:$I$4565,7,0))","v":{"$error":"#N/A"}}]
[null,null,"35",{"$f":"IF(A38=\"\",\"\",VLOOKUP(A38&\"\",'Fichero de Jugadores'!$A$2:$H$5000,2,0))","v":""},{"$f":"IF(B38=\"\",\"\",VLOOKUP(B38&\"\",'Fichero de Jugadores'!$A$2:$H$5000,2,0))","v":""},null,{"$f":"IF(A38=\"\",\"\",VLOOKUP(A38&\"\",'Fichero de Jugadores'!$A$2:$H$5000,3,0))","v":""},{"$f":"IF(B38=\"\",\"\",VLOOKUP(B38&\"\",'Fichero de Jugadores'!$A$2:$H$5000,3,0))","v":""},{"$error":"#N/A"},{"$f":"IF(A38=\"\",\"\",VLOOKUP(A38&\"\",'Fichero de Jugadores'!$A$2:$I$5000,6,0))","v":""},{"$f":"IF(B38=\"\",\"\",VLOOKUP(B38&\"\",'Fichero de Jugadores'!$A$2:$I$5000,6,0))","v":""},"",null,null,{"$f":"IF(A38=\"\",\"\",VLOOKUP(A38&\"\",'Fichero de Jugadores'!$A$2:$I$4565,4,0))","v":""},{"$f":"IF(B38=\"\",\"\",VLOOKUP(B38&\"\",'Fichero de Jugadores'!$A$2:$I$4565,4,0))","v":""},{"$f":"IF(C38=\"\",\"\",VLOOKUP(A38&\"\",'Fichero de Jugadores'!$A$2:$I$4565,7,0))","v":{"$error":"#N/A"}},{"$f":"IF(C38=\"\",\"\",VLOOKUP(B38&\"\",'Fichero de Jugadores'!$A$2:$I$4565,7,0))","v":{"$error":"#N/A"}}]
[null,null,"36",{"$f":"IF(A39=\"\",\"\",VLOOKUP(A39&\"\",'Fichero de Jugadores'!$A$2:$H$5000,2,0))","v":""},{"$f":"IF(B39=\"\",\"\",VLOOKUP(B39&\"\",'Fichero de Jugadores'!$A$2:$H$5000,2,0))","v":""},null,{"$f":"IF(A39=\"\",\"\",VLOOKUP(A39&\"\",'Fichero de Jugadores'!$A$2:$H$5000,3,0))","v":""},{"$f":"IF(B39=\"\",\"\",VLOOKUP(B39&\"\",'Fichero de Jugadores'!$A$2:$H$5000,3,0))","v":""},{"$error":"#N/A"},{"$f":"IF(A39=\"\",\"\",VLOOKUP(A39&\"\",'Fichero de Jugadores'!$A$2:$I$5000,6,0))","v":""},{"$f":"IF(B39=\"\",\"\",VLOOKUP(B39&\"\",'Fichero de Jugadores'!$A$2:$I$5000,6,0))","v":""},"",null,null,{"$f":"IF(A39=\"\",\"\",VLOOKUP(A39&\"\",'Fichero de Jugadores'!$A$2:$I$4565,4,0))","v":""},{"$f":"IF(B39=\"\",\"\",VLOOKUP(B39&\"\",'Fichero de Jugadores'!$A$2:$I$4565,4,0))","v":""},{"$f":"IF(C39=\"\",\"\",VLOOKUP(A39&\"\",'Fichero de Jugadores'!$A$2:$I$4565,7,0))","v":{"$error":"#N/A"}},{"$f":"IF(C39=\"\",\"\",VLOOKUP(B39&\"\",'Fichero de Jugadores'!$A$2:$I$4565,7,0))","v":{"$error":"#N/A"}}]
[null,null,"37",{"$f":"IF(A40=\"\",\"\",VLOOKUP(A40&\"\",'Fichero de Jugadores'!$A$2:$H$5000,2,0))","v":""},{"$f":"IF(B40=\"\",\"\",VLOOKUP(B40&\"\",'Fichero de Jugadores'!$A$2:$H$5000,2,0))","v":""},null,{"$f":"IF(A40=\"\",\"\",VLOOKUP(A40&\"\",'Fichero de Jugadores'!$A$2:$H$5000,3,0))","v":""},{"$f":"IF(B40=\"\",\"\",VLOOKUP(B40&\"\",'Fichero de Jugadores'!$A$2:$H$5000,3,0))","v":""},{"$error":"#N/A"},{"$f":"IF(A40=\"\",\"\",VLOOKUP(A40&\"\",'Fichero de Jugadores'!$A$2:$I$5000,6,0))","v":""},{"$f":"IF(B40=\"\",\"\",VLOOKUP(B40&\"\",'Fichero de Jugadores'!$A$2:$I$5000,6,0))","v":""},"",null,null,{"$f":"IF(A40=\"\",\"\",VLOOKUP(A40&\"\",'Fichero de Jugadores'!$A$2:$I$4565,4,0))","v":""},{"$f":"IF(B40=\"\",\"\",VLOOKUP(B40&\"\",'Fichero de Jugadores'!$A$2:$I$4565,4,0))","v":""},{"$f":"IF(C40=\"\",\"\",VLOOKUP(A40&\"\",'Fichero de Jugadores'!$A$2:$I$4565,7,0))","v":{"$error":"#N/A"}},{"$f":"IF(C40=\"\",\"\",VLOOKUP(B40&\"\",'Fichero de Jugadores'!$A$2:$I$4565,7,0))","v":{"$error":"#N/A"}}]
[null,null,"38",{"$f":"IF(A41=\"\",\"\",VLOOKUP(A41&\"\",'Fichero de Jugadores'!$A$2:$H$5000,2,0))","v":""},{"$f":"IF(B41=\"\",\"\",VLOOKUP(B41&\"\",'Fichero de Jugadores'!$A$2:$H$5000,2,0))","v":""},null,{"$f":"IF(A41=\"\",\"\",VLOOKUP(A41&\"\",'Fichero de Jugadores'!$A$2:$H$5000,3,0))","v":""},{"$f":"IF(B41=\"\",\"\",VLOOKUP(B41&\"\",'Fichero de Jugadores'!$A$2:$H$5000,3,0))","v":""},{"$error":"#N/A"},{"$f":"IF(A41=\"\",\"\",VLOOKUP(A41&\"\",'Fichero de Jugadores'!$A$2:$I$5000,6,0))","v":""},{"$f":"IF(B41=\"\",\"\",VLOOKUP(B41&\"\",'Fichero de Jugadores'!$A$2:$I$5000,6,0))","v":""},"",null,null,{"$f":"IF(A41=\"\",\"\",VLOOKUP(A41&\"\",'Fichero de Jugadores'!$A$2:$I$4565,4,0))","v":""},{"$f":"IF(B41=\"\",\"\",VLOOKUP(B41&\"\",'Fichero de Jugadores'!$A$2:$I$4565,4,0))","v":""},{"$f":"IF(C41=\"\",\"\",VLOOKUP(A41&\"\",'Fichero de Jugadores'!$A$2:$I$4565,7,0))","v":{"$error":"#N/A"}},{"$f":"IF(C41=\"\",\"\",VLOOKUP(B41&\"\",'Fichero de Jugadores'!$A$2:$I$4565,7,0))","v":{"$error":"#N/A"}}]
[null,null,"39",{"$f":"IF(A42=\"\",\"\",VLOOKUP(A42&\"\",'Fichero de Jugadores'!$A$2:$H$5000,2,0))","v":""},{"$f":"IF(B42=\"\",\"\",VLOOKUP(B42&\"\",'Fichero de Jugadores'!$A$2:$H$5000,2,0))","v":""},null,{"$f":"IF(A42=\"\",\"\",VLOOKUP(A42&\"\",'Fichero de Jugadores'!$A$2:$H$5000,3,0))","v":""},{"$f":"IF(B42=\"\",\"\",VLOOKUP(B42&\"\",'Fichero de Jugadores'!$A$2:$H$5000,3,0))","v":""},{"$error":"#N/A"},{"$f":"IF(A42=\"\",\"\",VLOOKUP(A42&\"\",'Fichero de Jugadores'!$A$2:$I$5000,6,0))","v":""},{"$f":"IF(B42=\"\",\"\",VLOOKUP(B42&\"\",'Fichero de Jugadores'!$A$2:$I$5000,6,0))","v":""},"",null,null,{"$f":"IF(A42=\"\",\"\",VLOOKUP(A42&\"\",'Fichero de Jugadores'!$A$2:$I$4565,4,0))","v":""},{"$f":"IF(B42=\"\",\"\",VLOOKUP(B42&\"\",'Fichero de Jugadores'!$A$2:$I$4565,4,0))","v":""},{"$f":"IF(C42=\"\",\"\",VLOOKUP(A42&\"\",'Fichero de Jugadores'!$A$2:$I$4565,7,0))","v":{"$error":"#N/A"}},{"$f":"IF(C42=\"\",\"\",VLOOKUP(B42&\"\",'Fichero de Jugadores'!$A$2:$I$4565,7,0))","v":{"$error":"#N/A"}}]
[null,null,"40",{"$f":"IF(A43=\"\",\"\",VLOOKUP(A43&\"\",'Fichero de Jugadores'!$A$2:$H$5000,2,0))","v":""},{"$f":"IF(B43=\"\",\"\",VLOOKUP(B43&\"\",'Fichero de Jugadores'!$A$2:$H$5000,2,0))","v":""},null,{"$f":"IF(A43=\"\",\"\",VLOOKUP(A43&\"\",'Fichero de Jugadores'!$A$2:$H$5000,3,0))","v":""},{"$f":"IF(B43=\"\",\"\",VLOOKUP(B43&\"\",'Fichero de Jugadores'!$A$2:$H$5000,3,0))","v":""},{"$error":"#N/A"},{"$f":"IF(A43=\"\",\"\",VLOOKUP(A43&\"\",'Fichero de Jugadores'!$A$2:$I$5000,6,0))","v":""},{"$f":"IF(B43=\"\",\"\",VLOOKUP(B43&\"\",'Fichero de Jugadores'!$A$2:$I$5000,6,0))","v":""},"",null,null,{"$f":"IF(A43=\"\",\"\",VLOOKUP(A43&\"\",'Fichero de Jugadores'!$A$2:$I$4565,4,0))","v":""},{"$f":"IF(B43=\"\",\"\",VLOOKUP(B43&\"\",'Fichero de Jugadores'!$A$2:$I$4565,4,0))","v":""},{"$f":"IF(C43=\"\",\"\",VLOOKUP(A43&\"\",'Fichero de Jugadores'!$A$2:$I$4565,7,0))","v":{"$error":"#N/A"}},{"$f":"IF(C43=\"\",\"\",VLOOKUP(B43&\"\",'Fichero de Jugadores'!$A$2:$I$4565,7,0))","v":{"$error":"#N/A"}}]
[null,null,"41",{"$f":"IF(A44=\"\",\"\",VLOOKUP(A44&\"\",'Fichero de Jugadores'!$A$2:$H$5000,2,0))","v":""},{"$f":"IF(B44=\"\",\"\",VLOOKUP(B44&\"\",'Fichero de Jugadores'!$A$2:$H$5000,2,0))","v":""},null,{"$f":"IF(A44=\"\",\"\",VLOOKUP(A44&\"\",'Fichero de Jugadores'!$A$2:$H$5000,3,0))","v":""},{"$f":"IF(B44=\"\",\"\",VLOOKUP(B44&\"\",'Fichero de Jugadores'!$A$2:$H$5000,3,0))","v":""},{"$error":"#N/A"},{"$f":"IF(A44=\"\",\"\",VLOOKUP(A44&\"\",'Fichero de Jugadores'!$A$2:$I$5000,6,0))","v":""},{"$f":"IF(B44=\"\",\"\",VLOOKUP(B44&\"\",'Fichero de Jugadores'!$A$2:$I$5000,6,0))","v":""},"",null,null,{"$f":"IF(A44=\"\",\"\",VLOOKUP(A44&\"\",'Fichero de Jugadores'!$A$2:$I$4565,4,0))","v":""},{"$f":"IF(B44=\"\",\"\",VLOOKUP(B44&\"\",'Fichero de Jugadores'!$A$2:$I$4565,4,0))","v":""},{"$f":"IF(C44=\"\",\"\",VLOOKUP(A44&\"\",'Fichero de Jugadores'!$A$2:$I$4565,7,0))","v":{"$error":"#N/A"}},{"$f":"IF(C44=\"\",\"\",VLOOKUP(B44&\"\",'Fichero de Jugadores'!$A$2:$I$4565,7,0))","v":{"$error":"#N/A"}}]
[null,null,"42",{"$f":"IF(A45=\"\",\"\",VLOOKUP(A45&\"\",'Fichero de Jugadores'!$A$2:$H$5000,2,0))","v":""},{"$f":"IF(B45=\"\",\"\",VLOOKUP(B45&\"\",'Fichero de Jugadores'!$A$2:$H$5000,2,0))","v":""},null,{"$f":"IF(A45=\"\",\"\",VLOOKUP(A45&\"\",'Fichero de Jugadores'!$A$2:$H$5000,3,0))","v":""},{"$f":"IF(B45=\"\",\"\",VLOOKUP(B45&\"\",'Fichero de Jugadores'!$A$2:$H$5000,3,0))","v":""},{"$error":"#N/A"},{"$f":"IF(A45=\"\",\"\",VLOOKUP(A45&\"\",'Fichero de Jugadores'!$A$2:$I$5000,6,0))","v":""},{"$f":"IF(B45=\"\",\"\",VLOOKUP(B45&\"\",'Fichero de Jugadores'!$A$2:$I$5000,6,0))","v":""},"",null,null,{"$f":"IF(A45=\"\",\"\",VLOOKUP(A45&\"\",'Fichero de Jugadores'!$A$2:$I$4565,4,0))","v":""},{"$f":"IF(B45=\"\",\"\",VLOOKUP(B45&\"\",'Fichero de Jugadores'!$A$2:$I$4565,4,0))","v":""},{"$f":"IF(C45=\"\",\"\",VLOOKUP(A45&\"\",'Fichero de Jugadores'!$A$2:$I$4565,7,0))","v":{"$error":"#N/A"}},{"$f":"IF(C45=\"\",\"\",VLOOKUP(B45&\"\",'Fichero de Jugadores'!$A$2:$I$4565,7,0))","v":{"$error":"#N/A"}}]
[null,null,"43",{"$f":"IF(A46=\"\",\"\",VLOOKUP(A46&\"\",'Fichero de Jugadores'!$A$2:$H$5000,2,0))","v":""},{"$f":"IF(B46=\"\",\"\",VLOOKUP(B46&\"\",'Fichero de Jugadores'!$A$2:$H$5000,2,0))","v":""},null,{"$f":"IF(A46=\"\",\"\",VLOOKUP(A46&\"\",'Fichero de Jugadores'!$A$2:$H$5000,3,0))","v":""},{"$f":"IF(B46=\"\",\"\",VLOOKUP(B46&\"\",'Fichero de Jugadores'!$A$2:$H$5000,3,0))","v":""},{"$error":"#N/A"},{"$f":"IF(A46=\"\",\"\",VLOOKUP(A46&\"\",'Fichero de Jugadores'!$A$2:$I$5000,6,0))","v":""},{"$f":"IF(B46=\"\",\"\",VLOOKUP(B46&\"\",'Fichero de Jugadores'!$A$2:$I$5000,6,0))","v":""},"",null,null,{"$f":"IF(A46=\"\",\"\",VLOOKUP(A46&\"\",'Fichero de Jugadores'!$A$2:$I$4565,4,0))","v":""},{"$f":"IF(B46=\"\",\"\",VLOOKUP(B46&\"\",'Fichero de Jugadores'!$A$2:$I$4565,4,0))","v":""},{"$f":"IF(C46=\"\",\"\",VLOOKUP(A46&\"\",'Fichero de Jugadores'!$A$2:$I$4565,7,0))","v":{"$error":"#N/A"}},{"$f":"IF(C46=\"\",\"\",VLOOKUP(B46&\"\",'Fichero de Jugadores'!$A$2:$I$4565,7,0))","v":{"$error":"#N/A"}}]
[null,null,"44",{"$f":"IF(A47=\"\",\"\",VLOOKUP(A47&\"\",'Fichero de Jugadores'!$A$2:$H$5000,2,0))","v":""},{"$f":"IF(B47=\"\",\"\",VLOOKUP(B47&\"\",'Fichero de Jugadores'!$A$2:$H$5000,2,0))","v":""},null,{"$f":"IF(A47=\"\",\"\",VLOOKUP(A47&\"\",'Fichero de Jugadores'!$A$2:$H$5000,3,0))","v":""},{"$f":"IF(B47=\"\",\"\",VLOOKUP(B47&\"\",'Fichero de Jugadores'!$A$2:$H$5000,3,0))","v":""},{"$error":"#N/A"},{"$f":"IF(A47=\"\",\"\",VLOOKUP(A47&\"\",'Fichero de Jugadores'!$A$2:$I$5000,6,0))","v":""},{"$f":"IF(B47=\"\",\"\",VLOOKUP(B47&\"\",'Fichero de Jugadores'!$A$2:$I$5000,6,0))","v":""},"",null,null,{"$f":"IF(A47=\"\",\"\",VLOOKUP(A47&\"\",'Fichero de Jugadores'!$A$2:$I$4565,4,0))","v":""},{"$f":"IF(B47=\"\",\"\",VLOOKUP(B47&\"\",'Fichero de Jugadores'!$A$2:$I$4565,4,0))","v":""},{"$f":"IF(C47=\"\",\"\",VLOOKUP(A47&\"\",'Fichero de Jugadores'!$A$2:$I$4565,7,0))","v":{"$error":"#N/A"}},{"$f":"IF(C47=\"\",\"\",VLOOKUP(B47&\"\",'Fichero de Jugadores'!$A$2:$I$4565,7,0))","v":{"$error":"#N/A"}}]
[null,null,"45",{"$f":"IF(A48=\"\",\"\",VLOOKUP(A48&\"\",'Fichero de Jugadores'!$A$2:$H$5000,2,0))","v":""},{"$f":"IF(B48=\"\",\"\",VLOOKUP(B48&\"\",'Fichero de Jugadores'!$A$2:$H$5000,2,0))","v":""},null,{"$f":"IF(A48=\"\",\"\",VLOOKUP(A48&\"\",'Fichero de Jugadores'!$A$2:$H$5000,3,0))","v":""},{"$f":"IF(B48=\"\",\"\",VLOOKUP(B48&\"\",'Fichero de Jugadores'!$A$2:$H$5000,3,0))","v":""},{"$error":"#N/A"},{"$f":"IF(A48=\"\",\"\",VLOOKUP(A48&\"\",'Fichero de Jugadores'!$A$2:$I$5000,6,0))","v":""},{"$f":"IF(B48=\"\",\"\",VLOOKUP(B48&\"\",'Fichero de Jugadores'!$A$2:$I$5000,6,0))","v":""},"",null,null,{"$f":"IF(A48=\"\",\"\",VLOOKUP(A48&\"\",'Fichero de Jugadores'!$A$2:$I$4565,4,0))","v":""},{"$f":"IF(B48=\"\",\"\",VLOOKUP(B48&\"\",'Fichero de Jugadores'!$A$2:$I$4565,4,0))","v":""},{"$f":"IF(C48=\"\",\"\",VLOOKUP(A48&\"\",'Fichero de Jugadores'!$A$2:$I$4565,7,0))","v":{"$error":"#N/A"}},{"$f":"IF(C48=\"\",\"\",VLOOKUP(B48&\"\",'Fichero de Jugadores'!$A$2:$I$4565,7,0))","v":{"$error":"#N/A"}}]
[null,null,"46",{"$f":"IF(A49=\"\",\"\",VLOOKUP(A49&\"\",'Fichero de Jugadores'!$A$2:$H$5000,2,0))","v":""},{"$f":"IF(B49=\"\",\"\",VLOOKUP(B49&\"\",'Fichero de Jugadores'!$A$2:$H$5000,2,0))","v":""},null,{"$f":"IF(A49=\"\",\"\",VLOOKUP(A49&\"\",'Fichero de Jugadores'!$A$2:$H$5000,3,0))","v":""},{"$f":"IF(B49=\"\",\"\",VLOOKUP(B49&\"\",'Fichero de Jugadores'!$A$2:$H$5000,3,0))","v":""},{"$error":"#N/A"},{"$f":"IF(A49=\"\",\"\",VLOOKUP(A49&\"\",'Fichero de Jugadores'!$A$2:$I$5000,6,0))","v":""},{"$f":"IF(B49=\"\",\"\",VLOOKUP(B49&\"\",'Fichero de Jugadores'!$A$2:$I$5000,6,0))","v":""},"",null,null,{"$f":"IF(A49=\"\",\"\",VLOOKUP(A49&\"\",'Fichero de Jugadores'!$A$2:$I$4565,4,0))","v":""},{"$f":"IF(B49=\"\",\"\",VLOOKUP(B49&\"\",'Fichero de Jugadores'!$A$2:$I$4565,4,0))","v":""},{"$f":"IF(C49=\"\",\"\",VLOOKUP(A49&\"\",'Fichero de Jugadores'!$A$2:$I$4565,7,0))","v":{"$error":"#N/A"}},{"$f":"IF(C49=\"\",\"\",VLOOKUP(B49&\"\",'Fichero de Jugadores'!$A$2:$I$4565,7,0))","v":{"$error":"#N/A"}}]
[null,null,"47",{"$f":"IF(A50=\"\",\"\",VLOOKUP(A50&\"\",'Fichero de Jugadores'!$A$2:$H$5000,2,0))","v":""},{"$f":"IF(B50=\"\",\"\",VLOOKUP(B50&\"\",'Fichero de Jugadores'!$A$2:$H$5000,2,0))","v":""},null,{"$f":"IF(A50=\"\",\"\",VLOOKUP(A50&\"\",'Fichero de Jugadores'!$A$2:$H$5000,3,0))","v":""},{"$f":"IF(B50=\"\",\"\",VLOOKUP(B50&\"\",'Fichero de Jugadores'!$A$2:$H$5000,3,0))","v":""},{"$error":"#N/A"},{"$f":"IF(A50=\"\",\"\",VLOOKUP(A50&\"\",'Fichero de Jugadores'!$A$2:$I$5000,6,0))","v":""},{"$f":"IF(B50=\"\",\"\",VLOOKUP(B50&\"\",'Fichero de Jugadores'!$A$2:$I$5000,6,0))","v":""},"",null,null,{"$f":"IF(A50=\"\",\"\",VLOOKUP(A50&\"\",'Fichero de Jugadores'!$A$2:$I$4565,4,0))","v":""},{"$f":"IF(B50=\"\",\"\",VLOOKUP(B50&\"\",'Fichero de Jugadores'!$A$2:$I$4565,4,0))","v":""},{"$f":"IF(C50=\"\",\"\",VLOOKUP(A50&\"\",'Fichero de Jugadores'!$A$2:$I$4565,7,0))","v":{"$error":"#N/A"}},{"$f":"IF(C50=\"\",\"\",VLOOKUP(B50&\"\",'Fichero de Jugadores'!$A$2:$I$4565,7,0))","v":{"$error":"#N/A"}}]
[null,null,"48",{"$f":"IF(A51=\"\",\"\",VLOOKUP(A51&\"\",'Fichero de Jugadores'!$A$2:$H$5000,2,0))","v":""},{"$f":"IF(B51=\"\",\"\",VLOOKUP(B51&\"\",'Fichero de Jugadores'!$A$2:$H$5000,2,0))","v":""},null,{"$f":"IF(A51=\"\",\"\",VLOOKUP(A51&\"\",'Fichero de Jugadores'!$A$2:$H$5000,3,0))","v":""},{"$f":"IF(B51=\"\",\"\",VLOOKUP(B51&\"\",'Fichero de Jugadores'!$A$2:$H$5000,3,0))","v":""},{"$error":"#N/A"},{"$f":"IF(A51=\"\",\"\",VLOOKUP(A51&\"\",'Fichero de Jugadores'!$A$2:$I$5000,6,0))","v":""},{"$f":"IF(B51=\"\",\"\",VLOOKUP(B51&\"\",'Fichero de Jugadores'!$A$2:$I$5000,6,0))","v":""},"",null,null,{"$f":"IF(A51=\"\",\"\",VLOOKUP(A51&\"\",'Fichero de Jugadores'!$A$2:$I$4565,4,0))","v":""},{"$f":"IF(B51=\"\",\"\",VLOOKUP(B51&\"\",'Fichero de Jugadores'!$A$2:$I$4565,4,0))","v":""},{"$f":"IF(C51=\"\",\"\",VLOOKUP(A51&\"\",'Fichero de Jugadores'!$A$2:$I$4565,7,0))","v":{"$error":"#N/A"}},{"$f":"IF(C51=\"\",\"\",VLOOKUP(B51&\"\",'Fichero de Jugadores'!$A$2:$I$4565,7,0))","v":{"$error":"#N/A"}}]
[null,null,"49",{"$f":"IF(A52=\"\",\"\",VLOOKUP(A52&\"\",'Fichero de Jugadores'!$A$2:$H$5000,2,0))","v":""},{"$f":"IF(B52=\"\",\"\",VLOOKUP(B52&\"\",'Fichero de Jugadores'!$A$2:$H$5000,2,0))","v":""},null,{"$f":"IF(A52=\"\",\"\",VLOOKUP(A52&\"\",'Fichero de Jugadores'!$A$2:$H$5000,3,0))","v":""},{"$f":"IF(B52=\"\",\"\",VLOOKUP(B52&\"\",'Fichero de Jugadores'!$A$2:$H$5000,3,0))","v":""},{"$error":"#N/A"},{"$f":"IF(A52=\"\",\"\",VLOOKUP(A52&\"\",'Fichero de Jugadores'!$A$2:$I$5000,6,0))","v":""},{"$f":"IF(B52=\"\",\"\",VLOOKUP(B52&\"\",'Fichero de Jugadores'!$A$2:$I$5000,6,0))","v":""},"",null,null,{"$f":"IF(A52=\"\",\"\",VLOOKUP(A52&\"\",'Fichero de Jugadores'!$A$2:$I$4565,4,0))","v":""},{"$f":"IF(B52=\"\",\"\",VLOOKUP(B52&\"\",'Fichero de Jugadores'!$A$2:$I$4565,4,0))","v":""},{"$f":"IF(C52=\"\",\"\",VLOOKUP(A52&\"\",'Fichero de Jugadores'!$A$2:$I$4565,7,0))","v":{"$error":"#N/A"}},{"$f":"IF(C52=\"\",\"\",VLOOKUP(B52&\"\",'Fichero de Jugadores'!$A$2:$I$4565,7,0))","v":{"$error":"#N/A"}}]
[null,null,"50",{"$f":"IF(A53=\"\",\"\",VLOOKUP(A53&\"\",'Fichero de Jugadores'!$A$2:$H$5000,2,0))","v":""},{"$f":"IF(B53=\"\",\"\",VLOOKUP(B53&\"\",'Fichero de Jugadores'!$A$2:$H$5000,2,0))","v":""},null,{"$f":"IF(A53=\"\",\"\",VLOOKUP(A53&\"\",'Fichero de Jugadores'!$A$2:$H$5000,3,0))","v":""},{"$f":"IF(B53=\"\",\"\",VLOOKUP(B53&\"\",'Fichero de Jugadores'!$A$2:$H$5000,3,0))","v":""},{"$error":"#N/A"},{"$f":"IF(A53=\"\",\"\",VLOOKUP(A53&\"\",'Fichero de Jugadores'!$A$2:$I$5000,6,0))","v":""},{"$f":"IF(B53=\"\",\"\",VLOOKUP(B53&\"\",'Fichero de Jugadores'!$A$2:$I$5000,6,0))","v":""},"",null,null,{"$f":"IF(A53=\"\",\"\",VLOOKUP(A53&\"\",'Fichero de Jugadores'!$A$2:$I$4565,4,0))","v":""},{"$f":"IF(B53=\"\",\"\",VLOOKUP(B53&\"\",'Fichero de Jugadores'!$A$2:$I$4565,4,0))","v":""},{"$f":"IF(C53=\"\",\"\",VLOOKUP(A53&\"\",'Fichero de Jugadores'!$A$2:$I$4565,7,0))","v":{"$error":"#N/A"}},{"$f":"IF(C53=\"\",\"\",VLOOKUP(B53&\"\",'Fichero de Jugadores'!$A$2:$I$4565,7,0))","v":{"$error":"#N/A"}}]
[null,null,"51",{"$f":"IF(A54=\"\",\"\",VLOOKUP(A54&\"\",'Fichero de Jugadores'!$A$2:$H$5000,2,0))","v":""},{"$f":"IF(B54=\"\",\"\",VLOOKUP(B54&\"\",'Fichero de Jugadores'!$A$2:$H$5000,2,0))","v":""},null,{"$f":"IF(A54=\"\",\"\",VLOOKUP(A54&\"\",'Fichero de Jugadores'!$A$2:$H$5000,3,0))","v":""},{"$f":"IF(B54=\"\",\"\",VLOOKUP(B54&\"\",'Fichero de Jugadores'!$A$2:$H$5000,3,0))","v":""},{"$error":"#N/A"},{"$f":"IF(A54=\"\",\"\",VLOOKUP(A54&\"\",'Fichero de Jugadores'!$A$2:$I$5000,6,0))","v":""},{"$f":"IF(B54=\"\",\"\",VLOOKUP(B54&\"\",'Fichero de Jugadores'!$A$2:$I$5000,6,0))","v":""},"",null,null,{"$f":"IF(A54=\"\",\"\",VLOOKUP(A54&\"\",'Fichero de Jugadores'!$A$2:$I$4565,4,0))","v":""},{"$f":"IF(B54=\"\",\"\",VLOOKUP(B54&\"\",'Fichero de Jugadores'!$A$2:$I$4565,4,0))","v":""},{"$f":"IF(C54=\"\",\"\",VLOOKUP(A54&\"\",'Fichero de Jugadores'!$A$2:$I$4565,7,0))","v":{"$error":"#N/A"}},{"$f":"IF(C54=\"\",\"\",VLOOKUP(B54&\"\",'Fichero de Jugadores'!$A$2:$I$4565,7,0))","v":{"$error":"#N/A"}}]
[null,null,"52",{"$f":"IF(A55=\"\",\"\",VLOOKUP(A55&\"\",'Fichero de Jugadores'!$A$2:$H$5000,2,0))","v":""},{"$f":"IF(B55=\"\",\"\",VLOOKUP(B55&\"\",'Fichero de Jugadores'!$A$2:$H$5000,2,0))","v":""},null,{"$f":"IF(A55=\"\",\"\",VLOOKUP(A55&\"\",'Fichero de Jugadores'!$A$2:$H$5000,3,0))","v":""},{"$f":"IF(B55=\"\",\"\",VLOOKUP(B55&\"\",'Fichero de Jugadores'!$A$2:$H$5000,3,0))","v":""},{"$error":"#N/A"},{"$f":"IF(A55=\"\",\"\",VLOOKUP(A55&\"\",'Fichero de Jugadores'!$A$2:$I$5000,6,0))","v":""},{"$f":"IF(B55=\"\",\"\",VLOOKUP(B55&\"\",'Fichero de Jugadores'!$A$2:$I$5000,6,0))","v":""},"",null,null,{"$f":"IF(A55=\"\",\"\",VLOOKUP(A55&\"\",'Fichero de Jugadores'!$A$2:$I$4565,4,0))","v":""},{"$f":"IF(B55=\"\",\"\",VLOOKUP(B55&\"\",'Fichero de Jugadores'!$A$2:$I$4565,4,0))","v":""},{"$f":"IF(C55=\"\",\"\",VLOOKUP(A55&\"\",'Fichero de Jugadores'!$A$2:$I$4565,7,0))","v":{"$error":"#N/A"}},{"$f":"IF(C55=\"\",\"\",VLOOKUP(B55&\"\",'Fichero de Jugadores'!$A$2:$I$4565,7,0))","v":{"$error":"#N/A"}}]
[null,null,"53",{"$f":"IF(A56=\"\",\"\",VLOOKUP(A56&\"\",'Fichero de Jugadores'!$A$2:$H$5000,2,0))","v":""},{"$f":"IF(B56=\"\",\"\",VLOOKUP(B56&\"\",'Fichero de Jugadores'!$A$2:$H$5000,2,0))","v":""},null,{"$f":"IF(A56=\"\",\"\",VLOOKUP(A56&\"\",'Fichero de Jugadores'!$A$2:$H$5000,3,0))","v":""},{"$f":"IF(B56=\"\",\"\",VLOOKUP(B56&\"\",'Fichero de Jugadores'!$A$2:$H$5000,3,0))","v":""},{"$error":"#N/A"},{"$f":"IF(A56=\"\",\"\",VLOOKUP(A56&\"\",'Fichero de Jugadores'!$A$2:$I$5000,6,0))","v":""},{"$f":"IF(B56=\"\",\"\",VLOOKUP(B56&\"\",'Fichero de Jugadores'!$A$2:$I$5000,6,0))","v":""},"",null,null,{"$f":"IF(A56=\"\",\"\",VLOOKUP(A56&\"\",'Fichero de Jugadores'!$A$2:$I$4565,4,0))","v":""},{"$f":"IF(B56=\"\",\"\",VLOOKUP(B56&\"\",'Fichero de Jugadores'!$A$2:$I$4565,4,0))","v":""},{"$f":"IF(C56=\"\",\"\",VLOOKUP(A56&\"\",'Fichero de Jugadores'!$A$2:$I$4565,7,0))","v":{"$error":"#N/A"}},{"$f":"IF(C56=\"\",\"\",VLOOKUP(B56&\"\",'Fichero de Jugadores'!$A$2:$I$4565,7,0))","v":{"$error":"#N/A"}}]
[null,null,"54",{"$f":"IF(A57=\"\",\"\",VLOOKUP(A57&\"\",'Fichero de Jugadores'!$A$2:$H$5000,2,0))","v":""},{"$f":"IF(B57=\"\",\"\",VLOOKUP(B57&\"\",'Fichero de Jugadores'!$A$2:$H$5000,2,0))","v":""},null,{"$f":"IF(A57=\"\",\"\",VLOOKUP(A57&\"\",'Fichero de Jugadores'!$A$2:$H$5000,3,0))","v":""},{"$f":"IF(B57=\"\",\"\",VLOOKUP(B57&\"\",'Fichero de Jugadores'!$A$2:$H$5000,3,0))","v":""},{"$error":"#N/A"},{"$f":"IF(A57=\"\",\"\",VLOOKUP(A57&\"\",'Fichero de Jugadores'!$A$2:$I$5000,6,0))","v":""},{"$f":"IF(B57=\"\",\"\",VLOOKUP(B57&\"\",'Fichero de Jugadores'!$A$2:$I$5000,6,0))","v":""},"",null,null,{"$f":"IF(A57=\"\",\"\",VLOOKUP(A57&\"\",'Fichero de Jugadores'!$A$2:$I$4565,4,0))","v":""},{"$f":"IF(B57=\"\",\"\",VLOOKUP(B57&\"\",'Fichero de Jugadores'!$A$2:$I$4565,4,0))","v":""},{"$f":"IF(C57=\"\",\"\",VLOOKUP(A57&\"\",'Fichero de Jugadores'!$A$2:$I$4565,7,0))","v":{"$error":"#N/A"}},{"$f":"IF(C57=\"\",\"\",VLOOKUP(B57&\"\",'Fichero de Jugadores'!$A$2:$I$4565,7,0))","v":{"$error":"#N/A"}}]
[null,null,"55",{"$f":"IF(A58=\"\",\"\",VLOOKUP(A58&\"\",'Fichero de Jugadores'!$A$2:$H$5000,2,0))","v":""},{"$f":"IF(B58=\"\",\"\",VLOOKUP(B58&\"\",'Fichero de Jugadores'!$A$2:$H$5000,2,0))","v":""},null,{"$f":"IF(A58=\"\",\"\",VLOOKUP(A58&\"\",'Fichero de Jugadores'!$A$2:$H$5000,3,0))","v":""},{"$f":"IF(B58=\"\",\"\",VLOOKUP(B58&\"\",'Fichero de Jugadores'!$A$2:$H$5000,3,0))","v":""},{"$error":"#N/A"},{"$f":"IF(A58=\"\",\"\",VLOOKUP(A58&\"\",'Fichero de Jugadores'!$A$2:$I$5000,6,0))","v":""},{"$f":"IF(B58=\"\",\"\",VLOOKUP(B58&\"\",'Fichero de Jugadores'!$A$2:$I$5000,6,0))","v":""},"",null,null,{"$f":"IF(A58=\"\",\"\",VLOOKUP(A58&\"\",'Fichero de Jugadores'!$A$2:$I$4565,4,0))","v":""},{"$f":"IF(B58=\"\",\"\",VLOOKUP(B58&\"\",'Fichero de Jugadores'!$A$2:$I$4565,4,0))","v":""},{"$f":"IF(C58=\"\",\"\",VLOOKUP(A58&\"\",'Fichero de Jugadores'!$A$2:$I$4565,7,0))","v":{"$error":"#N/A"}},{"$f":"IF(C58=\"\",\"\",VLOOKUP(B58&\"\",'Fichero de Jugadores'!$A$2:$I$4565,7,0))","v":{"$error":"#N/A"}}]
[null,null,"56",{"$f":"IF(A59=\"\",\"\",VLOOKUP(A59&\"\",'Fichero de Jugadores'!$A$2:$H$5000,2,0))","v":""},{"$f":"IF(B59=\"\",\"\",VLOOKUP(B59&\"\",'Fichero de Jugadores'!$A$2:$H$5000,2,0))","v":""},null,{"$f":"IF(A59=\"\",\"\",VLOOKUP(A59&\"\",'Fichero de Jugadores'!$A$2:$H$5000,3,0))","v":""},{"$f":"IF(B59=\"\",\"\",VLOOKUP(B59&\"\",'Fichero de Jugadores'!$A$2:$H$5000,3,0))","v":""},{"$error":"#N/A"},{"$f":"IF(A59=\"\",\"\",VLOOKUP(A59&\"\",'Fichero de Jugadores'!$A$2:$I$5000,6,0))","v":""},{"$f":"IF(B59=\"\",\"\",VLOOKUP(B59&\"\",'Fichero de Jugadores'!$A$2:$I$5000,6,0))","v":""},"",null,null,{"$f":"IF(A59=\"\",\"\",VLOOKUP(A59&\"\",'Fichero de Jugadores'!$A$2:$I$4565,4,0))","v":""},{"$f":"IF(B59=\"\",\"\",VLOOKUP(B59&\"\",'Fichero de Jugadores'!$A$2:$I$4565,4,0))","v":""},{"$f":"IF(C59=\"\",\"\",VLOOKUP(A59&\"\",'Fichero de Jugadores'!$A$2:$I$4565,7,0))","v":{"$error":"#N/A"}},{"$f":"IF(C59=\"\",\"\",VLOOKUP(B59&\"\",'Fichero de Jugadores'!$A$2:$I$4565,7,0))","v":{"$error":"#N/A"}}]
[null,null,"57",{"$f":"IF(A60=\"\",\"\",VLOOKUP(A60&\"\",'Fichero de Jugadores'!$A$2:$H$5000,2,0))","v":""},{"$f":"IF(B60=\"\",\"\",VLOOKUP(B60&\"\",'Fichero de Jugadores'!$A$2:$H$5000,2,0))","v":""},null,{"$f":"IF(A60=\"\",\"\",VLOOKUP(A60&\"\",'Fichero de Jugadores'!$A$2:$H$5000,3,0))","v":""},{"$f":"IF(B60=\"\",\"\",VLOOKUP(B60&\"\",'Fichero de Jugadores'!$A$2:$H$5000,3,0))","v":""},{"$error":"#N/A"},{"$f":"IF(A60=\"\",\"\",VLOOKUP(A60&\"\",'Fichero de Jugadores'!$A$2:$I$5000,6,0))","v":""},{"$f":"IF(B60=\"\",\"\",VLOOKUP(B60&\"\",'Fichero de Jugadores'!$A$2:$I$5000,6,0))","v":""},"",null,null,{"$f":"IF(A60=\"\",\"\",VLOOKUP(A60&\"\",'Fichero de Jugadores'!$A$2:$I$4565,4,0))","v":""},{"$f":"IF(B60=\"\",\"\",VLOOKUP(B60&\"\",'Fichero de Jugadores'!$A$2:$I$4565,4,0))","v":""},{"$f":"IF(C60=\"\",\"\",VLOOKUP(A60&\"\",'Fichero de Jugadores'!$A$2:$I$4565,7,0))","v":{"$error":"#N/A"}},{"$f":"IF(C60=\"\",\"\",VLOOKUP(B60&\"\",'Fichero de Jugadores'!$A$2:$I$4565,7,0))","v":{"$error":"#N/A"}}]
[null,null,"58",{"$f":"IF(A61=\"\",\"\",VLOOKUP(A61&\"\",'Fichero de Jugadores'!$A$2:$H$5000,2,0))","v":""},{"$f":"IF(B61=\"\",\"\",VLOOKUP(B61&\"\",'Fichero de Jugadores'!$A$2:$H$5000,2,0))","v":""},null,{"$f":"IF(A61=\"\",\"\",VLOOKUP(A61&\"\",'Fichero de Jugadores'!$A$2:$H$5000,3,0))","v":""},{"$f":"IF(B61=\"\",\"\",VLOOKUP(B61&\"\",'Fichero de Jugadores'!$A$2:$H$5000,3,0))","v":""},{"$error":"#N/A"},{"$f":"IF(A61=\"\",\"\",VLOOKUP(A61&\"\",'Fichero de Jugadores'!$A$2:$I$5000,6,0))","v":""},{"$f":"IF(B61=\"\",\"\",VLOOKUP(B61&\"\",'Fichero de Jugadores'!$A$2:$I$5000,6,0))","v":""},"",null,null,{"$f":"IF(A61=\"\",\"\",VLOOKUP(A61&\"\",'Fichero de Jugadores'!$A$2:$I$4565,4,0))","v":""},{"$f":"IF(B61=\"\",\"\",VLOOKUP(B61&\"\",'Fichero de Jugadores'!$A$2:$I$4565,4,0))","v":""},{"$f":"IF(C61=\"\",\"\",VLOOKUP(A61&\"\",'Fichero de Jugadores'!$A$2:$I$4565,7,0))","v":{"$error":"#N/A"}},{"$f":"IF(C61=\"\",\"\",VLOOKUP(B61&\"\",'Fichero de Jugadores'!$A$2:$I$4565,7,0))","v":{"$error":"#N/A"}}]
[null,null,"59",{"$f":"IF(A62=\"\",\"\",VLOOKUP(A62&\"\",'Fichero de Jugadores'!$A$2:$H$5000,2,0))","v":""},{"$f":"IF(B62=\"\",\"\",VLOOKUP(B62&\"\",'Fichero de Jugadores'!$A$2:$H$5000,2,0))","v":""},null,{"$f":"IF(A62=\"\",\"\",VLOOKUP(A62&\"\",'Fichero de Jugadores'!$A$2:$H$5000,3,0))","v":""},{"$f":"IF(B62=\"\",\"\",VLOOKUP(B62&\"\",'Fichero de Jugadores'!$A$2:$H$5000,3,0))","v":""},{"$error":"#N/A"},{"$f":"IF(A62=\"\",\"\",VLOOKUP(A62&\"\",'Fichero de Jugadores'!$A$2:$I$5000,6,0))","v":""},{"$f":"IF(B62=\"\",\"\",VLOOKUP(B62&\"\",'Fichero de Jugadores'!$A$2:$I$5000,6,0))","v":""},"",null,null,{"$f":"IF(A62=\"\",\"\",VLOOKUP(A62&\"\",'Fichero de Jugadores'!$A$2:$I$4565,4,0))","v":""},{"$f":"IF(B62=\"\",\"\",VLOOKUP(B62&\"\",'Fichero de Jugadores'!$A$2:$I$4565,4,0))","v":""},{"$f":"IF(C62=\"\",\"\",VLOOKUP(A62&\"\",'Fichero de Jugadores'!$A$2:$I$4565,7,0))","v":{"$error":"#N/A"}},{"$f":"IF(C62=\"\",\"\",VLOOKUP(B62&\"\",'Fichero de Jugadores'!$A$2:$I$4565,7,0))","v":{"$error":"#N/A"}}]
[null,null,"60",{"$f":"IF(A63=\"\",\"\",VLOOKUP(A63&\"\",'Fichero de Jugadores'!$A$2:$H$5000,2,0))","v":""},{"$f":"IF(B63=\"\",\"\",VLOOKUP(B63&\"\",'Fichero de Jugadores'!$A$2:$H$5000,2,0))","v":""},null,{"$f":"IF(A63=\"\",\"\",VLOOKUP(A63&\"\",'Fichero de Jugadores'!$A$2:$H$5000,3,0))","v":""},{"$f":"IF(B63=\"\",\"\",VLOOKUP(B63&\"\",'Fichero de Jugadores'!$A$2:$H$5000,3,0))","v":""},{"$error":"#N/A"},{"$f":"IF(A63=\"\",\"\",VLOOKUP(A63&\"\",'Fichero de Jugadores'!$A$2:$I$5000,6,0))","v":""},{"$f":"IF(B63=\"\",\"\",VLOOKUP(B63&\"\",'Fichero de Jugadores'!$A$2:$I$5000,6,0))","v":""},"",null,null,{"$f":"IF(A63=\"\",\"\",VLOOKUP(A63&\"\",'Fichero de Jugadores'!$A$2:$I$4565,4,0))","v":""},{"$f":"IF(B63=\"\",\"\",VLOOKUP(B63&\"\",'Fichero de Jugadores'!$A$2:$I$4565,4,0))","v":""},{"$f":"IF(C63=\"\",\"\",VLOOKUP(A63&\"\",'Fichero de Jugadores'!$A$2:$I$4565,7,0))","v":{"$error":"#N/A"}},{"$f":"IF(C63=\"\",\"\",VLOOKUP(B63&\"\",'Fichero de Jugadores'!$A$2:$I$4565,7,0))","v":{"$error":"#N/A"}}]
[null,null,"61",{"$f":"IF(A64=\"\",\"\",VLOOKUP(A64&\"\",'Fichero de Jugadores'!$A$2:$H$5000,2,0))","v":""},{"$f":"IF(B64=\"\",\"\",VLOOKUP(B64&\"\",'Fichero de Jugadores'!$A$2:$H$5000,2,0))","v":""},null,{"$f":"IF(A64=\"\",\"\",VLOOKUP(A64&\"\",'Fichero de Jugadores'!$A$2:$H$5000,3,0))","v":""},{"$f":"IF(B64=\"\",\"\",VLOOKUP(B64&\"\",'Fichero de Jugadores'!$A$2:$H$5000,3,0))","v":""},{"$error":"#N/A"},{"$f":"IF(A64=\"\",\"\",VLOOKUP(A64&\"\",'Fichero de Jugadores'!$A$2:$I$5000,6,0))","v":""},{"$f":"IF(B64=\"\",\"\",VLOOKUP(B64&\"\",'Fichero de Jugadores'!$A$2:$I$5000,6,0))","v":""},"",null,null,{"$f":"IF(A64=\"\",\"\",VLOOKUP(A64&\"\",'Fichero de Jugadores'!$A$2:$I$4565,4,0))","v":""},{"$f":"IF(B64=\"\",\"\",VLOOKUP(B64&\"\",'Fichero de Jugadores'!$A$2:$I$4565,4,0))","v":""},{"$f":"IF(C64=\"\",\"\",VLOOKUP(A64&\"\",'Fichero de Jugadores'!$A$2:$I$4565,7,0))","v":{"$error":"#N/A"}},{"$f":"IF(C64=\"\",\"\",VLOOKUP(B64&\"\",'Fichero de Jugadores'!$A$2:$I$4565,7,0))","v":{"$error":"#N/A"}}]
[null,null,"62",{"$f":"IF(A65=\"\",\"\",VLOOKUP(A65&\"\",'Fichero de Jugadores'!$A$2:$H$5000,2,0))","v":""},{"$f":"IF(B65=\"\",\"\",VLOOKUP(B65&\"\",'Fichero de Jugadores'!$A$2:$H$5000,2,0))","v":""},null,{"$f":"IF(A65=\"\",\"\",VLOOKUP(A65&\"\",'Fichero de Jugadores'!$A$2:$H$5000,3,0))","v":""},{"$f":"IF(B65=\"\",\"\",VLOOKUP(B65&\"\",'Fichero de Jugadores'!$A$2:$H$5000,3,0))","v":""},{"$error":"#N/A"},{"$f":"IF(A65=\"\",\"\",VLOOKUP(A65&\"\",'Fichero de Jugadores'!$A$2:$I$5000,6,0))","v":""},{"$f":"IF(B65=\"\",\"\",VLOOKUP(B65&\"\",'Fichero de Jugadores'!$A$2:$I$5000,6,0))","v":""},"",null,null,{"$f":"IF(A65=\"\",\"\",VLOOKUP(A65&\"\",'Fichero de Jugadores'!$A$2:$I$4565,4,0))","v":""},{"$f":"IF(B65=\"\",\"\",VLOOKUP(B65&\"\",'Fichero de Jugadores'!$A$2:$I$4565,4,0))","v":""},{"$f":"IF(C65=\"\",\"\",VLOOKUP(A65&\"\",'Fichero de Jugadores'!$A$2:$I$4565,7,0))","v":{"$error":"#N/A"}},{"$f":"IF(C65=\"\",\"\",VLOOKUP(B65&\"\",'Fichero de Jugadores'!$A$2:$I$4565,7,0))","v":{"$error":"#N/A"}}]
[null,null,"63",{"$f":"IF(A66=\"\",\"\",VLOOKUP(A66&\"\",'Fichero de Jugadores'!$A$2:$H$5000,2,0))","v":""},{"$f":"IF(B66=\"\",\"\",VLOOKUP(B66&\"\",'Fichero de Jugadores'!$A$2:$H$5000,2,0))","v":""},null,{"$f":"IF(A66=\"\",\"\",VLOOKUP(A66&\"\",'Fichero de Jugadores'!$A$2:$H$5000,3,0))","v":""},{"$f":"IF(B66=\"\",\"\",VLOOKUP(B66&\"\",'Fichero de Jugadores'!$A$2:$H$5000,3,0))","v":""},{"$error":"#N/A"},{"$f":"IF(A66=\"\",\"\",VLOOKUP(A66&\"\",'Fichero de Jugadores'!$A$2:$I$5000,6,0))","v":""},{"$f":"IF(B66=\"\",\"\",VLOOKUP(B66&\"\",'Fichero de Jugadores'!$A$2:$I$5000,6,0))","v":""},"",null,null,{"$f":"IF(A66=\"\",\"\",VLOOKUP(A66&\"\",'Fichero de Jugadores'!$A$2:$I$4565,4,0))","v":""},{"$f":"IF(B66=\"\",\"\",VLOOKUP(B66&\"\",'Fichero de Jugadores'!$A$2:$I$4565,4,0))","v":""},{"$f":"IF(C66=\"\",\"\",VLOOKUP(A66&\"\",'Fichero de Jugadores'!$A$2:$I$4565,7,0))","v":{"$error":"#N/A"}},{"$f":"IF(C66=\"\",\"\",VLOOKUP(B66&\"\",'Fichero de Jugadores'!$A$2:$I$4565,7,0))","v":{"$error":"#N/A"}}]
[null,null,"64",{"$f":"IF(A67=\"\",\"\",VLOOKUP(A67&\"\",'Fichero de Jugadores'!$A$2:$H$5000,2,0))","v":""},{"$f":"IF(B67=\"\",\"\",VLOOKUP(B67&\"\",'Fichero de Jugadores'!$A$2:$H$5000,2,0))","v":""},null,{"$f":"IF(A67=\"\",\"\",VLOOKUP(A67&\"\",'Fichero de Jugadores'!$A$2:$H$5000,3,0))","v":""},{"$f":"IF(B67=\"\",\"\",VLOOKUP(B67&\"\",'Fichero de Jugadores'!$A$2:$H$5000,3,0))","v":""},{"$error":"#N/A"},{"$f":"IF(A67=\"\",\"\",VLOOKUP(A67&\"\",'Fichero de Jugadores'!$A$2:$I$5000,6,0))","v":""},{"$f":"IF(B67=\"\",\"\",VLOOKUP(B67&\"\",'Fichero de Jugadores'!$A$2:$I$5000,6,0))","v":""},"",null,null,{"$f":"IF(A67=\"\",\"\",VLOOKUP(A67&\"\",'Fichero de Jugadores'!$A$2:$I$4565,4,0))","v":""},{"$f":"IF(B67=\"\",\"\",VLOOKUP(B67&\"\",'Fichero de Jugadores'!$A$2:$I$4565,4,0))","v":""},{"$f":"IF(C67=\"\",\"\",VLOOKUP(A67&\"\",'Fichero de Jugadores'!$A$2:$I$4565,7,0))","v":{"$error":"#N/A"}},{"$f":"IF(C67=\"\",\"\",VLOOKUP(B67&\"\",'Fichero de Jugadores'!$A$2:$I$4565,7,0))","v":{"$error":"#N/A"}}]
[null,null,"65",{"$f":"IF(A68=\"\",\"\",VLOOKUP(A68&\"\",'Fichero de Jugadores'!$A$2:$H$5000,2,0))","v":""},{"$f":"IF(B68=\"\",\"\",VLOOKUP(B68&\"\",'Fichero de Jugadores'!$A$2:$H$5000,2,0))","v":""},null,{"$f":"IF(A68=\"\",\"\",VLOOKUP(A68&\"\",'Fichero de Jugadores'!$A$2:$H$5000,3,0))","v":""},{"$f":"IF(B68=\"\",\"\",VLOOKUP(B68&\"\",'Fichero de Jugadores'!$A$2:$H$5000,3,0))","v":""},{"$f":"INDEX(AN$4:AS$9,(Q68)+2,(R68)+2)","v":{"$error":"#N/A"}},{"$f":"IF(A68=\"\",\"\",VLOOKUP(A68&\"\",'Fichero de Jugadores'!$A$2:$I$5000,6,0))","v":""},{"$f":"IF(B68=\"\",\"\",VLOOKUP(B68&\"\",'Fichero de Jugadores'!$A$2:$I$5000,6,0))","v":""},"",null,null,{"$f":"IF(A68=\"\",\"\",VLOOKUP(A68&\"\",'Fichero de Jugadores'!$A$2:$I$4565,4,0))","v":""},{"$f":"IF(B68=\"\",\"\",VLOOKUP(B68&\"\",'Fichero de Jugadores'!$A$2:$I$4565,4,0))","v":""},{"$f":"IF(C68=\"\",\"\",VLOOKUP(A68&\"\",'Fichero de Jugadores'!$A$2:$I$4565,7,0))","v":{"$error":"#N/A"}},{"$f":"IF(C68=\"\",\"\",VLOOKUP(B68&\"\",'Fichero de Jugadores'!$A$2:$I$4565,7,0))","v":{"$error":"#N/A"}}]
[null,null,"66",{"$f":"IF(A69=\"\",\"\",VLOOKUP(A69&\"\",'Fichero de Jugadores'!$A$2:$H$5000,2,0))","v":""},{"$f":"IF(B69=\"\",\"\",VLOOKUP(B69&\"\",'Fichero de Jugadores'!$A$2:$H$5000,2,0))","v":""},null,{"$f":"IF(A69=\"\",\"\",VLOOKUP(A69&\"\",'Fichero de Jugadores'!$A$2:$H$5000,3,0))","v":""},{"$f":"IF(B69=\"\",\"\",VLOOKUP(B69&\"\",'Fichero de Jugadores'!$A$2:$H$5000,3,0))","v":""},{"$error":"#N/A"},{"$f":"IF(A69=\"\",\"\",VLOOKUP(A69&\"\",'Fichero de Jugadores'!$A$2:$I$5000,6,0))","v":""},{"$f":"IF(B69=\"\",\"\",VLOOKUP(B69&\"\",'Fichero de Jugadores'!$A$2:$I$5000,6,0))","v":""},{"$f":"IF(AND(O69=\"D\",P69=\"D\"),\"D\",IF(AND(O69=\"D\",P69=\"C\"),\"X\",IF(AND(O69=\"C\",P69=\"D\"),\"X\",IF(AND(O69=\"C\",P69=\"C\"),\"C\",IF(OR(O69=\"\",P69=\"\"),\"\")))))","v":""},null,null,{"$f":"IF(A69=\"\",\"\",VLOOKUP(A69&\"\",'Fichero de Jugadores'!$A$2:$I$4565,4,0))","v":""},{"$f":"IF(B69=\"\",\"\",VLOOKUP(B69&\"\",'Fichero de Jugadores'!$A$2:$I$4565,4,0))","v":""},{"$f":"IF(C69=\"\",\"\",VLOOKUP(A69&\"\",'Fichero de Jugadores'!$A$2:$I$4565,7,0))","v":{"$error":"#N/A"}},{"$f":"IF(C69=\"\",\"\",VLOOKUP(B69&\"\",'Fichero de Jugadores'!$A$2:$I$4565,7,0))","v":{"$error":"#N/A"}}]
[null,null,"67",{"$f":"IF(A70=\"\",\"\",VLOOKUP(A70&\"\",'Fichero de Jugadores'!$A$2:$H$5000,2,0))","v":""},{"$f":"IF(B70=\"\",\"\",VLOOKUP(B70&\"\",'Fichero de Jugadores'!$A$2:$H$5000,2,0))","v":""},null,{"$f":"IF(A70=\"\",\"\",VLOOKUP(A70&\"\",'Fichero de Jugadores'!$A$2:$H$5000,3,0))","v":""},{"$f":"IF(B70=\"\",\"\",VLOOKUP(B70&\"\",'Fichero de Jugadores'!$A$2:$H$5000,3,0))","v":""},{"$error":"#N/A"},{"$f":"IF(A70=\"\",\"\",VLOOKUP(A70&\"\",'Fichero de Jugadores'!$A$2:$I$5000,6,0))","v":""},{"$f":"IF(B70=\"\",\"\",VLOOKUP(B70&\"\",'Fichero de Jugadores'!$A$2:$I$5000,6,0))","v":""},"",null,null,{"$f":"IF(A70=\"\",\"\",VLOOKUP(A70&\"\",'Fichero de Jugadores'!$A$2:$I$4565,4,0))","v":""},{"$f":"IF(B70=\"\",\"\",VLOOKUP(B70&\"\",'Fichero de Jugadores'!$A$2:$I$4565,4,0))","v":""},{"$f":"IF(C70=\"\",\"\",VLOOKUP(A70&\"\",'Fichero de Jugadores'!$A$2:$I$4565,7,0))","v":{"$error":"#N/A"}},{"$f":"IF(C70=\"\",\"\",VLOOKUP(B70&\"\",'Fichero de Jugadores'!$A$2:$I$4565,7,0))","v":{"$error":"#N/A"}}]
[null,null,"68",{"$f":"IF(A71=\"\",\"\",VLOOKUP(A71&\"\",'Fichero de Jugadores'!$A$2:$H$5000,2,0))","v":""},{"$f":"IF(B71=\"\",\"\",VLOOKUP(B71&\"\",'Fichero de Jugadores'!$A$2:$H$5000,2,0))","v":""},null,{"$f":"IF(A71=\"\",\"\",VLOOKUP(A71&\"\",'Fichero de Jugadores'!$A$2:$H$5000,3,0))","v":""},{"$f":"IF(B71=\"\",\"\",VLOOKUP(B71&\"\",'Fichero de Jugadores'!$A$2:$H$5000,3,0))","v":""},{"$error":"#N/A"},{"$f":"IF(A71=\"\",\"\",VLOOKUP(A71&\"\",'Fichero de Jugadores'!$A$2:$I$5000,6,0))","v":""},{"$f":"IF(B71=\"\",\"\",VLOOKUP(B71&\"\",'Fichero de Jugadores'!$A$2:$I$5000,6,0))","v":""},"",null,null,{"$f":"IF(A71=\"\",\"\",VLOOKUP(A71&\"\",'Fichero de Jugadores'!$A$2:$I$4565,4,0))","v":""},{"$f":"IF(B71=\"\",\"\",VLOOKUP(B71&\"\",'Fichero de Jugadores'!$A$2:$I$4565,4,0))","v":""},{"$f":"IF(C71=\"\",\"\",VLOOKUP(A71&\"\",'Fichero de Jugadores'!$A$2:$I$4565,7,0))","v":{"$error":"#N/A"}},{"$f":"IF(C71=\"\",\"\",VLOOKUP(B71&\"\",'Fichero de Jugadores'!$A$2:$I$4565,7,0))","v":{"$error":"#N/A"}}]
[null,null,"69",{"$f":"IF(A72=\"\",\"\",VLOOKUP(A72&\"\",'Fichero de Jugadores'!$A$2:$H$5000,2,0))","v":""},{"$f":"IF(B72=\"\",\"\",VLOOKUP(B72&\"\",'Fichero de Jugadores'!$A$2:$H$5000,2,0))","v":""},null,{"$f":"IF(A72=\"\",\"\",VLOOKUP(A72&\"\",'Fichero de Jugadores'!$A$2:$H$5000,3,0))","v":""},{"$f":"IF(B72=\"\",\"\",VLOOKUP(B72&\"\",'Fichero de Jugadores'!$A$2:$H$5000,3,0))","v":""},{"$error":"#N/A"},{"$f":"IF(A72=\"\",\"\",VLOOKUP(A72&\"\",'Fichero de Jugadores'!$A$2:$I$5000,6,0))","v":""},{"$f":"IF(B72=\"\",\"\",VLOOKUP(B72&\"\",'Fichero de Jugadores'!$A$2:$I$5000,6,0))","v":""},"",null,null,{"$f":"IF(A72=\"\",\"\",VLOOKUP(A72&\"\",'Fichero de Jugadores'!$A$2:$I$4565,4,0))","v":""},{"$f":"IF(B72=\"\",\"\",VLOOKUP(B72&\"\",'Fichero de Jugadores'!$A$2:$I$4565,4,0))","v":""},{"$f":"IF(C72=\"\",\"\",VLOOKUP(A72&\"\",'Fichero de Jugadores'!$A$2:$I$4565,7,0))","v":{"$error":"#N/A"}},{"$f":"IF(C72=\"\",\"\",VLOOKUP(B72&\"\",'Fichero de Jugadores'!$A$2:$I$4565,7,0))","v":{"$error":"#N/A"}}]
[null,null,"70",{"$f":"IF(A73=\"\",\"\",VLOOKUP(A73&\"\",'Fichero de Jugadores'!$A$2:$H$5000,2,0))","v":""},{"$f":"IF(B73=\"\",\"\",VLOOKUP(B73&\"\",'Fichero de Jugadores'!$A$2:$H$5000,2,0))","v":""},null,{"$f":"IF(A73=\"\",\"\",VLOOKUP(A73&\"\",'Fichero de Jugadores'!$A$2:$H$5000,3,0))","v":""},{"$f":"IF(B73=\"\",\"\",VLOOKUP(B73&\"\",'Fichero de Jugadores'!$A$2:$H$5000,3,0))","v":""},{"$error":"#N/A"},{"$f":"IF(A73=\"\",\"\",VLOOKUP(A73&\"\",'Fichero de Jugadores'!$A$2:$I$5000,6,0))","v":""},{"$f":"IF(B73=\"\",\"\",VLOOKUP(B73&\"\",'Fichero de Jugadores'!$A$2:$I$5000,6,0))","v":""},"",null,null,{"$f":"IF(A73=\"\",\"\",VLOOKUP(A73&\"\",'Fichero de Jugadores'!$A$2:$I$4565,4,0))","v":""},{"$f":"IF(B73=\"\",\"\",VLOOKUP(B73&\"\",'Fichero de Jugadores'!$A$2:$I$4565,4,0))","v":""},{"$f":"IF(C73=\"\",\"\",VLOOKUP(A73&\"\",'Fichero de Jugadores'!$A$2:$I$4565,7,0))","v":{"$error":"#N/A"}},{"$f":"IF(C73=\"\",\"\",VLOOKUP(B73&\"\",'Fichero de Jugadores'!$A$2:$I$4565,7,0))","v":{"$error":"#N/A"}}]
[null,null,"71",{"$f":"IF(A74=\"\",\"\",VLOOKUP(A74&\"\",'Fichero de Jugadores'!$A$2:$H$5000,2,0))","v":""},{"$f":"IF(B74=\"\",\"\",VLOOKUP(B74&\"\",'Fichero de Jugadores'!$A$2:$H$5000,2,0))","v":""},null,{"$f":"IF(A74=\"\",\"\",VLOOKUP(A74&\"\",'Fichero de Jugadores'!$A$2:$H$5000,3,0))","v":""},{"$f":"IF(B74=\"\",\"\",VLOOKUP(B74&\"\",'Fichero de Jugadores'!$A$2:$H$5000,3,0))","v":""},{"$error":"#N/A"},{"$f":"IF(A74=\"\",\"\",VLOOKUP(A74&\"\",'Fichero de Jugadores'!$A$2:$I$5000,6,0))","v":""},{"$f":"IF(B74=\"\",\"\",VLOOKUP(B74&\"\",'Fichero de Jugadores'!$A$2:$I$5000,6,0))","v":""},"",null,null,{"$f":"IF(A74=\"\",\"\",VLOOKUP(A74&\"\",'Fichero de Jugadores'!$A$2:$I$4565,4,0))","v":""},{"$f":"IF(B74=\"\",\"\",VLOOKUP(B74&\"\",'Fichero de Jugadores'!$A$2:$I$4565,4,0))","v":""},{"$f":"IF(C74=\"\",\"\",VLOOKUP(A74&\"\",'Fichero de Jugadores'!$A$2:$I$4565,7,0))","v":{"$error":"#N/A"}},{"$f":"IF(C74=\"\",\"\",VLOOKUP(B74&\"\",'Fichero de Jugadores'!$A$2:$I$4565,7,0))","v":{"$error":"#N/A"}}]
[null,null,"72",{"$f":"IF(A75=\"\",\"\",VLOOKUP(A75&\"\",'Fichero de Jugadores'!$A$2:$H$5000,2,0))","v":""},{"$f":"IF(B75=\"\",\"\",VLOOKUP(B75&\"\",'Fichero de Jugadores'!$A$2:$H$5000,2,0))","v":""},null,{"$f":"IF(A75=\"\",\"\",VLOOKUP(A75&\"\",'Fichero de Jugadores'!$A$2:$H$5000,3,0))","v":""},{"$f":"IF(B75=\"\",\"\",VLOOKUP(B75&\"\",'Fichero de Jugadores'!$A$2:$H$5000,3,0))","v":""},{"$error":"#N/A"},{"$f":"IF(A75=\"\",\"\",VLOOKUP(A75&\"\",'Fichero de Jugadores'!$A$2:$I$5000,6,0))","v":""},{"$f":"IF(B75=\"\",\"\",VLOOKUP(B75&\"\",'Fichero de Jugadores'!$A$2:$I$5000,6,0))","v":""},"",null,null,{"$f":"IF(A75=\"\",\"\",VLOOKUP(A75&\"\",'Fichero de Jugadores'!$A$2:$I$4565,4,0))","v":""},{"$f":"IF(B75=\"\",\"\",VLOOKUP(B75&\"\",'Fichero de Jugadores'!$A$2:$I$4565,4,0))","v":""},{"$f":"IF(C75=\"\",\"\",VLOOKUP(A75&\"\",'Fichero de Jugadores'!$A$2:$I$4565,7,0))","v":{"$error":"#N/A"}},{"$f":"IF(C75=\"\",\"\",VLOOKUP(B75&\"\",'Fichero de Jugadores'!$A$2:$I$4565,7,0))","v":{"$error":"#N/A"}}]
[null,null,"73",{"$f":"IF(A76=\"\",\"\",VLOOKUP(A76&\"\",'Fichero de Jugadores'!$A$2:$H$5000,2,0))","v":""},{"$f":"IF(B76=\"\",\"\",VLOOKUP(B76&\"\",'Fichero de Jugadores'!$A$2:$H$5000,2,0))","v":""},null,{"$f":"IF(A76=\"\",\"\",VLOOKUP(A76&\"\",'Fichero de Jugadores'!$A$2:$H$5000,3,0))","v":""},{"$f":"IF(B76=\"\",\"\",VLOOKUP(B76&\"\",'Fichero de Jugadores'!$A$2:$H$5000,3,0))","v":""},{"$error":"#N/A"},{"$f":"IF(A76=\"\",\"\",VLOOKUP(A76&\"\",'Fichero de Jugadores'!$A$2:$I$5000,6,0))","v":""},{"$f":"IF(B76=\"\",\"\",VLOOKUP(B76&\"\",'Fichero de Jugadores'!$A$2:$I$5000,6,0))","v":""},"",null,null,{"$f":"IF(A76=\"\",\"\",VLOOKUP(A76&\"\",'Fichero de Jugadores'!$A$2:$I$4565,4,0))","v":""},{"$f":"IF(B76=\"\",\"\",VLOOKUP(B76&\"\",'Fichero de Jugadores'!$A$2:$I$4565,4,0))","v":""},{"$f":"IF(C76=\"\",\"\",VLOOKUP(A76&\"\",'Fichero de Jugadores'!$A$2:$I$4565,7,0))","v":{"$error":"#N/A"}},{"$f":"IF(C76=\"\",\"\",VLOOKUP(B76&\"\",'Fichero de Jugadores'!$A$2:$I$4565,7,0))","v":{"$error":"#N/A"}}]
[null,null,"74",{"$f":"IF(A77=\"\",\"\",VLOOKUP(A77&\"\",'Fichero de Jugadores'!$A$2:$H$5000,2,0))","v":""},{"$f":"IF(B77=\"\",\"\",VLOOKUP(B77&\"\",'Fichero de Jugadores'!$A$2:$H$5000,2,0))","v":""},null,{"$f":"IF(A77=\"\",\"\",VLOOKUP(A77&\"\",'Fichero de Jugadores'!$A$2:$H$5000,3,0))","v":""},{"$f":"IF(B77=\"\",\"\",VLOOKUP(B77&\"\",'Fichero de Jugadores'!$A$2:$H$5000,3,0))","v":""},{"$error":"#N/A"},{"$f":"IF(A77=\"\",\"\",VLOOKUP(A77&\"\",'Fichero de Jugadores'!$A$2:$I$5000,6,0))","v":""},{"$f":"IF(B77=\"\",\"\",VLOOKUP(B77&\"\",'Fichero de Jugadores'!$A$2:$I$5000,6,0))","v":""},"",null,null,{"$f":"IF(A77=\"\",\"\",VLOOKUP(A77&\"\",'Fichero de Jugadores'!$A$2:$I$4565,4,0))","v":""},{"$f":"IF(B77=\"\",\"\",VLOOKUP(B77&\"\",'Fichero de Jugadores'!$A$2:$I$4565,4,0))","v":""},{"$f":"IF(C77=\"\",\"\",VLOOKUP(A77&\"\",'Fichero de Jugadores'!$A$2:$I$4565,7,0))","v":{"$error":"#N/A"}},{"$f":"IF(C77=\"\",\"\",VLOOKUP(B77&\"\",'Fichero de Jugadores'!$A$2:$I$4565,7,0))","v":{"$error":"#N/A"}}]
[null,null,"75",{"$f":"IF(A78=\"\",\"\",VLOOKUP(A78&\"\",'Fichero de Jugadores'!$A$2:$H$5000,2,0))","v":""},{"$f":"IF(B78=\"\",\"\",VLOOKUP(B78&\"\",'Fichero de Jugadores'!$A$2:$H$5000,2,0))","v":""},null,{"$f":"IF(A78=\"\",\"\",VLOOKUP(A78&\"\",'Fichero de Jugadores'!$A$2:$H$5000,3,0))","v":""},{"$f":"IF(B78=\"\",\"\",VLOOKUP(B78&\"\",'Fichero de Jugadores'!$A$2:$H$5000,3,0))","v":""},{"$error":"#N/A"},{"$f":"IF(A78=\"\",\"\",VLOOKUP(A78&\"\",'Fichero de Jugadores'!$A$2:$I$5000,6,0))","v":""},{"$f":"IF(B78=\"\",\"\",VLOOKUP(B78&\"\",'Fichero de Jugadores'!$A$2:$I$5000,6,0))","v":""},"",null,null,{"$f":"IF(A78=\"\",\"\",VLOOKUP(A78&\"\",'Fichero de Jugadores'!$A$2:$I$4565,4,0))","v":""},{"$f":"IF(B78=\"\",\"\",VLOOKUP(B78&\"\",'Fichero de Jugadores'!$A$2:$I$4565,4,0))","v":""},{"$f":"IF(C78=\"\",\"\",VLOOKUP(A78&\"\",'Fichero de Jugadores'!$A$2:$I$4565,7,0))","v":{"$error":"#N/A"}},{"$f":"IF(C78=\"\",\"\",VLOOKUP(B78&\"\",'Fichero de Jugadores'!$A$2:$I$4565,7,0))","v":{"$error":"#N/A"}}]
[null,null,"76",{"$f":"IF(A79=\"\",\"\",VLOOKUP(A79&\"\",'Fichero de Jugadores'!$A$2:$H$5000,2,0))","v":""},{"$f":"IF(B79=\"\",\"\",VLOOKUP(B79&\"\",'Fichero de Jugadores'!$A$2:$H$5000,2,0))","v":""},null,{"$f":"IF(A79=\"\",\"\",VLOOKUP(A79&\"\",'Fichero de Jugadores'!$A$2:$H$5000,3,0))","v":""},{"$f":"IF(B79=\"\",\"\",VLOOKUP(B79&\"\",'Fichero de Jugadores'!$A$2:$H$5000,3,0))","v":""},{"$error":"#N/A"},{"$f":"IF(A79=\"\",\"\",VLOOKUP(A79&\"\",'Fichero de Jugadores'!$A$2:$I$5000,6,0))","v":""},{"$f":"IF(B79=\"\",\"\",VLOOKUP(B79&\"\",'Fichero de Jugadores'!$A$2:$I$5000,6,0))","v":""},"",null,null,{"$f":"IF(A79=\"\",\"\",VLOOKUP(A79&\"\",'Fichero de Jugadores'!$A$2:$I$4565,4,0))","v":""},{"$f":"IF(B79=\"\",\"\",VLOOKUP(B79&\"\",'Fichero de Jugadores'!$A$2:$I$4565,4,0))","v":""},{"$f":"IF(C79=\"\",\"\",VLOOKUP(A79&\"\",'Fichero de Jugadores'!$A$2:$I$4565,7,0))","v":{"$error":"#N/A"}},{"$f":"IF(C79=\"\",\"\",VLOOKUP(B79&\"\",'Fichero de Jugadores'!$A$2:$I$4565,7,0))","v":{"$error":"#N/A"}}]
[null,null,"77",{"$f":"IF(A80=\"\",\"\",VLOOKUP(A80&\"\",'Fichero de Jugadores'!$A$2:$H$5000,2,0))","v":""},{"$f":"IF(B80=\"\",\"\",VLOOKUP(B80&\"\",'Fichero de Jugadores'!$A$2:$H$5000,2,0))","v":""},null,{"$f":"IF(A80=\"\",\"\",VLOOKUP(A80&\"\",'Fichero de Jugadores'!$A$2:$H$5000,3,0))","v":""},{"$f":"IF(B80=\"\",\"\",VLOOKUP(B80&\"\",'Fichero de Jugadores'!$A$2:$H$5000,3,0))","v":""},{"$error":"#N/A"},{"$f":"IF(A80=\"\",\"\",VLOOKUP(A80&\"\",'Fichero de Jugadores'!$A$2:$I$5000,6,0))","v":""},{"$f":"IF(B80=\"\",\"\",VLOOKUP(B80&\"\",'Fichero de Jugadores'!$A$2:$I$5000,6,0))","v":""},"",null,null,{"$f":"IF(A80=\"\",\"\",VLOOKUP(A80&\"\",'Fichero de Jugadores'!$A$2:$I$4565,4,0))","v":""},{"$f":"IF(B80=\"\",\"\",VLOOKUP(B80&\"\",'Fichero de Jugadores'!$A$2:$I$4565,4,0))","v":""},{"$f":"IF(C80=\"\",\"\",VLOOKUP(A80&\"\",'Fichero de Jugadores'!$A$2:$I$4565,7,0))","v":{"$error":"#N/A"}},{"$f":"IF(C80=\"\",\"\",VLOOKUP(B80&\"\",'Fichero de Jugadores'!$A$2:$I$4565,7,0))","v":{"$error":"#N/A"}}]
[null,null,"78",{"$f":"IF(A81=\"\",\"\",VLOOKUP(A81&\"\",'Fichero de Jugadores'!$A$2:$H$5000,2,0))","v":""},{"$f":"IF(B81=\"\",\"\",VLOOKUP(B81&\"\",'Fichero de Jugadores'!$A$2:$H$5000,2,0))","v":""},null,{"$f":"IF(A81=\"\",\"\",VLOOKUP(A81&\"\",'Fichero de Jugadores'!$A$2:$H$5000,3,0))","v":""},{"$f":"IF(B81=\"\",\"\",VLOOKUP(B81&\"\",'Fichero de Jugadores'!$A$2:$H$5000,3,0))","v":""},{"$error":"#N/A"},{"$f":"IF(A81=\"\",\"\",VLOOKUP(A81&\"\",'Fichero de Jugadores'!$A$2:$I$5000,6,0))","v":""},{"$f":"IF(B81=\"\",\"\",VLOOKUP(B81&\"\",'Fichero de Jugadores'!$A$2:$I$5000,6,0))","v":""},"",null,null,{"$f":"IF(A81=\"\",\"\",VLOOKUP(A81&\"\",'Fichero de Jugadores'!$A$2:$I$4565,4,0))","v":""},{"$f":"IF(B81=\"\",\"\",VLOOKUP(B81&\"\",'Fichero de Jugadores'!$A$2:$I$4565,4,0))","v":""},{"$f":"IF(C81=\"\",\"\",VLOOKUP(A81&\"\",'Fichero de Jugadores'!$A$2:$I$4565,7,0))","v":{"$error":"#N/A"}},{"$f":"IF(C81=\"\",\"\",VLOOKUP(B81&\"\",'Fichero de Jugadores'!$A$2:$I$4565,7,0))","v":{"$error":"#N/A"}}]
[null,null,"79",{"$f":"IF(A82=\"\",\"\",VLOOKUP(A82&\"\",'Fichero de Jugadores'!$A$2:$H$5000,2,0))","v":""},{"$f":"IF(B82=\"\",\"\",VLOOKUP(B82&\"\",'Fichero de Jugadores'!$A$2:$H$5000,2,0))","v":""},null,{"$f":"IF(A82=\"\",\"\",VLOOKUP(A82&\"\",'Fichero de Jugadores'!$A$2:$H$5000,3,0))","v":""},{"$f":"IF(B82=\"\",\"\",VLOOKUP(B82&\"\",'Fichero de Jugadores'!$A$2:$H$5000,3,0))","v":""},{"$error":"#N/A"},{"$f":"IF(A82=\"\",\"\",VLOOKUP(A82&\"\",'Fichero de Jugadores'!$A$2:$I$5000,6,0))","v":""},{"$f":"IF(B82=\"\",\"\",VLOOKUP(B82&\"\",'Fichero de Jugadores'!$A$2:$I$5000,6,0))","v":""},"",null,null,{"$f":"IF(A82=\"\",\"\",VLOOKUP(A82&\"\",'Fichero de Jugadores'!$A$2:$I$4565,4,0))","v":""},{"$f":"IF(B82=\"\",\"\",VLOOKUP(B82&\"\",'Fichero de Jugadores'!$A$2:$I$4565,4,0))","v":""},{"$f":"IF(C82=\"\",\"\",VLOOKUP(A82&\"\",'Fichero de Jugadores'!$A$2:$I$4565,7,0))","v":{"$error":"#N/A"}},{"$f":"IF(C82=\"\",\"\",VLOOKUP(B82&\"\",'Fichero de Jugadores'!$A$2:$I$4565,7,0))","v":{"$error":"#N/A"}}]
[null,null,"80",{"$f":"IF(A83=\"\",\"\",VLOOKUP(A83&\"\",'Fichero de Jugadores'!$A$2:$H$5000,2,0))","v":""},{"$f":"IF(B83=\"\",\"\",VLOOKUP(B83&\"\",'Fichero de Jugadores'!$A$2:$H$5000,2,0))","v":""},null,{"$f":"IF(A83=\"\",\"\",VLOOKUP(A83&\"\",'Fichero de Jugadores'!$A$2:$H$5000,3,0))","v":""},{"$f":"IF(B83=\"\",\"\",VLOOKUP(B83&\"\",'Fichero de Jugadores'!$A$2:$H$5000,3,0))","v":""},{"$error":"#N/A"},{"$f":"IF(A83=\"\",\"\",VLOOKUP(A83&\"\",'Fichero de Jugadores'!$A$2:$I$5000,6,0))","v":""},{"$f":"IF(B83=\"\",\"\",VLOOKUP(B83&\"\",'Fichero de Jugadores'!$A$2:$I$5000,6,0))","v":""},"",null,null,{"$f":"IF(A83=\"\",\"\",VLOOKUP(A83&\"\",'Fichero de Jugadores'!$A$2:$I$4565,4,0))","v":""},{"$f":"IF(B83=\"\",\"\",VLOOKUP(B83&\"\",'Fichero de Jugadores'!$A$2:$I$4565,4,0))","v":""},{"$f":"IF(C83=\"\",\"\",VLOOKUP(A83&\"\",'Fichero de Jugadores'!$A$2:$I$4565,7,0))","v":{"$error":"#N/A"}},{"$f":"IF(C83=\"\",\"\",VLOOKUP(B83&\"\",'Fichero de Jugadores'!$A$2:$I$4565,7,0))","v":{"$error":"#N/A"}}]
[null,null,"81",{"$f":"IF(A84=\"\",\"\",VLOOKUP(A84&\"\",'Fichero de Jugadores'!$A$2:$H$5000,2,0))","v":""},{"$f":"IF(B84=\"\",\"\",VLOOKUP(B84&\"\",'Fichero de Jugadores'!$A$2:$H$5000,2,0))","v":""},null,{"$f":"IF(A84=\"\",\"\",VLOOKUP(A84&\"\",'Fichero de Jugadores'!$A$2:$H$5000,3,0))","v":""},{"$f":"IF(B84=\"\",\"\",VLOOKUP(B84&\"\",'Fichero de Jugadores'!$A$2:$H$5000,3,0))","v":""},{"$error":"#N/A"},{"$f":"IF(A84=\"\",\"\",VLOOKUP(A84&\"\",'Fichero de Jugadores'!$A$2:$I$5000,6,0))","v":""},{"$f":"IF(B84=\"\",\"\",VLOOKUP(B84&\"\",'Fichero de Jugadores'!$A$2:$I$5000,6,0))","v":""},"",null,null,{"$f":"IF(A84=\"\",\"\",VLOOKUP(A84&\"\",'Fichero de Jugadores'!$A$2:$I$4565,4,0))","v":""},{"$f":"IF(B84=\"\",\"\",VLOOKUP(B84&\"\",'Fichero de Jugadores'!$A$2:$I$4565,4,0))","v":""},{"$f":"IF(C84=\"\",\"\",VLOOKUP(A84&\"\",'Fichero de Jugadores'!$A$2:$I$4565,7,0))","v":{"$error":"#N/A"}},{"$f":"IF(C84=\"\",\"\",VLOOKUP(B84&\"\",'Fichero de Jugadores'!$A$2:$I$4565,7,0))","v":{"$error":"#N/A"}}]
[null,null,"82",{"$f":"IF(A85=\"\",\"\",VLOOKUP(A85&\"\",'Fichero de Jugadores'!$A$2:$H$5000,2,0))","v":""},{"$f":"IF(B85=\"\",\"\",VLOOKUP(B85&\"\",'Fichero de Jugadores'!$A$2:$H$5000,2,0))","v":""},null,{"$f":"IF(A85=\"\",\"\",VLOOKUP(A85&\"\",'Fichero de Jugadores'!$A$2:$H$5000,3,0))","v":""},{"$f":"IF(B85=\"\",\"\",VLOOKUP(B85&\"\",'Fichero de Jugadores'!$A$2:$H$5000,3,0))","v":""},{"$error":"#N/A"},{"$f":"IF(A85=\"\",\"\",VLOOKUP(A85&\"\",'Fichero de Jugadores'!$A$2:$I$5000,6,0))","v":""},{"$f":"IF(B85=\"\",\"\",VLOOKUP(B85&\"\",'Fichero de Jugadores'!$A$2:$I$5000,6,0))","v":""},"",null,null,{"$f":"IF(A85=\"\",\"\",VLOOKUP(A85&\"\",'Fichero de Jugadores'!$A$2:$I$4565,4,0))","v":""},{"$f":"IF(B85=\"\",\"\",VLOOKUP(B85&\"\",'Fichero de Jugadores'!$A$2:$I$4565,4,0))","v":""},{"$f":"IF(C85=\"\",\"\",VLOOKUP(A85&\"\",'Fichero de Jugadores'!$A$2:$I$4565,7,0))","v":{"$error":"#N/A"}},{"$f":"IF(C85=\"\",\"\",VLOOKUP(B85&\"\",'Fichero de Jugadores'!$A$2:$I$4565,7,0))","v":{"$error":"#N/A"}}]
[null,null,"83",{"$f":"IF(A86=\"\",\"\",VLOOKUP(A86&\"\",'Fichero de Jugadores'!$A$2:$H$5000,2,0))","v":""},{"$f":"IF(B86=\"\",\"\",VLOOKUP(B86&\"\",'Fichero de Jugadores'!$A$2:$H$5000,2,0))","v":""},null,{"$f":"IF(A86=\"\",\"\",VLOOKUP(A86&\"\",'Fichero de Jugadores'!$A$2:$H$5000,3,0))","v":""},{"$f":"IF(B86=\"\",\"\",VLOOKUP(B86&\"\",'Fichero de Jugadores'!$A$2:$H$5000,3,0))","v":""},{"$error":"#N/A"},{"$f":"IF(A86=\"\",\"\",VLOOKUP(A86&\"\",'Fichero de Jugadores'!$A$2:$I$5000,6,0))","v":""},{"$f":"IF(B86=\"\",\"\",VLOOKUP(B86&\"\",'Fichero de Jugadores'!$A$2:$I$5000,6,0))","v":""},"",null,null,{"$f":"IF(A86=\"\",\"\",VLOOKUP(A86&\"\",'Fichero de Jugadores'!$A$2:$I$4565,4,0))","v":""},{"$f":"IF(B86=\"\",\"\",VLOOKUP(B86&\"\",'Fichero de Jugadores'!$A$2:$I$4565,4,0))","v":""},{"$f":"IF(C86=\"\",\"\",VLOOKUP(A86&\"\",'Fichero de Jugadores'!$A$2:$I$4565,7,0))","v":{"$error":"#N/A"}},{"$f":"IF(C86=\"\",\"\",VLOOKUP(B86&\"\",'Fichero de Jugadores'!$A$2:$I$4565,7,0))","v":{"$error":"#N/A"}}]
[null,null,"84",{"$f":"IF(A87=\"\",\"\",VLOOKUP(A87&\"\",'Fichero de Jugadores'!$A$2:$H$5000,2,0))","v":""},{"$f":"IF(B87=\"\",\"\",VLOOKUP(B87&\"\",'Fichero de Jugadores'!$A$2:$H$5000,2,0))","v":""},null,{"$f":"IF(A87=\"\",\"\",VLOOKUP(A87&\"\",'Fichero de Jugadores'!$A$2:$H$5000,3,0))","v":""},{"$f":"IF(B87=\"\",\"\",VLOOKUP(B87&\"\",'Fichero de Jugadores'!$A$2:$H$5000,3,0))","v":""},{"$error":"#N/A"},{"$f":"IF(A87=\"\",\"\",VLOOKUP(A87&\"\",'Fichero de Jugadores'!$A$2:$I$5000,6,0))","v":""},{"$f":"IF(B87=\"\",\"\",VLOOKUP(B87&\"\",'Fichero de Jugadores'!$A$2:$I$5000,6,0))","v":""},"",null,null,{"$f":"IF(A87=\"\",\"\",VLOOKUP(A87&\"\",'Fichero de Jugadores'!$A$2:$I$4565,4,0))","v":""},{"$f":"IF(B87=\"\",\"\",VLOOKUP(B87&\"\",'Fichero de Jugadores'!$A$2:$I$4565,4,0))","v":""},{"$f":"IF(C87=\"\",\"\",VLOOKUP(A87&\"\",'Fichero de Jugadores'!$A$2:$I$4565,7,0))","v":{"$error":"#N/A"}},{"$f":"IF(C87=\"\",\"\",VLOOKUP(B87&\"\",'Fichero de Jugadores'!$A$2:$I$4565,7,0))","v":{"$error":"#N/A"}}]
[null,null,"85",{"$f":"IF(A88=\"\",\"\",VLOOKUP(A88&\"\",'Fichero de Jugadores'!$A$2:$H$5000,2,0))","v":""},{"$f":"IF(B88=\"\",\"\",VLOOKUP(B88&\"\",'Fichero de Jugadores'!$A$2:$H$5000,2,0))","v":""},null,{"$f":"IF(A88=\"\",\"\",VLOOKUP(A88&\"\",'Fichero de Jugadores'!$A$2:$H$5000,3,0))","v":""},{"$f":"IF(B88=\"\",\"\",VLOOKUP(B88&\"\",'Fichero de Jugadores'!$A$2:$H$5000,3,0))","v":""},{"$error":"#N/A"},{"$f":"IF(A88=\"\",\"\",VLOOKUP(A88&\"\",'Fichero de Jugadores'!$A$2:$I$5000,6,0))","v":""},{"$f":"IF(B88=\"\",\"\",VLOOKUP(B88&\"\",'Fichero de Jugadores'!$A$2:$I$5000,6,0))","v":""},"",null,null,{"$f":"IF(A88=\"\",\"\",VLOOKUP(A88&\"\",'Fichero de Jugadores'!$A$2:$I$4565,4,0))","v":""},{"$f":"IF(B88=\"\",\"\",VLOOKUP(B88&\"\",'Fichero de Jugadores'!$A$2:$I$4565,4,0))","v":""},{"$f":"IF(C88=\"\",\"\",VLOOKUP(A88&\"\",'Fichero de Jugadores'!$A$2:$I$4565,7,0))","v":{"$error":"#N/A"}},{"$f":"IF(C88=\"\",\"\",VLOOKUP(B88&\"\",'Fichero de Jugadores'!$A$2:$I$4565,7,0))","v":{"$error":"#N/A"}}]
[null,null,"86",{"$f":"IF(A89=\"\",\"\",VLOOKUP(A89&\"\",'Fichero de Jugadores'!$A$2:$H$5000,2,0))","v":""},{"$f":"IF(B89=\"\",\"\",VLOOKUP(B89&\"\",'Fichero de Jugadores'!$A$2:$H$5000,2,0))","v":""},null,{"$f":"IF(A89=\"\",\"\",VLOOKUP(A89&\"\",'Fichero de Jugadores'!$A$2:$H$5000,3,0))","v":""},{"$f":"IF(B89=\"\",\"\",VLOOKUP(B89&\"\",'Fichero de Jugadores'!$A$2:$H$5000,3,0))","v":""},{"$error":"#N/A"},{"$f":"IF(A89=\"\",\"\",VLOOKUP(A89&\"\",'Fichero de Jugadores'!$A$2:$I$5000,6,0))","v":""},{"$f":"IF(B89=\"\",\"\",VLOOKUP(B89&\"\",'Fichero de Jugadores'!$A$2:$I$5000,6,0))","v":""},"",null,null,{"$f":"IF(A89=\"\",\"\",VLOOKUP(A89&\"\",'Fichero de Jugadores'!$A$2:$I$4565,4,0))","v":""},{"$f":"IF(B89=\"\",\"\",VLOOKUP(B89&\"\",'Fichero de Jugadores'!$A$2:$I$4565,4,0))","v":""},{"$f":"IF(C89=\"\",\"\",VLOOKUP(A89&\"\",'Fichero de Jugadores'!$A$2:$I$4565,7,0))","v":{"$error":"#N/A"}},{"$f":"IF(C89=\"\",\"\",VLOOKUP(B89&\"\",'Fichero de Jugadores'!$A$2:$I$4565,7,0))","v":{"$error":"#N/A"}}]
[null,null,"87",{"$f":"IF(A90=\"\",\"\",VLOOKUP(A90&\"\",'Fichero de Jugadores'!$A$2:$H$5000,2,0))","v":""},{"$f":"IF(B90=\"\",\"\",VLOOKUP(B90&\"\",'Fichero de Jugadores'!$A$2:$H$5000,2,0))","v":""},null,{"$f":"IF(A90=\"\",\"\",VLOOKUP(A90&\"\",'Fichero de Jugadores'!$A$2:$H$5000,3,0))","v":""},{"$f":"IF(B90=\"\",\"\",VLOOKUP(B90&\"\",'Fichero de Jugadores'!$A$2:$H$5000,3,0))","v":""},{"$error":"#N/A"},{"$f":"IF(A90=\"\",\"\",VLOOKUP(A90&\"\",'Fichero de Jugadores'!$A$2:$I$5000,6,0))","v":""},{"$f":"IF(B90=\"\",\"\",VLOOKUP(B90&\"\",'Fichero de Jugadores'!$A$2:$I$5000,6,0))","v":""},"",null,null,{"$f":"IF(A90=\"\",\"\",VLOOKUP(A90&\"\",'Fichero de Jugadores'!$A$2:$I$4565,4,0))","v":""},{"$f":"IF(B90=\"\",\"\",VLOOKUP(B90&\"\",'Fichero de Jugadores'!$A$2:$I$4565,4,0))","v":""},{"$f":"IF(C90=\"\",\"\",VLOOKUP(A90&\"\",'Fichero de Jugadores'!$A$2:$I$4565,7,0))","v":{"$error":"#N/A"}},{"$f":"IF(C90=\"\",\"\",VLOOKUP(B90&\"\",'Fichero de Jugadores'!$A$2:$I$4565,7,0))","v":{"$error":"#N/A"}}]
[null,null,"88",{"$f":"IF(A91=\"\",\"\",VLOOKUP(A91&\"\",'Fichero de Jugadores'!$A$2:$H$5000,2,0))","v":""},{"$f":"IF(B91=\"\",\"\",VLOOKUP(B91&\"\",'Fichero de Jugadores'!$A$2:$H$5000,2,0))","v":""},null,{"$f":"IF(A91=\"\",\"\",VLOOKUP(A91&\"\",'Fichero de Jugadores'!$A$2:$H$5000,3,0))","v":""},{"$f":"IF(B91=\"\",\"\",VLOOKUP(B91&\"\",'Fichero de Jugadores'!$A$2:$H$5000,3,0))","v":""},{"$error":"#N/A"},{"$f":"IF(A91=\"\",\"\",VLOOKUP(A91&\"\",'Fichero de Jugadores'!$A$2:$I$5000,6,0))","v":""},{"$f":"IF(B91=\"\",\"\",VLOOKUP(B91&\"\",'Fichero de Jugadores'!$A$2:$I$5000,6,0))","v":""},"",null,null,{"$f":"IF(A91=\"\",\"\",VLOOKUP(A91&\"\",'Fichero de Jugadores'!$A$2:$I$4565,4,0))","v":""},{"$f":"IF(B91=\"\",\"\",VLOOKUP(B91&\"\",'Fichero de Jugadores'!$A$2:$I$4565,4,0))","v":""},{"$f":"IF(C91=\"\",\"\",VLOOKUP(A91&\"\",'Fichero de Jugadores'!$A$2:$I$4565,7,0))","v":{"$error":"#N/A"}},{"$f":"IF(C91=\"\",\"\",VLOOKUP(B91&\"\",'Fichero de Jugadores'!$A$2:$I$4565,7,0))","v":{"$error":"#N/A"}}]
[null,null,"89",{"$f":"IF(A92=\"\",\"\",VLOOKUP(A92&\"\",'Fichero de Jugadores'!$A$2:$H$5000,2,0))","v":""},{"$f":"IF(B92=\"\",\"\",VLOOKUP(B92&\"\",'Fichero de Jugadores'!$A$2:$H$5000,2,0))","v":""},null,{"$f":"IF(A92=\"\",\"\",VLOOKUP(A92&\"\",'Fichero de Jugadores'!$A$2:$H$5000,3,0))","v":""},{"$f":"IF(B92=\"\",\"\",VLOOKUP(B92&\"\",'Fichero de Jugadores'!$A$2:$H$5000,3,0))","v":""},{"$error":"#N/A"},{"$f":"IF(A92=\"\",\"\",VLOOKUP(A92&\"\",'Fichero de Jugadores'!$A$2:$I$5000,6,0))","v":""},{"$f":"IF(B92=\"\",\"\",VLOOKUP(B92&\"\",'Fichero de Jugadores'!$A$2:$I$5000,6,0))","v":""},"",null,null,{"$f":"IF(A92=\"\",\"\",VLOOKUP(A92&\"\",'Fichero de Jugadores'!$A$2:$I$4565,4,0))","v":""},{"$f":"IF(B92=\"\",\"\",VLOOKUP(B92&\"\",'Fichero de Jugadores'!$A$2:$I$4565,4,0))","v":""},{"$f":"IF(C92=\"\",\"\",VLOOKUP(A92&\"\",'Fichero de Jugadores'!$A$2:$I$4565,7,0))","v":{"$error":"#N/A"}},{"$f":"IF(C92=\"\",\"\",VLOOKUP(B92&\"\",'Fichero de Jugadores'!$A$2:$I$4565,7,0))","v":{"$error":"#N/A"}}]
[null,null,"90",{"$f":"IF(A93=\"\",\"\",VLOOKUP(A93&\"\",'Fichero de Jugadores'!$A$2:$H$5000,2,0))","v":""},{"$f":"IF(B93=\"\",\"\",VLOOKUP(B93&\"\",'Fichero de Jugadores'!$A$2:$H$5000,2,0))","v":""},null,{"$f":"IF(A93=\"\",\"\",VLOOKUP(A93&\"\",'Fichero de Jugadores'!$A$2:$H$5000,3,0))","v":""},{"$f":"IF(B93=\"\",\"\",VLOOKUP(B93&\"\",'Fichero de Jugadores'!$A$2:$H$5000,3,0))","v":""},{"$error":"#N/A"},{"$f":"IF(A93=\"\",\"\",VLOOKUP(A93&\"\",'Fichero de Jugadores'!$A$2:$I$5000,6,0))","v":""},{"$f":"IF(B93=\"\",\"\",VLOOKUP(B93&\"\",'Fichero de Jugadores'!$A$2:$I$5000,6,0))","v":""},"",null,null,{"$f":"IF(A93=\"\",\"\",VLOOKUP(A93&\"\",'Fichero de Jugadores'!$A$2:$I$4565,4,0))","v":""},{"$f":"IF(B93=\"\",\"\",VLOOKUP(B93&\"\",'Fichero de Jugadores'!$A$2:$I$4565,4,0))","v":""},{"$f":"IF(C93=\"\",\"\",VLOOKUP(A93&\"\",'Fichero de Jugadores'!$A$2:$I$4565,7,0))","v":{"$error":"#N/A"}},{"$f":"IF(C93=\"\",\"\",VLOOKUP(B93&\"\",'Fichero de Jugadores'!$A$2:$I$4565,7,0))","v":{"$error":"#N/A"}}]
[null,null,"91",{"$f":"IF(A94=\"\",\"\",VLOOKUP(A94&\"\",'Fichero de Jugadores'!$A$2:$H$5000,2,0))","v":""},{"$f":"IF(B94=\"\",\"\",VLOOKUP(B94&\"\",'Fichero de Jugadores'!$A$2:$H$5000,2,0))","v":""},null,{"$f":"IF(A94=\"\",\"\",VLOOKUP(A94&\"\",'Fichero de Jugadores'!$A$2:$H$5000,3,0))","v":""},{"$f":"IF(B94=\"\",\"\",VLOOKUP(B94&\"\",'Fichero de Jugadores'!$A$2:$H$5000,3,0))","v":""},{"$error":"#N/A"},{"$f":"IF(A94=\"\",\"\",VLOOKUP(A94&\"\",'Fichero de Jugadores'!$A$2:$I$5000,6,0))","v":""},{"$f":"IF(B94=\"\",\"\",VLOOKUP(B94&\"\",'Fichero de Jugadores'!$A$2:$I$5000,6,0))","v":""},"",null,null,{"$f":"IF(A94=\"\",\"\",VLOOKUP(A94&\"\",'Fichero de Jugadores'!$A$2:$I$4565,4,0))","v":""},{"$f":"IF(B94=\"\",\"\",VLOOKUP(B94&\"\",'Fichero de Jugadores'!$A$2:$I$4565,4,0))","v":""},{"$f":"IF(C94=\"\",\"\",VLOOKUP(A94&\"\",'Fichero de Jugadores'!$A$2:$I$4565,7,0))","v":{"$error":"#N/A"}},{"$f":"IF(C94=\"\",\"\",VLOOKUP(B94&\"\",'Fichero de Jugadores'!$A$2:$I$4565,7,0))","v":{"$error":"#N/A"}}]
[null,null,"92",{"$f":"IF(A95=\"\",\"\",VLOOKUP(A95&\"\",'Fichero de Jugadores'!$A$2:$H$5000,2,0))","v":""},{"$f":"IF(B95=\"\",\"\",VLOOKUP(B95&\"\",'Fichero de Jugadores'!$A$2:$H$5000,2,0))","v":""},null,{"$f":"IF(A95=\"\",\"\",VLOOKUP(A95&\"\",'Fichero de Jugadores'!$A$2:$H$5000,3,0))","v":""},{"$f":"IF(B95=\"\",\"\",VLOOKUP(B95&\"\",'Fichero de Jugadores'!$A$2:$H$5000,3,0))","v":""},{"$error":"#N/A"},{"$f":"IF(A95=\"\",\"\",VLOOKUP(A95&\"\",'Fichero de Jugadores'!$A$2:$I$5000,6,0))","v":""},{"$f":"IF(B95=\"\",\"\",VLOOKUP(B95&\"\",'Fichero de Jugadores'!$A$2:$I$5000,6,0))","v":""},"",null,null,{"$f":"IF(A95=\"\",\"\",VLOOKUP(A95&\"\",'Fichero de Jugadores'!$A$2:$I$4565,4,0))","v":""},{"$f":"IF(B95=\"\",\"\",VLOOKUP(B95&\"\",'Fichero de Jugadores'!$A$2:$I$4565,4,0))","v":""},{"$f":"IF(C95=\"\",\"\",VLOOKUP(A95&\"\",'Fichero de Jugadores'!$A$2:$I$4565,7,0))","v":{"$error":"#N/A"}},{"$f":"IF(C95=\"\",\"\",VLOOKUP(B95&\"\",'Fichero de Jugadores'!$A$2:$I$4565,7,0))","v":{"$error":"#N/A"}}]
[null,null,"93",{"$f":"IF(A96=\"\",\"\",VLOOKUP(A96&\"\",'Fichero de Jugadores'!$A$2:$H$5000,2,0))","v":""},{"$f":"IF(B96=\"\",\"\",VLOOKUP(B96&\"\",'Fichero de Jugadores'!$A$2:$H$5000,2,0))","v":""},null,{"$f":"IF(A96=\"\",\"\",VLOOKUP(A96&\"\",'Fichero de Jugadores'!$A$2:$H$5000,3,0))","v":""},{"$f":"IF(B96=\"\",\"\",VLOOKUP(B96&\"\",'Fichero de Jugadores'!$A$2:$H$5000,3,0))","v":""},{"$error":"#N/A"},{"$f":"IF(A96=\"\",\"\",VLOOKUP(A96&\"\",'Fichero de Jugadores'!$A$2:$I$5000,6,0))","v":""},{"$f":"IF(B96=\"\",\"\",VLOOKUP(B96&\"\",'Fichero de Jugadores'!$A$2:$I$5000,6,0))","v":""},"",null,null,{"$f":"IF(A96=\"\",\"\",VLOOKUP(A96&\"\",'Fichero de Jugadores'!$A$2:$I$4565,4,0))","v":""},{"$f":"IF(B96=\"\",\"\",VLOOKUP(B96&\"\",'Fichero de Jugadores'!$A$2:$I$4565,4,0))","v":""},{"$f":"IF(C96=\"\",\"\",VLOOKUP(A96&\"\",'Fichero de Jugadores'!$A$2:$I$4565,7,0))","v":{"$error":"#N/A"}},{"$f":"IF(C96=\"\",\"\",VLOOKUP(B96&\"\",'Fichero de Jugadores'!$A$2:$I$4565,7,0))","v":{"$error":"#N/A"}}]
[null,null,"94",{"$f":"IF(A97=\"\",\"\",VLOOKUP(A97&\"\",'Fichero de Jugadores'!$A$2:$H$5000,2,0))","v":""},{"$f":"IF(B97=\"\",\"\",VLOOKUP(B97&\"\",'Fichero de Jugadores'!$A$2:$H$5000,2,0))","v":""},null,{"$f":"IF(A97=\"\",\"\",VLOOKUP(A97&\"\",'Fichero de Jugadores'!$A$2:$H$5000,3,0))","v":""},{"$f":"IF(B97=\"\",\"\",VLOOKUP(B97&\"\",'Fichero de Jugadores'!$A$2:$H$5000,3,0))","v":""},{"$error":"#N/A"},{"$f":"IF(A97=\"\",\"\",VLOOKUP(A97&\"\",'Fichero de Jugadores'!$A$2:$I$5000,6,0))","v":""},{"$f":"IF(B97=\"\",\"\",VLOOKUP(B97&\"\",'Fichero de Jugadores'!$A$2:$I$5000,6,0))","v":""},"",null,null,{"$f":"IF(A97=\"\",\"\",VLOOKUP(A97&\"\",'Fichero de Jugadores'!$A$2:$I$4565,4,0))","v":""},{"$f":"IF(B97=\"\",\"\",VLOOKUP(B97&\"\",'Fichero de Jugadores'!$A$2:$I$4565,4,0))","v":""},{"$f":"IF(C97=\"\",\"\",VLOOKUP(A97&\"\",'Fichero de Jugadores'!$A$2:$I$4565,7,0))","v":{"$error":"#N/A"}},{"$f":"IF(C97=\"\",\"\",VLOOKUP(B97&\"\",'Fichero de Jugadores'!$A$2:$I$4565,7,0))","v":{"$error":"#N/A"}}]
[null,null,"95",{"$f":"IF(A98=\"\",\"\",VLOOKUP(A98&\"\",'Fichero de Jugadores'!$A$2:$H$5000,2,0))","v":""},{"$f":"IF(B98=\"\",\"\",VLOOKUP(B98&\"\",'Fichero de Jugadores'!$A$2:$H$5000,2,0))","v":""},null,{"$f":"IF(A98=\"\",\"\",VLOOKUP(A98&\"\",'Fichero de Jugadores'!$A$2:$H$5000,3,0))","v":""},{"$f":"IF(B98=\"\",\"\",VLOOKUP(B98&\"\",'Fichero de Jugadores'!$A$2:$H$5000,3,0))","v":""},{"$error":"#N/A"},{"$f":"IF(A98=\"\",\"\",VLOOKUP(A98&\"\",'Fichero de Jugadores'!$A$2:$I$5000,6,0))","v":""},{"$f":"IF(B98=\"\",\"\",VLOOKUP(B98&\"\",'Fichero de Jugadores'!$A$2:$I$5000,6,0))","v":""},"",null,null,{"$f":"IF(A98=\"\",\"\",VLOOKUP(A98&\"\",'Fichero de Jugadores'!$A$2:$I$4565,4,0))","v":""},{"$f":"IF(B98=\"\",\"\",VLOOKUP(B98&\"\",'Fichero de Jugadores'!$A$2:$I$4565,4,0))","v":""},{"$f":"IF(C98=\"\",\"\",VLOOKUP(A98&\"\",'Fichero de Jugadores'!$A$2:$I$4565,7,0))","v":{"$error":"#N/A"}},{"$f":"IF(C98=\"\",\"\",VLOOKUP(B98&\"\",'Fichero de Jugadores'!$A$2:$I$4565,7,0))","v":{"$error":"#N/A"}}]
[null,null,"96",{"$f":"IF(A99=\"\",\"\",VLOOKUP(A99&\"\",'Fichero de Jugadores'!$A$2:$H$5000,2,0))","v":""},{"$f":"IF(B99=\"\",\"\",VLOOKUP(B99&\"\",'Fichero de Jugadores'!$A$2:$H$5000,2,0))","v":""},null,{"$f":"IF(A99=\"\",\"\",VLOOKUP(A99&\"\",'Fichero de Jugadores'!$A$2:$H$5000,3,0))","v":""},{"$f":"IF(B99=\"\",\"\",VLOOKUP(B99&\"\",'Fichero de Jugadores'!$A$2:$H$5000,3,0))","v":""},{"$error":"#N/A"},{"$f":"IF(A99=\"\",\"\",VLOOKUP(A99&\"\",'Fichero de Jugadores'!$A$2:$I$5000,6,0))","v":""},{"$f":"IF(B99=\"\",\"\",VLOOKUP(B99&\"\",'Fichero de Jugadores'!$A$2:$I$5000,6,0))","v":""},"",null,null,{"$f":"IF(A99=\"\",\"\",VLOOKUP(A99&\"\",'Fichero de Jugadores'!$A$2:$I$4565,4,0))","v":""},{"$f":"IF(B99=\"\",\"\",VLOOKUP(B99&\"\",'Fichero de Jugadores'!$A$2:$I$4565,4,0))","v":""},{"$f":"IF(C99=\"\",\"\",VLOOKUP(A99&\"\",'Fichero de Jugadores'!$A$2:$I$4565,7,0))","v":{"$error":"#N/A"}},{"$f":"IF(C99=\"\",\"\",VLOOKUP(B99&\"\",'Fichero de Jugadores'!$A$2:$I$4565,7,0))","v":{"$error":"#N/A"}}]
[null,null,"97",{"$f":"IF(A100=\"\",\"\",VLOOKUP(A100&\"\",'Fichero de Jugadores'!$A$2:$H$5000,2,0))","v":""},{"$f":"IF(B100=\"\",\"\",VLOOKUP(B100&\"\",'Fichero de Jugadores'!$A$2:$H$5000,2,0))","v":""},null,{"$f":"IF(A100=\"\",\"\",VLOOKUP(A100&\"\",'Fichero de Jugadores'!$A$2:$H$5000,3,0))","v":""},{"$f":"IF(B100=\"\",\"\",VLOOKUP(B100&\"\",'Fichero de Jugadores'!$A$2:$H$5000,3,0))","v":""},{"$error":"#N/A"},{"$f":"IF(A100=\"\",\"\",VLOOKUP(A100&\"\",'Fichero de Jugadores'!$A$2:$I$5000,6,0))","v":""},{"$f":"IF(B100=\"\",\"\",VLOOKUP(B100&\"\",'Fichero de Jugadores'!$A$2:$I$5000,6,0))","v":""},"",null,null,{"$f":"IF(A100=\"\",\"\",VLOOKUP(A100&\"\",'Fichero de Jugadores'!$A$2:$I$4565,4,0))","v":""},{"$f":"IF(B100=\"\",\"\",VLOOKUP(B100&\"\",'Fichero de Jugadores'!$A$2:$I$4565,4,0))","v":""},{"$f":"IF(C100=\"\",\"\",VLOOKUP(A100&\"\",'Fichero de Jugadores'!$A$2:$I$4565,7,0))","v":{"$error":"#N/A"}},{"$f":"IF(C100=\"\",\"\",VLOOKUP(B100&\"\",'Fichero de Jugadores'!$A$2:$I$4565,7,0))","v":{"$error":"#N/A"}}]
[null,null,98,{"$f":"IF(A101=\"\",\"\",VLOOKUP(A101&\"\",'Fichero de Jugadores'!$A$2:$H$5000,2,0))","v":""},{"$f":"IF(B101=\"\",\"\",VLOOKUP(B101&\"\",'Fichero de Jugadores'!$A$2:$H$5000,2,0))","v":""},null,{"$f":"IF(A101=\"\",\"\",VLOOKUP(A101&\"\",'Fichero de Jugadores'!$A$2:$H$5000,3,0))","v":""},{"$f":"IF(B101=\"\",\"\",VLOOKUP(B101&\"\",'Fichero de Jugadores'!$A$2:$H$5000,3,0))","v":""},{"$error":"#N/A"},{"$f":"IF(A101=\"\",\"\",VLOOKUP(A101&\"\",'Fichero de Jugadores'!$A$2:$I$5000,6,0))","v":""},{"$f":"IF(B101=\"\",\"\",VLOOKUP(B101&\"\",'Fichero de Jugadores'!$A$2:$I$5000,6,0))","v":""},"",null,null,{"$f":"IF(A101=\"\",\"\",VLOOKUP(A101&\"\",'Fichero de Jugadores'!$A$2:$I$4565,4,0))","v":""},{"$f":"IF(B101=\"\",\"\",VLOOKUP(B101&\"\",'Fichero de Jugadores'!$A$2:$I$4565,4,0))","v":""},{"$f":"IF(C101=\"\",\"\",VLOOKUP(A101&\"\",'Fichero de Jugadores'!$A$2:$I$4565,7,0))","v":{"$error":"#N/A"}},{"$f":"IF(C101=\"\",\"\",VLOOKUP(B101&\"\",'Fichero de Jugadores'!$A$2:$I$4565,7,0))","v":{"$error":"#N/A"}}]
[null,null,99,{"$f":"IF(A102=\"\",\"\",VLOOKUP(A102&\"\",'Fichero de Jugadores'!$A$2:$H$5000,2,0))","v":""},{"$f":"IF(B102=\"\",\"\",VLOOKUP(B102&\"\",'Fichero de Jugadores'!$A$2:$H$5000,2,0))","v":""},null,{"$f":"IF(A102=\"\",\"\",VLOOKUP(A102&\"\",'Fichero de Jugadores'!$A$2:$H$5000,3,0))","v":""},{"$f":"IF(B102=\"\",\"\",VLOOKUP(B102&\"\",'Fichero de Jugadores'!$A$2:$H$5000,3,0))","v":""},{"$error":"#N/A"},{"$f":"IF(A102=\"\",\"\",VLOOKUP(A102&\"\",'Fichero de Jugadores'!$A$2:$I$5000,6,0))","v":""},{"$f":"IF(B102=\"\",\"\",VLOOKUP(B102&\"\",'Fichero de Jugadores'!$A$2:$I$5000,6,0))","v":""},"",null,null,{"$f":"IF(A102=\"\",\"\",VLOOKUP(A102&\"\",'Fichero de Jugadores'!$A$2:$I$4565,4,0))","v":""},{"$f":"IF(B102=\"\",\"\",VLOOKUP(B102&\"\",'Fichero de Jugadores'!$A$2:$I$4565,4,0))","v":""},{"$f":"IF(C102=\"\",\"\",VLOOKUP(A102&\"\",'Fichero de Jugadores'!$A$2:$I$4565,7,0))","v":{"$error":"#N/A"}},{"$f":"IF(C102=\"\",\"\",VLOOKUP(B102&\"\",'Fichero de Jugadores'!$A$2:$I$4565,7,0))","v":{"$error":"#N/A"}}]
[null,null,100,{"$f":"IF(A103=\"\",\"\",VLOOKUP(A103&\"\",'Fichero de Jugadores'!$A$2:$H$5000,2,0))","v":""},{"$f":"IF(B103=\"\",\"\",VLOOKUP(B103&\"\",'Fichero de Jugadores'!$A$2:$H$5000,2,0))","v":""},null,{"$f":"IF(A103=\"\",\"\",VLOOKUP(A103&\"\",'Fichero de Jugadores'!$A$2:$H$5000,3,0))","v":""},{"$f":"IF(B103=\"\",\"\",VLOOKUP(B103&\"\",'Fichero de Jugadores'!$A$2:$H$5000,3,0))","v":""},{"$error":"#N/A"},{"$f":"IF(A103=\"\",\"\",VLOOKUP(A103&\"\",'Fichero de Jugadores'!$A$2:$I$5000,6,0))","v":""},{"$f":"IF(B103=\"\",\"\",VLOOKUP(B103&\"\",'Fichero de Jugadores'!$A$2:$I$5000,6,0))","v":""},"",null,null,{"$f":"IF(A103=\"\",\"\",VLOOKUP(A103&\"\",'Fichero de Jugadores'!$A$2:$I$4565,4,0))","v":""},{"$f":"IF(B103=\"\",\"\",VLOOKUP(B103&\"\",'Fichero de Jugadores'!$A$2:$I$4565,4,0))","v":""},{"$f":"IF(C103=\"\",\"\",VLOOKUP(A103&\"\",'Fichero de Jugadores'!$A$2:$I$4565,7,0))","v":{"$error":"#N/A"}},{"$f":"IF(C103=\"\",\"\",VLOOKUP(B103&\"\",'Fichero de Jugadores'!$A$2:$I$4565,7,0))","v":{"$error":"#N/A"}}]
[null,null,101,{"$f":"IF(A104=\"\",\"\",VLOOKUP(A104&\"\",'Fichero de Jugadores'!$A$2:$H$5000,2,0))","v":""},{"$f":"IF(B104=\"\",\"\",VLOOKUP(B104&\"\",'Fichero de Jugadores'!$A$2:$H$5000,2,0))","v":""},null,{"$f":"IF(A104=\"\",\"\",VLOOKUP(A104&\"\",'Fichero de Jugadores'!$A$2:$H$5000,3,0))","v":""},{"$f":"IF(B104=\"\",\"\",VLOOKUP(B104&\"\",'Fichero de Jugadores'!$A$2:$H$5000,3,0))","v":""},{"$error":"#N/A"},{"$f":"IF(A104=\"\",\"\",VLOOKUP(A104&\"\",'Fichero de Jugadores'!$A$2:$I$5000,6,0))","v":""},{"$f":"IF(B104=\"\",\"\",VLOOKUP(B104&\"\",'Fichero de Jugadores'!$A$2:$I$5000,6,0))","v":""},"",null,null,{"$f":"IF(A104=\"\",\"\",VLOOKUP(A104&\"\",'Fichero de Jugadores'!$A$2:$I$4565,4,0))","v":""},{"$f":"IF(B104=\"\",\"\",VLOOKUP(B104&\"\",'Fichero de Jugadores'!$A$2:$I$4565,4,0))","v":""},{"$f":"IF(C104=\"\",\"\",VLOOKUP(A104&\"\",'Fichero de Jugadores'!$A$2:$I$4565,7,0))","v":{"$error":"#N/A"}},{"$f":"IF(C104=\"\",\"\",VLOOKUP(B104&\"\",'Fichero de Jugadores'!$A$2:$I$4565,7,0))","v":{"$error":"#N/A"}}]
[null,null,102,{"$f":"IF(A105=\"\",\"\",VLOOKUP(A105&\"\",'Fichero de Jugadores'!$A$2:$H$5000,2,0))","v":""},{"$f":"IF(B105=\"\",\"\",VLOOKUP(B105&\"\",'Fichero de Jugadores'!$A$2:$H$5000,2,0))","v":""},null,{"$f":"IF(A105=\"\",\"\",VLOOKUP(A105&\"\",'Fichero de Jugadores'!$A$2:$H$5000,3,0))","v":""},{"$f":"IF(B105=\"\",\"\",VLOOKUP(B105&\"\",'Fichero de Jugadores'!$A$2:$H$5000,3,0))","v":""},{"$error":"#N/A"},{"$f":"IF(A105=\"\",\"\",VLOOKUP(A105&\"\",'Fichero de Jugadores'!$A$2:$I$5000,6,0))","v":""},{"$f":"IF(B105=\"\",\"\",VLOOKUP(B105&\"\",'Fichero de Jugadores'!$A$2:$I$5000,6,0))","v":""},"",null,null,{"$f":"IF(A105=\"\",\"\",VLOOKUP(A105&\"\",'Fichero de Jugadores'!$A$2:$I$4565,4,0))","v":""},{"$f":"IF(B105=\"\",\"\",VLOOKUP(B105&\"\",'Fichero de Jugadores'!$A$2:$I$4565,4,0))","v":""},{"$f":"IF(C105=\"\",\"\",VLOOKUP(A105&\"\",'Fichero de Jugadores'!$A$2:$I$4565,7,0))","v":{"$error":"#N/A"}},{"$f":"IF(C105=\"\",\"\",VLOOKUP(B105&\"\",'Fichero de Jugadores'!$A$2:$I$4565,7,0))","v":{"$error":"#N/A"}}]
[null,null,103,{"$f":"IF(A106=\"\",\"\",VLOOKUP(A106&\"\",'Fichero de Jugadores'!$A$2:$H$5000,2,0))","v":""},{"$f":"IF(B106=\"\",\"\",VLOOKUP(B106&\"\",'Fichero de Jugadores'!$A$2:$H$5000,2,0))","v":""},null,{"$f":"IF(A106=\"\",\"\",VLOOKUP(A106&\"\",'Fichero de Jugadores'!$A$2:$H$5000,3,0))","v":""},{"$f":"IF(B106=\"\",\"\",VLOOKUP(B106&\"\",'Fichero de Jugadores'!$A$2:$H$5000,3,0))","v":""},{"$error":"#N/A"},{"$f":"IF(A106=\"\",\"\",VLOOKUP(A106&\"\",'Fichero de Jugadores'!$A$2:$I$5000,6,0))","v":""},{"$f":"IF(B106=\"\",\"\",VLOOKUP(B106&\"\",'Fichero de Jugadores'!$A$2:$I$5000,6,0))","v":""},"",null,null,{"$f":"IF(A106=\"\",\"\",VLOOKUP(A106&\"\",'Fichero de Jugadores'!$A$2:$I$4565,4,0))","v":""},{"$f":"IF(B106=\"\",\"\",VLOOKUP(B106&\"\",'Fichero de Jugadores'!$A$2:$I$4565,4,0))","v":""},{"$f":"IF(C106=\"\",\"\",VLOOKUP(A106&\"\",'Fichero de Jugadores'!$A$2:$I$4565,7,0))","v":{"$error":"#N/A"}},{"$f":"IF(C106=\"\",\"\",VLOOKUP(B106&\"\",'Fichero de Jugadores'!$A$2:$I$4565,7,0))","v":{"$error":"#N/A"}}]
[null,null,104,{"$f":"IF(A107=\"\",\"\",VLOOKUP(A107&\"\",'Fichero de Jugadores'!$A$2:$H$5000,2,0))","v":""},{"$f":"IF(B107=\"\",\"\",VLOOKUP(B107&\"\",'Fichero de Jugadores'!$A$2:$H$5000,2,0))","v":""},null,{"$f":"IF(A107=\"\",\"\",VLOOKUP(A107&\"\",'Fichero de Jugadores'!$A$2:$H$5000,3,0))","v":""},{"$f":"IF(B107=\"\",\"\",VLOOKUP(B107&\"\",'Fichero de Jugadores'!$A$2:$H$5000,3,0))","v":""},{"$error":"#N/A"},{"$f":"IF(A107=\"\",\"\",VLOOKUP(A107&\"\",'Fichero de Jugadores'!$A$2:$I$5000,6,0))","v":""},{"$f":"IF(B107=\"\",\"\",VLOOKUP(B107&\"\",'Fichero de Jugadores'!$A$2:$I$5000,6,0))","v":""},"",null,null,{"$f":"IF(A107=\"\",\"\",VLOOKUP(A107&\"\",'Fichero de Jugadores'!$A$2:$I$4565,4,0))","v":""},{"$f":"IF(B107=\"\",\"\",VLOOKUP(B107&\"\",'Fichero de Jugadores'!$A$2:$I$4565,4,0))","v":""},{"$f":"IF(C107=\"\",\"\",VLOOKUP(A107&\"\",'Fichero de Jugadores'!$A$2:$I$4565,7,0))","v":{"$error":"#N/A"}},{"$f":"IF(C107=\"\",\"\",VLOOKUP(B107&\"\",'Fichero de Jugadores'!$A$2:$I$4565,7,0))","v":{"$error":"#N/A"}}]
[null,null,105,{"$f":"IF(A108=\"\",\"\",VLOOKUP(A108&\"\",'Fichero de Jugadores'!$A$2:$H$5000,2,0))","v":""},{"$f":"IF(B108=\"\",\"\",VLOOKUP(B108&\"\",'Fichero de Jugadores'!$A$2:$H$5000,2,0))","v":""},null,{"$f":"IF(A108=\"\",\"\",VLOOKUP(A108&\"\",'Fichero de Jugadores'!$A$2:$H$5000,3,0))","v":""},{"$f":"IF(B108=\"\",\"\",VLOOKUP(B108&\"\",'Fichero de Jugadores'!$A$2:$H$5000,3,0))","v":""},{"$error":"#N/A"},{"$f":"IF(A108=\"\",\"\",VLOOKUP(A108&\"\",'Fichero de Jugadores'!$A$2:$I$5000,6,0))","v":""},{"$f":"IF(B108=\"\",\"\",VLOOKUP(B108&\"\",'Fichero de Jugadores'!$A$2:$I$5000,6,0))","v":""},"",null,null,{"$f":"IF(A108=\"\",\"\",VLOOKUP(A108&\"\",'Fichero de Jugadores'!$A$2:$I$4565,4,0))","v":""},{"$f":"IF(B108=\"\",\"\",VLOOKUP(B108&\"\",'Fichero de Jugadores'!$A$2:$I$4565,4,0))","v":""},{"$f":"IF(C108=\"\",\"\",VLOOKUP(A108&\"\",'Fichero de Jugadores'!$A$2:$I$4565,7,0))","v":{"$error":"#N/A"}},{"$f":"IF(C108=\"\",\"\",VLOOKUP(B108&\"\",'Fichero de Jugadores'!$A$2:$I$4565,7,0))","v":{"$error":"#N/A"}}]
[null,null,106,{"$f":"IF(A109=\"\",\"\",VLOOKUP(A109&\"\",'Fichero de Jugadores'!$A$2:$H$5000,2,0))","v":""},{"$f":"IF(B109=\"\",\"\",VLOOKUP(B109&\"\",'Fichero de Jugadores'!$A$2:$H$5000,2,0))","v":""},null,{"$f":"IF(A109=\"\",\"\",VLOOKUP(A109&\"\",'Fichero de Jugadores'!$A$2:$H$5000,3,0))","v":""},{"$f":"IF(B109=\"\",\"\",VLOOKUP(B109&\"\",'Fichero de Jugadores'!$A$2:$H$5000,3,0))","v":""},{"$error":"#N/A"},{"$f":"IF(A109=\"\",\"\",VLOOKUP(A109&\"\",'Fichero de Jugadores'!$A$2:$I$5000,6,0))","v":""},{"$f":"IF(B109=\"\",\"\",VLOOKUP(B109&\"\",'Fichero de Jugadores'!$A$2:$I$5000,6,0))","v":""},"",null,null,{"$f":"IF(A109=\"\",\"\",VLOOKUP(A109&\"\",'Fichero de Jugadores'!$A$2:$I$4565,4,0))","v":""},{"$f":"IF(B109=\"\",\"\",VLOOKUP(B109&\"\",'Fichero de Jugadores'!$A$2:$I$4565,4,0))","v":""},{"$f":"IF(C109=\"\",\"\",VLOOKUP(A109&\"\",'Fichero de Jugadores'!$A$2:$I$4565,7,0))","v":{"$error":"#N/A"}},{"$f":"IF(C109=\"\",\"\",VLOOKUP(B109&\"\",'Fichero de Jugadores'!$A$2:$I$4565,7,0))","v":{"$error":"#N/A"}}]
[null,null,107,{"$f":"IF(A110=\"\",\"\",VLOOKUP(A110&\"\",'Fichero de Jugadores'!$A$2:$H$5000,2,0))","v":""},{"$f":"IF(B110=\"\",\"\",VLOOKUP(B110&\"\",'Fichero de Jugadores'!$A$2:$H$5000,2,0))","v":""},null,{"$f":"IF(A110=\"\",\"\",VLOOKUP(A110&\"\",'Fichero de Jugadores'!$A$2:$H$5000,3,0))","v":""},{"$f":"IF(B110=\"\",\"\",VLOOKUP(B110&\"\",'Fichero de Jugadores'!$A$2:$H$5000,3,0))","v":""},{"$error":"#N/A"},{"$f":"IF(A110=\"\",\"\",VLOOKUP(A110&\"\",'Fichero de Jugadores'!$A$2:$I$5000,6,0))","v":""},{"$f":"IF(B110=\"\",\"\",VLOOKUP(B110&\"\",'Fichero de Jugadores'!$A$2:$I$5000,6,0))","v":""},"",null,null,{"$f":"IF(A110=\"\",\"\",VLOOKUP(A110&\"\",'Fichero de Jugadores'!$A$2:$I$4565,4,0))","v":""},{"$f":"IF(B110=\"\",\"\",VLOOKUP(B110&\"\",'Fichero de Jugadores'!$A$2:$I$4565,4,0))","v":""},{"$f":"IF(C110=\"\",\"\",VLOOKUP(A110&\"\",'Fichero de Jugadores'!$A$2:$I$4565,7,0))","v":{"$error":"#N/A"}},{"$f":"IF(C110=\"\",\"\",VLOOKUP(B110&\"\",'Fichero de Jugadores'!$A$2:$I$4565,7,0))","v":{"$error":"#N/A"}}]
[null,null,108,{"$f":"IF(A111=\"\",\"\",VLOOKUP(A111&\"\",'Fichero de Jugadores'!$A$2:$H$5000,2,0))","v":""},{"$f":"IF(B111=\"\",\"\",VLOOKUP(B111&\"\",'Fichero de Jugadores'!$A$2:$H$5000,2,0))","v":""},null,{"$f":"IF(A111=\"\",\"\",VLOOKUP(A111&\"\",'Fichero de Jugadores'!$A$2:$H$5000,3,0))","v":""},{"$f":"IF(B111=\"\",\"\",VLOOKUP(B111&\"\",'Fichero de Jugadores'!$A$2:$H$5000,3,0))","v":""},{"$error":"#N/A"},{"$f":"IF(A111=\"\",\"\",VLOOKUP(A111&\"\",'Fichero de Jugadores'!$A$2:$I$5000,6,0))","v":""},{"$f":"IF(B111=\"\",\"\",VLOOKUP(B111&\"\",'Fichero de Jugadores'!$A$2:$I$5000,6,0))","v":""},"",null,null,{"$f":"IF(A111=\"\",\"\",VLOOKUP(A111&\"\",'Fichero de Jugadores'!$A$2:$I$4565,4,0))","v":""},{"$f":"IF(B111=\"\",\"\",VLOOKUP(B111&\"\",'Fichero de Jugadores'!$A$2:$I$4565,4,0))","v":""},{"$f":"IF(C111=\"\",\"\",VLOOKUP(A111&\"\",'Fichero de Jugadores'!$A$2:$I$4565,7,0))","v":{"$error":"#N/A"}},{"$f":"IF(C111=\"\",\"\",VLOOKUP(B111&\"\",'Fichero de Jugadores'!$A$2:$I$4565,7,0))","v":{"$error":"#N/A"}}]
[null,null,109,{"$f":"IF(A112=\"\",\"\",VLOOKUP(A112&\"\",'Fichero de Jugadores'!$A$2:$H$5000,2,0))","v":""},{"$f":"IF(B112=\"\",\"\",VLOOKUP(B112&\"\",'Fichero de Jugadores'!$A$2:$H$5000,2,0))","v":""},null,{"$f":"IF(A112=\"\",\"\",VLOOKUP(A112&\"\",'Fichero de Jugadores'!$A$2:$H$5000,3,0))","v":""},{"$f":"IF(B112=\"\",\"\",VLOOKUP(B112&\"\",'Fichero de Jugadores'!$A$2:$H$5000,3,0))","v":""},{"$error":"#N/A"},{"$f":"IF(A112=\"\",\"\",VLOOKUP(A112&\"\",'Fichero de Jugadores'!$A$2:$I$5000,6,0))","v":""},{"$f":"IF(B112=\"\",\"\",VLOOKUP(B112&\"\",'Fichero de Jugadores'!$A$2:$I$5000,6,0))","v":""},"",null,null,{"$f":"IF(A112=\"\",\"\",VLOOKUP(A112&\"\",'Fichero de Jugadores'!$A$2:$I$4565,4,0))","v":""},{"$f":"IF(B112=\"\",\"\",VLOOKUP(B112&\"\",'Fichero de Jugadores'!$A$2:$I$4565,4,0))","v":""},{"$f":"IF(C112=\"\",\"\",VLOOKUP(A112&\"\",'Fichero de Jugadores'!$A$2:$I$4565,7,0))","v":{"$error":"#N/A"}},{"$f":"IF(C112=\"\",\"\",VLOOKUP(B112&\"\",'Fichero de Jugadores'!$A$2:$I$4565,7,0))","v":{"$error":"#N/A"}}]
[null,null,110,{"$f":"IF(A113=\"\",\"\",VLOOKUP(A113&\"\",'Fichero de Jugadores'!$A$2:$H$5000,2,0))","v":""},{"$f":"IF(B113=\"\",\"\",VLOOKUP(B113&\"\",'Fichero de Jugadores'!$A$2:$H$5000,2,0))","v":""},null,{"$f":"IF(A113=\"\",\"\",VLOOKUP(A113&\"\",'Fichero de Jugadores'!$A$2:$H$5000,3,0))","v":""},{"$f":"IF(B113=\"\",\"\",VLOOKUP(B113&\"\",'Fichero de Jugadores'!$A$2:$H$5000,3,0))","v":""},{"$error":"#N/A"},{"$f":"IF(A113=\"\",\"\",VLOOKUP(A113&\"\",'Fichero de Jugadores'!$A$2:$I$5000,6,0))","v":""},{"$f":"IF(B113=\"\",\"\",VLOOKUP(B113&\"\",'Fichero de Jugadores'!$A$2:$I$5000,6,0))","v":""},"",null,null,{"$f":"IF(A113=\"\",\"\",VLOOKUP(A113&\"\",'Fichero de Jugadores'!$A$2:$I$4565,4,0))","v":""},{"$f":"IF(B113=\"\",\"\",VLOOKUP(B113&\"\",'Fichero de Jugadores'!$A$2:$I$4565,4,0))","v":""},{"$f":"IF(C113=\"\",\"\",VLOOKUP(A113&\"\",'Fichero de Jugadores'!$A$2:$I$4565,7,0))","v":{"$error":"#N/A"}},{"$f":"IF(C113=\"\",\"\",VLOOKUP(B113&\"\",'Fichero de Jugadores'!$A$2:$I$4565,7,0))","v":{"$error":"#N/A"}}]
[null,null,111,{"$f":"IF(A114=\"\",\"\",VLOOKUP(A114&\"\",'Fichero de Jugadores'!$A$2:$H$5000,2,0))","v":""},{"$f":"IF(B114=\"\",\"\",VLOOKUP(B114&\"\",'Fichero de Jugadores'!$A$2:$H$5000,2,0))","v":""},null,{"$f":"IF(A114=\"\",\"\",VLOOKUP(A114&\"\",'Fichero de Jugadores'!$A$2:$H$5000,3,0))","v":""},{"$f":"IF(B114=\"\",\"\",VLOOKUP(B114&\"\",'Fichero de Jugadores'!$A$2:$H$5000,3,0))","v":""},{"$error":"#N/A"},{"$f":"IF(A114=\"\",\"\",VLOOKUP(A114&\"\",'Fichero de Jugadores'!$A$2:$I$5000,6,0))","v":""},{"$f":"IF(B114=\"\",\"\",VLOOKUP(B114&\"\",'Fichero de Jugadores'!$A$2:$I$5000,6,0))","v":""},"",null,null,{"$f":"IF(A114=\"\",\"\",VLOOKUP(A114&\"\",'Fichero de Jugadores'!$A$2:$I$4565,4,0))","v":""},{"$f":"IF(B114=\"\",\"\",VLOOKUP(B114&\"\",'Fichero de Jugadores'!$A$2:$I$4565,4,0))","v":""},{"$f":"IF(C114=\"\",\"\",VLOOKUP(A114&\"\",'Fichero de Jugadores'!$A$2:$I$4565,7,0))","v":{"$error":"#N/A"}},{"$f":"IF(C114=\"\",\"\",VLOOKUP(B114&\"\",'Fichero de Jugadores'!$A$2:$I$4565,7,0))","v":{"$error":"#N/A"}}]
[null,null,112,{"$f":"IF(A115=\"\",\"\",VLOOKUP(A115&\"\",'Fichero de Jugadores'!$A$2:$H$5000,2,0))","v":""},{"$f":"IF(B115=\"\",\"\",VLOOKUP(B115&\"\",'Fichero de Jugadores'!$A$2:$H$5000,2,0))","v":""},null,{"$f":"IF(A115=\"\",\"\",VLOOKUP(A115&\"\",'Fichero de Jugadores'!$A$2:$H$5000,3,0))","v":""},{"$f":"IF(B115=\"\",\"\",VLOOKUP(B115&\"\",'Fichero de Jugadores'!$A$2:$H$5000,3,0))","v":""},{"$error":"#N/A"},{"$f":"IF(A115=\"\",\"\",VLOOKUP(A115&\"\",'Fichero de Jugadores'!$A$2:$I$5000,6,0))","v":""},{"$f":"IF(B115=\"\",\"\",VLOOKUP(B115&\"\",'Fichero de Jugadores'!$A$2:$I$5000,6,0))","v":""},"",null,null,{"$f":"IF(A115=\"\",\"\",VLOOKUP(A115&\"\",'Fichero de Jugadores'!$A$2:$I$4565,4,0))","v":""},{"$f":"IF(B115=\"\",\"\",VLOOKUP(B115&\"\",'Fichero de Jugadores'!$A$2:$I$4565,4,0))","v":""},{"$f":"IF(C115=\"\",\"\",VLOOKUP(A115&\"\",'Fichero de Jugadores'!$A$2:$I$4565,7,0))","v":{"$error":"#N/A"}},{"$f":"IF(C115=\"\",\"\",VLOOKUP(B115&\"\",'Fichero de Jugadores'!$A$2:$I$4565,7,0))","v":{"$error":"#N/A"}}]
[null,null,113,{"$f":"IF(A116=\"\",\"\",VLOOKUP(A116&\"\",'Fichero de Jugadores'!$A$2:$H$5000,2,0))","v":""},{"$f":"IF(B116=\"\",\"\",VLOOKUP(B116&\"\",'Fichero de Jugadores'!$A$2:$H$5000,2,0))","v":""},null,{"$f":"IF(A116=\"\",\"\",VLOOKUP(A116&\"\",'Fichero de Jugadores'!$A$2:$H$5000,3,0))","v":""},{"$f":"IF(B116=\"\",\"\",VLOOKUP(B116&\"\",'Fichero de Jugadores'!$A$2:$H$5000,3,0))","v":""},{"$error":"#N/A"},{"$f":"IF(A116=\"\",\"\",VLOOKUP(A116&\"\",'Fichero de Jugadores'!$A$2:$I$5000,6,0))","v":""},{"$f":"IF(B116=\"\",\"\",VLOOKUP(B116&\"\",'Fichero de Jugadores'!$A$2:$I$5000,6,0))","v":""},"",null,null,{"$f":"IF(A116=\"\",\"\",VLOOKUP(A116&\"\",'Fichero de Jugadores'!$A$2:$I$4565,4,0))","v":""},{"$f":"IF(B116=\"\",\"\",VLOOKUP(B116&\"\",'Fichero de Jugadores'!$A$2:$I$4565,4,0))","v":""},{"$f":"IF(C116=\"\",\"\",VLOOKUP(A116&\"\",'Fichero de Jugadores'!$A$2:$I$4565,7,0))","v":{"$error":"#N/A"}},{"$f":"IF(C116=\"\",\"\",VLOOKUP(B116&\"\",'Fichero de Jugadores'!$A$2:$I$4565,7,0))","v":{"$error":"#N/A"}}]
[null,null,114,{"$f":"IF(A117=\"\",\"\",VLOOKUP(A117&\"\",'Fichero de Jugadores'!$A$2:$H$5000,2,0))","v":""},{"$f":"IF(B117=\"\",\"\",VLOOKUP(B117&\"\",'Fichero de Jugadores'!$A$2:$H$5000,2,0))","v":""},null,{"$f":"IF(A117=\"\",\"\",VLOOKUP(A117&\"\",'Fichero de Jugadores'!$A$2:$H$5000,3,0))","v":""},{"$f":"IF(B117=\"\",\"\",VLOOKUP(B117&\"\",'Fichero de Jugadores'!$A$2:$H$5000,3,0))","v":""},{"$error":"#N/A"},{"$f":"IF(A117=\"\",\"\",VLOOKUP(A117&\"\",'Fichero de Jugadores'!$A$2:$I$5000,6,0))","v":""},{"$f":"IF(B117=\"\",\"\",VLOOKUP(B117&\"\",'Fichero de Jugadores'!$A$2:$I$5000,6,0))","v":""},"",null,null,{"$f":"IF(A117=\"\",\"\",VLOOKUP(A117&\"\",'Fichero de Jugadores'!$A$2:$I$4565,4,0))","v":""},{"$f":"IF(B117=\"\",\"\",VLOOKUP(B117&\"\",'Fichero de Jugadores'!$A$2:$I$4565,4,0))","v":""},{"$f":"IF(C117=\"\",\"\",VLOOKUP(A117&\"\",'Fichero de Jugadores'!$A$2:$I$4565,7,0))","v":{"$error":"#N/A"}},{"$f":"IF(C117=\"\",\"\",VLOOKUP(B117&\"\",'Fichero de Jugadores'!$A$2:$I$4565,7,0))","v":{"$error":"#N/A"}}]
[null,null,115,{"$f":"IF(A118=\"\",\"\",VLOOKUP(A118&\"\",'Fichero de Jugadores'!$A$2:$H$5000,2,0))","v":""},{"$f":"IF(B118=\"\",\"\",VLOOKUP(B118&\"\",'Fichero de Jugadores'!$A$2:$H$5000,2,0))","v":""},null,{"$f":"IF(A118=\"\",\"\",VLOOKUP(A118&\"\",'Fichero de Jugadores'!$A$2:$H$5000,3,0))","v":""},{"$f":"IF(B118=\"\",\"\",VLOOKUP(B118&\"\",'Fichero de Jugadores'!$A$2:$H$5000,3,0))","v":""},{"$error":"#N/A"},{"$f":"IF(A118=\"\",\"\",VLOOKUP(A118&\"\",'Fichero de Jugadores'!$A$2:$I$5000,6,0))","v":""},{"$f":"IF(B118=\"\",\"\",VLOOKUP(B118&\"\",'Fichero de Jugadores'!$A$2:$I$5000,6,0))","v":""},"",null,null,{"$f":"IF(A118=\"\",\"\",VLOOKUP(A118&\"\",'Fichero de Jugadores'!$A$2:$I$4565,4,0))","v":""},{"$f":"IF(B118=\"\",\"\",VLOOKUP(B118&\"\",'Fichero de Jugadores'!$A$2:$I$4565,4,0))","v":""},{"$f":"IF(C118=\"\",\"\",VLOOKUP(A118&\"\",'Fichero de Jugadores'!$A$2:$I$4565,7,0))","v":{"$error":"#N/A"}},{"$f":"IF(C118=\"\",\"\",VLOOKUP(B118&\"\",'Fichero de Jugadores'!$A$2:$I$4565,7,0))","v":{"$error":"#N/A"}}]
[null,null,116,{"$f":"IF(A119=\"\",\"\",VLOOKUP(A119&\"\",'Fichero de Jugadores'!$A$2:$H$5000,2,0))","v":""},{"$f":"IF(B119=\"\",\"\",VLOOKUP(B119&\"\",'Fichero de Jugadores'!$A$2:$H$5000,2,0))","v":""},null,{"$f":"IF(A119=\"\",\"\",VLOOKUP(A119&\"\",'Fichero de Jugadores'!$A$2:$H$5000,3,0))","v":""},{"$f":"IF(B119=\"\",\"\",VLOOKUP(B119&\"\",'Fichero de Jugadores'!$A$2:$H$5000,3,0))","v":""},{"$error":"#N/A"},{"$f":"IF(A119=\"\",\"\",VLOOKUP(A119&\"\",'Fichero de Jugadores'!$A$2:$I$5000,6,0))","v":""},{"$f":"IF(B119=\"\",\"\",VLOOKUP(B119&\"\",'Fichero de Jugadores'!$A$2:$I$5000,6,0))","v":""},"",null,null,{"$f":"IF(A119=\"\",\"\",VLOOKUP(A119&\"\",'Fichero de Jugadores'!$A$2:$I$4565,4,0))","v":""},{"$f":"IF(B119=\"\",\"\",VLOOKUP(B119&\"\",'Fichero de Jugadores'!$A$2:$I$4565,4,0))","v":""},{"$f":"IF(C119=\"\",\"\",VLOOKUP(A119&\"\",'Fichero de Jugadores'!$A$2:$I$4565,7,0))","v":{"$error":"#N/A"}},{"$f":"IF(C119=\"\",\"\",VLOOKUP(B119&\"\",'Fichero de Jugadores'!$A$2:$I$4565,7,0))","v":{"$error":"#N/A"}}]
[null,null,117,{"$f":"IF(A120=\"\",\"\",VLOOKUP(A120&\"\",'Fichero de Jugadores'!$A$2:$H$5000,2,0))","v":""},{"$f":"IF(B120=\"\",\"\",VLOOKUP(B120&\"\",'Fichero de Jugadores'!$A$2:$H$5000,2,0))","v":""},null,{"$f":"IF(A120=\"\",\"\",VLOOKUP(A120&\"\",'Fichero de Jugadores'!$A$2:$H$5000,3,0))","v":""},{"$f":"IF(B120=\"\",\"\",VLOOKUP(B120&\"\",'Fichero de Jugadores'!$A$2:$H$5000,3,0))","v":""},{"$error":"#N/A"},{"$f":"IF(A120=\"\",\"\",VLOOKUP(A120&\"\",'Fichero de Jugadores'!$A$2:$I$5000,6,0))","v":""},{"$f":"IF(B120=\"\",\"\",VLOOKUP(B120&\"\",'Fichero de Jugadores'!$A$2:$I$5000,6,0))","v":""},"",null,null,{"$f":"IF(A120=\"\",\"\",VLOOKUP(A120&\"\",'Fichero de Jugadores'!$A$2:$I$4565,4,0))","v":""},{"$f":"IF(B120=\"\",\"\",VLOOKUP(B120&\"\",'Fichero de Jugadores'!$A$2:$I$4565,4,0))","v":""},{"$f":"IF(C120=\"\",\"\",VLOOKUP(A120&\"\",'Fichero de Jugadores'!$A$2:$I$4565,7,0))","v":{"$error":"#N/A"}},{"$f":"IF(C120=\"\",\"\",VLOOKUP(B120&\"\",'Fichero de Jugadores'!$A$2:$I$4565,7,0))","v":{"$error":"#N/A"}}]
[null,null,118,{"$f":"IF(A121=\"\",\"\",VLOOKUP(A121&\"\",'Fichero de Jugadores'!$A$2:$H$5000,2,0))","v":""},{"$f":"IF(B121=\"\",\"\",VLOOKUP(B121&\"\",'Fichero de Jugadores'!$A$2:$H$5000,2,0))","v":""},null,{"$f":"IF(A121=\"\",\"\",VLOOKUP(A121&\"\",'Fichero de Jugadores'!$A$2:$H$5000,3,0))","v":""},{"$f":"IF(B121=\"\",\"\",VLOOKUP(B121&\"\",'Fichero de Jugadores'!$A$2:$H$5000,3,0))","v":""},{"$error":"#N/A"},{"$f":"IF(A121=\"\",\"\",VLOOKUP(A121&\"\",'Fichero de Jugadores'!$A$2:$I$5000,6,0))","v":""},{"$f":"IF(B121=\"\",\"\",VLOOKUP(B121&\"\",'Fichero de Jugadores'!$A$2:$I$5000,6,0))","v":""},"",null,null,{"$f":"IF(A121=\"\",\"\",VLOOKUP(A121&\"\",'Fichero de Jugadores'!$A$2:$I$4565,4,0))","v":""},{"$f":"IF(B121=\"\",\"\",VLOOKUP(B121&\"\",'Fichero de Jugadores'!$A$2:$I$4565,4,0))","v":""},{"$f":"IF(C121=\"\",\"\",VLOOKUP(A121&\"\",'Fichero de Jugadores'!$A$2:$I$4565,7,0))","v":{"$error":"#N/A"}},{"$f":"IF(C121=\"\",\"\",VLOOKUP(B121&\"\",'Fichero de Jugadores'!$A$2:$I$4565,7,0))","v":{"$error":"#N/A"}}]
[null,null,119,{"$f":"IF(A122=\"\",\"\",VLOOKUP(A122&\"\",'Fichero de Jugadores'!$A$2:$H$5000,2,0))","v":""},{"$f":"IF(B122=\"\",\"\",VLOOKUP(B122&\"\",'Fichero de Jugadores'!$A$2:$H$5000,2,0))","v":""},null,{"$f":"IF(A122=\"\",\"\",VLOOKUP(A122&\"\",'Fichero de Jugadores'!$A$2:$H$5000,3,0))","v":""},{"$f":"IF(B122=\"\",\"\",VLOOKUP(B122&\"\",'Fichero de Jugadores'!$A$2:$H$5000,3,0))","v":""},{"$error":"#N/A"},{"$f":"IF(A122=\"\",\"\",VLOOKUP(A122&\"\",'Fichero de Jugadores'!$A$2:$I$5000,6,0))","v":""},{"$f":"IF(B122=\"\",\"\",VLOOKUP(B122&\"\",'Fichero de Jugadores'!$A$2:$I$5000,6,0))","v":""},"",null,null,{"$f":"IF(A122=\"\",\"\",VLOOKUP(A122&\"\",'Fichero de Jugadores'!$A$2:$I$4565,4,0))","v":""},{"$f":"IF(B122=\"\",\"\",VLOOKUP(B122&\"\",'Fichero de Jugadores'!$A$2:$I$4565,4,0))","v":""},{"$f":"IF(C122=\"\",\"\",VLOOKUP(A122&\"\",'Fichero de Jugadores'!$A$2:$I$4565,7,0))","v":{"$error":"#N/A"}},{"$f":"IF(C122=\"\",\"\",VLOOKUP(B122&\"\",'Fichero de Jugadores'!$A$2:$I$4565,7,0))","v":{"$error":"#N/A"}}]
[null,null,120,{"$f":"IF(A123=\"\",\"\",VLOOKUP(A123&\"\",'Fichero de Jugadores'!$A$2:$H$5000,2,0))","v":""},{"$f":"IF(B123=\"\",\"\",VLOOKUP(B123&\"\",'Fichero de Jugadores'!$A$2:$H$5000,2,0))","v":""},null,{"$f":"IF(A123=\"\",\"\",VLOOKUP(A123&\"\",'Fichero de Jugadores'!$A$2:$H$5000,3,0))","v":""},{"$f":"IF(B123=\"\",\"\",VLOOKUP(B123&\"\",'Fichero de Jugadores'!$A$2:$H$5000,3,0))","v":""},{"$error":"#N/A"},{"$f":"IF(A123=\"\",\"\",VLOOKUP(A123&\"\",'Fichero de Jugadores'!$A$2:$I$5000,6,0))","v":""},{"$f":"IF(B123=\"\",\"\",VLOOKUP(B123&\"\",'Fichero de Jugadores'!$A$2:$I$5000,6,0))","v":""},"",null,null,{"$f":"IF(A123=\"\",\"\",VLOOKUP(A123&\"\",'Fichero de Jugadores'!$A$2:$I$4565,4,0))","v":""},{"$f":"IF(B123=\"\",\"\",VLOOKUP(B123&\"\",'Fichero de Jugadores'!$A$2:$I$4565,4,0))","v":""},{"$f":"IF(C123=\"\",\"\",VLOOKUP(A123&\"\",'Fichero de Jugadores'!$A$2:$I$4565,7,0))","v":{"$error":"#N/A"}},{"$f":"IF(C123=\"\",\"\",VLOOKUP(B123&\"\",'Fichero de Jugadores'!$A$2:$I$4565,7,0))","v":{"$error":"#N/A"}}]
[null,null,121,{"$f":"IF(A124=\"\",\"\",VLOOKUP(A124&\"\",'Fichero de Jugadores'!$A$2:$H$5000,2,0))","v":""},{"$f":"IF(B124=\"\",\"\",VLOOKUP(B124&\"\",'Fichero de Jugadores'!$A$2:$H$5000,2,0))","v":""},null,{"$f":"IF(A124=\"\",\"\",VLOOKUP(A124&\"\",'Fichero de Jugadores'!$A$2:$H$5000,3,0))","v":""},{"$f":"IF(B124=\"\",\"\",VLOOKUP(B124&\"\",'Fichero de Jugadores'!$A$2:$H$5000,3,0))","v":""},{"$error":"#N/A"},{"$f":"IF(A124=\"\",\"\",VLOOKUP(A124&\"\",'Fichero de Jugadores'!$A$2:$I$5000,6,0))","v":""},{"$f":"IF(B124=\"\",\"\",VLOOKUP(B124&\"\",'Fichero de Jugadores'!$A$2:$I$5000,6,0))","v":""},"",null,null,{"$f":"IF(A124=\"\",\"\",VLOOKUP(A124&\"\",'Fichero de Jugadores'!$A$2:$I$4565,4,0))","v":""},{"$f":"IF(B124=\"\",\"\",VLOOKUP(B124&\"\",'Fichero de Jugadores'!$A$2:$I$4565,4,0))","v":""},{"$f":"IF(C124=\"\",\"\",VLOOKUP(A124&\"\",'Fichero de Jugadores'!$A$2:$I$4565,7,0))","v":{"$error":"#N/A"}},{"$f":"IF(C124=\"\",\"\",VLOOKUP(B124&\"\",'Fichero de Jugadores'!$A$2:$I$4565,7,0))","v":{"$error":"#N/A"}}]
[null,null,122,{"$f":"IF(A125=\"\",\"\",VLOOKUP(A125&\"\",'Fichero de Jugadores'!$A$2:$H$5000,2,0))","v":""},{"$f":"IF(B125=\"\",\"\",VLOOKUP(B125&\"\",'Fichero de Jugadores'!$A$2:$H$5000,2,0))","v":""},null,{"$f":"IF(A125=\"\",\"\",VLOOKUP(A125&\"\",'Fichero de Jugadores'!$A$2:$H$5000,3,0))","v":""},{"$f":"IF(B125=\"\",\"\",VLOOKUP(B125&\"\",'Fichero de Jugadores'!$A$2:$H$5000,3,0))","v":""},{"$error":"#N/A"},{"$f":"IF(A125=\"\",\"\",VLOOKUP(A125&\"\",'Fichero de Jugadores'!$A$2:$I$5000,6,0))","v":""},{"$f":"IF(B125=\"\",\"\",VLOOKUP(B125&\"\",'Fichero de Jugadores'!$A$2:$I$5000,6,0))","v":""},"",null,null,{"$f":"IF(A125=\"\",\"\",VLOOKUP(A125&\"\",'Fichero de Jugadores'!$A$2:$I$4565,4,0))","v":""},{"$f":"IF(B125=\"\",\"\",VLOOKUP(B125&\"\",'Fichero de Jugadores'!$A$2:$I$4565,4,0))","v":""},{"$f":"IF(C125=\"\",\"\",VLOOKUP(A125&\"\",'Fichero de Jugadores'!$A$2:$I$4565,7,0))","v":{"$error":"#N/A"}},{"$f":"IF(C125=\"\",\"\",VLOOKUP(B125&\"\",'Fichero de Jugadores'!$A$2:$I$4565,7,0))","v":{"$error":"#N/A"}}]
[null,null,123,{"$f":"IF(A126=\"\",\"\",VLOOKUP(A126&\"\",'Fichero de Jugadores'!$A$2:$H$5000,2,0))","v":""},{"$f":"IF(B126=\"\",\"\",VLOOKUP(B126&\"\",'Fichero de Jugadores'!$A$2:$H$5000,2,0))","v":""},null,{"$f":"IF(A126=\"\",\"\",VLOOKUP(A126&\"\",'Fichero de Jugadores'!$A$2:$H$5000,3,0))","v":""},{"$f":"IF(B126=\"\",\"\",VLOOKUP(B126&\"\",'Fichero de Jugadores'!$A$2:$H$5000,3,0))","v":""},{"$error":"#N/A"},{"$f":"IF(A126=\"\",\"\",VLOOKUP(A126&\"\",'Fichero de Jugadores'!$A$2:$I$5000,6,0))","v":""},{"$f":"IF(B126=\"\",\"\",VLOOKUP(B126&\"\",'Fichero de Jugadores'!$A$2:$I$5000,6,0))","v":""},"",null,null,{"$f":"IF(A126=\"\",\"\",VLOOKUP(A126&\"\",'Fichero de Jugadores'!$A$2:$I$4565,4,0))","v":""},{"$f":"IF(B126=\"\",\"\",VLOOKUP(B126&\"\",'Fichero de Jugadores'!$A$2:$I$4565,4,0))","v":""},{"$f":"IF(C126=\"\",\"\",VLOOKUP(A126&\"\",'Fichero de Jugadores'!$A$2:$I$4565,7,0))","v":{"$error":"#N/A"}},{"$f":"IF(C126=\"\",\"\",VLOOKUP(B126&\"\",'Fichero de Jugadores'!$A$2:$I$4565,7,0))","v":{"$error":"#N/A"}}]
[null,null,124,{"$f":"IF(A127=\"\",\"\",VLOOKUP(A127&\"\",'Fichero de Jugadores'!$A$2:$H$5000,2,0))","v":""},{"$f":"IF(B127=\"\",\"\",VLOOKUP(B127&\"\",'Fichero de Jugadores'!$A$2:$H$5000,2,0))","v":""},null,{"$f":"IF(A127=\"\",\"\",VLOOKUP(A127&\"\",'Fichero de Jugadores'!$A$2:$H$5000,3,0))","v":""},{"$f":"IF(B127=\"\",\"\",VLOOKUP(B127&\"\",'Fichero de Jugadores'!$A$2:$H$5000,3,0))","v":""},{"$error":"#N/A"},{"$f":"IF(A127=\"\",\"\",VLOOKUP(A127&\"\",'Fichero de Jugadores'!$A$2:$I$5000,6,0))","v":""},{"$f":"IF(B127=\"\",\"\",VLOOKUP(B127&\"\",'Fichero de Jugadores'!$A$2:$I$5000,6,0))","v":""},"",null,null,{"$f":"IF(A127=\"\",\"\",VLOOKUP(A127&\"\",'Fichero de Jugadores'!$A$2:$I$4565,4,0))","v":""},{"$f":"IF(B127=\"\",\"\",VLOOKUP(B127&\"\",'Fichero de Jugadores'!$A$2:$I$4565,4,0))","v":""},{"$f":"IF(C127=\"\",\"\",VLOOKUP(A127&\"\",'Fichero de Jugadores'!$A$2:$I$4565,7,0))","v":{"$error":"#N/A"}},{"$f":"IF(C127=\"\",\"\",VLOOKUP(B127&\"\",'Fichero de Jugadores'!$A$2:$I$4565,7,0))","v":{"$error":"#N/A"}}]
[null,null,125,{"$f":"IF(A128=\"\",\"\",VLOOKUP(A128&\"\",'Fichero de Jugadores'!$A$2:$H$5000,2,0))","v":""},{"$f":"IF(B128=\"\",\"\",VLOOKUP(B128&\"\",'Fichero de Jugadores'!$A$2:$H$5000,2,0))","v":""},null,{"$f":"IF(A128=\"\",\"\",VLOOKUP(A128&\"\",'Fichero de Jugadores'!$A$2:$H$5000,3,0))","v":""},{"$f":"IF(B128=\"\",\"\",VLOOKUP(B128&\"\",'Fichero de Jugadores'!$A$2:$H$5000,3,0))","v":""},{"$error":"#N/A"},{"$f":"IF(A128=\"\",\"\",VLOOKUP(A128&\"\",'Fichero de Jugadores'!$A$2:$I$5000,6,0))","v":""},{"$f":"IF(B128=\"\",\"\",VLOOKUP(B128&\"\",'Fichero de Jugadores'!$A$2:$I$5000,6,0))","v":""},"",null,null,{"$f":"IF(A128=\"\",\"\",VLOOKUP(A128&\"\",'Fichero de Jugadores'!$A$2:$I$4565,4,0))","v":""},{"$f":"IF(B128=\"\",\"\",VLOOKUP(B128&\"\",'Fichero de Jugadores'!$A$2:$I$4565,4,0))","v":""},{"$f":"IF(C128=\"\",\"\",VLOOKUP(A128&\"\",'Fichero de Jugadores'!$A$2:$I$4565,7,0))","v":{"$error":"#N/A"}},{"$f":"IF(C128=\"\",\"\",VLOOKUP(B128&\"\",'Fichero de Jugadores'!$A$2:$I$4565,7,0))","v":{"$error":"#N/A"}}]
[null,null,126,{"$f":"IF(A129=\"\",\"\",VLOOKUP(A129&\"\",'Fichero de Jugadores'!$A$2:$H$5000,2,0))","v":""},{"$f":"IF(B129=\"\",\"\",VLOOKUP(B129&\"\",'Fichero de Jugadores'!$A$2:$H$5000,2,0))","v":""},null,{"$f":"IF(A129=\"\",\"\",VLOOKUP(A129&\"\",'Fichero de Jugadores'!$A$2:$H$5000,3,0))","v":""},{"$f":"IF(B129=\"\",\"\",VLOOKUP(B129&\"\",'Fichero de Jugadores'!$A$2:$H$5000,3,0))","v":""},{"$error":"#N/A"},{"$f":"IF(A129=\"\",\"\",VLOOKUP(A129&\"\",'Fichero de Jugadores'!$A$2:$I$5000,6,0))","v":""},{"$f":"IF(B129=\"\",\"\",VLOOKUP(B129&\"\",'Fichero de Jugadores'!$A$2:$I$5000,6,0))","v":""},"",null,null,{"$f":"IF(A129=\"\",\"\",VLOOKUP(A129&\"\",'Fichero de Jugadores'!$A$2:$I$4565,4,0))","v":""},{"$f":"IF(B129=\"\",\"\",VLOOKUP(B129&\"\",'Fichero de Jugadores'!$A$2:$I$4565,4,0))","v":""},{"$f":"IF(C129=\"\",\"\",VLOOKUP(A129&\"\",'Fichero de Jugadores'!$A$2:$I$4565,7,0))","v":{"$error":"#N/A"}},{"$f":"IF(C129=\"\",\"\",VLOOKUP(B129&\"\",'Fichero de Jugadores'!$A$2:$I$4565,7,0))","v":{"$error":"#N/A"}}]
[null,null,127,{"$f":"IF(A130=\"\",\"\",VLOOKUP(A130&\"\",'Fichero de Jugadores'!$A$2:$H$5000,2,0))","v":""},{"$f":"IF(B130=\"\",\"\",VLOOKUP(B130&\"\",'Fichero de Jugadores'!$A$2:$H$5000,2,0))","v":""},null,{"$f":"IF(A130=\"\",\"\",VLOOKUP(A130&\"\",'Fichero de Jugadores'!$A$2:$H$5000,3,0))","v":""},{"$f":"IF(B130=\"\",\"\",VLOOKUP(B130&\"\",'Fichero de Jugadores'!$A$2:$H$5000,3,0))","v":""},{"$error":"#N/A"},{"$f":"IF(A130=\"\",\"\",VLOOKUP(A130&\"\",'Fichero de Jugadores'!$A$2:$I$5000,6,0))","v":""},{"$f":"IF(B130=\"\",\"\",VLOOKUP(B130&\"\",'Fichero de Jugadores'!$A$2:$I$5000,6,0))","v":""},"",null,null,{"$f":"IF(A130=\"\",\"\",VLOOKUP(A130&\"\",'Fichero de Jugadores'!$A$2:$I$4565,4,0))","v":""},{"$f":"IF(B130=\"\",\"\",VLOOKUP(B130&\"\",'Fichero de Jugadores'!$A$2:$I$4565,4,0))","v":""},{"$f":"IF(C130=\"\",\"\",VLOOKUP(A130&\"\",'Fichero de Jugadores'!$A$2:$I$4565,7,0))","v":{"$error":"#N/A"}},{"$f":"IF(C130=\"\",\"\",VLOOKUP(B130&\"\",'Fichero de Jugadores'!$A$2:$I$4565,7,0))","v":{"$error":"#N/A"}}]
[null,null,128,{"$f":"IF(A131=\"\",\"\",VLOOKUP(A131&\"\",'Fichero de Jugadores'!$A$2:$H$5000,2,0))","v":""},{"$f":"IF(B131=\"\",\"\",VLOOKUP(B131&\"\",'Fichero de Jugadores'!$A$2:$H$5000,2,0))","v":""},null,{"$f":"IF(A131=\"\",\"\",VLOOKUP(A131&\"\",'Fichero de Jugadores'!$A$2:$H$5000,3,0))","v":""},{"$f":"IF(B131=\"\",\"\",VLOOKUP(B131&\"\",'Fichero de Jugadores'!$A$2:$H$5000,3,0))","v":""},{"$error":"#N/A"},{"$f":"IF(A131=\"\",\"\",VLOOKUP(A131&\"\",'Fichero de Jugadores'!$A$2:$I$5000,6,0))","v":""},{"$f":"IF(B131=\"\",\"\",VLOOKUP(B131&\"\",'Fichero de Jugadores'!$A$2:$I$5000,6,0))","v":""},"",null,null,{"$f":"IF(A131=\"\",\"\",VLOOKUP(A131&\"\",'Fichero de Jugadores'!$A$2:$I$4565,4,0))","v":""},{"$f":"IF(B131=\"\",\"\",VLOOKUP(B131&\"\",'Fichero de Jugadores'!$A$2:$I$4565,4,0))","v":""},{"$f":"IF(C131=\"\",\"\",VLOOKUP(A131&\"\",'Fichero de Jugadores'!$A$2:$I$4565,7,0))","v":{"$error":"#N/A"}},{"$f":"IF(C131=\"\",\"\",VLOOKUP(B131&\"\",'Fichero de Jugadores'!$A$2:$I$4565,7,0))","v":{"$error":"#N/A"}}]
[null,null,129,{"$f":"IF(A132=\"\",\"\",VLOOKUP(A132&\"\",'Fichero de Jugadores'!$A$2:$H$5000,2,0))","v":""},{"$f":"IF(B132=\"\",\"\",VLOOKUP(B132&\"\",'Fichero de Jugadores'!$A$2:$H$5000,2,0))","v":""},null,{"$f":"IF(A132=\"\",\"\",VLOOKUP(A132&\"\",'Fichero de Jugadores'!$A$2:$H$5000,3,0))","v":""},{"$f":"IF(B132=\"\",\"\",VLOOKUP(B132&\"\",'Fichero de Jugadores'!$A$2:$H$5000,3,0))","v":""},{"$f":"INDEX(AN$4:AS$9,(Q132)+2,(R132)+2)","v":{"$error":"#N/A"}},{"$f":"IF(A132=\"\",\"\",VLOOKUP(A132&\"\",'Fichero de Jugadores'!$A$2:$I$5000,6,0))","v":""},{"$f":"IF(B132=\"\",\"\",VLOOKUP(B132&\"\",'Fichero de Jugadores'!$A$2:$I$5000,6,0))","v":""},"",null,null,{"$f":"IF(A132=\"\",\"\",VLOOKUP(A132&\"\",'Fichero de Jugadores'!$A$2:$I$4565,4,0))","v":""},{"$f":"IF(B132=\"\",\"\",VLOOKUP(B132&\"\",'Fichero de Jugadores'!$A$2:$I$4565,4,0))","v":""},{"$f":"IF(C132=\"\",\"\",VLOOKUP(A132&\"\",'Fichero de Jugadores'!$A$2:$I$4565,7,0))","v":{"$error":"#N/A"}},{"$f":"IF(C132=\"\",\"\",VLOOKUP(B132&\"\",'Fichero de Jugadores'!$A$2:$I$4565,7,0))","v":{"$error":"#N/A"}}]
[null,null,130,{"$f":"IF(A133=\"\",\"\",VLOOKUP(A133&\"\",'Fichero de Jugadores'!$A$2:$H$5000,2,0))","v":""},{"$f":"IF(B133=\"\",\"\",VLOOKUP(B133&\"\",'Fichero de Jugadores'!$A$2:$H$5000,2,0))","v":""},null,{"$f":"IF(A133=\"\",\"\",VLOOKUP(A133&\"\",'Fichero de Jugadores'!$A$2:$H$5000,3,0))","v":""},{"$f":"IF(B133=\"\",\"\",VLOOKUP(B133&\"\",'Fichero de Jugadores'!$A$2:$H$5000,3,0))","v":""},{"$error":"#N/A"},{"$f":"IF(A133=\"\",\"\",VLOOKUP(A133&\"\",'Fichero de Jugadores'!$A$2:$I$5000,6,0))","v":""},{"$f":"IF(B133=\"\",\"\",VLOOKUP(B133&\"\",'Fichero de Jugadores'!$A$2:$I$5000,6,0))","v":""},{"$f":"IF(AND(O133=\"D\",P133=\"D\"),\"D\",IF(AND(O133=\"D\",P133=\"C\"),\"X\",IF(AND(O133=\"C\",P133=\"D\"),\"X\",IF(AND(O133=\"C\",P133=\"C\"),\"C\",IF(OR(O133=\"\",P133=\"\"),\"\")))))","v":""},null,null,{"$f":"IF(A133=\"\",\"\",VLOOKUP(A133&\"\",'Fichero de Jugadores'!$A$2:$I$4565,4,0))","v":""},{"$f":"IF(B133=\"\",\"\",VLOOKUP(B133&\"\",'Fichero de Jugadores'!$A$2:$I$4565,4,0))","v":""},{"$f":"IF(C133=\"\",\"\",VLOOKUP(A133&\"\",'Fichero de Jugadores'!$A$2:$I$4565,7,0))","v":{"$error":"#N/A"}},{"$f":"IF(C133=\"\",\"\",VLOOKUP(B133&\"\",'Fichero de Jugadores'!$A$2:$I$4565,7,0))","v":{"$error":"#N/A"}}]
[null,null,131,{"$f":"IF(A134=\"\",\"\",VLOOKUP(A134&\"\",'Fichero de Jugadores'!$A$2:$H$5000,2,0))","v":""},{"$f":"IF(B134=\"\",\"\",VLOOKUP(B134&\"\",'Fichero de Jugadores'!$A$2:$H$5000,2,0))","v":""},null,{"$f":"IF(A134=\"\",\"\",VLOOKUP(A134&\"\",'Fichero de Jugadores'!$A$2:$H$5000,3,0))","v":""},{"$f":"IF(B134=\"\",\"\",VLOOKUP(B134&\"\",'Fichero de Jugadores'!$A$2:$H$5000,3,0))","v":""},{"$error":"#N/A"},{"$f":"IF(A134=\"\",\"\",VLOOKUP(A134&\"\",'Fichero de Jugadores'!$A$2:$I$5000,6,0))","v":""},{"$f":"IF(B134=\"\",\"\",VLOOKUP(B134&\"\",'Fichero de Jugadores'!$A$2:$I$5000,6,0))","v":""},"",null,null,{"$f":"IF(A134=\"\",\"\",VLOOKUP(A134&\"\",'Fichero de Jugadores'!$A$2:$I$4565,4,0))","v":""},{"$f":"IF(B134=\"\",\"\",VLOOKUP(B134&\"\",'Fichero de Jugadores'!$A$2:$I$4565,4,0))","v":""},{"$f":"IF(C134=\"\",\"\",VLOOKUP(A134&\"\",'Fichero de Jugadores'!$A$2:$I$4565,7,0))","v":{"$error":"#N/A"}},{"$f":"IF(C134=\"\",\"\",VLOOKUP(B134&\"\",'Fichero de Jugadores'!$A$2:$I$4565,7,0))","v":{"$error":"#N/A"}}]
[null,null,132,{"$f":"IF(A135=\"\",\"\",VLOOKUP(A135&\"\",'Fichero de Jugadores'!$A$2:$H$5000,2,0))","v":""},{"$f":"IF(B135=\"\",\"\",VLOOKUP(B135&\"\",'Fichero de Jugadores'!$A$2:$H$5000,2,0))","v":""},null,{"$f":"IF(A135=\"\",\"\",VLOOKUP(A135&\"\",'Fichero de Jugadores'!$A$2:$H$5000,3,0))","v":""},{"$f":"IF(B135=\"\",\"\",VLOOKUP(B135&\"\",'Fichero de Jugadores'!$A$2:$H$5000,3,0))","v":""},{"$error":"#N/A"},{"$f":"IF(A135=\"\",\"\",VLOOKUP(A135&\"\",'Fichero de Jugadores'!$A$2:$I$5000,6,0))","v":""},{"$f":"IF(B135=\"\",\"\",VLOOKUP(B135&\"\",'Fichero de Jugadores'!$A$2:$I$5000,6,0))","v":""},"",null,null,{"$f":"IF(A135=\"\",\"\",VLOOKUP(A135&\"\",'Fichero de Jugadores'!$A$2:$I$4565,4,0))","v":""},{"$f":"IF(B135=\"\",\"\",VLOOKUP(B135&\"\",'Fichero de Jugadores'!$A$2:$I$4565,4,0))","v":""},{"$f":"IF(C135=\"\",\"\",VLOOKUP(A135&\"\",'Fichero de Jugadores'!$A$2:$I$4565,7,0))","v":{"$error":"#N/A"}},{"$f":"IF(C135=\"\",\"\",VLOOKUP(B135&\"\",'Fichero de Jugadores'!$A$2:$I$4565,7,0))","v":{"$error":"#N/A"}}]
[null,null,133,{"$f":"IF(A136=\"\",\"\",VLOOKUP(A136&\"\",'Fichero de Jugadores'!$A$2:$H$5000,2,0))","v":""},{"$f":"IF(B136=\"\",\"\",VLOOKUP(B136&\"\",'Fichero de Jugadores'!$A$2:$H$5000,2,0))","v":""},null,{"$f":"IF(A136=\"\",\"\",VLOOKUP(A136&\"\",'Fichero de Jugadores'!$A$2:$H$5000,3,0))","v":""},{"$f":"IF(B136=\"\",\"\",VLOOKUP(B136&\"\",'Fichero de Jugadores'!$A$2:$H$5000,3,0))","v":""},{"$error":"#N/A"},{"$f":"IF(A136=\"\",\"\",VLOOKUP(A136&\"\",'Fichero de Jugadores'!$A$2:$I$5000,6,0))","v":""},{"$f":"IF(B136=\"\",\"\",VLOOKUP(B136&\"\",'Fichero de Jugadores'!$A$2:$I$5000,6,0))","v":""},"",null,null,{"$f":"IF(A136=\"\",\"\",VLOOKUP(A136&\"\",'Fichero de Jugadores'!$A$2:$I$4565,4,0))","v":""},{"$f":"IF(B136=\"\",\"\",VLOOKUP(B136&\"\",'Fichero de Jugadores'!$A$2:$I$4565,4,0))","v":""},{"$f":"IF(C136=\"\",\"\",VLOOKUP(A136&\"\",'Fichero de Jugadores'!$A$2:$I$4565,7,0))","v":{"$error":"#N/A"}},{"$f":"IF(C136=\"\",\"\",VLOOKUP(B136&\"\",'Fichero de Jugadores'!$A$2:$I$4565,7,0))","v":{"$error":"#N/A"}}]
[null,null,134,{"$f":"IF(A137=\"\",\"\",VLOOKUP(A137&\"\",'Fichero de Jugadores'!$A$2:$H$5000,2,0))","v":""},{"$f":"IF(B137=\"\",\"\",VLOOKUP(B137&\"\",'Fichero de Jugadores'!$A$2:$H$5000,2,0))","v":""},null,{"$f":"IF(A137=\"\",\"\",VLOOKUP(A137&\"\",'Fichero de Jugadores'!$A$2:$H$5000,3,0))","v":""},{"$f":"IF(B137=\"\",\"\",VLOOKUP(B137&\"\",'Fichero de Jugadores'!$A$2:$H$5000,3,0))","v":""},{"$error":"#N/A"},{"$f":"IF(A137=\"\",\"\",VLOOKUP(A137&\"\",'Fichero de Jugadores'!$A$2:$I$5000,6,0))","v":""},{"$f":"IF(B137=\"\",\"\",VLOOKUP(B137&\"\",'Fichero de Jugadores'!$A$2:$I$5000,6,0))","v":""},"",null,null,{"$f":"IF(A137=\"\",\"\",VLOOKUP(A137&\"\",'Fichero de Jugadores'!$A$2:$I$4565,4,0))","v":""},{"$f":"IF(B137=\"\",\"\",VLOOKUP(B137&\"\",'Fichero de Jugadores'!$A$2:$I$4565,4,0))","v":""},{"$f":"IF(C137=\"\",\"\",VLOOKUP(A137&\"\",'Fichero de Jugadores'!$A$2:$I$4565,7,0))","v":{"$error":"#N/A"}},{"$f":"IF(C137=\"\",\"\",VLOOKUP(B137&\"\",'Fichero de Jugadores'!$A$2:$I$4565,7,0))","v":{"$error":"#N/A"}}]
[null,null,135,{"$f":"IF(A138=\"\",\"\",VLOOKUP(A138&\"\",'Fichero de Jugadores'!$A$2:$H$5000,2,0))","v":""},{"$f":"IF(B138=\"\",\"\",VLOOKUP(B138&\"\",'Fichero de Jugadores'!$A$2:$H$5000,2,0))","v":""},null,{"$f":"IF(A138=\"\",\"\",VLOOKUP(A138&\"\",'Fichero de Jugadores'!$A$2:$H$5000,3,0))","v":""},{"$f":"IF(B138=\"\",\"\",VLOOKUP(B138&\"\",'Fichero de Jugadores'!$A$2:$H$5000,3,0))","v":""},{"$error":"#N/A"},{"$f":"IF(A138=\"\",\"\",VLOOKUP(A138&\"\",'Fichero de Jugadores'!$A$2:$I$5000,6,0))","v":""},{"$f":"IF(B138=\"\",\"\",VLOOKUP(B138&\"\",'Fichero de Jugadores'!$A$2:$I$5000,6,0))","v":""},"",null,null,{"$f":"IF(A138=\"\",\"\",VLOOKUP(A138&\"\",'Fichero de Jugadores'!$A$2:$I$4565,4,0))","v":""},{"$f":"IF(B138=\"\",\"\",VLOOKUP(B138&\"\",'Fichero de Jugadores'!$A$2:$I$4565,4,0))","v":""},{"$f":"IF(C138=\"\",\"\",VLOOKUP(A138&\"\",'Fichero de Jugadores'!$A$2:$I$4565,7,0))","v":{"$error":"#N/A"}},{"$f":"IF(C138=\"\",\"\",VLOOKUP(B138&\"\",'Fichero de Jugadores'!$A$2:$I$4565,7,0))","v":{"$error":"#N/A"}}]
[null,null,136,{"$f":"IF(A139=\"\",\"\",VLOOKUP(A139&\"\",'Fichero de Jugadores'!$A$2:$H$5000,2,0))","v":""},{"$f":"IF(B139=\"\",\"\",VLOOKUP(B139&\"\",'Fichero de Jugadores'!$A$2:$H$5000,2,0))","v":""},null,{"$f":"IF(A139=\"\",\"\",VLOOKUP(A139&\"\",'Fichero de Jugadores'!$A$2:$H$5000,3,0))","v":""},{"$f":"IF(B139=\"\",\"\",VLOOKUP(B139&\"\",'Fichero de Jugadores'!$A$2:$H$5000,3,0))","v":""},{"$error":"#N/A"},{"$f":"IF(A139=\"\",\"\",VLOOKUP(A139&\"\",'Fichero de Jugadores'!$A$2:$I$5000,6,0))","v":""},{"$f":"IF(B139=\"\",\"\",VLOOKUP(B139&\"\",'Fichero de Jugadores'!$A$2:$I$5000,6,0))","v":""},"",null,null,{"$f":"IF(A139=\"\",\"\",VLOOKUP(A139&\"\",'Fichero de Jugadores'!$A$2:$I$4565,4,0))","v":""},{"$f":"IF(B139=\"\",\"\",VLOOKUP(B139&\"\",'Fichero de Jugadores'!$A$2:$I$4565,4,0))","v":""},{"$f":"IF(C139=\"\",\"\",VLOOKUP(A139&\"\",'Fichero de Jugadores'!$A$2:$I$4565,7,0))","v":{"$error":"#N/A"}},{"$f":"IF(C139=\"\",\"\",VLOOKUP(B139&\"\",'Fichero de Jugadores'!$A$2:$I$4565,7,0))","v":{"$error":"#N/A"}}]
[null,null,137,{"$f":"IF(A140=\"\",\"\",VLOOKUP(A140&\"\",'Fichero de Jugadores'!$A$2:$H$5000,2,0))","v":""},{"$f":"IF(B140=\"\",\"\",VLOOKUP(B140&\"\",'Fichero de Jugadores'!$A$2:$H$5000,2,0))","v":""},null,{"$f":"IF(A140=\"\",\"\",VLOOKUP(A140&\"\",'Fichero de Jugadores'!$A$2:$H$5000,3,0))","v":""},{"$f":"IF(B140=\"\",\"\",VLOOKUP(B140&\"\",'Fichero de Jugadores'!$A$2:$H$5000,3,0))","v":""},{"$error":"#N/A"},{"$f":"IF(A140=\"\",\"\",VLOOKUP(A140&\"\",'Fichero de Jugadores'!$A$2:$I$5000,6,0))","v":""},{"$f":"IF(B140=\"\",\"\",VLOOKUP(B140&\"\",'Fichero de Jugadores'!$A$2:$I$5000,6,0))","v":""},"",null,null,{"$f":"IF(A140=\"\",\"\",VLOOKUP(A140&\"\",'Fichero de Jugadores'!$A$2:$I$4565,4,0))","v":""},{"$f":"IF(B140=\"\",\"\",VLOOKUP(B140&\"\",'Fichero de Jugadores'!$A$2:$I$4565,4,0))","v":""},{"$f":"IF(C140=\"\",\"\",VLOOKUP(A140&\"\",'Fichero de Jugadores'!$A$2:$I$4565,7,0))","v":{"$error":"#N/A"}},{"$f":"IF(C140=\"\",\"\",VLOOKUP(B140&\"\",'Fichero de Jugadores'!$A$2:$I$4565,7,0))","v":{"$error":"#N/A"}}]
[null,null,138,{"$f":"IF(A141=\"\",\"\",VLOOKUP(A141&\"\",'Fichero de Jugadores'!$A$2:$H$5000,2,0))","v":""},{"$f":"IF(B141=\"\",\"\",VLOOKUP(B141&\"\",'Fichero de Jugadores'!$A$2:$H$5000,2,0))","v":""},null,{"$f":"IF(A141=\"\",\"\",VLOOKUP(A141&\"\",'Fichero de Jugadores'!$A$2:$H$5000,3,0))","v":""},{"$f":"IF(B141=\"\",\"\",VLOOKUP(B141&\"\",'Fichero de Jugadores'!$A$2:$H$5000,3,0))","v":""},{"$error":"#N/A"},{"$f":"IF(A141=\"\",\"\",VLOOKUP(A141&\"\",'Fichero de Jugadores'!$A$2:$I$5000,6,0))","v":""},{"$f":"IF(B141=\"\",\"\",VLOOKUP(B141&\"\",'Fichero de Jugadores'!$A$2:$I$5000,6,0))","v":""},"",null,null,{"$f":"IF(A141=\"\",\"\",VLOOKUP(A141&\"\",'Fichero de Jugadores'!$A$2:$I$4565,4,0))","v":""},{"$f":"IF(B141=\"\",\"\",VLOOKUP(B141&\"\",'Fichero de Jugadores'!$A$2:$I$4565,4,0))","v":""},{"$f":"IF(C141=\"\",\"\",VLOOKUP(A141&\"\",'Fichero de Jugadores'!$A$2:$I$4565,7,0))","v":{"$error":"#N/A"}},{"$f":"IF(C141=\"\",\"\",VLOOKUP(B141&\"\",'Fichero de Jugadores'!$A$2:$I$4565,7,0))","v":{"$error":"#N/A"}}]
[null,null,139,{"$f":"IF(A142=\"\",\"\",VLOOKUP(A142&\"\",'Fichero de Jugadores'!$A$2:$H$5000,2,0))","v":""},{"$f":"IF(B142=\"\",\"\",VLOOKUP(B142&\"\",'Fichero de Jugadores'!$A$2:$H$5000,2,0))","v":""},null,{"$f":"IF(A142=\"\",\"\",VLOOKUP(A142&\"\",'Fichero de Jugadores'!$A$2:$H$5000,3,0))","v":""},{"$f":"IF(B142=\"\",\"\",VLOOKUP(B142&\"\",'Fichero de Jugadores'!$A$2:$H$5000,3,0))","v":""},{"$error":"#N/A"},{"$f":"IF(A142=\"\",\"\",VLOOKUP(A142&\"\",'Fichero de Jugadores'!$A$2:$I$5000,6,0))","v":""},{"$f":"IF(B142=\"\",\"\",VLOOKUP(B142&\"\",'Fichero de Jugadores'!$A$2:$I$5000,6,0))","v":""},"",null,null,{"$f":"IF(A142=\"\",\"\",VLOOKUP(A142&\"\",'Fichero de Jugadores'!$A$2:$I$4565,4,0))","v":""},{"$f":"IF(B142=\"\",\"\",VLOOKUP(B142&\"\",'Fichero de Jugadores'!$A$2:$I$4565,4,0))","v":""},{"$f":"IF(C142=\"\",\"\",VLOOKUP(A142&\"\",'Fichero de Jugadores'!$A$2:$I$4565,7,0))","v":{"$error":"#N/A"}},{"$f":"IF(C142=\"\",\"\",VLOOKUP(B142&\"\",'Fichero de Jugadores'!$A$2:$I$4565,7,0))","v":{"$error":"#N/A"}}]
[null,null,140,{"$f":"IF(A143=\"\",\"\",VLOOKUP(A143&\"\",'Fichero de Jugadores'!$A$2:$H$5000,2,0))","v":""},{"$f":"IF(B143=\"\",\"\",VLOOKUP(B143&\"\",'Fichero de Jugadores'!$A$2:$H$5000,2,0))","v":""},null,{"$f":"IF(A143=\"\",\"\",VLOOKUP(A143&\"\",'Fichero de Jugadores'!$A$2:$H$5000,3,0))","v":""},{"$f":"IF(B143=\"\",\"\",VLOOKUP(B143&\"\",'Fichero de Jugadores'!$A$2:$H$5000,3,0))","v":""},{"$error":"#N/A"},{"$f":"IF(A143=\"\",\"\",VLOOKUP(A143&\"\",'Fichero de Jugadores'!$A$2:$I$5000,6,0))","v":""},{"$f":"IF(B143=\"\",\"\",VLOOKUP(B143&\"\",'Fichero de Jugadores'!$A$2:$I$5000,6,0))","v":""},"",null,null,{"$f":"IF(A143=\"\",\"\",VLOOKUP(A143&\"\",'Fichero de Jugadores'!$A$2:$I$4565,4,0))","v":""},{"$f":"IF(B143=\"\",\"\",VLOOKUP(B143&\"\",'Fichero de Jugadores'!$A$2:$I$4565,4,0))","v":""},{"$f":"IF(C143=\"\",\"\",VLOOKUP(A143&\"\",'Fichero de Jugadores'!$A$2:$I$4565,7,0))","v":{"$error":"#N/A"}},{"$f":"IF(C143=\"\",\"\",VLOOKUP(B143&\"\",'Fichero de Jugadores'!$A$2:$I$4565,7,0))","v":{"$error":"#N/A"}}]
[null,null,141,{"$f":"IF(A144=\"\",\"\",VLOOKUP(A144&\"\",'Fichero de Jugadores'!$A$2:$H$5000,2,0))","v":""},{"$f":"IF(B144=\"\",\"\",VLOOKUP(B144&\"\",'Fichero de Jugadores'!$A$2:$H$5000,2,0))","v":""},null,{"$f":"IF(A144=\"\",\"\",VLOOKUP(A144&\"\",'Fichero de Jugadores'!$A$2:$H$5000,3,0))","v":""},{"$f":"IF(B144=\"\",\"\",VLOOKUP(B144&\"\",'Fichero de Jugadores'!$A$2:$H$5000,3,0))","v":""},{"$error":"#N/A"},{"$f":"IF(A144=\"\",\"\",VLOOKUP(A144&\"\",'Fichero de Jugadores'!$A$2:$I$5000,6,0))","v":""},{"$f":"IF(B144=\"\",\"\",VLOOKUP(B144&\"\",'Fichero de Jugadores'!$A$2:$I$5000,6,0))","v":""},"",null,null,{"$f":"IF(A144=\"\",\"\",VLOOKUP(A144&\"\",'Fichero de Jugadores'!$A$2:$I$4565,4,0))","v":""},{"$f":"IF(B144=\"\",\"\",VLOOKUP(B144&\"\",'Fichero de Jugadores'!$A$2:$I$4565,4,0))","v":""},{"$f":"IF(C144=\"\",\"\",VLOOKUP(A144&\"\",'Fichero de Jugadores'!$A$2:$I$4565,7,0))","v":{"$error":"#N/A"}},{"$f":"IF(C144=\"\",\"\",VLOOKUP(B144&\"\",'Fichero de Jugadores'!$A$2:$I$4565,7,0))","v":{"$error":"#N/A"}}]
[null,null,142,{"$f":"IF(A145=\"\",\"\",VLOOKUP(A145&\"\",'Fichero de Jugadores'!$A$2:$H$5000,2,0))","v":""},{"$f":"IF(B145=\"\",\"\",VLOOKUP(B145&\"\",'Fichero de Jugadores'!$A$2:$H$5000,2,0))","v":""},null,{"$f":"IF(A145=\"\",\"\",VLOOKUP(A145&\"\",'Fichero de Jugadores'!$A$2:$H$5000,3,0))","v":""},{"$f":"IF(B145=\"\",\"\",VLOOKUP(B145&\"\",'Fichero de Jugadores'!$A$2:$H$5000,3,0))","v":""},{"$error":"#N/A"},{"$f":"IF(A145=\"\",\"\",VLOOKUP(A145&\"\",'Fichero de Jugadores'!$A$2:$I$5000,6,0))","v":""},{"$f":"IF(B145=\"\",\"\",VLOOKUP(B145&\"\",'Fichero de Jugadores'!$A$2:$I$5000,6,0))","v":""},"",null,null,{"$f":"IF(A145=\"\",\"\",VLOOKUP(A145&\"\",'Fichero de Jugadores'!$A$2:$I$4565,4,0))","v":""},{"$f":"IF(B145=\"\",\"\",VLOOKUP(B145&\"\",'Fichero de Jugadores'!$A$2:$I$4565,4,0))","v":""},{"$f":"IF(C145=\"\",\"\",VLOOKUP(A145&\"\",'Fichero de Jugadores'!$A$2:$I$4565,7,0))","v":{"$error":"#N/A"}},{"$f":"IF(C145=\"\",\"\",VLOOKUP(B145&\"\",'Fichero de Jugadores'!$A$2:$I$4565,7,0))","v":{"$error":"#N/A"}}]
[null,null,143,{"$f":"IF(A146=\"\",\"\",VLOOKUP(A146&\"\",'Fichero de Jugadores'!$A$2:$H$5000,2,0))","v":""},{"$f":"IF(B146=\"\",\"\",VLOOKUP(B146&\"\",'Fichero de Jugadores'!$A$2:$H$5000,2,0))","v":""},null,{"$f":"IF(A146=\"\",\"\",VLOOKUP(A146&\"\",'Fichero de Jugadores'!$A$2:$H$5000,3,0))","v":""},{"$f":"IF(B146=\"\",\"\",VLOOKUP(B146&\"\",'Fichero de Jugadores'!$A$2:$H$5000,3,0))","v":""},{"$error":"#N/A"},{"$f":"IF(A146=\"\",\"\",VLOOKUP(A146&\"\",'Fichero de Jugadores'!$A$2:$I$5000,6,0))","v":""},{"$f":"IF(B146=\"\",\"\",VLOOKUP(B146&\"\",'Fichero de Jugadores'!$A$2:$I$5000,6,0))","v":""},"",null,null,{"$f":"IF(A146=\"\",\"\",VLOOKUP(A146&\"\",'Fichero de Jugadores'!$A$2:$I$4565,4,0))","v":""},{"$f":"IF(B146=\"\",\"\",VLOOKUP(B146&\"\",'Fichero de Jugadores'!$A$2:$I$4565,4,0))","v":""},{"$f":"IF(C146=\"\",\"\",VLOOKUP(A146&\"\",'Fichero de Jugadores'!$A$2:$I$4565,7,0))","v":{"$error":"#N/A"}},{"$f":"IF(C146=\"\",\"\",VLOOKUP(B146&\"\",'Fichero de Jugadores'!$A$2:$I$4565,7,0))","v":{"$error":"#N/A"}}]
[null,null,144,{"$f":"IF(A147=\"\",\"\",VLOOKUP(A147&\"\",'Fichero de Jugadores'!$A$2:$H$5000,2,0))","v":""},{"$f":"IF(B147=\"\",\"\",VLOOKUP(B147&\"\",'Fichero de Jugadores'!$A$2:$H$5000,2,0))","v":""},null,{"$f":"IF(A147=\"\",\"\",VLOOKUP(A147&\"\",'Fichero de Jugadores'!$A$2:$H$5000,3,0))","v":""},{"$f":"IF(B147=\"\",\"\",VLOOKUP(B147&\"\",'Fichero de Jugadores'!$A$2:$H$5000,3,0))","v":""},{"$error":"#N/A"},{"$f":"IF(A147=\"\",\"\",VLOOKUP(A147&\"\",'Fichero de Jugadores'!$A$2:$I$5000,6,0))","v":""},{"$f":"IF(B147=\"\",\"\",VLOOKUP(B147&\"\",'Fichero de Jugadores'!$A$2:$I$5000,6,0))","v":""},"",null,null,{"$f":"IF(A147=\"\",\"\",VLOOKUP(A147&\"\",'Fichero de Jugadores'!$A$2:$I$4565,4,0))","v":""},{"$f":"IF(B147=\"\",\"\",VLOOKUP(B147&\"\",'Fichero de Jugadores'!$A$2:$I$4565,4,0))","v":""},{"$f":"IF(C147=\"\",\"\",VLOOKUP(A147&\"\",'Fichero de Jugadores'!$A$2:$I$4565,7,0))","v":{"$error":"#N/A"}},{"$f":"IF(C147=\"\",\"\",VLOOKUP(B147&\"\",'Fichero de Jugadores'!$A$2:$I$4565,7,0))","v":{"$error":"#N/A"}}]
[null,null,145,{"$f":"IF(A148=\"\",\"\",VLOOKUP(A148&\"\",'Fichero de Jugadores'!$A$2:$H$5000,2,0))","v":""},{"$f":"IF(B148=\"\",\"\",VLOOKUP(B148&\"\",'Fichero de Jugadores'!$A$2:$H$5000,2,0))","v":""},null,{"$f":"IF(A148=\"\",\"\",VLOOKUP(A148&\"\",'Fichero de Jugadores'!$A$2:$H$5000,3,0))","v":""},{"$f":"IF(B148=\"\",\"\",VLOOKUP(B148&\"\",'Fichero de Jugadores'!$A$2:$H$5000,3,0))","v":""},{"$error":"#N/A"},{"$f":"IF(A148=\"\",\"\",VLOOKUP(A148&\"\",'Fichero de Jugadores'!$A$2:$I$5000,6,0))","v":""},{"$f":"IF(B148=\"\",\"\",VLOOKUP(B148&\"\",'Fichero de Jugadores'!$A$2:$I$5000,6,0))","v":""},"",null,null,{"$f":"IF(A148=\"\",\"\",VLOOKUP(A148&\"\",'Fichero de Jugadores'!$A$2:$I$4565,4,0))","v":""},{"$f":"IF(B148=\"\",\"\",VLOOKUP(B148&\"\",'Fichero de Jugadores'!$A$2:$I$4565,4,0))","v":""},{"$f":"IF(C148=\"\",\"\",VLOOKUP(A148&\"\",'Fichero de Jugadores'!$A$2:$I$4565,7,0))","v":{"$error":"#N/A"}},{"$f":"IF(C148=\"\",\"\",VLOOKUP(B148&\"\",'Fichero de Jugadores'!$A$2:$I$4565,7,0))","v":{"$error":"#N/A"}}]
[null,null,146,{"$f":"IF(A149=\"\",\"\",VLOOKUP(A149&\"\",'Fichero de Jugadores'!$A$2:$H$5000,2,0))","v":""},{"$f":"IF(B149=\"\",\"\",VLOOKUP(B149&\"\",'Fichero de Jugadores'!$A$2:$H$5000,2,0))","v":""},null,{"$f":"IF(A149=\"\",\"\",VLOOKUP(A149&\"\",'Fichero de Jugadores'!$A$2:$H$5000,3,0))","v":""},{"$f":"IF(B149=\"\",\"\",VLOOKUP(B149&\"\",'Fichero de Jugadores'!$A$2:$H$5000,3,0))","v":""},{"$error":"#N/A"},{"$f":"IF(A149=\"\",\"\",VLOOKUP(A149&\"\",'Fichero de Jugadores'!$A$2:$I$5000,6,0))","v":""},{"$f":"IF(B149=\"\",\"\",VLOOKUP(B149&\"\",'Fichero de Jugadores'!$A$2:$I$5000,6,0))","v":""},"",null,null,{"$f":"IF(A149=\"\",\"\",VLOOKUP(A149&\"\",'Fichero de Jugadores'!$A$2:$I$4565,4,0))","v":""},{"$f":"IF(B149=\"\",\"\",VLOOKUP(B149&\"\",'Fichero de Jugadores'!$A$2:$I$4565,4,0))","v":""},{"$f":"IF(C149=\"\",\"\",VLOOKUP(A149&\"\",'Fichero de Jugadores'!$A$2:$I$4565,7,0))","v":{"$error":"#N/A"}},{"$f":"IF(C149=\"\",\"\",VLOOKUP(B149&\"\",'Fichero de Jugadores'!$A$2:$I$4565,7,0))","v":{"$error":"#N/A"}}]
[null,null,147,{"$f":"IF(A150=\"\",\"\",VLOOKUP(A150&\"\",'Fichero de Jugadores'!$A$2:$H$5000,2,0))","v":""},{"$f":"IF(B150=\"\",\"\",VLOOKUP(B150&\"\",'Fichero de Jugadores'!$A$2:$H$5000,2,0))","v":""},null,{"$f":"IF(A150=\"\",\"\",VLOOKUP(A150&\"\",'Fichero de Jugadores'!$A$2:$H$5000,3,0))","v":""},{"$f":"IF(B150=\"\",\"\",VLOOKUP(B150&\"\",'Fichero de Jugadores'!$A$2:$H$5000,3,0))","v":""},{"$error":"#N/A"},{"$f":"IF(A150=\"\",\"\",VLOOKUP(A150&\"\",'Fichero de Jugadores'!$A$2:$I$5000,6,0))","v":""},{"$f":"IF(B150=\"\",\"\",VLOOKUP(B150&\"\",'Fichero de Jugadores'!$A$2:$I$5000,6,0))","v":""},"",null,null,{"$f":"IF(A150=\"\",\"\",VLOOKUP(A150&\"\",'Fichero de Jugadores'!$A$2:$I$4565,4,0))","v":""},{"$f":"IF(B150=\"\",\"\",VLOOKUP(B150&\"\",'Fichero de Jugadores'!$A$2:$I$4565,4,0))","v":""},{"$f":"IF(C150=\"\",\"\",VLOOKUP(A150&\"\",'Fichero de Jugadores'!$A$2:$I$4565,7,0))","v":{"$error":"#N/A"}},{"$f":"IF(C150=\"\",\"\",VLOOKUP(B150&\"\",'Fichero de Jugadores'!$A$2:$I$4565,7,0))","v":{"$error":"#N/A"}}]
[null,null,148,{"$f":"IF(A151=\"\",\"\",VLOOKUP(A151&\"\",'Fichero de Jugadores'!$A$2:$H$5000,2,0))","v":""},{"$f":"IF(B151=\"\",\"\",VLOOKUP(B151&\"\",'Fichero de Jugadores'!$A$2:$H$5000,2,0))","v":""},null,{"$f":"IF(A151=\"\",\"\",VLOOKUP(A151&\"\",'Fichero de Jugadores'!$A$2:$H$5000,3,0))","v":""},{"$f":"IF(B151=\"\",\"\",VLOOKUP(B151&\"\",'Fichero de Jugadores'!$A$2:$H$5000,3,0))","v":""},{"$error":"#N/A"},{"$f":"IF(A151=\"\",\"\",VLOOKUP(A151&\"\",'Fichero de Jugadores'!$A$2:$I$5000,6,0))","v":""},{"$f":"IF(B151=\"\",\"\",VLOOKUP(B151&\"\",'Fichero de Jugadores'!$A$2:$I$5000,6,0))","v":""},"",null,null,{"$f":"IF(A151=\"\",\"\",VLOOKUP(A151&\"\",'Fichero de Jugadores'!$A$2:$I$4565,4,0))","v":""},{"$f":"IF(B151=\"\",\"\",VLOOKUP(B151&\"\",'Fichero de Jugadores'!$A$2:$I$4565,4,0))","v":""},{"$f":"IF(C151=\"\",\"\",VLOOKUP(A151&\"\",'Fichero de Jugadores'!$A$2:$I$4565,7,0))","v":{"$error":"#N/A"}},{"$f":"IF(C151=\"\",\"\",VLOOKUP(B151&\"\",'Fichero de Jugadores'!$A$2:$I$4565,7,0))","v":{"$error":"#N/A"}}]
[null,null,149,{"$f":"IF(A152=\"\",\"\",VLOOKUP(A152&\"\",'Fichero de Jugadores'!$A$2:$H$5000,2,0))","v":""},{"$f":"IF(B152=\"\",\"\",VLOOKUP(B152&\"\",'Fichero de Jugadores'!$A$2:$H$5000,2,0))","v":""},null,{"$f":"IF(A152=\"\",\"\",VLOOKUP(A152&\"\",'Fichero de Jugadores'!$A$2:$H$5000,3,0))","v":""},{"$f":"IF(B152=\"\",\"\",VLOOKUP(B152&\"\",'Fichero de Jugadores'!$A$2:$H$5000,3,0))","v":""},{"$error":"#N/A"},{"$f":"IF(A152=\"\",\"\",VLOOKUP(A152&\"\",'Fichero de Jugadores'!$A$2:$I$5000,6,0))","v":""},{"$f":"IF(B152=\"\",\"\",VLOOKUP(B152&\"\",'Fichero de Jugadores'!$A$2:$I$5000,6,0))","v":""},"",null,null,{"$f":"IF(A152=\"\",\"\",VLOOKUP(A152&\"\",'Fichero de Jugadores'!$A$2:$I$4565,4,0))","v":""},{"$f":"IF(B152=\"\",\"\",VLOOKUP(B152&\"\",'Fichero de Jugadores'!$A$2:$I$4565,4,0))","v":""},{"$f":"IF(C152=\"\",\"\",VLOOKUP(A152&\"\",'Fichero de Jugadores'!$A$2:$I$4565,7,0))","v":{"$error":"#N/A"}},{"$f":"IF(C152=\"\",\"\",VLOOKUP(B152&\"\",'Fichero de Jugadores'!$A$2:$I$4565,7,0))","v":{"$error":"#N/A"}}]
[null,null,150,{"$f":"IF(A153=\"\",\"\",VLOOKUP(A153&\"\",'Fichero de Jugadores'!$A$2:$H$5000,2,0))","v":""},{"$f":"IF(B153=\"\",\"\",VLOOKUP(B153&\"\",'Fichero de Jugadores'!$A$2:$H$5000,2,0))","v":""},null,{"$f":"IF(A153=\"\",\"\",VLOOKUP(A153&\"\",'Fichero de Jugadores'!$A$2:$H$5000,3,0))","v":""},{"$f":"IF(B153=\"\",\"\",VLOOKUP(B153&\"\",'Fichero de Jugadores'!$A$2:$H$5000,3,0))","v":""},{"$error":"#N/A"},{"$f":"IF(A153=\"\",\"\",VLOOKUP(A153&\"\",'Fichero de Jugadores'!$A$2:$I$5000,6,0))","v":""},{"$f":"IF(B153=\"\",\"\",VLOOKUP(B153&\"\",'Fichero de Jugadores'!$A$2:$I$5000,6,0))","v":""},"",null,null,{"$f":"IF(A153=\"\",\"\",VLOOKUP(A153&\"\",'Fichero de Jugadores'!$A$2:$I$4565,4,0))","v":""},{"$f":"IF(B153=\"\",\"\",VLOOKUP(B153&\"\",'Fichero de Jugadores'!$A$2:$I$4565,4,0))","v":""},{"$f":"IF(C153=\"\",\"\",VLOOKUP(A153&\"\",'Fichero de Jugadores'!$A$2:$I$4565,7,0))","v":{"$error":"#N/A"}},{"$f":"IF(C153=\"\",\"\",VLOOKUP(B153&\"\",'Fichero de Jugadores'!$A$2:$I$4565,7,0))","v":{"$error":"#N/A"}}]
[null,null,151,{"$f":"IF(A154=\"\",\"\",VLOOKUP(A154&\"\",'Fichero de Jugadores'!$A$2:$H$5000,2,0))","v":""},{"$f":"IF(B154=\"\",\"\",VLOOKUP(B154&\"\",'Fichero de Jugadores'!$A$2:$H$5000,2,0))","v":""},null,{"$f":"IF(A154=\"\",\"\",VLOOKUP(A154&\"\",'Fichero de Jugadores'!$A$2:$H$5000,3,0))","v":""},{"$f":"IF(B154=\"\",\"\",VLOOKUP(B154&\"\",'Fichero de Jugadores'!$A$2:$H$5000,3,0))","v":""},{"$error":"#N/A"},{"$f":"IF(A154=\"\",\"\",VLOOKUP(A154&\"\",'Fichero de Jugadores'!$A$2:$I$5000,6,0))","v":""},{"$f":"IF(B154=\"\",\"\",VLOOKUP(B154&\"\",'Fichero de Jugadores'!$A$2:$I$5000,6,0))","v":""},"",null,null,{"$f":"IF(A154=\"\",\"\",VLOOKUP(A154&\"\",'Fichero de Jugadores'!$A$2:$I$4565,4,0))","v":""},{"$f":"IF(B154=\"\",\"\",VLOOKUP(B154&\"\",'Fichero de Jugadores'!$A$2:$I$4565,4,0))","v":""},{"$f":"IF(C154=\"\",\"\",VLOOKUP(A154&\"\",'Fichero de Jugadores'!$A$2:$I$4565,7,0))","v":{"$error":"#N/A"}},{"$f":"IF(C154=\"\",\"\",VLOOKUP(B154&\"\",'Fichero de Jugadores'!$A$2:$I$4565,7,0))","v":{"$error":"#N/A"}}]
[null,null,152,{"$f":"IF(A155=\"\",\"\",VLOOKUP(A155&\"\",'Fichero de Jugadores'!$A$2:$H$5000,2,0))","v":""},{"$f":"IF(B155=\"\",\"\",VLOOKUP(B155&\"\",'Fichero de Jugadores'!$A$2:$H$5000,2,0))","v":""},null,{"$f":"IF(A155=\"\",\"\",VLOOKUP(A155&\"\",'Fichero de Jugadores'!$A$2:$H$5000,3,0))","v":""},{"$f":"IF(B155=\"\",\"\",VLOOKUP(B155&\"\",'Fichero de Jugadores'!$A$2:$H$5000,3,0))","v":""},{"$error":"#N/A"},{"$f":"IF(A155=\"\",\"\",VLOOKUP(A155&\"\",'Fichero de Jugadores'!$A$2:$I$5000,6,0))","v":""},{"$f":"IF(B155=\"\",\"\",VLOOKUP(B155&\"\",'Fichero de Jugadores'!$A$2:$I$5000,6,0))","v":""},"",null,null,{"$f":"IF(A155=\"\",\"\",VLOOKUP(A155&\"\",'Fichero de Jugadores'!$A$2:$I$4565,4,0))","v":""},{"$f":"IF(B155=\"\",\"\",VLOOKUP(B155&\"\",'Fichero de Jugadores'!$A$2:$I$4565,4,0))","v":""},{"$f":"IF(C155=\"\",\"\",VLOOKUP(A155&\"\",'Fichero de Jugadores'!$A$2:$I$4565,7,0))","v":{"$error":"#N/A"}},{"$f":"IF(C155=\"\",\"\",VLOOKUP(B155&\"\",'Fichero de Jugadores'!$A$2:$I$4565,7,0))","v":{"$error":"#N/A"}}]
[null,null,153,{"$f":"IF(A156=\"\",\"\",VLOOKUP(A156&\"\",'Fichero de Jugadores'!$A$2:$H$5000,2,0))","v":""},{"$f":"IF(B156=\"\",\"\",VLOOKUP(B156&\"\",'Fichero de Jugadores'!$A$2:$H$5000,2,0))","v":""},null,{"$f":"IF(A156=\"\",\"\",VLOOKUP(A156&\"\",'Fichero de Jugadores'!$A$2:$H$5000,3,0))","v":""},{"$f":"IF(B156=\"\",\"\",VLOOKUP(B156&\"\",'Fichero de Jugadores'!$A$2:$H$5000,3,0))","v":""},{"$error":"#N/A"},{"$f":"IF(A156=\"\",\"\",VLOOKUP(A156&\"\",'Fichero de Jugadores'!$A$2:$I$5000,6,0))","v":""},{"$f":"IF(B156=\"\",\"\",VLOOKUP(B156&\"\",'Fichero de Jugadores'!$A$2:$I$5000,6,0))","v":""},"",null,null,{"$f":"IF(A156=\"\",\"\",VLOOKUP(A156&\"\",'Fichero de Jugadores'!$A$2:$I$4565,4,0))","v":""},{"$f":"IF(B156=\"\",\"\",VLOOKUP(B156&\"\",'Fichero de Jugadores'!$A$2:$I$4565,4,0))","v":""},{"$f":"IF(C156=\"\",\"\",VLOOKUP(A156&\"\",'Fichero de Jugadores'!$A$2:$I$4565,7,0))","v":{"$error":"#N/A"}},{"$f":"IF(C156=\"\",\"\",VLOOKUP(B156&\"\",'Fichero de Jugadores'!$A$2:$I$4565,7,0))","v":{"$error":"#N/A"}}]
[null,null,154,{"$f":"IF(A157=\"\",\"\",VLOOKUP(A157&\"\",'Fichero de Jugadores'!$A$2:$H$5000,2,0))","v":""},{"$f":"IF(B157=\"\",\"\",VLOOKUP(B157&\"\",'Fichero de Jugadores'!$A$2:$H$5000,2,0))","v":""},null,{"$f":"IF(A157=\"\",\"\",VLOOKUP(A157&\"\",'Fichero de Jugadores'!$A$2:$H$5000,3,0))","v":""},{"$f":"IF(B157=\"\",\"\",VLOOKUP(B157&\"\",'Fichero de Jugadores'!$A$2:$H$5000,3,0))","v":""},{"$error":"#N/A"},{"$f":"IF(A157=\"\",\"\",VLOOKUP(A157&\"\",'Fichero de Jugadores'!$A$2:$I$5000,6,0))","v":""},{"$f":"IF(B157=\"\",\"\",VLOOKUP(B157&\"\",'Fichero de Jugadores'!$A$2:$I$5000,6,0))","v":""},"",null,null,{"$f":"IF(A157=\"\",\"\",VLOOKUP(A157&\"\",'Fichero de Jugadores'!$A$2:$I$4565,4,0))","v":""},{"$f":"IF(B157=\"\",\"\",VLOOKUP(B157&\"\",'Fichero de Jugadores'!$A$2:$I$4565,4,0))","v":""},{"$f":"IF(C157=\"\",\"\",VLOOKUP(A157&\"\",'Fichero de Jugadores'!$A$2:$I$4565,7,0))","v":{"$error":"#N/A"}},{"$f":"IF(C157=\"\",\"\",VLOOKUP(B157&\"\",'Fichero de Jugadores'!$A$2:$I$4565,7,0))","v":{"$error":"#N/A"}}]
[null,null,155,{"$f":"IF(A158=\"\",\"\",VLOOKUP(A158&\"\",'Fichero de Jugadores'!$A$2:$H$5000,2,0))","v":""},{"$f":"IF(B158=\"\",\"\",VLOOKUP(B158&\"\",'Fichero de Jugadores'!$A$2:$H$5000,2,0))","v":""},null,{"$f":"IF(A158=\"\",\"\",VLOOKUP(A158&\"\",'Fichero de Jugadores'!$A$2:$H$5000,3,0))","v":""},{"$f":"IF(B158=\"\",\"\",VLOOKUP(B158&\"\",'Fichero de Jugadores'!$A$2:$H$5000,3,0))","v":""},{"$error":"#N/A"},{"$f":"IF(A158=\"\",\"\",VLOOKUP(A158&\"\",'Fichero de Jugadores'!$A$2:$I$5000,6,0))","v":""},{"$f":"IF(B158=\"\",\"\",VLOOKUP(B158&\"\",'Fichero de Jugadores'!$A$2:$I$5000,6,0))","v":""},"",null,null,{"$f":"IF(A158=\"\",\"\",VLOOKUP(A158&\"\",'Fichero de Jugadores'!$A$2:$I$4565,4,0))","v":""},{"$f":"IF(B158=\"\",\"\",VLOOKUP(B158&\"\",'Fichero de Jugadores'!$A$2:$I$4565,4,0))","v":""},{"$f":"IF(C158=\"\",\"\",VLOOKUP(A158&\"\",'Fichero de Jugadores'!$A$2:$I$4565,7,0))","v":{"$error":"#N/A"}},{"$f":"IF(C158=\"\",\"\",VLOOKUP(B158&\"\",'Fichero de Jugadores'!$A$2:$I$4565,7,0))","v":{"$error":"#N/A"}}]
[null,null,156,{"$f":"IF(A159=\"\",\"\",VLOOKUP(A159&\"\",'Fichero de Jugadores'!$A$2:$H$5000,2,0))","v":""},{"$f":"IF(B159=\"\",\"\",VLOOKUP(B159&\"\",'Fichero de Jugadores'!$A$2:$H$5000,2,0))","v":""},null,{"$f":"IF(A159=\"\",\"\",VLOOKUP(A159&\"\",'Fichero de Jugadores'!$A$2:$H$5000,3,0))","v":""},{"$f":"IF(B159=\"\",\"\",VLOOKUP(B159&\"\",'Fichero de Jugadores'!$A$2:$H$5000,3,0))","v":""},{"$error":"#N/A"},{"$f":"IF(A159=\"\",\"\",VLOOKUP(A159&\"\",'Fichero de Jugadores'!$A$2:$I$5000,6,0))","v":""},{"$f":"IF(B159=\"\",\"\",VLOOKUP(B159&\"\",'Fichero de Jugadores'!$A$2:$I$5000,6,0))","v":""},"",null,null,{"$f":"IF(A159=\"\",\"\",VLOOKUP(A159&\"\",'Fichero de Jugadores'!$A$2:$I$4565,4,0))","v":""},{"$f":"IF(B159=\"\",\"\",VLOOKUP(B159&\"\",'Fichero de Jugadores'!$A$2:$I$4565,4,0))","v":""},{"$f":"IF(C159=\"\",\"\",VLOOKUP(A159&\"\",'Fichero de Jugadores'!$A$2:$I$4565,7,0))","v":{"$error":"#N/A"}},{"$f":"IF(C159=\"\",\"\",VLOOKUP(B159&\"\",'Fichero de Jugadores'!$A$2:$I$4565,7,0))","v":{"$error":"#N/A"}}]
[null,null,157,{"$f":"IF(A160=\"\",\"\",VLOOKUP(A160&\"\",'Fichero de Jugadores'!$A$2:$H$5000,2,0))","v":""},{"$f":"IF(B160=\"\",\"\",VLOOKUP(B160&\"\",'Fichero de Jugadores'!$A$2:$H$5000,2,0))","v":""},null,{"$f":"IF(A160=\"\",\"\",VLOOKUP(A160&\"\",'Fichero de Jugadores'!$A$2:$H$5000,3,0))","v":""},{"$f":"IF(B160=\"\",\"\",VLOOKUP(B160&\"\",'Fichero de Jugadores'!$A$2:$H$5000,3,0))","v":""},{"$error":"#N/A"},{"$f":"IF(A160=\"\",\"\",VLOOKUP(A160&\"\",'Fichero de Jugadores'!$A$2:$I$5000,6,0))","v":""},{"$f":"IF(B160=\"\",\"\",VLOOKUP(B160&\"\",'Fichero de Jugadores'!$A$2:$I$5000,6,0))","v":""},"",null,null,{"$f":"IF(A160=\"\",\"\",VLOOKUP(A160&\"\",'Fichero de Jugadores'!$A$2:$I$4565,4,0))","v":""},{"$f":"IF(B160=\"\",\"\",VLOOKUP(B160&\"\",'Fichero de Jugadores'!$A$2:$I$4565,4,0))","v":""},{"$f":"IF(C160=\"\",\"\",VLOOKUP(A160&\"\",'Fichero de Jugadores'!$A$2:$I$4565,7,0))","v":{"$error":"#N/A"}},{"$f":"IF(C160=\"\",\"\",VLOOKUP(B160&\"\",'Fichero de Jugadores'!$A$2:$I$4565,7,0))","v":{"$error":"#N/A"}}]
[null,null,158,{"$f":"IF(A161=\"\",\"\",VLOOKUP(A161&\"\",'Fichero de Jugadores'!$A$2:$H$5000,2,0))","v":""},{"$f":"IF(B161=\"\",\"\",VLOOKUP(B161&\"\",'Fichero de Jugadores'!$A$2:$H$5000,2,0))","v":""},null,{"$f":"IF(A161=\"\",\"\",VLOOKUP(A161&\"\",'Fichero de Jugadores'!$A$2:$H$5000,3,0))","v":""},{"$f":"IF(B161=\"\",\"\",VLOOKUP(B161&\"\",'Fichero de Jugadores'!$A$2:$H$5000,3,0))","v":""},{"$error":"#N/A"},{"$f":"IF(A161=\"\",\"\",VLOOKUP(A161&\"\",'Fichero de Jugadores'!$A$2:$I$5000,6,0))","v":""},{"$f":"IF(B161=\"\",\"\",VLOOKUP(B161&\"\",'Fichero de Jugadores'!$A$2:$I$5000,6,0))","v":""},"",null,null,{"$f":"IF(A161=\"\",\"\",VLOOKUP(A161&\"\",'Fichero de Jugadores'!$A$2:$I$4565,4,0))","v":""},{"$f":"IF(B161=\"\",\"\",VLOOKUP(B161&\"\",'Fichero de Jugadores'!$A$2:$I$4565,4,0))","v":""},{"$f":"IF(C161=\"\",\"\",VLOOKUP(A161&\"\",'Fichero de Jugadores'!$A$2:$I$4565,7,0))","v":{"$error":"#N/A"}},{"$f":"IF(C161=\"\",\"\",VLOOKUP(B161&\"\",'Fichero de Jugadores'!$A$2:$I$4565,7,0))","v":{"$error":"#N/A"}}]
[null,null,159,{"$f":"IF(A162=\"\",\"\",VLOOKUP(A162&\"\",'Fichero de Jugadores'!$A$2:$H$5000,2,0))","v":""},{"$f":"IF(B162=\"\",\"\",VLOOKUP(B162&\"\",'Fichero de Jugadores'!$A$2:$H$5000,2,0))","v":""},null,{"$f":"IF(A162=\"\",\"\",VLOOKUP(A162&\"\",'Fichero de Jugadores'!$A$2:$H$5000,3,0))","v":""},{"$f":"IF(B162=\"\",\"\",VLOOKUP(B162&\"\",'Fichero de Jugadores'!$A$2:$H$5000,3,0))","v":""},{"$error":"#N/A"},{"$f":"IF(A162=\"\",\"\",VLOOKUP(A162&\"\",'Fichero de Jugadores'!$A$2:$I$5000,6,0))","v":""},{"$f":"IF(B162=\"\",\"\",VLOOKUP(B162&\"\",'Fichero de Jugadores'!$A$2:$I$5000,6,0))","v":""},"",null,null,{"$f":"IF(A162=\"\",\"\",VLOOKUP(A162&\"\",'Fichero de Jugadores'!$A$2:$I$4565,4,0))","v":""},{"$f":"IF(B162=\"\",\"\",VLOOKUP(B162&\"\",'Fichero de Jugadores'!$A$2:$I$4565,4,0))","v":""},{"$f":"IF(C162=\"\",\"\",VLOOKUP(A162&\"\",'Fichero de Jugadores'!$A$2:$I$4565,7,0))","v":{"$error":"#N/A"}},{"$f":"IF(C162=\"\",\"\",VLOOKUP(B162&\"\",'Fichero de Jugadores'!$A$2:$I$4565,7,0))","v":{"$error":"#N/A"}}]
[null,null,160,{"$f":"IF(A163=\"\",\"\",VLOOKUP(A163&\"\",'Fichero de Jugadores'!$A$2:$H$5000,2,0))","v":""},{"$f":"IF(B163=\"\",\"\",VLOOKUP(B163&\"\",'Fichero de Jugadores'!$A$2:$H$5000,2,0))","v":""},null,{"$f":"IF(A163=\"\",\"\",VLOOKUP(A163&\"\",'Fichero de Jugadores'!$A$2:$H$5000,3,0))","v":""},{"$f":"IF(B163=\"\",\"\",VLOOKUP(B163&\"\",'Fichero de Jugadores'!$A$2:$H$5000,3,0))","v":""},{"$error":"#N/A"},{"$f":"IF(A163=\"\",\"\",VLOOKUP(A163&\"\",'Fichero de Jugadores'!$A$2:$I$5000,6,0))","v":""},{"$f":"IF(B163=\"\",\"\",VLOOKUP(B163&\"\",'Fichero de Jugadores'!$A$2:$I$5000,6,0))","v":""},"",null,null,{"$f":"IF(A163=\"\",\"\",VLOOKUP(A163&\"\",'Fichero de Jugadores'!$A$2:$I$4565,4,0))","v":""},{"$f":"IF(B163=\"\",\"\",VLOOKUP(B163&\"\",'Fichero de Jugadores'!$A$2:$I$4565,4,0))","v":""},{"$f":"IF(C163=\"\",\"\",VLOOKUP(A163&\"\",'Fichero de Jugadores'!$A$2:$I$4565,7,0))","v":{"$error":"#N/A"}},{"$f":"IF(C163=\"\",\"\",VLOOKUP(B163&\"\",'Fichero de Jugadores'!$A$2:$I$4565,7,0))","v":{"$error":"#N/A"}}]
[null,null,161,{"$f":"IF(A164=\"\",\"\",VLOOKUP(A164&\"\",'Fichero de Jugadores'!$A$2:$H$5000,2,0))","v":""},{"$f":"IF(B164=\"\",\"\",VLOOKUP(B164&\"\",'Fichero de Jugadores'!$A$2:$H$5000,2,0))","v":""},null,{"$f":"IF(A164=\"\",\"\",VLOOKUP(A164&\"\",'Fichero de Jugadores'!$A$2:$H$5000,3,0))","v":""},{"$f":"IF(B164=\"\",\"\",VLOOKUP(B164&\"\",'Fichero de Jugadores'!$A$2:$H$5000,3,0))","v":""},{"$error":"#N/A"},{"$f":"IF(A164=\"\",\"\",VLOOKUP(A164&\"\",'Fichero de Jugadores'!$A$2:$I$5000,6,0))","v":""},{"$f":"IF(B164=\"\",\"\",VLOOKUP(B164&\"\",'Fichero de Jugadores'!$A$2:$I$5000,6,0))","v":""},"",null,null,{"$f":"IF(A164=\"\",\"\",VLOOKUP(A164&\"\",'Fichero de Jugadores'!$A$2:$I$4565,4,0))","v":""},{"$f":"IF(B164=\"\",\"\",VLOOKUP(B164&\"\",'Fichero de Jugadores'!$A$2:$I$4565,4,0))","v":""},{"$f":"IF(C164=\"\",\"\",VLOOKUP(A164&\"\",'Fichero de Jugadores'!$A$2:$I$4565,7,0))","v":{"$error":"#N/A"}},{"$f":"IF(C164=\"\",\"\",VLOOKUP(B164&\"\",'Fichero de Jugadores'!$A$2:$I$4565,7,0))","v":{"$error":"#N/A"}}]
[null,null,162,{"$f":"IF(A165=\"\",\"\",VLOOKUP(A165&\"\",'Fichero de Jugadores'!$A$2:$H$5000,2,0))","v":""},{"$f":"IF(B165=\"\",\"\",VLOOKUP(B165&\"\",'Fichero de Jugadores'!$A$2:$H$5000,2,0))","v":""},null,{"$f":"IF(A165=\"\",\"\",VLOOKUP(A165&\"\",'Fichero de Jugadores'!$A$2:$H$5000,3,0))","v":""},{"$f":"IF(B165=\"\",\"\",VLOOKUP(B165&\"\",'Fichero de Jugadores'!$A$2:$H$5000,3,0))","v":""},{"$error":"#N/A"},{"$f":"IF(A165=\"\",\"\",VLOOKUP(A165&\"\",'Fichero de Jugadores'!$A$2:$I$5000,6,0))","v":""},{"$f":"IF(B165=\"\",\"\",VLOOKUP(B165&\"\",'Fichero de Jugadores'!$A$2:$I$5000,6,0))","v":""},"",null,null,{"$f":"IF(A165=\"\",\"\",VLOOKUP(A165&\"\",'Fichero de Jugadores'!$A$2:$I$4565,4,0))","v":""},{"$f":"IF(B165=\"\",\"\",VLOOKUP(B165&\"\",'Fichero de Jugadores'!$A$2:$I$4565,4,0))","v":""},{"$f":"IF(C165=\"\",\"\",VLOOKUP(A165&\"\",'Fichero de Jugadores'!$A$2:$I$4565,7,0))","v":{"$error":"#N/A"}},{"$f":"IF(C165=\"\",\"\",VLOOKUP(B165&\"\",'Fichero de Jugadores'!$A$2:$I$4565,7,0))","v":{"$error":"#N/A"}}]
[null,null,163,{"$f":"IF(A166=\"\",\"\",VLOOKUP(A166&\"\",'Fichero de Jugadores'!$A$2:$H$5000,2,0))","v":""},{"$f":"IF(B166=\"\",\"\",VLOOKUP(B166&\"\",'Fichero de Jugadores'!$A$2:$H$5000,2,0))","v":""},null,{"$f":"IF(A166=\"\",\"\",VLOOKUP(A166&\"\",'Fichero de Jugadores'!$A$2:$H$5000,3,0))","v":""},{"$f":"IF(B166=\"\",\"\",VLOOKUP(B166&\"\",'Fichero de Jugadores'!$A$2:$H$5000,3,0))","v":""},{"$error":"#N/A"},{"$f":"IF(A166=\"\",\"\",VLOOKUP(A166&\"\",'Fichero de Jugadores'!$A$2:$I$5000,6,0))","v":""},{"$f":"IF(B166=\"\",\"\",VLOOKUP(B166&\"\",'Fichero de Jugadores'!$A$2:$I$5000,6,0))","v":""},"",null,null,{"$f":"IF(A166=\"\",\"\",VLOOKUP(A166&\"\",'Fichero de Jugadores'!$A$2:$I$4565,4,0))","v":""},{"$f":"IF(B166=\"\",\"\",VLOOKUP(B166&\"\",'Fichero de Jugadores'!$A$2:$I$4565,4,0))","v":""},{"$f":"IF(C166=\"\",\"\",VLOOKUP(A166&\"\",'Fichero de Jugadores'!$A$2:$I$4565,7,0))","v":{"$error":"#N/A"}},{"$f":"IF(C166=\"\",\"\",VLOOKUP(B166&\"\",'Fichero de Jugadores'!$A$2:$I$4565,7,0))","v":{"$error":"#N/A"}}]
[null,null,164,{"$f":"IF(A167=\"\",\"\",VLOOKUP(A167&\"\",'Fichero de Jugadores'!$A$2:$H$5000,2,0))","v":""},{"$f":"IF(B167=\"\",\"\",VLOOKUP(B167&\"\",'Fichero de Jugadores'!$A$2:$H$5000,2,0))","v":""},null,{"$f":"IF(A167=\"\",\"\",VLOOKUP(A167&\"\",'Fichero de Jugadores'!$A$2:$H$5000,3,0))","v":""},{"$f":"IF(B167=\"\",\"\",VLOOKUP(B167&\"\",'Fichero de Jugadores'!$A$2:$H$5000,3,0))","v":""},{"$error":"#N/A"},{"$f":"IF(A167=\"\",\"\",VLOOKUP(A167&\"\",'Fichero de Jugadores'!$A$2:$I$5000,6,0))","v":""},{"$f":"IF(B167=\"\",\"\",VLOOKUP(B167&\"\",'Fichero de Jugadores'!$A$2:$I$5000,6,0))","v":""},"",null,null,{"$f":"IF(A167=\"\",\"\",VLOOKUP(A167&\"\",'Fichero de Jugadores'!$A$2:$I$4565,4,0))","v":""},{"$f":"IF(B167=\"\",\"\",VLOOKUP(B167&\"\",'Fichero de Jugadores'!$A$2:$I$4565,4,0))","v":""},{"$f":"IF(C167=\"\",\"\",VLOOKUP(A167&\"\",'Fichero de Jugadores'!$A$2:$I$4565,7,0))","v":{"$error":"#N/A"}},{"$f":"IF(C167=\"\",\"\",VLOOKUP(B167&\"\",'Fichero de Jugadores'!$A$2:$I$4565,7,0))","v":{"$error":"#N/A"}}]
[null,null,165,{"$f":"IF(A168=\"\",\"\",VLOOKUP(A168&\"\",'Fichero de Jugadores'!$A$2:$H$5000,2,0))","v":""},{"$f":"IF(B168=\"\",\"\",VLOOKUP(B168&\"\",'Fichero de Jugadores'!$A$2:$H$5000,2,0))","v":""},null,{"$f":"IF(A168=\"\",\"\",VLOOKUP(A168&\"\",'Fichero de Jugadores'!$A$2:$H$5000,3,0))","v":""},{"$f":"IF(B168=\"\",\"\",VLOOKUP(B168&\"\",'Fichero de Jugadores'!$A$2:$H$5000,3,0))","v":""},{"$error":"#N/A"},{"$f":"IF(A168=\"\",\"\",VLOOKUP(A168&\"\",'Fichero de Jugadores'!$A$2:$I$5000,6,0))","v":""},{"$f":"IF(B168=\"\",\"\",VLOOKUP(B168&\"\",'Fichero de Jugadores'!$A$2:$I$5000,6,0))","v":""},"",null,null,{"$f":"IF(A168=\"\",\"\",VLOOKUP(A168&\"\",'Fichero de Jugadores'!$A$2:$I$4565,4,0))","v":""},{"$f":"IF(B168=\"\",\"\",VLOOKUP(B168&\"\",'Fichero de Jugadores'!$A$2:$I$4565,4,0))","v":""},{"$f":"IF(C168=\"\",\"\",VLOOKUP(A168&\"\",'Fichero de Jugadores'!$A$2:$I$4565,7,0))","v":{"$error":"#N/A"}},{"$f":"IF(C168=\"\",\"\",VLOOKUP(B168&\"\",'Fichero de Jugadores'!$A$2:$I$4565,7,0))","v":{"$error":"#N/A"}}]
[null,null,166,{"$f":"IF(A169=\"\",\"\",VLOOKUP(A169&\"\",'Fichero de Jugadores'!$A$2:$H$5000,2,0))","v":""},{"$f":"IF(B169=\"\",\"\",VLOOKUP(B169&\"\",'Fichero de Jugadores'!$A$2:$H$5000,2,0))","v":""},null,{"$f":"IF(A169=\"\",\"\",VLOOKUP(A169&\"\",'Fichero de Jugadores'!$A$2:$H$5000,3,0))","v":""},{"$f":"IF(B169=\"\",\"\",VLOOKUP(B169&\"\",'Fichero de Jugadores'!$A$2:$H$5000,3,0))","v":""},{"$error":"#N/A"},{"$f":"IF(A169=\"\",\"\",VLOOKUP(A169&\"\",'Fichero de Jugadores'!$A$2:$I$5000,6,0))","v":""},{"$f":"IF(B169=\"\",\"\",VLOOKUP(B169&\"\",'Fichero de Jugadores'!$A$2:$I$5000,6,0))","v":""},"",null,null,{"$f":"IF(A169=\"\",\"\",VLOOKUP(A169&\"\",'Fichero de Jugadores'!$A$2:$I$4565,4,0))","v":""},{"$f":"IF(B169=\"\",\"\",VLOOKUP(B169&\"\",'Fichero de Jugadores'!$A$2:$I$4565,4,0))","v":""},{"$f":"IF(C169=\"\",\"\",VLOOKUP(A169&\"\",'Fichero de Jugadores'!$A$2:$I$4565,7,0))","v":{"$error":"#N/A"}},{"$f":"IF(C169=\"\",\"\",VLOOKUP(B169&\"\",'Fichero de Jugadores'!$A$2:$I$4565,7,0))","v":{"$error":"#N/A"}}]
[null,null,167,{"$f":"IF(A170=\"\",\"\",VLOOKUP(A170&\"\",'Fichero de Jugadores'!$A$2:$H$5000,2,0))","v":""},{"$f":"IF(B170=\"\",\"\",VLOOKUP(B170&\"\",'Fichero de Jugadores'!$A$2:$H$5000,2,0))","v":""},null,{"$f":"IF(A170=\"\",\"\",VLOOKUP(A170&\"\",'Fichero de Jugadores'!$A$2:$H$5000,3,0))","v":""},{"$f":"IF(B170=\"\",\"\",VLOOKUP(B170&\"\",'Fichero de Jugadores'!$A$2:$H$5000,3,0))","v":""},{"$error":"#N/A"},{"$f":"IF(A170=\"\",\"\",VLOOKUP(A170&\"\",'Fichero de Jugadores'!$A$2:$I$5000,6,0))","v":""},{"$f":"IF(B170=\"\",\"\",VLOOKUP(B170&\"\",'Fichero de Jugadores'!$A$2:$I$5000,6,0))","v":""},"",null,null,{"$f":"IF(A170=\"\",\"\",VLOOKUP(A170&\"\",'Fichero de Jugadores'!$A$2:$I$4565,4,0))","v":""},{"$f":"IF(B170=\"\",\"\",VLOOKUP(B170&\"\",'Fichero de Jugadores'!$A$2:$I$4565,4,0))","v":""},{"$f":"IF(C170=\"\",\"\",VLOOKUP(A170&\"\",'Fichero de Jugadores'!$A$2:$I$4565,7,0))","v":{"$error":"#N/A"}},{"$f":"IF(C170=\"\",\"\",VLOOKUP(B170&\"\",'Fichero de Jugadores'!$A$2:$I$4565,7,0))","v":{"$error":"#N/A"}}]
[null,null,168,{"$f":"IF(A171=\"\",\"\",VLOOKUP(A171&\"\",'Fichero de Jugadores'!$A$2:$H$5000,2,0))","v":""},{"$f":"IF(B171=\"\",\"\",VLOOKUP(B171&\"\",'Fichero de Jugadores'!$A$2:$H$5000,2,0))","v":""},null,{"$f":"IF(A171=\"\",\"\",VLOOKUP(A171&\"\",'Fichero de Jugadores'!$A$2:$H$5000,3,0))","v":""},{"$f":"IF(B171=\"\",\"\",VLOOKUP(B171&\"\",'Fichero de Jugadores'!$A$2:$H$5000,3,0))","v":""},{"$error":"#N/A"},{"$f":"IF(A171=\"\",\"\",VLOOKUP(A171&\"\",'Fichero de Jugadores'!$A$2:$I$5000,6,0))","v":""},{"$f":"IF(B171=\"\",\"\",VLOOKUP(B171&\"\",'Fichero de Jugadores'!$A$2:$I$5000,6,0))","v":""},"",null,null,{"$f":"IF(A171=\"\",\"\",VLOOKUP(A171&\"\",'Fichero de Jugadores'!$A$2:$I$4565,4,0))","v":""},{"$f":"IF(B171=\"\",\"\",VLOOKUP(B171&\"\",'Fichero de Jugadores'!$A$2:$I$4565,4,0))","v":""},{"$f":"IF(C171=\"\",\"\",VLOOKUP(A171&\"\",'Fichero de Jugadores'!$A$2:$I$4565,7,0))","v":{"$error":"#N/A"}},{"$f":"IF(C171=\"\",\"\",VLOOKUP(B171&\"\",'Fichero de Jugadores'!$A$2:$I$4565,7,0))","v":{"$error":"#N/A"}}]
[null,null,169,{"$f":"IF(A172=\"\",\"\",VLOOKUP(A172&\"\",'Fichero de Jugadores'!$A$2:$H$5000,2,0))","v":""},{"$f":"IF(B172=\"\",\"\",VLOOKUP(B172&\"\",'Fichero de Jugadores'!$A$2:$H$5000,2,0))","v":""},null,{"$f":"IF(A172=\"\",\"\",VLOOKUP(A172&\"\",'Fichero de Jugadores'!$A$2:$H$5000,3,0))","v":""},{"$f":"IF(B172=\"\",\"\",VLOOKUP(B172&\"\",'Fichero de Jugadores'!$A$2:$H$5000,3,0))","v":""},{"$error":"#N/A"},{"$f":"IF(A172=\"\",\"\",VLOOKUP(A172&\"\",'Fichero de Jugadores'!$A$2:$I$5000,6,0))","v":""},{"$f":"IF(B172=\"\",\"\",VLOOKUP(B172&\"\",'Fichero de Jugadores'!$A$2:$I$5000,6,0))","v":""},"",null,null,{"$f":"IF(A172=\"\",\"\",VLOOKUP(A172&\"\",'Fichero de Jugadores'!$A$2:$I$4565,4,0))","v":""},{"$f":"IF(B172=\"\",\"\",VLOOKUP(B172&\"\",'Fichero de Jugadores'!$A$2:$I$4565,4,0))","v":""},{"$f":"IF(C172=\"\",\"\",VLOOKUP(A172&\"\",'Fichero de Jugadores'!$A$2:$I$4565,7,0))","v":{"$error":"#N/A"}},{"$f":"IF(C172=\"\",\"\",VLOOKUP(B172&\"\",'Fichero de Jugadores'!$A$2:$I$4565,7,0))","v":{"$error":"#N/A"}}]
[null,null,170,{"$f":"IF(A173=\"\",\"\",VLOOKUP(A173&\"\",'Fichero de Jugadores'!$A$2:$H$5000,2,0))","v":""},{"$f":"IF(B173=\"\",\"\",VLOOKUP(B173&\"\",'Fichero de Jugadores'!$A$2:$H$5000,2,0))","v":""},null,{"$f":"IF(A173=\"\",\"\",VLOOKUP(A173&\"\",'Fichero de Jugadores'!$A$2:$H$5000,3,0))","v":""},{"$f":"IF(B173=\"\",\"\",VLOOKUP(B173&\"\",'Fichero de Jugadores'!$A$2:$H$5000,3,0))","v":""},{"$error":"#N/A"},{"$f":"IF(A173=\"\",\"\",VLOOKUP(A173&\"\",'Fichero de Jugadores'!$A$2:$I$5000,6,0))","v":""},{"$f":"IF(B173=\"\",\"\",VLOOKUP(B173&\"\",'Fichero de Jugadores'!$A$2:$I$5000,6,0))","v":""},"",null,null,{"$f":"IF(A173=\"\",\"\",VLOOKUP(A173&\"\",'Fichero de Jugadores'!$A$2:$I$4565,4,0))","v":""},{"$f":"IF(B173=\"\",\"\",VLOOKUP(B173&\"\",'Fichero de Jugadores'!$A$2:$I$4565,4,0))","v":""},{"$f":"IF(C173=\"\",\"\",VLOOKUP(A173&\"\",'Fichero de Jugadores'!$A$2:$I$4565,7,0))","v":{"$error":"#N/A"}},{"$f":"IF(C173=\"\",\"\",VLOOKUP(B173&\"\",'Fichero de Jugadores'!$A$2:$I$4565,7,0))","v":{"$error":"#N/A"}}]
[null,null,171,{"$f":"IF(A174=\"\",\"\",VLOOKUP(A174&\"\",'Fichero de Jugadores'!$A$2:$H$5000,2,0))","v":""},{"$f":"IF(B174=\"\",\"\",VLOOKUP(B174&\"\",'Fichero de Jugadores'!$A$2:$H$5000,2,0))","v":""},null,{"$f":"IF(A174=\"\",\"\",VLOOKUP(A174&\"\",'Fichero de Jugadores'!$A$2:$H$5000,3,0))","v":""},{"$f":"IF(B174=\"\",\"\",VLOOKUP(B174&\"\",'Fichero de Jugadores'!$A$2:$H$5000,3,0))","v":""},{"$error":"#N/A"},{"$f":"IF(A174=\"\",\"\",VLOOKUP(A174&\"\",'Fichero de Jugadores'!$A$2:$I$5000,6,0))","v":""},{"$f":"IF(B174=\"\",\"\",VLOOKUP(B174&\"\",'Fichero de Jugadores'!$A$2:$I$5000,6,0))","v":""},"",null,null,{"$f":"IF(A174=\"\",\"\",VLOOKUP(A174&\"\",'Fichero de Jugadores'!$A$2:$I$4565,4,0))","v":""},{"$f":"IF(B174=\"\",\"\",VLOOKUP(B174&\"\",'Fichero de Jugadores'!$A$2:$I$4565,4,0))","v":""},{"$f":"IF(C174=\"\",\"\",VLOOKUP(A174&\"\",'Fichero de Jugadores'!$A$2:$I$4565,7,0))","v":{"$error":"#N/A"}},{"$f":"IF(C174=\"\",\"\",VLOOKUP(B174&\"\",'Fichero de Jugadores'!$A$2:$I$4565,7,0))","v":{"$error":"#N/A"}}]
[null,null,172,{"$f":"IF(A175=\"\",\"\",VLOOKUP(A175&\"\",'Fichero de Jugadores'!$A$2:$H$5000,2,0))","v":""},{"$f":"IF(B175=\"\",\"\",VLOOKUP(B175&\"\",'Fichero de Jugadores'!$A$2:$H$5000,2,0))","v":""},null,{"$f":"IF(A175=\"\",\"\",VLOOKUP(A175&\"\",'Fichero de Jugadores'!$A$2:$H$5000,3,0))","v":""},{"$f":"IF(B175=\"\",\"\",VLOOKUP(B175&\"\",'Fichero de Jugadores'!$A$2:$H$5000,3,0))","v":""},{"$error":"#N/A"},{"$f":"IF(A175=\"\",\"\",VLOOKUP(A175&\"\",'Fichero de Jugadores'!$A$2:$I$5000,6,0))","v":""},{"$f":"IF(B175=\"\",\"\",VLOOKUP(B175&\"\",'Fichero de Jugadores'!$A$2:$I$5000,6,0))","v":""},"",null,null,{"$f":"IF(A175=\"\",\"\",VLOOKUP(A175&\"\",'Fichero de Jugadores'!$A$2:$I$4565,4,0))","v":""},{"$f":"IF(B175=\"\",\"\",VLOOKUP(B175&\"\",'Fichero de Jugadores'!$A$2:$I$4565,4,0))","v":""},{"$f":"IF(C175=\"\",\"\",VLOOKUP(A175&\"\",'Fichero de Jugadores'!$A$2:$I$4565,7,0))","v":{"$error":"#N/A"}},{"$f":"IF(C175=\"\",\"\",VLOOKUP(B175&\"\",'Fichero de Jugadores'!$A$2:$I$4565,7,0))","v":{"$error":"#N/A"}}]
[null,null,173,{"$f":"IF(A176=\"\",\"\",VLOOKUP(A176&\"\",'Fichero de Jugadores'!$A$2:$H$5000,2,0))","v":""},{"$f":"IF(B176=\"\",\"\",VLOOKUP(B176&\"\",'Fichero de Jugadores'!$A$2:$H$5000,2,0))","v":""},null,{"$f":"IF(A176=\"\",\"\",VLOOKUP(A176&\"\",'Fichero de Jugadores'!$A$2:$H$5000,3,0))","v":""},{"$f":"IF(B176=\"\",\"\",VLOOKUP(B176&\"\",'Fichero de Jugadores'!$A$2:$H$5000,3,0))","v":""},{"$error":"#N/A"},{"$f":"IF(A176=\"\",\"\",VLOOKUP(A176&\"\",'Fichero de Jugadores'!$A$2:$I$5000,6,0))","v":""},{"$f":"IF(B176=\"\",\"\",VLOOKUP(B176&\"\",'Fichero de Jugadores'!$A$2:$I$5000,6,0))","v":""},"",null,null,{"$f":"IF(A176=\"\",\"\",VLOOKUP(A176&\"\",'Fichero de Jugadores'!$A$2:$I$4565,4,0))","v":""},{"$f":"IF(B176=\"\",\"\",VLOOKUP(B176&\"\",'Fichero de Jugadores'!$A$2:$I$4565,4,0))","v":""},{"$f":"IF(C176=\"\",\"\",VLOOKUP(A176&\"\",'Fichero de Jugadores'!$A$2:$I$4565,7,0))","v":{"$error":"#N/A"}},{"$f":"IF(C176=\"\",\"\",VLOOKUP(B176&\"\",'Fichero de Jugadores'!$A$2:$I$4565,7,0))","v":{"$error":"#N/A"}}]
[null,null,174,{"$f":"IF(A177=\"\",\"\",VLOOKUP(A177&\"\",'Fichero de Jugadores'!$A$2:$H$5000,2,0))","v":""},{"$f":"IF(B177=\"\",\"\",VLOOKUP(B177&\"\",'Fichero de Jugadores'!$A$2:$H$5000,2,0))","v":""},null,{"$f":"IF(A177=\"\",\"\",VLOOKUP(A177&\"\",'Fichero de Jugadores'!$A$2:$H$5000,3,0))","v":""},{"$f":"IF(B177=\"\",\"\",VLOOKUP(B177&\"\",'Fichero de Jugadores'!$A$2:$H$5000,3,0))","v":""},{"$error":"#N/A"},{"$f":"IF(A177=\"\",\"\",VLOOKUP(A177&\"\",'Fichero de Jugadores'!$A$2:$I$5000,6,0))","v":""},{"$f":"IF(B177=\"\",\"\",VLOOKUP(B177&\"\",'Fichero de Jugadores'!$A$2:$I$5000,6,0))","v":""},"",null,null,{"$f":"IF(A177=\"\",\"\",VLOOKUP(A177&\"\",'Fichero de Jugadores'!$A$2:$I$4565,4,0))","v":""},{"$f":"IF(B177=\"\",\"\",VLOOKUP(B177&\"\",'Fichero de Jugadores'!$A$2:$I$4565,4,0))","v":""},{"$f":"IF(C177=\"\",\"\",VLOOKUP(A177&\"\",'Fichero de Jugadores'!$A$2:$I$4565,7,0))","v":{"$error":"#N/A"}},{"$f":"IF(C177=\"\",\"\",VLOOKUP(B177&\"\",'Fichero de Jugadores'!$A$2:$I$4565,7,0))","v":{"$error":"#N/A"}}]
[null,null,175,{"$f":"IF(A178=\"\",\"\",VLOOKUP(A178&\"\",'Fichero de Jugadores'!$A$2:$H$5000,2,0))","v":""},{"$f":"IF(B178=\"\",\"\",VLOOKUP(B178&\"\",'Fichero de Jugadores'!$A$2:$H$5000,2,0))","v":""},null,{"$f":"IF(A178=\"\",\"\",VLOOKUP(A178&\"\",'Fichero de Jugadores'!$A$2:$H$5000,3,0))","v":""},{"$f":"IF(B178=\"\",\"\",VLOOKUP(B178&\"\",'Fichero de Jugadores'!$A$2:$H$5000,3,0))","v":""},{"$error":"#N/A"},{"$f":"IF(A178=\"\",\"\",VLOOKUP(A178&\"\",'Fichero de Jugadores'!$A$2:$I$5000,6,0))","v":""},{"$f":"IF(B178=\"\",\"\",VLOOKUP(B178&\"\",'Fichero de Jugadores'!$A$2:$I$5000,6,0))","v":""},"",null,null,{"$f":"IF(A178=\"\",\"\",VLOOKUP(A178&\"\",'Fichero de Jugadores'!$A$2:$I$4565,4,0))","v":""},{"$f":"IF(B178=\"\",\"\",VLOOKUP(B178&\"\",'Fichero de Jugadores'!$A$2:$I$4565,4,0))","v":""},{"$f":"IF(C178=\"\",\"\",VLOOKUP(A178&\"\",'Fichero de Jugadores'!$A$2:$I$4565,7,0))","v":{"$error":"#N/A"}},{"$f":"IF(C178=\"\",\"\",VLOOKUP(B178&\"\",'Fichero de Jugadores'!$A$2:$I$4565,7,0))","v":{"$error":"#N/A"}}]
[null,null,176,{"$f":"IF(A179=\"\",\"\",VLOOKUP(A179&\"\",'Fichero de Jugadores'!$A$2:$H$5000,2,0))","v":""},{"$f":"IF(B179=\"\",\"\",VLOOKUP(B179&\"\",'Fichero de Jugadores'!$A$2:$H$5000,2,0))","v":""},null,{"$f":"IF(A179=\"\",\"\",VLOOKUP(A179&\"\",'Fichero de Jugadores'!$A$2:$H$5000,3,0))","v":""},{"$f":"IF(B179=\"\",\"\",VLOOKUP(B179&\"\",'Fichero de Jugadores'!$A$2:$H$5000,3,0))","v":""},{"$error":"#N/A"},{"$f":"IF(A179=\"\",\"\",VLOOKUP(A179&\"\",'Fichero de Jugadores'!$A$2:$I$5000,6,0))","v":""},{"$f":"IF(B179=\"\",\"\",VLOOKUP(B179&\"\",'Fichero de Jugadores'!$A$2:$I$5000,6,0))","v":""},"",null,null,{"$f":"IF(A179=\"\",\"\",VLOOKUP(A179&\"\",'Fichero de Jugadores'!$A$2:$I$4565,4,0))","v":""},{"$f":"IF(B179=\"\",\"\",VLOOKUP(B179&\"\",'Fichero de Jugadores'!$A$2:$I$4565,4,0))","v":""},{"$f":"IF(C179=\"\",\"\",VLOOKUP(A179&\"\",'Fichero de Jugadores'!$A$2:$I$4565,7,0))","v":{"$error":"#N/A"}},{"$f":"IF(C179=\"\",\"\",VLOOKUP(B179&\"\",'Fichero de Jugadores'!$A$2:$I$4565,7,0))","v":{"$error":"#N/A"}}]
[null,null,177,{"$f":"IF(A180=\"\",\"\",VLOOKUP(A180&\"\",'Fichero de Jugadores'!$A$2:$H$5000,2,0))","v":""},{"$f":"IF(B180=\"\",\"\",VLOOKUP(B180&\"\",'Fichero de Jugadores'!$A$2:$H$5000,2,0))","v":""},null,{"$f":"IF(A180=\"\",\"\",VLOOKUP(A180&\"\",'Fichero de Jugadores'!$A$2:$H$5000,3,0))","v":""},{"$f":"IF(B180=\"\",\"\",VLOOKUP(B180&\"\",'Fichero de Jugadores'!$A$2:$H$5000,3,0))","v":""},{"$error":"#N/A"},{"$f":"IF(A180=\"\",\"\",VLOOKUP(A180&\"\",'Fichero de Jugadores'!$A$2:$I$5000,6,0))","v":""},{"$f":"IF(B180=\"\",\"\",VLOOKUP(B180&\"\",'Fichero de Jugadores'!$A$2:$I$5000,6,0))","v":""},"",null,null,{"$f":"IF(A180=\"\",\"\",VLOOKUP(A180&\"\",'Fichero de Jugadores'!$A$2:$I$4565,4,0))","v":""},{"$f":"IF(B180=\"\",\"\",VLOOKUP(B180&\"\",'Fichero de Jugadores'!$A$2:$I$4565,4,0))","v":""},{"$f":"IF(C180=\"\",\"\",VLOOKUP(A180&\"\",'Fichero de Jugadores'!$A$2:$I$4565,7,0))","v":{"$error":"#N/A"}},{"$f":"IF(C180=\"\",\"\",VLOOKUP(B180&\"\",'Fichero de Jugadores'!$A$2:$I$4565,7,0))","v":{"$error":"#N/A"}}]
[null,null,178,{"$f":"IF(A181=\"\",\"\",VLOOKUP(A181&\"\",'Fichero de Jugadores'!$A$2:$H$5000,2,0))","v":""},{"$f":"IF(B181=\"\",\"\",VLOOKUP(B181&\"\",'Fichero de Jugadores'!$A$2:$H$5000,2,0))","v":""},null,{"$f":"IF(A181=\"\",\"\",VLOOKUP(A181&\"\",'Fichero de Jugadores'!$A$2:$H$5000,3,0))","v":""},{"$f":"IF(B181=\"\",\"\",VLOOKUP(B181&\"\",'Fichero de Jugadores'!$A$2:$H$5000,3,0))","v":""},{"$error":"#N/A"},{"$f":"IF(A181=\"\",\"\",VLOOKUP(A181&\"\",'Fichero de Jugadores'!$A$2:$I$5000,6,0))","v":""},{"$f":"IF(B181=\"\",\"\",VLOOKUP(B181&\"\",'Fichero de Jugadores'!$A$2:$I$5000,6,0))","v":""},"",null,null,{"$f":"IF(A181=\"\",\"\",VLOOKUP(A181&\"\",'Fichero de Jugadores'!$A$2:$I$4565,4,0))","v":""},{"$f":"IF(B181=\"\",\"\",VLOOKUP(B181&\"\",'Fichero de Jugadores'!$A$2:$I$4565,4,0))","v":""},{"$f":"IF(C181=\"\",\"\",VLOOKUP(A181&\"\",'Fichero de Jugadores'!$A$2:$I$4565,7,0))","v":{"$error":"#N/A"}},{"$f":"IF(C181=\"\",\"\",VLOOKUP(B181&\"\",'Fichero de Jugadores'!$A$2:$I$4565,7,0))","v":{"$error":"#N/A"}}]
[null,null,179,{"$f":"IF(A182=\"\",\"\",VLOOKUP(A182&\"\",'Fichero de Jugadores'!$A$2:$H$5000,2,0))","v":""},{"$f":"IF(B182=\"\",\"\",VLOOKUP(B182&\"\",'Fichero de Jugadores'!$A$2:$H$5000,2,0))","v":""},null,{"$f":"IF(A182=\"\",\"\",VLOOKUP(A182&\"\",'Fichero de Jugadores'!$A$2:$H$5000,3,0))","v":""},{"$f":"IF(B182=\"\",\"\",VLOOKUP(B182&\"\",'Fichero de Jugadores'!$A$2:$H$5000,3,0))","v":""},{"$error":"#N/A"},{"$f":"IF(A182=\"\",\"\",VLOOKUP(A182&\"\",'Fichero de Jugadores'!$A$2:$I$5000,6,0))","v":""},{"$f":"IF(B182=\"\",\"\",VLOOKUP(B182&\"\",'Fichero de Jugadores'!$A$2:$I$5000,6,0))","v":""},"",null,null,{"$f":"IF(A182=\"\",\"\",VLOOKUP(A182&\"\",'Fichero de Jugadores'!$A$2:$I$4565,4,0))","v":""},{"$f":"IF(B182=\"\",\"\",VLOOKUP(B182&\"\",'Fichero de Jugadores'!$A$2:$I$4565,4,0))","v":""},{"$f":"IF(C182=\"\",\"\",VLOOKUP(A182&\"\",'Fichero de Jugadores'!$A$2:$I$4565,7,0))","v":{"$error":"#N/A"}},{"$f":"IF(C182=\"\",\"\",VLOOKUP(B182&\"\",'Fichero de Jugadores'!$A$2:$I$4565,7,0))","v":{"$error":"#N/A"}}]
[null,null,180,{"$f":"IF(A183=\"\",\"\",VLOOKUP(A183&\"\",'Fichero de Jugadores'!$A$2:$H$5000,2,0))","v":""},{"$f":"IF(B183=\"\",\"\",VLOOKUP(B183&\"\",'Fichero de Jugadores'!$A$2:$H$5000,2,0))","v":""},null,{"$f":"IF(A183=\"\",\"\",VLOOKUP(A183&\"\",'Fichero de Jugadores'!$A$2:$H$5000,3,0))","v":""},{"$f":"IF(B183=\"\",\"\",VLOOKUP(B183&\"\",'Fichero de Jugadores'!$A$2:$H$5000,3,0))","v":""},{"$error":"#N/A"},{"$f":"IF(A183=\"\",\"\",VLOOKUP(A183&\"\",'Fichero de Jugadores'!$A$2:$I$5000,6,0))","v":""},{"$f":"IF(B183=\"\",\"\",VLOOKUP(B183&\"\",'Fichero de Jugadores'!$A$2:$I$5000,6,0))","v":""},"",null,null,{"$f":"IF(A183=\"\",\"\",VLOOKUP(A183&\"\",'Fichero de Jugadores'!$A$2:$I$4565,4,0))","v":""},{"$f":"IF(B183=\"\",\"\",VLOOKUP(B183&\"\",'Fichero de Jugadores'!$A$2:$I$4565,4,0))","v":""},{"$f":"IF(C183=\"\",\"\",VLOOKUP(A183&\"\",'Fichero de Jugadores'!$A$2:$I$4565,7,0))","v":{"$error":"#N/A"}},{"$f":"IF(C183=\"\",\"\",VLOOKUP(B183&\"\",'Fichero de Jugadores'!$A$2:$I$4565,7,0))","v":{"$error":"#N/A"}}]
[null,null,181,{"$f":"IF(A184=\"\",\"\",VLOOKUP(A184&\"\",'Fichero de Jugadores'!$A$2:$H$5000,2,0))","v":""},{"$f":"IF(B184=\"\",\"\",VLOOKUP(B184&\"\",'Fichero de Jugadores'!$A$2:$H$5000,2,0))","v":""},null,{"$f":"IF(A184=\"\",\"\",VLOOKUP(A184&\"\",'Fichero de Jugadores'!$A$2:$H$5000,3,0))","v":""},{"$f":"IF(B184=\"\",\"\",VLOOKUP(B184&\"\",'Fichero de Jugadores'!$A$2:$H$5000,3,0))","v":""},{"$error":"#N/A"},{"$f":"IF(A184=\"\",\"\",VLOOKUP(A184&\"\",'Fichero de Jugadores'!$A$2:$I$5000,6,0))","v":""},{"$f":"IF(B184=\"\",\"\",VLOOKUP(B184&\"\",'Fichero de Jugadores'!$A$2:$I$5000,6,0))","v":""},"",null,null,{"$f":"IF(A184=\"\",\"\",VLOOKUP(A184&\"\",'Fichero de Jugadores'!$A$2:$I$4565,4,0))","v":""},{"$f":"IF(B184=\"\",\"\",VLOOKUP(B184&\"\",'Fichero de Jugadores'!$A$2:$I$4565,4,0))","v":""},{"$f":"IF(C184=\"\",\"\",VLOOKUP(A184&\"\",'Fichero de Jugadores'!$A$2:$I$4565,7,0))","v":{"$error":"#N/A"}},{"$f":"IF(C184=\"\",\"\",VLOOKUP(B184&\"\",'Fichero de Jugadores'!$A$2:$I$4565,7,0))","v":{"$error":"#N/A"}}]
[null,null,182,{"$f":"IF(A185=\"\",\"\",VLOOKUP(A185&\"\",'Fichero de Jugadores'!$A$2:$H$5000,2,0))","v":""},{"$f":"IF(B185=\"\",\"\",VLOOKUP(B185&\"\",'Fichero de Jugadores'!$A$2:$H$5000,2,0))","v":""},null,{"$f":"IF(A185=\"\",\"\",VLOOKUP(A185&\"\",'Fichero de Jugadores'!$A$2:$H$5000,3,0))","v":""},{"$f":"IF(B185=\"\",\"\",VLOOKUP(B185&\"\",'Fichero de Jugadores'!$A$2:$H$5000,3,0))","v":""},{"$error":"#N/A"},{"$f":"IF(A185=\"\",\"\",VLOOKUP(A185&\"\",'Fichero de Jugadores'!$A$2:$I$5000,6,0))","v":""},{"$f":"IF(B185=\"\",\"\",VLOOKUP(B185&\"\",'Fichero de Jugadores'!$A$2:$I$5000,6,0))","v":""},"",null,null,{"$f":"IF(A185=\"\",\"\",VLOOKUP(A185&\"\",'Fichero de Jugadores'!$A$2:$I$4565,4,0))","v":""},{"$f":"IF(B185=\"\",\"\",VLOOKUP(B185&\"\",'Fichero de Jugadores'!$A$2:$I$4565,4,0))","v":""},{"$f":"IF(C185=\"\",\"\",VLOOKUP(A185&\"\",'Fichero de Jugadores'!$A$2:$I$4565,7,0))","v":{"$error":"#N/A"}},{"$f":"IF(C185=\"\",\"\",VLOOKUP(B185&\"\",'Fichero de Jugadores'!$A$2:$I$4565,7,0))","v":{"$error":"#N/A"}}]
[null,null,183,{"$f":"IF(A186=\"\",\"\",VLOOKUP(A186&\"\",'Fichero de Jugadores'!$A$2:$H$5000,2,0))","v":""},{"$f":"IF(B186=\"\",\"\",VLOOKUP(B186&\"\",'Fichero de Jugadores'!$A$2:$H$5000,2,0))","v":""},null,{"$f":"IF(A186=\"\",\"\",VLOOKUP(A186&\"\",'Fichero de Jugadores'!$A$2:$H$5000,3,0))","v":""},{"$f":"IF(B186=\"\",\"\",VLOOKUP(B186&\"\",'Fichero de Jugadores'!$A$2:$H$5000,3,0))","v":""},{"$error":"#N/A"},{"$f":"IF(A186=\"\",\"\",VLOOKUP(A186&\"\",'Fichero de Jugadores'!$A$2:$I$5000,6,0))","v":""},{"$f":"IF(B186=\"\",\"\",VLOOKUP(B186&\"\",'Fichero de Jugadores'!$A$2:$I$5000,6,0))","v":""},"",null,null,{"$f":"IF(A186=\"\",\"\",VLOOKUP(A186&\"\",'Fichero de Jugadores'!$A$2:$I$4565,4,0))","v":""},{"$f":"IF(B186=\"\",\"\",VLOOKUP(B186&\"\",'Fichero de Jugadores'!$A$2:$I$4565,4,0))","v":""},{"$f":"IF(C186=\"\",\"\",VLOOKUP(A186&\"\",'Fichero de Jugadores'!$A$2:$I$4565,7,0))","v":{"$error":"#N/A"}},{"$f":"IF(C186=\"\",\"\",VLOOKUP(B186&\"\",'Fichero de Jugadores'!$A$2:$I$4565,7,0))","v":{"$error":"#N/A"}}]
[null,null,184,{"$f":"IF(A187=\"\",\"\",VLOOKUP(A187&\"\",'Fichero de Jugadores'!$A$2:$H$5000,2,0))","v":""},{"$f":"IF(B187=\"\",\"\",VLOOKUP(B187&\"\",'Fichero de Jugadores'!$A$2:$H$5000,2,0))","v":""},null,{"$f":"IF(A187=\"\",\"\",VLOOKUP(A187&\"\",'Fichero de Jugadores'!$A$2:$H$5000,3,0))","v":""},{"$f":"IF(B187=\"\",\"\",VLOOKUP(B187&\"\",'Fichero de Jugadores'!$A$2:$H$5000,3,0))","v":""},{"$error":"#N/A"},{"$f":"IF(A187=\"\",\"\",VLOOKUP(A187&\"\",'Fichero de Jugadores'!$A$2:$I$5000,6,0))","v":""},{"$f":"IF(B187=\"\",\"\",VLOOKUP(B187&\"\",'Fichero de Jugadores'!$A$2:$I$5000,6,0))","v":""},"",null,null,{"$f":"IF(A187=\"\",\"\",VLOOKUP(A187&\"\",'Fichero de Jugadores'!$A$2:$I$4565,4,0))","v":""},{"$f":"IF(B187=\"\",\"\",VLOOKUP(B187&\"\",'Fichero de Jugadores'!$A$2:$I$4565,4,0))","v":""},{"$f":"IF(C187=\"\",\"\",VLOOKUP(A187&\"\",'Fichero de Jugadores'!$A$2:$I$4565,7,0))","v":{"$error":"#N/A"}},{"$f":"IF(C187=\"\",\"\",VLOOKUP(B187&\"\",'Fichero de Jugadores'!$A$2:$I$4565,7,0))","v":{"$error":"#N/A"}}]
[null,null,185,{"$f":"IF(A188=\"\",\"\",VLOOKUP(A188&\"\",'Fichero de Jugadores'!$A$2:$H$5000,2,0))","v":""},{"$f":"IF(B188=\"\",\"\",VLOOKUP(B188&\"\",'Fichero de Jugadores'!$A$2:$H$5000,2,0))","v":""},null,{"$f":"IF(A188=\"\",\"\",VLOOKUP(A188&\"\",'Fichero de Jugadores'!$A$2:$H$5000,3,0))","v":""},{"$f":"IF(B188=\"\",\"\",VLOOKUP(B188&\"\",'Fichero de Jugadores'!$A$2:$H$5000,3,0))","v":""},{"$error":"#N/A"},{"$f":"IF(A188=\"\",\"\",VLOOKUP(A188&\"\",'Fichero de Jugadores'!$A$2:$I$5000,6,0))","v":""},{"$f":"IF(B188=\"\",\"\",VLOOKUP(B188&\"\",'Fichero de Jugadores'!$A$2:$I$5000,6,0))","v":""},"",null,null,{"$f":"IF(A188=\"\",\"\",VLOOKUP(A188&\"\",'Fichero de Jugadores'!$A$2:$I$4565,4,0))","v":""},{"$f":"IF(B188=\"\",\"\",VLOOKUP(B188&\"\",'Fichero de Jugadores'!$A$2:$I$4565,4,0))","v":""},{"$f":"IF(C188=\"\",\"\",VLOOKUP(A188&\"\",'Fichero de Jugadores'!$A$2:$I$4565,7,0))","v":{"$error":"#N/A"}},{"$f":"IF(C188=\"\",\"\",VLOOKUP(B188&\"\",'Fichero de Jugadores'!$A$2:$I$4565,7,0))","v":{"$error":"#N/A"}}]
[null,null,186,{"$f":"IF(A189=\"\",\"\",VLOOKUP(A189&\"\",'Fichero de Jugadores'!$A$2:$H$5000,2,0))","v":""},{"$f":"IF(B189=\"\",\"\",VLOOKUP(B189&\"\",'Fichero de Jugadores'!$A$2:$H$5000,2,0))","v":""},null,{"$f":"IF(A189=\"\",\"\",VLOOKUP(A189&\"\",'Fichero de Jugadores'!$A$2:$H$5000,3,0))","v":""},{"$f":"IF(B189=\"\",\"\",VLOOKUP(B189&\"\",'Fichero de Jugadores'!$A$2:$H$5000,3,0))","v":""},{"$error":"#N/A"},{"$f":"IF(A189=\"\",\"\",VLOOKUP(A189&\"\",'Fichero de Jugadores'!$A$2:$I$5000,6,0))","v":""},{"$f":"IF(B189=\"\",\"\",VLOOKUP(B189&\"\",'Fichero de Jugadores'!$A$2:$I$5000,6,0))","v":""},"",null,null,{"$f":"IF(A189=\"\",\"\",VLOOKUP(A189&\"\",'Fichero de Jugadores'!$A$2:$I$4565,4,0))","v":""},{"$f":"IF(B189=\"\",\"\",VLOOKUP(B189&\"\",'Fichero de Jugadores'!$A$2:$I$4565,4,0))","v":""},{"$f":"IF(C189=\"\",\"\",VLOOKUP(A189&\"\",'Fichero de Jugadores'!$A$2:$I$4565,7,0))","v":{"$error":"#N/A"}},{"$f":"IF(C189=\"\",\"\",VLOOKUP(B189&\"\",'Fichero de Jugadores'!$A$2:$I$4565,7,0))","v":{"$error":"#N/A"}}]
[null,null,187,{"$f":"IF(A190=\"\",\"\",VLOOKUP(A190&\"\",'Fichero de Jugadores'!$A$2:$H$5000,2,0))","v":""},{"$f":"IF(B190=\"\",\"\",VLOOKUP(B190&\"\",'Fichero de Jugadores'!$A$2:$H$5000,2,0))","v":""},null,{"$f":"IF(A190=\"\",\"\",VLOOKUP(A190&\"\",'Fichero de Jugadores'!$A$2:$H$5000,3,0))","v":""},{"$f":"IF(B190=\"\",\"\",VLOOKUP(B190&\"\",'Fichero de Jugadores'!$A$2:$H$5000,3,0))","v":""},{"$error":"#N/A"},{"$f":"IF(A190=\"\",\"\",VLOOKUP(A190&\"\",'Fichero de Jugadores'!$A$2:$I$5000,6,0))","v":""},{"$f":"IF(B190=\"\",\"\",VLOOKUP(B190&\"\",'Fichero de Jugadores'!$A$2:$I$5000,6,0))","v":""},"",null,null,{"$f":"IF(A190=\"\",\"\",VLOOKUP(A190&\"\",'Fichero de Jugadores'!$A$2:$I$4565,4,0))","v":""},{"$f":"IF(B190=\"\",\"\",VLOOKUP(B190&\"\",'Fichero de Jugadores'!$A$2:$I$4565,4,0))","v":""},{"$f":"IF(C190=\"\",\"\",VLOOKUP(A190&\"\",'Fichero de Jugadores'!$A$2:$I$4565,7,0))","v":{"$error":"#N/A"}},{"$f":"IF(C190=\"\",\"\",VLOOKUP(B190&\"\",'Fichero de Jugadores'!$A$2:$I$4565,7,0))","v":{"$error":"#N/A"}}]
[null,null,188,{"$f":"IF(A191=\"\",\"\",VLOOKUP(A191&\"\",'Fichero de Jugadores'!$A$2:$H$5000,2,0))","v":""},{"$f":"IF(B191=\"\",\"\",VLOOKUP(B191&\"\",'Fichero de Jugadores'!$A$2:$H$5000,2,0))","v":""},null,{"$f":"IF(A191=\"\",\"\",VLOOKUP(A191&\"\",'Fichero de Jugadores'!$A$2:$H$5000,3,0))","v":""},{"$f":"IF(B191=\"\",\"\",VLOOKUP(B191&\"\",'Fichero de Jugadores'!$A$2:$H$5000,3,0))","v":""},{"$error":"#N/A"},{"$f":"IF(A191=\"\",\"\",VLOOKUP(A191&\"\",'Fichero de Jugadores'!$A$2:$I$5000,6,0))","v":""},{"$f":"IF(B191=\"\",\"\",VLOOKUP(B191&\"\",'Fichero de Jugadores'!$A$2:$I$5000,6,0))","v":""},"",null,null,{"$f":"IF(A191=\"\",\"\",VLOOKUP(A191&\"\",'Fichero de Jugadores'!$A$2:$I$4565,4,0))","v":""},{"$f":"IF(B191=\"\",\"\",VLOOKUP(B191&\"\",'Fichero de Jugadores'!$A$2:$I$4565,4,0))","v":""},{"$f":"IF(C191=\"\",\"\",VLOOKUP(A191&\"\",'Fichero de Jugadores'!$A$2:$I$4565,7,0))","v":{"$error":"#N/A"}},{"$f":"IF(C191=\"\",\"\",VLOOKUP(B191&\"\",'Fichero de Jugadores'!$A$2:$I$4565,7,0))","v":{"$error":"#N/A"}}]
[null,null,189,{"$f":"IF(A192=\"\",\"\",VLOOKUP(A192&\"\",'Fichero de Jugadores'!$A$2:$H$5000,2,0))","v":""},{"$f":"IF(B192=\"\",\"\",VLOOKUP(B192&\"\",'Fichero de Jugadores'!$A$2:$H$5000,2,0))","v":""},null,{"$f":"IF(A192=\"\",\"\",VLOOKUP(A192&\"\",'Fichero de Jugadores'!$A$2:$H$5000,3,0))","v":""},{"$f":"IF(B192=\"\",\"\",VLOOKUP(B192&\"\",'Fichero de Jugadores'!$A$2:$H$5000,3,0))","v":""},{"$error":"#N/A"},{"$f":"IF(A192=\"\",\"\",VLOOKUP(A192&\"\",'Fichero de Jugadores'!$A$2:$I$5000,6,0))","v":""},{"$f":"IF(B192=\"\",\"\",VLOOKUP(B192&\"\",'Fichero de Jugadores'!$A$2:$I$5000,6,0))","v":""},"",null,null,{"$f":"IF(A192=\"\",\"\",VLOOKUP(A192&\"\",'Fichero de Jugadores'!$A$2:$I$4565,4,0))","v":""},{"$f":"IF(B192=\"\",\"\",VLOOKUP(B192&\"\",'Fichero de Jugadores'!$A$2:$I$4565,4,0))","v":""},{"$f":"IF(C192=\"\",\"\",VLOOKUP(A192&\"\",'Fichero de Jugadores'!$A$2:$I$4565,7,0))","v":{"$error":"#N/A"}},{"$f":"IF(C192=\"\",\"\",VLOOKUP(B192&\"\",'Fichero de Jugadores'!$A$2:$I$4565,7,0))","v":{"$error":"#N/A"}}]
[null,null,190,{"$f":"IF(A193=\"\",\"\",VLOOKUP(A193&\"\",'Fichero de Jugadores'!$A$2:$H$5000,2,0))","v":""},{"$f":"IF(B193=\"\",\"\",VLOOKUP(B193&\"\",'Fichero de Jugadores'!$A$2:$H$5000,2,0))","v":""},null,{"$f":"IF(A193=\"\",\"\",VLOOKUP(A193&\"\",'Fichero de Jugadores'!$A$2:$H$5000,3,0))","v":""},{"$f":"IF(B193=\"\",\"\",VLOOKUP(B193&\"\",'Fichero de Jugadores'!$A$2:$H$5000,3,0))","v":""},{"$error":"#N/A"},{"$f":"IF(A193=\"\",\"\",VLOOKUP(A193&\"\",'Fichero de Jugadores'!$A$2:$I$5000,6,0))","v":""},{"$f":"IF(B193=\"\",\"\",VLOOKUP(B193&\"\",'Fichero de Jugadores'!$A$2:$I$5000,6,0))","v":""},"",null,null,{"$f":"IF(A193=\"\",\"\",VLOOKUP(A193&\"\",'Fichero de Jugadores'!$A$2:$I$4565,4,0))","v":""},{"$f":"IF(B193=\"\",\"\",VLOOKUP(B193&\"\",'Fichero de Jugadores'!$A$2:$I$4565,4,0))","v":""},{"$f":"IF(C193=\"\",\"\",VLOOKUP(A193&\"\",'Fichero de Jugadores'!$A$2:$I$4565,7,0))","v":{"$error":"#N/A"}},{"$f":"IF(C193=\"\",\"\",VLOOKUP(B193&\"\",'Fichero de Jugadores'!$A$2:$I$4565,7,0))","v":{"$error":"#N/A"}}]
[null,null,191,{"$f":"IF(A194=\"\",\"\",VLOOKUP(A194&\"\",'Fichero de Jugadores'!$A$2:$H$5000,2,0))","v":""},{"$f":"IF(B194=\"\",\"\",VLOOKUP(B194&\"\",'Fichero de Jugadores'!$A$2:$H$5000,2,0))","v":""},null,{"$f":"IF(A194=\"\",\"\",VLOOKUP(A194&\"\",'Fichero de Jugadores'!$A$2:$H$5000,3,0))","v":""},{"$f":"IF(B194=\"\",\"\",VLOOKUP(B194&\"\",'Fichero de Jugadores'!$A$2:$H$5000,3,0))","v":""},{"$error":"#N/A"},{"$f":"IF(A194=\"\",\"\",VLOOKUP(A194&\"\",'Fichero de Jugadores'!$A$2:$I$5000,6,0))","v":""},{"$f":"IF(B194=\"\",\"\",VLOOKUP(B194&\"\",'Fichero de Jugadores'!$A$2:$I$5000,6,0))","v":""},"",null,null,{"$f":"IF(A194=\"\",\"\",VLOOKUP(A194&\"\",'Fichero de Jugadores'!$A$2:$I$4565,4,0))","v":""},{"$f":"IF(B194=\"\",\"\",VLOOKUP(B194&\"\",'Fichero de Jugadores'!$A$2:$I$4565,4,0))","v":""},{"$f":"IF(C194=\"\",\"\",VLOOKUP(A194&\"\",'Fichero de Jugadores'!$A$2:$I$4565,7,0))","v":{"$error":"#N/A"}},{"$f":"IF(C194=\"\",\"\",VLOOKUP(B194&\"\",'Fichero de Jugadores'!$A$2:$I$4565,7,0))","v":{"$error":"#N/A"}}]
[null,null,192,{"$f":"IF(A195=\"\",\"\",VLOOKUP(A195&\"\",'Fichero de Jugadores'!$A$2:$H$5000,2,0))","v":""},{"$f":"IF(B195=\"\",\"\",VLOOKUP(B195&\"\",'Fichero de Jugadores'!$A$2:$H$5000,2,0))","v":""},null,{"$f":"IF(A195=\"\",\"\",VLOOKUP(A195&\"\",'Fichero de Jugadores'!$A$2:$H$5000,3,0))","v":""},{"$f":"IF(B195=\"\",\"\",VLOOKUP(B195&\"\",'Fichero de Jugadores'!$A$2:$H$5000,3,0))","v":""},{"$error":"#N/A"},{"$f":"IF(A195=\"\",\"\",VLOOKUP(A195&\"\",'Fichero de Jugadores'!$A$2:$I$5000,6,0))","v":""},{"$f":"IF(B195=\"\",\"\",VLOOKUP(B195&\"\",'Fichero de Jugadores'!$A$2:$I$5000,6,0))","v":""},"",null,null,{"$f":"IF(A195=\"\",\"\",VLOOKUP(A195&\"\",'Fichero de Jugadores'!$A$2:$I$4565,4,0))","v":""},{"$f":"IF(B195=\"\",\"\",VLOOKUP(B195&\"\",'Fichero de Jugadores'!$A$2:$I$4565,4,0))","v":""},{"$f":"IF(C195=\"\",\"\",VLOOKUP(A195&\"\",'Fichero de Jugadores'!$A$2:$I$4565,7,0))","v":{"$error":"#N/A"}},{"$f":"IF(C195=\"\",\"\",VLOOKUP(B195&\"\",'Fichero de Jugadores'!$A$2:$I$4565,7,0))","v":{"$error":"#N/A"}}]
[null,null,193,{"$f":"IF(A196=\"\",\"\",VLOOKUP(A196&\"\",'Fichero de Jugadores'!$A$2:$H$5000,2,0))","v":""},{"$f":"IF(B196=\"\",\"\",VLOOKUP(B196&\"\",'Fichero de Jugadores'!$A$2:$H$5000,2,0))","v":""},null,{"$f":"IF(A196=\"\",\"\",VLOOKUP(A196&\"\",'Fichero de Jugadores'!$A$2:$H$5000,3,0))","v":""},{"$f":"IF(B196=\"\",\"\",VLOOKUP(B196&\"\",'Fichero de Jugadores'!$A$2:$H$5000,3,0))","v":""},{"$f":"INDEX(AN$4:AS$9,(Q196)+2,(R196)+2)","v":{"$error":"#N/A"}},{"$f":"IF(A196=\"\",\"\",VLOOKUP(A196&\"\",'Fichero de Jugadores'!$A$2:$I$5000,6,0))","v":""},{"$f":"IF(B196=\"\",\"\",VLOOKUP(B196&\"\",'Fichero de Jugadores'!$A$2:$I$5000,6,0))","v":""},"",null,null,{"$f":"IF(A196=\"\",\"\",VLOOKUP(A196&\"\",'Fichero de Jugadores'!$A$2:$I$4565,4,0))","v":""},{"$f":"IF(B196=\"\",\"\",VLOOKUP(B196&\"\",'Fichero de Jugadores'!$A$2:$I$4565,4,0))","v":""},{"$f":"IF(C196=\"\",\"\",VLOOKUP(A196&\"\",'Fichero de Jugadores'!$A$2:$I$4565,7,0))","v":{"$error":"#N/A"}},{"$f":"IF(C196=\"\",\"\",VLOOKUP(B196&\"\",'Fichero de Jugadores'!$A$2:$I$4565,7,0))","v":{"$error":"#N/A"}}]
[null,null,194,{"$f":"IF(A197=\"\",\"\",VLOOKUP(A197&\"\",'Fichero de Jugadores'!$A$2:$H$5000,2,0))","v":""},{"$f":"IF(B197=\"\",\"\",VLOOKUP(B197&\"\",'Fichero de Jugadores'!$A$2:$H$5000,2,0))","v":""},null,{"$f":"IF(A197=\"\",\"\",VLOOKUP(A197&\"\",'Fichero de Jugadores'!$A$2:$H$5000,3,0))","v":""},{"$f":"IF(B197=\"\",\"\",VLOOKUP(B197&\"\",'Fichero de Jugadores'!$A$2:$H$5000,3,0))","v":""},{"$error":"#N/A"},{"$f":"IF(A197=\"\",\"\",VLOOKUP(A197&\"\",'Fichero de Jugadores'!$A$2:$I$5000,6,0))","v":""},{"$f":"IF(B197=\"\",\"\",VLOOKUP(B197&\"\",'Fichero de Jugadores'!$A$2:$I$5000,6,0))","v":""},{"$f":"IF(AND(O197=\"D\",P197=\"D\"),\"D\",IF(AND(O197=\"D\",P197=\"C\"),\"X\",IF(AND(O197=\"C\",P197=\"D\"),\"X\",IF(AND(O197=\"C\",P197=\"C\"),\"C\",IF(OR(O197=\"\",P197=\"\"),\"\")))))","v":""},null,null,{"$f":"IF(A197=\"\",\"\",VLOOKUP(A197&\"\",'Fichero de Jugadores'!$A$2:$I$4565,4,0))","v":""},{"$f":"IF(B197=\"\",\"\",VLOOKUP(B197&\"\",'Fichero de Jugadores'!$A$2:$I$4565,4,0))","v":""},{"$f":"IF(C197=\"\",\"\",VLOOKUP(A197&\"\",'Fichero de Jugadores'!$A$2:$I$4565,7,0))","v":{"$error":"#N/A"}},{"$f":"IF(C197=\"\",\"\",VLOOKUP(B197&\"\",'Fichero de Jugadores'!$A$2:$I$4565,7,0))","v":{"$error":"#N/A"}}]
[null,null,195,{"$f":"IF(A198=\"\",\"\",VLOOKUP(A198&\"\",'Fichero de Jugadores'!$A$2:$H$5000,2,0))","v":""},{"$f":"IF(B198=\"\",\"\",VLOOKUP(B198&\"\",'Fichero de Jugadores'!$A$2:$H$5000,2,0))","v":""},null,{"$f":"IF(A198=\"\",\"\",VLOOKUP(A198&\"\",'Fichero de Jugadores'!$A$2:$H$5000,3,0))","v":""},{"$f":"IF(B198=\"\",\"\",VLOOKUP(B198&\"\",'Fichero de Jugadores'!$A$2:$H$5000,3,0))","v":""},{"$error":"#N/A"},{"$f":"IF(A198=\"\",\"\",VLOOKUP(A198&\"\",'Fichero de Jugadores'!$A$2:$I$5000,6,0))","v":""},{"$f":"IF(B198=\"\",\"\",VLOOKUP(B198&\"\",'Fichero de Jugadores'!$A$2:$I$5000,6,0))","v":""},"",null,null,{"$f":"IF(A198=\"\",\"\",VLOOKUP(A198&\"\",'Fichero de Jugadores'!$A$2:$I$4565,4,0))","v":""},{"$f":"IF(B198=\"\",\"\",VLOOKUP(B198&\"\",'Fichero de Jugadores'!$A$2:$I$4565,4,0))","v":""},{"$f":"IF(C198=\"\",\"\",VLOOKUP(A198&\"\",'Fichero de Jugadores'!$A$2:$I$4565,7,0))","v":{"$error":"#N/A"}},{"$f":"IF(C198=\"\",\"\",VLOOKUP(B198&\"\",'Fichero de Jugadores'!$A$2:$I$4565,7,0))","v":{"$error":"#N/A"}}]
[null,null,196,{"$f":"IF(A199=\"\",\"\",VLOOKUP(A199&\"\",'Fichero de Jugadores'!$A$2:$H$5000,2,0))","v":""},{"$f":"IF(B199=\"\",\"\",VLOOKUP(B199&\"\",'Fichero de Jugadores'!$A$2:$H$5000,2,0))","v":""},null,{"$f":"IF(A199=\"\",\"\",VLOOKUP(A199&\"\",'Fichero de Jugadores'!$A$2:$H$5000,3,0))","v":""},{"$f":"IF(B199=\"\",\"\",VLOOKUP(B199&\"\",'Fichero de Jugadores'!$A$2:$H$5000,3,0))","v":""},{"$error":"#N/A"},{"$f":"IF(A199=\"\",\"\",VLOOKUP(A199&\"\",'Fichero de Jugadores'!$A$2:$I$5000,6,0))","v":""},{"$f":"IF(B199=\"\",\"\",VLOOKUP(B199&\"\",'Fichero de Jugadores'!$A$2:$I$5000,6,0))","v":""},"",null,null,{"$f":"IF(A199=\"\",\"\",VLOOKUP(A199&\"\",'Fichero de Jugadores'!$A$2:$I$4565,4,0))","v":""},{"$f":"IF(B199=\"\",\"\",VLOOKUP(B199&\"\",'Fichero de Jugadores'!$A$2:$I$4565,4,0))","v":""},{"$f":"IF(C199=\"\",\"\",VLOOKUP(A199&\"\",'Fichero de Jugadores'!$A$2:$I$4565,7,0))","v":{"$error":"#N/A"}},{"$f":"IF(C199=\"\",\"\",VLOOKUP(B199&\"\",'Fichero de Jugadores'!$A$2:$I$4565,7,0))","v":{"$error":"#N/A"}}]
[null,null,197,{"$f":"IF(A200=\"\",\"\",VLOOKUP(A200&\"\",'Fichero de Jugadores'!$A$2:$H$5000,2,0))","v":""},{"$f":"IF(B200=\"\",\"\",VLOOKUP(B200&\"\",'Fichero de Jugadores'!$A$2:$H$5000,2,0))","v":""},null,{"$f":"IF(A200=\"\",\"\",VLOOKUP(A200&\"\",'Fichero de Jugadores'!$A$2:$H$5000,3,0))","v":""},{"$f":"IF(B200=\"\",\"\",VLOOKUP(B200&\"\",'Fichero de Jugadores'!$A$2:$H$5000,3,0))","v":""},{"$error":"#N/A"},{"$f":"IF(A200=\"\",\"\",VLOOKUP(A200&\"\",'Fichero de Jugadores'!$A$2:$I$5000,6,0))","v":""},{"$f":"IF(B200=\"\",\"\",VLOOKUP(B200&\"\",'Fichero de Jugadores'!$A$2:$I$5000,6,0))","v":""},"",null,null,{"$f":"IF(A200=\"\",\"\",VLOOKUP(A200&\"\",'Fichero de Jugadores'!$A$2:$I$4565,4,0))","v":""},{"$f":"IF(B200=\"\",\"\",VLOOKUP(B200&\"\",'Fichero de Jugadores'!$A$2:$I$4565,4,0))","v":""},{"$f":"IF(C200=\"\",\"\",VLOOKUP(A200&\"\",'Fichero de Jugadores'!$A$2:$I$4565,7,0))","v":{"$error":"#N/A"}},{"$f":"IF(C200=\"\",\"\",VLOOKUP(B200&\"\",'Fichero de Jugadores'!$A$2:$I$4565,7,0))","v":{"$error":"#N/A"}}]
[null,null,198,{"$f":"IF(A201=\"\",\"\",VLOOKUP(A201&\"\",'Fichero de Jugadores'!$A$2:$H$5000,2,0))","v":""},{"$f":"IF(B201=\"\",\"\",VLOOKUP(B201&\"\",'Fichero de Jugadores'!$A$2:$H$5000,2,0))","v":""},null,{"$f":"IF(A201=\"\",\"\",VLOOKUP(A201&\"\",'Fichero de Jugadores'!$A$2:$H$5000,3,0))","v":""},{"$f":"IF(B201=\"\",\"\",VLOOKUP(B201&\"\",'Fichero de Jugadores'!$A$2:$H$5000,3,0))","v":""},{"$error":"#N/A"},{"$f":"IF(A201=\"\",\"\",VLOOKUP(A201&\"\",'Fichero de Jugadores'!$A$2:$I$5000,6,0))","v":""},{"$f":"IF(B201=\"\",\"\",VLOOKUP(B201&\"\",'Fichero de Jugadores'!$A$2:$I$5000,6,0))","v":""},"",null,null,{"$f":"IF(A201=\"\",\"\",VLOOKUP(A201&\"\",'Fichero de Jugadores'!$A$2:$I$4565,4,0))","v":""},{"$f":"IF(B201=\"\",\"\",VLOOKUP(B201&\"\",'Fichero de Jugadores'!$A$2:$I$4565,4,0))","v":""},{"$f":"IF(C201=\"\",\"\",VLOOKUP(A201&\"\",'Fichero de Jugadores'!$A$2:$I$4565,7,0))","v":{"$error":"#N/A"}},{"$f":"IF(C201=\"\",\"\",VLOOKUP(B201&\"\",'Fichero de Jugadores'!$A$2:$I$4565,7,0))","v":{"$error":"#N/A"}}]
[null,null,199,{"$f":"IF(A202=\"\",\"\",VLOOKUP(A202&\"\",'Fichero de Jugadores'!$A$2:$H$5000,2,0))","v":""},{"$f":"IF(B202=\"\",\"\",VLOOKUP(B202&\"\",'Fichero de Jugadores'!$A$2:$H$5000,2,0))","v":""},null,{"$f":"IF(A202=\"\",\"\",VLOOKUP(A202&\"\",'Fichero de Jugadores'!$A$2:$H$5000,3,0))","v":""},{"$f":"IF(B202=\"\",\"\",VLOOKUP(B202&\"\",'Fichero de Jugadores'!$A$2:$H$5000,3,0))","v":""},{"$error":"#N/A"},{"$f":"IF(A202=\"\",\"\",VLOOKUP(A202&\"\",'Fichero de Jugadores'!$A$2:$I$5000,6,0))","v":""},{"$f":"IF(B202=\"\",\"\",VLOOKUP(B202&\"\",'Fichero de Jugadores'!$A$2:$I$5000,6,0))","v":""},"",null,null,{"$f":"IF(A202=\"\",\"\",VLOOKUP(A202&\"\",'Fichero de Jugadores'!$A$2:$I$4565,4,0))","v":""},{"$f":"IF(B202=\"\",\"\",VLOOKUP(B202&\"\",'Fichero de Jugadores'!$A$2:$I$4565,4,0))","v":""},{"$f":"IF(C202=\"\",\"\",VLOOKUP(A202&\"\",'Fichero de Jugadores'!$A$2:$I$4565,7,0))","v":{"$error":"#N/A"}},{"$f":"IF(C202=\"\",\"\",VLOOKUP(B202&\"\",'Fichero de Jugadores'!$A$2:$I$4565,7,0))","v":{"$error":"#N/A"}}]
[null,null,200,{"$f":"IF(A203=\"\",\"\",VLOOKUP(A203&\"\",'Fichero de Jugadores'!$A$2:$H$5000,2,0))","v":""},{"$f":"IF(B203=\"\",\"\",VLOOKUP(B203&\"\",'Fichero de Jugadores'!$A$2:$H$5000,2,0))","v":""},null,{"$f":"IF(A203=\"\",\"\",VLOOKUP(A203&\"\",'Fichero de Jugadores'!$A$2:$H$5000,3,0))","v":""},{"$f":"IF(B203=\"\",\"\",VLOOKUP(B203&\"\",'Fichero de Jugadores'!$A$2:$H$5000,3,0))","v":""},{"$error":"#N/A"},{"$f":"IF(A203=\"\",\"\",VLOOKUP(A203&\"\",'Fichero de Jugadores'!$A$2:$I$5000,6,0))","v":""},{"$f":"IF(B203=\"\",\"\",VLOOKUP(B203&\"\",'Fichero de Jugadores'!$A$2:$I$5000,6,0))","v":""},"",null,null,{"$f":"IF(A203=\"\",\"\",VLOOKUP(A203&\"\",'Fichero de Jugadores'!$A$2:$I$4565,4,0))","v":""},{"$f":"IF(B203=\"\",\"\",VLOOKUP(B203&\"\",'Fichero de Jugadores'!$A$2:$I$4565,4,0))","v":""},{"$f":"IF(C203=\"\",\"\",VLOOKUP(A203&\"\",'Fichero de Jugadores'!$A$2:$I$4565,7,0))","v":{"$error":"#N/A"}},{"$f":"IF(C203=\"\",\"\",VLOOKUP(B203&\"\",'Fichero de Jugadores'!$A$2:$I$4565,7,0))","v":{"$error":"#N/A"}}]

{"sheet":"Referencias","index":1,"n_rows":41,"n_cols":5,"rows_kept":41,"cut":false,"hidden":true,"merged":[]}
[]
[]
[null,"CATEGORIA DE JUEGO"]
[null,"Maestro Mundial","MM","Maestro Mundial",0]
[null,"Maestro Mundial Open","MM-O","Maestro Mundial Open",0]
[null,"Maestro Mundial Damas","MM-D","Maestro Mundial Damas",0]
[null,"Maestro Mundial Senior","MM-S","Maestro Mundial Senior",0]
[null,"Maestro Nacional","MN","Maestro Nacional",0]
[null,"Maestro Nacional Open","MN-O","Maestro Nacional Open",0]
[null,"Maestro Nacional Damas","MN-D","Maestro Nacional Damas",0]
[null,"Maestro Nacional Senior","MN-S","Maestro Nacional Senior",0]
[null,"Primera Picas","1P","Primera Picas",1]
[null,"Primera Corazón","1C","Primera Corazón",1]
[null,"Primera Diamante","1D","Primera Diamante",1]
[null,"Segunda Picas","2P","Segunda Picas",2]
[null,"Segunda Corazón","2C","Segunda Corazón",2]
[null,"Segunda Diamante","2D","Segunda Diamante",2]
[null,"Tercera Picas","3P","Tercera Picas",3]
[null,"Tercera Corazón","3C","Tercera Corazón",3]
[null,"Tercera Diamante","3D","Tercera Diamante",3]
[null,"Sin Categoría","SC","Sin Categoría",4]
[]
[null,"TERRITORIAL"]
[null,"Andaluza","AND"]
[null,"Aragonesa","ARA"]
[null,"Balear","IBAL"]
[null,"Canaria","CANAR "]
[null,"Cántabra","CANT"]
[null,"Castellano-Manchega","CLM"]
[null,"Castilla y León","CYL"]
[null,"Catalana","CAT"]
[null,"Madrileña","C.MAD"]
[null,"Navarra","C.NAV"]
[null,"C. Valenciana","C.VAL"]
[null,"Extremeña","EXT"]
[null,"Gallega","GAL"]
[null,"Vasca","PV"]
[null,"Asturiana","P.AST"]
[null,"Murciana","MURC"]
[null,"Riojana","RIOJ"]
[null,"AEB","AEB"]

{"sheet":"Fichero de Jugadores","index":2,"n_rows":4891,"n_cols":10,"rows_kept":4891,"cut":false,"hidden":false,"merged":[[0,9,0,13]]}
["Licencia","Titular","CatCodigo","DC","Categoria","AT","CatNumero","TipoLicencia","Territorial","NO ESCRIBIR LAS COLUMNAS GRISES"]
["0341032","García Ruiz, Mercedes","3D","D",{"$f":"VLOOKUP(C2,Referencias!$C$4:$D$21,2,FALSE())","v":"Tercera Diamante"},{"$f":"VLOOKUP(I2,Referencias!$B$24:$C$41,2,FALSE())","v":"C.VAL"},{"$f":"VLOOKUP(C2,Referencias!$C$4:$E$21,3,FALSE())","v":3},"Competición","C. Valenciana"]
["0341214","Caturla Camino, Pilar","3C","D",{"$f":"VLOOKUP(C3,Referencias!$C$4:$D$21,2,FALSE())","v":"Tercera Corazón"},{"$f":"VLOOKUP(I3,Referencias!$B$24:$C$41,2,FALSE())","v":"C.VAL"},{"$f":"VLOOKUP(C3,Referencias!$C$4:$E$21,3,FALSE())","v":3},"Competición","C. Valenciana"]
["0341288","Pont Beneyto, María Dolores","3D","D",{"$f":"VLOOKUP(C4,Referencias!$C$4:$D$21,2,FALSE())","v":"Tercera Diamante"},{"$f":"VLOOKUP(I4,Referencias!$B$24:$C$41,2,FALSE())","v":"C.VAL"},{"$f":"VLOOKUP(C4,Referencias!$C$4:$E$21,3,FALSE())","v":3},"Competición","C. Valenciana"]
["0341335","Coloma Carbonell, Marisa","2C","D",{"$f":"VLOOKUP(C5,Referencias!$C$4:$D$21,2,FALSE())","v":"Segunda Corazón"},{"$f":"VLOOKUP(I5,Referencias!$B$24:$C$41,2,FALSE())","v":"C.VAL"},{"$f":"VLOOKUP(C5,Referencias!$C$4:$E$21,3,FALSE())","v":2},"Competición","C. Valenciana"]
["0341336","Rodríguez-Murcia, Manuel José","3D","C",{"$f":"VLOOKUP(C6,Referencias!$C$4:$D$21,2,FALSE())","v":"Tercera Diamante"},{"$f":"VLOOKUP(I6,Referencias!$B$24:$C$41,2,FALSE())","v":"C.VAL"},{"$f":"VLOOKUP(C6,Referencias!$C$4:$E$21,3,FALSE())","v":3},"Competición","C. Valenciana"]
["0341366","Maestre Navarro, María Mercedes","3C","D",{"$f":"VLOOKUP(C7,Referencias!$C$4:$D$21,2,FALSE())","v":"Tercera Corazón"},{"$f":"VLOOKUP(I7,Referencias!$B$24:$C$41,2,FALSE())","v":"C.VAL"},{"$f":"VLOOKUP(C7,Referencias!$C$4:$E$21,3,FALSE())","v":3},"Competición","C. Valenciana"]
["0341385","Gallego Aura, María José","3P","D",{"$f":"VLOOKUP(C8,Referencias!$C$4:$D$21,2,FALSE())","v":"Tercera Picas"},{"$f":"VLOOKUP(I8,Referencias!$B$24:$C$41,2,FALSE())","v":"C.VAL"},{"$f":"VLOOKUP(C8,Referencias!$C$4:$E$21,3,FALSE())","v":3},"Competición","C. Valenciana"]
["0341603","Abadía Torregrosa, Pilar","3C","D",{"$f":"VLOOKUP(C9,Referencias!$C$4:$D$21,2,FALSE())","v":"Tercera Corazón"},{"$f":"VLOOKUP(I9,Referencias!$B$24:$C$41,2,FALSE())","v":"C.VAL"},{"$f":"VLOOKUP(C9,Referencias!$C$4:$E$21,3,FALSE())","v":3},"Competición","C. Valenciana"]
["0341654","Cañada del Pino, María Concepción","3D","D",{"$f":"VLOOKUP(C10,Referencias!$C$4:$D$21,2,FALSE())","v":"Tercera Diamante"},{"$f":"VLOOKUP(I10,Referencias!$B$24:$C$41,2,FALSE())","v":"C.VAL"},{"$f":"VLOOKUP(C10,Referencias!$C$4:$E$21,3,FALSE())","v":3},"Competición","C. Valenciana"]
["0341663","Peñalba Tena, Encarna","3C","D",{"$f":"VLOOKUP(C11,Referencias!$C$4:$D$21,2,FALSE())","v":"Tercera Corazón"},{"$f":"VLOOKUP(I11,Referencias!$B$24:$C$41,2,FALSE())","v":"C.VAL"},{"$f":"VLOOKUP(C11,Referencias!$C$4:$E$21,3,FALSE())","v":3},"Competición","C. Valenciana"]
["0341748","Van de Voorde, Christian","3D","C",{"$f":"VLOOKUP(C12,Referencias!$C$4:$D$21,2,FALSE())","v":"Tercera Diamante"},{"$f":"VLOOKUP(I12,Referencias!$B$24:$C$41,2,FALSE())","v":"C.VAL"},{"$f":"VLOOKUP(C12,Referencias!$C$4:$E$21,3,FALSE())","v":3},"Competición","C. Valenciana"]
["0341757","Gala Pérez, Elena","3C","D",{"$f":"VLOOKUP(C13,Referencias!$C$4:$D$21,2,FALSE())","v":"Tercera Corazón"},{"$f":"VLOOKUP(I13,Referencias!$B$24:$C$41,2,FALSE())","v":"C.VAL"},{"$f":"VLOOKUP(C13,Referencias!$C$4:$E$21,3,FALSE())","v":3},"Competición","C. Valenciana"]
["0341758","Hernández García, Inmaculada","3C","D",{"$f":"VLOOKUP(C14,Referencias!$C$4:$D$21,2,FALSE())","v":"Tercera Corazón"},{"$f":"VLOOKUP(I14,Referencias!$B$24:$C$41,2,FALSE())","v":"C.VAL"},{"$f":"VLOOKUP(C14,Referencias!$C$4:$E$21,3,FALSE())","v":3},"Competición","C. Valenciana"]
["0341759","Álvarez Fernández, María Margarita","3C","D",{"$f":"VLOOKUP(C15,Referencias!$C$4:$D$21,2,FALSE())","v":"Tercera Corazón"},{"$f":"VLOOKUP(I15,Referencias!$B$24:$C$41,2,FALSE())","v":"C.VAL"},{"$f":"VLOOKUP(C15,Referencias!$C$4:$E$21,3,FALSE())","v":3},"Competición","C. Valenciana"]
["0341760","Ruiz Ortuño, Virtudes","3C","D",{"$f":"VLOOKUP(C16,Referencias!$C$4:$D$21,2,FALSE())","v":"Tercera Corazón"},{"$f":"VLOOKUP(I16,Referencias!$B$24:$C$41,2,FALSE())","v":"C.VAL"},{"$f":"VLOOKUP(C16,Referencias!$C$4:$E$21,3,FALSE())","v":3},"Competición","C. Valenciana"]
["0341761","Ripoll Linares, Adelina","2D","D",{"$f":"VLOOKUP(C17,Referencias!$C$4:$D$21,2,FALSE())","v":"Segunda Diamante"},{"$f":"VLOOKUP(I17,Referencias!$B$24:$C$41,2,FALSE())","v":"C.VAL"},{"$f":"VLOOKUP(C17,Referencias!$C$4:$E$21,3,FALSE())","v":2},"Competición","C. Valenciana"]
["0341762","Madrid San Martín, Ana","3D","D",{"$f":"VLOOKUP(C18,Referencias!$C$4:$D$21,2,FALSE())","v":"Tercera Diamante"},{"$f":"VLOOKUP(I18,Referencias!$B$24:$C$41,2,FALSE())","v":"C.VAL"},{"$f":"VLOOKUP(C18,Referencias!$C$4:$E$21,3,FALSE())","v":3},"Competición","C. Valenciana"]
["0341763","Cuenca Martínez, Nieves","3C","D",{"$f":"VLOOKUP(C19,Referencias!$C$4:$D$21,2,FALSE())","v":"Tercera Corazón"},{"$f":"VLOOKUP(I19,Referencias!$B$24:$C$41,2,FALSE())","v":"C.VAL"},{"$f":"VLOOKUP(C19,Referencias!$C$4:$E$21,3,FALSE())","v":3},"Competición","C. Valenciana"]
["0341764","Cortes Aracil, Sara","2D","D",{"$f":"VLOOKUP(C20,Referencias!$C$4:$D$21,2,FALSE())","v":"Segunda Diamante"},{"$f":"VLOOKUP(I20,Referencias!$B$24:$C$41,2,FALSE())","v":"C.VAL"},{"$f":"VLOOKUP(C20,Referencias!$C$4:$E$21,3,FALSE())","v":2},"Competición","C. Valenciana"]
["0341765","Dols Abellán, María Gracia","3P","D",{"$f":"VLOOKUP(C21,Referencias!$C$4:$D$21,2,FALSE())","v":"Tercera Picas"},{"$f":"VLOOKUP(I21,Referencias!$B$24:$C$41,2,FALSE())","v":"C.VAL"},{"$f":"VLOOKUP(C21,Referencias!$C$4:$E$21,3,FALSE())","v":3},"Competición","C. Valenciana"]
["0341766","Barceló Bonet, Pilar","3C","D",{"$f":"VLOOKUP(C22,Referencias!$C$4:$D$21,2,FALSE())","v":"Tercera Corazón"},{"$f":"VLOOKUP(I22,Referencias!$B$24:$C$41,2,FALSE())","v":"C.VAL"},{"$f":"VLOOKUP(C22,Referencias!$C$4:$E$21,3,FALSE())","v":3},"Competición","C. Valenciana"]
["0341767","Belmonte Lon, María Teresa","3P","D",{"$f":"VLOOKUP(C23,Referencias!$C$4:$D$21,2,FALSE())","v":"Tercera Picas"},{"$f":"VLOOKUP(I23,Referencias!$B$24:$C$41,2,FALSE())","v":"C.VAL"},{"$f":"VLOOKUP(C23,Referencias!$C$4:$E$21,3,FALSE())","v":3},"Competición","C. Valenciana"]
["0341768","Cremades Sirvent, Ana","3C","D",{"$f":"VLOOKUP(C24,Referencias!$C$4:$D$21,2,FALSE())","v":"Tercera Corazón"},{"$f":"VLOOKUP(I24,Referencias!$B$24:$C$41,2,FALSE())","v":"C.VAL"},{"$f":"VLOOKUP(C24,Referencias!$C$4:$E$21,3,FALSE())","v":3},"Competición","C. Valenciana"]
["0341769","Jurado García, María Carmen","3C","D",{"$f":"VLOOKUP(C25,Referencias!$C$4:$D$21,2,FALSE())","v":"Tercera Corazón"},{"$f":"VLOOKUP(I25,Referencias!$B$24:$C$41,2,FALSE())","v":"C.VAL"},{"$f":"VLOOKUP(C25,Referencias!$C$4:$E$21,3,FALSE())","v":3},"Competición","C. Valenciana"]
["0341770","Candela Martínez, María Concepción","3D","D",{"$f":"VLOOKUP(C26,Referencias!$C$4:$D$21,2,FALSE())","v":"Tercera Diamante"},{"$f":"VLOOKUP(I26,Referencias!$B$24:$C$41,2,FALSE())","v":"C.VAL"},{"$f":"VLOOKUP(C26,Referencias!$C$4:$E$21,3,FALSE())","v":3},"Competición","C. Valenciana"]
["0341771","Reyes Wajsman, Aixa","2D","D",{"$f":"VLOOKUP(C27,Referencias!$C$4:$D$21,2,FALSE())","v":"Segunda Diamante"},{"$f":"VLOOKUP(I27,Referencias!$B$24:$C$41,2,FALSE())","v":"C.VAL"},{"$f":"VLOOKUP(C27,Referencias!$C$4:$E$21,3,FALSE())","v":2},"Competición","C. Valenciana"]
["0341791","García Ivañez, Adelia","3D","D",{"$f":"VLOOKUP(C28,Referencias!$C$4:$D$21,2,FALSE())","v":"Tercera Diamante"},{"$f":"VLOOKUP(I28,Referencias!$B$24:$C$41,2,FALSE())","v":"C.VAL"},{"$f":"VLOOKUP(C28,Referencias!$C$4:$E$21,3,FALSE())","v":3},"Competición","C. Valenciana"]
["0341798","Hesedenz, Mathilda","3D","D",{"$f":"VLOOKUP(C29,Referencias!$C$4:$D$21,2,FALSE())","v":"Tercera Diamante"},{"$f":"VLOOKUP(I29,Referencias!$B$24:$C$41,2,FALSE())","v":"C.VAL"},{"$f":"VLOOKUP(C29,Referencias!$C$4:$E$21,3,FALSE())","v":3},"Competición","C. Valenciana"]
["0341803","Faura Giner, Clara","3D","D",{"$f":"VLOOKUP(C30,Referencias!$C$4:$D$21,2,FALSE())","v":"Tercera Diamante"},{"$f":"VLOOKUP(I30,Referencias!$B$24:$C$41,2,FALSE())","v":"C.VAL"},{"$f":"VLOOKUP(C30,Referencias!$C$4:$E$21,3,FALSE())","v":3},"Competición","C. Valenciana"]
["0341804","Manero Soler, Herminia","3D","D",{"$f":"VLOOKUP(C31,Referencias!$C$4:$D$21,2,FALSE())","v":"Tercera Diamante"},{"$f":"VLOOKUP(I31,Referencias!$B$24:$C$41,2,FALSE())","v":"C.VAL"},{"$f":"VLOOKUP(C31,Referencias!$C$4:$E$21,3,FALSE())","v":3},"Competición","C. Valenciana"]
["0341805","Ribelles Nicolás, Eva","3D","D",{"$f":"VLOOKUP(C32,Referencias!$C$4:$D$21,2,FALSE())","v":"Tercera Diamante"},{"$f":"VLOOKUP(I32,Referencias!$B$24:$C$41,2,FALSE())","v":"C.VAL"},{"$f":"VLOOKUP(C32,Referencias!$C$4:$E$21,3,FALSE())","v":3},"Competición","C. Valenciana"]
["0341842","Parera Camprecios, Magdalena","2D","D",{"$f":"VLOOKUP(C33,Referencias!$C$4:$D$21,2,FALSE())","v":"Segunda Diamante"},{"$f":"VLOOKUP(I33,Referencias!$B$24:$C$41,2,FALSE())","v":"C.VAL"},{"$f":"VLOOKUP(C33,Referencias!$C$4:$E$21,3,FALSE())","v":2},"Competición","C. Valenciana"]
["0341869","Mayodormo Fuentes, Isabel","3C","D",{"$f":"VLOOKUP(C34,Referencias!$C$4:$D$21,2,FALSE())","v":"Tercera Corazón"},{"$f":"VLOOKUP(I34,Referencias!$B$24:$C$41,2,FALSE())","v":"C.VAL"},{"$f":"VLOOKUP(C34,Referencias!$C$4:$E$21,3,FALSE())","v":3},"Competición","C. Valenciana"]
["0341875","Álvarez Mendoza, Virginia","3D","D",{"$f":"VLOOKUP(C35,Referencias!$C$4:$D$21,2,FALSE())","v":"Tercera Diamante"},{"$f":"VLOOKUP(I35,Referencias!$B$24:$C$41,2,FALSE())","v":"C.VAL"},{"$f":"VLOOKUP(C35,Referencias!$C$4:$E$21,3,FALSE())","v":3},"Competición","C. Valenciana"]
["0341878","Ripoll Sánchez, Josefa","3D","D",{"$f":"VLOOKUP(C36,Referencias!$C$4:$D$21,2,FALSE())","v":"Tercera Diamante"},{"$f":"VLOOKUP(I36,Referencias!$B$24:$C$41,2,FALSE())","v":"C.VAL"},{"$f":"VLOOKUP(C36,Referencias!$C$4:$E$21,3,FALSE())","v":3},"Competición","C. Valenciana"]
["0341879","Molto Aguado, Isabel","3D","D",{"$f":"VLOOKUP(C37,Referencias!$C$4:$D$21,2,FALSE())","v":"Tercera Diamante"},{"$f":"VLOOKUP(I37,Referencias!$B$24:$C$41,2,FALSE())","v":"C.VAL"},{"$f":"VLOOKUP(C37,Referencias!$C$4:$E$21,3,FALSE())","v":3},"Competición","C. Valenciana"]
["0341880","García Cuartero, Ángeles","3C","D",{"$f":"VLOOKUP(C38,Referencias!$C$4:$D$21,2,FALSE())","v":"Tercera Corazón"},{"$f":"VLOOKUP(I38,Referencias!$B$24:$C$41,2,FALSE())","v":"C.VAL"},{"$f":"VLOOKUP(C38,Referencias!$C$4:$E$21,3,FALSE())","v":3},"Competición","C. Valenciana"]
["0341881","Romero Gómez, María Jesús","3C","D",{"$f":"VLOOKUP(C39,Referencias!$C$4:$D$21,2,FALSE())","v":"Tercera Corazón"},{"$f":"VLOOKUP(I39,Referencias!$B$24:$C$41,2,FALSE())","v":"C.VAL"},{"$f":"VLOOKUP(C39,Referencias!$C$4:$E$21,3,FALSE())","v":3},"Competición","C. Valenciana"]
["0341882","Carrillo Llorente, Marilo","3C","D",{"$f":"VLOOKUP(C40,Referencias!$C$4:$D$21,2,FALSE())","v":"Tercera Corazón"},{"$f":"VLOOKUP(I40,Referencias!$B$24:$C$41,2,FALSE())","v":"C.VAL"},{"$f":"VLOOKUP(C40,Referencias!$C$4:$E$21,3,FALSE())","v":3},"Competición","C. Valenciana"]
["0341883","Rodenas Flores, María Angeles","3D","D",{"$f":"VLOOKUP(C41,Referencias!$C$4:$D$21,2,FALSE())","v":"Tercera Diamante"},{"$f":"VLOOKUP(I41,Referencias!$B$24:$C$41,2,FALSE())","v":"C.VAL"},{"$f":"VLOOKUP(C41,Referencias!$C$4:$E$21,3,FALSE())","v":3},"Competición","C. Valenciana"]
["0341899","Ciriza Lamigueiro, Magdalena","3C","D",{"$f":"VLOOKUP(C42,Referencias!$C$4:$D$21,2,FALSE())","v":"Tercera Corazón"},{"$f":"VLOOKUP(I42,Referencias!$B$24:$C$41,2,FALSE())","v":"C.VAL"},{"$f":"VLOOKUP(C42,Referencias!$C$4:$E$21,3,FALSE())","v":3},"Competición","C. Valenciana"]
["0341901","Martínez Cuevas, María del Carmen","3D","D",{"$f":"VLOOKUP(C43,Referencias!$C$4:$D$21,2,FALSE())","v":"Tercera Diamante"},{"$f":"VLOOKUP(I43,Referencias!$B$24:$C$41,2,FALSE())","v":"C.VAL"},{"$f":"VLOOKUP(C43,Referencias!$C$4:$E$21,3,FALSE())","v":3},"Competición","C. Valenciana"]
["0341903","Paya Mas, María Aurora","3D","D",{"$f":"VLOOKUP(C44,Referencias!$C$4:$D$21,2,FALSE())","v":"Tercera Diamante"},{"$f":"VLOOKUP(I44,Referencias!$B$24:$C$41,2,FALSE())","v":"C.VAL"},{"$f":"VLOOKUP(C44,Referencias!$C$4:$E$21,3,FALSE())","v":3},"Competición","C. Valenciana"]
["0341904","Guerras Soriano, José Carlos","3P","C",{"$f":"VLOOKUP(C45,Referencias!$C$4:$D$21,2,FALSE())","v":"Tercera Picas"},{"$f":"VLOOKUP(I45,Referencias!$B$24:$C$41,2,FALSE())","v":"C.VAL"},{"$f":"VLOOKUP(C45,Referencias!$C$4:$E$21,3,FALSE())","v":3},"Competición","C. Valenciana"]
["0341905","Giménez Esplá, María del Carmen","3C","D",{"$f":"VLOOKUP(C46,Referencias!$C$4:$D$21,2,FALSE())","v":"Tercera Corazón"},{"$f":"VLOOKUP(I46,Referencias!$B$24:$C$41,2,FALSE())","v":"C.VAL"},{"$f":"VLOOKUP(C46,Referencias!$C$4:$E$21,3,FALSE())","v":3},"Competición","C. Valenciana"]
["0341906","Mazón Calpena, Adelina","2D","D",{"$f":"VLOOKUP(C47,Referencias!$C$4:$D$21,2,FALSE())","v":"Segunda Diamante"},{"$f":"VLOOKUP(I47,Referencias!$B$24:$C$41,2,FALSE())","v":"C.VAL"},{"$f":"VLOOKUP(C47,Referencias!$C$4:$E$21,3,FALSE())","v":2},"Competición","C. Valenciana"]
["0341907","Nomdedeu Bertomeu, Marina","3D","D",{"$f":"VLOOKUP(C48,Referencias!$C$4:$D$21,2,FALSE())","v":"Tercera Diamante"},{"$f":"VLOOKUP(I48,Referencias!$B$24:$C$41,2,FALSE())","v":"C.VAL"},{"$f":"VLOOKUP(C48,Referencias!$C$4:$E$21,3,FALSE())","v":3},"Competición","C. Valenciana"]
["0341908","Álvarez de Toledo, Genoveva","2D","D",{"$f":"VLOOKUP(C49,Referencias!$C$4:$D$21,2,FALSE())","v":"Segunda Diamante"},{"$f":"VLOOKUP(I49,Referencias!$B$24:$C$41,2,FALSE())","v":"C.VAL"},{"$f":"VLOOKUP(C49,Referencias!$C$4:$E$21,3,FALSE())","v":2},"Competición","C. Valenciana"]
["0341909","Igea Gil, María Rosario","3D","D",{"$f":"VLOOKUP(C50,Referencias!$C$4:$D$21,2,FALSE())","v":"Tercera Diamante"},{"$f":"VLOOKUP(I50,Referencias!$B$24:$C$41,2,FALSE())","v":"C.VAL"},{"$f":"VLOOKUP(C50,Referencias!$C$4:$E$21,3,FALSE())","v":3},"Competición","C. Valenciana"]
["0341914","Jiménez Moya Angeler, Carlos","3D","C",{"$f":"VLOOKUP(C51,Referencias!$C$4:$D$21,2,FALSE())","v":"Tercera Diamante"},{"$f":"VLOOKUP(I51,Referencias!$B$24:$C$41,2,FALSE())","v":"C.VAL"},{"$f":"VLOOKUP(C51,Referencias!$C$4:$E$21,3,FALSE())","v":3},"Competición","C. Valenciana"]
["0341924","Vargas Hergueta, Isabel","3C","D",{"$f":"VLOOKUP(C52,Referencias!$C$4:$D$21,2,FALSE())","v":"Tercera Corazón"},{"$f":"VLOOKUP(I52,Referencias!$B$24:$C$41,2,FALSE())","v":"C.VAL"},{"$f":"VLOOKUP(C52,Referencias!$C$4:$E$21,3,FALSE())","v":3},"Competición","C. Valenciana"]
["0341925","Lafaye del Valle, Francoise","3D","D",{"$f":"VLOOKUP(C53,Referencias!$C$4:$D$21,2,FALSE())","v":"Tercera Diamante"},{"$f":"VLOOKUP(I53,Referencias!$B$24:$C$41,2,FALSE())","v":"C.VAL"},{"$f":"VLOOKUP(C53,Referencias!$C$4:$E$21,3,FALSE())","v":3},"Competición","C. Valenciana"]
["0341930","Olaso Masquefa, María Jesús","3C","D",{"$f":"VLOOKUP(C54,Referencias!$C$4:$D$21,2,FALSE())","v":"Tercera Corazón"},{"$f":"VLOOKUP(I54,Referencias!$B$24:$C$41,2,FALSE())","v":"C.VAL"},{"$f":"VLOOKUP(C54,Referencias!$C$4:$E$21,3,FALSE())","v":3},"Competición","C. Valenciana"]
["0341933","Cruz González, Candy","3D","D",{"$f":"VLOOKUP(C55,Referencias!$C$4:$D$21,2,FALSE())","v":"Tercera Diamante"},{"$f":"VLOOKUP(I55,Referencias!$B$24:$C$41,2,FALSE())","v":"C.VAL"},{"$f":"VLOOKUP(C55,Referencias!$C$4:$E$21,3,FALSE())","v":3},"Competición","C. Valenciana"]
["0341934","Vidal Espi, Virginia","3D","D",{"$f":"VLOOKUP(C56,Referencias!$C$4:$D$21,2,FALSE())","v":"Tercera Diamante"},{"$f":"VLOOKUP(I56,Referencias!$B$24:$C$41,2,FALSE())","v":"C.VAL"},{"$f":"VLOOKUP(C56,Referencias!$C$4:$E$21,3,FALSE())","v":3},"Competición","C. Valenciana"]
["0341935","Jurado Arines, Ricardo","3P","C",{"$f":"VLOOKUP(C57,Referencias!$C$4:$D$21,2,FALSE())","v":"Tercera Picas"},{"$f":"VLOOKUP(I57,Referencias!$B$24:$C$41,2,FALSE())","v":"C.VAL"},{"$f":"VLOOKUP(C57,Referencias!$C$4:$E$21,3,FALSE())","v":3},"Competición","C. Valenciana"]
["0341937","Ayús Rojo, Blanca - Esther","3D","D",{"$f":"VLOOKUP(C58,Referencias!$C$4:$D$21,2,FALSE())","v":"Tercera Diamante"},{"$f":"VLOOKUP(I58,Referencias!$B$24:$C$41,2,FALSE())","v":"C.VAL"},{"$f":"VLOOKUP(C58,Referencias!$C$4:$E$21,3,FALSE())","v":3},"Competición","C. Valenciana"]
["0341938","Fernández Slaatten, Margarita","3D","D",{"$f":"VLOOKUP(C59,Referencias!$C$4:$D$21,2,FALSE())","v":"Tercera Diamante"},{"$f":"VLOOKUP(I59,Referencias!$B$24:$C$41,2,FALSE())","v":"C.VAL"},{"$f":"VLOOKUP(C59,Referencias!$C$4:$E$21,3,FALSE())","v":3},"Competición","C. Valenciana"]
["0341939","Gómez Bono, María Rosario","3D","D",{"$f":"VLOOKUP(C60,Referencias!$C$4:$D$21,2,FALSE())","v":"Tercera Diamante"},{"$f":"VLOOKUP(I60,Referencias!$B$24:$C$41,2,FALSE())","v":"C.VAL"},{"$f":"VLOOKUP(C60,Referencias!$C$4:$E$21,3,FALSE())","v":3},"Competición","C. Valenciana"]
["0341942","Cantau Duluc, Joëlle","3D","D",{"$f":"VLOOKUP(C61,Referencias!$C$4:$D$21,2,FALSE())","v":"Tercera Diamante"},{"$f":"VLOOKUP(I61,Referencias!$B$24:$C$41,2,FALSE())","v":"C.VAL"},{"$f":"VLOOKUP(C61,Referencias!$C$4:$E$21,3,FALSE())","v":3},"Competición","C. Valenciana"]
["0341943","Soriano Zapata, Laura","3D","D",{"$f":"VLOOKUP(C62,Referencias!$C$4:$D$21,2,FALSE())","v":"Tercera Diamante"},{"$f":"VLOOKUP(I62,Referencias!$B$24:$C$41,2,FALSE())","v":"C.VAL"},{"$f":"VLOOKUP(C62,Referencias!$C$4:$E$21,3,FALSE())","v":3},"Competición","C. Valenciana"]
["0341949","de la Muela Rodríguez, María del Socorro","3D","D",{"$f":"VLOOKUP(C63,Referencias!$C$4:$D$21,2,FALSE())","v":"Tercera Diamante"},{"$f":"VLOOKUP(I63,Referencias!$B$24:$C$41,2,FALSE())","v":"C.VAL"},{"$f":"VLOOKUP(C63,Referencias!$C$4:$E$21,3,FALSE())","v":3},"Honorífica","C. Valenciana"]
["0341950","Bayle Bastos, Francisca","3D","D",{"$f":"VLOOKUP(C64,Referencias!$C$4:$D$21,2,FALSE())","v":"Tercera Diamante"},{"$f":"VLOOKUP(I64,Referencias!$B$24:$C$41,2,FALSE())","v":"C.VAL"},{"$f":"VLOOKUP(C64,Referencias!$C$4:$E$21,3,FALSE())","v":3},"Competición","C. Valenciana"]
["0341951","Hernández Rodríguez , Ángela","3D","D",{"$f":"VLOOKUP(C65,Referencias!$C$4:$D$21,2,FALSE())","v":"Tercera Diamante"},{"$f":"VLOOKUP(I65,Referencias!$B$24:$C$41,2,FALSE())","v":"C.VAL"},{"$f":"VLOOKUP(C65,Referencias!$C$4:$E$21,3,FALSE())","v":3},"Competición","C. Valenciana"]
["0341952","Blázquez Martínez, María Teresa","3D","D",{"$f":"VLOOKUP(C66,Referencias!$C$4:$D$21,2,FALSE())","v":"Tercera Diamante"},{"$f":"VLOOKUP(I66,Referencias!$B$24:$C$41,2,FALSE())","v":"C.VAL"},{"$f":"VLOOKUP(C66,Referencias!$C$4:$E$21,3,FALSE())","v":3},"Competición","C. Valenciana"]
["0341953","Combescure, Emma","1P","D",{"$f":"VLOOKUP(C67,Referencias!$C$4:$D$21,2,FALSE())","v":"Primera Picas"},{"$f":"VLOOKUP(I67,Referencias!$B$24:$C$41,2,FALSE())","v":"C.VAL"},{"$f":"VLOOKUP(C67,Referencias!$C$4:$E$21,3,FALSE())","v":1},"Competición","C. Valenciana"]
["0341955","Marinosson, Sveinn","3P","C",{"$f":"VLOOKUP(C68,Referencias!$C$4:$D$21,2,FALSE())","v":"Tercera Picas"},{"$f":"VLOOKUP(I68,Referencias!$B$24:$C$41,2,FALSE())","v":"C.VAL"},{"$f":"VLOOKUP(C68,Referencias!$C$4:$E$21,3,FALSE())","v":3},"Competición","C. Valenciana"]
["0341956","Reynisdóttir, Rebekka","3C","D",{"$f":"VLOOKUP(C69,Referencias!$C$4:$D$21,2,FALSE())","v":"Tercera Corazón"},{"$f":"VLOOKUP(I69,Referencias!$B$24:$C$41,2,FALSE())","v":"C.VAL"},{"$f":"VLOOKUP(C69,Referencias!$C$4:$E$21,3,FALSE())","v":3},"Competición","C. Valenciana"]
["0341958","Combescure, François","MM-O","C",{"$f":"VLOOKUP(C70,Referencias!$C$4:$D$21,2,FALSE())","v":"Maestro Mundial Open"},{"$f":"VLOOKUP(I70,Referencias!$B$24:$C$41,2,FALSE())","v":"C.VAL"},{"$f":"VLOOKUP(C70,Referencias!$C$4:$E$21,3,FALSE())","v":0},"Competición","C. Valenciana"]
["0341960","Casero Peleteiro, Mayte","3D","D",{"$f":"VLOOKUP(C71,Referencias!$C$4:$D$21,2,FALSE())","v":"Tercera Diamante"},{"$f":"VLOOKUP(I71,Referencias!$B$24:$C$41,2,FALSE())","v":"C.VAL"},{"$f":"VLOOKUP(C71,Referencias!$C$4:$E$21,3,FALSE())","v":3},"Competición","C. Valenciana"]
["0341961","Garach Aguado, María Isabel","3D","D",{"$f":"VLOOKUP(C72,Referencias!$C$4:$D$21,2,FALSE())","v":"Tercera Diamante"},{"$f":"VLOOKUP(I72,Referencias!$B$24:$C$41,2,FALSE())","v":"C.VAL"},{"$f":"VLOOKUP(C72,Referencias!$C$4:$E$21,3,FALSE())","v":3},"Competición","C. Valenciana"]
["0341962","Cardona Martín, Angeles","3D","D",{"$f":"VLOOKUP(C73,Referencias!$C$4:$D$21,2,FALSE())","v":"Tercera Diamante"},{"$f":"VLOOKUP(I73,Referencias!$B$24:$C$41,2,FALSE())","v":"C.VAL"},{"$f":"VLOOKUP(C73,Referencias!$C$4:$E$21,3,FALSE())","v":3},"Competición","C. Valenciana"]
["0341963","Sileike, Valentina","3D","D",{"$f":"VLOOKUP(C74,Referencias!$C$4:$D$21,2,FALSE())","v":"Tercera Diamante"},{"$f":"VLOOKUP(I74,Referencias!$B$24:$C$41,2,FALSE())","v":"C.VAL"},{"$f":"VLOOKUP(C74,Referencias!$C$4:$E$21,3,FALSE())","v":3},"Competición","C. Valenciana"]
["0341964","Nursipatova, Aliya","3D","D",{"$f":"VLOOKUP(C75,Referencias!$C$4:$D$21,2,FALSE())","v":"Tercera Diamante"},{"$f":"VLOOKUP(I75,Referencias!$B$24:$C$41,2,FALSE())","v":"C.VAL"},{"$f":"VLOOKUP(C75,Referencias!$C$4:$E$21,3,FALSE())","v":3},"Competición","C. Valenciana"]
["0341965","Mena Aguado, María Teresa","3C","D",{"$f":"VLOOKUP(C76,Referencias!$C$4:$D$21,2,FALSE())","v":"Tercera Corazón"},{"$f":"VLOOKUP(I76,Referencias!$B$24:$C$41,2,FALSE())","v":"C.VAL"},{"$f":"VLOOKUP(C76,Referencias!$C$4:$E$21,3,FALSE())","v":3},"Competición","C. Valenciana"]
["0341972","Andrejeva, Oksana","3D","D",{"$f":"VLOOKUP(C77,Referencias!$C$4:$D$21,2,FALSE())","v":"Tercera Diamante"},{"$f":"VLOOKUP(I77,Referencias!$B$24:$C$41,2,FALSE())","v":"C.VAL"},{"$f":"VLOOKUP(C77,Referencias!$C$4:$E$21,3,FALSE())","v":3},"Competición","C. Valenciana"]
["0341973","San Román Pérez, Sonsoles","3D","D",{"$f":"VLOOKUP(C78,Referencias!$C$4:$D$21,2,FALSE())","v":"Tercera Diamante"},{"$f":"VLOOKUP(I78,Referencias!$B$24:$C$41,2,FALSE())","v":"C.VAL"},{"$f":"VLOOKUP(C78,Referencias!$C$4:$E$21,3,FALSE())","v":3},"Competición","C. Valenciana"]
["0341979","Pomares Boix, Antonio","3D","C",{"$f":"VLOOKUP(C79,Referencias!$C$4:$D$21,2,FALSE())","v":"Tercera Diamante"},{"$f":"VLOOKUP(I79,Referencias!$B$24:$C$41,2,FALSE())","v":"C.VAL"},{"$f":"VLOOKUP(C79,Referencias!$C$4:$E$21,3,FALSE())","v":3},"Competición","C. Valenciana"]
["0341980","Caballero Ayala, Pilar","3D","D",{"$f":"VLOOKUP(C80,Referencias!$C$4:$D$21,2,FALSE())","v":"Tercera Diamante"},{"$f":"VLOOKUP(I80,Referencias!$B$24:$C$41,2,FALSE())","v":"C.VAL"},{"$f":"VLOOKUP(C80,Referencias!$C$4:$E$21,3,FALSE())","v":3},"Competición","C. Valenciana"]
["0341981","Carrasco García, María Luisa","3D","D",{"$f":"VLOOKUP(C81,Referencias!$C$4:$D$21,2,FALSE())","v":"Tercera Diamante"},{"$f":"VLOOKUP(I81,Referencias!$B$24:$C$41,2,FALSE())","v":"C.VAL"},{"$f":"VLOOKUP(C81,Referencias!$C$4:$E$21,3,FALSE())","v":3},"Competición","C. Valenciana"]
["0341982","Gómez Álvarez, María del Carmen","3D","D",{"$f":"VLOOKUP(C82,Referencias!$C$4:$D$21,2,FALSE())","v":"Tercera Diamante"},{"$f":"VLOOKUP(I82,Referencias!$B$24:$C$41,2,FALSE())","v":"C.VAL"},{"$f":"VLOOKUP(C82,Referencias!$C$4:$E$21,3,FALSE())","v":3},"Competición","C. Valenciana"]
["0341983","Labata Larraz, María Lourdes","3D","D",{"$f":"VLOOKUP(C83,Referencias!$C$4:$D$21,2,FALSE())","v":"Tercera Diamante"},{"$f":"VLOOKUP(I83,Referencias!$B$24:$C$41,2,FALSE())","v":"C.VAL"},{"$f":"VLOOKUP(C83,Referencias!$C$4:$E$21,3,FALSE())","v":3},"Competición","C. Valenciana"]
["0346403","Van Eck, Kees","1P","C",{"$f":"VLOOKUP(C84,Referencias!$C$4:$D$21,2,FALSE())","v":"Primera Picas"},{"$f":"VLOOKUP(I84,Referencias!$B$24:$C$41,2,FALSE())","v":"C.VAL"},{"$f":"VLOOKUP(C84,Referencias!$C$4:$E$21,3,FALSE())","v":1},"Competición","C. Valenciana"]
["0346418","Arboli Ayala, Francisca","2D","D",{"$f":"VLOOKUP(C85,Referencias!$C$4:$D$21,2,FALSE())","v":"Segunda Diamante"},{"$f":"VLOOKUP(I85,Referencias!$B$24:$C$41,2,FALSE())","v":"C.VAL"},{"$f":"VLOOKUP(C85,Referencias!$C$4:$E$21,3,FALSE())","v":2},"Competición","C. Valenciana"]
["0346420","Arrizabalaga Echave, María Jesús","3D","D",{"$f":"VLOOKUP(C86,Referencias!$C$4:$D$21,2,FALSE())","v":"Tercera Diamante"},{"$f":"VLOOKUP(I86,Referencias!$B$24:$C$41,2,FALSE())","v":"C.VAL"},{"$f":"VLOOKUP(C86,Referencias!$C$4:$E$21,3,FALSE())","v":3},"Competición","C. Valenciana"]
["0703011","Marqués Cardell, Catalina","3P","D",{"$f":"VLOOKUP(C87,Referencias!$C$4:$D$21,2,FALSE())","v":"Tercera Picas"},{"$f":"VLOOKUP(I87,Referencias!$B$24:$C$41,2,FALSE())","v":"IBAL"},{"$f":"VLOOKUP(C87,Referencias!$C$4:$E$21,3,FALSE())","v":3},"Competición","Balear"]
["0703018","Seguí Colom, Magdalena","3C","D",{"$f":"VLOOKUP(C88,Referencias!$C$4:$D$21,2,FALSE())","v":"Tercera Corazón"},{"$f":"VLOOKUP(I88,Referencias!$B$24:$C$41,2,FALSE())","v":"IBAL"},{"$f":"VLOOKUP(C88,Referencias!$C$4:$E$21,3,FALSE())","v":3},"Competición","Balear"]
["0703022","Casasnovas Siquier, Juana","3C","D",{"$f":"VLOOKUP(C89,Referencias!$C$4:$D$21,2,FALSE())","v":"Tercera Corazón"},{"$f":"VLOOKUP(I89,Referencias!$B$24:$C$41,2,FALSE())","v":"IBAL"},{"$f":"VLOOKUP(C89,Referencias!$C$4:$E$21,3,FALSE())","v":3},"Competición","Balear"]
["0703024","Hjorngaard, Bodil","2D","D",{"$f":"VLOOKUP(C90,Referencias!$C$4:$D$21,2,FALSE())","v":"Segunda Diamante"},{"$f":"VLOOKUP(I90,Referencias!$B$24:$C$41,2,FALSE())","v":"IBAL"},{"$f":"VLOOKUP(C90,Referencias!$C$4:$E$21,3,FALSE())","v":2},"Competición","Balear"]
["0703046","Juan de Sentmenat, Marta","3P","D",{"$f":"VLOOKUP(C91,Referencias!$C$4:$D$21,2,FALSE())","v":"Tercera Picas"},{"$f":"VLOOKUP(I91,Referencias!$B$24:$C$41,2,FALSE())","v":"IBAL"},{"$f":"VLOOKUP(C91,Referencias!$C$4:$E$21,3,FALSE())","v":3},"Competición","Balear"]
["0703059","Vergara Benedetti, Annabelle","2D","D",{"$f":"VLOOKUP(C92,Referencias!$C$4:$D$21,2,FALSE())","v":"Segunda Diamante"},{"$f":"VLOOKUP(I92,Referencias!$B$24:$C$41,2,FALSE())","v":"IBAL"},{"$f":"VLOOKUP(C92,Referencias!$C$4:$E$21,3,FALSE())","v":2},"Competición","Balear"]
["0703065","Vila Mas, Magdalena","2P","D",{"$f":"VLOOKUP(C93,Referencias!$C$4:$D$21,2,FALSE())","v":"Segunda Picas"},{"$f":"VLOOKUP(I93,Referencias!$B$24:$C$41,2,FALSE())","v":"IBAL"},{"$f":"VLOOKUP(C93,Referencias!$C$4:$E$21,3,FALSE())","v":2},"Competición","Balear"]
["0703066","Llinás Gonzaga, Catalina","3C","D",{"$f":"VLOOKUP(C94,Referencias!$C$4:$D$21,2,FALSE())","v":"Tercera Corazón"},{"$f":"VLOOKUP(I94,Referencias!$B$24:$C$41,2,FALSE())","v":"IBAL"},{"$f":"VLOOKUP(C94,Referencias!$C$4:$E$21,3,FALSE())","v":3},"Competición","Balear"]
["0703073","Sabaté Beltrán, Yvonne","2C","D",{"$f":"VLOOKUP(C95,Referencias!$C$4:$D$21,2,FALSE())","v":"Segunda Corazón"},{"$f":"VLOOKUP(I95,Referencias!$B$24:$C$41,2,FALSE())","v":"IBAL"},{"$f":"VLOOKUP(C95,Referencias!$C$4:$E$21,3,FALSE())","v":2},"Competición","Balear"]
["0703076","Jaume Muñoz, Carmen","3C","D",{"$f":"VLOOKUP(C96,Referencias!$C$4:$D$21,2,FALSE())","v":"Tercera Corazón"},{"$f":"VLOOKUP(I96,Referencias!$B$24:$C$41,2,FALSE())","v":"IBAL"},{"$f":"VLOOKUP(C96,Referencias!$C$4:$E$21,3,FALSE())","v":3},"Competición","Balear"]
["0703078","Cuenca Serna, María Teresa","2D","D",{"$f":"VLOOKUP(C97,Referencias!$C$4:$D$21,2,FALSE())","v":"Segunda Diamante"},{"$f":"VLOOKUP(I97,Referencias!$B$24:$C$41,2,FALSE())","v":"IBAL"},{"$f":"VLOOKUP(C97,Referencias!$C$4:$E$21,3,FALSE())","v":2},"Competición","Balear"]
["0703079","Carmona Jímenez, Antonia","3D","D",{"$f":"VLOOKUP(C98,Referencias!$C$4:$D$21,2,FALSE())","v":"Tercera Diamante"},{"$f":"VLOOKUP(I98,Referencias!$B$24:$C$41,2,FALSE())","v":"IBAL"},{"$f":"VLOOKUP(C98,Referencias!$C$4:$E$21,3,FALSE())","v":3},"Competición","Balear"]
["0703083","Vaquer Colom, Margarita","3D","D",{"$f":"VLOOKUP(C99,Referencias!$C$4:$D$21,2,FALSE())","v":"Tercera Diamante"},{"$f":"VLOOKUP(I99,Referencias!$B$24:$C$41,2,FALSE())","v":"IBAL"},{"$f":"VLOOKUP(C99,Referencias!$C$4:$E$21,3,FALSE())","v":3},"Competición","Balear"]
["0703085","Alomar Cardell, María Antonia","2C","D",{"$f":"VLOOKUP(C100,Referencias!$C$4:$D$21,2,FALSE())","v":"Segunda Corazón"},{"$f":"VLOOKUP(I100,Referencias!$B$24:$C$41,2,FALSE())","v":"IBAL"},{"$f":"VLOOKUP(C100,Referencias!$C$4:$E$21,3,FALSE())","v":2},"Competición","Balear"]
["0703086","Vidal Reynes, Araceli","3C","D",{"$f":"VLOOKUP(C101,Referencias!$C$4:$D$21,2,FALSE())","v":"Tercera Corazón"},{"$f":"VLOOKUP(I101,Referencias!$B$24:$C$41,2,FALSE())","v":"IBAL"},{"$f":"VLOOKUP(C101,Referencias!$C$4:$E$21,3,FALSE())","v":3},"Competición","Balear"]
["0703090","Cifuentes, Paloma","2D","D",{"$f":"VLOOKUP(C102,Referencias!$C$4:$D$21,2,FALSE())","v":"Segunda Diamante"},{"$f":"VLOOKUP(I102,Referencias!$B$24:$C$41,2,FALSE())","v":"IBAL"},{"$f":"VLOOKUP(C102,Referencias!$C$4:$E$21,3,FALSE())","v":2},"Competición","Balear"]
["0703091","Campuzano Casasayas, Paz","3C","D",{"$f":"VLOOKUP(C103,Referencias!$C$4:$D$21,2,FALSE())","v":"Tercera Corazón"},{"$f":"VLOOKUP(I103,Referencias!$B$24:$C$41,2,FALSE())","v":"IBAL"},{"$f":"VLOOKUP(C103,Referencias!$C$4:$E$21,3,FALSE())","v":3},"Competición","Balear"]
["0703099","Marqués de Oleza, Luis","2D","C",{"$f":"VLOOKUP(C104,Referencias!$C$4:$D$21,2,FALSE())","v":"Segunda Diamante"},{"$f":"VLOOKUP(I104,Referencias!$B$24:$C$41,2,FALSE())","v":"IBAL"},{"$f":"VLOOKUP(C104,Referencias!$C$4:$E$21,3,FALSE())","v":2},"Competición","Balear"]
["0703100","Soeffker, Heide","2P","D",{"$f":"VLOOKUP(C105,Referencias!$C$4:$D$21,2,FALSE())","v":"Segunda Picas"},{"$f":"VLOOKUP(I105,Referencias!$B$24:$C$41,2,FALSE())","v":"IBAL"},{"$f":"VLOOKUP(C105,Referencias!$C$4:$E$21,3,FALSE())","v":2},"Competición","Balear"]
["0703104","Varela Puig, Mercedes","1P","D",{"$f":"VLOOKUP(C106,Referencias!$C$4:$D$21,2,FALSE())","v":"Primera Picas"},{"$f":"VLOOKUP(I106,Referencias!$B$24:$C$41,2,FALSE())","v":"IBAL"},{"$f":"VLOOKUP(C106,Referencias!$C$4:$E$21,3,FALSE())","v":1},"Competición","Balear"]
["0703109","Font Vidal, José María","1P","C",{"$f":"VLOOKUP(C107,Referencias!$C$4:$D$21,2,FALSE())","v":"Primera Picas"},{"$f":"VLOOKUP(I107,Referencias!$B$24:$C$41,2,FALSE())","v":"IBAL"},{"$f":"VLOOKUP(C107,Referencias!$C$4:$E$21,3,FALSE())","v":1},"Competición","Balear"]
["0703110","Van Noolen, María José","2D","D",{"$f":"VLOOKUP(C108,Referencias!$C$4:$D$21,2,FALSE())","v":"Segunda Diamante"},{"$f":"VLOOKUP(I108,Referencias!$B$24:$C$41,2,FALSE())","v":"IBAL"},{"$f":"VLOOKUP(C108,Referencias!$C$4:$E$21,3,FALSE())","v":2},"Competición","Balear"]
["0703112","Vidal Jz-Alfaro, Margarita","1P","D",{"$f":"VLOOKUP(C109,Referencias!$C$4:$D$21,2,FALSE())","v":"Primera Picas"},{"$f":"VLOOKUP(I109,Referencias!$B$24:$C$41,2,FALSE())","v":"IBAL"},{"$f":"VLOOKUP(C109,Referencias!$C$4:$E$21,3,FALSE())","v":1},"Competición","Balear"]
["0703113","Álvarez Merino, María del Pilar","1D","D",{"$f":"VLOOKUP(C110,Referencias!$C$4:$D$21,2,FALSE())","v":"Primera Diamante"},{"$f":"VLOOKUP(I110,Referencias!$B$24:$C$41,2,FALSE())","v":"IBAL"},{"$f":"VLOOKUP(C110,Referencias!$C$4:$E$21,3,FALSE())","v":1},"Competición","Balear"]
["0703114","Ramis Sans, María","3D","D",{"$f":"VLOOKUP(C111,Referencias!$C$4:$D$21,2,FALSE())","v":"Tercera Diamante"},{"$f":"VLOOKUP(I111,Referencias!$B$24:$C$41,2,FALSE())","v":"IBAL"},{"$f":"VLOOKUP(C111,Referencias!$C$4:$E$21,3,FALSE())","v":3},"Competición","Balear"]
["0703117","Allessie Van Wel, Wilhelmina Anna","3P","D",{"$f":"VLOOKUP(C112,Referencias!$C$4:$D$21,2,FALSE())","v":"Tercera Picas"},{"$f":"VLOOKUP(I112,Referencias!$B$24:$C$41,2,FALSE())","v":"IBAL"},{"$f":"VLOOKUP(C112,Referencias!$C$4:$E$21,3,FALSE())","v":3},"Competición","Balear"]
["0703119","Villar Alastrué, Pilar","1C","D",{"$f":"VLOOKUP(C113,Referencias!$C$4:$D$21,2,FALSE())","v":"Primera Corazón"},{"$f":"VLOOKUP(I113,Referencias!$B$24:$C$41,2,FALSE())","v":"C.VAL"},{"$f":"VLOOKUP(C113,Referencias!$C$4:$E$21,3,FALSE())","v":1},"Competición","C. Valenciana"]
["0703132","Fabré de Balanzó, Fernando","3D","C",{"$f":"VLOOKUP(C114,Referencias!$C$4:$D$21,2,FALSE())","v":"Tercera Diamante"},{"$f":"VLOOKUP(I114,Referencias!$B$24:$C$41,2,FALSE())","v":"IBAL"},{"$f":"VLOOKUP(C114,Referencias!$C$4:$E$21,3,FALSE())","v":3},"Competición","Balear"]
["0703133","Vicens Orell, Catalina","3D","D",{"$f":"VLOOKUP(C115,Referencias!$C$4:$D$21,2,FALSE())","v":"Tercera Diamante"},{"$f":"VLOOKUP(I115,Referencias!$B$24:$C$41,2,FALSE())","v":"IBAL"},{"$f":"VLOOKUP(C115,Referencias!$C$4:$E$21,3,FALSE())","v":3},"Competición","Balear"]
["0703135","Pou Jaume, Maria Carme","3D","D",{"$f":"VLOOKUP(C116,Referencias!$C$4:$D$21,2,FALSE())","v":"Tercera Diamante"},{"$f":"VLOOKUP(I116,Referencias!$B$24:$C$41,2,FALSE())","v":"IBAL"},{"$f":"VLOOKUP(C116,Referencias!$C$4:$E$21,3,FALSE())","v":3},"Competición","Balear"]
["0703137","Roses Canet, Emilia","2P","D",{"$f":"VLOOKUP(C117,Referencias!$C$4:$D$21,2,FALSE())","v":"Segunda Picas"},{"$f":"VLOOKUP(I117,Referencias!$B$24:$C$41,2,FALSE())","v":"IBAL"},{"$f":"VLOOKUP(C117,Referencias!$C$4:$E$21,3,FALSE())","v":2},"Competición","Balear"]
["0703140","Van Stuikvenberg, Ildiko","2C","D",{"$f":"VLOOKUP(C118,Referencias!$C$4:$D$21,2,FALSE())","v":"Segunda Corazón"},{"$f":"VLOOKUP(I118,Referencias!$B$24:$C$41,2,FALSE())","v":"IBAL"},{"$f":"VLOOKUP(C118,Referencias!$C$4:$E$21,3,FALSE())","v":2},"Competición","Balear"]
["0703142","Van Haute, Margot","3P","D",{"$f":"VLOOKUP(C119,Referencias!$C$4:$D$21,2,FALSE())","v":"Tercera Picas"},{"$f":"VLOOKUP(I119,Referencias!$B$24:$C$41,2,FALSE())","v":"IBAL"},{"$f":"VLOOKUP(C119,Referencias!$C$4:$E$21,3,FALSE())","v":3},"Competición","Balear"]
["0703146","Vidal Berga, María Catalina","3D","D",{"$f":"VLOOKUP(C120,Referencias!$C$4:$D$21,2,FALSE())","v":"Tercera Diamante"},{"$f":"VLOOKUP(I120,Referencias!$B$24:$C$41,2,FALSE())","v":"IBAL"},{"$f":"VLOOKUP(C120,Referencias!$C$4:$E$21,3,FALSE())","v":3},"Competición","Balear"]
["0703150","Zoreda de la Rosa, Marta","1P","D",{"$f":"VLOOKUP(C121,Referencias!$C$4:$D$21,2,FALSE())","v":"Primera Picas"},{"$f":"VLOOKUP(I121,Referencias!$B$24:$C$41,2,FALSE())","v":"IBAL"},{"$f":"VLOOKUP(C121,Referencias!$C$4:$E$21,3,FALSE())","v":1},"Competición","Balear"]
["0703153","Kerstiens, Dorothee","3P","D",{"$f":"VLOOKUP(C122,Referencias!$C$4:$D$21,2,FALSE())","v":"Tercera Picas"},{"$f":"VLOOKUP(I122,Referencias!$B$24:$C$41,2,FALSE())","v":"IBAL"},{"$f":"VLOOKUP(C122,Referencias!$C$4:$E$21,3,FALSE())","v":3},"Competición","Balear"]
["0703154","Saporta Navarro, Francoise","3P","D",{"$f":"VLOOKUP(C123,Referencias!$C$4:$D$21,2,FALSE())","v":"Tercera Picas"},{"$f":"VLOOKUP(I123,Referencias!$B$24:$C$41,2,FALSE())","v":"IBAL"},{"$f":"VLOOKUP(C123,Referencias!$C$4:$E$21,3,FALSE())","v":3},"Competición","Balear"]
["0703157","Fernández López, Carmen","2D","D",{"$f":"VLOOKUP(C124,Referencias!$C$4:$D$21,2,FALSE())","v":"Segunda Diamante"},{"$f":"VLOOKUP(I124,Referencias!$B$24:$C$41,2,FALSE())","v":"IBAL"},{"$f":"VLOOKUP(C124,Referencias!$C$4:$E$21,3,FALSE())","v":2},"Competición","Balear"]
["0703158","Marti Ramón, María Antonia","3D","D",{"$f":"VLOOKUP(C125,Referencias!$C$4:$D$21,2,FALSE())","v":"Tercera Diamante"},{"$f":"VLOOKUP(I125,Referencias!$B$24:$C$41,2,FALSE())","v":"IBAL"},{"$f":"VLOOKUP(C125,Referencias!$C$4:$E$21,3,FALSE())","v":3},"Competición","Balear"]
["0703170","Serrano Lloret, Mª Angeles","3C","D",{"$f":"VLOOKUP(C126,Referencias!$C$4:$D$21,2,FALSE())","v":"Tercera Corazón"},{"$f":"VLOOKUP(I126,Referencias!$B$24:$C$41,2,FALSE())","v":"IBAL"},{"$f":"VLOOKUP(C126,Referencias!$C$4:$E$21,3,FALSE())","v":3},"Competición","Balear"]
["0703172","Simarro Marques, María","3D","D",{"$f":"VLOOKUP(C127,Referencias!$C$4:$D$21,2,FALSE())","v":"Tercera Diamante"},{"$f":"VLOOKUP(I127,Referencias!$B$24:$C$41,2,FALSE())","v":"IBAL"},{"$f":"VLOOKUP(C127,Referencias!$C$4:$E$21,3,FALSE())","v":3},"Competición","Balear"]
["0703174","Burgos Ballesteros, María Isabel","3D","D",{"$f":"VLOOKUP(C128,Referencias!$C$4:$D$21,2,FALSE())","v":"Tercera Diamante"},{"$f":"VLOOKUP(I128,Referencias!$B$24:$C$41,2,FALSE())","v":"IBAL"},{"$f":"VLOOKUP(C128,Referencias!$C$4:$E$21,3,FALSE())","v":3},"Competición","Balear"]
["0703182","Barcos Toro, Maria Dolores","3D","D",{"$f":"VLOOKUP(C129,Referencias!$C$4:$D$21,2,FALSE())","v":"Tercera Diamante"},{"$f":"VLOOKUP(I129,Referencias!$B$24:$C$41,2,FALSE())","v":"IBAL"},{"$f":"VLOOKUP(C129,Referencias!$C$4:$E$21,3,FALSE())","v":3},"Competición","Balear"]
["0703189","Colom Alberti, Marie Madeleine","3C","D",{"$f":"VLOOKUP(C130,Referencias!$C$4:$D$21,2,FALSE())","v":"Tercera Corazón"},{"$f":"VLOOKUP(I130,Referencias!$B$24:$C$41,2,FALSE())","v":"IBAL"},{"$f":"VLOOKUP(C130,Referencias!$C$4:$E$21,3,FALSE())","v":3},"Competición","Balear"]
["0703201","Bosch Montaner, María del Pilar","2D","D",{"$f":"VLOOKUP(C131,Referencias!$C$4:$D$21,2,FALSE())","v":"Segunda Diamante"},{"$f":"VLOOKUP(I131,Referencias!$B$24:$C$41,2,FALSE())","v":"IBAL"},{"$f":"VLOOKUP(C131,Referencias!$C$4:$E$21,3,FALSE())","v":2},"Competición","Balear"]
["0703203","de Lis, Ignacio","1P","C",{"$f":"VLOOKUP(C132,Referencias!$C$4:$D$21,2,FALSE())","v":"Primera Picas"},{"$f":"VLOOKUP(I132,Referencias!$B$24:$C$41,2,FALSE())","v":"IBAL"},{"$f":"VLOOKUP(C132,Referencias!$C$4:$E$21,3,FALSE())","v":1},"Competición","Balear"]
["0703205","Rifa Ferrer, Rosa","3D","D",{"$f":"VLOOKUP(C133,Referencias!$C$4:$D$21,2,FALSE())","v":"Tercera Diamante"},{"$f":"VLOOKUP(I133,Referencias!$B$24:$C$41,2,FALSE())","v":"IBAL"},{"$f":"VLOOKUP(C133,Referencias!$C$4:$E$21,3,FALSE())","v":3},"Competición","Balear"]
["0703209","Seibel, Renata","3P","D",{"$f":"VLOOKUP(C134,Referencias!$C$4:$D$21,2,FALSE())","v":"Tercera Picas"},{"$f":"VLOOKUP(I134,Referencias!$B$24:$C$41,2,FALSE())","v":"IBAL"},{"$f":"VLOOKUP(C134,Referencias!$C$4:$E$21,3,FALSE())","v":3},"Competición","Balear"]
["0703212","Marone Cinzano Borbon, Anna Alessandra","3D","D",{"$f":"VLOOKUP(C135,Referencias!$C$4:$D$21,2,FALSE())","v":"Tercera Diamante"},{"$f":"VLOOKUP(I135,Referencias!$B$24:$C$41,2,FALSE())","v":"IBAL"},{"$f":"VLOOKUP(C135,Referencias!$C$4:$E$21,3,FALSE())","v":3},"Competición","Balear"]
["0703214","Bilbao Egaña, Begoña","3D","D",{"$f":"VLOOKUP(C136,Referencias!$C$4:$D$21,2,FALSE())","v":"Tercera Diamante"},{"$f":"VLOOKUP(I136,Referencias!$B$24:$C$41,2,FALSE())","v":"IBAL"},{"$f":"VLOOKUP(C136,Referencias!$C$4:$E$21,3,FALSE())","v":3},"Competición","Balear"]
["0703215","Campuzano Casasayas, María del Carmen","3D","D",{"$f":"VLOOKUP(C137,Referencias!$C$4:$D$21,2,FALSE())","v":"Tercera Diamante"},{"$f":"VLOOKUP(I137,Referencias!$B$24:$C$41,2,FALSE())","v":"IBAL"},{"$f":"VLOOKUP(C137,Referencias!$C$4:$E$21,3,FALSE())","v":3},"Competición","Balear"]
["0703216","Piña Saiz, Ramón","3D","C",{"$f":"VLOOKUP(C138,Referencias!$C$4:$D$21,2,FALSE())","v":"Tercera Diamante"},{"$f":"VLOOKUP(I138,Referencias!$B$24:$C$41,2,FALSE())","v":"IBAL"},{"$f":"VLOOKUP(C138,Referencias!$C$4:$E$21,3,FALSE())","v":3},"Competición","Balear"]
["0703217","Campuzano Casasayas, Margarita","3D","D",{"$f":"VLOOKUP(C139,Referencias!$C$4:$D$21,2,FALSE())","v":"Tercera Diamante"},{"$f":"VLOOKUP(I139,Referencias!$B$24:$C$41,2,FALSE())","v":"IBAL"},{"$f":"VLOOKUP(C139,Referencias!$C$4:$E$21,3,FALSE())","v":3},"Competición","Balear"]
["0703221","Verd Herrero, Fernando","3D","C",{"$f":"VLOOKUP(C140,Referencias!$C$4:$D$21,2,FALSE())","v":"Tercera Diamante"},{"$f":"VLOOKUP(I140,Referencias!$B$24:$C$41,2,FALSE())","v":"IBAL"},{"$f":"VLOOKUP(C140,Referencias!$C$4:$E$21,3,FALSE())","v":3},"Competición","Balear"]
["0703231","Chorda Tur, Carmen","2D","D",{"$f":"VLOOKUP(C141,Referencias!$C$4:$D$21,2,FALSE())","v":"Segunda Diamante"},{"$f":"VLOOKUP(I141,Referencias!$B$24:$C$41,2,FALSE())","v":"IBAL"},{"$f":"VLOOKUP(C141,Referencias!$C$4:$E$21,3,FALSE())","v":2},"Competición","Balear"]
["0703232","Varela de Limia Neyra, Jacobo","2D","C",{"$f":"VLOOKUP(C142,Referencias!$C$4:$D$21,2,FALSE())","v":"Segunda Diamante"},{"$f":"VLOOKUP(I142,Referencias!$B$24:$C$41,2,FALSE())","v":"IBAL"},{"$f":"VLOOKUP(C142,Referencias!$C$4:$E$21,3,FALSE())","v":2},"Competición","Balear"]
["0703241","Grua Llanares, Catalina","3D","D",{"$f":"VLOOKUP(C143,Referencias!$C$4:$D$21,2,FALSE())","v":"Tercera Diamante"},{"$f":"VLOOKUP(I143,Referencias!$B$24:$C$41,2,FALSE())","v":"IBAL"},{"$f":"VLOOKUP(C143,Referencias!$C$4:$E$21,3,FALSE())","v":3},"Competición","Balear"]
["0703242","Amengual Cifre, Coloma","3D","D",{"$f":"VLOOKUP(C144,Referencias!$C$4:$D$21,2,FALSE())","v":"Tercera Diamante"},{"$f":"VLOOKUP(I144,Referencias!$B$24:$C$41,2,FALSE())","v":"IBAL"},{"$f":"VLOOKUP(C144,Referencias!$C$4:$E$21,3,FALSE())","v":3},"Competición","Balear"]
["0703245","Coll, Margarita","3D","D",{"$f":"VLOOKUP(C145,Referencias!$C$4:$D$21,2,FALSE())","v":"Tercera Diamante"},{"$f":"VLOOKUP(I145,Referencias!$B$24:$C$41,2,FALSE())","v":"IBAL"},{"$f":"VLOOKUP(C145,Referencias!$C$4:$E$21,3,FALSE())","v":3},"Competición","Balear"]
["0703246","Schwartz Girón, Fernando","3D","C",{"$f":"VLOOKUP(C146,Referencias!$C$4:$D$21,2,FALSE())","v":"Tercera Diamante"},{"$f":"VLOOKUP(I146,Referencias!$B$24:$C$41,2,FALSE())","v":"IBAL"},{"$f":"VLOOKUP(C146,Referencias!$C$4:$E$21,3,FALSE())","v":3},"Competición","Balear"]
["0703248","Tolonen Toyryla, Laura Silvia","3D","D",{"$f":"VLOOKUP(C147,Referencias!$C$4:$D$21,2,FALSE())","v":"Tercera Diamante"},{"$f":"VLOOKUP(I147,Referencias!$B$24:$C$41,2,FALSE())","v":"IBAL"},{"$f":"VLOOKUP(C147,Referencias!$C$4:$E$21,3,FALSE())","v":3},"Competición","Balear"]
["0703252","Bennassar Gutierrez de la Concha, María Julia","3D","D",{"$f":"VLOOKUP(C148,Referencias!$C$4:$D$21,2,FALSE())","v":"Tercera Diamante"},{"$f":"VLOOKUP(I148,Referencias!$B$24:$C$41,2,FALSE())","v":"IBAL"},{"$f":"VLOOKUP(C148,Referencias!$C$4:$E$21,3,FALSE())","v":3},"Competición","Balear"]
["0703254","D´Ormesson, Anne","3D","D",{"$f":"VLOOKUP(C149,Referencias!$C$4:$D$21,2,FALSE())","v":"Tercera Diamante"},{"$f":"VLOOKUP(I149,Referencias!$B$24:$C$41,2,FALSE())","v":"IBAL"},{"$f":"VLOOKUP(C149,Referencias!$C$4:$E$21,3,FALSE())","v":3},"Competición","Balear"]
["0703256","Zaforteza de Corral, María Dolores","3C","D",{"$f":"VLOOKUP(C150,Referencias!$C$4:$D$21,2,FALSE())","v":"Tercera Corazón"},{"$f":"VLOOKUP(I150,Referencias!$B$24:$C$41,2,FALSE())","v":"IBAL"},{"$f":"VLOOKUP(C150,Referencias!$C$4:$E$21,3,FALSE())","v":3},"Competición","Balear"]
["0703257","Vaquero Hernández, Cruz","3D","D",{"$f":"VLOOKUP(C151,Referencias!$C$4:$D$21,2,FALSE())","v":"Tercera Diamante"},{"$f":"VLOOKUP(I151,Referencias!$B$24:$C$41,2,FALSE())","v":"IBAL"},{"$f":"VLOOKUP(C151,Referencias!$C$4:$E$21,3,FALSE())","v":3},"Competición","Balear"]
["0703258","Stange, Heidi","3D","D",{"$f":"VLOOKUP(C152,Referencias!$C$4:$D$21,2,FALSE())","v":"Tercera Diamante"},{"$f":"VLOOKUP(I152,Referencias!$B$24:$C$41,2,FALSE())","v":"IBAL"},{"$f":"VLOOKUP(C152,Referencias!$C$4:$E$21,3,FALSE())","v":3},"Competición","Balear"]
["0703261","Dudley, Anita Louise","3C","D",{"$f":"VLOOKUP(C153,Referencias!$C$4:$D$21,2,FALSE())","v":"Tercera Corazón"},{"$f":"VLOOKUP(I153,Referencias!$B$24:$C$41,2,FALSE())","v":"IBAL"},{"$f":"VLOOKUP(C153,Referencias!$C$4:$E$21,3,FALSE())","v":3},"Competición","Balear"]
["0703264","Bacher S, Hans","3D","C",{"$f":"VLOOKUP(C154,Referencias!$C$4:$D$21,2,FALSE())","v":"Tercera Diamante"},{"$f":"VLOOKUP(I154,Referencias!$B$24:$C$41,2,FALSE())","v":"IBAL"},{"$f":"VLOOKUP(C154,Referencias!$C$4:$E$21,3,FALSE())","v":3},"Competición","Balear"]
["0703265","Moragues Muñoz, Gloria","3P","D",{"$f":"VLOOKUP(C155,Referencias!$C$4:$D$21,2,FALSE())","v":"Tercera Picas"},{"$f":"VLOOKUP(I155,Referencias!$B$24:$C$41,2,FALSE())","v":"IBAL"},{"$f":"VLOOKUP(C155,Referencias!$C$4:$E$21,3,FALSE())","v":3},"Competición","Balear"]
["0703266","Armenteros Costosa, Nuria","3C","D",{"$f":"VLOOKUP(C156,Referencias!$C$4:$D$21,2,FALSE())","v":"Tercera Corazón"},{"$f":"VLOOKUP(I156,Referencias!$B$24:$C$41,2,FALSE())","v":"IBAL"},{"$f":"VLOOKUP(C156,Referencias!$C$4:$E$21,3,FALSE())","v":3},"Competición","Balear"]
["0703267","Middelmann Blome, Álvaro","3D","C",{"$f":"VLOOKUP(C157,Referencias!$C$4:$D$21,2,FALSE())","v":"Tercera Diamante"},{"$f":"VLOOKUP(I157,Referencias!$B$24:$C$41,2,FALSE())","v":"IBAL"},{"$f":"VLOOKUP(C157,Referencias!$C$4:$E$21,3,FALSE())","v":3},"Competición","Balear"]
["0703268","Middelmann Blome, Isabelle","3D","D",{"$f":"VLOOKUP(C158,Referencias!$C$4:$D$21,2,FALSE())","v":"Tercera Diamante"},{"$f":"VLOOKUP(I158,Referencias!$B$24:$C$41,2,FALSE())","v":"IBAL"},{"$f":"VLOOKUP(C158,Referencias!$C$4:$E$21,3,FALSE())","v":3},"Competición","Balear"]
["0703269","Eiraldi Mautone, Selva","1P","D",{"$f":"VLOOKUP(C159,Referencias!$C$4:$D$21,2,FALSE())","v":"Primera Picas"},{"$f":"VLOOKUP(I159,Referencias!$B$24:$C$41,2,FALSE())","v":"IBAL"},{"$f":"VLOOKUP(C159,Referencias!$C$4:$E$21,3,FALSE())","v":1},"Competición","Balear"]
["0703272","Mª de Lluch, Deya Frutos","3D","D",{"$f":"VLOOKUP(C160,Referencias!$C$4:$D$21,2,FALSE())","v":"Tercera Diamante"},{"$f":"VLOOKUP(I160,Referencias!$B$24:$C$41,2,FALSE())","v":"IBAL"},{"$f":"VLOOKUP(C160,Referencias!$C$4:$E$21,3,FALSE())","v":3},"Competición","Balear"]
["0703273","Loeffler, Isabel","1P","D",{"$f":"VLOOKUP(C161,Referencias!$C$4:$D$21,2,FALSE())","v":"Primera Picas"},{"$f":"VLOOKUP(I161,Referencias!$B$24:$C$41,2,FALSE())","v":"IBAL"},{"$f":"VLOOKUP(C161,Referencias!$C$4:$E$21,3,FALSE())","v":1},"Competición","Balear"]
["0703275","Obrador Capó, Antonio","3P","C",{"$f":"VLOOKUP(C162,Referencias!$C$4:$D$21,2,FALSE())","v":"Tercera Picas"},{"$f":"VLOOKUP(I162,Referencias!$B$24:$C$41,2,FALSE())","v":"IBAL"},{"$f":"VLOOKUP(C162,Referencias!$C$4:$E$21,3,FALSE())","v":3},"Competición","Balear"]
["0703277","Ferrer Villalonga, Catalina","3D","C",{"$f":"VLOOKUP(C163,Referencias!$C$4:$D$21,2,FALSE())","v":"Tercera Diamante"},{"$f":"VLOOKUP(I163,Referencias!$B$24:$C$41,2,FALSE())","v":"IBAL"},{"$f":"VLOOKUP(C163,Referencias!$C$4:$E$21,3,FALSE())","v":3},"Competición","Balear"]
["0703278","García de Oteyza Fenández, Maria del Pilar","3D","D",{"$f":"VLOOKUP(C164,Referencias!$C$4:$D$21,2,FALSE())","v":"Tercera Diamante"},{"$f":"VLOOKUP(I164,Referencias!$B$24:$C$41,2,FALSE())","v":"IBAL"},{"$f":"VLOOKUP(C164,Referencias!$C$4:$E$21,3,FALSE())","v":3},"Competición","Balear"]
["0703279","Rullán Moyá, Diego","2C","C",{"$f":"VLOOKUP(C165,Referencias!$C$4:$D$21,2,FALSE())","v":"Segunda Corazón"},{"$f":"VLOOKUP(I165,Referencias!$B$24:$C$41,2,FALSE())","v":"IBAL"},{"$f":"VLOOKUP(C165,Referencias!$C$4:$E$21,3,FALSE())","v":2},"Competición","Balear"]
["0703280","Arias Neira, Mercedes","2C","D",{"$f":"VLOOKUP(C166,Referencias!$C$4:$D$21,2,FALSE())","v":"Segunda Corazón"},{"$f":"VLOOKUP(I166,Referencias!$B$24:$C$41,2,FALSE())","v":"IBAL"},{"$f":"VLOOKUP(C166,Referencias!$C$4:$E$21,3,FALSE())","v":2},"Competición","Balear"]
["0703281","Moreto Matosas, María","3P","D",{"$f":"VLOOKUP(C167,Referencias!$C$4:$D$21,2,FALSE())","v":"Tercera Picas"},{"$f":"VLOOKUP(I167,Referencias!$B$24:$C$41,2,FALSE())","v":"IBAL"},{"$f":"VLOOKUP(C167,Referencias!$C$4:$E$21,3,FALSE())","v":3},"Competición","Balear"]
["0703282","Obrador Rigo, María","2D","D",{"$f":"VLOOKUP(C168,Referencias!$C$4:$D$21,2,FALSE())","v":"Segunda Diamante"},{"$f":"VLOOKUP(I168,Referencias!$B$24:$C$41,2,FALSE())","v":"IBAL"},{"$f":"VLOOKUP(C168,Referencias!$C$4:$E$21,3,FALSE())","v":2},"Competición","Balear"]
["0703285","Gual de Torrella Vidal, Marieta","3D","D",{"$f":"VLOOKUP(C169,Referencias!$C$4:$D$21,2,FALSE())","v":"Tercera Diamante"},{"$f":"VLOOKUP(I169,Referencias!$B$24:$C$41,2,FALSE())","v":"IBAL"},{"$f":"VLOOKUP(C169,Referencias!$C$4:$E$21,3,FALSE())","v":3},"Competición","Balear"]
["0703286","Martín Rebollo, María Luisa","3D","D",{"$f":"VLOOKUP(C170,Referencias!$C$4:$D$21,2,FALSE())","v":"Tercera Diamante"},{"$f":"VLOOKUP(I170,Referencias!$B$24:$C$41,2,FALSE())","v":"IBAL"},{"$f":"VLOOKUP(C170,Referencias!$C$4:$E$21,3,FALSE())","v":3},"Competición","Balear"]
["0703287","Bascuñana de Castro, Pilar","3D","D",{"$f":"VLOOKUP(C171,Referencias!$C$4:$D$21,2,FALSE())","v":"Tercera Diamante"},{"$f":"VLOOKUP(I171,Referencias!$B$24:$C$41,2,FALSE())","v":"IBAL"},{"$f":"VLOOKUP(C171,Referencias!$C$4:$E$21,3,FALSE())","v":3},"Competición","Balear"]
["0703289","Zaforteza de Corral, Clotilde","3D","D",{"$f":"VLOOKUP(C172,Referencias!$C$4:$D$21,2,FALSE())","v":"Tercera Diamante"},{"$f":"VLOOKUP(I172,Referencias!$B$24:$C$41,2,FALSE())","v":"IBAL"},{"$f":"VLOOKUP(C172,Referencias!$C$4:$E$21,3,FALSE())","v":3},"Competición","Balear"]
["0703290","Zaforteza de Corral, Ana","3D","D",{"$f":"VLOOKUP(C173,Referencias!$C$4:$D$21,2,FALSE())","v":"Tercera Diamante"},{"$f":"VLOOKUP(I173,Referencias!$B$24:$C$41,2,FALSE())","v":"IBAL"},{"$f":"VLOOKUP(C173,Referencias!$C$4:$E$21,3,FALSE())","v":3},"Competición","Balear"]
["0703291","Batten, Evi","3C","D",{"$f":"VLOOKUP(C174,Referencias!$C$4:$D$21,2,FALSE())","v":"Tercera Corazón"},{"$f":"VLOOKUP(I174,Referencias!$B$24:$C$41,2,FALSE())","v":"IBAL"},{"$f":"VLOOKUP(C174,Referencias!$C$4:$E$21,3,FALSE())","v":3},"Competición","Balear"]
["0703292","Batten, David","3C","C",{"$f":"VLOOKUP(C175,Referencias!$C$4:$D$21,2,FALSE())","v":"Tercera Corazón"},{"$f":"VLOOKUP(I175,Referencias!$B$24:$C$41,2,FALSE())","v":"IBAL"},{"$f":"VLOOKUP(C175,Referencias!$C$4:$E$21,3,FALSE())","v":3},"Competición","Balear"]
["0703294","Watson, Margit","3P","D",{"$f":"VLOOKUP(C176,Referencias!$C$4:$D$21,2,FALSE())","v":"Tercera Picas"},{"$f":"VLOOKUP(I176,Referencias!$B$24:$C$41,2,FALSE())","v":"IBAL"},{"$f":"VLOOKUP(C176,Referencias!$C$4:$E$21,3,FALSE())","v":3},"Competición","Balear"]
["0703295","Daniels, Elizabeth Jane","3D","C",{"$f":"VLOOKUP(C177,Referencias!$C$4:$D$21,2,FALSE())","v":"Tercera Diamante"},{"$f":"VLOOKUP(I177,Referencias!$B$24:$C$41,2,FALSE())","v":"IBAL"},{"$f":"VLOOKUP(C177,Referencias!$C$4:$E$21,3,FALSE())","v":3},"Competición","Balear"]
["0703296","Zaforteza Dezcallar, María","3C","D",{"$f":"VLOOKUP(C178,Referencias!$C$4:$D$21,2,FALSE())","v":"Tercera Corazón"},{"$f":"VLOOKUP(I178,Referencias!$B$24:$C$41,2,FALSE())","v":"IBAL"},{"$f":"VLOOKUP(C178,Referencias!$C$4:$E$21,3,FALSE())","v":3},"Competición","Balear"]
["0703297","Quadreny Guasp, Pilar","3D","D",{"$f":"VLOOKUP(C179,Referencias!$C$4:$D$21,2,FALSE())","v":"Tercera Diamante"},{"$f":"VLOOKUP(I179,Referencias!$B$24:$C$41,2,FALSE())","v":"IBAL"},{"$f":"VLOOKUP(C179,Referencias!$C$4:$E$21,3,FALSE())","v":3},"Competición","Balear"]
["0703298","Hernández Gómez, María Asunción","3C","D",{"$f":"VLOOKUP(C180,Referencias!$C$4:$D$21,2,FALSE())","v":"Tercera Corazón"},{"$f":"VLOOKUP(I180,Referencias!$B$24:$C$41,2,FALSE())","v":"IBAL"},{"$f":"VLOOKUP(C180,Referencias!$C$4:$E$21,3,FALSE())","v":3},"Competición","Balear"]
["0703299","Vidal  Jimenes Alfaro, Maria Cristina","3C","D",{"$f":"VLOOKUP(C181,Referencias!$C$4:$D$21,2,FALSE())","v":"Tercera Corazón"},{"$f":"VLOOKUP(I181,Referencias!$B$24:$C$41,2,FALSE())","v":"IBAL"},{"$f":"VLOOKUP(C181,Referencias!$C$4:$E$21,3,FALSE())","v":3},"Competición","Balear"]
["0703300","Checa Guerrero, Marta","3D","D",{"$f":"VLOOKUP(C182,Referencias!$C$4:$D$21,2,FALSE())","v":"Tercera Diamante"},{"$f":"VLOOKUP(I182,Referencias!$B$24:$C$41,2,FALSE())","v":"IBAL"},{"$f":"VLOOKUP(C182,Referencias!$C$4:$E$21,3,FALSE())","v":3},"Competición","Balear"]
["0703301","Sánchez Arribas, María Jesús","3D","D",{"$f":"VLOOKUP(C183,Referencias!$C$4:$D$21,2,FALSE())","v":"Tercera Diamante"},{"$f":"VLOOKUP(I183,Referencias!$B$24:$C$41,2,FALSE())","v":"IBAL"},{"$f":"VLOOKUP(C183,Referencias!$C$4:$E$21,3,FALSE())","v":3},"Competición","Balear"]
["0703302","Ronald, Gross","2D","C",{"$f":"VLOOKUP(C184,Referencias!$C$4:$D$21,2,FALSE())","v":"Segunda Diamante"},{"$f":"VLOOKUP(I184,Referencias!$B$24:$C$41,2,FALSE())","v":"IBAL"},{"$f":"VLOOKUP(C184,Referencias!$C$4:$E$21,3,FALSE())","v":2},"Competición","Balear"]
["0703304","Gili Perera, Rosa María","3D","D",{"$f":"VLOOKUP(C185,Referencias!$C$4:$D$21,2,FALSE())","v":"Tercera Diamante"},{"$f":"VLOOKUP(I185,Referencias!$B$24:$C$41,2,FALSE())","v":"IBAL"},{"$f":"VLOOKUP(C185,Referencias!$C$4:$E$21,3,FALSE())","v":3},"Competición","Balear"]
["0703305","Barceló Obrador, María José","3D","D",{"$f":"VLOOKUP(C186,Referencias!$C$4:$D$21,2,FALSE())","v":"Tercera Diamante"},{"$f":"VLOOKUP(I186,Referencias!$B$24:$C$41,2,FALSE())","v":"IBAL"},{"$f":"VLOOKUP(C186,Referencias!$C$4:$E$21,3,FALSE())","v":3},"Competición","Balear"]
["0703306","Holmes, Michel","2C","C",{"$f":"VLOOKUP(C187,Referencias!$C$4:$D$21,2,FALSE())","v":"Segunda Corazón"},{"$f":"VLOOKUP(I187,Referencias!$B$24:$C$41,2,FALSE())","v":"IBAL"},{"$f":"VLOOKUP(C187,Referencias!$C$4:$E$21,3,FALSE())","v":2},"Competición","Balear"]
["0703307","Deya Frutos, Juan","3D","C",{"$f":"VLOOKUP(C188,Referencias!$C$4:$D$21,2,FALSE())","v":"Tercera Diamante"},{"$f":"VLOOKUP(I188,Referencias!$B$24:$C$41,2,FALSE())","v":"IBAL"},{"$f":"VLOOKUP(C188,Referencias!$C$4:$E$21,3,FALSE())","v":3},"Competición","Balear"]
["0703308","Davies, Elizabeth","3D","D",{"$f":"VLOOKUP(C189,Referencias!$C$4:$D$21,2,FALSE())","v":"Tercera Diamante"},{"$f":"VLOOKUP(I189,Referencias!$B$24:$C$41,2,FALSE())","v":"IBAL"},{"$f":"VLOOKUP(C189,Referencias!$C$4:$E$21,3,FALSE())","v":3},"Competición","Balear"]
["0703309","Packer, Sandra","3D","D",{"$f":"VLOOKUP(C190,Referencias!$C$4:$D$21,2,FALSE())","v":"Tercera Diamante"},{"$f":"VLOOKUP(I190,Referencias!$B$24:$C$41,2,FALSE())","v":"IBAL"},{"$f":"VLOOKUP(C190,Referencias!$C$4:$E$21,3,FALSE())","v":3},"Competición","Balear"]
["0703310","Pamer, Gisela","3D","D",{"$f":"VLOOKUP(C191,Referencias!$C$4:$D$21,2,FALSE())","v":"Tercera Diamante"},{"$f":"VLOOKUP(I191,Referencias!$B$24:$C$41,2,FALSE())","v":"IBAL"},{"$f":"VLOOKUP(C191,Referencias!$C$4:$E$21,3,FALSE())","v":3},"Competición","Balear"]
["0703311","Pomar Miró, María José","3D","D",{"$f":"VLOOKUP(C192,Referencias!$C$4:$D$21,2,FALSE())","v":"Tercera Diamante"},{"$f":"VLOOKUP(I192,Referencias!$B$24:$C$41,2,FALSE())","v":"IBAL"},{"$f":"VLOOKUP(C192,Referencias!$C$4:$E$21,3,FALSE())","v":3},"Competición","Balear"]
["0703312","Jorge Guixens, Inmaculada","3D","D",{"$f":"VLOOKUP(C193,Referencias!$C$4:$D$21,2,FALSE())","v":"Tercera Diamante"},{"$f":"VLOOKUP(I193,Referencias!$B$24:$C$41,2,FALSE())","v":"IBAL"},{"$f":"VLOOKUP(C193,Referencias!$C$4:$E$21,3,FALSE())","v":3},"Competición","Balear"]
["0703313","Pizá Catalá, Margarita","3D","D",{"$f":"VLOOKUP(C194,Referencias!$C$4:$D$21,2,FALSE())","v":"Tercera Diamante"},{"$f":"VLOOKUP(I194,Referencias!$B$24:$C$41,2,FALSE())","v":"IBAL"},{"$f":"VLOOKUP(C194,Referencias!$C$4:$E$21,3,FALSE())","v":3},"Competición","Balear"]
["0703316","Catany Lee, Jaime","1P","C",{"$f":"VLOOKUP(C195,Referencias!$C$4:$D$21,2,FALSE())","v":"Primera Picas"},{"$f":"VLOOKUP(I195,Referencias!$B$24:$C$41,2,FALSE())","v":"IBAL"},{"$f":"VLOOKUP(C195,Referencias!$C$4:$E$21,3,FALSE())","v":1},"Competición","Balear"]
["0703317","Langford Clark, Heather Elizabeth","3D","D",{"$f":"VLOOKUP(C196,Referencias!$C$4:$D$21,2,FALSE())","v":"Tercera Diamante"},{"$f":"VLOOKUP(I196,Referencias!$B$24:$C$41,2,FALSE())","v":"IBAL"},{"$f":"VLOOKUP(C196,Referencias!$C$4:$E$21,3,FALSE())","v":3},"Competición","Balear"]
["0703318","Torres Basabe, Juan","3D","C",{"$f":"VLOOKUP(C197,Referencias!$C$4:$D$21,2,FALSE())","v":"Tercera Diamante"},{"$f":"VLOOKUP(I197,Referencias!$B$24:$C$41,2,FALSE())","v":"IBAL"},{"$f":"VLOOKUP(C197,Referencias!$C$4:$E$21,3,FALSE())","v":3},"Competición","Balear"]
["0703319","Seguí García de Oteiza , Cristina","3D","D",{"$f":"VLOOKUP(C198,Referencias!$C$4:$D$21,2,FALSE())","v":"Tercera Diamante"},{"$f":"VLOOKUP(I198,Referencias!$B$24:$C$41,2,FALSE())","v":"IBAL"},{"$f":"VLOOKUP(C198,Referencias!$C$4:$E$21,3,FALSE())","v":3},"Competición","Balear"]
["0703320","Rovira Mascort , Jorge","3D","C",{"$f":"VLOOKUP(C199,Referencias!$C$4:$D$21,2,FALSE())","v":"Tercera Diamante"},{"$f":"VLOOKUP(I199,Referencias!$B$24:$C$41,2,FALSE())","v":"IBAL"},{"$f":"VLOOKUP(C199,Referencias!$C$4:$E$21,3,FALSE())","v":3},"Competición","Balear"]
["0703321","Claeys, Bruno","3D","C",{"$f":"VLOOKUP(C200,Referencias!$C$4:$D$21,2,FALSE())","v":"Tercera Diamante"},{"$f":"VLOOKUP(I200,Referencias!$B$24:$C$41,2,FALSE())","v":"IBAL"},{"$f":"VLOOKUP(C200,Referencias!$C$4:$E$21,3,FALSE())","v":3},"Competición","Balear"]
["0703626","Catany Sánchez, Ventura","2D","C",{"$f":"VLOOKUP(C201,Referencias!$C$4:$D$21,2,FALSE())","v":"Segunda Diamante"},{"$f":"VLOOKUP(I201,Referencias!$B$24:$C$41,2,FALSE())","v":"IBAL"},{"$f":"VLOOKUP(C201,Referencias!$C$4:$E$21,3,FALSE())","v":2},"Competición","Balear"]
["0820035","Masana Boada, Xavi","1P","C",{"$f":"VLOOKUP(C202,Referencias!$C$4:$D$21,2,FALSE())","v":"Primera Picas"},{"$f":"VLOOKUP(I202,Referencias!$B$24:$C$41,2,FALSE())","v":"CAT"},{"$f":"VLOOKUP(C202,Referencias!$C$4:$E$21,3,FALSE())","v":1},"Competición","Catalana"]
["0820041","Almirall Vall, Nuria","MM-D","D",{"$f":"VLOOKUP(C203,Referencias!$C$4:$D$21,2,FALSE())","v":"Maestro Mundial Damas"},{"$f":"VLOOKUP(I203,Referencias!$B$24:$C$41,2,FALSE())","v":"CAT"},{"$f":"VLOOKUP(C203,Referencias!$C$4:$E$21,3,FALSE())","v":0},"Competición","Catalana"]
["0820042","Fernández Sanchiz, Carlos","MN-O","C",{"$f":"VLOOKUP(C204,Referencias!$C$4:$D$21,2,FALSE())","v":"Maestro Nacional Open"},{"$f":"VLOOKUP(I204,Referencias!$B$24:$C$41,2,FALSE())","v":"CAT"},{"$f":"VLOOKUP(C204,Referencias!$C$4:$E$21,3,FALSE())","v":0},"Competición","Catalana"]
["0820044","Almirall Vall, Marta","MM-D","D",{"$f":"VLOOKUP(C205,Referencias!$C$4:$D$21,2,FALSE())","v":"Maestro Mundial Damas"},{"$f":"VLOOKUP(I205,Referencias!$B$24:$C$41,2,FALSE())","v":"CAT"},{"$f":"VLOOKUP(C205,Referencias!$C$4:$E$21,3,FALSE())","v":0},"Competición","Catalana"]
["0820045","Babot Gutiérrez, María Carmen","MM-D","D",{"$f":"VLOOKUP(C206,Referencias!$C$4:$D$21,2,FALSE())","v":"Maestro Mundial Damas"},{"$f":"VLOOKUP(I206,Referencias!$B$24:$C$41,2,FALSE())","v":"CAT"},{"$f":"VLOOKUP(C206,Referencias!$C$4:$E$21,3,FALSE())","v":0},"Competición","Catalana"]
["0820046","Ventín Camprubi, Juan Carlos","MM-O","C",{"$f":"VLOOKUP(C207,Referencias!$C$4:$D$21,2,FALSE())","v":"Maestro Mundial Open"},{"$f":"VLOOKUP(I207,Referencias!$B$24:$C$41,2,FALSE())","v":"CAT"},{"$f":"VLOOKUP(C207,Referencias!$C$4:$E$21,3,FALSE())","v":0},"Competición","Catalana"]
["0820047","Llopart Egea, Amadeo","MN-O","C",{"$f":"VLOOKUP(C208,Referencias!$C$4:$D$21,2,FALSE())","v":"Maestro Nacional Open"},{"$f":"VLOOKUP(I208,Referencias!$B$24:$C$41,2,FALSE())","v":"CAT"},{"$f":"VLOOKUP(C208,Referencias!$C$4:$E$21,3,FALSE())","v":0},"Competición","Catalana"]
["0820050","Balleste Doldi, Jorge","1P","C",{"$f":"VLOOKUP(C209,Referencias!$C$4:$D$21,2,FALSE())","v":"Primera Picas"},{"$f":"VLOOKUP(I209,Referencias!$B$24:$C$41,2,FALSE())","v":"CAT"},{"$f":"VLOOKUP(C209,Referencias!$C$4:$E$21,3,FALSE())","v":1},"Competición","Catalana"]
["0820052","Deó Valera, Santiago","1P","C",{"$f":"VLOOKUP(C210,Referencias!$C$4:$D$21,2,FALSE())","v":"Primera Picas"},{"$f":"VLOOKUP(I210,Referencias!$B$24:$C$41,2,FALSE())","v":"CAT"},{"$f":"VLOOKUP(C210,Referencias!$C$4:$E$21,3,FALSE())","v":1},"Competición","Catalana"]
["0820053","Creuheras Margenat, Jose","MN-O","C",{"$f":"VLOOKUP(C211,Referencias!$C$4:$D$21,2,FALSE())","v":"Maestro Nacional Open"},{"$f":"VLOOKUP(I211,Referencias!$B$24:$C$41,2,FALSE())","v":"CAT"},{"$f":"VLOOKUP(C211,Referencias!$C$4:$E$21,3,FALSE())","v":0},"Competición","Catalana"]
["0820054","Jover de Castro, Nacho","1P","C",{"$f":"VLOOKUP(C212,Referencias!$C$4:$D$21,2,FALSE())","v":"Primera Picas"},{"$f":"VLOOKUP(I212,Referencias!$B$24:$C$41,2,FALSE())","v":"CAT"},{"$f":"VLOOKUP(C212,Referencias!$C$4:$E$21,3,FALSE())","v":1},"Competición","Catalana"]
["0820063","Cornet Serra, Pere","1P","C",{"$f":"VLOOKUP(C213,Referencias!$C$4:$D$21,2,FALSE())","v":"Primera Picas"},{"$f":"VLOOKUP(I213,Referencias!$B$24:$C$41,2,FALSE())","v":"CAT"},{"$f":"VLOOKUP(C213,Referencias!$C$4:$E$21,3,FALSE())","v":1},"Competición","Catalana"]
["0820065","Almirall Vall, Lluis","1P","C",{"$f":"VLOOKUP(C214,Referencias!$C$4:$D$21,2,FALSE())","v":"Primera Picas"},{"$f":"VLOOKUP(I214,Referencias!$B$24:$C$41,2,FALSE())","v":"CAT"},{"$f":"VLOOKUP(C214,Referencias!$C$4:$E$21,3,FALSE())","v":1},"Competición","Catalana"]
["0820066","Pont Artigas, Juan","MN-O","C",{"$f":"VLOOKUP(C215,Referencias!$C$4:$D$21,2,FALSE())","v":"Maestro Nacional Open"},{"$f":"VLOOKUP(I215,Referencias!$B$24:$C$41,2,FALSE())","v":"CAT"},{"$f":"VLOOKUP(C215,Referencias!$C$4:$E$21,3,FALSE())","v":0},"Competición","Catalana"]
["0820067","Castellsague Montane, Ricard","1P","C",{"$f":"VLOOKUP(C216,Referencias!$C$4:$D$21,2,FALSE())","v":"Primera Picas"},{"$f":"VLOOKUP(I216,Referencias!$B$24:$C$41,2,FALSE())","v":"CAT"},{"$f":"VLOOKUP(C216,Referencias!$C$4:$E$21,3,FALSE())","v":1},"Competición","Catalana"]
["0820071","Mestres Rodriguez, Montserrat","MN-D","D",{"$f":"VLOOKUP(C217,Referencias!$C$4:$D$21,2,FALSE())","v":"Maestro Nacional Damas"},{"$f":"VLOOKUP(I217,Referencias!$B$24:$C$41,2,FALSE())","v":"CAT"},{"$f":"VLOOKUP(C217,Referencias!$C$4:$E$21,3,FALSE())","v":0},"Competición","Catalana"]
["0820072","Hausmann, María Victoria","1P","D",{"$f":"VLOOKUP(C218,Referencias!$C$4:$D$21,2,FALSE())","v":"Primera Picas"},{"$f":"VLOOKUP(I218,Referencias!$B$24:$C$41,2,FALSE())","v":"CAT"},{"$f":"VLOOKUP(C218,Referencias!$C$4:$E$21,3,FALSE())","v":1},"Competición","Catalana"]
["0820102","Tatxe Salas, María Teresa","1P","D",{"$f":"VLOOKUP(C219,Referencias!$C$4:$D$21,2,FALSE())","v":"Primera Picas"},{"$f":"VLOOKUP(I219,Referencias!$B$24:$C$41,2,FALSE())","v":"CAT"},{"$f":"VLOOKUP(C219,Referencias!$C$4:$E$21,3,FALSE())","v":1},"Competición","Catalana"]
["0820103","Bertran Vivet, Javier","1P","C",{"$f":"VLOOKUP(C220,Referencias!$C$4:$D$21,2,FALSE())","v":"Primera Picas"},{"$f":"VLOOKUP(I220,Referencias!$B$24:$C$41,2,FALSE())","v":"CAT"},{"$f":"VLOOKUP(C220,Referencias!$C$4:$E$21,3,FALSE())","v":1},"Competición","Catalana"]
["0820104","Escude Rovira, Manel","1P","C",{"$f":"VLOOKUP(C221,Referencias!$C$4:$D$21,2,FALSE())","v":"Primera Picas"},{"$f":"VLOOKUP(I221,Referencias!$B$24:$C$41,2,FALSE())","v":"CAT"},{"$f":"VLOOKUP(C221,Referencias!$C$4:$E$21,3,FALSE())","v":1},"Competición","Catalana"]
["0820107","Morego Sala, Juan María","1P","C",{"$f":"VLOOKUP(C222,Referencias!$C$4:$D$21,2,FALSE())","v":"Primera Picas"},{"$f":"VLOOKUP(I222,Referencias!$B$24:$C$41,2,FALSE())","v":"CAT"},{"$f":"VLOOKUP(C222,Referencias!$C$4:$E$21,3,FALSE())","v":1},"Competición","Catalana"]
["0820115","Cabestany Illana, Jose Luis","1P","C",{"$f":"VLOOKUP(C223,Referencias!$C$4:$D$21,2,FALSE())","v":"Primera Picas"},{"$f":"VLOOKUP(I223,Referencias!$B$24:$C$41,2,FALSE())","v":"CAT"},{"$f":"VLOOKUP(C223,Referencias!$C$4:$E$21,3,FALSE())","v":1},"Competición","Catalana"]
["0820128","Quer Fabregas, Juan","1P","C",{"$f":"VLOOKUP(C224,Referencias!$C$4:$D$21,2,FALSE())","v":"Primera Picas"},{"$f":"VLOOKUP(I224,Referencias!$B$24:$C$41,2,FALSE())","v":"CAT"},{"$f":"VLOOKUP(C224,Referencias!$C$4:$E$21,3,FALSE())","v":1},"Competición","Catalana"]
["0820131","Chokron Serfaty, Elias","1P","C",{"$f":"VLOOKUP(C225,Referencias!$C$4:$D$21,2,FALSE())","v":"Primera Picas"},{"$f":"VLOOKUP(I225,Referencias!$B$24:$C$41,2,FALSE())","v":"CAT"},{"$f":"VLOOKUP(C225,Referencias!$C$4:$E$21,3,FALSE())","v":1},"Competición","Catalana"]
["0820136","Pons Martorell, Jaime","1P","C",{"$f":"VLOOKUP(C226,Referencias!$C$4:$D$21,2,FALSE())","v":"Primera Picas"},{"$f":"VLOOKUP(I226,Referencias!$B$24:$C$41,2,FALSE())","v":"CAT"},{"$f":"VLOOKUP(C226,Referencias!$C$4:$E$21,3,FALSE())","v":1},"Competición","Catalana"]
["0820139","Boguña Riera, Inmaculada","2C","D",{"$f":"VLOOKUP(C227,Referencias!$C$4:$D$21,2,FALSE())","v":"Segunda Corazón"},{"$f":"VLOOKUP(I227,Referencias!$B$24:$C$41,2,FALSE())","v":"CAT"},{"$f":"VLOOKUP(C227,Referencias!$C$4:$E$21,3,FALSE())","v":2},"Competición","Catalana"]
["0820144","Jodar Laguna, Carmen","1P","D",{"$f":"VLOOKUP(C228,Referencias!$C$4:$D$21,2,FALSE())","v":"Primera Picas"},{"$f":"VLOOKUP(I228,Referencias!$B$24:$C$41,2,FALSE())","v":"CAT"},{"$f":"VLOOKUP(C228,Referencias!$C$4:$E$21,3,FALSE())","v":1},"Competición","Catalana"]
["0820150","Morera Guajardo, Enrique","1P","C",{"$f":"VLOOKUP(C229,Referencias!$C$4:$D$21,2,FALSE())","v":"Primera Picas"},{"$f":"VLOOKUP(I229,Referencias!$B$24:$C$41,2,FALSE())","v":"CAT"},{"$f":"VLOOKUP(C229,Referencias!$C$4:$E$21,3,FALSE())","v":1},"Competición","Catalana"]
["0820151","Benito Nuñez Lagos, Fernando","2P","C",{"$f":"VLOOKUP(C230,Referencias!$C$4:$D$21,2,FALSE())","v":"Segunda Picas"},{"$f":"VLOOKUP(I230,Referencias!$B$24:$C$41,2,FALSE())","v":"CAT"},{"$f":"VLOOKUP(C230,Referencias!$C$4:$E$21,3,FALSE())","v":2},"Competición","Catalana"]
["0820152","Galobart Oses, Isabel","2C","D",{"$f":"VLOOKUP(C231,Referencias!$C$4:$D$21,2,FALSE())","v":"Segunda Corazón"},{"$f":"VLOOKUP(I231,Referencias!$B$24:$C$41,2,FALSE())","v":"CAT"},{"$f":"VLOOKUP(C231,Referencias!$C$4:$E$21,3,FALSE())","v":2},"Competición","Catalana"]
["0820153","Piñol Rull, Ana","2P","D",{"$f":"VLOOKUP(C232,Referencias!$C$4:$D$21,2,FALSE())","v":"Segunda Picas"},{"$f":"VLOOKUP(I232,Referencias!$B$24:$C$41,2,FALSE())","v":"CAT"},{"$f":"VLOOKUP(C232,Referencias!$C$4:$E$21,3,FALSE())","v":2},"Competición","Catalana"]
["0820160","Balaguer Parra, María Dolores","1P","D",{"$f":"VLOOKUP(C233,Referencias!$C$4:$D$21,2,FALSE())","v":"Primera Picas"},{"$f":"VLOOKUP(I233,Referencias!$B$24:$C$41,2,FALSE())","v":"CAT"},{"$f":"VLOOKUP(C233,Referencias!$C$4:$E$21,3,FALSE())","v":1},"Competición","Catalana"]
["0820161","Climente Lucio, Enrique","1C","C",{"$f":"VLOOKUP(C234,Referencias!$C$4:$D$21,2,FALSE())","v":"Primera Corazón"},{"$f":"VLOOKUP(I234,Referencias!$B$24:$C$41,2,FALSE())","v":"CAT"},{"$f":"VLOOKUP(C234,Referencias!$C$4:$E$21,3,FALSE())","v":1},"Competición","Catalana"]
["0820169","Anidjar, Nina","1P","D",{"$f":"VLOOKUP(C235,Referencias!$C$4:$D$21,2,FALSE())","v":"Primera Picas"},{"$f":"VLOOKUP(I235,Referencias!$B$24:$C$41,2,FALSE())","v":"CAT"},{"$f":"VLOOKUP(C235,Referencias!$C$4:$E$21,3,FALSE())","v":1},"Competición","Catalana"]
["0820177","Garcia Hernandez, Elias","3D","C",{"$f":"VLOOKUP(C236,Referencias!$C$4:$D$21,2,FALSE())","v":"Tercera Diamante"},{"$f":"VLOOKUP(I236,Referencias!$B$24:$C$41,2,FALSE())","v":"CAT"},{"$f":"VLOOKUP(C236,Referencias!$C$4:$E$21,3,FALSE())","v":3},"Competición","Catalana"]
["0820180","Ribalta Baro, Mercedes","1C","D",{"$f":"VLOOKUP(C237,Referencias!$C$4:$D$21,2,FALSE())","v":"Primera Corazón"},{"$f":"VLOOKUP(I237,Referencias!$B$24:$C$41,2,FALSE())","v":"CAT"},{"$f":"VLOOKUP(C237,Referencias!$C$4:$E$21,3,FALSE())","v":1},"Competición","Catalana"]
["0820182","Romagera Sagrera, Carlos","2P","C",{"$f":"VLOOKUP(C238,Referencias!$C$4:$D$21,2,FALSE())","v":"Segunda Picas"},{"$f":"VLOOKUP(I238,Referencias!$B$24:$C$41,2,FALSE())","v":"CAT"},{"$f":"VLOOKUP(C238,Referencias!$C$4:$E$21,3,FALSE())","v":2},"Competición","Catalana"]
["0820193","Albanell Mira, Luis","1P","C",{"$f":"VLOOKUP(C239,Referencias!$C$4:$D$21,2,FALSE())","v":"Primera Picas"},{"$f":"VLOOKUP(I239,Referencias!$B$24:$C$41,2,FALSE())","v":"CAT"},{"$f":"VLOOKUP(C239,Referencias!$C$4:$E$21,3,FALSE())","v":1},"Competición","Catalana"]
["0820195","Cañellas, Victor","1P","C",{"$f":"VLOOKUP(C240,Referencias!$C$4:$D$21,2,FALSE())","v":"Primera Picas"},{"$f":"VLOOKUP(I240,Referencias!$B$24:$C$41,2,FALSE())","v":"CAT"},{"$f":"VLOOKUP(C240,Referencias!$C$4:$E$21,3,FALSE())","v":1},"Competición","Catalana"]
["0820199","Cornet Serra, Cristobal","1P","C",{"$f":"VLOOKUP(C241,Referencias!$C$4:$D$21,2,FALSE())","v":"Primera Picas"},{"$f":"VLOOKUP(I241,Referencias!$B$24:$C$41,2,FALSE())","v":"CAT"},{"$f":"VLOOKUP(C241,Referencias!$C$4:$E$21,3,FALSE())","v":1},"Competición","Catalana"]
["0820201","Goxens de Cornet, Nuria","1P","D",{"$f":"VLOOKUP(C242,Referencias!$C$4:$D$21,2,FALSE())","v":"Primera Picas"},{"$f":"VLOOKUP(I242,Referencias!$B$24:$C$41,2,FALSE())","v":"CAT"},{"$f":"VLOOKUP(C242,Referencias!$C$4:$E$21,3,FALSE())","v":1},"Competición","Catalana"]
["0820204","Blasi Rialp, José","3D","C",{"$f":"VLOOKUP(C243,Referencias!$C$4:$D$21,2,FALSE())","v":"Tercera Diamante"},{"$f":"VLOOKUP(I243,Referencias!$B$24:$C$41,2,FALSE())","v":"CAT"},{"$f":"VLOOKUP(C243,Referencias!$C$4:$E$21,3,FALSE())","v":3},"Competición","Catalana"]
["0820205","Magria Deolufeu, Jorge","3D","C",{"$f":"VLOOKUP(C244,Referencias!$C$4:$D$21,2,FALSE())","v":"Tercera Diamante"},{"$f":"VLOOKUP(I244,Referencias!$B$24:$C$41,2,FALSE())","v":"CAT"},{"$f":"VLOOKUP(C244,Referencias!$C$4:$E$21,3,FALSE())","v":3},"Competición","Catalana"]
["0820213","Baixeras Divar, Carlos","1C","C",{"$f":"VLOOKUP(C245,Referencias!$C$4:$D$21,2,FALSE())","v":"Primera Corazón"},{"$f":"VLOOKUP(I245,Referencias!$B$24:$C$41,2,FALSE())","v":"CAT"},{"$f":"VLOOKUP(C245,Referencias!$C$4:$E$21,3,FALSE())","v":1},"Competición","Catalana"]
["0820218","Marqués de Caralt, Emilia","1P","D",{"$f":"VLOOKUP(C246,Referencias!$C$4:$D$21,2,FALSE())","v":"Primera Picas"},{"$f":"VLOOKUP(I246,Referencias!$B$24:$C$41,2,FALSE())","v":"CAT"},{"$f":"VLOOKUP(C246,Referencias!$C$4:$E$21,3,FALSE())","v":1},"Competición","Catalana"]
["0820232","Casals Fradera, Isabel","1C","D",{"$f":"VLOOKUP(C247,Referencias!$C$4:$D$21,2,FALSE())","v":"Primera Corazón"},{"$f":"VLOOKUP(I247,Referencias!$B$24:$C$41,2,FALSE())","v":"CAT"},{"$f":"VLOOKUP(C247,Referencias!$C$4:$E$21,3,FALSE())","v":1},"Competición","Catalana"]
["0820241","López Prieto, María Luisa","1C","D",{"$f":"VLOOKUP(C248,Referencias!$C$4:$D$21,2,FALSE())","v":"Primera Corazón"},{"$f":"VLOOKUP(I248,Referencias!$B$24:$C$41,2,FALSE())","v":"CAT"},{"$f":"VLOOKUP(C248,Referencias!$C$4:$E$21,3,FALSE())","v":1},"Competición","Catalana"]
["0820242","Salsas Roig, Juan Alberto","1P","C",{"$f":"VLOOKUP(C249,Referencias!$C$4:$D$21,2,FALSE())","v":"Primera Picas"},{"$f":"VLOOKUP(I249,Referencias!$B$24:$C$41,2,FALSE())","v":"CAT"},{"$f":"VLOOKUP(C249,Referencias!$C$4:$E$21,3,FALSE())","v":1},"Competición","Catalana"]
["0820243","Montsalvatge Perez, Yvette","2C","D",{"$f":"VLOOKUP(C250,Referencias!$C$4:$D$21,2,FALSE())","v":"Segunda Corazón"},{"$f":"VLOOKUP(I250,Referencias!$B$24:$C$41,2,FALSE())","v":"CAT"},{"$f":"VLOOKUP(C250,Referencias!$C$4:$E$21,3,FALSE())","v":2},"Competición","Catalana"]
["0820255","Monguió Morera, José","1P","C",{"$f":"VLOOKUP(C251,Referencias!$C$4:$D$21,2,FALSE())","v":"Primera Picas"},{"$f":"VLOOKUP(I251,Referencias!$B$24:$C$41,2,FALSE())","v":"CAT"},{"$f":"VLOOKUP(C251,Referencias!$C$4:$E$21,3,FALSE())","v":1},"Competición","Catalana"]
["0820256","Nadal Giro, Patricia","1P","D",{"$f":"VLOOKUP(C252,Referencias!$C$4:$D$21,2,FALSE())","v":"Primera Picas"},{"$f":"VLOOKUP(I252,Referencias!$B$24:$C$41,2,FALSE())","v":"CAT"},{"$f":"VLOOKUP(C252,Referencias!$C$4:$E$21,3,FALSE())","v":1},"Competición","Catalana"]
["0820264","Assalit Vives, Jose Maria","1P","C",{"$f":"VLOOKUP(C253,Referencias!$C$4:$D$21,2,FALSE())","v":"Primera Picas"},{"$f":"VLOOKUP(I253,Referencias!$B$24:$C$41,2,FALSE())","v":"CAT"},{"$f":"VLOOKUP(C253,Referencias!$C$4:$E$21,3,FALSE())","v":1},"Competición","Catalana"]
["0820277","Borras Petit, Fco Javier","3D","C",{"$f":"VLOOKUP(C254,Referencias!$C$4:$D$21,2,FALSE())","v":"Tercera Diamante"},{"$f":"VLOOKUP(I254,Referencias!$B$24:$C$41,2,FALSE())","v":"CAT"},{"$f":"VLOOKUP(C254,Referencias!$C$4:$E$21,3,FALSE())","v":3},"Competición","Catalana"]
["0820279","Estefanell Pañella, Carina","2C","D",{"$f":"VLOOKUP(C255,Referencias!$C$4:$D$21,2,FALSE())","v":"Segunda Corazón"},{"$f":"VLOOKUP(I255,Referencias!$B$24:$C$41,2,FALSE())","v":"CANT"},{"$f":"VLOOKUP(C255,Referencias!$C$4:$E$21,3,FALSE())","v":2},"Competición","Cántabra"]
["0820305","Sanahuja Romani, Maribel","1D","D",{"$f":"VLOOKUP(C256,Referencias!$C$4:$D$21,2,FALSE())","v":"Primera Diamante"},{"$f":"VLOOKUP(I256,Referencias!$B$24:$C$41,2,FALSE())","v":"CAT"},{"$f":"VLOOKUP(C256,Referencias!$C$4:$E$21,3,FALSE())","v":1},"Competición","Catalana"]
["0820363","Guañabens Sanjuan, Maite","1P","D",{"$f":"VLOOKUP(C257,Referencias!$C$4:$D$21,2,FALSE())","v":"Primera Picas"},{"$f":"VLOOKUP(I257,Referencias!$B$24:$C$41,2,FALSE())","v":"CAT"},{"$f":"VLOOKUP(C257,Referencias!$C$4:$E$21,3,FALSE())","v":1},"Competición","Catalana"]
["0820368","Conti Penina, Ferran","1P","C",{"$f":"VLOOKUP(C258,Referencias!$C$4:$D$21,2,FALSE())","v":"Primera Picas"},{"$f":"VLOOKUP(I258,Referencias!$B$24:$C$41,2,FALSE())","v":"CAT"},{"$f":"VLOOKUP(C258,Referencias!$C$4:$E$21,3,FALSE())","v":1},"Competición","Catalana"]
["0820403","Viola Tarragona, Carmen","1P","D",{"$f":"VLOOKUP(C259,Referencias!$C$4:$D$21,2,FALSE())","v":"Primera Picas"},{"$f":"VLOOKUP(I259,Referencias!$B$24:$C$41,2,FALSE())","v":"CAT"},{"$f":"VLOOKUP(C259,Referencias!$C$4:$E$21,3,FALSE())","v":1},"Competición","Catalana"]
["0820405","Viola Tarragona, Margarita","1P","D",{"$f":"VLOOKUP(C260,Referencias!$C$4:$D$21,2,FALSE())","v":"Primera Picas"},{"$f":"VLOOKUP(I260,Referencias!$B$24:$C$41,2,FALSE())","v":"CAT"},{"$f":"VLOOKUP(C260,Referencias!$C$4:$E$21,3,FALSE())","v":1},"Competición","Catalana"]
["0820407","Cañellas Rosell, María","3D","D",{"$f":"VLOOKUP(C261,Referencias!$C$4:$D$21,2,FALSE())","v":"Tercera Diamante"},{"$f":"VLOOKUP(I261,Referencias!$B$24:$C$41,2,FALSE())","v":"CAT"},{"$f":"VLOOKUP(C261,Referencias!$C$4:$E$21,3,FALSE())","v":3},"Competición","Catalana"]
["0820429","Torresi Cunill, Viviana","1C","D",{"$f":"VLOOKUP(C262,Referencias!$C$4:$D$21,2,FALSE())","v":"Primera Corazón"},{"$f":"VLOOKUP(I262,Referencias!$B$24:$C$41,2,FALSE())","v":"CAT"},{"$f":"VLOOKUP(C262,Referencias!$C$4:$E$21,3,FALSE())","v":1},"Competición","Catalana"]
["0820466","Almirall de Castellar, Montse","1C","D",{"$f":"VLOOKUP(C263,Referencias!$C$4:$D$21,2,FALSE())","v":"Primera Corazón"},{"$f":"VLOOKUP(I263,Referencias!$B$24:$C$41,2,FALSE())","v":"CAT"},{"$f":"VLOOKUP(C263,Referencias!$C$4:$E$21,3,FALSE())","v":1},"Competición","Catalana"]
["0820473","Casals Fradera, Remedios","1C","D",{"$f":"VLOOKUP(C264,Referencias!$C$4:$D$21,2,FALSE())","v":"Primera Corazón"},{"$f":"VLOOKUP(I264,Referencias!$B$24:$C$41,2,FALSE())","v":"CAT"},{"$f":"VLOOKUP(C264,Referencias!$C$4:$E$21,3,FALSE())","v":1},"Competición","Catalana"]
["0820475","Farres Cordom, Juan","1C","C",{"$f":"VLOOKUP(C265,Referencias!$C$4:$D$21,2,FALSE())","v":"Primera Corazón"},{"$f":"VLOOKUP(I265,Referencias!$B$24:$C$41,2,FALSE())","v":"CAT"},{"$f":"VLOOKUP(C265,Referencias!$C$4:$E$21,3,FALSE())","v":1},"Competición","Catalana"]
["0820477","Nadal de Quer, Montserrat","1C","D",{"$f":"VLOOKUP(C266,Referencias!$C$4:$D$21,2,FALSE())","v":"Primera Corazón"},{"$f":"VLOOKUP(I266,Referencias!$B$24:$C$41,2,FALSE())","v":"CAT"},{"$f":"VLOOKUP(C266,Referencias!$C$4:$E$21,3,FALSE())","v":1},"Competición","Catalana"]
["0820478","Trapé Viladomat, Miquel","1P","C",{"$f":"VLOOKUP(C267,Referencias!$C$4:$D$21,2,FALSE())","v":"Primera Picas"},{"$f":"VLOOKUP(I267,Referencias!$B$24:$C$41,2,FALSE())","v":"CAT"},{"$f":"VLOOKUP(C267,Referencias!$C$4:$E$21,3,FALSE())","v":1},"Competición","Catalana"]
["0820496","Olano, Mª Dolores","1P","D",{"$f":"VLOOKUP(C268,Referencias!$C$4:$D$21,2,FALSE())","v":"Primera Picas"},{"$f":"VLOOKUP(I268,Referencias!$B$24:$C$41,2,FALSE())","v":"CAT"},{"$f":"VLOOKUP(C268,Referencias!$C$4:$E$21,3,FALSE())","v":1},"Competición","Catalana"]
["0820498","Riquelme, Mary","1P","D",{"$f":"VLOOKUP(C269,Referencias!$C$4:$D$21,2,FALSE())","v":"Primera Picas"},{"$f":"VLOOKUP(I269,Referencias!$B$24:$C$41,2,FALSE())","v":"CAT"},{"$f":"VLOOKUP(C269,Referencias!$C$4:$E$21,3,FALSE())","v":1},"Competición","Catalana"]
["0820500","Magriña de Sabala, María Teresa","1P","D",{"$f":"VLOOKUP(C270,Referencias!$C$4:$D$21,2,FALSE())","v":"Primera Picas"},{"$f":"VLOOKUP(I270,Referencias!$B$24:$C$41,2,FALSE())","v":"CAT"},{"$f":"VLOOKUP(C270,Referencias!$C$4:$E$21,3,FALSE())","v":1},"Competición","Catalana"]
["0820508","Ferrer-Dalmau, Montse","2P","D",{"$f":"VLOOKUP(C271,Referencias!$C$4:$D$21,2,FALSE())","v":"Segunda Picas"},{"$f":"VLOOKUP(I271,Referencias!$B$24:$C$41,2,FALSE())","v":"CAT"},{"$f":"VLOOKUP(C271,Referencias!$C$4:$E$21,3,FALSE())","v":2},"Competición","Catalana"]
["0820524","Jordi Ayter, Miguel Angel","3D","C",{"$f":"VLOOKUP(C272,Referencias!$C$4:$D$21,2,FALSE())","v":"Tercera Diamante"},{"$f":"VLOOKUP(I272,Referencias!$B$24:$C$41,2,FALSE())","v":"CAT"},{"$f":"VLOOKUP(C272,Referencias!$C$4:$E$21,3,FALSE())","v":3},"Competición","Catalana"]
["0820528","Naves Soler, Dolores","1C","D",{"$f":"VLOOKUP(C273,Referencias!$C$4:$D$21,2,FALSE())","v":"Primera Corazón"},{"$f":"VLOOKUP(I273,Referencias!$B$24:$C$41,2,FALSE())","v":"CAT"},{"$f":"VLOOKUP(C273,Referencias!$C$4:$E$21,3,FALSE())","v":1},"Competición","Catalana"]
["0820538","Serra Dyseradimingni, Blanca","3D","D",{"$f":"VLOOKUP(C274,Referencias!$C$4:$D$21,2,FALSE())","v":"Tercera Diamante"},{"$f":"VLOOKUP(I274,Referencias!$B$24:$C$41,2,FALSE())","v":"CAT"},{"$f":"VLOOKUP(C274,Referencias!$C$4:$E$21,3,FALSE())","v":3},"Competición","Catalana"]
["0820547","Rivera Avila, Neus","1P","D",{"$f":"VLOOKUP(C275,Referencias!$C$4:$D$21,2,FALSE())","v":"Primera Picas"},{"$f":"VLOOKUP(I275,Referencias!$B$24:$C$41,2,FALSE())","v":"CAT"},{"$f":"VLOOKUP(C275,Referencias!$C$4:$E$21,3,FALSE())","v":1},"Competición","Catalana"]
["0820549","Terradas Muntañola, Gloria","1C","D",{"$f":"VLOOKUP(C276,Referencias!$C$4:$D$21,2,FALSE())","v":"Primera Corazón"},{"$f":"VLOOKUP(I276,Referencias!$B$24:$C$41,2,FALSE())","v":"CAT"},{"$f":"VLOOKUP(C276,Referencias!$C$4:$E$21,3,FALSE())","v":1},"Competición","Catalana"]
["0820551","Jover Serra, Josep Albert","1C","C",{"$f":"VLOOKUP(C277,Referencias!$C$4:$D$21,2,FALSE())","v":"Primera Corazón"},{"$f":"VLOOKUP(I277,Referencias!$B$24:$C$41,2,FALSE())","v":"CAT"},{"$f":"VLOOKUP(C277,Referencias!$C$4:$E$21,3,FALSE())","v":1},"Competición","Catalana"]
["0820556","Escolano Jauregui, Xavier","2P","C",{"$f":"VLOOKUP(C278,Referencias!$C$4:$D$21,2,FALSE())","v":"Segunda Picas"},{"$f":"VLOOKUP(I278,Referencias!$B$24:$C$41,2,FALSE())","v":"CAT"},{"$f":"VLOOKUP(C278,Referencias!$C$4:$E$21,3,FALSE())","v":2},"Competición","Catalana"]
["0820557","Casals Fradera, Pedro","1P","C",{"$f":"VLOOKUP(C279,Referencias!$C$4:$D$21,2,FALSE())","v":"Primera Picas"},{"$f":"VLOOKUP(I279,Referencias!$B$24:$C$41,2,FALSE())","v":"CAT"},{"$f":"VLOOKUP(C279,Referencias!$C$4:$E$21,3,FALSE())","v":1},"Competición","Catalana"]
["0820560","Sargas i Juncosa, Nuria","1C","D",{"$f":"VLOOKUP(C280,Referencias!$C$4:$D$21,2,FALSE())","v":"Primera Corazón"},{"$f":"VLOOKUP(I280,Referencias!$B$24:$C$41,2,FALSE())","v":"CAT"},{"$f":"VLOOKUP(C280,Referencias!$C$4:$E$21,3,FALSE())","v":1},"Competición","Catalana"]
["0820578","Garcigoy Graells, Beatriz","1C","D",{"$f":"VLOOKUP(C281,Referencias!$C$4:$D$21,2,FALSE())","v":"Primera Corazón"},{"$f":"VLOOKUP(I281,Referencias!$B$24:$C$41,2,FALSE())","v":"CAT"},{"$f":"VLOOKUP(C281,Referencias!$C$4:$E$21,3,FALSE())","v":1},"Competición","Catalana"]
["0820597","Alonso Santos, María Nieves","2C","D",{"$f":"VLOOKUP(C282,Referencias!$C$4:$D$21,2,FALSE())","v":"Segunda Corazón"},{"$f":"VLOOKUP(I282,Referencias!$B$24:$C$41,2,FALSE())","v":"CAT"},{"$f":"VLOOKUP(C282,Referencias!$C$4:$E$21,3,FALSE())","v":2},"Competición","Catalana"]
["0820599","Zendrera Ramos, Montse","1P","D",{"$f":"VLOOKUP(C283,Referencias!$C$4:$D$21,2,FALSE())","v":"Primera Picas"},{"$f":"VLOOKUP(I283,Referencias!$B$24:$C$41,2,FALSE())","v":"CAT"},{"$f":"VLOOKUP(C283,Referencias!$C$4:$E$21,3,FALSE())","v":1},"Competición","Catalana"]
["0820609","Marnet Fiol, María Reyes","3D","D",{"$f":"VLOOKUP(C284,Referencias!$C$4:$D$21,2,FALSE())","v":"Tercera Diamante"},{"$f":"VLOOKUP(I284,Referencias!$B$24:$C$41,2,FALSE())","v":"CAT"},{"$f":"VLOOKUP(C284,Referencias!$C$4:$E$21,3,FALSE())","v":3},"Competición","Catalana"]
["0820617","Heredia Arnabat, Francesc","1P","C",{"$f":"VLOOKUP(C285,Referencias!$C$4:$D$21,2,FALSE())","v":"Primera Picas"},{"$f":"VLOOKUP(I285,Referencias!$B$24:$C$41,2,FALSE())","v":"CAT"},{"$f":"VLOOKUP(C285,Referencias!$C$4:$E$21,3,FALSE())","v":1},"Competición","Catalana"]
["0820628","Querol Puig, Delfi","1P","C",{"$f":"VLOOKUP(C286,Referencias!$C$4:$D$21,2,FALSE())","v":"Primera Picas"},{"$f":"VLOOKUP(I286,Referencias!$B$24:$C$41,2,FALSE())","v":"CAT"},{"$f":"VLOOKUP(C286,Referencias!$C$4:$E$21,3,FALSE())","v":1},"Competición","Catalana"]
["0820638","Mato Rodríguez, Marieli","2C","D",{"$f":"VLOOKUP(C287,Referencias!$C$4:$D$21,2,FALSE())","v":"Segunda Corazón"},{"$f":"VLOOKUP(I287,Referencias!$B$24:$C$41,2,FALSE())","v":"CAT"},{"$f":"VLOOKUP(C287,Referencias!$C$4:$E$21,3,FALSE())","v":2},"Competición","Catalana"]
["0820654","Bensadon Laredo, Margaret","1P","D",{"$f":"VLOOKUP(C288,Referencias!$C$4:$D$21,2,FALSE())","v":"Primera Picas"},{"$f":"VLOOKUP(I288,Referencias!$B$24:$C$41,2,FALSE())","v":"CAT"},{"$f":"VLOOKUP(C288,Referencias!$C$4:$E$21,3,FALSE())","v":1},"Competición","Catalana"]
["0820657","Roselló Barrios, Teresa","2C","D",{"$f":"VLOOKUP(C289,Referencias!$C$4:$D$21,2,FALSE())","v":"Segunda Corazón"},{"$f":"VLOOKUP(I289,Referencias!$B$24:$C$41,2,FALSE())","v":"CAT"},{"$f":"VLOOKUP(C289,Referencias!$C$4:$E$21,3,FALSE())","v":2},"Competición","Catalana"]
["0820678","Pujadas Domenech, Teresa","3D","D",{"$f":"VLOOKUP(C290,Referencias!$C$4:$D$21,2,FALSE())","v":"Tercera Diamante"},{"$f":"VLOOKUP(I290,Referencias!$B$24:$C$41,2,FALSE())","v":"CAT"},{"$f":"VLOOKUP(C290,Referencias!$C$4:$E$21,3,FALSE())","v":3},"Competición","Catalana"]
["0820720","Vilavechia Salas, Blanca","3D","D",{"$f":"VLOOKUP(C291,Referencias!$C$4:$D$21,2,FALSE())","v":"Tercera Diamante"},{"$f":"VLOOKUP(I291,Referencias!$B$24:$C$41,2,FALSE())","v":"CAT"},{"$f":"VLOOKUP(C291,Referencias!$C$4:$E$21,3,FALSE())","v":3},"Competición","Catalana"]
["0820733","Frey, Jan","3D","C",{"$f":"VLOOKUP(C292,Referencias!$C$4:$D$21,2,FALSE())","v":"Tercera Diamante"},{"$f":"VLOOKUP(I292,Referencias!$B$24:$C$41,2,FALSE())","v":"CAT"},{"$f":"VLOOKUP(C292,Referencias!$C$4:$E$21,3,FALSE())","v":3},"Competición","Catalana"]
["0820739","Hidalgo Estrada, Hortensia","3D","D",{"$f":"VLOOKUP(C293,Referencias!$C$4:$D$21,2,FALSE())","v":"Tercera Diamante"},{"$f":"VLOOKUP(I293,Referencias!$B$24:$C$41,2,FALSE())","v":"C.VAL"},{"$f":"VLOOKUP(C293,Referencias!$C$4:$E$21,3,FALSE())","v":3},"Competición","C. Valenciana"]
["0820770","Portusach Salvado, Marta","3D","D",{"$f":"VLOOKUP(C294,Referencias!$C$4:$D$21,2,FALSE())","v":"Tercera Diamante"},{"$f":"VLOOKUP(I294,Referencias!$B$24:$C$41,2,FALSE())","v":"CAT"},{"$f":"VLOOKUP(C294,Referencias!$C$4:$E$21,3,FALSE())","v":3},"Competición","Catalana"]
["0820828","Esteve Izquierdo, Cristina","1C","D",{"$f":"VLOOKUP(C295,Referencias!$C$4:$D$21,2,FALSE())","v":"Primera Corazón"},{"$f":"VLOOKUP(I295,Referencias!$B$24:$C$41,2,FALSE())","v":"CAT"},{"$f":"VLOOKUP(C295,Referencias!$C$4:$E$21,3,FALSE())","v":1},"Competición","Catalana"]
["0820829","Bufala Romero, Montserrat","3D","D",{"$f":"VLOOKUP(C296,Referencias!$C$4:$D$21,2,FALSE())","v":"Tercera Diamante"},{"$f":"VLOOKUP(I296,Referencias!$B$24:$C$41,2,FALSE())","v":"CAT"},{"$f":"VLOOKUP(C296,Referencias!$C$4:$E$21,3,FALSE())","v":3},"Competición","Catalana"]
["0820848","Carbonell, Mercedes","1P","D",{"$f":"VLOOKUP(C297,Referencias!$C$4:$D$21,2,FALSE())","v":"Primera Picas"},{"$f":"VLOOKUP(I297,Referencias!$B$24:$C$41,2,FALSE())","v":"CAT"},{"$f":"VLOOKUP(C297,Referencias!$C$4:$E$21,3,FALSE())","v":1},"Competición","Catalana"]
["0820849","De Haro, Jose Antonio","1P","C",{"$f":"VLOOKUP(C298,Referencias!$C$4:$D$21,2,FALSE())","v":"Primera Picas"},{"$f":"VLOOKUP(I298,Referencias!$B$24:$C$41,2,FALSE())","v":"CAT"},{"$f":"VLOOKUP(C298,Referencias!$C$4:$E$21,3,FALSE())","v":1},"Competición","Catalana"]
["0820895","Martínez Monge, Bertha","1P","D",{"$f":"VLOOKUP(C299,Referencias!$C$4:$D$21,2,FALSE())","v":"Primera Picas"},{"$f":"VLOOKUP(I299,Referencias!$B$24:$C$41,2,FALSE())","v":"CAT"},{"$f":"VLOOKUP(C299,Referencias!$C$4:$E$21,3,FALSE())","v":1},"Competición","Catalana"]
["0820900","Berenguer, Pilar","3D","D",{"$f":"VLOOKUP(C300,Referencias!$C$4:$D$21,2,FALSE())","v":"Tercera Diamante"},{"$f":"VLOOKUP(I300,Referencias!$B$24:$C$41,2,FALSE())","v":"CAT"},{"$f":"VLOOKUP(C300,Referencias!$C$4:$E$21,3,FALSE())","v":3},"Competición","Catalana"]
["0820903","Vilella Rahn, Ana","1P","D",{"$f":"VLOOKUP(C301,Referencias!$C$4:$D$21,2,FALSE())","v":"Primera Picas"},{"$f":"VLOOKUP(I301,Referencias!$B$24:$C$41,2,FALSE())","v":"CAT"},{"$f":"VLOOKUP(C301,Referencias!$C$4:$E$21,3,FALSE())","v":1},"Competición","Catalana"]
["0820933","Galan Longoria, Isabel","3D","D",{"$f":"VLOOKUP(C302,Referencias!$C$4:$D$21,2,FALSE())","v":"Tercera Diamante"},{"$f":"VLOOKUP(I302,Referencias!$B$24:$C$41,2,FALSE())","v":"CAT"},{"$f":"VLOOKUP(C302,Referencias!$C$4:$E$21,3,FALSE())","v":3},"Competición","Catalana"]
["0820952","Argimón Puig-Serra, Magadalena","3D","D",{"$f":"VLOOKUP(C303,Referencias!$C$4:$D$21,2,FALSE())","v":"Tercera Diamante"},{"$f":"VLOOKUP(I303,Referencias!$B$24:$C$41,2,FALSE())","v":"CAT"},{"$f":"VLOOKUP(C303,Referencias!$C$4:$E$21,3,FALSE())","v":3},"Competición","Catalana"]
["0820966","Bufill  Le Monnier, Marta","1P","D",{"$f":"VLOOKUP(C304,Referencias!$C$4:$D$21,2,FALSE())","v":"Primera Picas"},{"$f":"VLOOKUP(I304,Referencias!$B$24:$C$41,2,FALSE())","v":"CAT"},{"$f":"VLOOKUP(C304,Referencias!$C$4:$E$21,3,FALSE())","v":1},"Competición","Catalana"]
["0820976","Sandoval, Antonio","1C","C",{"$f":"VLOOKUP(C305,Referencias!$C$4:$D$21,2,FALSE())","v":"Primera Corazón"},{"$f":"VLOOKUP(I305,Referencias!$B$24:$C$41,2,FALSE())","v":"CAT"},{"$f":"VLOOKUP(C305,Referencias!$C$4:$E$21,3,FALSE())","v":1},"Competición","Catalana"]
["0820980","Roig Fornells, Diana","3D","D",{"$f":"VLOOKUP(C306,Referencias!$C$4:$D$21,2,FALSE())","v":"Tercera Diamante"},{"$f":"VLOOKUP(I306,Referencias!$B$24:$C$41,2,FALSE())","v":"CAT"},{"$f":"VLOOKUP(C306,Referencias!$C$4:$E$21,3,FALSE())","v":3},"Competición","Catalana"]
["0821005","Viola Tarragona, Enrique","1P","C",{"$f":"VLOOKUP(C307,Referencias!$C$4:$D$21,2,FALSE())","v":"Primera Picas"},{"$f":"VLOOKUP(I307,Referencias!$B$24:$C$41,2,FALSE())","v":"CAT"},{"$f":"VLOOKUP(C307,Referencias!$C$4:$E$21,3,FALSE())","v":1},"Competición","Catalana"]
["0821037","Guilera, Elena","3D","D",{"$f":"VLOOKUP(C308,Referencias!$C$4:$D$21,2,FALSE())","v":"Tercera Diamante"},{"$f":"VLOOKUP(I308,Referencias!$B$24:$C$41,2,FALSE())","v":"CAT"},{"$f":"VLOOKUP(C308,Referencias!$C$4:$E$21,3,FALSE())","v":3},"Competición","Catalana"]
["0821046","Casulleres Rodríguez, Asunción","3D","D",{"$f":"VLOOKUP(C309,Referencias!$C$4:$D$21,2,FALSE())","v":"Tercera Diamante"},{"$f":"VLOOKUP(I309,Referencias!$B$24:$C$41,2,FALSE())","v":"CAT"},{"$f":"VLOOKUP(C309,Referencias!$C$4:$E$21,3,FALSE())","v":3},"Competición","Catalana"]
["0821048","Cañellas Robert, Isabel","3D","D",{"$f":"VLOOKUP(C310,Referencias!$C$4:$D$21,2,FALSE())","v":"Tercera Diamante"},{"$f":"VLOOKUP(I310,Referencias!$B$24:$C$41,2,FALSE())","v":"CAT"},{"$f":"VLOOKUP(C310,Referencias!$C$4:$E$21,3,FALSE())","v":3},"Competición","Catalana"]
["0821074","Asayag, Moises","1P","C",{"$f":"VLOOKUP(C311,Referencias!$C$4:$D$21,2,FALSE())","v":"Primera Picas"},{"$f":"VLOOKUP(I311,Referencias!$B$24:$C$41,2,FALSE())","v":"CAT"},{"$f":"VLOOKUP(C311,Referencias!$C$4:$E$21,3,FALSE())","v":1},"Competición","Catalana"]
["0821091","Jaumot, Eduardo","3D","C",{"$f":"VLOOKUP(C312,Referencias!$C$4:$D$21,2,FALSE())","v":"Tercera Diamante"},{"$f":"VLOOKUP(I312,Referencias!$B$24:$C$41,2,FALSE())","v":"CAT"},{"$f":"VLOOKUP(C312,Referencias!$C$4:$E$21,3,FALSE())","v":3},"Competición","Catalana"]
["0821101","Cuffi Rovira, María José","2C","D",{"$f":"VLOOKUP(C313,Referencias!$C$4:$D$21,2,FALSE())","v":"Segunda Corazón"},{"$f":"VLOOKUP(I313,Referencias!$B$24:$C$41,2,FALSE())","v":"CAT"},{"$f":"VLOOKUP(C313,Referencias!$C$4:$E$21,3,FALSE())","v":2},"Competición","Catalana"]
["0821105","Navarro de Guilera, Maribel","1C","D",{"$f":"VLOOKUP(C314,Referencias!$C$4:$D$21,2,FALSE())","v":"Primera Corazón"},{"$f":"VLOOKUP(I314,Referencias!$B$24:$C$41,2,FALSE())","v":"CAT"},{"$f":"VLOOKUP(C314,Referencias!$C$4:$E$21,3,FALSE())","v":1},"Competición","Catalana"]
["0821106","Torio Altus, Juan","3D","C",{"$f":"VLOOKUP(C315,Referencias!$C$4:$D$21,2,FALSE())","v":"Tercera Diamante"},{"$f":"VLOOKUP(I315,Referencias!$B$24:$C$41,2,FALSE())","v":"CAT"},{"$f":"VLOOKUP(C315,Referencias!$C$4:$E$21,3,FALSE())","v":3},"Competición","Catalana"]
["0821111","Cobas Ros, Angel","1P","C",{"$f":"VLOOKUP(C316,Referencias!$C$4:$D$21,2,FALSE())","v":"Primera Picas"},{"$f":"VLOOKUP(I316,Referencias!$B$24:$C$41,2,FALSE())","v":"CAT"},{"$f":"VLOOKUP(C316,Referencias!$C$4:$E$21,3,FALSE())","v":1},"Competición","Catalana"]
["0821112","Casala, Antonio","3D","C",{"$f":"VLOOKUP(C317,Referencias!$C$4:$D$21,2,FALSE())","v":"Tercera Diamante"},{"$f":"VLOOKUP(I317,Referencias!$B$24:$C$41,2,FALSE())","v":"CAT"},{"$f":"VLOOKUP(C317,Referencias!$C$4:$E$21,3,FALSE())","v":3},"Competición","Catalana"]
["0821117","Mihaescu, Olga","1P","D",{"$f":"VLOOKUP(C318,Referencias!$C$4:$D$21,2,FALSE())","v":"Primera Picas"},{"$f":"VLOOKUP(I318,Referencias!$B$24:$C$41,2,FALSE())","v":"CAT"},{"$f":"VLOOKUP(C318,Referencias!$C$4:$E$21,3,FALSE())","v":1},"Competición","Catalana"]
["0821131","Markovic, Dragan","1P","C",{"$f":"VLOOKUP(C319,Referencias!$C$4:$D$21,2,FALSE())","v":"Primera Picas"},{"$f":"VLOOKUP(I319,Referencias!$B$24:$C$41,2,FALSE())","v":"CAT"},{"$f":"VLOOKUP(C319,Referencias!$C$4:$E$21,3,FALSE())","v":1},"Competición","Catalana"]
["0821167","Casals Ramis, Jorge","1P","C",{"$f":"VLOOKUP(C320,Referencias!$C$4:$D$21,2,FALSE())","v":"Primera Picas"},{"$f":"VLOOKUP(I320,Referencias!$B$24:$C$41,2,FALSE())","v":"CAT"},{"$f":"VLOOKUP(C320,Referencias!$C$4:$E$21,3,FALSE())","v":1},"Competición","Catalana"]
["0821168","Vives Sanfeliu, Joan","3D","C",{"$f":"VLOOKUP(C321,Referencias!$C$4:$D$21,2,FALSE())","v":"Tercera Diamante"},{"$f":"VLOOKUP(I321,Referencias!$B$24:$C$41,2,FALSE())","v":"CAT"},{"$f":"VLOOKUP(C321,Referencias!$C$4:$E$21,3,FALSE())","v":3},"Competición","Catalana"]
["0821170","Frutos Domínguez, Juanjo","1P","C",{"$f":"VLOOKUP(C322,Referencias!$C$4:$D$21,2,FALSE())","v":"Primera Picas"},{"$f":"VLOOKUP(I322,Referencias!$B$24:$C$41,2,FALSE())","v":"CAT"},{"$f":"VLOOKUP(C322,Referencias!$C$4:$E$21,3,FALSE())","v":1},"Competición","Catalana"]
["0821181","Reixach Isarre, Mª Luisa","1C","D",{"$f":"VLOOKUP(C323,Referencias!$C$4:$D$21,2,FALSE())","v":"Primera Corazón"},{"$f":"VLOOKUP(I323,Referencias!$B$24:$C$41,2,FALSE())","v":"CAT"},{"$f":"VLOOKUP(C323,Referencias!$C$4:$E$21,3,FALSE())","v":1},"Competición","Catalana"]
["0821203","García Cassinelli, Alejandro","1P","C",{"$f":"VLOOKUP(C324,Referencias!$C$4:$D$21,2,FALSE())","v":"Primera Picas"},{"$f":"VLOOKUP(I324,Referencias!$B$24:$C$41,2,FALSE())","v":"CAT"},{"$f":"VLOOKUP(C324,Referencias!$C$4:$E$21,3,FALSE())","v":1},"Competición","Catalana"]
["0821205","Soler Miret, María Victoria","1P","D",{"$f":"VLOOKUP(C325,Referencias!$C$4:$D$21,2,FALSE())","v":"Primera Picas"},{"$f":"VLOOKUP(I325,Referencias!$B$24:$C$41,2,FALSE())","v":"CAT"},{"$f":"VLOOKUP(C325,Referencias!$C$4:$E$21,3,FALSE())","v":1},"Competición","Catalana"]
["0821206","Riba de Palau, Juan Miguel","1C","C",{"$f":"VLOOKUP(C326,Referencias!$C$4:$D$21,2,FALSE())","v":"Primera Corazón"},{"$f":"VLOOKUP(I326,Referencias!$B$24:$C$41,2,FALSE())","v":"CAT"},{"$f":"VLOOKUP(C326,Referencias!$C$4:$E$21,3,FALSE())","v":1},"Competición","Catalana"]
["0821209","Malla Abello, Luis","1P","C",{"$f":"VLOOKUP(C327,Referencias!$C$4:$D$21,2,FALSE())","v":"Primera Picas"},{"$f":"VLOOKUP(I327,Referencias!$B$24:$C$41,2,FALSE())","v":"CAT"},{"$f":"VLOOKUP(C327,Referencias!$C$4:$E$21,3,FALSE())","v":1},"Competición","Catalana"]
["0821210","Malla Abello, Ramón","1P","C",{"$f":"VLOOKUP(C328,Referencias!$C$4:$D$21,2,FALSE())","v":"Primera Picas"},{"$f":"VLOOKUP(I328,Referencias!$B$24:$C$41,2,FALSE())","v":"CAT"},{"$f":"VLOOKUP(C328,Referencias!$C$4:$E$21,3,FALSE())","v":1},"Competición","Catalana"]
["0821221","Domínguez Sancho, José Luis","1C","C",{"$f":"VLOOKUP(C329,Referencias!$C$4:$D$21,2,FALSE())","v":"Primera Corazón"},{"$f":"VLOOKUP(I329,Referencias!$B$24:$C$41,2,FALSE())","v":"CAT"},{"$f":"VLOOKUP(C329,Referencias!$C$4:$E$21,3,FALSE())","v":1},"Competición","Catalana"]
["0821230","Isvy Ittah, Nadia","2C","D",{"$f":"VLOOKUP(C330,Referencias!$C$4:$D$21,2,FALSE())","v":"Segunda Corazón"},{"$f":"VLOOKUP(I330,Referencias!$B$24:$C$41,2,FALSE())","v":"CAT"},{"$f":"VLOOKUP(C330,Referencias!$C$4:$E$21,3,FALSE())","v":2},"Competición","Catalana"]
["0821231","López Moreiras, Noemi","1P","D",{"$f":"VLOOKUP(C331,Referencias!$C$4:$D$21,2,FALSE())","v":"Primera Picas"},{"$f":"VLOOKUP(I331,Referencias!$B$24:$C$41,2,FALSE())","v":"CAT"},{"$f":"VLOOKUP(C331,Referencias!$C$4:$E$21,3,FALSE())","v":1},"Competición","Catalana"]
["0821235","Esteruelas Díez, Juan","1P","C",{"$f":"VLOOKUP(C332,Referencias!$C$4:$D$21,2,FALSE())","v":"Primera Picas"},{"$f":"VLOOKUP(I332,Referencias!$B$24:$C$41,2,FALSE())","v":"CAT"},{"$f":"VLOOKUP(C332,Referencias!$C$4:$E$21,3,FALSE())","v":1},"Competición","Catalana"]
["0821238","Liron Casas, Felipe","1P","C",{"$f":"VLOOKUP(C333,Referencias!$C$4:$D$21,2,FALSE())","v":"Primera Picas"},{"$f":"VLOOKUP(I333,Referencias!$B$24:$C$41,2,FALSE())","v":"CAT"},{"$f":"VLOOKUP(C333,Referencias!$C$4:$E$21,3,FALSE())","v":1},"Competición","Catalana"]
["0821264","Castellsague Florenti, Sigrid","1P","D",{"$f":"VLOOKUP(C334,Referencias!$C$4:$D$21,2,FALSE())","v":"Primera Picas"},{"$f":"VLOOKUP(I334,Referencias!$B$24:$C$41,2,FALSE())","v":"CAT"},{"$f":"VLOOKUP(C334,Referencias!$C$4:$E$21,3,FALSE())","v":1},"Competición","Catalana"]
["0821292","Esperanza Agut, Francisca","3D","D",{"$f":"VLOOKUP(C335,Referencias!$C$4:$D$21,2,FALSE())","v":"Tercera Diamante"},{"$f":"VLOOKUP(I335,Referencias!$B$24:$C$41,2,FALSE())","v":"CAT"},{"$f":"VLOOKUP(C335,Referencias!$C$4:$E$21,3,FALSE())","v":3},"Competición","Catalana"]
["0821296","Ortiz, Charo","3D","D",{"$f":"VLOOKUP(C336,Referencias!$C$4:$D$21,2,FALSE())","v":"Tercera Diamante"},{"$f":"VLOOKUP(I336,Referencias!$B$24:$C$41,2,FALSE())","v":"CAT"},{"$f":"VLOOKUP(C336,Referencias!$C$4:$E$21,3,FALSE())","v":3},"Competición","Catalana"]
["0821345","Baumgartner, Charles","1P","C",{"$f":"VLOOKUP(C337,Referencias!$C$4:$D$21,2,FALSE())","v":"Primera Picas"},{"$f":"VLOOKUP(I337,Referencias!$B$24:$C$41,2,FALSE())","v":"CAT"},{"$f":"VLOOKUP(C337,Referencias!$C$4:$E$21,3,FALSE())","v":1},"Competición","Catalana"]
["0821376","Grau Magret de Imbert, María del Carmen","3D","D",{"$f":"VLOOKUP(C338,Referencias!$C$4:$D$21,2,FALSE())","v":"Tercera Diamante"},{"$f":"VLOOKUP(I338,Referencias!$B$24:$C$41,2,FALSE())","v":"CAT"},{"$f":"VLOOKUP(C338,Referencias!$C$4:$E$21,3,FALSE())","v":3},"Competición","Catalana"]
["0821404","Pérez-Sala, Elvira","2P","D",{"$f":"VLOOKUP(C339,Referencias!$C$4:$D$21,2,FALSE())","v":"Segunda Picas"},{"$f":"VLOOKUP(I339,Referencias!$B$24:$C$41,2,FALSE())","v":"CAT"},{"$f":"VLOOKUP(C339,Referencias!$C$4:$E$21,3,FALSE())","v":2},"Competición","Catalana"]
["0821415","Alavedra Ribot, María Dolores","2P","D",{"$f":"VLOOKUP(C340,Referencias!$C$4:$D$21,2,FALSE())","v":"Segunda Picas"},{"$f":"VLOOKUP(I340,Referencias!$B$24:$C$41,2,FALSE())","v":"CAT"},{"$f":"VLOOKUP(C340,Referencias!$C$4:$E$21,3,FALSE())","v":2},"Competición","Catalana"]
["0821424","San Vicente Monreal, Eulalia","3D","D",{"$f":"VLOOKUP(C341,Referencias!$C$4:$D$21,2,FALSE())","v":"Tercera Diamante"},{"$f":"VLOOKUP(I341,Referencias!$B$24:$C$41,2,FALSE())","v":"CAT"},{"$f":"VLOOKUP(C341,Referencias!$C$4:$E$21,3,FALSE())","v":3},"Competición","Catalana"]
["0821425","Garrigos Ferrando, Paquita","3D","D",{"$f":"VLOOKUP(C342,Referencias!$C$4:$D$21,2,FALSE())","v":"Tercera Diamante"},{"$f":"VLOOKUP(I342,Referencias!$B$24:$C$41,2,FALSE())","v":"CAT"},{"$f":"VLOOKUP(C342,Referencias!$C$4:$E$21,3,FALSE())","v":3},"Competición","Catalana"]
["0821451","Insua Escaris, Maite","1C","D",{"$f":"VLOOKUP(C343,Referencias!$C$4:$D$21,2,FALSE())","v":"Primera Corazón"},{"$f":"VLOOKUP(I343,Referencias!$B$24:$C$41,2,FALSE())","v":"CAT"},{"$f":"VLOOKUP(C343,Referencias!$C$4:$E$21,3,FALSE())","v":1},"Competición","Catalana"]
["0821468","Barrabeig de Negra, Carmen","2P","D",{"$f":"VLOOKUP(C344,Referencias!$C$4:$D$21,2,FALSE())","v":"Segunda Picas"},{"$f":"VLOOKUP(I344,Referencias!$B$24:$C$41,2,FALSE())","v":"CAT"},{"$f":"VLOOKUP(C344,Referencias!$C$4:$E$21,3,FALSE())","v":2},"Competición","Catalana"]
["0821473","Albiol Navarro, Toni","3D","C",{"$f":"VLOOKUP(C345,Referencias!$C$4:$D$21,2,FALSE())","v":"Tercera Diamante"},{"$f":"VLOOKUP(I345,Referencias!$B$24:$C$41,2,FALSE())","v":"CAT"},{"$f":"VLOOKUP(C345,Referencias!$C$4:$E$21,3,FALSE())","v":3},"Competición","Catalana"]
["0821506","Elosegui, Mercedes","3D","D",{"$f":"VLOOKUP(C346,Referencias!$C$4:$D$21,2,FALSE())","v":"Tercera Diamante"},{"$f":"VLOOKUP(I346,Referencias!$B$24:$C$41,2,FALSE())","v":"CAT"},{"$f":"VLOOKUP(C346,Referencias!$C$4:$E$21,3,FALSE())","v":3},"Competición","Catalana"]
["0821515","Llombart Marti, María del Carmen","3D","D",{"$f":"VLOOKUP(C347,Referencias!$C$4:$D$21,2,FALSE())","v":"Tercera Diamante"},{"$f":"VLOOKUP(I347,Referencias!$B$24:$C$41,2,FALSE())","v":"CAT"},{"$f":"VLOOKUP(C347,Referencias!$C$4:$E$21,3,FALSE())","v":3},"Competición","Catalana"]
["0821517","Saunier Marques, Edith","3D","D",{"$f":"VLOOKUP(C348,Referencias!$C$4:$D$21,2,FALSE())","v":"Tercera Diamante"},{"$f":"VLOOKUP(I348,Referencias!$B$24:$C$41,2,FALSE())","v":"CAT"},{"$f":"VLOOKUP(C348,Referencias!$C$4:$E$21,3,FALSE())","v":3},"Competición","Catalana"]
["0821533","Revuelta de la Poza, Alejandro","1P","C",{"$f":"VLOOKUP(C349,Referencias!$C$4:$D$21,2,FALSE())","v":"Primera Picas"},{"$f":"VLOOKUP(I349,Referencias!$B$24:$C$41,2,FALSE())","v":"CAT"},{"$f":"VLOOKUP(C349,Referencias!$C$4:$E$21,3,FALSE())","v":1},"Competición","Catalana"]
["0821534","Cans Fernandez, Andoni","1P","C",{"$f":"VLOOKUP(C350,Referencias!$C$4:$D$21,2,FALSE())","v":"Primera Picas"},{"$f":"VLOOKUP(I350,Referencias!$B$24:$C$41,2,FALSE())","v":"CAT"},{"$f":"VLOOKUP(C350,Referencias!$C$4:$E$21,3,FALSE())","v":1},"Competición","Catalana"]
["0821535","Sánchez, Koldo","1P","C",{"$f":"VLOOKUP(C351,Referencias!$C$4:$D$21,2,FALSE())","v":"Primera Picas"},{"$f":"VLOOKUP(I351,Referencias!$B$24:$C$41,2,FALSE())","v":"CAT"},{"$f":"VLOOKUP(C351,Referencias!$C$4:$E$21,3,FALSE())","v":1},"Competición","Catalana"]
["0821543","Paravisini Marsans, Tania","1D","D",{"$f":"VLOOKUP(C352,Referencias!$C$4:$D$21,2,FALSE())","v":"Primera Diamante"},{"$f":"VLOOKUP(I352,Referencias!$B$24:$C$41,2,FALSE())","v":"CANT"},{"$f":"VLOOKUP(C352,Referencias!$C$4:$E$21,3,FALSE())","v":1},"Competición","Cántabra"]
["0821545","Guiu Andreu, Rosa","3C","D",{"$f":"VLOOKUP(C353,Referencias!$C$4:$D$21,2,FALSE())","v":"Tercera Corazón"},{"$f":"VLOOKUP(I353,Referencias!$B$24:$C$41,2,FALSE())","v":"CAT"},{"$f":"VLOOKUP(C353,Referencias!$C$4:$E$21,3,FALSE())","v":3},"Competición","Catalana"]
["0821546","Trillo, Patricia","2P","D",{"$f":"VLOOKUP(C354,Referencias!$C$4:$D$21,2,FALSE())","v":"Segunda Picas"},{"$f":"VLOOKUP(I354,Referencias!$B$24:$C$41,2,FALSE())","v":"CAT"},{"$f":"VLOOKUP(C354,Referencias!$C$4:$E$21,3,FALSE())","v":2},"Competición","Catalana"]
["0821548","Fradera, Mª Victoria","2P","D",{"$f":"VLOOKUP(C355,Referencias!$C$4:$D$21,2,FALSE())","v":"Segunda Picas"},{"$f":"VLOOKUP(I355,Referencias!$B$24:$C$41,2,FALSE())","v":"CAT"},{"$f":"VLOOKUP(C355,Referencias!$C$4:$E$21,3,FALSE())","v":2},"Competición","Catalana"]
["0821582","Castellsague Florenti, Ricard","3D","C",{"$f":"VLOOKUP(C356,Referencias!$C$4:$D$21,2,FALSE())","v":"Tercera Diamante"},{"$f":"VLOOKUP(I356,Referencias!$B$24:$C$41,2,FALSE())","v":"CAT"},{"$f":"VLOOKUP(C356,Referencias!$C$4:$E$21,3,FALSE())","v":3},"Competición","Catalana"]
["0821592","Mengotti  Peñalver, María Teresa","3D","D",{"$f":"VLOOKUP(C357,Referencias!$C$4:$D$21,2,FALSE())","v":"Tercera Diamante"},{"$f":"VLOOKUP(I357,Referencias!$B$24:$C$41,2,FALSE())","v":"CAT"},{"$f":"VLOOKUP(C357,Referencias!$C$4:$E$21,3,FALSE())","v":3},"Competición","Catalana"]
["0821607","Rosal Valls i Taberner, Alicia","3D","D",{"$f":"VLOOKUP(C358,Referencias!$C$4:$D$21,2,FALSE())","v":"Tercera Diamante"},{"$f":"VLOOKUP(I358,Referencias!$B$24:$C$41,2,FALSE())","v":"CAT"},{"$f":"VLOOKUP(C358,Referencias!$C$4:$E$21,3,FALSE())","v":3},"Competición","Catalana"]
["0821611","Peralta López, Dolores","3D","D",{"$f":"VLOOKUP(C359,Referencias!$C$4:$D$21,2,FALSE())","v":"Tercera Diamante"},{"$f":"VLOOKUP(I359,Referencias!$B$24:$C$41,2,FALSE())","v":"CAT"},{"$f":"VLOOKUP(C359,Referencias!$C$4:$E$21,3,FALSE())","v":3},"Competición","Catalana"]
["0821635","Ballcells Miro-Sans, Carlos","3D","C",{"$f":"VLOOKUP(C360,Referencias!$C$4:$D$21,2,FALSE())","v":"Tercera Diamante"},{"$f":"VLOOKUP(I360,Referencias!$B$24:$C$41,2,FALSE())","v":"CAT"},{"$f":"VLOOKUP(C360,Referencias!$C$4:$E$21,3,FALSE())","v":3},"Competición","Catalana"]
["0821641","Azagury, Sidney","1P","C",{"$f":"VLOOKUP(C361,Referencias!$C$4:$D$21,2,FALSE())","v":"Primera Picas"},{"$f":"VLOOKUP(I361,Referencias!$B$24:$C$41,2,FALSE())","v":"CAT"},{"$f":"VLOOKUP(C361,Referencias!$C$4:$E$21,3,FALSE())","v":1},"Competición","Catalana"]
["0821677","Ojeda Gómez, Ramón","1P","C",{"$f":"VLOOKUP(C362,Referencias!$C$4:$D$21,2,FALSE())","v":"Primera Picas"},{"$f":"VLOOKUP(I362,Referencias!$B$24:$C$41,2,FALSE())","v":"CAT"},{"$f":"VLOOKUP(C362,Referencias!$C$4:$E$21,3,FALSE())","v":1},"Competición","Catalana"]
["0821701","Mansilla Llobet, María","1P","D",{"$f":"VLOOKUP(C363,Referencias!$C$4:$D$21,2,FALSE())","v":"Primera Picas"},{"$f":"VLOOKUP(I363,Referencias!$B$24:$C$41,2,FALSE())","v":"CAT"},{"$f":"VLOOKUP(C363,Referencias!$C$4:$E$21,3,FALSE())","v":1},"Competición","Catalana"]
["0821702","Pérez Galisteo, Jorge Antonio","1P","C",{"$f":"VLOOKUP(C364,Referencias!$C$4:$D$21,2,FALSE())","v":"Primera Picas"},{"$f":"VLOOKUP(I364,Referencias!$B$24:$C$41,2,FALSE())","v":"CAT"},{"$f":"VLOOKUP(C364,Referencias!$C$4:$E$21,3,FALSE())","v":1},"Competición","Catalana"]
["0821713","Costa Mahrer, María Victoria","3D","D",{"$f":"VLOOKUP(C365,Referencias!$C$4:$D$21,2,FALSE())","v":"Tercera Diamante"},{"$f":"VLOOKUP(I365,Referencias!$B$24:$C$41,2,FALSE())","v":"CAT"},{"$f":"VLOOKUP(C365,Referencias!$C$4:$E$21,3,FALSE())","v":3},"Competición","Catalana"]
["0821714","Portabella Cornet, María José","2C","D",{"$f":"VLOOKUP(C366,Referencias!$C$4:$D$21,2,FALSE())","v":"Segunda Corazón"},{"$f":"VLOOKUP(I366,Referencias!$B$24:$C$41,2,FALSE())","v":"ARA"},{"$f":"VLOOKUP(C366,Referencias!$C$4:$E$21,3,FALSE())","v":2},"Competición","Aragonesa"]
["0821726","Artigas Raventos, Montserrat","3D","D",{"$f":"VLOOKUP(C367,Referencias!$C$4:$D$21,2,FALSE())","v":"Tercera Diamante"},{"$f":"VLOOKUP(I367,Referencias!$B$24:$C$41,2,FALSE())","v":"CAT"},{"$f":"VLOOKUP(C367,Referencias!$C$4:$E$21,3,FALSE())","v":3},"Competición","Catalana"]
["0821727","Rovira Llobera, Xari","3D","D",{"$f":"VLOOKUP(C368,Referencias!$C$4:$D$21,2,FALSE())","v":"Tercera Diamante"},{"$f":"VLOOKUP(I368,Referencias!$B$24:$C$41,2,FALSE())","v":"CAT"},{"$f":"VLOOKUP(C368,Referencias!$C$4:$E$21,3,FALSE())","v":3},"Competición","Catalana"]
["0821728","Rovira Llobera, Teresa","3D","D",{"$f":"VLOOKUP(C369,Referencias!$C$4:$D$21,2,FALSE())","v":"Tercera Diamante"},{"$f":"VLOOKUP(I369,Referencias!$B$24:$C$41,2,FALSE())","v":"CAT"},{"$f":"VLOOKUP(C369,Referencias!$C$4:$E$21,3,FALSE())","v":3},"Competición","Catalana"]
["0821730","Martin Nieto, Encarna","3D","D",{"$f":"VLOOKUP(C370,Referencias!$C$4:$D$21,2,FALSE())","v":"Tercera Diamante"},{"$f":"VLOOKUP(I370,Referencias!$B$24:$C$41,2,FALSE())","v":"CAT"},{"$f":"VLOOKUP(C370,Referencias!$C$4:$E$21,3,FALSE())","v":3},"Competición","Catalana"]
["0821735","Martin Duran, Paz","3D","D",{"$f":"VLOOKUP(C371,Referencias!$C$4:$D$21,2,FALSE())","v":"Tercera Diamante"},{"$f":"VLOOKUP(I371,Referencias!$B$24:$C$41,2,FALSE())","v":"CAT"},{"$f":"VLOOKUP(C371,Referencias!$C$4:$E$21,3,FALSE())","v":3},"Competición","Catalana"]
["0821740","Albacete, Elisabet","3D","D",{"$f":"VLOOKUP(C372,Referencias!$C$4:$D$21,2,FALSE())","v":"Tercera Diamante"},{"$f":"VLOOKUP(I372,Referencias!$B$24:$C$41,2,FALSE())","v":"CAT"},{"$f":"VLOOKUP(C372,Referencias!$C$4:$E$21,3,FALSE())","v":3},"Competición","Catalana"]
["0821741","Ortiz, Mª Luisa","3D","D",{"$f":"VLOOKUP(C373,Referencias!$C$4:$D$21,2,FALSE())","v":"Tercera Diamante"},{"$f":"VLOOKUP(I373,Referencias!$B$24:$C$41,2,FALSE())","v":"CAT"},{"$f":"VLOOKUP(C373,Referencias!$C$4:$E$21,3,FALSE())","v":3},"Competición","Catalana"]
["0821759","Bañeres Blanco, María Pilar","3D","D",{"$f":"VLOOKUP(C374,Referencias!$C$4:$D$21,2,FALSE())","v":"Tercera Diamante"},{"$f":"VLOOKUP(I374,Referencias!$B$24:$C$41,2,FALSE())","v":"CAT"},{"$f":"VLOOKUP(C374,Referencias!$C$4:$E$21,3,FALSE())","v":3},"Competición","Catalana"]
["0821762","Ribot Gimenez, Isabel","3D","D",{"$f":"VLOOKUP(C375,Referencias!$C$4:$D$21,2,FALSE())","v":"Tercera Diamante"},{"$f":"VLOOKUP(I375,Referencias!$B$24:$C$41,2,FALSE())","v":"CAT"},{"$f":"VLOOKUP(C375,Referencias!$C$4:$E$21,3,FALSE())","v":3},"Competición","Catalana"]
["0821776","Prada Hernández, Jordi","3D","C",{"$f":"VLOOKUP(C376,Referencias!$C$4:$D$21,2,FALSE())","v":"Tercera Diamante"},{"$f":"VLOOKUP(I376,Referencias!$B$24:$C$41,2,FALSE())","v":"CAT"},{"$f":"VLOOKUP(C376,Referencias!$C$4:$E$21,3,FALSE())","v":3},"Competición","Catalana"]
["0821804","Philpott Hill, Cloe","1C","D",{"$f":"VLOOKUP(C377,Referencias!$C$4:$D$21,2,FALSE())","v":"Primera Corazón"},{"$f":"VLOOKUP(I377,Referencias!$B$24:$C$41,2,FALSE())","v":"CAT"},{"$f":"VLOOKUP(C377,Referencias!$C$4:$E$21,3,FALSE())","v":1},"Competición","Catalana"]
["0821827","Trias, Lourdes","1P","D",{"$f":"VLOOKUP(C378,Referencias!$C$4:$D$21,2,FALSE())","v":"Primera Picas"},{"$f":"VLOOKUP(I378,Referencias!$B$24:$C$41,2,FALSE())","v":"CAT"},{"$f":"VLOOKUP(C378,Referencias!$C$4:$E$21,3,FALSE())","v":1},"Competición","Catalana"]
["0821837","Habbaba, Javier","1C","C",{"$f":"VLOOKUP(C379,Referencias!$C$4:$D$21,2,FALSE())","v":"Primera Corazón"},{"$f":"VLOOKUP(I379,Referencias!$B$24:$C$41,2,FALSE())","v":"ARA"},{"$f":"VLOOKUP(C379,Referencias!$C$4:$E$21,3,FALSE())","v":1},"Competición","Aragonesa"]
["0821843","Canals Batlle, Mª Victoria","3D","D",{"$f":"VLOOKUP(C380,Referencias!$C$4:$D$21,2,FALSE())","v":"Tercera Diamante"},{"$f":"VLOOKUP(I380,Referencias!$B$24:$C$41,2,FALSE())","v":"CAT"},{"$f":"VLOOKUP(C380,Referencias!$C$4:$E$21,3,FALSE())","v":3},"Competición","Catalana"]
["0821851","Matas Rubau, Montserrat","3D","D",{"$f":"VLOOKUP(C381,Referencias!$C$4:$D$21,2,FALSE())","v":"Tercera Diamante"},{"$f":"VLOOKUP(I381,Referencias!$B$24:$C$41,2,FALSE())","v":"CAT"},{"$f":"VLOOKUP(C381,Referencias!$C$4:$E$21,3,FALSE())","v":3},"Competición","Catalana"]
["0821862","de Cruilles de Peratallada Andreu, Roman","1C","C",{"$f":"VLOOKUP(C382,Referencias!$C$4:$D$21,2,FALSE())","v":"Primera Corazón"},{"$f":"VLOOKUP(I382,Referencias!$B$24:$C$41,2,FALSE())","v":"CAT"},{"$f":"VLOOKUP(C382,Referencias!$C$4:$E$21,3,FALSE())","v":1},"Competición","Catalana"]
["0821865","Rademacher, Ture","1P","C",{"$f":"VLOOKUP(C383,Referencias!$C$4:$D$21,2,FALSE())","v":"Primera Picas"},{"$f":"VLOOKUP(I383,Referencias!$B$24:$C$41,2,FALSE())","v":"CAT"},{"$f":"VLOOKUP(C383,Referencias!$C$4:$E$21,3,FALSE())","v":1},"Competición","Catalana"]
["0821876","Acero Casamitja, Carlos","1C","C",{"$f":"VLOOKUP(C384,Referencias!$C$4:$D$21,2,FALSE())","v":"Primera Corazón"},{"$f":"VLOOKUP(I384,Referencias!$B$24:$C$41,2,FALSE())","v":"CAT"},{"$f":"VLOOKUP(C384,Referencias!$C$4:$E$21,3,FALSE())","v":1},"Competición","Catalana"]
["0821877","Viñals Espin, Emilia","3D","D",{"$f":"VLOOKUP(C385,Referencias!$C$4:$D$21,2,FALSE())","v":"Tercera Diamante"},{"$f":"VLOOKUP(I385,Referencias!$B$24:$C$41,2,FALSE())","v":"CAT"},{"$f":"VLOOKUP(C385,Referencias!$C$4:$E$21,3,FALSE())","v":3},"Competición","Catalana"]
["0821879","Roqueta Alventosa, María del Carmen","3D","D",{"$f":"VLOOKUP(C386,Referencias!$C$4:$D$21,2,FALSE())","v":"Tercera Diamante"},{"$f":"VLOOKUP(I386,Referencias!$B$24:$C$41,2,FALSE())","v":"CAT"},{"$f":"VLOOKUP(C386,Referencias!$C$4:$E$21,3,FALSE())","v":3},"Competición","Catalana"]
["0821883","Filella Cunill, Ramon","1P","C",{"$f":"VLOOKUP(C387,Referencias!$C$4:$D$21,2,FALSE())","v":"Primera Picas"},{"$f":"VLOOKUP(I387,Referencias!$B$24:$C$41,2,FALSE())","v":"CAT"},{"$f":"VLOOKUP(C387,Referencias!$C$4:$E$21,3,FALSE())","v":1},"Competición","Catalana"]
["0821897","Ferrando, María Teresa","3D","D",{"$f":"VLOOKUP(C388,Referencias!$C$4:$D$21,2,FALSE())","v":"Tercera Diamante"},{"$f":"VLOOKUP(I388,Referencias!$B$24:$C$41,2,FALSE())","v":"CAT"},{"$f":"VLOOKUP(C388,Referencias!$C$4:$E$21,3,FALSE())","v":3},"Competición","Catalana"]
["0821908","Leonori Almirall, Carmen","3D","D",{"$f":"VLOOKUP(C389,Referencias!$C$4:$D$21,2,FALSE())","v":"Tercera Diamante"},{"$f":"VLOOKUP(I389,Referencias!$B$24:$C$41,2,FALSE())","v":"CAT"},{"$f":"VLOOKUP(C389,Referencias!$C$4:$E$21,3,FALSE())","v":3},"Competición","Catalana"]
["0821916","Soriano Planells, María Elena","3D","D",{"$f":"VLOOKUP(C390,Referencias!$C$4:$D$21,2,FALSE())","v":"Tercera Diamante"},{"$f":"VLOOKUP(I390,Referencias!$B$24:$C$41,2,FALSE())","v":"CAT"},{"$f":"VLOOKUP(C390,Referencias!$C$4:$E$21,3,FALSE())","v":3},"Competición","Catalana"]
["0821918","Carreras Sainz, Ferran","3D","C",{"$f":"VLOOKUP(C391,Referencias!$C$4:$D$21,2,FALSE())","v":"Tercera Diamante"},{"$f":"VLOOKUP(I391,Referencias!$B$24:$C$41,2,FALSE())","v":"CAT"},{"$f":"VLOOKUP(C391,Referencias!$C$4:$E$21,3,FALSE())","v":3},"Competición","Catalana"]
["0821924","Viladomiu Puig, Carmen","3D","D",{"$f":"VLOOKUP(C392,Referencias!$C$4:$D$21,2,FALSE())","v":"Tercera Diamante"},{"$f":"VLOOKUP(I392,Referencias!$B$24:$C$41,2,FALSE())","v":"CAT"},{"$f":"VLOOKUP(C392,Referencias!$C$4:$E$21,3,FALSE())","v":3},"Competición","Catalana"]
["0821928","de Escalada, Mercedes","3D","D",{"$f":"VLOOKUP(C393,Referencias!$C$4:$D$21,2,FALSE())","v":"Tercera Diamante"},{"$f":"VLOOKUP(I393,Referencias!$B$24:$C$41,2,FALSE())","v":"CAT"},{"$f":"VLOOKUP(C393,Referencias!$C$4:$E$21,3,FALSE())","v":3},"Competición","Catalana"]
["0821932","Iglesias Poch, Ana","3D","D",{"$f":"VLOOKUP(C394,Referencias!$C$4:$D$21,2,FALSE())","v":"Tercera Diamante"},{"$f":"VLOOKUP(I394,Referencias!$B$24:$C$41,2,FALSE())","v":"CAT"},{"$f":"VLOOKUP(C394,Referencias!$C$4:$E$21,3,FALSE())","v":3},"Competición","Catalana"]
["0821943","Soudan, Luc","MM-O","C",{"$f":"VLOOKUP(C395,Referencias!$C$4:$D$21,2,FALSE())","v":"Maestro Mundial Open"},{"$f":"VLOOKUP(I395,Referencias!$B$24:$C$41,2,FALSE())","v":"CAT"},{"$f":"VLOOKUP(C395,Referencias!$C$4:$E$21,3,FALSE())","v":0},"Competición","Catalana"]
["0821948","Suñol Torres, Llorenç","1P","C",{"$f":"VLOOKUP(C396,Referencias!$C$4:$D$21,2,FALSE())","v":"Primera Picas"},{"$f":"VLOOKUP(I396,Referencias!$B$24:$C$41,2,FALSE())","v":"CAT"},{"$f":"VLOOKUP(C396,Referencias!$C$4:$E$21,3,FALSE())","v":1},"Competición","Catalana"]
["0821956","Esque Durrande, Gaelle","3D","D",{"$f":"VLOOKUP(C397,Referencias!$C$4:$D$21,2,FALSE())","v":"Tercera Diamante"},{"$f":"VLOOKUP(I397,Referencias!$B$24:$C$41,2,FALSE())","v":"CAT"},{"$f":"VLOOKUP(C397,Referencias!$C$4:$E$21,3,FALSE())","v":3},"Competición","Catalana"]
["0821959","Gómez Hierro, Ramón","MM-O","C",{"$f":"VLOOKUP(C398,Referencias!$C$4:$D$21,2,FALSE())","v":"Maestro Mundial Open"},{"$f":"VLOOKUP(I398,Referencias!$B$24:$C$41,2,FALSE())","v":"P.AST"},{"$f":"VLOOKUP(C398,Referencias!$C$4:$E$21,3,FALSE())","v":0},"Competición","Asturiana"]
["0821971","Cañadas Sausas, Enrique","1P","C",{"$f":"VLOOKUP(C399,Referencias!$C$4:$D$21,2,FALSE())","v":"Primera Picas"},{"$f":"VLOOKUP(I399,Referencias!$B$24:$C$41,2,FALSE())","v":"CAT"},{"$f":"VLOOKUP(C399,Referencias!$C$4:$E$21,3,FALSE())","v":1},"Competición","Catalana"]
["0821974","Massana, Aleix","1P","C",{"$f":"VLOOKUP(C400,Referencias!$C$4:$D$21,2,FALSE())","v":"Primera Picas"},{"$f":"VLOOKUP(I400,Referencias!$B$24:$C$41,2,FALSE())","v":"CAT"},{"$f":"VLOOKUP(C400,Referencias!$C$4:$E$21,3,FALSE())","v":1},"Competición","Catalana"]
["0821982","Rodil Santin, Sol","3D","D",{"$f":"VLOOKUP(C401,Referencias!$C$4:$D$21,2,FALSE())","v":"Tercera Diamante"},{"$f":"VLOOKUP(I401,Referencias!$B$24:$C$41,2,FALSE())","v":"CAT"},{"$f":"VLOOKUP(C401,Referencias!$C$4:$E$21,3,FALSE())","v":3},"Competición","Catalana"]
["0821987","Castells Herrer, Miguel","1C","C",{"$f":"VLOOKUP(C402,Referencias!$C$4:$D$21,2,FALSE())","v":"Primera Corazón"},{"$f":"VLOOKUP(I402,Referencias!$B$24:$C$41,2,FALSE())","v":"CAT"},{"$f":"VLOOKUP(C402,Referencias!$C$4:$E$21,3,FALSE())","v":1},"Competición","Catalana"]
["0822031","Zapatero Lorca, Pilar","3D","D",{"$f":"VLOOKUP(C403,Referencias!$C$4:$D$21,2,FALSE())","v":"Tercera Diamante"},{"$f":"VLOOKUP(I403,Referencias!$B$24:$C$41,2,FALSE())","v":"CAT"},{"$f":"VLOOKUP(C403,Referencias!$C$4:$E$21,3,FALSE())","v":3},"Competición","Catalana"]
["0822036","Casadella, José María","3D","C",{"$f":"VLOOKUP(C404,Referencias!$C$4:$D$21,2,FALSE())","v":"Tercera Diamante"},{"$f":"VLOOKUP(I404,Referencias!$B$24:$C$41,2,FALSE())","v":"CAT"},{"$f":"VLOOKUP(C404,Referencias!$C$4:$E$21,3,FALSE())","v":3},"Competición","Catalana"]
["0822037","Brenner, Diego","MM-O","C",{"$f":"VLOOKUP(C405,Referencias!$C$4:$D$21,2,FALSE())","v":"Maestro Mundial Open"},{"$f":"VLOOKUP(I405,Referencias!$B$24:$C$41,2,FALSE())","v":"CAT"},{"$f":"VLOOKUP(C405,Referencias!$C$4:$E$21,3,FALSE())","v":0},"Competición","Catalana"]
["0822040","Ugalde, Marisa","2P","D",{"$f":"VLOOKUP(C406,Referencias!$C$4:$D$21,2,FALSE())","v":"Segunda Picas"},{"$f":"VLOOKUP(I406,Referencias!$B$24:$C$41,2,FALSE())","v":"CAT"},{"$f":"VLOOKUP(C406,Referencias!$C$4:$E$21,3,FALSE())","v":2},"Competición","Catalana"]
["0822051","Soler Masana, Pilar","1C","D",{"$f":"VLOOKUP(C407,Referencias!$C$4:$D$21,2,FALSE())","v":"Primera Corazón"},{"$f":"VLOOKUP(I407,Referencias!$B$24:$C$41,2,FALSE())","v":"CAT"},{"$f":"VLOOKUP(C407,Referencias!$C$4:$E$21,3,FALSE())","v":1},"Competición","Catalana"]
["0822052","Puigdomenech, Montse","1P","D",{"$f":"VLOOKUP(C408,Referencias!$C$4:$D$21,2,FALSE())","v":"Primera Picas"},{"$f":"VLOOKUP(I408,Referencias!$B$24:$C$41,2,FALSE())","v":"CAT"},{"$f":"VLOOKUP(C408,Referencias!$C$4:$E$21,3,FALSE())","v":1},"Competición","Catalana"]
["0822054","Ceballos Cortés, Carmen","1P","D",{"$f":"VLOOKUP(C409,Referencias!$C$4:$D$21,2,FALSE())","v":"Primera Picas"},{"$f":"VLOOKUP(I409,Referencias!$B$24:$C$41,2,FALSE())","v":"CAT"},{"$f":"VLOOKUP(C409,Referencias!$C$4:$E$21,3,FALSE())","v":1},"Competición","Catalana"]
["0822055","Serra Galobart, José Isidro","1P","C",{"$f":"VLOOKUP(C410,Referencias!$C$4:$D$21,2,FALSE())","v":"Primera Picas"},{"$f":"VLOOKUP(I410,Referencias!$B$24:$C$41,2,FALSE())","v":"CAT"},{"$f":"VLOOKUP(C410,Referencias!$C$4:$E$21,3,FALSE())","v":1},"Competición","Catalana"]
["0822062","Olle Curiel, María Rosa","3D","D",{"$f":"VLOOKUP(C411,Referencias!$C$4:$D$21,2,FALSE())","v":"Tercera Diamante"},{"$f":"VLOOKUP(I411,Referencias!$B$24:$C$41,2,FALSE())","v":"CAT"},{"$f":"VLOOKUP(C411,Referencias!$C$4:$E$21,3,FALSE())","v":3},"Competición","Catalana"]
["0822079","Gross Sellares, Concepción","1P","D",{"$f":"VLOOKUP(C412,Referencias!$C$4:$D$21,2,FALSE())","v":"Primera Picas"},{"$f":"VLOOKUP(I412,Referencias!$B$24:$C$41,2,FALSE())","v":"CAT"},{"$f":"VLOOKUP(C412,Referencias!$C$4:$E$21,3,FALSE())","v":1},"Competición","Catalana"]
["0822083","Vila Sagnier, Laura","3D","D",{"$f":"VLOOKUP(C413,Referencias!$C$4:$D$21,2,FALSE())","v":"Tercera Diamante"},{"$f":"VLOOKUP(I413,Referencias!$B$24:$C$41,2,FALSE())","v":"CAT"},{"$f":"VLOOKUP(C413,Referencias!$C$4:$E$21,3,FALSE())","v":3},"Competición","Catalana"]
["0822086","Bocchi, Norberto","MM-O","C",{"$f":"VLOOKUP(C414,Referencias!$C$4:$D$21,2,FALSE())","v":"Maestro Mundial Open"},{"$f":"VLOOKUP(I414,Referencias!$B$24:$C$41,2,FALSE())","v":"CAT"},{"$f":"VLOOKUP(C414,Referencias!$C$4:$E$21,3,FALSE())","v":0},"Competición","Catalana"]
["0822088","Hortal Jodar, Joaquín","1P","C",{"$f":"VLOOKUP(C415,Referencias!$C$4:$D$21,2,FALSE())","v":"Primera Picas"},{"$f":"VLOOKUP(I415,Referencias!$B$24:$C$41,2,FALSE())","v":"CAT"},{"$f":"VLOOKUP(C415,Referencias!$C$4:$E$21,3,FALSE())","v":1},"Competición","Catalana"]
["0822095","Porras Angostures, Susana","1C","D",{"$f":"VLOOKUP(C416,Referencias!$C$4:$D$21,2,FALSE())","v":"Primera Corazón"},{"$f":"VLOOKUP(I416,Referencias!$B$24:$C$41,2,FALSE())","v":"CAT"},{"$f":"VLOOKUP(C416,Referencias!$C$4:$E$21,3,FALSE())","v":1},"Competición","Catalana"]
["0822097","Casals Fradera, Carlos","1P","C",{"$f":"VLOOKUP(C417,Referencias!$C$4:$D$21,2,FALSE())","v":"Primera Picas"},{"$f":"VLOOKUP(I417,Referencias!$B$24:$C$41,2,FALSE())","v":"CAT"},{"$f":"VLOOKUP(C417,Referencias!$C$4:$E$21,3,FALSE())","v":1},"Competición","Catalana"]
["0822104","Portas y Arbosa, Montse","1C","D",{"$f":"VLOOKUP(C418,Referencias!$C$4:$D$21,2,FALSE())","v":"Primera Corazón"},{"$f":"VLOOKUP(I418,Referencias!$B$24:$C$41,2,FALSE())","v":"CAT"},{"$f":"VLOOKUP(C418,Referencias!$C$4:$E$21,3,FALSE())","v":1},"Competición","Catalana"]
["0822106","Biscos Ezpeleta, Anunciación","3D","D",{"$f":"VLOOKUP(C419,Referencias!$C$4:$D$21,2,FALSE())","v":"Tercera Diamante"},{"$f":"VLOOKUP(I419,Referencias!$B$24:$C$41,2,FALSE())","v":"CAT"},{"$f":"VLOOKUP(C419,Referencias!$C$4:$E$21,3,FALSE())","v":3},"Competición","Catalana"]
["0822114","Aldjem, Benno","3D","C",{"$f":"VLOOKUP(C420,Referencias!$C$4:$D$21,2,FALSE())","v":"Tercera Diamante"},{"$f":"VLOOKUP(I420,Referencias!$B$24:$C$41,2,FALSE())","v":"CAT"},{"$f":"VLOOKUP(C420,Referencias!$C$4:$E$21,3,FALSE())","v":3},"Competición","Catalana"]
["0822121","Torrens Roig, Ricardo","3D","C",{"$f":"VLOOKUP(C421,Referencias!$C$4:$D$21,2,FALSE())","v":"Tercera Diamante"},{"$f":"VLOOKUP(I421,Referencias!$B$24:$C$41,2,FALSE())","v":"CAT"},{"$f":"VLOOKUP(C421,Referencias!$C$4:$E$21,3,FALSE())","v":3},"Competición","Catalana"]
["0822123","Pelzer, Raymond","3D","C",{"$f":"VLOOKUP(C422,Referencias!$C$4:$D$21,2,FALSE())","v":"Tercera Diamante"},{"$f":"VLOOKUP(I422,Referencias!$B$24:$C$41,2,FALSE())","v":"CAT"},{"$f":"VLOOKUP(C422,Referencias!$C$4:$E$21,3,FALSE())","v":3},"Competición","Catalana"]
["0822127","Pujol Llopart, Celia","2C","D",{"$f":"VLOOKUP(C423,Referencias!$C$4:$D$21,2,FALSE())","v":"Segunda Corazón"},{"$f":"VLOOKUP(I423,Referencias!$B$24:$C$41,2,FALSE())","v":"CAT"},{"$f":"VLOOKUP(C423,Referencias!$C$4:$E$21,3,FALSE())","v":2},"Competición","Catalana"]
["0822130","García-Valdecasas Salgado, Margarita","3D","D",{"$f":"VLOOKUP(C424,Referencias!$C$4:$D$21,2,FALSE())","v":"Tercera Diamante"},{"$f":"VLOOKUP(I424,Referencias!$B$24:$C$41,2,FALSE())","v":"CAT"},{"$f":"VLOOKUP(C424,Referencias!$C$4:$E$21,3,FALSE())","v":3},"Competición","Catalana"]
["0822142","Jordá López, Carles","2C","C",{"$f":"VLOOKUP(C425,Referencias!$C$4:$D$21,2,FALSE())","v":"Segunda Corazón"},{"$f":"VLOOKUP(I425,Referencias!$B$24:$C$41,2,FALSE())","v":"CAT"},{"$f":"VLOOKUP(C425,Referencias!$C$4:$E$21,3,FALSE())","v":2},"Competición","Catalana"]
["0822143","Pérez Arbalat, Lourdes","2C","D",{"$f":"VLOOKUP(C426,Referencias!$C$4:$D$21,2,FALSE())","v":"Segunda Corazón"},{"$f":"VLOOKUP(I426,Referencias!$B$24:$C$41,2,FALSE())","v":"CAT"},{"$f":"VLOOKUP(C426,Referencias!$C$4:$E$21,3,FALSE())","v":2},"Competición","Catalana"]
["0822144","Espinosa Goedert, Teha","1C","D",{"$f":"VLOOKUP(C427,Referencias!$C$4:$D$21,2,FALSE())","v":"Primera Corazón"},{"$f":"VLOOKUP(I427,Referencias!$B$24:$C$41,2,FALSE())","v":"CAT"},{"$f":"VLOOKUP(C427,Referencias!$C$4:$E$21,3,FALSE())","v":1},"Competición","Catalana"]
["0822146","Alsina, Isabel","3D","D",{"$f":"VLOOKUP(C428,Referencias!$C$4:$D$21,2,FALSE())","v":"Tercera Diamante"},{"$f":"VLOOKUP(I428,Referencias!$B$24:$C$41,2,FALSE())","v":"CAT"},{"$f":"VLOOKUP(C428,Referencias!$C$4:$E$21,3,FALSE())","v":3},"Competición","Catalana"]
["0822151","Trias Folch, Nuria","2C","D",{"$f":"VLOOKUP(C429,Referencias!$C$4:$D$21,2,FALSE())","v":"Segunda Corazón"},{"$f":"VLOOKUP(I429,Referencias!$B$24:$C$41,2,FALSE())","v":"CAT"},{"$f":"VLOOKUP(C429,Referencias!$C$4:$E$21,3,FALSE())","v":2},"Competición","Catalana"]
["0822156","Blajot Domingo, Manuel","3D","C",{"$f":"VLOOKUP(C430,Referencias!$C$4:$D$21,2,FALSE())","v":"Tercera Diamante"},{"$f":"VLOOKUP(I430,Referencias!$B$24:$C$41,2,FALSE())","v":"ARA"},{"$f":"VLOOKUP(C430,Referencias!$C$4:$E$21,3,FALSE())","v":3},"Competición","Aragonesa"]
["0822161","Font Quer, Gabriela","1P","D",{"$f":"VLOOKUP(C431,Referencias!$C$4:$D$21,2,FALSE())","v":"Primera Picas"},{"$f":"VLOOKUP(I431,Referencias!$B$24:$C$41,2,FALSE())","v":"CAT"},{"$f":"VLOOKUP(C431,Referencias!$C$4:$E$21,3,FALSE())","v":1},"Competición","Catalana"]
["0822162","Brugueras Berenguer, José Antonio","1C","D",{"$f":"VLOOKUP(C432,Referencias!$C$4:$D$21,2,FALSE())","v":"Primera Corazón"},{"$f":"VLOOKUP(I432,Referencias!$B$24:$C$41,2,FALSE())","v":"CAT"},{"$f":"VLOOKUP(C432,Referencias!$C$4:$E$21,3,FALSE())","v":1},"Competición","Catalana"]
["0822173","Sáenz de Cabezón Millet, Marta","1C","D",{"$f":"VLOOKUP(C433,Referencias!$C$4:$D$21,2,FALSE())","v":"Primera Corazón"},{"$f":"VLOOKUP(I433,Referencias!$B$24:$C$41,2,FALSE())","v":"CAT"},{"$f":"VLOOKUP(C433,Referencias!$C$4:$E$21,3,FALSE())","v":1},"Competición","Catalana"]
["0822176","Frowein, Marisa","2C","D",{"$f":"VLOOKUP(C434,Referencias!$C$4:$D$21,2,FALSE())","v":"Segunda Corazón"},{"$f":"VLOOKUP(I434,Referencias!$B$24:$C$41,2,FALSE())","v":"CAT"},{"$f":"VLOOKUP(C434,Referencias!$C$4:$E$21,3,FALSE())","v":2},"Competición","Catalana"]
["0822177","Claville Maña, Montse","1C","D",{"$f":"VLOOKUP(C435,Referencias!$C$4:$D$21,2,FALSE())","v":"Primera Corazón"},{"$f":"VLOOKUP(I435,Referencias!$B$24:$C$41,2,FALSE())","v":"CAT"},{"$f":"VLOOKUP(C435,Referencias!$C$4:$E$21,3,FALSE())","v":1},"Competición","Catalana"]
["0822184","Zurita Moya, Pilar","3D","D",{"$f":"VLOOKUP(C436,Referencias!$C$4:$D$21,2,FALSE())","v":"Tercera Diamante"},{"$f":"VLOOKUP(I436,Referencias!$B$24:$C$41,2,FALSE())","v":"CAT"},{"$f":"VLOOKUP(C436,Referencias!$C$4:$E$21,3,FALSE())","v":3},"Competición","Catalana"]
["0822190","Roncero Escudero, Adela","3D","D",{"$f":"VLOOKUP(C437,Referencias!$C$4:$D$21,2,FALSE())","v":"Tercera Diamante"},{"$f":"VLOOKUP(I437,Referencias!$B$24:$C$41,2,FALSE())","v":"CAT"},{"$f":"VLOOKUP(C437,Referencias!$C$4:$E$21,3,FALSE())","v":3},"Competición","Catalana"]
["0822194","Suárez Planes, Nieves","3D","D",{"$f":"VLOOKUP(C438,Referencias!$C$4:$D$21,2,FALSE())","v":"Tercera Diamante"},{"$f":"VLOOKUP(I438,Referencias!$B$24:$C$41,2,FALSE())","v":"CAT"},{"$f":"VLOOKUP(C438,Referencias!$C$4:$E$21,3,FALSE())","v":3},"Competición","Catalana"]
["0822195","Capel Souto, Anna","2C","D",{"$f":"VLOOKUP(C439,Referencias!$C$4:$D$21,2,FALSE())","v":"Segunda Corazón"},{"$f":"VLOOKUP(I439,Referencias!$B$24:$C$41,2,FALSE())","v":"CAT"},{"$f":"VLOOKUP(C439,Referencias!$C$4:$E$21,3,FALSE())","v":2},"Competición","Catalana"]
["0822241","Marti Ruffo, Josep María","3D","C",{"$f":"VLOOKUP(C440,Referencias!$C$4:$D$21,2,FALSE())","v":"Tercera Diamante"},{"$f":"VLOOKUP(I440,Referencias!$B$24:$C$41,2,FALSE())","v":"CAT"},{"$f":"VLOOKUP(C440,Referencias!$C$4:$E$21,3,FALSE())","v":3},"Competición","Catalana"]
["0822245","Constanti Cuende, Arturo","2P","C",{"$f":"VLOOKUP(C441,Referencias!$C$4:$D$21,2,FALSE())","v":"Segunda Picas"},{"$f":"VLOOKUP(I441,Referencias!$B$24:$C$41,2,FALSE())","v":"CAT"},{"$f":"VLOOKUP(C441,Referencias!$C$4:$E$21,3,FALSE())","v":2},"Competición","Catalana"]
["0822251","Fondevila Nadal, José Antonio","3D","C",{"$f":"VLOOKUP(C442,Referencias!$C$4:$D$21,2,FALSE())","v":"Tercera Diamante"},{"$f":"VLOOKUP(I442,Referencias!$B$24:$C$41,2,FALSE())","v":"CAT"},{"$f":"VLOOKUP(C442,Referencias!$C$4:$E$21,3,FALSE())","v":3},"Competición","Catalana"]
["0822252","Marín Puig, Belén","3D","D",{"$f":"VLOOKUP(C443,Referencias!$C$4:$D$21,2,FALSE())","v":"Tercera Diamante"},{"$f":"VLOOKUP(I443,Referencias!$B$24:$C$41,2,FALSE())","v":"CAT"},{"$f":"VLOOKUP(C443,Referencias!$C$4:$E$21,3,FALSE())","v":3},"Competición","Catalana"]
["0822257","Lillo Espinosa, Rosa María","1C","D",{"$f":"VLOOKUP(C444,Referencias!$C$4:$D$21,2,FALSE())","v":"Primera Corazón"},{"$f":"VLOOKUP(I444,Referencias!$B$24:$C$41,2,FALSE())","v":"CAT"},{"$f":"VLOOKUP(C444,Referencias!$C$4:$E$21,3,FALSE())","v":1},"Competición","Catalana"]
["0822258","Pereiras Juan, Lidia","3D","D",{"$f":"VLOOKUP(C445,Referencias!$C$4:$D$21,2,FALSE())","v":"Tercera Diamante"},{"$f":"VLOOKUP(I445,Referencias!$B$24:$C$41,2,FALSE())","v":"CAT"},{"$f":"VLOOKUP(C445,Referencias!$C$4:$E$21,3,FALSE())","v":3},"Competición","Catalana"]
["0822260","Gerlach Kayser, Eva María","3D","D",{"$f":"VLOOKUP(C446,Referencias!$C$4:$D$21,2,FALSE())","v":"Tercera Diamante"},{"$f":"VLOOKUP(I446,Referencias!$B$24:$C$41,2,FALSE())","v":"CAT"},{"$f":"VLOOKUP(C446,Referencias!$C$4:$E$21,3,FALSE())","v":3},"Competición","Catalana"]
["0822261","Rodríguez Díaz, Montserrat","3D","D",{"$f":"VLOOKUP(C447,Referencias!$C$4:$D$21,2,FALSE())","v":"Tercera Diamante"},{"$f":"VLOOKUP(I447,Referencias!$B$24:$C$41,2,FALSE())","v":"CAT"},{"$f":"VLOOKUP(C447,Referencias!$C$4:$E$21,3,FALSE())","v":3},"Competición","Catalana"]
["0822262","Campo Aliagas, Mª Carmen","1P","D",{"$f":"VLOOKUP(C448,Referencias!$C$4:$D$21,2,FALSE())","v":"Primera Picas"},{"$f":"VLOOKUP(I448,Referencias!$B$24:$C$41,2,FALSE())","v":"CAT"},{"$f":"VLOOKUP(C448,Referencias!$C$4:$E$21,3,FALSE())","v":1},"Competición","Catalana"]
["0822269","Durán, Consuelo","3D","D",{"$f":"VLOOKUP(C449,Referencias!$C$4:$D$21,2,FALSE())","v":"Tercera Diamante"},{"$f":"VLOOKUP(I449,Referencias!$B$24:$C$41,2,FALSE())","v":"CAT"},{"$f":"VLOOKUP(C449,Referencias!$C$4:$E$21,3,FALSE())","v":3},"Competición","Catalana"]
["0822276","Pons Serra, Ana María","3D","D",{"$f":"VLOOKUP(C450,Referencias!$C$4:$D$21,2,FALSE())","v":"Tercera Diamante"},{"$f":"VLOOKUP(I450,Referencias!$B$24:$C$41,2,FALSE())","v":"CAT"},{"$f":"VLOOKUP(C450,Referencias!$C$4:$E$21,3,FALSE())","v":3},"Competición","Catalana"]
["0822281","Ortega Torres, Mercedes","2C","D",{"$f":"VLOOKUP(C451,Referencias!$C$4:$D$21,2,FALSE())","v":"Segunda Corazón"},{"$f":"VLOOKUP(I451,Referencias!$B$24:$C$41,2,FALSE())","v":"CAT"},{"$f":"VLOOKUP(C451,Referencias!$C$4:$E$21,3,FALSE())","v":2},"Competición","Catalana"]
["0822284","Sabanes, Montse","3D","D",{"$f":"VLOOKUP(C452,Referencias!$C$4:$D$21,2,FALSE())","v":"Tercera Diamante"},{"$f":"VLOOKUP(I452,Referencias!$B$24:$C$41,2,FALSE())","v":"CAT"},{"$f":"VLOOKUP(C452,Referencias!$C$4:$E$21,3,FALSE())","v":3},"Competición","Catalana"]
["0822291","Díaz, Ana","3D","D",{"$f":"VLOOKUP(C453,Referencias!$C$4:$D$21,2,FALSE())","v":"Tercera Diamante"},{"$f":"VLOOKUP(I453,Referencias!$B$24:$C$41,2,FALSE())","v":"CAT"},{"$f":"VLOOKUP(C453,Referencias!$C$4:$E$21,3,FALSE())","v":3},"Competición","Catalana"]
["0822294","Verge Grau, María","3D","D",{"$f":"VLOOKUP(C454,Referencias!$C$4:$D$21,2,FALSE())","v":"Tercera Diamante"},{"$f":"VLOOKUP(I454,Referencias!$B$24:$C$41,2,FALSE())","v":"CAT"},{"$f":"VLOOKUP(C454,Referencias!$C$4:$E$21,3,FALSE())","v":3},"Competición","Catalana"]
["0822296","García Arbex, Juan José","3D","C",{"$f":"VLOOKUP(C455,Referencias!$C$4:$D$21,2,FALSE())","v":"Tercera Diamante"},{"$f":"VLOOKUP(I455,Referencias!$B$24:$C$41,2,FALSE())","v":"CAT"},{"$f":"VLOOKUP(C455,Referencias!$C$4:$E$21,3,FALSE())","v":3},"Competición","Catalana"]
["0822297","Marinel Lo Amat, Juan","3D","C",{"$f":"VLOOKUP(C456,Referencias!$C$4:$D$21,2,FALSE())","v":"Tercera Diamante"},{"$f":"VLOOKUP(I456,Referencias!$B$24:$C$41,2,FALSE())","v":"CAT"},{"$f":"VLOOKUP(C456,Referencias!$C$4:$E$21,3,FALSE())","v":3},"Competición","Catalana"]
["0822302","García Canet, María Ángeles","1C","D",{"$f":"VLOOKUP(C457,Referencias!$C$4:$D$21,2,FALSE())","v":"Primera Corazón"},{"$f":"VLOOKUP(I457,Referencias!$B$24:$C$41,2,FALSE())","v":"CAT"},{"$f":"VLOOKUP(C457,Referencias!$C$4:$E$21,3,FALSE())","v":1},"Competición","Catalana"]
["0822303","Yagüe Romero, Juan José","1C","C",{"$f":"VLOOKUP(C458,Referencias!$C$4:$D$21,2,FALSE())","v":"Primera Corazón"},{"$f":"VLOOKUP(I458,Referencias!$B$24:$C$41,2,FALSE())","v":"CAT"},{"$f":"VLOOKUP(C458,Referencias!$C$4:$E$21,3,FALSE())","v":1},"Competición","Catalana"]
["0822306","Wendt, Teresa María","3D","D",{"$f":"VLOOKUP(C459,Referencias!$C$4:$D$21,2,FALSE())","v":"Tercera Diamante"},{"$f":"VLOOKUP(I459,Referencias!$B$24:$C$41,2,FALSE())","v":"CAT"},{"$f":"VLOOKUP(C459,Referencias!$C$4:$E$21,3,FALSE())","v":3},"Competición","Catalana"]
["0822317","Pallares Just, Nuria","1C","D",{"$f":"VLOOKUP(C460,Referencias!$C$4:$D$21,2,FALSE())","v":"Primera Corazón"},{"$f":"VLOOKUP(I460,Referencias!$B$24:$C$41,2,FALSE())","v":"CAT"},{"$f":"VLOOKUP(C460,Referencias!$C$4:$E$21,3,FALSE())","v":1},"Competición","Catalana"]
["0822318","Gras de Molins, Miguel","1C","C",{"$f":"VLOOKUP(C461,Referencias!$C$4:$D$21,2,FALSE())","v":"Primera Corazón"},{"$f":"VLOOKUP(I461,Referencias!$B$24:$C$41,2,FALSE())","v":"CAT"},{"$f":"VLOOKUP(C461,Referencias!$C$4:$E$21,3,FALSE())","v":1},"Competición","Catalana"]
["0822320","Sagimón de Falcón, Janet","3D","D",{"$f":"VLOOKUP(C462,Referencias!$C$4:$D$21,2,FALSE())","v":"Tercera Diamante"},{"$f":"VLOOKUP(I462,Referencias!$B$24:$C$41,2,FALSE())","v":"CAT"},{"$f":"VLOOKUP(C462,Referencias!$C$4:$E$21,3,FALSE())","v":3},"Competición","Catalana"]
["0822324","Esquirol Zuloaga, Ignacio","3D","C",{"$f":"VLOOKUP(C463,Referencias!$C$4:$D$21,2,FALSE())","v":"Tercera Diamante"},{"$f":"VLOOKUP(I463,Referencias!$B$24:$C$41,2,FALSE())","v":"CAT"},{"$f":"VLOOKUP(C463,Referencias!$C$4:$E$21,3,FALSE())","v":3},"Competición","Catalana"]
["0822332","Segura Cros, Mónica","2C","D",{"$f":"VLOOKUP(C464,Referencias!$C$4:$D$21,2,FALSE())","v":"Segunda Corazón"},{"$f":"VLOOKUP(I464,Referencias!$B$24:$C$41,2,FALSE())","v":"CAT"},{"$f":"VLOOKUP(C464,Referencias!$C$4:$E$21,3,FALSE())","v":2},"Competición","Catalana"]
["0822351","Seinen, Siger","3D","C",{"$f":"VLOOKUP(C465,Referencias!$C$4:$D$21,2,FALSE())","v":"Tercera Diamante"},{"$f":"VLOOKUP(I465,Referencias!$B$24:$C$41,2,FALSE())","v":"CAT"},{"$f":"VLOOKUP(C465,Referencias!$C$4:$E$21,3,FALSE())","v":3},"Competición","Catalana"]
["0822368","Pongiluppi Junca, Angels","3D","D",{"$f":"VLOOKUP(C466,Referencias!$C$4:$D$21,2,FALSE())","v":"Tercera Diamante"},{"$f":"VLOOKUP(I466,Referencias!$B$24:$C$41,2,FALSE())","v":"CAT"},{"$f":"VLOOKUP(C466,Referencias!$C$4:$E$21,3,FALSE())","v":3},"Competición","Catalana"]
["0822371","Delgado Garriga, Ana","3D","D",{"$f":"VLOOKUP(C467,Referencias!$C$4:$D$21,2,FALSE())","v":"Tercera Diamante"},{"$f":"VLOOKUP(I467,Referencias!$B$24:$C$41,2,FALSE())","v":"CAT"},{"$f":"VLOOKUP(C467,Referencias!$C$4:$E$21,3,FALSE())","v":3},"Competición","Catalana"]
["0822376","González Callejo, José","1P","C",{"$f":"VLOOKUP(C468,Referencias!$C$4:$D$21,2,FALSE())","v":"Primera Picas"},{"$f":"VLOOKUP(I468,Referencias!$B$24:$C$41,2,FALSE())","v":"CAT"},{"$f":"VLOOKUP(C468,Referencias!$C$4:$E$21,3,FALSE())","v":1},"Competición","Catalana"]
["0822377","García González, Moises","3D","C",{"$f":"VLOOKUP(C469,Referencias!$C$4:$D$21,2,FALSE())","v":"Tercera Diamante"},{"$f":"VLOOKUP(I469,Referencias!$B$24:$C$41,2,FALSE())","v":"P.AST"},{"$f":"VLOOKUP(C469,Referencias!$C$4:$E$21,3,FALSE())","v":3},"Competición","Asturiana"]
["0822382","Moure Sanjurjo, Teresa","1P","D",{"$f":"VLOOKUP(C470,Referencias!$C$4:$D$21,2,FALSE())","v":"Primera Picas"},{"$f":"VLOOKUP(I470,Referencias!$B$24:$C$41,2,FALSE())","v":"CAT"},{"$f":"VLOOKUP(C470,Referencias!$C$4:$E$21,3,FALSE())","v":1},"Competición","Catalana"]
["0822386","Salvany Rius, Joaquim Jordi","1P","C",{"$f":"VLOOKUP(C471,Referencias!$C$4:$D$21,2,FALSE())","v":"Primera Picas"},{"$f":"VLOOKUP(I471,Referencias!$B$24:$C$41,2,FALSE())","v":"CAT"},{"$f":"VLOOKUP(C471,Referencias!$C$4:$E$21,3,FALSE())","v":1},"Competición","Catalana"]
["0822393","Bigas Bonamusa, Jaume","1C","C",{"$f":"VLOOKUP(C472,Referencias!$C$4:$D$21,2,FALSE())","v":"Primera Corazón"},{"$f":"VLOOKUP(I472,Referencias!$B$24:$C$41,2,FALSE())","v":"CAT"},{"$f":"VLOOKUP(C472,Referencias!$C$4:$E$21,3,FALSE())","v":1},"Competición","Catalana"]
["0822395","Romeu Llaudet, Lluis","3D","C",{"$f":"VLOOKUP(C473,Referencias!$C$4:$D$21,2,FALSE())","v":"Tercera Diamante"},{"$f":"VLOOKUP(I473,Referencias!$B$24:$C$41,2,FALSE())","v":"CAT"},{"$f":"VLOOKUP(C473,Referencias!$C$4:$E$21,3,FALSE())","v":3},"Competición","Catalana"]
["0822397","Cabestany Illana, Eva","1P","D",{"$f":"VLOOKUP(C474,Referencias!$C$4:$D$21,2,FALSE())","v":"Primera Picas"},{"$f":"VLOOKUP(I474,Referencias!$B$24:$C$41,2,FALSE())","v":"CAT"},{"$f":"VLOOKUP(C474,Referencias!$C$4:$E$21,3,FALSE())","v":1},"Competición","Catalana"]
["0822400","Gual Feliu, Victoria","3D","D",{"$f":"VLOOKUP(C475,Referencias!$C$4:$D$21,2,FALSE())","v":"Tercera Diamante"},{"$f":"VLOOKUP(I475,Referencias!$B$24:$C$41,2,FALSE())","v":"CAT"},{"$f":"VLOOKUP(C475,Referencias!$C$4:$E$21,3,FALSE())","v":3},"Competición","Catalana"]
["0822402","Jaulent Iglesias, Esther","1P","D",{"$f":"VLOOKUP(C476,Referencias!$C$4:$D$21,2,FALSE())","v":"Primera Picas"},{"$f":"VLOOKUP(I476,Referencias!$B$24:$C$41,2,FALSE())","v":"CAT"},{"$f":"VLOOKUP(C476,Referencias!$C$4:$E$21,3,FALSE())","v":1},"Competición","Catalana"]
["0822403","Massot, Eva","3D","D",{"$f":"VLOOKUP(C477,Referencias!$C$4:$D$21,2,FALSE())","v":"Tercera Diamante"},{"$f":"VLOOKUP(I477,Referencias!$B$24:$C$41,2,FALSE())","v":"CAT"},{"$f":"VLOOKUP(C477,Referencias!$C$4:$E$21,3,FALSE())","v":3},"Competición","Catalana"]
["0822404","González, María Pilar","3D","D",{"$f":"VLOOKUP(C478,Referencias!$C$4:$D$21,2,FALSE())","v":"Tercera Diamante"},{"$f":"VLOOKUP(I478,Referencias!$B$24:$C$41,2,FALSE())","v":"CAT"},{"$f":"VLOOKUP(C478,Referencias!$C$4:$E$21,3,FALSE())","v":3},"Competición","Catalana"]
["0822405","Lliso Lis, Elisabet","2C","D",{"$f":"VLOOKUP(C479,Referencias!$C$4:$D$21,2,FALSE())","v":"Segunda Corazón"},{"$f":"VLOOKUP(I479,Referencias!$B$24:$C$41,2,FALSE())","v":"CAT"},{"$f":"VLOOKUP(C479,Referencias!$C$4:$E$21,3,FALSE())","v":2},"Competición","Catalana"]
["0822408","Villalobos, Xavier","2C","C",{"$f":"VLOOKUP(C480,Referencias!$C$4:$D$21,2,FALSE())","v":"Segunda Corazón"},{"$f":"VLOOKUP(I480,Referencias!$B$24:$C$41,2,FALSE())","v":"CAT"},{"$f":"VLOOKUP(C480,Referencias!$C$4:$E$21,3,FALSE())","v":2},"Competición","Catalana"]
["0822412","Nieto Ibañez, Juan Manuel","3D","C",{"$f":"VLOOKUP(C481,Referencias!$C$4:$D$21,2,FALSE())","v":"Tercera Diamante"},{"$f":"VLOOKUP(I481,Referencias!$B$24:$C$41,2,FALSE())","v":"CAT"},{"$f":"VLOOKUP(C481,Referencias!$C$4:$E$21,3,FALSE())","v":3},"Competición","Catalana"]
["0822413","Bisbal Lafoz, Antoni","3D","C",{"$f":"VLOOKUP(C482,Referencias!$C$4:$D$21,2,FALSE())","v":"Tercera Diamante"},{"$f":"VLOOKUP(I482,Referencias!$B$24:$C$41,2,FALSE())","v":"CAT"},{"$f":"VLOOKUP(C482,Referencias!$C$4:$E$21,3,FALSE())","v":3},"Competición","Catalana"]
["0822415","Serra Sanz, Meritxell","3D","D",{"$f":"VLOOKUP(C483,Referencias!$C$4:$D$21,2,FALSE())","v":"Tercera Diamante"},{"$f":"VLOOKUP(I483,Referencias!$B$24:$C$41,2,FALSE())","v":"CAT"},{"$f":"VLOOKUP(C483,Referencias!$C$4:$E$21,3,FALSE())","v":3},"Competición","Catalana"]
["0822417","Palomas Prat, Montserrat","3D","D",{"$f":"VLOOKUP(C484,Referencias!$C$4:$D$21,2,FALSE())","v":"Tercera Diamante"},{"$f":"VLOOKUP(I484,Referencias!$B$24:$C$41,2,FALSE())","v":"CAT"},{"$f":"VLOOKUP(C484,Referencias!$C$4:$E$21,3,FALSE())","v":3},"Competición","Catalana"]
["0822421","Ballabriga Muñoz, Pilar","3D","D",{"$f":"VLOOKUP(C485,Referencias!$C$4:$D$21,2,FALSE())","v":"Tercera Diamante"},{"$f":"VLOOKUP(I485,Referencias!$B$24:$C$41,2,FALSE())","v":"CAT"},{"$f":"VLOOKUP(C485,Referencias!$C$4:$E$21,3,FALSE())","v":3},"Competición","Catalana"]
["0822424","Torrents Carcasona, Pepita","3D","D",{"$f":"VLOOKUP(C486,Referencias!$C$4:$D$21,2,FALSE())","v":"Tercera Diamante"},{"$f":"VLOOKUP(I486,Referencias!$B$24:$C$41,2,FALSE())","v":"CAT"},{"$f":"VLOOKUP(C486,Referencias!$C$4:$E$21,3,FALSE())","v":3},"Competición","Catalana"]
["0822425","Masso Ubeda, Marta","3D","D",{"$f":"VLOOKUP(C487,Referencias!$C$4:$D$21,2,FALSE())","v":"Tercera Diamante"},{"$f":"VLOOKUP(I487,Referencias!$B$24:$C$41,2,FALSE())","v":"CAT"},{"$f":"VLOOKUP(C487,Referencias!$C$4:$E$21,3,FALSE())","v":3},"Competición","Catalana"]
["0822434","Rotes Mas, Carmen","3D","D",{"$f":"VLOOKUP(C488,Referencias!$C$4:$D$21,2,FALSE())","v":"Tercera Diamante"},{"$f":"VLOOKUP(I488,Referencias!$B$24:$C$41,2,FALSE())","v":"CAT"},{"$f":"VLOOKUP(C488,Referencias!$C$4:$E$21,3,FALSE())","v":3},"Competición","Catalana"]
["0822436","Torner Busom, Silvia","3D","D",{"$f":"VLOOKUP(C489,Referencias!$C$4:$D$21,2,FALSE())","v":"Tercera Diamante"},{"$f":"VLOOKUP(I489,Referencias!$B$24:$C$41,2,FALSE())","v":"CAT"},{"$f":"VLOOKUP(C489,Referencias!$C$4:$E$21,3,FALSE())","v":3},"Competición","Catalana"]
["0822440","Llagostera Soto, Esther","1C","D",{"$f":"VLOOKUP(C490,Referencias!$C$4:$D$21,2,FALSE())","v":"Primera Corazón"},{"$f":"VLOOKUP(I490,Referencias!$B$24:$C$41,2,FALSE())","v":"CAT"},{"$f":"VLOOKUP(C490,Referencias!$C$4:$E$21,3,FALSE())","v":1},"Competición","Catalana"]
["0822442","Rodríguez Gil, Javier","3D","C",{"$f":"VLOOKUP(C491,Referencias!$C$4:$D$21,2,FALSE())","v":"Tercera Diamante"},{"$f":"VLOOKUP(I491,Referencias!$B$24:$C$41,2,FALSE())","v":"CAT"},{"$f":"VLOOKUP(C491,Referencias!$C$4:$E$21,3,FALSE())","v":3},"Competición","Catalana"]
["0822444","Menéndez López, María Rosario","3C","D",{"$f":"VLOOKUP(C492,Referencias!$C$4:$D$21,2,FALSE())","v":"Tercera Corazón"},{"$f":"VLOOKUP(I492,Referencias!$B$24:$C$41,2,FALSE())","v":"CAT"},{"$f":"VLOOKUP(C492,Referencias!$C$4:$E$21,3,FALSE())","v":3},"Competición","Catalana"]
["0822449","Madrazo Serna, José Manuel","1C","C",{"$f":"VLOOKUP(C493,Referencias!$C$4:$D$21,2,FALSE())","v":"Primera Corazón"},{"$f":"VLOOKUP(I493,Referencias!$B$24:$C$41,2,FALSE())","v":"CAT"},{"$f":"VLOOKUP(C493,Referencias!$C$4:$E$21,3,FALSE())","v":1},"Competición","Catalana"]
["0822451","Linares del Valle, Joaquina","1C","D",{"$f":"VLOOKUP(C494,Referencias!$C$4:$D$21,2,FALSE())","v":"Primera Corazón"},{"$f":"VLOOKUP(I494,Referencias!$B$24:$C$41,2,FALSE())","v":"CAT"},{"$f":"VLOOKUP(C494,Referencias!$C$4:$E$21,3,FALSE())","v":1},"Competición","Catalana"]
["0822452","Benmayor, Claire","3D","D",{"$f":"VLOOKUP(C495,Referencias!$C$4:$D$21,2,FALSE())","v":"Tercera Diamante"},{"$f":"VLOOKUP(I495,Referencias!$B$24:$C$41,2,FALSE())","v":"CAT"},{"$f":"VLOOKUP(C495,Referencias!$C$4:$E$21,3,FALSE())","v":3},"Competición","Catalana"]
["0822462","Coma Barba, Marti","2C","C",{"$f":"VLOOKUP(C496,Referencias!$C$4:$D$21,2,FALSE())","v":"Segunda Corazón"},{"$f":"VLOOKUP(I496,Referencias!$B$24:$C$41,2,FALSE())","v":"CAT"},{"$f":"VLOOKUP(C496,Referencias!$C$4:$E$21,3,FALSE())","v":2},"Competición","Catalana"]
["0822463","Agut, Tomás","1C","C",{"$f":"VLOOKUP(C497,Referencias!$C$4:$D$21,2,FALSE())","v":"Primera Corazón"},{"$f":"VLOOKUP(I497,Referencias!$B$24:$C$41,2,FALSE())","v":"CAT"},{"$f":"VLOOKUP(C497,Referencias!$C$4:$E$21,3,FALSE())","v":1},"Competición","Catalana"]
["0822464","Casals Fradera, Juan","3D","C",{"$f":"VLOOKUP(C498,Referencias!$C$4:$D$21,2,FALSE())","v":"Tercera Diamante"},{"$f":"VLOOKUP(I498,Referencias!$B$24:$C$41,2,FALSE())","v":"CAT"},{"$f":"VLOOKUP(C498,Referencias!$C$4:$E$21,3,FALSE())","v":3},"Competición","Catalana"]
["0822465","Flotats Moya, Teresa","3D","D",{"$f":"VLOOKUP(C499,Referencias!$C$4:$D$21,2,FALSE())","v":"Tercera Diamante"},{"$f":"VLOOKUP(I499,Referencias!$B$24:$C$41,2,FALSE())","v":"CAT"},{"$f":"VLOOKUP(C499,Referencias!$C$4:$E$21,3,FALSE())","v":3},"Competición","Catalana"]
["0822466","Pascual Ruiz, Carles","3D","C",{"$f":"VLOOKUP(C500,Referencias!$C$4:$D$21,2,FALSE())","v":"Tercera Diamante"},{"$f":"VLOOKUP(I500,Referencias!$B$24:$C$41,2,FALSE())","v":"CAT"},{"$f":"VLOOKUP(C500,Referencias!$C$4:$E$21,3,FALSE())","v":3},"Competición","Catalana"]
["0822467","Perez Delgado, Alfonso","3D","C",{"$f":"VLOOKUP(C501,Referencias!$C$4:$D$21,2,FALSE())","v":"Tercera Diamante"},{"$f":"VLOOKUP(I501,Referencias!$B$24:$C$41,2,FALSE())","v":"CAT"},{"$f":"VLOOKUP(C501,Referencias!$C$4:$E$21,3,FALSE())","v":3},"Competición","Catalana"]
["0822468","Terol Rubiols, Josep","3D","C",{"$f":"VLOOKUP(C502,Referencias!$C$4:$D$21,2,FALSE())","v":"Tercera Diamante"},{"$f":"VLOOKUP(I502,Referencias!$B$24:$C$41,2,FALSE())","v":"CAT"},{"$f":"VLOOKUP(C502,Referencias!$C$4:$E$21,3,FALSE())","v":3},"Competición","Catalana"]
["0822473","Segura Cros, Sonia","2C","D",{"$f":"VLOOKUP(C503,Referencias!$C$4:$D$21,2,FALSE())","v":"Segunda Corazón"},{"$f":"VLOOKUP(I503,Referencias!$B$24:$C$41,2,FALSE())","v":"CAT"},{"$f":"VLOOKUP(C503,Referencias!$C$4:$E$21,3,FALSE())","v":2},"Competición","Catalana"]
["0822475","Piqué Pomes, María Rosa","3D","D",{"$f":"VLOOKUP(C504,Referencias!$C$4:$D$21,2,FALSE())","v":"Tercera Diamante"},{"$f":"VLOOKUP(I504,Referencias!$B$24:$C$41,2,FALSE())","v":"CAT"},{"$f":"VLOOKUP(C504,Referencias!$C$4:$E$21,3,FALSE())","v":3},"Competición","Catalana"]
["0822476","Prats Valls, Antonia","3D","D",{"$f":"VLOOKUP(C505,Referencias!$C$4:$D$21,2,FALSE())","v":"Tercera Diamante"},{"$f":"VLOOKUP(I505,Referencias!$B$24:$C$41,2,FALSE())","v":"CAT"},{"$f":"VLOOKUP(C505,Referencias!$C$4:$E$21,3,FALSE())","v":3},"Competición","Catalana"]
["0822478","Tobias Kay, Jonattan","3D","C",{"$f":"VLOOKUP(C506,Referencias!$C$4:$D$21,2,FALSE())","v":"Tercera Diamante"},{"$f":"VLOOKUP(I506,Referencias!$B$24:$C$41,2,FALSE())","v":"CAT"},{"$f":"VLOOKUP(C506,Referencias!$C$4:$E$21,3,FALSE())","v":3},"Competición","Catalana"]
["0822479","Carulla Puyuelo, Aurea","3D","D",{"$f":"VLOOKUP(C507,Referencias!$C$4:$D$21,2,FALSE())","v":"Tercera Diamante"},{"$f":"VLOOKUP(I507,Referencias!$B$24:$C$41,2,FALSE())","v":"CAT"},{"$f":"VLOOKUP(C507,Referencias!$C$4:$E$21,3,FALSE())","v":3},"Competición","Catalana"]
["0822488","Sala Gallart, María","3D","D",{"$f":"VLOOKUP(C508,Referencias!$C$4:$D$21,2,FALSE())","v":"Tercera Diamante"},{"$f":"VLOOKUP(I508,Referencias!$B$24:$C$41,2,FALSE())","v":"CAT"},{"$f":"VLOOKUP(C508,Referencias!$C$4:$E$21,3,FALSE())","v":3},"Competición","Catalana"]
["0822490","Vilaseca, Fatima","3D","D",{"$f":"VLOOKUP(C509,Referencias!$C$4:$D$21,2,FALSE())","v":"Tercera Diamante"},{"$f":"VLOOKUP(I509,Referencias!$B$24:$C$41,2,FALSE())","v":"CAT"},{"$f":"VLOOKUP(C509,Referencias!$C$4:$E$21,3,FALSE())","v":3},"Competición","Catalana"]
["0822492","Martínez Ubeda, Ricardo","3D","C",{"$f":"VLOOKUP(C510,Referencias!$C$4:$D$21,2,FALSE())","v":"Tercera Diamante"},{"$f":"VLOOKUP(I510,Referencias!$B$24:$C$41,2,FALSE())","v":"CAT"},{"$f":"VLOOKUP(C510,Referencias!$C$4:$E$21,3,FALSE())","v":3},"Competición","Catalana"]
["0822495","Jorge Guixens, Alicia","3D","D",{"$f":"VLOOKUP(C511,Referencias!$C$4:$D$21,2,FALSE())","v":"Tercera Diamante"},{"$f":"VLOOKUP(I511,Referencias!$B$24:$C$41,2,FALSE())","v":"CAT"},{"$f":"VLOOKUP(C511,Referencias!$C$4:$E$21,3,FALSE())","v":3},"Competición","Catalana"]
["0822496","Segura Cros, Bibiana","3D","D",{"$f":"VLOOKUP(C512,Referencias!$C$4:$D$21,2,FALSE())","v":"Tercera Diamante"},{"$f":"VLOOKUP(I512,Referencias!$B$24:$C$41,2,FALSE())","v":"CAT"},{"$f":"VLOOKUP(C512,Referencias!$C$4:$E$21,3,FALSE())","v":3},"Competición","Catalana"]
["0822497","Guix Melcior, Benjamin","3D","C",{"$f":"VLOOKUP(C513,Referencias!$C$4:$D$21,2,FALSE())","v":"Tercera Diamante"},{"$f":"VLOOKUP(I513,Referencias!$B$24:$C$41,2,FALSE())","v":"CAT"},{"$f":"VLOOKUP(C513,Referencias!$C$4:$E$21,3,FALSE())","v":3},"Competición","Catalana"]
["0822498","Sempere Compte, Santiago","3D","C",{"$f":"VLOOKUP(C514,Referencias!$C$4:$D$21,2,FALSE())","v":"Tercera Diamante"},{"$f":"VLOOKUP(I514,Referencias!$B$24:$C$41,2,FALSE())","v":"CAT"},{"$f":"VLOOKUP(C514,Referencias!$C$4:$E$21,3,FALSE())","v":3},"Competición","Catalana"]
["0822504","Millet, Isa","3D","D",{"$f":"VLOOKUP(C515,Referencias!$C$4:$D$21,2,FALSE())","v":"Tercera Diamante"},{"$f":"VLOOKUP(I515,Referencias!$B$24:$C$41,2,FALSE())","v":"CAT"},{"$f":"VLOOKUP(C515,Referencias!$C$4:$E$21,3,FALSE())","v":3},"Competición","Catalana"]
["0822505","Fijo, Rosana","3D","D",{"$f":"VLOOKUP(C516,Referencias!$C$4:$D$21,2,FALSE())","v":"Tercera Diamante"},{"$f":"VLOOKUP(I516,Referencias!$B$24:$C$41,2,FALSE())","v":"CAT"},{"$f":"VLOOKUP(C516,Referencias!$C$4:$E$21,3,FALSE())","v":3},"Competición","Catalana"]
["0822508","Sauquet Rovira, Francisca","3D","D",{"$f":"VLOOKUP(C517,Referencias!$C$4:$D$21,2,FALSE())","v":"Tercera Diamante"},{"$f":"VLOOKUP(I517,Referencias!$B$24:$C$41,2,FALSE())","v":"CAT"},{"$f":"VLOOKUP(C517,Referencias!$C$4:$E$21,3,FALSE())","v":3},"Competición","Catalana"]
["0822510","Palet Duran, Carlos","3D","C",{"$f":"VLOOKUP(C518,Referencias!$C$4:$D$21,2,FALSE())","v":"Tercera Diamante"},{"$f":"VLOOKUP(I518,Referencias!$B$24:$C$41,2,FALSE())","v":"CAT"},{"$f":"VLOOKUP(C518,Referencias!$C$4:$E$21,3,FALSE())","v":3},"Competición","Catalana"]
["0822512","Guirao Querol, Josep Mª","2C","C",{"$f":"VLOOKUP(C519,Referencias!$C$4:$D$21,2,FALSE())","v":"Segunda Corazón"},{"$f":"VLOOKUP(I519,Referencias!$B$24:$C$41,2,FALSE())","v":"CAT"},{"$f":"VLOOKUP(C519,Referencias!$C$4:$E$21,3,FALSE())","v":2},"Competición","Catalana"]
["0822514","Callejo Olmos, Justo","1C","C",{"$f":"VLOOKUP(C520,Referencias!$C$4:$D$21,2,FALSE())","v":"Primera Corazón"},{"$f":"VLOOKUP(I520,Referencias!$B$24:$C$41,2,FALSE())","v":"ARA"},{"$f":"VLOOKUP(C520,Referencias!$C$4:$E$21,3,FALSE())","v":1},"Competición","Aragonesa"]
["0822515","Castillo de la Rosa, Elena","1C","D",{"$f":"VLOOKUP(C521,Referencias!$C$4:$D$21,2,FALSE())","v":"Primera Corazón"},{"$f":"VLOOKUP(I521,Referencias!$B$24:$C$41,2,FALSE())","v":"ARA"},{"$f":"VLOOKUP(C521,Referencias!$C$4:$E$21,3,FALSE())","v":1},"Competición","Aragonesa"]
["0822519","Larumbe Espinosa, Patricia","3D","D",{"$f":"VLOOKUP(C522,Referencias!$C$4:$D$21,2,FALSE())","v":"Tercera Diamante"},{"$f":"VLOOKUP(I522,Referencias!$B$24:$C$41,2,FALSE())","v":"CAT"},{"$f":"VLOOKUP(C522,Referencias!$C$4:$E$21,3,FALSE())","v":3},"Competición","Catalana"]
["0822520","Jaumot Gabana, Margarita","1C","D",{"$f":"VLOOKUP(C523,Referencias!$C$4:$D$21,2,FALSE())","v":"Primera Corazón"},{"$f":"VLOOKUP(I523,Referencias!$B$24:$C$41,2,FALSE())","v":"CAT"},{"$f":"VLOOKUP(C523,Referencias!$C$4:$E$21,3,FALSE())","v":1},"Competición","Catalana"]
["0822522","Puerto Moreno, Daniel","1P","C",{"$f":"VLOOKUP(C524,Referencias!$C$4:$D$21,2,FALSE())","v":"Primera Picas"},{"$f":"VLOOKUP(I524,Referencias!$B$24:$C$41,2,FALSE())","v":"CAT"},{"$f":"VLOOKUP(C524,Referencias!$C$4:$E$21,3,FALSE())","v":1},"Competición","Catalana"]
["0822531","Gazulla Baldenas, Fermín","2P","C",{"$f":"VLOOKUP(C525,Referencias!$C$4:$D$21,2,FALSE())","v":"Segunda Picas"},{"$f":"VLOOKUP(I525,Referencias!$B$24:$C$41,2,FALSE())","v":"CAT"},{"$f":"VLOOKUP(C525,Referencias!$C$4:$E$21,3,FALSE())","v":2},"Competición","Catalana"]
["0822532","Fuentes Pinto, Joan","3D","C",{"$f":"VLOOKUP(C526,Referencias!$C$4:$D$21,2,FALSE())","v":"Tercera Diamante"},{"$f":"VLOOKUP(I526,Referencias!$B$24:$C$41,2,FALSE())","v":"CAT"},{"$f":"VLOOKUP(C526,Referencias!$C$4:$E$21,3,FALSE())","v":3},"Competición","Catalana"]
["0822538","Rafecas Ventosa, Jordi","1P","C",{"$f":"VLOOKUP(C527,Referencias!$C$4:$D$21,2,FALSE())","v":"Primera Picas"},{"$f":"VLOOKUP(I527,Referencias!$B$24:$C$41,2,FALSE())","v":"CAT"},{"$f":"VLOOKUP(C527,Referencias!$C$4:$E$21,3,FALSE())","v":1},"Junior","Catalana"]
["0822539","Lasurt Massanes, Josep","3P","C",{"$f":"VLOOKUP(C528,Referencias!$C$4:$D$21,2,FALSE())","v":"Tercera Picas"},{"$f":"VLOOKUP(I528,Referencias!$B$24:$C$41,2,FALSE())","v":"CAT"},{"$f":"VLOOKUP(C528,Referencias!$C$4:$E$21,3,FALSE())","v":3},"Competición","Catalana"]
["0822541","Fonseca Mañez, Carmen","3D","D",{"$f":"VLOOKUP(C529,Referencias!$C$4:$D$21,2,FALSE())","v":"Tercera Diamante"},{"$f":"VLOOKUP(I529,Referencias!$B$24:$C$41,2,FALSE())","v":"CAT"},{"$f":"VLOOKUP(C529,Referencias!$C$4:$E$21,3,FALSE())","v":3},"Competición","Catalana"]
["0822542","Le Monnier Gotor, Ana","3D","D",{"$f":"VLOOKUP(C530,Referencias!$C$4:$D$21,2,FALSE())","v":"Tercera Diamante"},{"$f":"VLOOKUP(I530,Referencias!$B$24:$C$41,2,FALSE())","v":"CAT"},{"$f":"VLOOKUP(C530,Referencias!$C$4:$E$21,3,FALSE())","v":3},"Competición","Catalana"]
["0822545","Palau Ponsa, Francesc","3P","C",{"$f":"VLOOKUP(C531,Referencias!$C$4:$D$21,2,FALSE())","v":"Tercera Picas"},{"$f":"VLOOKUP(I531,Referencias!$B$24:$C$41,2,FALSE())","v":"CAT"},{"$f":"VLOOKUP(C531,Referencias!$C$4:$E$21,3,FALSE())","v":3},"Competición","Catalana"]
["0822546","Bascones Gleave, Juan","1P","C",{"$f":"VLOOKUP(C532,Referencias!$C$4:$D$21,2,FALSE())","v":"Primera Picas"},{"$f":"VLOOKUP(I532,Referencias!$B$24:$C$41,2,FALSE())","v":"CAT"},{"$f":"VLOOKUP(C532,Referencias!$C$4:$E$21,3,FALSE())","v":1},"Competición","Catalana"]
["0822551","Rouco Barez, Maria Teresa","3D","D",{"$f":"VLOOKUP(C533,Referencias!$C$4:$D$21,2,FALSE())","v":"Tercera Diamante"},{"$f":"VLOOKUP(I533,Referencias!$B$24:$C$41,2,FALSE())","v":"CAT"},{"$f":"VLOOKUP(C533,Referencias!$C$4:$E$21,3,FALSE())","v":3},"Competición","Catalana"]
["0822557","Blan Acha-Orbea, Mercedes","3D","D",{"$f":"VLOOKUP(C534,Referencias!$C$4:$D$21,2,FALSE())","v":"Tercera Diamante"},{"$f":"VLOOKUP(I534,Referencias!$B$24:$C$41,2,FALSE())","v":"CAT"},{"$f":"VLOOKUP(C534,Referencias!$C$4:$E$21,3,FALSE())","v":3},"Competición","Catalana"]
["0822561","Marti Aixela, Montse","3D","D",{"$f":"VLOOKUP(C535,Referencias!$C$4:$D$21,2,FALSE())","v":"Tercera Diamante"},{"$f":"VLOOKUP(I535,Referencias!$B$24:$C$41,2,FALSE())","v":"CAT"},{"$f":"VLOOKUP(C535,Referencias!$C$4:$E$21,3,FALSE())","v":3},"Competición","Catalana"]
["0822564","Mendieta Loyo, Yosune","3D","D",{"$f":"VLOOKUP(C536,Referencias!$C$4:$D$21,2,FALSE())","v":"Tercera Diamante"},{"$f":"VLOOKUP(I536,Referencias!$B$24:$C$41,2,FALSE())","v":"AND"},{"$f":"VLOOKUP(C536,Referencias!$C$4:$E$21,3,FALSE())","v":3},"Competición","Andaluza"]
["0822565","Milesi Vidal, Eric","2C","C",{"$f":"VLOOKUP(C537,Referencias!$C$4:$D$21,2,FALSE())","v":"Segunda Corazón"},{"$f":"VLOOKUP(I537,Referencias!$B$24:$C$41,2,FALSE())","v":"CAT"},{"$f":"VLOOKUP(C537,Referencias!$C$4:$E$21,3,FALSE())","v":2},"Junior","Catalana"]
["0822566","Dalmau Orriols, Montse","3D","D",{"$f":"VLOOKUP(C538,Referencias!$C$4:$D$21,2,FALSE())","v":"Tercera Diamante"},{"$f":"VLOOKUP(I538,Referencias!$B$24:$C$41,2,FALSE())","v":"CAT"},{"$f":"VLOOKUP(C538,Referencias!$C$4:$E$21,3,FALSE())","v":3},"Competición","Catalana"]
["0822571","Pastor Sapiña, María Antonia","3D","D",{"$f":"VLOOKUP(C539,Referencias!$C$4:$D$21,2,FALSE())","v":"Tercera Diamante"},{"$f":"VLOOKUP(I539,Referencias!$B$24:$C$41,2,FALSE())","v":"CAT"},{"$f":"VLOOKUP(C539,Referencias!$C$4:$E$21,3,FALSE())","v":3},"Competición","Catalana"]
["0822572","Rubio Martinez, Xavier","3D","C",{"$f":"VLOOKUP(C540,Referencias!$C$4:$D$21,2,FALSE())","v":"Tercera Diamante"},{"$f":"VLOOKUP(I540,Referencias!$B$24:$C$41,2,FALSE())","v":"CAT"},{"$f":"VLOOKUP(C540,Referencias!$C$4:$E$21,3,FALSE())","v":3},"Competición","Catalana"]
["0822608","Biosca, Ana","3D","D",{"$f":"VLOOKUP(C541,Referencias!$C$4:$D$21,2,FALSE())","v":"Tercera Diamante"},{"$f":"VLOOKUP(I541,Referencias!$B$24:$C$41,2,FALSE())","v":"CAT"},{"$f":"VLOOKUP(C541,Referencias!$C$4:$E$21,3,FALSE())","v":3},"Competición","Catalana"]
["0823118","Bordas Colóm, María del Carmen","3D","D",{"$f":"VLOOKUP(C542,Referencias!$C$4:$D$21,2,FALSE())","v":"Tercera Diamante"},{"$f":"VLOOKUP(I542,Referencias!$B$24:$C$41,2,FALSE())","v":"CAT"},{"$f":"VLOOKUP(C542,Referencias!$C$4:$E$21,3,FALSE())","v":3},"Competición","Catalana"]
["0823309","Urgnani Silva, Ornella","3D","D",{"$f":"VLOOKUP(C543,Referencias!$C$4:$D$21,2,FALSE())","v":"Tercera Diamante"},{"$f":"VLOOKUP(I543,Referencias!$B$24:$C$41,2,FALSE())","v":"CAT"},{"$f":"VLOOKUP(C543,Referencias!$C$4:$E$21,3,FALSE())","v":3},"Competición","Catalana"]
["0823350","Tarrida Lecha, Victoria","3D","D",{"$f":"VLOOKUP(C544,Referencias!$C$4:$D$21,2,FALSE())","v":"Tercera Diamante"},{"$f":"VLOOKUP(I544,Referencias!$B$24:$C$41,2,FALSE())","v":"ARA"},{"$f":"VLOOKUP(C544,Referencias!$C$4:$E$21,3,FALSE())","v":3},"Competición","Aragonesa"]
["0823352","Huerta, Ferrán","3D","C",{"$f":"VLOOKUP(C545,Referencias!$C$4:$D$21,2,FALSE())","v":"Tercera Diamante"},{"$f":"VLOOKUP(I545,Referencias!$B$24:$C$41,2,FALSE())","v":"CAT"},{"$f":"VLOOKUP(C545,Referencias!$C$4:$E$21,3,FALSE())","v":3},"Competición","Catalana"]
["0823356","May Reining, Jennifer","1C","D",{"$f":"VLOOKUP(C546,Referencias!$C$4:$D$21,2,FALSE())","v":"Primera Corazón"},{"$f":"VLOOKUP(I546,Referencias!$B$24:$C$41,2,FALSE())","v":"CAT"},{"$f":"VLOOKUP(C546,Referencias!$C$4:$E$21,3,FALSE())","v":1},"Competición","Catalana"]
["0823358","Catalán Bartrina, Pep","1P","C",{"$f":"VLOOKUP(C547,Referencias!$C$4:$D$21,2,FALSE())","v":"Primera Picas"},{"$f":"VLOOKUP(I547,Referencias!$B$24:$C$41,2,FALSE())","v":"CAT"},{"$f":"VLOOKUP(C547,Referencias!$C$4:$E$21,3,FALSE())","v":1},"Competición","Catalana"]
["0823359","Garcigoy Graells, Rosario","3D","D",{"$f":"VLOOKUP(C548,Referencias!$C$4:$D$21,2,FALSE())","v":"Tercera Diamante"},{"$f":"VLOOKUP(I548,Referencias!$B$24:$C$41,2,FALSE())","v":"CAT"},{"$f":"VLOOKUP(C548,Referencias!$C$4:$E$21,3,FALSE())","v":3},"Competición","Catalana"]
["0823360","Millet Soler, Montserrat","3D","D",{"$f":"VLOOKUP(C549,Referencias!$C$4:$D$21,2,FALSE())","v":"Tercera Diamante"},{"$f":"VLOOKUP(I549,Referencias!$B$24:$C$41,2,FALSE())","v":"CAT"},{"$f":"VLOOKUP(C549,Referencias!$C$4:$E$21,3,FALSE())","v":3},"Competición","Catalana"]
["0823361","Gardenghi, Oslo","1P","C",{"$f":"VLOOKUP(C550,Referencias!$C$4:$D$21,2,FALSE())","v":"Primera Picas"},{"$f":"VLOOKUP(I550,Referencias!$B$24:$C$41,2,FALSE())","v":"CAT"},{"$f":"VLOOKUP(C550,Referencias!$C$4:$E$21,3,FALSE())","v":1},"Junior","Catalana"]
["0823363","Morcego , Joan","3D","C",{"$f":"VLOOKUP(C551,Referencias!$C$4:$D$21,2,FALSE())","v":"Tercera Diamante"},{"$f":"VLOOKUP(I551,Referencias!$B$24:$C$41,2,FALSE())","v":"CAT"},{"$f":"VLOOKUP(C551,Referencias!$C$4:$E$21,3,FALSE())","v":3},"Competición","Catalana"]
["0823364","Palma, Antonio","MM-O","C",{"$f":"VLOOKUP(C552,Referencias!$C$4:$D$21,2,FALSE())","v":"Maestro Mundial Open"},{"$f":"VLOOKUP(I552,Referencias!$B$24:$C$41,2,FALSE())","v":"CAT"},{"$f":"VLOOKUP(C552,Referencias!$C$4:$E$21,3,FALSE())","v":0},"Competición","Catalana"]
["0823369","Garcia López, Nicolás","1P","C",{"$f":"VLOOKUP(C553,Referencias!$C$4:$D$21,2,FALSE())","v":"Primera Picas"},{"$f":"VLOOKUP(I553,Referencias!$B$24:$C$41,2,FALSE())","v":"CAT"},{"$f":"VLOOKUP(C553,Referencias!$C$4:$E$21,3,FALSE())","v":1},"Competición","Catalana"]
["0823370","Xanco Compains, Joan","1P","C",{"$f":"VLOOKUP(C554,Referencias!$C$4:$D$21,2,FALSE())","v":"Primera Picas"},{"$f":"VLOOKUP(I554,Referencias!$B$24:$C$41,2,FALSE())","v":"CAT"},{"$f":"VLOOKUP(C554,Referencias!$C$4:$E$21,3,FALSE())","v":1},"Competición","Catalana"]
["0823371","Escude Loscertales, Laura","1P","D",{"$f":"VLOOKUP(C555,Referencias!$C$4:$D$21,2,FALSE())","v":"Primera Picas"},{"$f":"VLOOKUP(I555,Referencias!$B$24:$C$41,2,FALSE())","v":"CAT"},{"$f":"VLOOKUP(C555,Referencias!$C$4:$E$21,3,FALSE())","v":1},"Competición","Catalana"]
["0823374","Manent Ostariz, Luis","3D","C",{"$f":"VLOOKUP(C556,Referencias!$C$4:$D$21,2,FALSE())","v":"Tercera Diamante"},{"$f":"VLOOKUP(I556,Referencias!$B$24:$C$41,2,FALSE())","v":"CAT"},{"$f":"VLOOKUP(C556,Referencias!$C$4:$E$21,3,FALSE())","v":3},"Competición","Catalana"]
["0823376","Armengol Santacreu, Xavier","1C","C",{"$f":"VLOOKUP(C557,Referencias!$C$4:$D$21,2,FALSE())","v":"Primera Corazón"},{"$f":"VLOOKUP(I557,Referencias!$B$24:$C$41,2,FALSE())","v":"CAT"},{"$f":"VLOOKUP(C557,Referencias!$C$4:$E$21,3,FALSE())","v":1},"Competición","Catalana"]
["0823378","Mª Rosa, Badia Llado","3D","D",{"$f":"VLOOKUP(C558,Referencias!$C$4:$D$21,2,FALSE())","v":"Tercera Diamante"},{"$f":"VLOOKUP(I558,Referencias!$B$24:$C$41,2,FALSE())","v":"CAT"},{"$f":"VLOOKUP(C558,Referencias!$C$4:$E$21,3,FALSE())","v":3},"Competición","Catalana"]
["0823379","Partegas Sabates, Pura","3D","D",{"$f":"VLOOKUP(C559,Referencias!$C$4:$D$21,2,FALSE())","v":"Tercera Diamante"},{"$f":"VLOOKUP(I559,Referencias!$B$24:$C$41,2,FALSE())","v":"CAT"},{"$f":"VLOOKUP(C559,Referencias!$C$4:$E$21,3,FALSE())","v":3},"Competición","Catalana"]
["0823382","Romances Vinaixa, Josep María","1C","C",{"$f":"VLOOKUP(C560,Referencias!$C$4:$D$21,2,FALSE())","v":"Primera Corazón"},{"$f":"VLOOKUP(I560,Referencias!$B$24:$C$41,2,FALSE())","v":"CAT"},{"$f":"VLOOKUP(C560,Referencias!$C$4:$E$21,3,FALSE())","v":1},"Competición","Catalana"]
["0823383","Escudé Bonet, Manel","MN-O","C",{"$f":"VLOOKUP(C561,Referencias!$C$4:$D$21,2,FALSE())","v":"Maestro Nacional Open"},{"$f":"VLOOKUP(I561,Referencias!$B$24:$C$41,2,FALSE())","v":"CAT"},{"$f":"VLOOKUP(C561,Referencias!$C$4:$E$21,3,FALSE())","v":0},"Competición","Catalana"]
["0823384","Bonafonte Magri, Jorge","1P","C",{"$f":"VLOOKUP(C562,Referencias!$C$4:$D$21,2,FALSE())","v":"Primera Picas"},{"$f":"VLOOKUP(I562,Referencias!$B$24:$C$41,2,FALSE())","v":"CAT"},{"$f":"VLOOKUP(C562,Referencias!$C$4:$E$21,3,FALSE())","v":1},"Competición","Catalana"]
["0823385","Sitges Macia, Joaquim","3D","C",{"$f":"VLOOKUP(C563,Referencias!$C$4:$D$21,2,FALSE())","v":"Tercera Diamante"},{"$f":"VLOOKUP(I563,Referencias!$B$24:$C$41,2,FALSE())","v":"CAT"},{"$f":"VLOOKUP(C563,Referencias!$C$4:$E$21,3,FALSE())","v":3},"Competición","Catalana"]
["0823387","Torrabadella Ferrer, Santiago","1C","C",{"$f":"VLOOKUP(C564,Referencias!$C$4:$D$21,2,FALSE())","v":"Primera Corazón"},{"$f":"VLOOKUP(I564,Referencias!$B$24:$C$41,2,FALSE())","v":"CAT"},{"$f":"VLOOKUP(C564,Referencias!$C$4:$E$21,3,FALSE())","v":1},"Competición","Catalana"]
["0823389","Cullin, Per ola","1P","D",{"$f":"VLOOKUP(C565,Referencias!$C$4:$D$21,2,FALSE())","v":"Primera Picas"},{"$f":"VLOOKUP(I565,Referencias!$B$24:$C$41,2,FALSE())","v":"AEB"},{"$f":"VLOOKUP(C565,Referencias!$C$4:$E$21,3,FALSE())","v":1},"Competición","AEB"]
["0823390","Cañadas Alier, Begoña","1C","D",{"$f":"VLOOKUP(C566,Referencias!$C$4:$D$21,2,FALSE())","v":"Primera Corazón"},{"$f":"VLOOKUP(I566,Referencias!$B$24:$C$41,2,FALSE())","v":"CAT"},{"$f":"VLOOKUP(C566,Referencias!$C$4:$E$21,3,FALSE())","v":1},"Competición","Catalana"]
["0823394","De Aviles Sanclemente, Amparo","3D","D",{"$f":"VLOOKUP(C567,Referencias!$C$4:$D$21,2,FALSE())","v":"Tercera Diamante"},{"$f":"VLOOKUP(I567,Referencias!$B$24:$C$41,2,FALSE())","v":"CAT"},{"$f":"VLOOKUP(C567,Referencias!$C$4:$E$21,3,FALSE())","v":3},"Competición","Catalana"]
["0823396","Vallhonesta Sayol, María Dolores","3D","D",{"$f":"VLOOKUP(C568,Referencias!$C$4:$D$21,2,FALSE())","v":"Tercera Diamante"},{"$f":"VLOOKUP(I568,Referencias!$B$24:$C$41,2,FALSE())","v":"ARA"},{"$f":"VLOOKUP(C568,Referencias!$C$4:$E$21,3,FALSE())","v":3},"Competición","Aragonesa"]
["0823398","Durall, Meya","3D","D",{"$f":"VLOOKUP(C569,Referencias!$C$4:$D$21,2,FALSE())","v":"Tercera Diamante"},{"$f":"VLOOKUP(I569,Referencias!$B$24:$C$41,2,FALSE())","v":"CAT"},{"$f":"VLOOKUP(C569,Referencias!$C$4:$E$21,3,FALSE())","v":3},"Competición","Catalana"]
["0823401","Martín Queralt   , Josefina","3D","D",{"$f":"VLOOKUP(C570,Referencias!$C$4:$D$21,2,FALSE())","v":"Tercera Diamante"},{"$f":"VLOOKUP(I570,Referencias!$B$24:$C$41,2,FALSE())","v":"CAT"},{"$f":"VLOOKUP(C570,Referencias!$C$4:$E$21,3,FALSE())","v":3},"Competición","Catalana"]
["0823402","Sánchez Soler  , Luis Alberto","2C","C",{"$f":"VLOOKUP(C571,Referencias!$C$4:$D$21,2,FALSE())","v":"Segunda Corazón"},{"$f":"VLOOKUP(I571,Referencias!$B$24:$C$41,2,FALSE())","v":"CAT"},{"$f":"VLOOKUP(C571,Referencias!$C$4:$E$21,3,FALSE())","v":2},"Competición","Catalana"]
["0823403","Tapia Gómez   , Berta","3D","D",{"$f":"VLOOKUP(C572,Referencias!$C$4:$D$21,2,FALSE())","v":"Tercera Diamante"},{"$f":"VLOOKUP(I572,Referencias!$B$24:$C$41,2,FALSE())","v":"CAT"},{"$f":"VLOOKUP(C572,Referencias!$C$4:$E$21,3,FALSE())","v":3},"Competición","Catalana"]
["0823404","Mont Garate, Eugenia","3D","D",{"$f":"VLOOKUP(C573,Referencias!$C$4:$D$21,2,FALSE())","v":"Tercera Diamante"},{"$f":"VLOOKUP(I573,Referencias!$B$24:$C$41,2,FALSE())","v":"CAT"},{"$f":"VLOOKUP(C573,Referencias!$C$4:$E$21,3,FALSE())","v":3},"Competición","Catalana"]
["0823405","O’Leary, Maurice Patrick","1C","C",{"$f":"VLOOKUP(C574,Referencias!$C$4:$D$21,2,FALSE())","v":"Primera Corazón"},{"$f":"VLOOKUP(I574,Referencias!$B$24:$C$41,2,FALSE())","v":"CAT"},{"$f":"VLOOKUP(C574,Referencias!$C$4:$E$21,3,FALSE())","v":1},"Competición","Catalana"]
["0823406","Trayer, Blathnaid","1C","D",{"$f":"VLOOKUP(C575,Referencias!$C$4:$D$21,2,FALSE())","v":"Primera Corazón"},{"$f":"VLOOKUP(I575,Referencias!$B$24:$C$41,2,FALSE())","v":"CAT"},{"$f":"VLOOKUP(C575,Referencias!$C$4:$E$21,3,FALSE())","v":1},"Competición","Catalana"]
["0823407","Baniri, Ilai","1P","C",{"$f":"VLOOKUP(C576,Referencias!$C$4:$D$21,2,FALSE())","v":"Primera Picas"},{"$f":"VLOOKUP(I576,Referencias!$B$24:$C$41,2,FALSE())","v":"CAT"},{"$f":"VLOOKUP(C576,Referencias!$C$4:$E$21,3,FALSE())","v":1},"Competición","Catalana"]
["0823414","Soler Morera, Josefina","3D","D",{"$f":"VLOOKUP(C577,Referencias!$C$4:$D$21,2,FALSE())","v":"Tercera Diamante"},{"$f":"VLOOKUP(I577,Referencias!$B$24:$C$41,2,FALSE())","v":"CAT"},{"$f":"VLOOKUP(C577,Referencias!$C$4:$E$21,3,FALSE())","v":3},"Competición","Catalana"]
["0823415","Goig Soldevila, Eulália","2C","D",{"$f":"VLOOKUP(C578,Referencias!$C$4:$D$21,2,FALSE())","v":"Segunda Corazón"},{"$f":"VLOOKUP(I578,Referencias!$B$24:$C$41,2,FALSE())","v":"CAT"},{"$f":"VLOOKUP(C578,Referencias!$C$4:$E$21,3,FALSE())","v":2},"Competición","Catalana"]
["0823416","Martínez Pubill, María Pilar","3D","D",{"$f":"VLOOKUP(C579,Referencias!$C$4:$D$21,2,FALSE())","v":"Tercera Diamante"},{"$f":"VLOOKUP(I579,Referencias!$B$24:$C$41,2,FALSE())","v":"CAT"},{"$f":"VLOOKUP(C579,Referencias!$C$4:$E$21,3,FALSE())","v":3},"Competición","Catalana"]
["0823417","Bonafonte Magri, José","3D","C",{"$f":"VLOOKUP(C580,Referencias!$C$4:$D$21,2,FALSE())","v":"Tercera Diamante"},{"$f":"VLOOKUP(I580,Referencias!$B$24:$C$41,2,FALSE())","v":"CAT"},{"$f":"VLOOKUP(C580,Referencias!$C$4:$E$21,3,FALSE())","v":3},"Competición","Catalana"]
["0823418","Manchion de Uribe, Gemma","1C","D",{"$f":"VLOOKUP(C581,Referencias!$C$4:$D$21,2,FALSE())","v":"Primera Corazón"},{"$f":"VLOOKUP(I581,Referencias!$B$24:$C$41,2,FALSE())","v":"CAT"},{"$f":"VLOOKUP(C581,Referencias!$C$4:$E$21,3,FALSE())","v":1},"Competición","Catalana"]
["0823419","Martí Castelló, Pilar","3D","D",{"$f":"VLOOKUP(C582,Referencias!$C$4:$D$21,2,FALSE())","v":"Tercera Diamante"},{"$f":"VLOOKUP(I582,Referencias!$B$24:$C$41,2,FALSE())","v":"CAT"},{"$f":"VLOOKUP(C582,Referencias!$C$4:$E$21,3,FALSE())","v":3},"Competición","Catalana"]
["0823422","Domínguez Bara   , Elena","3C","D",{"$f":"VLOOKUP(C583,Referencias!$C$4:$D$21,2,FALSE())","v":"Tercera Corazón"},{"$f":"VLOOKUP(I583,Referencias!$B$24:$C$41,2,FALSE())","v":"CAT"},{"$f":"VLOOKUP(C583,Referencias!$C$4:$E$21,3,FALSE())","v":3},"Competición","Catalana"]
["0823423","Font Sesma, Eva","3D","D",{"$f":"VLOOKUP(C584,Referencias!$C$4:$D$21,2,FALSE())","v":"Tercera Diamante"},{"$f":"VLOOKUP(I584,Referencias!$B$24:$C$41,2,FALSE())","v":"CAT"},{"$f":"VLOOKUP(C584,Referencias!$C$4:$E$21,3,FALSE())","v":3},"Competición","Catalana"]
["0823427","Plass Rodellas, Mª Victoria","3D","D",{"$f":"VLOOKUP(C585,Referencias!$C$4:$D$21,2,FALSE())","v":"Tercera Diamante"},{"$f":"VLOOKUP(I585,Referencias!$B$24:$C$41,2,FALSE())","v":"CAT"},{"$f":"VLOOKUP(C585,Referencias!$C$4:$E$21,3,FALSE())","v":3},"Competición","Catalana"]
["0823429","Panades, Irene","1C","D",{"$f":"VLOOKUP(C586,Referencias!$C$4:$D$21,2,FALSE())","v":"Primera Corazón"},{"$f":"VLOOKUP(I586,Referencias!$B$24:$C$41,2,FALSE())","v":"CAT"},{"$f":"VLOOKUP(C586,Referencias!$C$4:$E$21,3,FALSE())","v":1},"Competición","Catalana"]
["0823430","Soler Margarit, Margarita","3D","C",{"$f":"VLOOKUP(C587,Referencias!$C$4:$D$21,2,FALSE())","v":"Tercera Diamante"},{"$f":"VLOOKUP(I587,Referencias!$B$24:$C$41,2,FALSE())","v":"CAT"},{"$f":"VLOOKUP(C587,Referencias!$C$4:$E$21,3,FALSE())","v":3},"Competición","Catalana"]
["0823452","Biarge Dueñas, Valeria","3D","D",{"$f":"VLOOKUP(C588,Referencias!$C$4:$D$21,2,FALSE())","v":"Tercera Diamante"},{"$f":"VLOOKUP(I588,Referencias!$B$24:$C$41,2,FALSE())","v":"CAT"},{"$f":"VLOOKUP(C588,Referencias!$C$4:$E$21,3,FALSE())","v":3},"Competición","Catalana"]
["0823453","Quevedo Gala, Alex","3D","D",{"$f":"VLOOKUP(C589,Referencias!$C$4:$D$21,2,FALSE())","v":"Tercera Diamante"},{"$f":"VLOOKUP(I589,Referencias!$B$24:$C$41,2,FALSE())","v":"CAT"},{"$f":"VLOOKUP(C589,Referencias!$C$4:$E$21,3,FALSE())","v":3},"Junior","Catalana"]
["0823454","Cadirat Ferreiro, Marcos","3D","C",{"$f":"VLOOKUP(C590,Referencias!$C$4:$D$21,2,FALSE())","v":"Tercera Diamante"},{"$f":"VLOOKUP(I590,Referencias!$B$24:$C$41,2,FALSE())","v":"CAT"},{"$f":"VLOOKUP(C590,Referencias!$C$4:$E$21,3,FALSE())","v":3},"Competición","Catalana"]
["0823457","LLobet Llambrich, Miquel","3D","C",{"$f":"VLOOKUP(C591,Referencias!$C$4:$D$21,2,FALSE())","v":"Tercera Diamante"},{"$f":"VLOOKUP(I591,Referencias!$B$24:$C$41,2,FALSE())","v":"CAT"},{"$f":"VLOOKUP(C591,Referencias!$C$4:$E$21,3,FALSE())","v":3},"Competición","Catalana"]
["0823458","Méndez, Sylvie","3D","D",{"$f":"VLOOKUP(C592,Referencias!$C$4:$D$21,2,FALSE())","v":"Tercera Diamante"},{"$f":"VLOOKUP(I592,Referencias!$B$24:$C$41,2,FALSE())","v":"CAT"},{"$f":"VLOOKUP(C592,Referencias!$C$4:$E$21,3,FALSE())","v":3},"Competición","Catalana"]
["0823459","Miret Mestre, Josep","3D","C",{"$f":"VLOOKUP(C593,Referencias!$C$4:$D$21,2,FALSE())","v":"Tercera Diamante"},{"$f":"VLOOKUP(I593,Referencias!$B$24:$C$41,2,FALSE())","v":"CAT"},{"$f":"VLOOKUP(C593,Referencias!$C$4:$E$21,3,FALSE())","v":3},"Competición","Catalana"]
["0823460","Lluch Elizalde, Anna","3D","D",{"$f":"VLOOKUP(C594,Referencias!$C$4:$D$21,2,FALSE())","v":"Tercera Diamante"},{"$f":"VLOOKUP(I594,Referencias!$B$24:$C$41,2,FALSE())","v":"CAT"},{"$f":"VLOOKUP(C594,Referencias!$C$4:$E$21,3,FALSE())","v":3},"Competición","Catalana"]
["0823461","Agustí Rovira, Elba","3D","D",{"$f":"VLOOKUP(C595,Referencias!$C$4:$D$21,2,FALSE())","v":"Tercera Diamante"},{"$f":"VLOOKUP(I595,Referencias!$B$24:$C$41,2,FALSE())","v":"CAT"},{"$f":"VLOOKUP(C595,Referencias!$C$4:$E$21,3,FALSE())","v":3},"Competición","Catalana"]
["0823462","Semberoiz, Santiago","1P","C",{"$f":"VLOOKUP(C596,Referencias!$C$4:$D$21,2,FALSE())","v":"Primera Picas"},{"$f":"VLOOKUP(I596,Referencias!$B$24:$C$41,2,FALSE())","v":"CAT"},{"$f":"VLOOKUP(C596,Referencias!$C$4:$E$21,3,FALSE())","v":1},"Competición","Catalana"]
["0823463","Espuny Camacho, Eva María","3D","D",{"$f":"VLOOKUP(C597,Referencias!$C$4:$D$21,2,FALSE())","v":"Tercera Diamante"},{"$f":"VLOOKUP(I597,Referencias!$B$24:$C$41,2,FALSE())","v":"CAT"},{"$f":"VLOOKUP(C597,Referencias!$C$4:$E$21,3,FALSE())","v":3},"Competición","Catalana"]
["0823464","Bhowmik, Gourav","3D","C",{"$f":"VLOOKUP(C598,Referencias!$C$4:$D$21,2,FALSE())","v":"Tercera Diamante"},{"$f":"VLOOKUP(I598,Referencias!$B$24:$C$41,2,FALSE())","v":"CAT"},{"$f":"VLOOKUP(C598,Referencias!$C$4:$E$21,3,FALSE())","v":3},"Competición","Catalana"]
["0823465","Restrepo Duque, Paula","3D","D",{"$f":"VLOOKUP(C599,Referencias!$C$4:$D$21,2,FALSE())","v":"Tercera Diamante"},{"$f":"VLOOKUP(I599,Referencias!$B$24:$C$41,2,FALSE())","v":"CAT"},{"$f":"VLOOKUP(C599,Referencias!$C$4:$E$21,3,FALSE())","v":3},"Competición","Catalana"]
["0823466","Faller, Constance","3D","C",{"$f":"VLOOKUP(C600,Referencias!$C$4:$D$21,2,FALSE())","v":"Tercera Diamante"},{"$f":"VLOOKUP(I600,Referencias!$B$24:$C$41,2,FALSE())","v":"CAT"},{"$f":"VLOOKUP(C600,Referencias!$C$4:$E$21,3,FALSE())","v":3},"Competición","Catalana"]
["0823467","Paz Hernández, Jaime","3D","C",{"$f":"VLOOKUP(C601,Referencias!$C$4:$D$21,2,FALSE())","v":"Tercera Diamante"},{"$f":"VLOOKUP(I601,Referencias!$B$24:$C$41,2,FALSE())","v":"CAT"},{"$f":"VLOOKUP(C601,Referencias!$C$4:$E$21,3,FALSE())","v":3},"Competición","Catalana"]
["0823468","Paz Escandón, Oliver","3D","C",{"$f":"VLOOKUP(C602,Referencias!$C$4:$D$21,2,FALSE())","v":"Tercera Diamante"},{"$f":"VLOOKUP(I602,Referencias!$B$24:$C$41,2,FALSE())","v":"CAT"},{"$f":"VLOOKUP(C602,Referencias!$C$4:$E$21,3,FALSE())","v":3},"Competición","Catalana"]
["0823469","Sigales Sigales, Antonio","3D","C",{"$f":"VLOOKUP(C603,Referencias!$C$4:$D$21,2,FALSE())","v":"Tercera Diamante"},{"$f":"VLOOKUP(I603,Referencias!$B$24:$C$41,2,FALSE())","v":"CAT"},{"$f":"VLOOKUP(C603,Referencias!$C$4:$E$21,3,FALSE())","v":3},"Competición","Catalana"]
["0823470","Mercadé Brulles, Juan","3D","C",{"$f":"VLOOKUP(C604,Referencias!$C$4:$D$21,2,FALSE())","v":"Tercera Diamante"},{"$f":"VLOOKUP(I604,Referencias!$B$24:$C$41,2,FALSE())","v":"CAT"},{"$f":"VLOOKUP(C604,Referencias!$C$4:$E$21,3,FALSE())","v":3},"Competición","Catalana"]
["0823471","Acosta Buenaventura, Álvaro","3D","C",{"$f":"VLOOKUP(C605,Referencias!$C$4:$D$21,2,FALSE())","v":"Tercera Diamante"},{"$f":"VLOOKUP(I605,Referencias!$B$24:$C$41,2,FALSE())","v":"CAT"},{"$f":"VLOOKUP(C605,Referencias!$C$4:$E$21,3,FALSE())","v":3},"Competición","Catalana"]
["0823472","Pujadas Domenech, María Ángeles","3D","D",{"$f":"VLOOKUP(C606,Referencias!$C$4:$D$21,2,FALSE())","v":"Tercera Diamante"},{"$f":"VLOOKUP(I606,Referencias!$B$24:$C$41,2,FALSE())","v":"CAT"},{"$f":"VLOOKUP(C606,Referencias!$C$4:$E$21,3,FALSE())","v":3},"Competición","Catalana"]
["0823473","Puig\tGiró, José María","3D","C",{"$f":"VLOOKUP(C607,Referencias!$C$4:$D$21,2,FALSE())","v":"Tercera Diamante"},{"$f":"VLOOKUP(I607,Referencias!$B$24:$C$41,2,FALSE())","v":"CAT"},{"$f":"VLOOKUP(C607,Referencias!$C$4:$E$21,3,FALSE())","v":3},"Competición","Catalana"]
["0823474","Guillamet Brugada, Eva","3D","D",{"$f":"VLOOKUP(C608,Referencias!$C$4:$D$21,2,FALSE())","v":"Tercera Diamante"},{"$f":"VLOOKUP(I608,Referencias!$B$24:$C$41,2,FALSE())","v":"CAT"},{"$f":"VLOOKUP(C608,Referencias!$C$4:$E$21,3,FALSE())","v":3},"Competición","Catalana"]
["0823475","Rosselló Noguer, Sandra","3D","D",{"$f":"VLOOKUP(C609,Referencias!$C$4:$D$21,2,FALSE())","v":"Tercera Diamante"},{"$f":"VLOOKUP(I609,Referencias!$B$24:$C$41,2,FALSE())","v":"CAT"},{"$f":"VLOOKUP(C609,Referencias!$C$4:$E$21,3,FALSE())","v":3},"Competición","Catalana"]
["0823492","de Juan, Pere","3D","C",{"$f":"VLOOKUP(C610,Referencias!$C$4:$D$21,2,FALSE())","v":"Tercera Diamante"},{"$f":"VLOOKUP(I610,Referencias!$B$24:$C$41,2,FALSE())","v":"CAT"},{"$f":"VLOOKUP(C610,Referencias!$C$4:$E$21,3,FALSE())","v":3},"Competición","Catalana"]
["0823493","Campdurà Peralta\t, Xavier","3D","C",{"$f":"VLOOKUP(C611,Referencias!$C$4:$D$21,2,FALSE())","v":"Tercera Diamante"},{"$f":"VLOOKUP(I611,Referencias!$B$24:$C$41,2,FALSE())","v":"CAT"},{"$f":"VLOOKUP(C611,Referencias!$C$4:$E$21,3,FALSE())","v":3},"Competición","Catalana"]
["0823494","Torras Modeno, Catalina","3D","D",{"$f":"VLOOKUP(C612,Referencias!$C$4:$D$21,2,FALSE())","v":"Tercera Diamante"},{"$f":"VLOOKUP(I612,Referencias!$B$24:$C$41,2,FALSE())","v":"CAT"},{"$f":"VLOOKUP(C612,Referencias!$C$4:$E$21,3,FALSE())","v":3},"Competición","Catalana"]
["0823495","Charles Vecino, Esperança","3D","D",{"$f":"VLOOKUP(C613,Referencias!$C$4:$D$21,2,FALSE())","v":"Tercera Diamante"},{"$f":"VLOOKUP(I613,Referencias!$B$24:$C$41,2,FALSE())","v":"CAT"},{"$f":"VLOOKUP(C613,Referencias!$C$4:$E$21,3,FALSE())","v":3},"Competición","Catalana"]
["0823496","de Diego Artiach , Cristina","3D","D",{"$f":"VLOOKUP(C614,Referencias!$C$4:$D$21,2,FALSE())","v":"Tercera Diamante"},{"$f":"VLOOKUP(I614,Referencias!$B$24:$C$41,2,FALSE())","v":"CAT"},{"$f":"VLOOKUP(C614,Referencias!$C$4:$E$21,3,FALSE())","v":3},"Competición","Catalana"]
["0823497","Torrabadella Reynoso , Pedro María","3D","C",{"$f":"VLOOKUP(C615,Referencias!$C$4:$D$21,2,FALSE())","v":"Tercera Diamante"},{"$f":"VLOOKUP(I615,Referencias!$B$24:$C$41,2,FALSE())","v":"CAT"},{"$f":"VLOOKUP(C615,Referencias!$C$4:$E$21,3,FALSE())","v":3},"Competición","Catalana"]
["0823498","Betriu Macias, Emilia","3D","D",{"$f":"VLOOKUP(C616,Referencias!$C$4:$D$21,2,FALSE())","v":"Tercera Diamante"},{"$f":"VLOOKUP(I616,Referencias!$B$24:$C$41,2,FALSE())","v":"CAT"},{"$f":"VLOOKUP(C616,Referencias!$C$4:$E$21,3,FALSE())","v":3},"Competición","Catalana"]
["0823499","Puig\tRomagosa , Isidro","1C","C",{"$f":"VLOOKUP(C617,Referencias!$C$4:$D$21,2,FALSE())","v":"Primera Corazón"},{"$f":"VLOOKUP(I617,Referencias!$B$24:$C$41,2,FALSE())","v":"CAT"},{"$f":"VLOOKUP(C617,Referencias!$C$4:$E$21,3,FALSE())","v":1},"Competición","Catalana"]
["0823500","Puig Romagosa , Evelio","1C","C",{"$f":"VLOOKUP(C618,Referencias!$C$4:$D$21,2,FALSE())","v":"Primera Corazón"},{"$f":"VLOOKUP(I618,Referencias!$B$24:$C$41,2,FALSE())","v":"CAT"},{"$f":"VLOOKUP(C618,Referencias!$C$4:$E$21,3,FALSE())","v":1},"Competición","Catalana"]
["0823502","Solana Quintana, Silvia","3D","D",{"$f":"VLOOKUP(C619,Referencias!$C$4:$D$21,2,FALSE())","v":"Tercera Diamante"},{"$f":"VLOOKUP(I619,Referencias!$B$24:$C$41,2,FALSE())","v":"CAT"},{"$f":"VLOOKUP(C619,Referencias!$C$4:$E$21,3,FALSE())","v":3},"Competición","Catalana"]
["0823503","Cruz Martínez, Josefina","3D","D",{"$f":"VLOOKUP(C620,Referencias!$C$4:$D$21,2,FALSE())","v":"Tercera Diamante"},{"$f":"VLOOKUP(I620,Referencias!$B$24:$C$41,2,FALSE())","v":"CAT"},{"$f":"VLOOKUP(C620,Referencias!$C$4:$E$21,3,FALSE())","v":3},"Competición","Catalana"]
["0823505","Farre Trenzeleva, Olga","3D","D",{"$f":"VLOOKUP(C621,Referencias!$C$4:$D$21,2,FALSE())","v":"Tercera Diamante"},{"$f":"VLOOKUP(I621,Referencias!$B$24:$C$41,2,FALSE())","v":"CAT"},{"$f":"VLOOKUP(C621,Referencias!$C$4:$E$21,3,FALSE())","v":3},"Competición","Catalana"]
["0823506","Maymó Renom, Mònica","3D","D",{"$f":"VLOOKUP(C622,Referencias!$C$4:$D$21,2,FALSE())","v":"Tercera Diamante"},{"$f":"VLOOKUP(I622,Referencias!$B$24:$C$41,2,FALSE())","v":"CAT"},{"$f":"VLOOKUP(C622,Referencias!$C$4:$E$21,3,FALSE())","v":3},"Competición","Catalana"]
["0823507","Domenech Montagut, Rosa  Marta","3D","D",{"$f":"VLOOKUP(C623,Referencias!$C$4:$D$21,2,FALSE())","v":"Tercera Diamante"},{"$f":"VLOOKUP(I623,Referencias!$B$24:$C$41,2,FALSE())","v":"CAT"},{"$f":"VLOOKUP(C623,Referencias!$C$4:$E$21,3,FALSE())","v":3},"Competición","Catalana"]
["0823508","Tapia Soler, Teresa","3D","D",{"$f":"VLOOKUP(C624,Referencias!$C$4:$D$21,2,FALSE())","v":"Tercera Diamante"},{"$f":"VLOOKUP(I624,Referencias!$B$24:$C$41,2,FALSE())","v":"CAT"},{"$f":"VLOOKUP(C624,Referencias!$C$4:$E$21,3,FALSE())","v":3},"Competición","Catalana"]
["0823509","Fusté Bardají, Maria Immaculada","3D","D",{"$f":"VLOOKUP(C625,Referencias!$C$4:$D$21,2,FALSE())","v":"Tercera Diamante"},{"$f":"VLOOKUP(I625,Referencias!$B$24:$C$41,2,FALSE())","v":"CAT"},{"$f":"VLOOKUP(C625,Referencias!$C$4:$E$21,3,FALSE())","v":3},"Competición","Catalana"]
["0823510","Pujols Sendra, Montse","3D","D",{"$f":"VLOOKUP(C626,Referencias!$C$4:$D$21,2,FALSE())","v":"Tercera Diamante"},{"$f":"VLOOKUP(I626,Referencias!$B$24:$C$41,2,FALSE())","v":"CAT"},{"$f":"VLOOKUP(C626,Referencias!$C$4:$E$21,3,FALSE())","v":3},"Competición","Catalana"]
["0823511","de Pineda Alvarez, Xavier","3D","C",{"$f":"VLOOKUP(C627,Referencias!$C$4:$D$21,2,FALSE())","v":"Tercera Diamante"},{"$f":"VLOOKUP(I627,Referencias!$B$24:$C$41,2,FALSE())","v":"CAT"},{"$f":"VLOOKUP(C627,Referencias!$C$4:$E$21,3,FALSE())","v":3},"Competición","Catalana"]
["0823512","Sola\tBoada, Miriam","3D","D",{"$f":"VLOOKUP(C628,Referencias!$C$4:$D$21,2,FALSE())","v":"Tercera Diamante"},{"$f":"VLOOKUP(I628,Referencias!$B$24:$C$41,2,FALSE())","v":"CAT"},{"$f":"VLOOKUP(C628,Referencias!$C$4:$E$21,3,FALSE())","v":3},"Competición","Catalana"]
["0823513","Mir Candela, Mercedes","3D","D",{"$f":"VLOOKUP(C629,Referencias!$C$4:$D$21,2,FALSE())","v":"Tercera Diamante"},{"$f":"VLOOKUP(I629,Referencias!$B$24:$C$41,2,FALSE())","v":"CAT"},{"$f":"VLOOKUP(C629,Referencias!$C$4:$E$21,3,FALSE())","v":3},"Competición","Catalana"]
["0823514","López-Mateos\tCondeminas, Laura","3D","D",{"$f":"VLOOKUP(C630,Referencias!$C$4:$D$21,2,FALSE())","v":"Tercera Diamante"},{"$f":"VLOOKUP(I630,Referencias!$B$24:$C$41,2,FALSE())","v":"CAT"},{"$f":"VLOOKUP(C630,Referencias!$C$4:$E$21,3,FALSE())","v":3},"Competición","Catalana"]
["0971064","García Miño, María del Carmen","3D","D",{"$f":"VLOOKUP(C631,Referencias!$C$4:$D$21,2,FALSE())","v":"Tercera Diamante"},{"$f":"VLOOKUP(I631,Referencias!$B$24:$C$41,2,FALSE())","v":"CYL"},{"$f":"VLOOKUP(C631,Referencias!$C$4:$E$21,3,FALSE())","v":3},"Competición","Castilla y León"]
["0971070","Mozas Bartolome, Jesús","3D","C",{"$f":"VLOOKUP(C632,Referencias!$C$4:$D$21,2,FALSE())","v":"Tercera Diamante"},{"$f":"VLOOKUP(I632,Referencias!$B$24:$C$41,2,FALSE())","v":"CYL"},{"$f":"VLOOKUP(C632,Referencias!$C$4:$E$21,3,FALSE())","v":3},"Competición","Castilla y León"]
["0971123","Senderos Martinez, Carmen","3D","D",{"$f":"VLOOKUP(C633,Referencias!$C$4:$D$21,2,FALSE())","v":"Tercera Diamante"},{"$f":"VLOOKUP(I633,Referencias!$B$24:$C$41,2,FALSE())","v":"CYL"},{"$f":"VLOOKUP(C633,Referencias!$C$4:$E$21,3,FALSE())","v":3},"Competición","Castilla y León"]
["0971124","Derqui, Ana María","2C","D",{"$f":"VLOOKUP(C634,Referencias!$C$4:$D$21,2,FALSE())","v":"Segunda Corazón"},{"$f":"VLOOKUP(I634,Referencias!$B$24:$C$41,2,FALSE())","v":"CYL"},{"$f":"VLOOKUP(C634,Referencias!$C$4:$E$21,3,FALSE())","v":2},"Competición","Castilla y León"]
["0971141","García Larrouy, José Luis","1P","C",{"$f":"VLOOKUP(C635,Referencias!$C$4:$D$21,2,FALSE())","v":"Primera Picas"},{"$f":"VLOOKUP(I635,Referencias!$B$24:$C$41,2,FALSE())","v":"CYL"},{"$f":"VLOOKUP(C635,Referencias!$C$4:$E$21,3,FALSE())","v":1},"Competición","Castilla y León"]
["0971165","Díez Puertas, Carlos","2C","C",{"$f":"VLOOKUP(C636,Referencias!$C$4:$D$21,2,FALSE())","v":"Segunda Corazón"},{"$f":"VLOOKUP(I636,Referencias!$B$24:$C$41,2,FALSE())","v":"CYL"},{"$f":"VLOOKUP(C636,Referencias!$C$4:$E$21,3,FALSE())","v":2},"Competición","Castilla y León"]
["0971167","Delgado Santamaría, Juan Carlos","3D","C",{"$f":"VLOOKUP(C637,Referencias!$C$4:$D$21,2,FALSE())","v":"Tercera Diamante"},{"$f":"VLOOKUP(I637,Referencias!$B$24:$C$41,2,FALSE())","v":"CYL"},{"$f":"VLOOKUP(C637,Referencias!$C$4:$E$21,3,FALSE())","v":3},"Competición","Castilla y León"]
["0971177","Valderrama Alcalde, Juan Rodrigo","1P","C",{"$f":"VLOOKUP(C638,Referencias!$C$4:$D$21,2,FALSE())","v":"Primera Picas"},{"$f":"VLOOKUP(I638,Referencias!$B$24:$C$41,2,FALSE())","v":"CYL"},{"$f":"VLOOKUP(C638,Referencias!$C$4:$E$21,3,FALSE())","v":1},"Competición","Castilla y León"]
["0971187","Laso Hermoso, Carmen","3D","D",{"$f":"VLOOKUP(C639,Referencias!$C$4:$D$21,2,FALSE())","v":"Tercera Diamante"},{"$f":"VLOOKUP(I639,Referencias!$B$24:$C$41,2,FALSE())","v":"CYL"},{"$f":"VLOOKUP(C639,Referencias!$C$4:$E$21,3,FALSE())","v":3},"Competición","Castilla y León"]
["0971192","Díez Puertas, Luis Gonzaga","1P","C",{"$f":"VLOOKUP(C640,Referencias!$C$4:$D$21,2,FALSE())","v":"Primera Picas"},{"$f":"VLOOKUP(I640,Referencias!$B$24:$C$41,2,FALSE())","v":"CYL"},{"$f":"VLOOKUP(C640,Referencias!$C$4:$E$21,3,FALSE())","v":1},"Competición","Castilla y León"]
["0971193","Díez Puertas, Gregorio","2C","C",{"$f":"VLOOKUP(C641,Referencias!$C$4:$D$21,2,FALSE())","v":"Segunda Corazón"},{"$f":"VLOOKUP(I641,Referencias!$B$24:$C$41,2,FALSE())","v":"CYL"},{"$f":"VLOOKUP(C641,Referencias!$C$4:$E$21,3,FALSE())","v":2},"Competición","Castilla y León"]
["0971215","Jorgensen, Allan","1D","C",{"$f":"VLOOKUP(C642,Referencias!$C$4:$D$21,2,FALSE())","v":"Primera Diamante"},{"$f":"VLOOKUP(I642,Referencias!$B$24:$C$41,2,FALSE())","v":"CYL"},{"$f":"VLOOKUP(C642,Referencias!$C$4:$E$21,3,FALSE())","v":1},"Competición","Castilla y León"]
["0971324","Alonso Pérez, Pablo","3D","C",{"$f":"VLOOKUP(C643,Referencias!$C$4:$D$21,2,FALSE())","v":"Tercera Diamante"},{"$f":"VLOOKUP(I643,Referencias!$B$24:$C$41,2,FALSE())","v":"CYL"},{"$f":"VLOOKUP(C643,Referencias!$C$4:$E$21,3,FALSE())","v":3},"Competición","Castilla y León"]
["0975205","Gil P. de Barquin, María Gertrudis","3D","D",{"$f":"VLOOKUP(C644,Referencias!$C$4:$D$21,2,FALSE())","v":"Tercera Diamante"},{"$f":"VLOOKUP(I644,Referencias!$B$24:$C$41,2,FALSE())","v":"CYL"},{"$f":"VLOOKUP(C644,Referencias!$C$4:$E$21,3,FALSE())","v":3},"Competición","Castilla y León"]
["0975212","Abeytua de Cobo, Mayte","3D","D",{"$f":"VLOOKUP(C645,Referencias!$C$4:$D$21,2,FALSE())","v":"Tercera Diamante"},{"$f":"VLOOKUP(I645,Referencias!$B$24:$C$41,2,FALSE())","v":"CYL"},{"$f":"VLOOKUP(C645,Referencias!$C$4:$E$21,3,FALSE())","v":3},"Competición","Castilla y León"]
["0975222","Gómez de Cadiñanos Rodríguez, M. Francisca","3D","D",{"$f":"VLOOKUP(C646,Referencias!$C$4:$D$21,2,FALSE())","v":"Tercera Diamante"},{"$f":"VLOOKUP(I646,Referencias!$B$24:$C$41,2,FALSE())","v":"CYL"},{"$f":"VLOOKUP(C646,Referencias!$C$4:$E$21,3,FALSE())","v":3},"Competición","Castilla y León"]
["0975224","Alonso de Miralpeix, María Victoria","2D","D",{"$f":"VLOOKUP(C647,Referencias!$C$4:$D$21,2,FALSE())","v":"Segunda Diamante"},{"$f":"VLOOKUP(I647,Referencias!$B$24:$C$41,2,FALSE())","v":"CYL"},{"$f":"VLOOKUP(C647,Referencias!$C$4:$E$21,3,FALSE())","v":2},"Competición","Castilla y León"]
["0975233","Villaluenga, Ana","2P","D",{"$f":"VLOOKUP(C648,Referencias!$C$4:$D$21,2,FALSE())","v":"Segunda Picas"},{"$f":"VLOOKUP(I648,Referencias!$B$24:$C$41,2,FALSE())","v":"CYL"},{"$f":"VLOOKUP(C648,Referencias!$C$4:$E$21,3,FALSE())","v":2},"Competición","Castilla y León"]
["0975240","Calzada Martínez, Rosalía","3D","D",{"$f":"VLOOKUP(C649,Referencias!$C$4:$D$21,2,FALSE())","v":"Tercera Diamante"},{"$f":"VLOOKUP(I649,Referencias!$B$24:$C$41,2,FALSE())","v":"CYL"},{"$f":"VLOOKUP(C649,Referencias!$C$4:$E$21,3,FALSE())","v":3},"Competición","Castilla y León"]
["1006002","Aja Blanco, Bernardeta","3D","D",{"$f":"VLOOKUP(C650,Referencias!$C$4:$D$21,2,FALSE())","v":"Tercera Diamante"},{"$f":"VLOOKUP(I650,Referencias!$B$24:$C$41,2,FALSE())","v":"EXT"},{"$f":"VLOOKUP(C650,Referencias!$C$4:$E$21,3,FALSE())","v":3},"Competición","Extremeña"]
["1006003","Barrientos Martín, María Isabel","3D","D",{"$f":"VLOOKUP(C651,Referencias!$C$4:$D$21,2,FALSE())","v":"Tercera Diamante"},{"$f":"VLOOKUP(I651,Referencias!$B$24:$C$41,2,FALSE())","v":"EXT"},{"$f":"VLOOKUP(C651,Referencias!$C$4:$E$21,3,FALSE())","v":3},"Competición","Extremeña"]
["1006004","Fernández Valhondo, Rafael","3D","C",{"$f":"VLOOKUP(C652,Referencias!$C$4:$D$21,2,FALSE())","v":"Tercera Diamante"},{"$f":"VLOOKUP(I652,Referencias!$B$24:$C$41,2,FALSE())","v":"EXT"},{"$f":"VLOOKUP(C652,Referencias!$C$4:$E$21,3,FALSE())","v":3},"Competición","Extremeña"]
["1006005","González Sastre, Rosario","3D","D",{"$f":"VLOOKUP(C653,Referencias!$C$4:$D$21,2,FALSE())","v":"Tercera Diamante"},{"$f":"VLOOKUP(I653,Referencias!$B$24:$C$41,2,FALSE())","v":"EXT"},{"$f":"VLOOKUP(C653,Referencias!$C$4:$E$21,3,FALSE())","v":3},"Competición","Extremeña"]
["1006006","Cuesta Pedraz, María del Carmen","3D","D",{"$f":"VLOOKUP(C654,Referencias!$C$4:$D$21,2,FALSE())","v":"Tercera Diamante"},{"$f":"VLOOKUP(I654,Referencias!$B$24:$C$41,2,FALSE())","v":"EXT"},{"$f":"VLOOKUP(C654,Referencias!$C$4:$E$21,3,FALSE())","v":3},"Competición","Extremeña"]
["1006007","García-Onieva Artazcoz, Elena","3D","D",{"$f":"VLOOKUP(C655,Referencias!$C$4:$D$21,2,FALSE())","v":"Tercera Diamante"},{"$f":"VLOOKUP(I655,Referencias!$B$24:$C$41,2,FALSE())","v":"EXT"},{"$f":"VLOOKUP(C655,Referencias!$C$4:$E$21,3,FALSE())","v":3},"Competición","Extremeña"]
["1006008","Pérez Luceño, Román","3D","C",{"$f":"VLOOKUP(C656,Referencias!$C$4:$D$21,2,FALSE())","v":"Tercera Diamante"},{"$f":"VLOOKUP(I656,Referencias!$B$24:$C$41,2,FALSE())","v":"EXT"},{"$f":"VLOOKUP(C656,Referencias!$C$4:$E$21,3,FALSE())","v":3},"Competición","Extremeña"]
["1006009","Torres de la Riva, Isabel María","3D","D",{"$f":"VLOOKUP(C657,Referencias!$C$4:$D$21,2,FALSE())","v":"Tercera Diamante"},{"$f":"VLOOKUP(I657,Referencias!$B$24:$C$41,2,FALSE())","v":"EXT"},{"$f":"VLOOKUP(C657,Referencias!$C$4:$E$21,3,FALSE())","v":3},"Competición","Extremeña"]
["1006010","Lancho Rufo, José Luis","3D","C",{"$f":"VLOOKUP(C658,Referencias!$C$4:$D$21,2,FALSE())","v":"Tercera Diamante"},{"$f":"VLOOKUP(I658,Referencias!$B$24:$C$41,2,FALSE())","v":"EXT"},{"$f":"VLOOKUP(C658,Referencias!$C$4:$E$21,3,FALSE())","v":3},"Competición","Extremeña"]
["1006011","González Sastre, Celeste","3D","D",{"$f":"VLOOKUP(C659,Referencias!$C$4:$D$21,2,FALSE())","v":"Tercera Diamante"},{"$f":"VLOOKUP(I659,Referencias!$B$24:$C$41,2,FALSE())","v":"EXT"},{"$f":"VLOOKUP(C659,Referencias!$C$4:$E$21,3,FALSE())","v":3},"Competición","Extremeña"]
["1006012","La Calle Bardají, Lourdes","3D","D",{"$f":"VLOOKUP(C660,Referencias!$C$4:$D$21,2,FALSE())","v":"Tercera Diamante"},{"$f":"VLOOKUP(I660,Referencias!$B$24:$C$41,2,FALSE())","v":"EXT"},{"$f":"VLOOKUP(C660,Referencias!$C$4:$E$21,3,FALSE())","v":3},"Competición","Extremeña"]
["1006013","Luengo Rodríguez, Montaña","3D","D",{"$f":"VLOOKUP(C661,Referencias!$C$4:$D$21,2,FALSE())","v":"Tercera Diamante"},{"$f":"VLOOKUP(I661,Referencias!$B$24:$C$41,2,FALSE())","v":"EXT"},{"$f":"VLOOKUP(C661,Referencias!$C$4:$E$21,3,FALSE())","v":3},"Competición","Extremeña"]
["1006014","Martín Antúnez, María Cristina","3D","D",{"$f":"VLOOKUP(C662,Referencias!$C$4:$D$21,2,FALSE())","v":"Tercera Diamante"},{"$f":"VLOOKUP(I662,Referencias!$B$24:$C$41,2,FALSE())","v":"EXT"},{"$f":"VLOOKUP(C662,Referencias!$C$4:$E$21,3,FALSE())","v":3},"Competición","Extremeña"]
["1006015","Calleja Pardo, Angel","3D","C",{"$f":"VLOOKUP(C663,Referencias!$C$4:$D$21,2,FALSE())","v":"Tercera Diamante"},{"$f":"VLOOKUP(I663,Referencias!$B$24:$C$41,2,FALSE())","v":"EXT"},{"$f":"VLOOKUP(C663,Referencias!$C$4:$E$21,3,FALSE())","v":3},"Competición","Extremeña"]
["1006016","Tena Dominguez, Miguel","3D","C",{"$f":"VLOOKUP(C664,Referencias!$C$4:$D$21,2,FALSE())","v":"Tercera Diamante"},{"$f":"VLOOKUP(I664,Referencias!$B$24:$C$41,2,FALSE())","v":"EXT"},{"$f":"VLOOKUP(C664,Referencias!$C$4:$E$21,3,FALSE())","v":3},"Competición","Extremeña"]
["1006018","Plaza Ocaña, Ascensión","3D","D",{"$f":"VLOOKUP(C665,Referencias!$C$4:$D$21,2,FALSE())","v":"Tercera Diamante"},{"$f":"VLOOKUP(I665,Referencias!$B$24:$C$41,2,FALSE())","v":"EXT"},{"$f":"VLOOKUP(C665,Referencias!$C$4:$E$21,3,FALSE())","v":3},"Competición","Extremeña"]
["1006019","Domínguez Retortillo, María Concepción","3D","D",{"$f":"VLOOKUP(C666,Referencias!$C$4:$D$21,2,FALSE())","v":"Tercera Diamante"},{"$f":"VLOOKUP(I666,Referencias!$B$24:$C$41,2,FALSE())","v":"EXT"},{"$f":"VLOOKUP(C666,Referencias!$C$4:$E$21,3,FALSE())","v":3},"Competición","Extremeña"]
["1006020","Murillo Sánchez, Vicente","3D","C",{"$f":"VLOOKUP(C667,Referencias!$C$4:$D$21,2,FALSE())","v":"Tercera Diamante"},{"$f":"VLOOKUP(I667,Referencias!$B$24:$C$41,2,FALSE())","v":"EXT"},{"$f":"VLOOKUP(C667,Referencias!$C$4:$E$21,3,FALSE())","v":3},"Competición","Extremeña"]
["1006021","Pérez Gallego, Francisco","3D","C",{"$f":"VLOOKUP(C668,Referencias!$C$4:$D$21,2,FALSE())","v":"Tercera Diamante"},{"$f":"VLOOKUP(I668,Referencias!$B$24:$C$41,2,FALSE())","v":"EXT"},{"$f":"VLOOKUP(C668,Referencias!$C$4:$E$21,3,FALSE())","v":3},"Competición","Extremeña"]
["1006022","López Delgado, María Inés","3D","D",{"$f":"VLOOKUP(C669,Referencias!$C$4:$D$21,2,FALSE())","v":"Tercera Diamante"},{"$f":"VLOOKUP(I669,Referencias!$B$24:$C$41,2,FALSE())","v":"EXT"},{"$f":"VLOOKUP(C669,Referencias!$C$4:$E$21,3,FALSE())","v":3},"Competición","Extremeña"]
["1161018","de la Yglesia Colom, Rosario","1P","D",{"$f":"VLOOKUP(C670,Referencias!$C$4:$D$21,2,FALSE())","v":"Primera Picas"},{"$f":"VLOOKUP(I670,Referencias!$B$24:$C$41,2,FALSE())","v":"AND"},{"$f":"VLOOKUP(C670,Referencias!$C$4:$E$21,3,FALSE())","v":1},"Competición","Andaluza"]
["1161019","de Cozar Pardo, Felipe José","1C","C",{"$f":"VLOOKUP(C671,Referencias!$C$4:$D$21,2,FALSE())","v":"Primera Corazón"},{"$f":"VLOOKUP(I671,Referencias!$B$24:$C$41,2,FALSE())","v":"AND"},{"$f":"VLOOKUP(C671,Referencias!$C$4:$E$21,3,FALSE())","v":1},"Competición","Andaluza"]
["1161054","Palomares Saéz, Inmaculada","2C","D",{"$f":"VLOOKUP(C672,Referencias!$C$4:$D$21,2,FALSE())","v":"Segunda Corazón"},{"$f":"VLOOKUP(I672,Referencias!$B$24:$C$41,2,FALSE())","v":"AND"},{"$f":"VLOOKUP(C672,Referencias!$C$4:$E$21,3,FALSE())","v":2},"Competición","Andaluza"]
["1161078","Mateos Zurdo, José","2P","C",{"$f":"VLOOKUP(C673,Referencias!$C$4:$D$21,2,FALSE())","v":"Segunda Picas"},{"$f":"VLOOKUP(I673,Referencias!$B$24:$C$41,2,FALSE())","v":"AND"},{"$f":"VLOOKUP(C673,Referencias!$C$4:$E$21,3,FALSE())","v":2},"Competición","Andaluza"]
["1161278","Blanco Gallardo, Carlos","2C","C",{"$f":"VLOOKUP(C674,Referencias!$C$4:$D$21,2,FALSE())","v":"Segunda Corazón"},{"$f":"VLOOKUP(I674,Referencias!$B$24:$C$41,2,FALSE())","v":"AND"},{"$f":"VLOOKUP(C674,Referencias!$C$4:$E$21,3,FALSE())","v":2},"Competición","Andaluza"]
["1161287","Villota Osborne, Ana","1C","D",{"$f":"VLOOKUP(C675,Referencias!$C$4:$D$21,2,FALSE())","v":"Primera Corazón"},{"$f":"VLOOKUP(I675,Referencias!$B$24:$C$41,2,FALSE())","v":"AND"},{"$f":"VLOOKUP(C675,Referencias!$C$4:$E$21,3,FALSE())","v":1},"Competición","Andaluza"]
["1161313","Nieto Moreno, Noemí","1C","D",{"$f":"VLOOKUP(C676,Referencias!$C$4:$D$21,2,FALSE())","v":"Primera Corazón"},{"$f":"VLOOKUP(I676,Referencias!$B$24:$C$41,2,FALSE())","v":"AND"},{"$f":"VLOOKUP(C676,Referencias!$C$4:$E$21,3,FALSE())","v":1},"Competición","Andaluza"]
["1161384","Gárate Martínez, José María","1P","C",{"$f":"VLOOKUP(C677,Referencias!$C$4:$D$21,2,FALSE())","v":"Primera Picas"},{"$f":"VLOOKUP(I677,Referencias!$B$24:$C$41,2,FALSE())","v":"AND"},{"$f":"VLOOKUP(C677,Referencias!$C$4:$E$21,3,FALSE())","v":1},"Competición","Andaluza"]
["1161421","Osborne Sánz-Magallón, María","1P","D",{"$f":"VLOOKUP(C678,Referencias!$C$4:$D$21,2,FALSE())","v":"Primera Picas"},{"$f":"VLOOKUP(I678,Referencias!$B$24:$C$41,2,FALSE())","v":"AND"},{"$f":"VLOOKUP(C678,Referencias!$C$4:$E$21,3,FALSE())","v":1},"Competición","Andaluza"]
["1161422","De las Heras Gil, Mª Luisa","3D","D",{"$f":"VLOOKUP(C679,Referencias!$C$4:$D$21,2,FALSE())","v":"Tercera Diamante"},{"$f":"VLOOKUP(I679,Referencias!$B$24:$C$41,2,FALSE())","v":"AND"},{"$f":"VLOOKUP(C679,Referencias!$C$4:$E$21,3,FALSE())","v":3},"Competición","Andaluza"]
["1161451","Arteaga Dávila, Elvira","2C","D",{"$f":"VLOOKUP(C680,Referencias!$C$4:$D$21,2,FALSE())","v":"Segunda Corazón"},{"$f":"VLOOKUP(I680,Referencias!$B$24:$C$41,2,FALSE())","v":"AND"},{"$f":"VLOOKUP(C680,Referencias!$C$4:$E$21,3,FALSE())","v":2},"Competición","Andaluza"]
["1161514","Pardo Pubul, Angeles","2P","D",{"$f":"VLOOKUP(C681,Referencias!$C$4:$D$21,2,FALSE())","v":"Segunda Picas"},{"$f":"VLOOKUP(I681,Referencias!$B$24:$C$41,2,FALSE())","v":"AND"},{"$f":"VLOOKUP(C681,Referencias!$C$4:$E$21,3,FALSE())","v":2},"Competición","Andaluza"]
["1161529","Rivero Menendez-Ormaza, Victoria","1D","C",{"$f":"VLOOKUP(C682,Referencias!$C$4:$D$21,2,FALSE())","v":"Primera Diamante"},{"$f":"VLOOKUP(I682,Referencias!$B$24:$C$41,2,FALSE())","v":"AND"},{"$f":"VLOOKUP(C682,Referencias!$C$4:$E$21,3,FALSE())","v":1},"Competición","Andaluza"]
["1161531","Díaz-Gálvez de la Cámara, Carmen","3C","D",{"$f":"VLOOKUP(C683,Referencias!$C$4:$D$21,2,FALSE())","v":"Tercera Corazón"},{"$f":"VLOOKUP(I683,Referencias!$B$24:$C$41,2,FALSE())","v":"AND"},{"$f":"VLOOKUP(C683,Referencias!$C$4:$E$21,3,FALSE())","v":3},"Competición","Andaluza"]
["1161532","Filhol, Claire","2C","D",{"$f":"VLOOKUP(C684,Referencias!$C$4:$D$21,2,FALSE())","v":"Segunda Corazón"},{"$f":"VLOOKUP(I684,Referencias!$B$24:$C$41,2,FALSE())","v":"AND"},{"$f":"VLOOKUP(C684,Referencias!$C$4:$E$21,3,FALSE())","v":2},"Competición","Andaluza"]
["1161535","Bustamante Molina, María Angeles","3C","D",{"$f":"VLOOKUP(C685,Referencias!$C$4:$D$21,2,FALSE())","v":"Tercera Corazón"},{"$f":"VLOOKUP(I685,Referencias!$B$24:$C$41,2,FALSE())","v":"AND"},{"$f":"VLOOKUP(C685,Referencias!$C$4:$E$21,3,FALSE())","v":3},"Competición","Andaluza"]
["1161536","Mariñas Dávila, Emilia","3P","D",{"$f":"VLOOKUP(C686,Referencias!$C$4:$D$21,2,FALSE())","v":"Tercera Picas"},{"$f":"VLOOKUP(I686,Referencias!$B$24:$C$41,2,FALSE())","v":"AND"},{"$f":"VLOOKUP(C686,Referencias!$C$4:$E$21,3,FALSE())","v":3},"Competición","Andaluza"]
["1161549","Álvarez-Requejo Pérez, Marta","3D","D",{"$f":"VLOOKUP(C687,Referencias!$C$4:$D$21,2,FALSE())","v":"Tercera Diamante"},{"$f":"VLOOKUP(I687,Referencias!$B$24:$C$41,2,FALSE())","v":"AND"},{"$f":"VLOOKUP(C687,Referencias!$C$4:$E$21,3,FALSE())","v":3},"Competición","Andaluza"]
["1161550","Sánchez-Briñas de Leyva, Salud","3D","D",{"$f":"VLOOKUP(C688,Referencias!$C$4:$D$21,2,FALSE())","v":"Tercera Diamante"},{"$f":"VLOOKUP(I688,Referencias!$B$24:$C$41,2,FALSE())","v":"AND"},{"$f":"VLOOKUP(C688,Referencias!$C$4:$E$21,3,FALSE())","v":3},"Competición","Andaluza"]
["1161551","Gandarias Nuñez, María Luz","3C","D",{"$f":"VLOOKUP(C689,Referencias!$C$4:$D$21,2,FALSE())","v":"Tercera Corazón"},{"$f":"VLOOKUP(I689,Referencias!$B$24:$C$41,2,FALSE())","v":"AND"},{"$f":"VLOOKUP(C689,Referencias!$C$4:$E$21,3,FALSE())","v":3},"Competición","Andaluza"]
["1161567","Artesero Pinilla, Pilar","3C","D",{"$f":"VLOOKUP(C690,Referencias!$C$4:$D$21,2,FALSE())","v":"Tercera Corazón"},{"$f":"VLOOKUP(I690,Referencias!$B$24:$C$41,2,FALSE())","v":"AND"},{"$f":"VLOOKUP(C690,Referencias!$C$4:$E$21,3,FALSE())","v":3},"Competición","Andaluza"]
["1161568","Cobián Echevarría,  María Dolores","3P","D",{"$f":"VLOOKUP(C691,Referencias!$C$4:$D$21,2,FALSE())","v":"Tercera Picas"},{"$f":"VLOOKUP(I691,Referencias!$B$24:$C$41,2,FALSE())","v":"AND"},{"$f":"VLOOKUP(C691,Referencias!$C$4:$E$21,3,FALSE())","v":3},"Competición","Andaluza"]
["1161569","Fauro Rodríguez, Mª Carmen","3C","D",{"$f":"VLOOKUP(C692,Referencias!$C$4:$D$21,2,FALSE())","v":"Tercera Corazón"},{"$f":"VLOOKUP(I692,Referencias!$B$24:$C$41,2,FALSE())","v":"AND"},{"$f":"VLOOKUP(C692,Referencias!$C$4:$E$21,3,FALSE())","v":3},"Competición","Andaluza"]
["1161570","Foley, Simón","3C","C",{"$f":"VLOOKUP(C693,Referencias!$C$4:$D$21,2,FALSE())","v":"Tercera Corazón"},{"$f":"VLOOKUP(I693,Referencias!$B$24:$C$41,2,FALSE())","v":"AND"},{"$f":"VLOOKUP(C693,Referencias!$C$4:$E$21,3,FALSE())","v":3},"Competición","Andaluza"]
["1161571","Gazapo Aguilera, Almudena","3D","D",{"$f":"VLOOKUP(C694,Referencias!$C$4:$D$21,2,FALSE())","v":"Tercera Diamante"},{"$f":"VLOOKUP(I694,Referencias!$B$24:$C$41,2,FALSE())","v":"AND"},{"$f":"VLOOKUP(C694,Referencias!$C$4:$E$21,3,FALSE())","v":3},"Competición","Andaluza"]
["1161572","Juliá Díaz, Marian","3P","D",{"$f":"VLOOKUP(C695,Referencias!$C$4:$D$21,2,FALSE())","v":"Tercera Picas"},{"$f":"VLOOKUP(I695,Referencias!$B$24:$C$41,2,FALSE())","v":"AND"},{"$f":"VLOOKUP(C695,Referencias!$C$4:$E$21,3,FALSE())","v":3},"Competición","Andaluza"]
["1161574","Robina Porras, Josefina","3C","D",{"$f":"VLOOKUP(C696,Referencias!$C$4:$D$21,2,FALSE())","v":"Tercera Corazón"},{"$f":"VLOOKUP(I696,Referencias!$B$24:$C$41,2,FALSE())","v":"AND"},{"$f":"VLOOKUP(C696,Referencias!$C$4:$E$21,3,FALSE())","v":3},"Competición","Andaluza"]
["1161575","Simo Marra-López, Aurora","1P","D",{"$f":"VLOOKUP(C697,Referencias!$C$4:$D$21,2,FALSE())","v":"Primera Picas"},{"$f":"VLOOKUP(I697,Referencias!$B$24:$C$41,2,FALSE())","v":"AND"},{"$f":"VLOOKUP(C697,Referencias!$C$4:$E$21,3,FALSE())","v":1},"Competición","Andaluza"]
["1161579","Miralles de Imperial, María Luisa","2D","D",{"$f":"VLOOKUP(C698,Referencias!$C$4:$D$21,2,FALSE())","v":"Segunda Diamante"},{"$f":"VLOOKUP(I698,Referencias!$B$24:$C$41,2,FALSE())","v":"AND"},{"$f":"VLOOKUP(C698,Referencias!$C$4:$E$21,3,FALSE())","v":2},"Competición","Andaluza"]
["1161598","Mateos Zurdo, Isabel","2D","D",{"$f":"VLOOKUP(C699,Referencias!$C$4:$D$21,2,FALSE())","v":"Segunda Diamante"},{"$f":"VLOOKUP(I699,Referencias!$B$24:$C$41,2,FALSE())","v":"AND"},{"$f":"VLOOKUP(C699,Referencias!$C$4:$E$21,3,FALSE())","v":2},"Competición","Andaluza"]
["1161600","Fernández Dosal, Pilar","3D","D",{"$f":"VLOOKUP(C700,Referencias!$C$4:$D$21,2,FALSE())","v":"Tercera Diamante"},{"$f":"VLOOKUP(I700,Referencias!$B$24:$C$41,2,FALSE())","v":"AND"},{"$f":"VLOOKUP(C700,Referencias!$C$4:$E$21,3,FALSE())","v":3},"Competición","Andaluza"]
["1161601","Freire, María","3D","D",{"$f":"VLOOKUP(C701,Referencias!$C$4:$D$21,2,FALSE())","v":"Tercera Diamante"},{"$f":"VLOOKUP(I701,Referencias!$B$24:$C$41,2,FALSE())","v":"AND"},{"$f":"VLOOKUP(C701,Referencias!$C$4:$E$21,3,FALSE())","v":3},"Competición","Andaluza"]
["1161605","Pérez, Piluca","2D","D",{"$f":"VLOOKUP(C702,Referencias!$C$4:$D$21,2,FALSE())","v":"Segunda Diamante"},{"$f":"VLOOKUP(I702,Referencias!$B$24:$C$41,2,FALSE())","v":"AND"},{"$f":"VLOOKUP(C702,Referencias!$C$4:$E$21,3,FALSE())","v":2},"Competición","Andaluza"]
["1161606","Serrera, Salud","3C","D",{"$f":"VLOOKUP(C703,Referencias!$C$4:$D$21,2,FALSE())","v":"Tercera Corazón"},{"$f":"VLOOKUP(I703,Referencias!$B$24:$C$41,2,FALSE())","v":"AND"},{"$f":"VLOOKUP(C703,Referencias!$C$4:$E$21,3,FALSE())","v":3},"Competición","Andaluza"]
["1161609","Cozar Pardo, Rafael","3P","C",{"$f":"VLOOKUP(C704,Referencias!$C$4:$D$21,2,FALSE())","v":"Tercera Picas"},{"$f":"VLOOKUP(I704,Referencias!$B$24:$C$41,2,FALSE())","v":"AND"},{"$f":"VLOOKUP(C704,Referencias!$C$4:$E$21,3,FALSE())","v":3},"Competición","Andaluza"]
["1161612","Palomares Sáez, Ana","3D","D",{"$f":"VLOOKUP(C705,Referencias!$C$4:$D$21,2,FALSE())","v":"Tercera Diamante"},{"$f":"VLOOKUP(I705,Referencias!$B$24:$C$41,2,FALSE())","v":"AND"},{"$f":"VLOOKUP(C705,Referencias!$C$4:$E$21,3,FALSE())","v":3},"Competición","Andaluza"]
["1161638","Pardo Manuel de Villena, Pedro","3D","C",{"$f":"VLOOKUP(C706,Referencias!$C$4:$D$21,2,FALSE())","v":"Tercera Diamante"},{"$f":"VLOOKUP(I706,Referencias!$B$24:$C$41,2,FALSE())","v":"AND"},{"$f":"VLOOKUP(C706,Referencias!$C$4:$E$21,3,FALSE())","v":3},"Competición","Andaluza"]
["1161639","González Martínez, Corona","3D","D",{"$f":"VLOOKUP(C707,Referencias!$C$4:$D$21,2,FALSE())","v":"Tercera Diamante"},{"$f":"VLOOKUP(I707,Referencias!$B$24:$C$41,2,FALSE())","v":"AND"},{"$f":"VLOOKUP(C707,Referencias!$C$4:$E$21,3,FALSE())","v":3},"Competición","Andaluza"]
["1161648","Carvallo de Cora, Jorge","3D","C",{"$f":"VLOOKUP(C708,Referencias!$C$4:$D$21,2,FALSE())","v":"Tercera Diamante"},{"$f":"VLOOKUP(I708,Referencias!$B$24:$C$41,2,FALSE())","v":"AND"},{"$f":"VLOOKUP(C708,Referencias!$C$4:$E$21,3,FALSE())","v":3},"Competición","Andaluza"]
["1161649","Bajo Arenas, Rosario","2D","D",{"$f":"VLOOKUP(C709,Referencias!$C$4:$D$21,2,FALSE())","v":"Segunda Diamante"},{"$f":"VLOOKUP(I709,Referencias!$B$24:$C$41,2,FALSE())","v":"AND"},{"$f":"VLOOKUP(C709,Referencias!$C$4:$E$21,3,FALSE())","v":2},"Competición","Andaluza"]
["1161662","Ales Esteban, Carlos","3D","C",{"$f":"VLOOKUP(C710,Referencias!$C$4:$D$21,2,FALSE())","v":"Tercera Diamante"},{"$f":"VLOOKUP(I710,Referencias!$B$24:$C$41,2,FALSE())","v":"AND"},{"$f":"VLOOKUP(C710,Referencias!$C$4:$E$21,3,FALSE())","v":3},"Competición","Andaluza"]
["1161663","Gómez Valero, María Teresa","3D","D",{"$f":"VLOOKUP(C711,Referencias!$C$4:$D$21,2,FALSE())","v":"Tercera Diamante"},{"$f":"VLOOKUP(I711,Referencias!$B$24:$C$41,2,FALSE())","v":"AND"},{"$f":"VLOOKUP(C711,Referencias!$C$4:$E$21,3,FALSE())","v":3},"Competición","Andaluza"]
["1161664","Bardet Lascaux-Laforest, Liliana","3D","D",{"$f":"VLOOKUP(C712,Referencias!$C$4:$D$21,2,FALSE())","v":"Tercera Diamante"},{"$f":"VLOOKUP(I712,Referencias!$B$24:$C$41,2,FALSE())","v":"AND"},{"$f":"VLOOKUP(C712,Referencias!$C$4:$E$21,3,FALSE())","v":3},"Competición","Andaluza"]
["1161665","Ayuso García, Pilar","3D","D",{"$f":"VLOOKUP(C713,Referencias!$C$4:$D$21,2,FALSE())","v":"Tercera Diamante"},{"$f":"VLOOKUP(I713,Referencias!$B$24:$C$41,2,FALSE())","v":"AND"},{"$f":"VLOOKUP(C713,Referencias!$C$4:$E$21,3,FALSE())","v":3},"Competición","Andaluza"]
["1161667","Sánchez de Cos Escuin, Javier","3D","C",{"$f":"VLOOKUP(C714,Referencias!$C$4:$D$21,2,FALSE())","v":"Tercera Diamante"},{"$f":"VLOOKUP(I714,Referencias!$B$24:$C$41,2,FALSE())","v":"AND"},{"$f":"VLOOKUP(C714,Referencias!$C$4:$E$21,3,FALSE())","v":3},"Competición","Andaluza"]
["1161668","Miguel de la Villa, Ricardo","3D","C",{"$f":"VLOOKUP(C715,Referencias!$C$4:$D$21,2,FALSE())","v":"Tercera Diamante"},{"$f":"VLOOKUP(I715,Referencias!$B$24:$C$41,2,FALSE())","v":"AND"},{"$f":"VLOOKUP(C715,Referencias!$C$4:$E$21,3,FALSE())","v":3},"Competición","Andaluza"]
["1161671","Sánchez-Ferragut  Guelfo, María del Carmen","3D","D",{"$f":"VLOOKUP(C716,Referencias!$C$4:$D$21,2,FALSE())","v":"Tercera Diamante"},{"$f":"VLOOKUP(I716,Referencias!$B$24:$C$41,2,FALSE())","v":"AND"},{"$f":"VLOOKUP(C716,Referencias!$C$4:$E$21,3,FALSE())","v":3},"Competición","Andaluza"]
["1161676","Merchante Gutiérrez, María José","3D","D",{"$f":"VLOOKUP(C717,Referencias!$C$4:$D$21,2,FALSE())","v":"Tercera Diamante"},{"$f":"VLOOKUP(I717,Referencias!$B$24:$C$41,2,FALSE())","v":"AND"},{"$f":"VLOOKUP(C717,Referencias!$C$4:$E$21,3,FALSE())","v":3},"Competición","Andaluza"]
["1161677","Moreno Valiente, Cristobal","3D","C",{"$f":"VLOOKUP(C718,Referencias!$C$4:$D$21,2,FALSE())","v":"Tercera Diamante"},{"$f":"VLOOKUP(I718,Referencias!$B$24:$C$41,2,FALSE())","v":"AND"},{"$f":"VLOOKUP(C718,Referencias!$C$4:$E$21,3,FALSE())","v":3},"Competición","Andaluza"]
["1161678","Siloniz Fernández, Encarnación","3P","D",{"$f":"VLOOKUP(C719,Referencias!$C$4:$D$21,2,FALSE())","v":"Tercera Picas"},{"$f":"VLOOKUP(I719,Referencias!$B$24:$C$41,2,FALSE())","v":"AND"},{"$f":"VLOOKUP(C719,Referencias!$C$4:$E$21,3,FALSE())","v":3},"Competición","Andaluza"]
["1161679","Aguado Santos, Julia María","3D","D",{"$f":"VLOOKUP(C720,Referencias!$C$4:$D$21,2,FALSE())","v":"Tercera Diamante"},{"$f":"VLOOKUP(I720,Referencias!$B$24:$C$41,2,FALSE())","v":"AND"},{"$f":"VLOOKUP(C720,Referencias!$C$4:$E$21,3,FALSE())","v":3},"Competición","Andaluza"]
["1161683","Sánchez Gracián, María Luisa","3D","D",{"$f":"VLOOKUP(C721,Referencias!$C$4:$D$21,2,FALSE())","v":"Tercera Diamante"},{"$f":"VLOOKUP(I721,Referencias!$B$24:$C$41,2,FALSE())","v":"AND"},{"$f":"VLOOKUP(C721,Referencias!$C$4:$E$21,3,FALSE())","v":3},"Competición","Andaluza"]
["1161685","Hortelano de la Lastra, Ana María","3D","D",{"$f":"VLOOKUP(C722,Referencias!$C$4:$D$21,2,FALSE())","v":"Tercera Diamante"},{"$f":"VLOOKUP(I722,Referencias!$B$24:$C$41,2,FALSE())","v":"AND"},{"$f":"VLOOKUP(C722,Referencias!$C$4:$E$21,3,FALSE())","v":3},"Competición","Andaluza"]
["1161686","Asencio Marchante, Maria del Rosario","3D","D",{"$f":"VLOOKUP(C723,Referencias!$C$4:$D$21,2,FALSE())","v":"Tercera Diamante"},{"$f":"VLOOKUP(I723,Referencias!$B$24:$C$41,2,FALSE())","v":"AND"},{"$f":"VLOOKUP(C723,Referencias!$C$4:$E$21,3,FALSE())","v":3},"Competición","Andaluza"]
["1161699","Fernández de Bobadilla Rivero, Álvaro","MN-O","C",{"$f":"VLOOKUP(C724,Referencias!$C$4:$D$21,2,FALSE())","v":"Maestro Nacional Open"},{"$f":"VLOOKUP(I724,Referencias!$B$24:$C$41,2,FALSE())","v":"AND"},{"$f":"VLOOKUP(C724,Referencias!$C$4:$E$21,3,FALSE())","v":0},"Competición","Andaluza"]
["1161707","Lamana Chico, María Cristina","3D","D",{"$f":"VLOOKUP(C725,Referencias!$C$4:$D$21,2,FALSE())","v":"Tercera Diamante"},{"$f":"VLOOKUP(I725,Referencias!$B$24:$C$41,2,FALSE())","v":"AND"},{"$f":"VLOOKUP(C725,Referencias!$C$4:$E$21,3,FALSE())","v":3},"Competición","Andaluza"]
["1161721","Villanueva Ruíz-Mateos, Cristina","3D","D",{"$f":"VLOOKUP(C726,Referencias!$C$4:$D$21,2,FALSE())","v":"Tercera Diamante"},{"$f":"VLOOKUP(I726,Referencias!$B$24:$C$41,2,FALSE())","v":"AND"},{"$f":"VLOOKUP(C726,Referencias!$C$4:$E$21,3,FALSE())","v":3},"Competición","Andaluza"]
["1161729","Van Kretschmar, Rutgera Eugenie","3D","D",{"$f":"VLOOKUP(C727,Referencias!$C$4:$D$21,2,FALSE())","v":"Tercera Diamante"},{"$f":"VLOOKUP(I727,Referencias!$B$24:$C$41,2,FALSE())","v":"AND"},{"$f":"VLOOKUP(C727,Referencias!$C$4:$E$21,3,FALSE())","v":3},"Competición","Andaluza"]
["1161730","Barreras Pérez, Julio","3C","C",{"$f":"VLOOKUP(C728,Referencias!$C$4:$D$21,2,FALSE())","v":"Tercera Corazón"},{"$f":"VLOOKUP(I728,Referencias!$B$24:$C$41,2,FALSE())","v":"AND"},{"$f":"VLOOKUP(C728,Referencias!$C$4:$E$21,3,FALSE())","v":3},"Competición","Andaluza"]
["1161734","Arrospide Carrero, Alfonso","2D","C",{"$f":"VLOOKUP(C729,Referencias!$C$4:$D$21,2,FALSE())","v":"Segunda Diamante"},{"$f":"VLOOKUP(I729,Referencias!$B$24:$C$41,2,FALSE())","v":"AND"},{"$f":"VLOOKUP(C729,Referencias!$C$4:$E$21,3,FALSE())","v":2},"Competición","Andaluza"]
["1161740","Domecq Solis, María Micaela","3D","D",{"$f":"VLOOKUP(C730,Referencias!$C$4:$D$21,2,FALSE())","v":"Tercera Diamante"},{"$f":"VLOOKUP(I730,Referencias!$B$24:$C$41,2,FALSE())","v":"AND"},{"$f":"VLOOKUP(C730,Referencias!$C$4:$E$21,3,FALSE())","v":3},"Competición","Andaluza"]
["1161742","Morenes Giles, Mercedes","3D","D",{"$f":"VLOOKUP(C731,Referencias!$C$4:$D$21,2,FALSE())","v":"Tercera Diamante"},{"$f":"VLOOKUP(I731,Referencias!$B$24:$C$41,2,FALSE())","v":"AND"},{"$f":"VLOOKUP(C731,Referencias!$C$4:$E$21,3,FALSE())","v":3},"Competición","Andaluza"]
["1161743","Gutierrez Colosia, Elisa","3D","D",{"$f":"VLOOKUP(C732,Referencias!$C$4:$D$21,2,FALSE())","v":"Tercera Diamante"},{"$f":"VLOOKUP(I732,Referencias!$B$24:$C$41,2,FALSE())","v":"AND"},{"$f":"VLOOKUP(C732,Referencias!$C$4:$E$21,3,FALSE())","v":3},"Competición","Andaluza"]
["1161760","O´Farrel Cervera, Verónica","3D","D",{"$f":"VLOOKUP(C733,Referencias!$C$4:$D$21,2,FALSE())","v":"Tercera Diamante"},{"$f":"VLOOKUP(I733,Referencias!$B$24:$C$41,2,FALSE())","v":"AND"},{"$f":"VLOOKUP(C733,Referencias!$C$4:$E$21,3,FALSE())","v":3},"Competición","Andaluza"]
["1161777","Bajo Arenas, José Manuel","3D","C",{"$f":"VLOOKUP(C734,Referencias!$C$4:$D$21,2,FALSE())","v":"Tercera Diamante"},{"$f":"VLOOKUP(I734,Referencias!$B$24:$C$41,2,FALSE())","v":"AND"},{"$f":"VLOOKUP(C734,Referencias!$C$4:$E$21,3,FALSE())","v":3},"Competición","Andaluza"]
["1161778","Colomina Casaus, Isabel","3D","D",{"$f":"VLOOKUP(C735,Referencias!$C$4:$D$21,2,FALSE())","v":"Tercera Diamante"},{"$f":"VLOOKUP(I735,Referencias!$B$24:$C$41,2,FALSE())","v":"AND"},{"$f":"VLOOKUP(C735,Referencias!$C$4:$E$21,3,FALSE())","v":3},"Competición","Andaluza"]
["1161779","Anchústegui Lluria, José Luis","3C","C",{"$f":"VLOOKUP(C736,Referencias!$C$4:$D$21,2,FALSE())","v":"Tercera Corazón"},{"$f":"VLOOKUP(I736,Referencias!$B$24:$C$41,2,FALSE())","v":"AND"},{"$f":"VLOOKUP(C736,Referencias!$C$4:$E$21,3,FALSE())","v":3},"Competición","Andaluza"]
["1161781","Tedoldi, Cecilia","3D","D",{"$f":"VLOOKUP(C737,Referencias!$C$4:$D$21,2,FALSE())","v":"Tercera Diamante"},{"$f":"VLOOKUP(I737,Referencias!$B$24:$C$41,2,FALSE())","v":"AND"},{"$f":"VLOOKUP(C737,Referencias!$C$4:$E$21,3,FALSE())","v":3},"Competición","Andaluza"]
["1161782","White, Denise","3D","D",{"$f":"VLOOKUP(C738,Referencias!$C$4:$D$21,2,FALSE())","v":"Tercera Diamante"},{"$f":"VLOOKUP(I738,Referencias!$B$24:$C$41,2,FALSE())","v":"AND"},{"$f":"VLOOKUP(C738,Referencias!$C$4:$E$21,3,FALSE())","v":3},"Competición","Andaluza"]
["1161801","Pérez Enciso  Montejo, Paloma","3D","D",{"$f":"VLOOKUP(C739,Referencias!$C$4:$D$21,2,FALSE())","v":"Tercera Diamante"},{"$f":"VLOOKUP(I739,Referencias!$B$24:$C$41,2,FALSE())","v":"AND"},{"$f":"VLOOKUP(C739,Referencias!$C$4:$E$21,3,FALSE())","v":3},"Competición","Andaluza"]
["1161806","Machenaud, Roland","3D","C",{"$f":"VLOOKUP(C740,Referencias!$C$4:$D$21,2,FALSE())","v":"Tercera Diamante"},{"$f":"VLOOKUP(I740,Referencias!$B$24:$C$41,2,FALSE())","v":"AND"},{"$f":"VLOOKUP(C740,Referencias!$C$4:$E$21,3,FALSE())","v":3},"Competición","Andaluza"]
["1161807","d'Epenoux, Patrick","3D","C",{"$f":"VLOOKUP(C741,Referencias!$C$4:$D$21,2,FALSE())","v":"Tercera Diamante"},{"$f":"VLOOKUP(I741,Referencias!$B$24:$C$41,2,FALSE())","v":"AND"},{"$f":"VLOOKUP(C741,Referencias!$C$4:$E$21,3,FALSE())","v":3},"Competición","Andaluza"]
["1161810","Cantos Ruiz, Ignacio","1D","C",{"$f":"VLOOKUP(C742,Referencias!$C$4:$D$21,2,FALSE())","v":"Primera Diamante"},{"$f":"VLOOKUP(I742,Referencias!$B$24:$C$41,2,FALSE())","v":"AND"},{"$f":"VLOOKUP(C742,Referencias!$C$4:$E$21,3,FALSE())","v":1},"Competición","Andaluza"]
["1161812","Rodríguez-Guerra Mozo, Rocio","3D","D",{"$f":"VLOOKUP(C743,Referencias!$C$4:$D$21,2,FALSE())","v":"Tercera Diamante"},{"$f":"VLOOKUP(I743,Referencias!$B$24:$C$41,2,FALSE())","v":"AND"},{"$f":"VLOOKUP(C743,Referencias!$C$4:$E$21,3,FALSE())","v":3},"Competición","Andaluza"]
["1161813","Martínez Derqui, María","3D","D",{"$f":"VLOOKUP(C744,Referencias!$C$4:$D$21,2,FALSE())","v":"Tercera Diamante"},{"$f":"VLOOKUP(I744,Referencias!$B$24:$C$41,2,FALSE())","v":"AND"},{"$f":"VLOOKUP(C744,Referencias!$C$4:$E$21,3,FALSE())","v":3},"Competición","Andaluza"]
["1161818","De Pelsmaeker Martín, Begoña","2P","D",{"$f":"VLOOKUP(C745,Referencias!$C$4:$D$21,2,FALSE())","v":"Segunda Picas"},{"$f":"VLOOKUP(I745,Referencias!$B$24:$C$41,2,FALSE())","v":"AND"},{"$f":"VLOOKUP(C745,Referencias!$C$4:$E$21,3,FALSE())","v":2},"Competición","Andaluza"]
["1167009","de Lorgeril Dupeyron, Sabine","1P","D",{"$f":"VLOOKUP(C746,Referencias!$C$4:$D$21,2,FALSE())","v":"Primera Picas"},{"$f":"VLOOKUP(I746,Referencias!$B$24:$C$41,2,FALSE())","v":"AND"},{"$f":"VLOOKUP(C746,Referencias!$C$4:$E$21,3,FALSE())","v":1},"Competición","Andaluza"]
["1167015","Fernández de Bobadilla Rivero, Regla","3P","D",{"$f":"VLOOKUP(C747,Referencias!$C$4:$D$21,2,FALSE())","v":"Tercera Picas"},{"$f":"VLOOKUP(I747,Referencias!$B$24:$C$41,2,FALSE())","v":"AND"},{"$f":"VLOOKUP(C747,Referencias!$C$4:$E$21,3,FALSE())","v":3},"Competición","Andaluza"]
["1167021","Jurado Alvarez, Alfonso","1P","C",{"$f":"VLOOKUP(C748,Referencias!$C$4:$D$21,2,FALSE())","v":"Primera Picas"},{"$f":"VLOOKUP(I748,Referencias!$B$24:$C$41,2,FALSE())","v":"AND"},{"$f":"VLOOKUP(C748,Referencias!$C$4:$E$21,3,FALSE())","v":1},"Competición","Andaluza"]
["1167026","Pemartín Díez, Agueda","2C","D",{"$f":"VLOOKUP(C749,Referencias!$C$4:$D$21,2,FALSE())","v":"Segunda Corazón"},{"$f":"VLOOKUP(I749,Referencias!$B$24:$C$41,2,FALSE())","v":"AND"},{"$f":"VLOOKUP(C749,Referencias!$C$4:$E$21,3,FALSE())","v":2},"Competición","Andaluza"]
["1241163","Torres Tena, Vicente","3D","C",{"$f":"VLOOKUP(C750,Referencias!$C$4:$D$21,2,FALSE())","v":"Tercera Diamante"},{"$f":"VLOOKUP(I750,Referencias!$B$24:$C$41,2,FALSE())","v":"C.VAL"},{"$f":"VLOOKUP(C750,Referencias!$C$4:$E$21,3,FALSE())","v":3},"Competición","C. Valenciana"]
["1241164","de la Torre Nuñez, Gabriela","3D","D",{"$f":"VLOOKUP(C751,Referencias!$C$4:$D$21,2,FALSE())","v":"Tercera Diamante"},{"$f":"VLOOKUP(I751,Referencias!$B$24:$C$41,2,FALSE())","v":"C.VAL"},{"$f":"VLOOKUP(C751,Referencias!$C$4:$E$21,3,FALSE())","v":3},"Competición","C. Valenciana"]
["1241165","Hernández Sanchis, María José","3D","D",{"$f":"VLOOKUP(C752,Referencias!$C$4:$D$21,2,FALSE())","v":"Tercera Diamante"},{"$f":"VLOOKUP(I752,Referencias!$B$24:$C$41,2,FALSE())","v":"C.VAL"},{"$f":"VLOOKUP(C752,Referencias!$C$4:$E$21,3,FALSE())","v":3},"Competición","C. Valenciana"]
["1241178","Ferrer Ros de Ursinos, Mercedes","3D","D",{"$f":"VLOOKUP(C753,Referencias!$C$4:$D$21,2,FALSE())","v":"Tercera Diamante"},{"$f":"VLOOKUP(I753,Referencias!$B$24:$C$41,2,FALSE())","v":"C.VAL"},{"$f":"VLOOKUP(C753,Referencias!$C$4:$E$21,3,FALSE())","v":3},"Competición","C. Valenciana"]
["1241189","Pellicer Tarrega, María Teresa","3D","D",{"$f":"VLOOKUP(C754,Referencias!$C$4:$D$21,2,FALSE())","v":"Tercera Diamante"},{"$f":"VLOOKUP(I754,Referencias!$B$24:$C$41,2,FALSE())","v":"C.VAL"},{"$f":"VLOOKUP(C754,Referencias!$C$4:$E$21,3,FALSE())","v":3},"Competición","C. Valenciana"]
["1241268","Torla Cepria, Carlos","3D","C",{"$f":"VLOOKUP(C755,Referencias!$C$4:$D$21,2,FALSE())","v":"Tercera Diamante"},{"$f":"VLOOKUP(I755,Referencias!$B$24:$C$41,2,FALSE())","v":"C.VAL"},{"$f":"VLOOKUP(C755,Referencias!$C$4:$E$21,3,FALSE())","v":3},"Competición","C. Valenciana"]
["1241272","Estornell Cifre, Francisca","3D","D",{"$f":"VLOOKUP(C756,Referencias!$C$4:$D$21,2,FALSE())","v":"Tercera Diamante"},{"$f":"VLOOKUP(I756,Referencias!$B$24:$C$41,2,FALSE())","v":"C.VAL"},{"$f":"VLOOKUP(C756,Referencias!$C$4:$E$21,3,FALSE())","v":3},"Competición","C. Valenciana"]
["1241275","Tomas Vilanova, Ana-Evelia","3D","D",{"$f":"VLOOKUP(C757,Referencias!$C$4:$D$21,2,FALSE())","v":"Tercera Diamante"},{"$f":"VLOOKUP(I757,Referencias!$B$24:$C$41,2,FALSE())","v":"C.VAL"},{"$f":"VLOOKUP(C757,Referencias!$C$4:$E$21,3,FALSE())","v":3},"Competición","C. Valenciana"]
["1241277","Aranda Catalá, María Teresa","3D","D",{"$f":"VLOOKUP(C758,Referencias!$C$4:$D$21,2,FALSE())","v":"Tercera Diamante"},{"$f":"VLOOKUP(I758,Referencias!$B$24:$C$41,2,FALSE())","v":"C.VAL"},{"$f":"VLOOKUP(C758,Referencias!$C$4:$E$21,3,FALSE())","v":3},"Competición","C. Valenciana"]
["1241425","Bru Cortés, María Dolores","3D","D",{"$f":"VLOOKUP(C759,Referencias!$C$4:$D$21,2,FALSE())","v":"Tercera Diamante"},{"$f":"VLOOKUP(I759,Referencias!$B$24:$C$41,2,FALSE())","v":"C.VAL"},{"$f":"VLOOKUP(C759,Referencias!$C$4:$E$21,3,FALSE())","v":3},"Competición","C. Valenciana"]
["1241426","Morales Monsalvez, Milagros","3D","D",{"$f":"VLOOKUP(C760,Referencias!$C$4:$D$21,2,FALSE())","v":"Tercera Diamante"},{"$f":"VLOOKUP(I760,Referencias!$B$24:$C$41,2,FALSE())","v":"C.VAL"},{"$f":"VLOOKUP(C760,Referencias!$C$4:$E$21,3,FALSE())","v":3},"Competición","C. Valenciana"]
["1241583","Astley, Janice","3D","D",{"$f":"VLOOKUP(C761,Referencias!$C$4:$D$21,2,FALSE())","v":"Tercera Diamante"},{"$f":"VLOOKUP(I761,Referencias!$B$24:$C$41,2,FALSE())","v":"C.VAL"},{"$f":"VLOOKUP(C761,Referencias!$C$4:$E$21,3,FALSE())","v":3},"Competición","C. Valenciana"]
["1241649","Fernández Blanes, Macarena","3D","D",{"$f":"VLOOKUP(C762,Referencias!$C$4:$D$21,2,FALSE())","v":"Tercera Diamante"},{"$f":"VLOOKUP(I762,Referencias!$B$24:$C$41,2,FALSE())","v":"C.VAL"},{"$f":"VLOOKUP(C762,Referencias!$C$4:$E$21,3,FALSE())","v":3},"Competición","C. Valenciana"]
["1241650","Guinot Peris, María Isabel","3D","D",{"$f":"VLOOKUP(C763,Referencias!$C$4:$D$21,2,FALSE())","v":"Tercera Diamante"},{"$f":"VLOOKUP(I763,Referencias!$B$24:$C$41,2,FALSE())","v":"C.VAL"},{"$f":"VLOOKUP(C763,Referencias!$C$4:$E$21,3,FALSE())","v":3},"Competición","C. Valenciana"]
["1241657","Valls Zaballos, Emilia","3D","D",{"$f":"VLOOKUP(C764,Referencias!$C$4:$D$21,2,FALSE())","v":"Tercera Diamante"},{"$f":"VLOOKUP(I764,Referencias!$B$24:$C$41,2,FALSE())","v":"C.VAL"},{"$f":"VLOOKUP(C764,Referencias!$C$4:$E$21,3,FALSE())","v":3},"Competición","C. Valenciana"]
["1241729","Almela Gil, Consuelo","3D","D",{"$f":"VLOOKUP(C765,Referencias!$C$4:$D$21,2,FALSE())","v":"Tercera Diamante"},{"$f":"VLOOKUP(I765,Referencias!$B$24:$C$41,2,FALSE())","v":"C.VAL"},{"$f":"VLOOKUP(C765,Referencias!$C$4:$E$21,3,FALSE())","v":3},"Competición","C. Valenciana"]
["1241732","Lofberg, Bárbara","3D","D",{"$f":"VLOOKUP(C766,Referencias!$C$4:$D$21,2,FALSE())","v":"Tercera Diamante"},{"$f":"VLOOKUP(I766,Referencias!$B$24:$C$41,2,FALSE())","v":"C.VAL"},{"$f":"VLOOKUP(C766,Referencias!$C$4:$E$21,3,FALSE())","v":3},"Competición","C. Valenciana"]
["1241733","Gómez Contell, Amparo","3C","D",{"$f":"VLOOKUP(C767,Referencias!$C$4:$D$21,2,FALSE())","v":"Tercera Corazón"},{"$f":"VLOOKUP(I767,Referencias!$B$24:$C$41,2,FALSE())","v":"C.VAL"},{"$f":"VLOOKUP(C767,Referencias!$C$4:$E$21,3,FALSE())","v":3},"Competición","C. Valenciana"]
["1241735","Bárbara Lamolla, Pilar","3D","D",{"$f":"VLOOKUP(C768,Referencias!$C$4:$D$21,2,FALSE())","v":"Tercera Diamante"},{"$f":"VLOOKUP(I768,Referencias!$B$24:$C$41,2,FALSE())","v":"C.VAL"},{"$f":"VLOOKUP(C768,Referencias!$C$4:$E$21,3,FALSE())","v":3},"Competición","C. Valenciana"]
["1241740","Gimeno Ballester, Asela","3D","D",{"$f":"VLOOKUP(C769,Referencias!$C$4:$D$21,2,FALSE())","v":"Tercera Diamante"},{"$f":"VLOOKUP(I769,Referencias!$B$24:$C$41,2,FALSE())","v":"C.VAL"},{"$f":"VLOOKUP(C769,Referencias!$C$4:$E$21,3,FALSE())","v":3},"Competición","C. Valenciana"]
["1241741","Lemmens, Claude Roger","3D","D",{"$f":"VLOOKUP(C770,Referencias!$C$4:$D$21,2,FALSE())","v":"Tercera Diamante"},{"$f":"VLOOKUP(I770,Referencias!$B$24:$C$41,2,FALSE())","v":"C.VAL"},{"$f":"VLOOKUP(C770,Referencias!$C$4:$E$21,3,FALSE())","v":3},"Competición","C. Valenciana"]
["1241742","Matarredona Soler, Inmaculada","3D","D",{"$f":"VLOOKUP(C771,Referencias!$C$4:$D$21,2,FALSE())","v":"Tercera Diamante"},{"$f":"VLOOKUP(I771,Referencias!$B$24:$C$41,2,FALSE())","v":"C.VAL"},{"$f":"VLOOKUP(C771,Referencias!$C$4:$E$21,3,FALSE())","v":3},"Competición","C. Valenciana"]
["1241870","Ibañez Larrauri, María Pilar","3D","D",{"$f":"VLOOKUP(C772,Referencias!$C$4:$D$21,2,FALSE())","v":"Tercera Diamante"},{"$f":"VLOOKUP(I772,Referencias!$B$24:$C$41,2,FALSE())","v":"C.VAL"},{"$f":"VLOOKUP(C772,Referencias!$C$4:$E$21,3,FALSE())","v":3},"Competición","C. Valenciana"]
["1241871","Godoy Casanova, Amparo","3D","D",{"$f":"VLOOKUP(C773,Referencias!$C$4:$D$21,2,FALSE())","v":"Tercera Diamante"},{"$f":"VLOOKUP(I773,Referencias!$B$24:$C$41,2,FALSE())","v":"C.VAL"},{"$f":"VLOOKUP(C773,Referencias!$C$4:$E$21,3,FALSE())","v":3},"Competición","C. Valenciana"]
["1241872","Ofelia Bianchi, Marta","3D","D",{"$f":"VLOOKUP(C774,Referencias!$C$4:$D$21,2,FALSE())","v":"Tercera Diamante"},{"$f":"VLOOKUP(I774,Referencias!$B$24:$C$41,2,FALSE())","v":"C.VAL"},{"$f":"VLOOKUP(C774,Referencias!$C$4:$E$21,3,FALSE())","v":3},"Competición","C. Valenciana"]
["1241882","Gros Cambronero, María Angeles","3D","D",{"$f":"VLOOKUP(C775,Referencias!$C$4:$D$21,2,FALSE())","v":"Tercera Diamante"},{"$f":"VLOOKUP(I775,Referencias!$B$24:$C$41,2,FALSE())","v":"C.VAL"},{"$f":"VLOOKUP(C775,Referencias!$C$4:$E$21,3,FALSE())","v":3},"Competición","C. Valenciana"]
["1241884","Moreno López, Pedro","3D","C",{"$f":"VLOOKUP(C776,Referencias!$C$4:$D$21,2,FALSE())","v":"Tercera Diamante"},{"$f":"VLOOKUP(I776,Referencias!$B$24:$C$41,2,FALSE())","v":"C.VAL"},{"$f":"VLOOKUP(C776,Referencias!$C$4:$E$21,3,FALSE())","v":3},"Competición","C. Valenciana"]
["1246358","Checa Sánchez, Carmen","3D","D",{"$f":"VLOOKUP(C777,Referencias!$C$4:$D$21,2,FALSE())","v":"Tercera Diamante"},{"$f":"VLOOKUP(I777,Referencias!$B$24:$C$41,2,FALSE())","v":"C.VAL"},{"$f":"VLOOKUP(C777,Referencias!$C$4:$E$21,3,FALSE())","v":3},"Competición","C. Valenciana"]
["1461262","del Arenal , Marquesa","3D","D",{"$f":"VLOOKUP(C778,Referencias!$C$4:$D$21,2,FALSE())","v":"Tercera Diamante"},{"$f":"VLOOKUP(I778,Referencias!$B$24:$C$41,2,FALSE())","v":"AND"},{"$f":"VLOOKUP(C778,Referencias!$C$4:$E$21,3,FALSE())","v":3},"Competición","Andaluza"]
["1461657","Sebastián Bueno, Concepción","1C","D",{"$f":"VLOOKUP(C779,Referencias!$C$4:$D$21,2,FALSE())","v":"Primera Corazón"},{"$f":"VLOOKUP(I779,Referencias!$B$24:$C$41,2,FALSE())","v":"AND"},{"$f":"VLOOKUP(C779,Referencias!$C$4:$E$21,3,FALSE())","v":1},"Competición","Andaluza"]
["1461658","Mansilla Cuevas, Francisco","2C","C",{"$f":"VLOOKUP(C780,Referencias!$C$4:$D$21,2,FALSE())","v":"Segunda Corazón"},{"$f":"VLOOKUP(I780,Referencias!$B$24:$C$41,2,FALSE())","v":"AND"},{"$f":"VLOOKUP(C780,Referencias!$C$4:$E$21,3,FALSE())","v":2},"Competición","Andaluza"]
["1461659","Montijano-Carbonell López, Carmen","3D","D",{"$f":"VLOOKUP(C781,Referencias!$C$4:$D$21,2,FALSE())","v":"Tercera Diamante"},{"$f":"VLOOKUP(I781,Referencias!$B$24:$C$41,2,FALSE())","v":"AND"},{"$f":"VLOOKUP(C781,Referencias!$C$4:$E$21,3,FALSE())","v":3},"Competición","Andaluza"]
["1461660","De Alcaraz Troya, Fernando","3D","C",{"$f":"VLOOKUP(C782,Referencias!$C$4:$D$21,2,FALSE())","v":"Tercera Diamante"},{"$f":"VLOOKUP(I782,Referencias!$B$24:$C$41,2,FALSE())","v":"AND"},{"$f":"VLOOKUP(C782,Referencias!$C$4:$E$21,3,FALSE())","v":3},"Competición","Andaluza"]
["1461661","Sebastián Bueno, Araceli","2C","D",{"$f":"VLOOKUP(C783,Referencias!$C$4:$D$21,2,FALSE())","v":"Segunda Corazón"},{"$f":"VLOOKUP(I783,Referencias!$B$24:$C$41,2,FALSE())","v":"AND"},{"$f":"VLOOKUP(C783,Referencias!$C$4:$E$21,3,FALSE())","v":2},"Competición","Andaluza"]
["1461671","Medina Ricart, María Antonia","3D","D",{"$f":"VLOOKUP(C784,Referencias!$C$4:$D$21,2,FALSE())","v":"Tercera Diamante"},{"$f":"VLOOKUP(I784,Referencias!$B$24:$C$41,2,FALSE())","v":"AND"},{"$f":"VLOOKUP(C784,Referencias!$C$4:$E$21,3,FALSE())","v":3},"Competición","Andaluza"]
["1461674","Pérez-Fragero Rey, María del Sol","3D","D",{"$f":"VLOOKUP(C785,Referencias!$C$4:$D$21,2,FALSE())","v":"Tercera Diamante"},{"$f":"VLOOKUP(I785,Referencias!$B$24:$C$41,2,FALSE())","v":"AND"},{"$f":"VLOOKUP(C785,Referencias!$C$4:$E$21,3,FALSE())","v":3},"Competición","Andaluza"]
["1461683","Arroyo García, Pilar","3P","D",{"$f":"VLOOKUP(C786,Referencias!$C$4:$D$21,2,FALSE())","v":"Tercera Picas"},{"$f":"VLOOKUP(I786,Referencias!$B$24:$C$41,2,FALSE())","v":"AND"},{"$f":"VLOOKUP(C786,Referencias!$C$4:$E$21,3,FALSE())","v":3},"Competición","Andaluza"]
["1461691","Alameda Aragoneses, Josefina","3C","D",{"$f":"VLOOKUP(C787,Referencias!$C$4:$D$21,2,FALSE())","v":"Tercera Corazón"},{"$f":"VLOOKUP(I787,Referencias!$B$24:$C$41,2,FALSE())","v":"AND"},{"$f":"VLOOKUP(C787,Referencias!$C$4:$E$21,3,FALSE())","v":3},"Competición","Andaluza"]
["1461700","Santaolalla Sebastia, Juan","2C","C",{"$f":"VLOOKUP(C788,Referencias!$C$4:$D$21,2,FALSE())","v":"Segunda Corazón"},{"$f":"VLOOKUP(I788,Referencias!$B$24:$C$41,2,FALSE())","v":"AND"},{"$f":"VLOOKUP(C788,Referencias!$C$4:$E$21,3,FALSE())","v":2},"Competición","Andaluza"]
["1461701","Marchal Molina, María Magdalena","2D","D",{"$f":"VLOOKUP(C789,Referencias!$C$4:$D$21,2,FALSE())","v":"Segunda Diamante"},{"$f":"VLOOKUP(I789,Referencias!$B$24:$C$41,2,FALSE())","v":"AND"},{"$f":"VLOOKUP(C789,Referencias!$C$4:$E$21,3,FALSE())","v":2},"Competición","Andaluza"]
["1461702","Martínez López, Rosa","2C","D",{"$f":"VLOOKUP(C790,Referencias!$C$4:$D$21,2,FALSE())","v":"Segunda Corazón"},{"$f":"VLOOKUP(I790,Referencias!$B$24:$C$41,2,FALSE())","v":"AND"},{"$f":"VLOOKUP(C790,Referencias!$C$4:$E$21,3,FALSE())","v":2},"Competición","Andaluza"]
["1461705","de la Moneda Cabello, María Inmaculada","2C","D",{"$f":"VLOOKUP(C791,Referencias!$C$4:$D$21,2,FALSE())","v":"Segunda Corazón"},{"$f":"VLOOKUP(I791,Referencias!$B$24:$C$41,2,FALSE())","v":"AND"},{"$f":"VLOOKUP(C791,Referencias!$C$4:$E$21,3,FALSE())","v":2},"Competición","Andaluza"]
["1461726","Delgado-Brackenbury Ferrer, Silvia","3D","D",{"$f":"VLOOKUP(C792,Referencias!$C$4:$D$21,2,FALSE())","v":"Tercera Diamante"},{"$f":"VLOOKUP(I792,Referencias!$B$24:$C$41,2,FALSE())","v":"AND"},{"$f":"VLOOKUP(C792,Referencias!$C$4:$E$21,3,FALSE())","v":3},"Competición","Andaluza"]
["1461727","García-Jarana Caro, Delia","3D","D",{"$f":"VLOOKUP(C793,Referencias!$C$4:$D$21,2,FALSE())","v":"Tercera Diamante"},{"$f":"VLOOKUP(I793,Referencias!$B$24:$C$41,2,FALSE())","v":"AND"},{"$f":"VLOOKUP(C793,Referencias!$C$4:$E$21,3,FALSE())","v":3},"Competición","Andaluza"]
["1461729","Bajo Arenas, Teresa","3D","D",{"$f":"VLOOKUP(C794,Referencias!$C$4:$D$21,2,FALSE())","v":"Tercera Diamante"},{"$f":"VLOOKUP(I794,Referencias!$B$24:$C$41,2,FALSE())","v":"AND"},{"$f":"VLOOKUP(C794,Referencias!$C$4:$E$21,3,FALSE())","v":3},"Competición","Andaluza"]
["1461738","Hombrados Bermúdez de Castro, Trinidad","3P","D",{"$f":"VLOOKUP(C795,Referencias!$C$4:$D$21,2,FALSE())","v":"Tercera Picas"},{"$f":"VLOOKUP(I795,Referencias!$B$24:$C$41,2,FALSE())","v":"AND"},{"$f":"VLOOKUP(C795,Referencias!$C$4:$E$21,3,FALSE())","v":3},"Competición","Andaluza"]
["1461740","Eguilaz de Prado, María Francisca","3D","D",{"$f":"VLOOKUP(C796,Referencias!$C$4:$D$21,2,FALSE())","v":"Tercera Diamante"},{"$f":"VLOOKUP(I796,Referencias!$B$24:$C$41,2,FALSE())","v":"AND"},{"$f":"VLOOKUP(C796,Referencias!$C$4:$E$21,3,FALSE())","v":3},"Competición","Andaluza"]
["1461741","Baeza Ordoñez, María Luisa","3D","D",{"$f":"VLOOKUP(C797,Referencias!$C$4:$D$21,2,FALSE())","v":"Tercera Diamante"},{"$f":"VLOOKUP(I797,Referencias!$B$24:$C$41,2,FALSE())","v":"AND"},{"$f":"VLOOKUP(C797,Referencias!$C$4:$E$21,3,FALSE())","v":3},"Competición","Andaluza"]
["1461745","Vivo Rodríguez, María Araceli","3D","D",{"$f":"VLOOKUP(C798,Referencias!$C$4:$D$21,2,FALSE())","v":"Tercera Diamante"},{"$f":"VLOOKUP(I798,Referencias!$B$24:$C$41,2,FALSE())","v":"AND"},{"$f":"VLOOKUP(C798,Referencias!$C$4:$E$21,3,FALSE())","v":3},"Competición","Andaluza"]
["1461746","Blanco Cruz, María Luisa","3D","D",{"$f":"VLOOKUP(C799,Referencias!$C$4:$D$21,2,FALSE())","v":"Tercera Diamante"},{"$f":"VLOOKUP(I799,Referencias!$B$24:$C$41,2,FALSE())","v":"AND"},{"$f":"VLOOKUP(C799,Referencias!$C$4:$E$21,3,FALSE())","v":3},"Competición","Andaluza"]
["1461747","De Prado Alcalá, María Luisa","3D","D",{"$f":"VLOOKUP(C800,Referencias!$C$4:$D$21,2,FALSE())","v":"Tercera Diamante"},{"$f":"VLOOKUP(I800,Referencias!$B$24:$C$41,2,FALSE())","v":"AND"},{"$f":"VLOOKUP(C800,Referencias!$C$4:$E$21,3,FALSE())","v":3},"Competición","Andaluza"]
["1461750","Martínez Miguel, Pilar","3D","D",{"$f":"VLOOKUP(C801,Referencias!$C$4:$D$21,2,FALSE())","v":"Tercera Diamante"},{"$f":"VLOOKUP(I801,Referencias!$B$24:$C$41,2,FALSE())","v":"AND"},{"$f":"VLOOKUP(C801,Referencias!$C$4:$E$21,3,FALSE())","v":3},"Competición","Andaluza"]
["1461751","Marín Pineda, María del Carmen","2D","D",{"$f":"VLOOKUP(C802,Referencias!$C$4:$D$21,2,FALSE())","v":"Segunda Diamante"},{"$f":"VLOOKUP(I802,Referencias!$B$24:$C$41,2,FALSE())","v":"AND"},{"$f":"VLOOKUP(C802,Referencias!$C$4:$E$21,3,FALSE())","v":2},"Competición","Andaluza"]
["1461756","Azpilcueta Roel, María Ángeles","3D","D",{"$f":"VLOOKUP(C803,Referencias!$C$4:$D$21,2,FALSE())","v":"Tercera Diamante"},{"$f":"VLOOKUP(I803,Referencias!$B$24:$C$41,2,FALSE())","v":"AND"},{"$f":"VLOOKUP(C803,Referencias!$C$4:$E$21,3,FALSE())","v":3},"Competición","Andaluza"]
["1461757","Fuentes de Rio, Sofia","3D","D",{"$f":"VLOOKUP(C804,Referencias!$C$4:$D$21,2,FALSE())","v":"Tercera Diamante"},{"$f":"VLOOKUP(I804,Referencias!$B$24:$C$41,2,FALSE())","v":"AND"},{"$f":"VLOOKUP(C804,Referencias!$C$4:$E$21,3,FALSE())","v":3},"Competición","Andaluza"]
["1461759","Martín Conde, María Ángeles","3D","D",{"$f":"VLOOKUP(C805,Referencias!$C$4:$D$21,2,FALSE())","v":"Tercera Diamante"},{"$f":"VLOOKUP(I805,Referencias!$B$24:$C$41,2,FALSE())","v":"AND"},{"$f":"VLOOKUP(C805,Referencias!$C$4:$E$21,3,FALSE())","v":3},"Competición","Andaluza"]
["1461775","Gragera de León Prieto, Yedra","3P","D",{"$f":"VLOOKUP(C806,Referencias!$C$4:$D$21,2,FALSE())","v":"Tercera Picas"},{"$f":"VLOOKUP(I806,Referencias!$B$24:$C$41,2,FALSE())","v":"AND"},{"$f":"VLOOKUP(C806,Referencias!$C$4:$E$21,3,FALSE())","v":3},"Competición","Andaluza"]
["1461793","Echevarria Marquez, Magdalena","3D","D",{"$f":"VLOOKUP(C807,Referencias!$C$4:$D$21,2,FALSE())","v":"Tercera Diamante"},{"$f":"VLOOKUP(I807,Referencias!$B$24:$C$41,2,FALSE())","v":"AND"},{"$f":"VLOOKUP(C807,Referencias!$C$4:$E$21,3,FALSE())","v":3},"Competición","Andaluza"]
["1461797","Morales Albelda, Marisa","3D","D",{"$f":"VLOOKUP(C808,Referencias!$C$4:$D$21,2,FALSE())","v":"Tercera Diamante"},{"$f":"VLOOKUP(I808,Referencias!$B$24:$C$41,2,FALSE())","v":"AND"},{"$f":"VLOOKUP(C808,Referencias!$C$4:$E$21,3,FALSE())","v":3},"Competición","Andaluza"]
["1461798","Polanco Pérez, Fernanda","3D","D",{"$f":"VLOOKUP(C809,Referencias!$C$4:$D$21,2,FALSE())","v":"Tercera Diamante"},{"$f":"VLOOKUP(I809,Referencias!$B$24:$C$41,2,FALSE())","v":"AND"},{"$f":"VLOOKUP(C809,Referencias!$C$4:$E$21,3,FALSE())","v":3},"Competición","Andaluza"]
["1461803","Rodríguez Sedano Martín, Marta","3D","D",{"$f":"VLOOKUP(C810,Referencias!$C$4:$D$21,2,FALSE())","v":"Tercera Diamante"},{"$f":"VLOOKUP(I810,Referencias!$B$24:$C$41,2,FALSE())","v":"AND"},{"$f":"VLOOKUP(C810,Referencias!$C$4:$E$21,3,FALSE())","v":3},"Competición","Andaluza"]
["1461825","López Pérez, Juan Antonio","3D","C",{"$f":"VLOOKUP(C811,Referencias!$C$4:$D$21,2,FALSE())","v":"Tercera Diamante"},{"$f":"VLOOKUP(I811,Referencias!$B$24:$C$41,2,FALSE())","v":"AND"},{"$f":"VLOOKUP(C811,Referencias!$C$4:$E$21,3,FALSE())","v":3},"Competición","Andaluza"]
["1461828","Fernández Pino, María","3D","D",{"$f":"VLOOKUP(C812,Referencias!$C$4:$D$21,2,FALSE())","v":"Tercera Diamante"},{"$f":"VLOOKUP(I812,Referencias!$B$24:$C$41,2,FALSE())","v":"AND"},{"$f":"VLOOKUP(C812,Referencias!$C$4:$E$21,3,FALSE())","v":3},"Competición","Andaluza"]
["1461829","del Campo García, María Teresa","3D","D",{"$f":"VLOOKUP(C813,Referencias!$C$4:$D$21,2,FALSE())","v":"Tercera Diamante"},{"$f":"VLOOKUP(I813,Referencias!$B$24:$C$41,2,FALSE())","v":"AND"},{"$f":"VLOOKUP(C813,Referencias!$C$4:$E$21,3,FALSE())","v":3},"Competición","Andaluza"]
["1461830","Palacios Criado, Laura","3D","D",{"$f":"VLOOKUP(C814,Referencias!$C$4:$D$21,2,FALSE())","v":"Tercera Diamante"},{"$f":"VLOOKUP(I814,Referencias!$B$24:$C$41,2,FALSE())","v":"AND"},{"$f":"VLOOKUP(C814,Referencias!$C$4:$E$21,3,FALSE())","v":3},"Competición","Andaluza"]
["1467443","Manzanares López, Pilar","3D","D",{"$f":"VLOOKUP(C815,Referencias!$C$4:$D$21,2,FALSE())","v":"Tercera Diamante"},{"$f":"VLOOKUP(I815,Referencias!$B$24:$C$41,2,FALSE())","v":"AND"},{"$f":"VLOOKUP(C815,Referencias!$C$4:$E$21,3,FALSE())","v":3},"Competición","Andaluza"]
["1467508","Díaz Guijarro, Elena","2C","D",{"$f":"VLOOKUP(C816,Referencias!$C$4:$D$21,2,FALSE())","v":"Segunda Corazón"},{"$f":"VLOOKUP(I816,Referencias!$B$24:$C$41,2,FALSE())","v":"AND"},{"$f":"VLOOKUP(C816,Referencias!$C$4:$E$21,3,FALSE())","v":2},"Competición","Andaluza"]
["1531002","Avilés Martínez, Dolores","1P","D",{"$f":"VLOOKUP(C817,Referencias!$C$4:$D$21,2,FALSE())","v":"Primera Picas"},{"$f":"VLOOKUP(I817,Referencias!$B$24:$C$41,2,FALSE())","v":"GAL"},{"$f":"VLOOKUP(C817,Referencias!$C$4:$E$21,3,FALSE())","v":1},"Competición","Gallega"]
["1531011","García-Cambón, Manola","1P","D",{"$f":"VLOOKUP(C818,Referencias!$C$4:$D$21,2,FALSE())","v":"Primera Picas"},{"$f":"VLOOKUP(I818,Referencias!$B$24:$C$41,2,FALSE())","v":"GAL"},{"$f":"VLOOKUP(C818,Referencias!$C$4:$E$21,3,FALSE())","v":1},"Competición","Gallega"]
["1531045","García Marín, Ana María","1D","D",{"$f":"VLOOKUP(C819,Referencias!$C$4:$D$21,2,FALSE())","v":"Primera Diamante"},{"$f":"VLOOKUP(I819,Referencias!$B$24:$C$41,2,FALSE())","v":"GAL"},{"$f":"VLOOKUP(C819,Referencias!$C$4:$E$21,3,FALSE())","v":1},"Competición","Gallega"]
["1531099","Arrojo Paredes, Ana","3D","D",{"$f":"VLOOKUP(C820,Referencias!$C$4:$D$21,2,FALSE())","v":"Tercera Diamante"},{"$f":"VLOOKUP(I820,Referencias!$B$24:$C$41,2,FALSE())","v":"GAL"},{"$f":"VLOOKUP(C820,Referencias!$C$4:$E$21,3,FALSE())","v":3},"Competición","Gallega"]
["1531141","Arjona Alonso, Berta","3D","D",{"$f":"VLOOKUP(C821,Referencias!$C$4:$D$21,2,FALSE())","v":"Tercera Diamante"},{"$f":"VLOOKUP(I821,Referencias!$B$24:$C$41,2,FALSE())","v":"GAL"},{"$f":"VLOOKUP(C821,Referencias!$C$4:$E$21,3,FALSE())","v":3},"Competición","Gallega"]
["1531164","Arranz Iglesias, María Jesús","2C","D",{"$f":"VLOOKUP(C822,Referencias!$C$4:$D$21,2,FALSE())","v":"Segunda Corazón"},{"$f":"VLOOKUP(I822,Referencias!$B$24:$C$41,2,FALSE())","v":"GAL"},{"$f":"VLOOKUP(C822,Referencias!$C$4:$E$21,3,FALSE())","v":2},"Competición","Gallega"]
["1531165","Peña Díaz, Isabel","3D","D",{"$f":"VLOOKUP(C823,Referencias!$C$4:$D$21,2,FALSE())","v":"Tercera Diamante"},{"$f":"VLOOKUP(I823,Referencias!$B$24:$C$41,2,FALSE())","v":"GAL"},{"$f":"VLOOKUP(C823,Referencias!$C$4:$E$21,3,FALSE())","v":3},"Competición","Gallega"]
["1531188","Fernández Varela, Pilar","3D","D",{"$f":"VLOOKUP(C824,Referencias!$C$4:$D$21,2,FALSE())","v":"Tercera Diamante"},{"$f":"VLOOKUP(I824,Referencias!$B$24:$C$41,2,FALSE())","v":"GAL"},{"$f":"VLOOKUP(C824,Referencias!$C$4:$E$21,3,FALSE())","v":3},"Competición","Gallega"]
["1531208","Feliu Lourido, María Dolores","1P","D",{"$f":"VLOOKUP(C825,Referencias!$C$4:$D$21,2,FALSE())","v":"Primera Picas"},{"$f":"VLOOKUP(I825,Referencias!$B$24:$C$41,2,FALSE())","v":"GAL"},{"$f":"VLOOKUP(C825,Referencias!$C$4:$E$21,3,FALSE())","v":1},"Competición","Gallega"]
["1531232","Seijo Fraga, Olga","3P","D",{"$f":"VLOOKUP(C826,Referencias!$C$4:$D$21,2,FALSE())","v":"Tercera Picas"},{"$f":"VLOOKUP(I826,Referencias!$B$24:$C$41,2,FALSE())","v":"GAL"},{"$f":"VLOOKUP(C826,Referencias!$C$4:$E$21,3,FALSE())","v":3},"Competición","Gallega"]
["1531243","Brizuela Martínez, María Rosario","3C","D",{"$f":"VLOOKUP(C827,Referencias!$C$4:$D$21,2,FALSE())","v":"Tercera Corazón"},{"$f":"VLOOKUP(I827,Referencias!$B$24:$C$41,2,FALSE())","v":"GAL"},{"$f":"VLOOKUP(C827,Referencias!$C$4:$E$21,3,FALSE())","v":3},"Competición","Gallega"]
["1531269","Peralbo Álvarez de los Corrales, Esperanza","3D","D",{"$f":"VLOOKUP(C828,Referencias!$C$4:$D$21,2,FALSE())","v":"Tercera Diamante"},{"$f":"VLOOKUP(I828,Referencias!$B$24:$C$41,2,FALSE())","v":"GAL"},{"$f":"VLOOKUP(C828,Referencias!$C$4:$E$21,3,FALSE())","v":3},"Competición","Gallega"]
["1531293","Cuenda Sánchez, Manuel","1P","C",{"$f":"VLOOKUP(C829,Referencias!$C$4:$D$21,2,FALSE())","v":"Primera Picas"},{"$f":"VLOOKUP(I829,Referencias!$B$24:$C$41,2,FALSE())","v":"GAL"},{"$f":"VLOOKUP(C829,Referencias!$C$4:$E$21,3,FALSE())","v":1},"Competición","Gallega"]
["1531294","Molinelli Iglesias, Marta María","1D","D",{"$f":"VLOOKUP(C830,Referencias!$C$4:$D$21,2,FALSE())","v":"Primera Diamante"},{"$f":"VLOOKUP(I830,Referencias!$B$24:$C$41,2,FALSE())","v":"GAL"},{"$f":"VLOOKUP(C830,Referencias!$C$4:$E$21,3,FALSE())","v":1},"Competición","Gallega"]
["1531299","Roa Alonso-Bartol, Julia","3P","D",{"$f":"VLOOKUP(C831,Referencias!$C$4:$D$21,2,FALSE())","v":"Tercera Picas"},{"$f":"VLOOKUP(I831,Referencias!$B$24:$C$41,2,FALSE())","v":"GAL"},{"$f":"VLOOKUP(C831,Referencias!$C$4:$E$21,3,FALSE())","v":3},"Competición","Gallega"]
["1531302","González-Botas Ladron de Gueva, Javier","1P","C",{"$f":"VLOOKUP(C832,Referencias!$C$4:$D$21,2,FALSE())","v":"Primera Picas"},{"$f":"VLOOKUP(I832,Referencias!$B$24:$C$41,2,FALSE())","v":"GAL"},{"$f":"VLOOKUP(C832,Referencias!$C$4:$E$21,3,FALSE())","v":1},"Competición","Gallega"]
["1531356","Cao Barjacoba, Jovino","1C","C",{"$f":"VLOOKUP(C833,Referencias!$C$4:$D$21,2,FALSE())","v":"Primera Corazón"},{"$f":"VLOOKUP(I833,Referencias!$B$24:$C$41,2,FALSE())","v":"GAL"},{"$f":"VLOOKUP(C833,Referencias!$C$4:$E$21,3,FALSE())","v":1},"Competición","Gallega"]
["1531359","Ruiz de Valbuena Escudero, José Antonio","2P","C",{"$f":"VLOOKUP(C834,Referencias!$C$4:$D$21,2,FALSE())","v":"Segunda Picas"},{"$f":"VLOOKUP(I834,Referencias!$B$24:$C$41,2,FALSE())","v":"GAL"},{"$f":"VLOOKUP(C834,Referencias!$C$4:$E$21,3,FALSE())","v":2},"Competición","Gallega"]
["1531360","Bueno Tejeiro, Carmen","2P","D",{"$f":"VLOOKUP(C835,Referencias!$C$4:$D$21,2,FALSE())","v":"Segunda Picas"},{"$f":"VLOOKUP(I835,Referencias!$B$24:$C$41,2,FALSE())","v":"GAL"},{"$f":"VLOOKUP(C835,Referencias!$C$4:$E$21,3,FALSE())","v":2},"Competición","Gallega"]
["1531378","Castiñeira Selles, Dolores","2C","D",{"$f":"VLOOKUP(C836,Referencias!$C$4:$D$21,2,FALSE())","v":"Segunda Corazón"},{"$f":"VLOOKUP(I836,Referencias!$B$24:$C$41,2,FALSE())","v":"GAL"},{"$f":"VLOOKUP(C836,Referencias!$C$4:$E$21,3,FALSE())","v":2},"Competición","Gallega"]
["1531379","García y González-Moro, María Dolores","3P","D",{"$f":"VLOOKUP(C837,Referencias!$C$4:$D$21,2,FALSE())","v":"Tercera Picas"},{"$f":"VLOOKUP(I837,Referencias!$B$24:$C$41,2,FALSE())","v":"GAL"},{"$f":"VLOOKUP(C837,Referencias!$C$4:$E$21,3,FALSE())","v":3},"Competición","Gallega"]
["1531382","Lacarra Guerendiain, María Antonia","2D","D",{"$f":"VLOOKUP(C838,Referencias!$C$4:$D$21,2,FALSE())","v":"Segunda Diamante"},{"$f":"VLOOKUP(I838,Referencias!$B$24:$C$41,2,FALSE())","v":"GAL"},{"$f":"VLOOKUP(C838,Referencias!$C$4:$E$21,3,FALSE())","v":2},"Competición","Gallega"]
["1531389","Jover Pons, Antonio","1C","C",{"$f":"VLOOKUP(C839,Referencias!$C$4:$D$21,2,FALSE())","v":"Primera Corazón"},{"$f":"VLOOKUP(I839,Referencias!$B$24:$C$41,2,FALSE())","v":"GAL"},{"$f":"VLOOKUP(C839,Referencias!$C$4:$E$21,3,FALSE())","v":1},"Competición","Gallega"]
["1531398","Conde Guillán, Valentina","2D","D",{"$f":"VLOOKUP(C840,Referencias!$C$4:$D$21,2,FALSE())","v":"Segunda Diamante"},{"$f":"VLOOKUP(I840,Referencias!$B$24:$C$41,2,FALSE())","v":"GAL"},{"$f":"VLOOKUP(C840,Referencias!$C$4:$E$21,3,FALSE())","v":2},"Competición","Gallega"]
["1531403","García San Román, María José","2D","D",{"$f":"VLOOKUP(C841,Referencias!$C$4:$D$21,2,FALSE())","v":"Segunda Diamante"},{"$f":"VLOOKUP(I841,Referencias!$B$24:$C$41,2,FALSE())","v":"GAL"},{"$f":"VLOOKUP(C841,Referencias!$C$4:$E$21,3,FALSE())","v":2},"Competición","Gallega"]
["1531404","Ramos Caridad, Angela","3P","D",{"$f":"VLOOKUP(C842,Referencias!$C$4:$D$21,2,FALSE())","v":"Tercera Picas"},{"$f":"VLOOKUP(I842,Referencias!$B$24:$C$41,2,FALSE())","v":"GAL"},{"$f":"VLOOKUP(C842,Referencias!$C$4:$E$21,3,FALSE())","v":3},"Competición","Gallega"]
["1531405","Romero Rodríguez, Consuelo","3D","D",{"$f":"VLOOKUP(C843,Referencias!$C$4:$D$21,2,FALSE())","v":"Tercera Diamante"},{"$f":"VLOOKUP(I843,Referencias!$B$24:$C$41,2,FALSE())","v":"GAL"},{"$f":"VLOOKUP(C843,Referencias!$C$4:$E$21,3,FALSE())","v":3},"Competición","Gallega"]
["1531409","Pedreira Otero, María","3C","D",{"$f":"VLOOKUP(C844,Referencias!$C$4:$D$21,2,FALSE())","v":"Tercera Corazón"},{"$f":"VLOOKUP(I844,Referencias!$B$24:$C$41,2,FALSE())","v":"GAL"},{"$f":"VLOOKUP(C844,Referencias!$C$4:$E$21,3,FALSE())","v":3},"Competición","Gallega"]
["1531415","Varela Grela, Ricardo","1D","C",{"$f":"VLOOKUP(C845,Referencias!$C$4:$D$21,2,FALSE())","v":"Primera Diamante"},{"$f":"VLOOKUP(I845,Referencias!$B$24:$C$41,2,FALSE())","v":"GAL"},{"$f":"VLOOKUP(C845,Referencias!$C$4:$E$21,3,FALSE())","v":1},"Competición","Gallega"]
["1531416","Sánchez Saurina, Flora","1D","D",{"$f":"VLOOKUP(C846,Referencias!$C$4:$D$21,2,FALSE())","v":"Primera Diamante"},{"$f":"VLOOKUP(I846,Referencias!$B$24:$C$41,2,FALSE())","v":"GAL"},{"$f":"VLOOKUP(C846,Referencias!$C$4:$E$21,3,FALSE())","v":1},"Competición","Gallega"]
["1531417","Pombo Liria, Manuel","1D","C",{"$f":"VLOOKUP(C847,Referencias!$C$4:$D$21,2,FALSE())","v":"Primera Diamante"},{"$f":"VLOOKUP(I847,Referencias!$B$24:$C$41,2,FALSE())","v":"GAL"},{"$f":"VLOOKUP(C847,Referencias!$C$4:$E$21,3,FALSE())","v":1},"Competición","Gallega"]
["1531421","Marqués López, Amalia","3P","D",{"$f":"VLOOKUP(C848,Referencias!$C$4:$D$21,2,FALSE())","v":"Tercera Picas"},{"$f":"VLOOKUP(I848,Referencias!$B$24:$C$41,2,FALSE())","v":"GAL"},{"$f":"VLOOKUP(C848,Referencias!$C$4:$E$21,3,FALSE())","v":3},"Competición","Gallega"]
["1531429","López Pantión, José María","1D","C",{"$f":"VLOOKUP(C849,Referencias!$C$4:$D$21,2,FALSE())","v":"Primera Diamante"},{"$f":"VLOOKUP(I849,Referencias!$B$24:$C$41,2,FALSE())","v":"GAL"},{"$f":"VLOOKUP(C849,Referencias!$C$4:$E$21,3,FALSE())","v":1},"Competición","Gallega"]
["1531439","Pardo Varela, Leonor","3P","D",{"$f":"VLOOKUP(C850,Referencias!$C$4:$D$21,2,FALSE())","v":"Tercera Picas"},{"$f":"VLOOKUP(I850,Referencias!$B$24:$C$41,2,FALSE())","v":"GAL"},{"$f":"VLOOKUP(C850,Referencias!$C$4:$E$21,3,FALSE())","v":3},"Competición","Gallega"]
["1531442","Selles Ferreiro, Juan","3P","C",{"$f":"VLOOKUP(C851,Referencias!$C$4:$D$21,2,FALSE())","v":"Tercera Picas"},{"$f":"VLOOKUP(I851,Referencias!$B$24:$C$41,2,FALSE())","v":"GAL"},{"$f":"VLOOKUP(C851,Referencias!$C$4:$E$21,3,FALSE())","v":3},"Competición","Gallega"]
["1531445","del Río Sendino, María Teresa","2C","D",{"$f":"VLOOKUP(C852,Referencias!$C$4:$D$21,2,FALSE())","v":"Segunda Corazón"},{"$f":"VLOOKUP(I852,Referencias!$B$24:$C$41,2,FALSE())","v":"GAL"},{"$f":"VLOOKUP(C852,Referencias!$C$4:$E$21,3,FALSE())","v":2},"Competición","Gallega"]
["1531446","Mateo Sevilla, Juan","3C","C",{"$f":"VLOOKUP(C853,Referencias!$C$4:$D$21,2,FALSE())","v":"Tercera Corazón"},{"$f":"VLOOKUP(I853,Referencias!$B$24:$C$41,2,FALSE())","v":"GAL"},{"$f":"VLOOKUP(C853,Referencias!$C$4:$E$21,3,FALSE())","v":3},"Competición","Gallega"]
["1531447","Villar de Ibarra, José Miguel","3P","C",{"$f":"VLOOKUP(C854,Referencias!$C$4:$D$21,2,FALSE())","v":"Tercera Picas"},{"$f":"VLOOKUP(I854,Referencias!$B$24:$C$41,2,FALSE())","v":"GAL"},{"$f":"VLOOKUP(C854,Referencias!$C$4:$E$21,3,FALSE())","v":3},"Competición","Gallega"]
["1531449","Lorenzo Montero, Isabel","3P","D",{"$f":"VLOOKUP(C855,Referencias!$C$4:$D$21,2,FALSE())","v":"Tercera Picas"},{"$f":"VLOOKUP(I855,Referencias!$B$24:$C$41,2,FALSE())","v":"GAL"},{"$f":"VLOOKUP(C855,Referencias!$C$4:$E$21,3,FALSE())","v":3},"Competición","Gallega"]
["1531450","Larrañaga Ces, Francisco Javier","2C","C",{"$f":"VLOOKUP(C856,Referencias!$C$4:$D$21,2,FALSE())","v":"Segunda Corazón"},{"$f":"VLOOKUP(I856,Referencias!$B$24:$C$41,2,FALSE())","v":"GAL"},{"$f":"VLOOKUP(C856,Referencias!$C$4:$E$21,3,FALSE())","v":2},"Competición","Gallega"]
["1531451","Rodríguez Pino, Alicia","2P","D",{"$f":"VLOOKUP(C857,Referencias!$C$4:$D$21,2,FALSE())","v":"Segunda Picas"},{"$f":"VLOOKUP(I857,Referencias!$B$24:$C$41,2,FALSE())","v":"GAL"},{"$f":"VLOOKUP(C857,Referencias!$C$4:$E$21,3,FALSE())","v":2},"Competición","Gallega"]
["1531452","Ortega Peñamaria, Araceli","3D","D",{"$f":"VLOOKUP(C858,Referencias!$C$4:$D$21,2,FALSE())","v":"Tercera Diamante"},{"$f":"VLOOKUP(I858,Referencias!$B$24:$C$41,2,FALSE())","v":"GAL"},{"$f":"VLOOKUP(C858,Referencias!$C$4:$E$21,3,FALSE())","v":3},"Competición","Gallega"]
["1531453","Ricoy Iriarte, Carmen","3D","D",{"$f":"VLOOKUP(C859,Referencias!$C$4:$D$21,2,FALSE())","v":"Tercera Diamante"},{"$f":"VLOOKUP(I859,Referencias!$B$24:$C$41,2,FALSE())","v":"GAL"},{"$f":"VLOOKUP(C859,Referencias!$C$4:$E$21,3,FALSE())","v":3},"Competición","Gallega"]
["1531454","Morodo Lorenzo, Pilar","3P","D",{"$f":"VLOOKUP(C860,Referencias!$C$4:$D$21,2,FALSE())","v":"Tercera Picas"},{"$f":"VLOOKUP(I860,Referencias!$B$24:$C$41,2,FALSE())","v":"GAL"},{"$f":"VLOOKUP(C860,Referencias!$C$4:$E$21,3,FALSE())","v":3},"Competición","Gallega"]
["1531458","Alvarellos Galve, María del Pilar","3D","D",{"$f":"VLOOKUP(C861,Referencias!$C$4:$D$21,2,FALSE())","v":"Tercera Diamante"},{"$f":"VLOOKUP(I861,Referencias!$B$24:$C$41,2,FALSE())","v":"GAL"},{"$f":"VLOOKUP(C861,Referencias!$C$4:$E$21,3,FALSE())","v":3},"Competición","Gallega"]
["1531459","Lariño Lago, Francisco","3D","C",{"$f":"VLOOKUP(C862,Referencias!$C$4:$D$21,2,FALSE())","v":"Tercera Diamante"},{"$f":"VLOOKUP(I862,Referencias!$B$24:$C$41,2,FALSE())","v":"GAL"},{"$f":"VLOOKUP(C862,Referencias!$C$4:$E$21,3,FALSE())","v":3},"Competición","Gallega"]
["1531460","González Ruíz, María del Prado","3D","D",{"$f":"VLOOKUP(C863,Referencias!$C$4:$D$21,2,FALSE())","v":"Tercera Diamante"},{"$f":"VLOOKUP(I863,Referencias!$B$24:$C$41,2,FALSE())","v":"GAL"},{"$f":"VLOOKUP(C863,Referencias!$C$4:$E$21,3,FALSE())","v":3},"Competición","Gallega"]
["1531462","Viú Rodríguez, Juan Miguel","3C","C",{"$f":"VLOOKUP(C864,Referencias!$C$4:$D$21,2,FALSE())","v":"Tercera Corazón"},{"$f":"VLOOKUP(I864,Referencias!$B$24:$C$41,2,FALSE())","v":"GAL"},{"$f":"VLOOKUP(C864,Referencias!$C$4:$E$21,3,FALSE())","v":3},"Competición","Gallega"]
["1531463","Penas Mazaira, Mercedes","3P","D",{"$f":"VLOOKUP(C865,Referencias!$C$4:$D$21,2,FALSE())","v":"Tercera Picas"},{"$f":"VLOOKUP(I865,Referencias!$B$24:$C$41,2,FALSE())","v":"GAL"},{"$f":"VLOOKUP(C865,Referencias!$C$4:$E$21,3,FALSE())","v":3},"Competición","Gallega"]
["1531467","Urgoiti San Vicente, José Ignacio","3P","C",{"$f":"VLOOKUP(C866,Referencias!$C$4:$D$21,2,FALSE())","v":"Tercera Picas"},{"$f":"VLOOKUP(I866,Referencias!$B$24:$C$41,2,FALSE())","v":"GAL"},{"$f":"VLOOKUP(C866,Referencias!$C$4:$E$21,3,FALSE())","v":3},"Competición","Gallega"]
["1531478","Rodríguez Benitez, María Rosario","3D","D",{"$f":"VLOOKUP(C867,Referencias!$C$4:$D$21,2,FALSE())","v":"Tercera Diamante"},{"$f":"VLOOKUP(I867,Referencias!$B$24:$C$41,2,FALSE())","v":"GAL"},{"$f":"VLOOKUP(C867,Referencias!$C$4:$E$21,3,FALSE())","v":3},"Competición","Gallega"]
["1531479","Pellón Castelo, María del Carmen","3D","D",{"$f":"VLOOKUP(C868,Referencias!$C$4:$D$21,2,FALSE())","v":"Tercera Diamante"},{"$f":"VLOOKUP(I868,Referencias!$B$24:$C$41,2,FALSE())","v":"GAL"},{"$f":"VLOOKUP(C868,Referencias!$C$4:$E$21,3,FALSE())","v":3},"Competición","Gallega"]
["1531483","Ferreiro Arias, Manuel","3D","C",{"$f":"VLOOKUP(C869,Referencias!$C$4:$D$21,2,FALSE())","v":"Tercera Diamante"},{"$f":"VLOOKUP(I869,Referencias!$B$24:$C$41,2,FALSE())","v":"GAL"},{"$f":"VLOOKUP(C869,Referencias!$C$4:$E$21,3,FALSE())","v":3},"Competición","Gallega"]
["1531498","López Pérez, Blanca","3C","D",{"$f":"VLOOKUP(C870,Referencias!$C$4:$D$21,2,FALSE())","v":"Tercera Corazón"},{"$f":"VLOOKUP(I870,Referencias!$B$24:$C$41,2,FALSE())","v":"GAL"},{"$f":"VLOOKUP(C870,Referencias!$C$4:$E$21,3,FALSE())","v":3},"Competición","Gallega"]
["1531499","Prada Blanco, Julieta","3D","D",{"$f":"VLOOKUP(C871,Referencias!$C$4:$D$21,2,FALSE())","v":"Tercera Diamante"},{"$f":"VLOOKUP(I871,Referencias!$B$24:$C$41,2,FALSE())","v":"GAL"},{"$f":"VLOOKUP(C871,Referencias!$C$4:$E$21,3,FALSE())","v":3},"Competición","Gallega"]
["1531511","González Arias, José Gabriel","3C","C",{"$f":"VLOOKUP(C872,Referencias!$C$4:$D$21,2,FALSE())","v":"Tercera Corazón"},{"$f":"VLOOKUP(I872,Referencias!$B$24:$C$41,2,FALSE())","v":"GAL"},{"$f":"VLOOKUP(C872,Referencias!$C$4:$E$21,3,FALSE())","v":3},"Competición","Gallega"]
["1531513","Riestra Rivas, María José","3C","D",{"$f":"VLOOKUP(C873,Referencias!$C$4:$D$21,2,FALSE())","v":"Tercera Corazón"},{"$f":"VLOOKUP(I873,Referencias!$B$24:$C$41,2,FALSE())","v":"GAL"},{"$f":"VLOOKUP(C873,Referencias!$C$4:$E$21,3,FALSE())","v":3},"Competición","Gallega"]
["1531514","Morán López, María Aurora","3P","D",{"$f":"VLOOKUP(C874,Referencias!$C$4:$D$21,2,FALSE())","v":"Tercera Picas"},{"$f":"VLOOKUP(I874,Referencias!$B$24:$C$41,2,FALSE())","v":"GAL"},{"$f":"VLOOKUP(C874,Referencias!$C$4:$E$21,3,FALSE())","v":3},"Competición","Gallega"]
["1531516","da Silva Figueira, María de los Angeles","3C","D",{"$f":"VLOOKUP(C875,Referencias!$C$4:$D$21,2,FALSE())","v":"Tercera Corazón"},{"$f":"VLOOKUP(I875,Referencias!$B$24:$C$41,2,FALSE())","v":"GAL"},{"$f":"VLOOKUP(C875,Referencias!$C$4:$E$21,3,FALSE())","v":3},"Competición","Gallega"]
["1531517","Merino Selgas, Mercedes","3D","D",{"$f":"VLOOKUP(C876,Referencias!$C$4:$D$21,2,FALSE())","v":"Tercera Diamante"},{"$f":"VLOOKUP(I876,Referencias!$B$24:$C$41,2,FALSE())","v":"GAL"},{"$f":"VLOOKUP(C876,Referencias!$C$4:$E$21,3,FALSE())","v":3},"Competición","Gallega"]
["1531518","Figueroa Naya, Mari Carmen","2D","D",{"$f":"VLOOKUP(C877,Referencias!$C$4:$D$21,2,FALSE())","v":"Segunda Diamante"},{"$f":"VLOOKUP(I877,Referencias!$B$24:$C$41,2,FALSE())","v":"GAL"},{"$f":"VLOOKUP(C877,Referencias!$C$4:$E$21,3,FALSE())","v":2},"Competición","Gallega"]
["1531519","Mayo Franco, Chuca","3P","D",{"$f":"VLOOKUP(C878,Referencias!$C$4:$D$21,2,FALSE())","v":"Tercera Picas"},{"$f":"VLOOKUP(I878,Referencias!$B$24:$C$41,2,FALSE())","v":"GAL"},{"$f":"VLOOKUP(C878,Referencias!$C$4:$E$21,3,FALSE())","v":3},"Competición","Gallega"]
["1531521","Alonso Landeta, Covadonga","3C","D",{"$f":"VLOOKUP(C879,Referencias!$C$4:$D$21,2,FALSE())","v":"Tercera Corazón"},{"$f":"VLOOKUP(I879,Referencias!$B$24:$C$41,2,FALSE())","v":"GAL"},{"$f":"VLOOKUP(C879,Referencias!$C$4:$E$21,3,FALSE())","v":3},"Competición","Gallega"]
["1531522","Rodríguez Madriñán, María José","3C","D",{"$f":"VLOOKUP(C880,Referencias!$C$4:$D$21,2,FALSE())","v":"Tercera Corazón"},{"$f":"VLOOKUP(I880,Referencias!$B$24:$C$41,2,FALSE())","v":"GAL"},{"$f":"VLOOKUP(C880,Referencias!$C$4:$E$21,3,FALSE())","v":3},"Competición","Gallega"]
["1531523","Fontenla Rodiles, Juana Mari","3D","D",{"$f":"VLOOKUP(C881,Referencias!$C$4:$D$21,2,FALSE())","v":"Tercera Diamante"},{"$f":"VLOOKUP(I881,Referencias!$B$24:$C$41,2,FALSE())","v":"GAL"},{"$f":"VLOOKUP(C881,Referencias!$C$4:$E$21,3,FALSE())","v":3},"Competición","Gallega"]
["1531524","Santos Vilariño, Emilio","2D","C",{"$f":"VLOOKUP(C882,Referencias!$C$4:$D$21,2,FALSE())","v":"Segunda Diamante"},{"$f":"VLOOKUP(I882,Referencias!$B$24:$C$41,2,FALSE())","v":"GAL"},{"$f":"VLOOKUP(C882,Referencias!$C$4:$E$21,3,FALSE())","v":2},"Competición","Gallega"]
["1531532","Taboada Manteiga, José Manuel","3D","C",{"$f":"VLOOKUP(C883,Referencias!$C$4:$D$21,2,FALSE())","v":"Tercera Diamante"},{"$f":"VLOOKUP(I883,Referencias!$B$24:$C$41,2,FALSE())","v":"GAL"},{"$f":"VLOOKUP(C883,Referencias!$C$4:$E$21,3,FALSE())","v":3},"Competición","Gallega"]
["1531534","Docampo Rojo, Dolores","3D","D",{"$f":"VLOOKUP(C884,Referencias!$C$4:$D$21,2,FALSE())","v":"Tercera Diamante"},{"$f":"VLOOKUP(I884,Referencias!$B$24:$C$41,2,FALSE())","v":"GAL"},{"$f":"VLOOKUP(C884,Referencias!$C$4:$E$21,3,FALSE())","v":3},"Competición","Gallega"]
["1531535","Fraga Peña, Daris","3D","D",{"$f":"VLOOKUP(C885,Referencias!$C$4:$D$21,2,FALSE())","v":"Tercera Diamante"},{"$f":"VLOOKUP(I885,Referencias!$B$24:$C$41,2,FALSE())","v":"GAL"},{"$f":"VLOOKUP(C885,Referencias!$C$4:$E$21,3,FALSE())","v":3},"Competición","Gallega"]
["1531541","Ramírez Escudero, Pilar","3D","D",{"$f":"VLOOKUP(C886,Referencias!$C$4:$D$21,2,FALSE())","v":"Tercera Diamante"},{"$f":"VLOOKUP(I886,Referencias!$B$24:$C$41,2,FALSE())","v":"GAL"},{"$f":"VLOOKUP(C886,Referencias!$C$4:$E$21,3,FALSE())","v":3},"Competición","Gallega"]
["1531567","Pereira González, María José","3C","D",{"$f":"VLOOKUP(C887,Referencias!$C$4:$D$21,2,FALSE())","v":"Tercera Corazón"},{"$f":"VLOOKUP(I887,Referencias!$B$24:$C$41,2,FALSE())","v":"GAL"},{"$f":"VLOOKUP(C887,Referencias!$C$4:$E$21,3,FALSE())","v":3},"Competición","Gallega"]
["1531569","Sánchez Prego, Ana","3C","D",{"$f":"VLOOKUP(C888,Referencias!$C$4:$D$21,2,FALSE())","v":"Tercera Corazón"},{"$f":"VLOOKUP(I888,Referencias!$B$24:$C$41,2,FALSE())","v":"GAL"},{"$f":"VLOOKUP(C888,Referencias!$C$4:$E$21,3,FALSE())","v":3},"Competición","Gallega"]
["1531570","Gutiérrez Arroba, Inmaculada","3C","D",{"$f":"VLOOKUP(C889,Referencias!$C$4:$D$21,2,FALSE())","v":"Tercera Corazón"},{"$f":"VLOOKUP(I889,Referencias!$B$24:$C$41,2,FALSE())","v":"GAL"},{"$f":"VLOOKUP(C889,Referencias!$C$4:$E$21,3,FALSE())","v":3},"Competición","Gallega"]
["1531573","Rodriguez Blanco, Luisa Manuela","3D","D",{"$f":"VLOOKUP(C890,Referencias!$C$4:$D$21,2,FALSE())","v":"Tercera Diamante"},{"$f":"VLOOKUP(I890,Referencias!$B$24:$C$41,2,FALSE())","v":"GAL"},{"$f":"VLOOKUP(C890,Referencias!$C$4:$E$21,3,FALSE())","v":3},"Competición","Gallega"]
["1531574","Cortizas lópez, Andrea","3D","D",{"$f":"VLOOKUP(C891,Referencias!$C$4:$D$21,2,FALSE())","v":"Tercera Diamante"},{"$f":"VLOOKUP(I891,Referencias!$B$24:$C$41,2,FALSE())","v":"GAL"},{"$f":"VLOOKUP(C891,Referencias!$C$4:$E$21,3,FALSE())","v":3},"Competición","Gallega"]
["1531595","Carballo Gestal, Ricardo","3C","C",{"$f":"VLOOKUP(C892,Referencias!$C$4:$D$21,2,FALSE())","v":"Tercera Corazón"},{"$f":"VLOOKUP(I892,Referencias!$B$24:$C$41,2,FALSE())","v":"GAL"},{"$f":"VLOOKUP(C892,Referencias!$C$4:$E$21,3,FALSE())","v":3},"Competición","Gallega"]
["1531596","Junquera Llaneza, Jesús Ángel","2D","C",{"$f":"VLOOKUP(C893,Referencias!$C$4:$D$21,2,FALSE())","v":"Segunda Diamante"},{"$f":"VLOOKUP(I893,Referencias!$B$24:$C$41,2,FALSE())","v":"GAL"},{"$f":"VLOOKUP(C893,Referencias!$C$4:$E$21,3,FALSE())","v":2},"Competición","Gallega"]
["1531611","Santos Insua, Ana","3C","D",{"$f":"VLOOKUP(C894,Referencias!$C$4:$D$21,2,FALSE())","v":"Tercera Corazón"},{"$f":"VLOOKUP(I894,Referencias!$B$24:$C$41,2,FALSE())","v":"GAL"},{"$f":"VLOOKUP(C894,Referencias!$C$4:$E$21,3,FALSE())","v":3},"Competición","Gallega"]
["1531612","del Rio Negreira, Emilia","2C","D",{"$f":"VLOOKUP(C895,Referencias!$C$4:$D$21,2,FALSE())","v":"Segunda Corazón"},{"$f":"VLOOKUP(I895,Referencias!$B$24:$C$41,2,FALSE())","v":"GAL"},{"$f":"VLOOKUP(C895,Referencias!$C$4:$E$21,3,FALSE())","v":2},"Competición","Gallega"]
["1531613","Fouz Vázquez, Marisol","2C","D",{"$f":"VLOOKUP(C896,Referencias!$C$4:$D$21,2,FALSE())","v":"Segunda Corazón"},{"$f":"VLOOKUP(I896,Referencias!$B$24:$C$41,2,FALSE())","v":"GAL"},{"$f":"VLOOKUP(C896,Referencias!$C$4:$E$21,3,FALSE())","v":2},"Competición","Gallega"]
["1531619","Trillo Cayón, María","3P","D",{"$f":"VLOOKUP(C897,Referencias!$C$4:$D$21,2,FALSE())","v":"Tercera Picas"},{"$f":"VLOOKUP(I897,Referencias!$B$24:$C$41,2,FALSE())","v":"GAL"},{"$f":"VLOOKUP(C897,Referencias!$C$4:$E$21,3,FALSE())","v":3},"Competición","Gallega"]
["1531624","Vázquez Rey, María Lucia","3D","D",{"$f":"VLOOKUP(C898,Referencias!$C$4:$D$21,2,FALSE())","v":"Tercera Diamante"},{"$f":"VLOOKUP(I898,Referencias!$B$24:$C$41,2,FALSE())","v":"GAL"},{"$f":"VLOOKUP(C898,Referencias!$C$4:$E$21,3,FALSE())","v":3},"Competición","Gallega"]
["1531645","Gabaldón Folla, María Fátima","3D","D",{"$f":"VLOOKUP(C899,Referencias!$C$4:$D$21,2,FALSE())","v":"Tercera Diamante"},{"$f":"VLOOKUP(I899,Referencias!$B$24:$C$41,2,FALSE())","v":"GAL"},{"$f":"VLOOKUP(C899,Referencias!$C$4:$E$21,3,FALSE())","v":3},"Competición","Gallega"]
["1531646","Ricoy Iriarte, Luis","3D","C",{"$f":"VLOOKUP(C900,Referencias!$C$4:$D$21,2,FALSE())","v":"Tercera Diamante"},{"$f":"VLOOKUP(I900,Referencias!$B$24:$C$41,2,FALSE())","v":"GAL"},{"$f":"VLOOKUP(C900,Referencias!$C$4:$E$21,3,FALSE())","v":3},"Competición","Gallega"]
["1531648","Malpica Saleta, Elvira","2C","D",{"$f":"VLOOKUP(C901,Referencias!$C$4:$D$21,2,FALSE())","v":"Segunda Corazón"},{"$f":"VLOOKUP(I901,Referencias!$B$24:$C$41,2,FALSE())","v":"GAL"},{"$f":"VLOOKUP(C901,Referencias!$C$4:$E$21,3,FALSE())","v":2},"Competición","Gallega"]
["1531654","Fernández del Barrio, Juan Antonio","1C","C",{"$f":"VLOOKUP(C902,Referencias!$C$4:$D$21,2,FALSE())","v":"Primera Corazón"},{"$f":"VLOOKUP(I902,Referencias!$B$24:$C$41,2,FALSE())","v":"GAL"},{"$f":"VLOOKUP(C902,Referencias!$C$4:$E$21,3,FALSE())","v":1},"Competición","Gallega"]
["1531656","Saavedra Vázquez, Roberto","3C","C",{"$f":"VLOOKUP(C903,Referencias!$C$4:$D$21,2,FALSE())","v":"Tercera Corazón"},{"$f":"VLOOKUP(I903,Referencias!$B$24:$C$41,2,FALSE())","v":"GAL"},{"$f":"VLOOKUP(C903,Referencias!$C$4:$E$21,3,FALSE())","v":3},"Competición","Gallega"]
["1531658","Portela Gómez, Laura","3C","D",{"$f":"VLOOKUP(C904,Referencias!$C$4:$D$21,2,FALSE())","v":"Tercera Corazón"},{"$f":"VLOOKUP(I904,Referencias!$B$24:$C$41,2,FALSE())","v":"GAL"},{"$f":"VLOOKUP(C904,Referencias!$C$4:$E$21,3,FALSE())","v":3},"Competición","Gallega"]
["1531660","Sanjurjo Martín, Antonio","3P","C",{"$f":"VLOOKUP(C905,Referencias!$C$4:$D$21,2,FALSE())","v":"Tercera Picas"},{"$f":"VLOOKUP(I905,Referencias!$B$24:$C$41,2,FALSE())","v":"GAL"},{"$f":"VLOOKUP(C905,Referencias!$C$4:$E$21,3,FALSE())","v":3},"Competición","Gallega"]
["1531668","Rey de Benito, María Dolores","3C","D",{"$f":"VLOOKUP(C906,Referencias!$C$4:$D$21,2,FALSE())","v":"Tercera Corazón"},{"$f":"VLOOKUP(I906,Referencias!$B$24:$C$41,2,FALSE())","v":"GAL"},{"$f":"VLOOKUP(C906,Referencias!$C$4:$E$21,3,FALSE())","v":3},"Competición","Gallega"]
["1531669","García Blanco Cicerón, Isabel","3C","D",{"$f":"VLOOKUP(C907,Referencias!$C$4:$D$21,2,FALSE())","v":"Tercera Corazón"},{"$f":"VLOOKUP(I907,Referencias!$B$24:$C$41,2,FALSE())","v":"GAL"},{"$f":"VLOOKUP(C907,Referencias!$C$4:$E$21,3,FALSE())","v":3},"Competición","Gallega"]
["1531676","Fernández Casabella, Carmen","3C","D",{"$f":"VLOOKUP(C908,Referencias!$C$4:$D$21,2,FALSE())","v":"Tercera Corazón"},{"$f":"VLOOKUP(I908,Referencias!$B$24:$C$41,2,FALSE())","v":"GAL"},{"$f":"VLOOKUP(C908,Referencias!$C$4:$E$21,3,FALSE())","v":3},"Competición","Gallega"]
["1531690","Freire Eimil, María José","3P","D",{"$f":"VLOOKUP(C909,Referencias!$C$4:$D$21,2,FALSE())","v":"Tercera Picas"},{"$f":"VLOOKUP(I909,Referencias!$B$24:$C$41,2,FALSE())","v":"GAL"},{"$f":"VLOOKUP(C909,Referencias!$C$4:$E$21,3,FALSE())","v":3},"Competición","Gallega"]
["1531691","Peña Díaz, María Rosa","3D","D",{"$f":"VLOOKUP(C910,Referencias!$C$4:$D$21,2,FALSE())","v":"Tercera Diamante"},{"$f":"VLOOKUP(I910,Referencias!$B$24:$C$41,2,FALSE())","v":"GAL"},{"$f":"VLOOKUP(C910,Referencias!$C$4:$E$21,3,FALSE())","v":3},"Competición","Gallega"]
["1531692","Sánz Piury, María","3C","D",{"$f":"VLOOKUP(C911,Referencias!$C$4:$D$21,2,FALSE())","v":"Tercera Corazón"},{"$f":"VLOOKUP(I911,Referencias!$B$24:$C$41,2,FALSE())","v":"GAL"},{"$f":"VLOOKUP(C911,Referencias!$C$4:$E$21,3,FALSE())","v":3},"Competición","Gallega"]
["1531696","Bermúdez de la Puente, Jose María","3D","C",{"$f":"VLOOKUP(C912,Referencias!$C$4:$D$21,2,FALSE())","v":"Tercera Diamante"},{"$f":"VLOOKUP(I912,Referencias!$B$24:$C$41,2,FALSE())","v":"GAL"},{"$f":"VLOOKUP(C912,Referencias!$C$4:$E$21,3,FALSE())","v":3},"Competición","Gallega"]
["1531697","Morros-Sarda Montenegro, Julieta","3D","D",{"$f":"VLOOKUP(C913,Referencias!$C$4:$D$21,2,FALSE())","v":"Tercera Diamante"},{"$f":"VLOOKUP(I913,Referencias!$B$24:$C$41,2,FALSE())","v":"GAL"},{"$f":"VLOOKUP(C913,Referencias!$C$4:$E$21,3,FALSE())","v":3},"Competición","Gallega"]
["1531700","Pedrosa López, Miguel Ángel","3P","C",{"$f":"VLOOKUP(C914,Referencias!$C$4:$D$21,2,FALSE())","v":"Tercera Picas"},{"$f":"VLOOKUP(I914,Referencias!$B$24:$C$41,2,FALSE())","v":"GAL"},{"$f":"VLOOKUP(C914,Referencias!$C$4:$E$21,3,FALSE())","v":3},"Competición","Gallega"]
["1531706","Ruiz Tovar, María Josefa","3D","D",{"$f":"VLOOKUP(C915,Referencias!$C$4:$D$21,2,FALSE())","v":"Tercera Diamante"},{"$f":"VLOOKUP(I915,Referencias!$B$24:$C$41,2,FALSE())","v":"GAL"},{"$f":"VLOOKUP(C915,Referencias!$C$4:$E$21,3,FALSE())","v":3},"Competición","Gallega"]
["1531709","Martínez Muñiz, Angel José","3C","C",{"$f":"VLOOKUP(C916,Referencias!$C$4:$D$21,2,FALSE())","v":"Tercera Corazón"},{"$f":"VLOOKUP(I916,Referencias!$B$24:$C$41,2,FALSE())","v":"GAL"},{"$f":"VLOOKUP(C916,Referencias!$C$4:$E$21,3,FALSE())","v":3},"Competición","Gallega"]
["1531713","De María Angulo, Antonio","3D","C",{"$f":"VLOOKUP(C917,Referencias!$C$4:$D$21,2,FALSE())","v":"Tercera Diamante"},{"$f":"VLOOKUP(I917,Referencias!$B$24:$C$41,2,FALSE())","v":"GAL"},{"$f":"VLOOKUP(C917,Referencias!$C$4:$E$21,3,FALSE())","v":3},"Competición","Gallega"]
["1531738","Sexto Villanueva, Rosa María","3D","D",{"$f":"VLOOKUP(C918,Referencias!$C$4:$D$21,2,FALSE())","v":"Tercera Diamante"},{"$f":"VLOOKUP(I918,Referencias!$B$24:$C$41,2,FALSE())","v":"GAL"},{"$f":"VLOOKUP(C918,Referencias!$C$4:$E$21,3,FALSE())","v":3},"Competición","Gallega"]
["1531743","Porteiro Tuñas, María Jesús","3D","D",{"$f":"VLOOKUP(C919,Referencias!$C$4:$D$21,2,FALSE())","v":"Tercera Diamante"},{"$f":"VLOOKUP(I919,Referencias!$B$24:$C$41,2,FALSE())","v":"GAL"},{"$f":"VLOOKUP(C919,Referencias!$C$4:$E$21,3,FALSE())","v":3},"Competición","Gallega"]
["1531766","Linares Vázquez, Blanca","3D","D",{"$f":"VLOOKUP(C920,Referencias!$C$4:$D$21,2,FALSE())","v":"Tercera Diamante"},{"$f":"VLOOKUP(I920,Referencias!$B$24:$C$41,2,FALSE())","v":"GAL"},{"$f":"VLOOKUP(C920,Referencias!$C$4:$E$21,3,FALSE())","v":3},"Competición","Gallega"]
["1531767","Muñoz, Carlos","3D","C",{"$f":"VLOOKUP(C921,Referencias!$C$4:$D$21,2,FALSE())","v":"Tercera Diamante"},{"$f":"VLOOKUP(I921,Referencias!$B$24:$C$41,2,FALSE())","v":"GAL"},{"$f":"VLOOKUP(C921,Referencias!$C$4:$E$21,3,FALSE())","v":3},"Competición","Gallega"]
["1531799","Gorina Sáenz de Cabezón, Ana","1C","D",{"$f":"VLOOKUP(C922,Referencias!$C$4:$D$21,2,FALSE())","v":"Primera Corazón"},{"$f":"VLOOKUP(I922,Referencias!$B$24:$C$41,2,FALSE())","v":"GAL"},{"$f":"VLOOKUP(C922,Referencias!$C$4:$E$21,3,FALSE())","v":1},"Competición","Gallega"]
["1531803","Méndez Vázquez, María Luisa","2D","D",{"$f":"VLOOKUP(C923,Referencias!$C$4:$D$21,2,FALSE())","v":"Segunda Diamante"},{"$f":"VLOOKUP(I923,Referencias!$B$24:$C$41,2,FALSE())","v":"GAL"},{"$f":"VLOOKUP(C923,Referencias!$C$4:$E$21,3,FALSE())","v":2},"Competición","Gallega"]
["1531804","García-Siso Pardo, Teresa","3P","D",{"$f":"VLOOKUP(C924,Referencias!$C$4:$D$21,2,FALSE())","v":"Tercera Picas"},{"$f":"VLOOKUP(I924,Referencias!$B$24:$C$41,2,FALSE())","v":"GAL"},{"$f":"VLOOKUP(C924,Referencias!$C$4:$E$21,3,FALSE())","v":3},"Competición","Gallega"]
["1531806","Trepat Silva, Consuelo","3D","D",{"$f":"VLOOKUP(C925,Referencias!$C$4:$D$21,2,FALSE())","v":"Tercera Diamante"},{"$f":"VLOOKUP(I925,Referencias!$B$24:$C$41,2,FALSE())","v":"GAL"},{"$f":"VLOOKUP(C925,Referencias!$C$4:$E$21,3,FALSE())","v":3},"Competición","Gallega"]
["1531821","Villar y Martín-Barbadillo, María","3D","D",{"$f":"VLOOKUP(C926,Referencias!$C$4:$D$21,2,FALSE())","v":"Tercera Diamante"},{"$f":"VLOOKUP(I926,Referencias!$B$24:$C$41,2,FALSE())","v":"GAL"},{"$f":"VLOOKUP(C926,Referencias!$C$4:$E$21,3,FALSE())","v":3},"Competición","Gallega"]
["1531827","Juega Puig, Francisco Javier","3C","C",{"$f":"VLOOKUP(C927,Referencias!$C$4:$D$21,2,FALSE())","v":"Tercera Corazón"},{"$f":"VLOOKUP(I927,Referencias!$B$24:$C$41,2,FALSE())","v":"GAL"},{"$f":"VLOOKUP(C927,Referencias!$C$4:$E$21,3,FALSE())","v":3},"Competición","Gallega"]
["1531928","Rodriguez Madriñán, Fernando","3P","C",{"$f":"VLOOKUP(C928,Referencias!$C$4:$D$21,2,FALSE())","v":"Tercera Picas"},{"$f":"VLOOKUP(I928,Referencias!$B$24:$C$41,2,FALSE())","v":"GAL"},{"$f":"VLOOKUP(C928,Referencias!$C$4:$E$21,3,FALSE())","v":3},"Competición","Gallega"]
["1531929","Varela Porteiro, Maria","3P","D",{"$f":"VLOOKUP(C929,Referencias!$C$4:$D$21,2,FALSE())","v":"Tercera Picas"},{"$f":"VLOOKUP(I929,Referencias!$B$24:$C$41,2,FALSE())","v":"GAL"},{"$f":"VLOOKUP(C929,Referencias!$C$4:$E$21,3,FALSE())","v":3},"Competición","Gallega"]
["1531930","Nuñez Coello, Alfonso","3P","C",{"$f":"VLOOKUP(C930,Referencias!$C$4:$D$21,2,FALSE())","v":"Tercera Picas"},{"$f":"VLOOKUP(I930,Referencias!$B$24:$C$41,2,FALSE())","v":"GAL"},{"$f":"VLOOKUP(C930,Referencias!$C$4:$E$21,3,FALSE())","v":3},"Competición","Gallega"]
["1531931","Peletiro Fernández, Ramón","3D","C",{"$f":"VLOOKUP(C931,Referencias!$C$4:$D$21,2,FALSE())","v":"Tercera Diamante"},{"$f":"VLOOKUP(I931,Referencias!$B$24:$C$41,2,FALSE())","v":"GAL"},{"$f":"VLOOKUP(C931,Referencias!$C$4:$E$21,3,FALSE())","v":3},"Competición","Gallega"]
["1531932","Romero López-Grado, Jaime","3D","C",{"$f":"VLOOKUP(C932,Referencias!$C$4:$D$21,2,FALSE())","v":"Tercera Diamante"},{"$f":"VLOOKUP(I932,Referencias!$B$24:$C$41,2,FALSE())","v":"GAL"},{"$f":"VLOOKUP(C932,Referencias!$C$4:$E$21,3,FALSE())","v":3},"Competición","Gallega"]
["1531941","Agra García, Carmen","3P","D",{"$f":"VLOOKUP(C933,Referencias!$C$4:$D$21,2,FALSE())","v":"Tercera Picas"},{"$f":"VLOOKUP(I933,Referencias!$B$24:$C$41,2,FALSE())","v":"GAL"},{"$f":"VLOOKUP(C933,Referencias!$C$4:$E$21,3,FALSE())","v":3},"Competición","Gallega"]
["1531942","Varela Porto, Amparo","3D","D",{"$f":"VLOOKUP(C934,Referencias!$C$4:$D$21,2,FALSE())","v":"Tercera Diamante"},{"$f":"VLOOKUP(I934,Referencias!$B$24:$C$41,2,FALSE())","v":"GAL"},{"$f":"VLOOKUP(C934,Referencias!$C$4:$E$21,3,FALSE())","v":3},"Competición","Gallega"]
["1531943","Dopico Saleta, María Sol","3C","D",{"$f":"VLOOKUP(C935,Referencias!$C$4:$D$21,2,FALSE())","v":"Tercera Corazón"},{"$f":"VLOOKUP(I935,Referencias!$B$24:$C$41,2,FALSE())","v":"GAL"},{"$f":"VLOOKUP(C935,Referencias!$C$4:$E$21,3,FALSE())","v":3},"Competición","Gallega"]
["1531945","Pérez Barbero, María Teresa","3D","D",{"$f":"VLOOKUP(C936,Referencias!$C$4:$D$21,2,FALSE())","v":"Tercera Diamante"},{"$f":"VLOOKUP(I936,Referencias!$B$24:$C$41,2,FALSE())","v":"GAL"},{"$f":"VLOOKUP(C936,Referencias!$C$4:$E$21,3,FALSE())","v":3},"Competición","Gallega"]
["1531946","Vecino Barreras, José Antonio","3D","C",{"$f":"VLOOKUP(C937,Referencias!$C$4:$D$21,2,FALSE())","v":"Tercera Diamante"},{"$f":"VLOOKUP(I937,Referencias!$B$24:$C$41,2,FALSE())","v":"GAL"},{"$f":"VLOOKUP(C937,Referencias!$C$4:$E$21,3,FALSE())","v":3},"Competición","Gallega"]
["1531947","Lens Vecino, Isabel","3P","D",{"$f":"VLOOKUP(C938,Referencias!$C$4:$D$21,2,FALSE())","v":"Tercera Picas"},{"$f":"VLOOKUP(I938,Referencias!$B$24:$C$41,2,FALSE())","v":"GAL"},{"$f":"VLOOKUP(C938,Referencias!$C$4:$E$21,3,FALSE())","v":3},"Competición","Gallega"]
["1531948","López Morán, Enriqueta","3D","D",{"$f":"VLOOKUP(C939,Referencias!$C$4:$D$21,2,FALSE())","v":"Tercera Diamante"},{"$f":"VLOOKUP(I939,Referencias!$B$24:$C$41,2,FALSE())","v":"GAL"},{"$f":"VLOOKUP(C939,Referencias!$C$4:$E$21,3,FALSE())","v":3},"Competición","Gallega"]
["1531949","López Castro, Marí Julia","3D","D",{"$f":"VLOOKUP(C940,Referencias!$C$4:$D$21,2,FALSE())","v":"Tercera Diamante"},{"$f":"VLOOKUP(I940,Referencias!$B$24:$C$41,2,FALSE())","v":"GAL"},{"$f":"VLOOKUP(C940,Referencias!$C$4:$E$21,3,FALSE())","v":3},"Competición","Gallega"]
["1531951","Ruiz de la Vega, María del Carmen","3D","D",{"$f":"VLOOKUP(C941,Referencias!$C$4:$D$21,2,FALSE())","v":"Tercera Diamante"},{"$f":"VLOOKUP(I941,Referencias!$B$24:$C$41,2,FALSE())","v":"GAL"},{"$f":"VLOOKUP(C941,Referencias!$C$4:$E$21,3,FALSE())","v":3},"Competición","Gallega"]
["1531986","Ferreiro del Rey, Oscar","3D","C",{"$f":"VLOOKUP(C942,Referencias!$C$4:$D$21,2,FALSE())","v":"Tercera Diamante"},{"$f":"VLOOKUP(I942,Referencias!$B$24:$C$41,2,FALSE())","v":"GAL"},{"$f":"VLOOKUP(C942,Referencias!$C$4:$E$21,3,FALSE())","v":3},"Competición","Gallega"]
["1531987","Romero Burgos, Rafael","3D","C",{"$f":"VLOOKUP(C943,Referencias!$C$4:$D$21,2,FALSE())","v":"Tercera Diamante"},{"$f":"VLOOKUP(I943,Referencias!$B$24:$C$41,2,FALSE())","v":"GAL"},{"$f":"VLOOKUP(C943,Referencias!$C$4:$E$21,3,FALSE())","v":3},"Competición","Gallega"]
["1531988","Pérez Castro, María","3C","D",{"$f":"VLOOKUP(C944,Referencias!$C$4:$D$21,2,FALSE())","v":"Tercera Corazón"},{"$f":"VLOOKUP(I944,Referencias!$B$24:$C$41,2,FALSE())","v":"GAL"},{"$f":"VLOOKUP(C944,Referencias!$C$4:$E$21,3,FALSE())","v":3},"Competición","Gallega"]
["1531989","Lozano Esteve, Pilar","3D","D",{"$f":"VLOOKUP(C945,Referencias!$C$4:$D$21,2,FALSE())","v":"Tercera Diamante"},{"$f":"VLOOKUP(I945,Referencias!$B$24:$C$41,2,FALSE())","v":"GAL"},{"$f":"VLOOKUP(C945,Referencias!$C$4:$E$21,3,FALSE())","v":3},"Competición","Gallega"]
["1531992","Ribas Taveira da Costa d'Abranches Jordao, María Ana","3D","D",{"$f":"VLOOKUP(C946,Referencias!$C$4:$D$21,2,FALSE())","v":"Tercera Diamante"},{"$f":"VLOOKUP(I946,Referencias!$B$24:$C$41,2,FALSE())","v":"GAL"},{"$f":"VLOOKUP(C946,Referencias!$C$4:$E$21,3,FALSE())","v":3},"Competición","Gallega"]
["1531993","Torres Prada, Ana","3D","D",{"$f":"VLOOKUP(C947,Referencias!$C$4:$D$21,2,FALSE())","v":"Tercera Diamante"},{"$f":"VLOOKUP(I947,Referencias!$B$24:$C$41,2,FALSE())","v":"GAL"},{"$f":"VLOOKUP(C947,Referencias!$C$4:$E$21,3,FALSE())","v":3},"Competición","Gallega"]
["1531998","López Regueiro, Sofia","3D","D",{"$f":"VLOOKUP(C948,Referencias!$C$4:$D$21,2,FALSE())","v":"Tercera Diamante"},{"$f":"VLOOKUP(I948,Referencias!$B$24:$C$41,2,FALSE())","v":"GAL"},{"$f":"VLOOKUP(C948,Referencias!$C$4:$E$21,3,FALSE())","v":3},"Competición","Gallega"]
["1531999","Pedreira Almeida, Maria Irene","1C","D",{"$f":"VLOOKUP(C949,Referencias!$C$4:$D$21,2,FALSE())","v":"Primera Corazón"},{"$f":"VLOOKUP(I949,Referencias!$B$24:$C$41,2,FALSE())","v":"GAL"},{"$f":"VLOOKUP(C949,Referencias!$C$4:$E$21,3,FALSE())","v":1},"Competición","Gallega"]
["1532000","Bermúdez de la Puente González del Valle, María Magdalena","3D","D",{"$f":"VLOOKUP(C950,Referencias!$C$4:$D$21,2,FALSE())","v":"Tercera Diamante"},{"$f":"VLOOKUP(I950,Referencias!$B$24:$C$41,2,FALSE())","v":"GAL"},{"$f":"VLOOKUP(C950,Referencias!$C$4:$E$21,3,FALSE())","v":3},"Competición","Gallega"]
["1532001","de los Santos Beneditto, Martín Emiliano","3D","C",{"$f":"VLOOKUP(C951,Referencias!$C$4:$D$21,2,FALSE())","v":"Tercera Diamante"},{"$f":"VLOOKUP(I951,Referencias!$B$24:$C$41,2,FALSE())","v":"GAL"},{"$f":"VLOOKUP(C951,Referencias!$C$4:$E$21,3,FALSE())","v":3},"Competición","Gallega"]
["1532002","Rodriguez Cendón, María Nieves","3D","D",{"$f":"VLOOKUP(C952,Referencias!$C$4:$D$21,2,FALSE())","v":"Tercera Diamante"},{"$f":"VLOOKUP(I952,Referencias!$B$24:$C$41,2,FALSE())","v":"GAL"},{"$f":"VLOOKUP(C952,Referencias!$C$4:$E$21,3,FALSE())","v":3},"Competición","Gallega"]
["1532003","Raposo Sonnenfeld, Inés","3D","D",{"$f":"VLOOKUP(C953,Referencias!$C$4:$D$21,2,FALSE())","v":"Tercera Diamante"},{"$f":"VLOOKUP(I953,Referencias!$B$24:$C$41,2,FALSE())","v":"GAL"},{"$f":"VLOOKUP(C953,Referencias!$C$4:$E$21,3,FALSE())","v":3},"Competición","Gallega"]
["1532004","García da Rosa GrandJean, Rodrigo","3D","C",{"$f":"VLOOKUP(C954,Referencias!$C$4:$D$21,2,FALSE())","v":"Tercera Diamante"},{"$f":"VLOOKUP(I954,Referencias!$B$24:$C$41,2,FALSE())","v":"GAL"},{"$f":"VLOOKUP(C954,Referencias!$C$4:$E$21,3,FALSE())","v":3},"Competición","Gallega"]
["1532005","Crespo Abelleira, Antonio","3D","C",{"$f":"VLOOKUP(C955,Referencias!$C$4:$D$21,2,FALSE())","v":"Tercera Diamante"},{"$f":"VLOOKUP(I955,Referencias!$B$24:$C$41,2,FALSE())","v":"GAL"},{"$f":"VLOOKUP(C955,Referencias!$C$4:$E$21,3,FALSE())","v":3},"Competición","Gallega"]
["1532006","Karczag Dr, Laszlo","3D","C",{"$f":"VLOOKUP(C956,Referencias!$C$4:$D$21,2,FALSE())","v":"Tercera Diamante"},{"$f":"VLOOKUP(I956,Referencias!$B$24:$C$41,2,FALSE())","v":"GAL"},{"$f":"VLOOKUP(C956,Referencias!$C$4:$E$21,3,FALSE())","v":3},"Competición","Gallega"]
["1532007","Montanos Ferrin, Emma","3D","D",{"$f":"VLOOKUP(C957,Referencias!$C$4:$D$21,2,FALSE())","v":"Tercera Diamante"},{"$f":"VLOOKUP(I957,Referencias!$B$24:$C$41,2,FALSE())","v":"GAL"},{"$f":"VLOOKUP(C957,Referencias!$C$4:$E$21,3,FALSE())","v":3},"Competición","Gallega"]
["1532008","Pérez Payo, María Paz","3D","D",{"$f":"VLOOKUP(C958,Referencias!$C$4:$D$21,2,FALSE())","v":"Tercera Diamante"},{"$f":"VLOOKUP(I958,Referencias!$B$24:$C$41,2,FALSE())","v":"GAL"},{"$f":"VLOOKUP(C958,Referencias!$C$4:$E$21,3,FALSE())","v":3},"Competición","Gallega"]
["1532010","Varela Barbeito, Isabel","3D","D",{"$f":"VLOOKUP(C959,Referencias!$C$4:$D$21,2,FALSE())","v":"Tercera Diamante"},{"$f":"VLOOKUP(I959,Referencias!$B$24:$C$41,2,FALSE())","v":"GAL"},{"$f":"VLOOKUP(C959,Referencias!$C$4:$E$21,3,FALSE())","v":3},"Competición","Gallega"]
["1532011","Peña de Castro, Pilar","3D","D",{"$f":"VLOOKUP(C960,Referencias!$C$4:$D$21,2,FALSE())","v":"Tercera Diamante"},{"$f":"VLOOKUP(I960,Referencias!$B$24:$C$41,2,FALSE())","v":"GAL"},{"$f":"VLOOKUP(C960,Referencias!$C$4:$E$21,3,FALSE())","v":3},"Competición","Gallega"]
["1532012","Pérez Rubido, Ana","3D","D",{"$f":"VLOOKUP(C961,Referencias!$C$4:$D$21,2,FALSE())","v":"Tercera Diamante"},{"$f":"VLOOKUP(I961,Referencias!$B$24:$C$41,2,FALSE())","v":"GAL"},{"$f":"VLOOKUP(C961,Referencias!$C$4:$E$21,3,FALSE())","v":3},"Competición","Gallega"]
["1532013","Gómez Gil, Paula María","3D","D",{"$f":"VLOOKUP(C962,Referencias!$C$4:$D$21,2,FALSE())","v":"Tercera Diamante"},{"$f":"VLOOKUP(I962,Referencias!$B$24:$C$41,2,FALSE())","v":"GAL"},{"$f":"VLOOKUP(C962,Referencias!$C$4:$E$21,3,FALSE())","v":3},"Competición","Gallega"]
["1532014","Presedo Vázquez, María Soledad","3D","D",{"$f":"VLOOKUP(C963,Referencias!$C$4:$D$21,2,FALSE())","v":"Tercera Diamante"},{"$f":"VLOOKUP(I963,Referencias!$B$24:$C$41,2,FALSE())","v":"GAL"},{"$f":"VLOOKUP(C963,Referencias!$C$4:$E$21,3,FALSE())","v":3},"Competición","Gallega"]
["1532015","Pérez González, Ana","3D","D",{"$f":"VLOOKUP(C964,Referencias!$C$4:$D$21,2,FALSE())","v":"Tercera Diamante"},{"$f":"VLOOKUP(I964,Referencias!$B$24:$C$41,2,FALSE())","v":"GAL"},{"$f":"VLOOKUP(C964,Referencias!$C$4:$E$21,3,FALSE())","v":3},"Competición","Gallega"]
["1532016","Sánchez Galán, Silvia","3D","D",{"$f":"VLOOKUP(C965,Referencias!$C$4:$D$21,2,FALSE())","v":"Tercera Diamante"},{"$f":"VLOOKUP(I965,Referencias!$B$24:$C$41,2,FALSE())","v":"GAL"},{"$f":"VLOOKUP(C965,Referencias!$C$4:$E$21,3,FALSE())","v":3},"Competición","Gallega"]
["1532017","Osorio Varela, Carmen","3D","D",{"$f":"VLOOKUP(C966,Referencias!$C$4:$D$21,2,FALSE())","v":"Tercera Diamante"},{"$f":"VLOOKUP(I966,Referencias!$B$24:$C$41,2,FALSE())","v":"GAL"},{"$f":"VLOOKUP(C966,Referencias!$C$4:$E$21,3,FALSE())","v":3},"Competición","Gallega"]
["1535009","de Figueroa , Marquesa","1P","D",{"$f":"VLOOKUP(C967,Referencias!$C$4:$D$21,2,FALSE())","v":"Primera Picas"},{"$f":"VLOOKUP(I967,Referencias!$B$24:$C$41,2,FALSE())","v":"GAL"},{"$f":"VLOOKUP(C967,Referencias!$C$4:$E$21,3,FALSE())","v":1},"Competición","Gallega"]
["1535010","Ferrer Pages, Montserrat","2P","D",{"$f":"VLOOKUP(C968,Referencias!$C$4:$D$21,2,FALSE())","v":"Segunda Picas"},{"$f":"VLOOKUP(I968,Referencias!$B$24:$C$41,2,FALSE())","v":"GAL"},{"$f":"VLOOKUP(C968,Referencias!$C$4:$E$21,3,FALSE())","v":2},"Competición","Gallega"]
["1535043","Vázquez-Pimentel Llamas, German","1P","C",{"$f":"VLOOKUP(C969,Referencias!$C$4:$D$21,2,FALSE())","v":"Primera Picas"},{"$f":"VLOOKUP(I969,Referencias!$B$24:$C$41,2,FALSE())","v":"GAL"},{"$f":"VLOOKUP(C969,Referencias!$C$4:$E$21,3,FALSE())","v":1},"Competición","Gallega"]
["1535100","Cortés Lobato, Chitina","3D","D",{"$f":"VLOOKUP(C970,Referencias!$C$4:$D$21,2,FALSE())","v":"Tercera Diamante"},{"$f":"VLOOKUP(I970,Referencias!$B$24:$C$41,2,FALSE())","v":"GAL"},{"$f":"VLOOKUP(C970,Referencias!$C$4:$E$21,3,FALSE())","v":3},"Competición","Gallega"]
["1535112","Romero López-Grado, Marcelo","1P","C",{"$f":"VLOOKUP(C971,Referencias!$C$4:$D$21,2,FALSE())","v":"Primera Picas"},{"$f":"VLOOKUP(I971,Referencias!$B$24:$C$41,2,FALSE())","v":"GAL"},{"$f":"VLOOKUP(C971,Referencias!$C$4:$E$21,3,FALSE())","v":1},"Competición","Gallega"]
["1535114","Solorzano Rojo, Josefina","3P","D",{"$f":"VLOOKUP(C972,Referencias!$C$4:$D$21,2,FALSE())","v":"Tercera Picas"},{"$f":"VLOOKUP(I972,Referencias!$B$24:$C$41,2,FALSE())","v":"GAL"},{"$f":"VLOOKUP(C972,Referencias!$C$4:$E$21,3,FALSE())","v":3},"Competición","Gallega"]
["1535118","Berguer Sández, Margarita","2C","D",{"$f":"VLOOKUP(C973,Referencias!$C$4:$D$21,2,FALSE())","v":"Segunda Corazón"},{"$f":"VLOOKUP(I973,Referencias!$B$24:$C$41,2,FALSE())","v":"GAL"},{"$f":"VLOOKUP(C973,Referencias!$C$4:$E$21,3,FALSE())","v":2},"Competición","Gallega"]
["1535119","Pérez Rubido, Fuensanta","1P","D",{"$f":"VLOOKUP(C974,Referencias!$C$4:$D$21,2,FALSE())","v":"Primera Picas"},{"$f":"VLOOKUP(I974,Referencias!$B$24:$C$41,2,FALSE())","v":"GAL"},{"$f":"VLOOKUP(C974,Referencias!$C$4:$E$21,3,FALSE())","v":1},"Competición","Gallega"]
["1535143","Berguer Sández, Celia","2D","D",{"$f":"VLOOKUP(C975,Referencias!$C$4:$D$21,2,FALSE())","v":"Segunda Diamante"},{"$f":"VLOOKUP(I975,Referencias!$B$24:$C$41,2,FALSE())","v":"GAL"},{"$f":"VLOOKUP(C975,Referencias!$C$4:$E$21,3,FALSE())","v":2},"Competición","Gallega"]
["1535150","Novo Prego, Pancha","1P","D",{"$f":"VLOOKUP(C976,Referencias!$C$4:$D$21,2,FALSE())","v":"Primera Picas"},{"$f":"VLOOKUP(I976,Referencias!$B$24:$C$41,2,FALSE())","v":"GAL"},{"$f":"VLOOKUP(C976,Referencias!$C$4:$E$21,3,FALSE())","v":1},"Competición","Gallega"]
["1535177","Muñiz de las Cuevas, Isabel","3D","D",{"$f":"VLOOKUP(C977,Referencias!$C$4:$D$21,2,FALSE())","v":"Tercera Diamante"},{"$f":"VLOOKUP(I977,Referencias!$B$24:$C$41,2,FALSE())","v":"GAL"},{"$f":"VLOOKUP(C977,Referencias!$C$4:$E$21,3,FALSE())","v":3},"Competición","Gallega"]
["1535180","Muñiz Vega, Marina","1P","D",{"$f":"VLOOKUP(C978,Referencias!$C$4:$D$21,2,FALSE())","v":"Primera Picas"},{"$f":"VLOOKUP(I978,Referencias!$B$24:$C$41,2,FALSE())","v":"GAL"},{"$f":"VLOOKUP(C978,Referencias!$C$4:$E$21,3,FALSE())","v":1},"Competición","Gallega"]
["1535183","Martínez Casal, Luisa","1P","D",{"$f":"VLOOKUP(C979,Referencias!$C$4:$D$21,2,FALSE())","v":"Primera Picas"},{"$f":"VLOOKUP(I979,Referencias!$B$24:$C$41,2,FALSE())","v":"GAL"},{"$f":"VLOOKUP(C979,Referencias!$C$4:$E$21,3,FALSE())","v":1},"Competición","Gallega"]
["1535773","Romero Gorriz, Amparo","2D","D",{"$f":"VLOOKUP(C980,Referencias!$C$4:$D$21,2,FALSE())","v":"Segunda Diamante"},{"$f":"VLOOKUP(I980,Referencias!$B$24:$C$41,2,FALSE())","v":"GAL"},{"$f":"VLOOKUP(C980,Referencias!$C$4:$E$21,3,FALSE())","v":2},"Competición","Gallega"]
["1861692","Bourquin, Helmut","3P","C",{"$f":"VLOOKUP(C981,Referencias!$C$4:$D$21,2,FALSE())","v":"Tercera Picas"},{"$f":"VLOOKUP(I981,Referencias!$B$24:$C$41,2,FALSE())","v":"AND"},{"$f":"VLOOKUP(C981,Referencias!$C$4:$E$21,3,FALSE())","v":3},"Competición","Andaluza"]
["1861785","Mac Avoy, Jim","3D","C",{"$f":"VLOOKUP(C982,Referencias!$C$4:$D$21,2,FALSE())","v":"Tercera Diamante"},{"$f":"VLOOKUP(I982,Referencias!$B$24:$C$41,2,FALSE())","v":"AEB"},{"$f":"VLOOKUP(C982,Referencias!$C$4:$E$21,3,FALSE())","v":3},"Competición","AEB"]
["1861786","Mac Avoy, Constance","3D","C",{"$f":"VLOOKUP(C983,Referencias!$C$4:$D$21,2,FALSE())","v":"Tercera Diamante"},{"$f":"VLOOKUP(I983,Referencias!$B$24:$C$41,2,FALSE())","v":"AEB"},{"$f":"VLOOKUP(C983,Referencias!$C$4:$E$21,3,FALSE())","v":3},"Competición","AEB"]
["1861799","Porcel Morales, María Isabel","3D","D",{"$f":"VLOOKUP(C984,Referencias!$C$4:$D$21,2,FALSE())","v":"Tercera Diamante"},{"$f":"VLOOKUP(I984,Referencias!$B$24:$C$41,2,FALSE())","v":"AND"},{"$f":"VLOOKUP(C984,Referencias!$C$4:$E$21,3,FALSE())","v":3},"Competición","Andaluza"]
["1861800","Clements, Willem","3D","C",{"$f":"VLOOKUP(C985,Referencias!$C$4:$D$21,2,FALSE())","v":"Tercera Diamante"},{"$f":"VLOOKUP(I985,Referencias!$B$24:$C$41,2,FALSE())","v":"AND"},{"$f":"VLOOKUP(C985,Referencias!$C$4:$E$21,3,FALSE())","v":3},"Competición","Andaluza"]
["2081031","Ruiz Lopetedi, María Paz","3D","D",{"$f":"VLOOKUP(C986,Referencias!$C$4:$D$21,2,FALSE())","v":"Tercera Diamante"},{"$f":"VLOOKUP(I986,Referencias!$B$24:$C$41,2,FALSE())","v":"PV"},{"$f":"VLOOKUP(C986,Referencias!$C$4:$E$21,3,FALSE())","v":3},"Competición","Vasca"]
["2081092","Serraller Ibañez, Carmen","3D","D",{"$f":"VLOOKUP(C987,Referencias!$C$4:$D$21,2,FALSE())","v":"Tercera Diamante"},{"$f":"VLOOKUP(I987,Referencias!$B$24:$C$41,2,FALSE())","v":"PV"},{"$f":"VLOOKUP(C987,Referencias!$C$4:$E$21,3,FALSE())","v":3},"Competición","Vasca"]
["2081093","Drehs del Castro, Ana María","3D","D",{"$f":"VLOOKUP(C988,Referencias!$C$4:$D$21,2,FALSE())","v":"Tercera Diamante"},{"$f":"VLOOKUP(I988,Referencias!$B$24:$C$41,2,FALSE())","v":"PV"},{"$f":"VLOOKUP(C988,Referencias!$C$4:$E$21,3,FALSE())","v":3},"Competición","Vasca"]
["2081098","Telleria Usabiaga, Isabel","3C","D",{"$f":"VLOOKUP(C989,Referencias!$C$4:$D$21,2,FALSE())","v":"Tercera Corazón"},{"$f":"VLOOKUP(I989,Referencias!$B$24:$C$41,2,FALSE())","v":"PV"},{"$f":"VLOOKUP(C989,Referencias!$C$4:$E$21,3,FALSE())","v":3},"Competición","Vasca"]
["2081134","Escribano Uzcudun, Miguel","3C","C",{"$f":"VLOOKUP(C990,Referencias!$C$4:$D$21,2,FALSE())","v":"Tercera Corazón"},{"$f":"VLOOKUP(I990,Referencias!$B$24:$C$41,2,FALSE())","v":"PV"},{"$f":"VLOOKUP(C990,Referencias!$C$4:$E$21,3,FALSE())","v":3},"Competición","Vasca"]
["2081167","Lasarte Alzua, José León","1P","C",{"$f":"VLOOKUP(C991,Referencias!$C$4:$D$21,2,FALSE())","v":"Primera Picas"},{"$f":"VLOOKUP(I991,Referencias!$B$24:$C$41,2,FALSE())","v":"PV"},{"$f":"VLOOKUP(C991,Referencias!$C$4:$E$21,3,FALSE())","v":1},"Competición","Vasca"]
["2081168","Sainz Armada, Paz","2C","D",{"$f":"VLOOKUP(C992,Referencias!$C$4:$D$21,2,FALSE())","v":"Segunda Corazón"},{"$f":"VLOOKUP(I992,Referencias!$B$24:$C$41,2,FALSE())","v":"PV"},{"$f":"VLOOKUP(C992,Referencias!$C$4:$E$21,3,FALSE())","v":2},"Competición","Vasca"]
["2081191","Elio Lopetedi, María Pilar","3D","D",{"$f":"VLOOKUP(C993,Referencias!$C$4:$D$21,2,FALSE())","v":"Tercera Diamante"},{"$f":"VLOOKUP(I993,Referencias!$B$24:$C$41,2,FALSE())","v":"PV"},{"$f":"VLOOKUP(C993,Referencias!$C$4:$E$21,3,FALSE())","v":3},"Competición","Vasca"]
["2081208","Gimenez Aurusa, María Victoria","3D","D",{"$f":"VLOOKUP(C994,Referencias!$C$4:$D$21,2,FALSE())","v":"Tercera Diamante"},{"$f":"VLOOKUP(I994,Referencias!$B$24:$C$41,2,FALSE())","v":"PV"},{"$f":"VLOOKUP(C994,Referencias!$C$4:$E$21,3,FALSE())","v":3},"Competición","Vasca"]
["2081209","Pennes Miangolarra, Michel","3P","C",{"$f":"VLOOKUP(C995,Referencias!$C$4:$D$21,2,FALSE())","v":"Tercera Picas"},{"$f":"VLOOKUP(I995,Referencias!$B$24:$C$41,2,FALSE())","v":"PV"},{"$f":"VLOOKUP(C995,Referencias!$C$4:$E$21,3,FALSE())","v":3},"Competición","Vasca"]
["2081239","Rodriguez Huerta, Elena","3D","D",{"$f":"VLOOKUP(C996,Referencias!$C$4:$D$21,2,FALSE())","v":"Tercera Diamante"},{"$f":"VLOOKUP(I996,Referencias!$B$24:$C$41,2,FALSE())","v":"PV"},{"$f":"VLOOKUP(C996,Referencias!$C$4:$E$21,3,FALSE())","v":3},"Competición","Vasca"]
["2081241","Uriarte Seminario, Ana María","2C","D",{"$f":"VLOOKUP(C997,Referencias!$C$4:$D$21,2,FALSE())","v":"Segunda Corazón"},{"$f":"VLOOKUP(I997,Referencias!$B$24:$C$41,2,FALSE())","v":"PV"},{"$f":"VLOOKUP(C997,Referencias!$C$4:$E$21,3,FALSE())","v":2},"Competición","Vasca"]
["2081256","Velarde Altolaguirre, Guadalupe","3P","D",{"$f":"VLOOKUP(C998,Referencias!$C$4:$D$21,2,FALSE())","v":"Tercera Picas"},{"$f":"VLOOKUP(I998,Referencias!$B$24:$C$41,2,FALSE())","v":"PV"},{"$f":"VLOOKUP(C998,Referencias!$C$4:$E$21,3,FALSE())","v":3},"Competición","Vasca"]
["2081257","Gabilondo Usabiaga, Miren","3D","D",{"$f":"VLOOKUP(C999,Referencias!$C$4:$D$21,2,FALSE())","v":"Tercera Diamante"},{"$f":"VLOOKUP(I999,Referencias!$B$24:$C$41,2,FALSE())","v":"PV"},{"$f":"VLOOKUP(C999,Referencias!$C$4:$E$21,3,FALSE())","v":3},"Competición","Vasca"]
["2081264","Olasagasti Duñabeitia, María del Coro","3C","D",{"$f":"VLOOKUP(C1000,Referencias!$C$4:$D$21,2,FALSE())","v":"Tercera Corazón"},{"$f":"VLOOKUP(I1000,Referencias!$B$24:$C$41,2,FALSE())","v":"PV"},{"$f":"VLOOKUP(C1000,Referencias!$C$4:$E$21,3,FALSE())","v":3},"Competición","Vasca"]
["2081265","Olasagasti Duñabeitia, Ana","3D","D",{"$f":"VLOOKUP(C1001,Referencias!$C$4:$D$21,2,FALSE())","v":"Tercera Diamante"},{"$f":"VLOOKUP(I1001,Referencias!$B$24:$C$41,2,FALSE())","v":"PV"},{"$f":"VLOOKUP(C1001,Referencias!$C$4:$E$21,3,FALSE())","v":3},"Competición","Vasca"]
["2081275","Murua Urruticoechea, Antonio","2C","C",{"$f":"VLOOKUP(C1002,Referencias!$C$4:$D$21,2,FALSE())","v":"Segunda Corazón"},{"$f":"VLOOKUP(I1002,Referencias!$B$24:$C$41,2,FALSE())","v":"PV"},{"$f":"VLOOKUP(C1002,Referencias!$C$4:$E$21,3,FALSE())","v":2},"Competición","Vasca"]
["2081276","Murua Urruticoechea, Laura","1D","D",{"$f":"VLOOKUP(C1003,Referencias!$C$4:$D$21,2,FALSE())","v":"Primera Diamante"},{"$f":"VLOOKUP(I1003,Referencias!$B$24:$C$41,2,FALSE())","v":"PV"},{"$f":"VLOOKUP(C1003,Referencias!$C$4:$E$21,3,FALSE())","v":1},"Competición","Vasca"]
["2081277","Barandiaran Barbeira, Juan","3D","C",{"$f":"VLOOKUP(C1004,Referencias!$C$4:$D$21,2,FALSE())","v":"Tercera Diamante"},{"$f":"VLOOKUP(I1004,Referencias!$B$24:$C$41,2,FALSE())","v":"PV"},{"$f":"VLOOKUP(C1004,Referencias!$C$4:$E$21,3,FALSE())","v":3},"Competición","Vasca"]
["2081280","Mayor de la Peña, María Luisa","3D","D",{"$f":"VLOOKUP(C1005,Referencias!$C$4:$D$21,2,FALSE())","v":"Tercera Diamante"},{"$f":"VLOOKUP(I1005,Referencias!$B$24:$C$41,2,FALSE())","v":"PV"},{"$f":"VLOOKUP(C1005,Referencias!$C$4:$E$21,3,FALSE())","v":3},"Competición","Vasca"]
["2081281","Riera Arévalo, María Asún","3D","D",{"$f":"VLOOKUP(C1006,Referencias!$C$4:$D$21,2,FALSE())","v":"Tercera Diamante"},{"$f":"VLOOKUP(I1006,Referencias!$B$24:$C$41,2,FALSE())","v":"PV"},{"$f":"VLOOKUP(C1006,Referencias!$C$4:$E$21,3,FALSE())","v":3},"Competición","Vasca"]
["2081288","Retana Ardanaz, Gonzalo","3D","C",{"$f":"VLOOKUP(C1007,Referencias!$C$4:$D$21,2,FALSE())","v":"Tercera Diamante"},{"$f":"VLOOKUP(I1007,Referencias!$B$24:$C$41,2,FALSE())","v":"PV"},{"$f":"VLOOKUP(C1007,Referencias!$C$4:$E$21,3,FALSE())","v":3},"Competición","Vasca"]
["2081289","Sánchez Abuín, Javier","3D","C",{"$f":"VLOOKUP(C1008,Referencias!$C$4:$D$21,2,FALSE())","v":"Tercera Diamante"},{"$f":"VLOOKUP(I1008,Referencias!$B$24:$C$41,2,FALSE())","v":"PV"},{"$f":"VLOOKUP(C1008,Referencias!$C$4:$E$21,3,FALSE())","v":3},"Competición","Vasca"]
["2081290","Ganzarain Polit, Regina","3D","D",{"$f":"VLOOKUP(C1009,Referencias!$C$4:$D$21,2,FALSE())","v":"Tercera Diamante"},{"$f":"VLOOKUP(I1009,Referencias!$B$24:$C$41,2,FALSE())","v":"PV"},{"$f":"VLOOKUP(C1009,Referencias!$C$4:$E$21,3,FALSE())","v":3},"Competición","Vasca"]
["2081291","Pablos Sánchez , Maria del Araceli","3D","D",{"$f":"VLOOKUP(C1010,Referencias!$C$4:$D$21,2,FALSE())","v":"Tercera Diamante"},{"$f":"VLOOKUP(I1010,Referencias!$B$24:$C$41,2,FALSE())","v":"PV"},{"$f":"VLOOKUP(C1010,Referencias!$C$4:$E$21,3,FALSE())","v":3},"Competición","Vasca"]
["2081292","Echavarri de Miguel, Ana Isabel","3D","D",{"$f":"VLOOKUP(C1011,Referencias!$C$4:$D$21,2,FALSE())","v":"Tercera Diamante"},{"$f":"VLOOKUP(I1011,Referencias!$B$24:$C$41,2,FALSE())","v":"PV"},{"$f":"VLOOKUP(C1011,Referencias!$C$4:$E$21,3,FALSE())","v":3},"Competición","Vasca"]
["2081293","Ferrando Elorza, Carmen","3D","D",{"$f":"VLOOKUP(C1012,Referencias!$C$4:$D$21,2,FALSE())","v":"Tercera Diamante"},{"$f":"VLOOKUP(I1012,Referencias!$B$24:$C$41,2,FALSE())","v":"PV"},{"$f":"VLOOKUP(C1012,Referencias!$C$4:$E$21,3,FALSE())","v":3},"Competición","Vasca"]
["2081454","Martínez Fresneda, Álvaro","1P","C",{"$f":"VLOOKUP(C1013,Referencias!$C$4:$D$21,2,FALSE())","v":"Primera Picas"},{"$f":"VLOOKUP(I1013,Referencias!$B$24:$C$41,2,FALSE())","v":"CANT"},{"$f":"VLOOKUP(C1013,Referencias!$C$4:$E$21,3,FALSE())","v":1},"Competición","Cántabra"]
["2083348","Pilarte Pilarte, Fernando","1P","C",{"$f":"VLOOKUP(C1014,Referencias!$C$4:$D$21,2,FALSE())","v":"Primera Picas"},{"$f":"VLOOKUP(I1014,Referencias!$B$24:$C$41,2,FALSE())","v":"PV"},{"$f":"VLOOKUP(C1014,Referencias!$C$4:$E$21,3,FALSE())","v":1},"Competición","Vasca"]
["2161289","Garrigos Perucha, Pedro","2D","C",{"$f":"VLOOKUP(C1015,Referencias!$C$4:$D$21,2,FALSE())","v":"Segunda Diamante"},{"$f":"VLOOKUP(I1015,Referencias!$B$24:$C$41,2,FALSE())","v":"AND"},{"$f":"VLOOKUP(C1015,Referencias!$C$4:$E$21,3,FALSE())","v":2},"Competición","Andaluza"]
["2161290","López Urieta, Alejandro","1P","C",{"$f":"VLOOKUP(C1016,Referencias!$C$4:$D$21,2,FALSE())","v":"Primera Picas"},{"$f":"VLOOKUP(I1016,Referencias!$B$24:$C$41,2,FALSE())","v":"AND"},{"$f":"VLOOKUP(C1016,Referencias!$C$4:$E$21,3,FALSE())","v":1},"Competición","Andaluza"]
["2161457","Carrasco Vila, Jesús","3D","C",{"$f":"VLOOKUP(C1017,Referencias!$C$4:$D$21,2,FALSE())","v":"Tercera Diamante"},{"$f":"VLOOKUP(I1017,Referencias!$B$24:$C$41,2,FALSE())","v":"AND"},{"$f":"VLOOKUP(C1017,Referencias!$C$4:$E$21,3,FALSE())","v":3},"Competición","Andaluza"]
["2161460","Calvo Sánchez, Jesús María","3D","C",{"$f":"VLOOKUP(C1018,Referencias!$C$4:$D$21,2,FALSE())","v":"Tercera Diamante"},{"$f":"VLOOKUP(I1018,Referencias!$B$24:$C$41,2,FALSE())","v":"AND"},{"$f":"VLOOKUP(C1018,Referencias!$C$4:$E$21,3,FALSE())","v":3},"Competición","Andaluza"]
["2161461","Villalón Cuesta, Manuel","3C","C",{"$f":"VLOOKUP(C1019,Referencias!$C$4:$D$21,2,FALSE())","v":"Tercera Corazón"},{"$f":"VLOOKUP(I1019,Referencias!$B$24:$C$41,2,FALSE())","v":"AND"},{"$f":"VLOOKUP(C1019,Referencias!$C$4:$E$21,3,FALSE())","v":3},"Competición","Andaluza"]
["2161463","Guerrero Lowndes, Ana Verónica","3D","D",{"$f":"VLOOKUP(C1020,Referencias!$C$4:$D$21,2,FALSE())","v":"Tercera Diamante"},{"$f":"VLOOKUP(I1020,Referencias!$B$24:$C$41,2,FALSE())","v":"AND"},{"$f":"VLOOKUP(C1020,Referencias!$C$4:$E$21,3,FALSE())","v":3},"Competición","Andaluza"]
["2161717","Romero Albarracin, Agustín","3D","C",{"$f":"VLOOKUP(C1021,Referencias!$C$4:$D$21,2,FALSE())","v":"Tercera Diamante"},{"$f":"VLOOKUP(I1021,Referencias!$B$24:$C$41,2,FALSE())","v":"AND"},{"$f":"VLOOKUP(C1021,Referencias!$C$4:$E$21,3,FALSE())","v":3},"Competición","Andaluza"]
["2161725","Espada Criado, Antonio","3D","C",{"$f":"VLOOKUP(C1022,Referencias!$C$4:$D$21,2,FALSE())","v":"Tercera Diamante"},{"$f":"VLOOKUP(I1022,Referencias!$B$24:$C$41,2,FALSE())","v":"AND"},{"$f":"VLOOKUP(C1022,Referencias!$C$4:$E$21,3,FALSE())","v":3},"Competición","Andaluza"]
["2161822","Schuett Toczek, Susan Carolyn","3D","D",{"$f":"VLOOKUP(C1023,Referencias!$C$4:$D$21,2,FALSE())","v":"Tercera Diamante"},{"$f":"VLOOKUP(I1023,Referencias!$B$24:$C$41,2,FALSE())","v":"AND"},{"$f":"VLOOKUP(C1023,Referencias!$C$4:$E$21,3,FALSE())","v":3},"Competición","Andaluza"]
["2168207","Golmar Izquierdo, Alfonso","1C","C",{"$f":"VLOOKUP(C1024,Referencias!$C$4:$D$21,2,FALSE())","v":"Primera Corazón"},{"$f":"VLOOKUP(I1024,Referencias!$B$24:$C$41,2,FALSE())","v":"AND"},{"$f":"VLOOKUP(C1024,Referencias!$C$4:$E$21,3,FALSE())","v":1},"Competición","Andaluza"]
["2202290","Mundo Tricas, Pilar","3D","D",{"$f":"VLOOKUP(C1025,Referencias!$C$4:$D$21,2,FALSE())","v":"Tercera Diamante"},{"$f":"VLOOKUP(I1025,Referencias!$B$24:$C$41,2,FALSE())","v":"ARA"},{"$f":"VLOOKUP(C1025,Referencias!$C$4:$E$21,3,FALSE())","v":3},"Competición","Aragonesa"]
["2471000","Martínez Puente, Miguel Angel","2P","C",{"$f":"VLOOKUP(C1026,Referencias!$C$4:$D$21,2,FALSE())","v":"Segunda Picas"},{"$f":"VLOOKUP(I1026,Referencias!$B$24:$C$41,2,FALSE())","v":"CYL"},{"$f":"VLOOKUP(C1026,Referencias!$C$4:$E$21,3,FALSE())","v":2},"Competición","Castilla y León"]
["2471001","Almarza Riesco, Mercedes","2P","D",{"$f":"VLOOKUP(C1027,Referencias!$C$4:$D$21,2,FALSE())","v":"Segunda Picas"},{"$f":"VLOOKUP(I1027,Referencias!$B$24:$C$41,2,FALSE())","v":"CYL"},{"$f":"VLOOKUP(C1027,Referencias!$C$4:$E$21,3,FALSE())","v":2},"Competición","Castilla y León"]
["2471002","Gutiérrez González, Vicente","3D","C",{"$f":"VLOOKUP(C1028,Referencias!$C$4:$D$21,2,FALSE())","v":"Tercera Diamante"},{"$f":"VLOOKUP(I1028,Referencias!$B$24:$C$41,2,FALSE())","v":"CYL"},{"$f":"VLOOKUP(C1028,Referencias!$C$4:$E$21,3,FALSE())","v":3},"Competición","Castilla y León"]
["2471037","Alonso Grima, Pilar","3C","D",{"$f":"VLOOKUP(C1029,Referencias!$C$4:$D$21,2,FALSE())","v":"Tercera Corazón"},{"$f":"VLOOKUP(I1029,Referencias!$B$24:$C$41,2,FALSE())","v":"CYL"},{"$f":"VLOOKUP(C1029,Referencias!$C$4:$E$21,3,FALSE())","v":3},"Competición","Castilla y León"]
["2471039","Alaejos González, Ana","3D","D",{"$f":"VLOOKUP(C1030,Referencias!$C$4:$D$21,2,FALSE())","v":"Tercera Diamante"},{"$f":"VLOOKUP(I1030,Referencias!$B$24:$C$41,2,FALSE())","v":"CYL"},{"$f":"VLOOKUP(C1030,Referencias!$C$4:$E$21,3,FALSE())","v":3},"Competición","Castilla y León"]
["2471041","Porras de Fernández, Manuela","3D","D",{"$f":"VLOOKUP(C1031,Referencias!$C$4:$D$21,2,FALSE())","v":"Tercera Diamante"},{"$f":"VLOOKUP(I1031,Referencias!$B$24:$C$41,2,FALSE())","v":"CYL"},{"$f":"VLOOKUP(C1031,Referencias!$C$4:$E$21,3,FALSE())","v":3},"Competición","Castilla y León"]
["2471164","González Martinena, María Amparo","3D","D",{"$f":"VLOOKUP(C1032,Referencias!$C$4:$D$21,2,FALSE())","v":"Tercera Diamante"},{"$f":"VLOOKUP(I1032,Referencias!$B$24:$C$41,2,FALSE())","v":"CYL"},{"$f":"VLOOKUP(C1032,Referencias!$C$4:$E$21,3,FALSE())","v":3},"Competición","Castilla y León"]
["2471232","González Gutiérrez, Mercedes","3C","D",{"$f":"VLOOKUP(C1033,Referencias!$C$4:$D$21,2,FALSE())","v":"Tercera Corazón"},{"$f":"VLOOKUP(I1033,Referencias!$B$24:$C$41,2,FALSE())","v":"CYL"},{"$f":"VLOOKUP(C1033,Referencias!$C$4:$E$21,3,FALSE())","v":3},"Competición","Castilla y León"]
["2471271","Toral Marcos, José","2D","C",{"$f":"VLOOKUP(C1034,Referencias!$C$4:$D$21,2,FALSE())","v":"Segunda Diamante"},{"$f":"VLOOKUP(I1034,Referencias!$B$24:$C$41,2,FALSE())","v":"CYL"},{"$f":"VLOOKUP(C1034,Referencias!$C$4:$E$21,3,FALSE())","v":2},"Competición","Castilla y León"]
["2471272","Larriba Molina, Marina","2D","D",{"$f":"VLOOKUP(C1035,Referencias!$C$4:$D$21,2,FALSE())","v":"Segunda Diamante"},{"$f":"VLOOKUP(I1035,Referencias!$B$24:$C$41,2,FALSE())","v":"CYL"},{"$f":"VLOOKUP(C1035,Referencias!$C$4:$E$21,3,FALSE())","v":2},"Competición","Castilla y León"]
["2471274","Alonso Pérez, Nieves","3D","D",{"$f":"VLOOKUP(C1036,Referencias!$C$4:$D$21,2,FALSE())","v":"Tercera Diamante"},{"$f":"VLOOKUP(I1036,Referencias!$B$24:$C$41,2,FALSE())","v":"CYL"},{"$f":"VLOOKUP(C1036,Referencias!$C$4:$E$21,3,FALSE())","v":3},"Competición","Castilla y León"]
["2471275","Coma Luengo, Angeles","3D","D",{"$f":"VLOOKUP(C1037,Referencias!$C$4:$D$21,2,FALSE())","v":"Tercera Diamante"},{"$f":"VLOOKUP(I1037,Referencias!$B$24:$C$41,2,FALSE())","v":"CYL"},{"$f":"VLOOKUP(C1037,Referencias!$C$4:$E$21,3,FALSE())","v":3},"Competición","Castilla y León"]
["2471320","Carnero Gutierrez, Dori","2C","D",{"$f":"VLOOKUP(C1038,Referencias!$C$4:$D$21,2,FALSE())","v":"Segunda Corazón"},{"$f":"VLOOKUP(I1038,Referencias!$B$24:$C$41,2,FALSE())","v":"CYL"},{"$f":"VLOOKUP(C1038,Referencias!$C$4:$E$21,3,FALSE())","v":2},"Competición","Castilla y León"]
["2471321","Feo de la Fuente, Josefa","3D","D",{"$f":"VLOOKUP(C1039,Referencias!$C$4:$D$21,2,FALSE())","v":"Tercera Diamante"},{"$f":"VLOOKUP(I1039,Referencias!$B$24:$C$41,2,FALSE())","v":"CYL"},{"$f":"VLOOKUP(C1039,Referencias!$C$4:$E$21,3,FALSE())","v":3},"Honorífica","Castilla y León"]
["2471409","Calvo Rodríguez, Mariluz","3D","D",{"$f":"VLOOKUP(C1040,Referencias!$C$4:$D$21,2,FALSE())","v":"Tercera Diamante"},{"$f":"VLOOKUP(I1040,Referencias!$B$24:$C$41,2,FALSE())","v":"CYL"},{"$f":"VLOOKUP(C1040,Referencias!$C$4:$E$21,3,FALSE())","v":3},"Competición","Castilla y León"]
["2471410","González Guillén, María Ángeles","3D","D",{"$f":"VLOOKUP(C1041,Referencias!$C$4:$D$21,2,FALSE())","v":"Tercera Diamante"},{"$f":"VLOOKUP(I1041,Referencias!$B$24:$C$41,2,FALSE())","v":"CYL"},{"$f":"VLOOKUP(C1041,Referencias!$C$4:$E$21,3,FALSE())","v":3},"Competición","Castilla y León"]
["2471421","Ameijide Calleja, Luis Helio","3D","C",{"$f":"VLOOKUP(C1042,Referencias!$C$4:$D$21,2,FALSE())","v":"Tercera Diamante"},{"$f":"VLOOKUP(I1042,Referencias!$B$24:$C$41,2,FALSE())","v":"CYL"},{"$f":"VLOOKUP(C1042,Referencias!$C$4:$E$21,3,FALSE())","v":3},"Competición","Castilla y León"]
["2471433","Rebollo Martínez, Victoria","3D","D",{"$f":"VLOOKUP(C1043,Referencias!$C$4:$D$21,2,FALSE())","v":"Tercera Diamante"},{"$f":"VLOOKUP(I1043,Referencias!$B$24:$C$41,2,FALSE())","v":"CYL"},{"$f":"VLOOKUP(C1043,Referencias!$C$4:$E$21,3,FALSE())","v":3},"Competición","Castilla y León"]
["2471435","Graña González, Emma","3C","D",{"$f":"VLOOKUP(C1044,Referencias!$C$4:$D$21,2,FALSE())","v":"Tercera Corazón"},{"$f":"VLOOKUP(I1044,Referencias!$B$24:$C$41,2,FALSE())","v":"CYL"},{"$f":"VLOOKUP(C1044,Referencias!$C$4:$E$21,3,FALSE())","v":3},"Competición","Castilla y León"]
["2471437","Díez Tejerina, Maria Q.","3D","D",{"$f":"VLOOKUP(C1045,Referencias!$C$4:$D$21,2,FALSE())","v":"Tercera Diamante"},{"$f":"VLOOKUP(I1045,Referencias!$B$24:$C$41,2,FALSE())","v":"CYL"},{"$f":"VLOOKUP(C1045,Referencias!$C$4:$E$21,3,FALSE())","v":3},"Competición","Castilla y León"]
["2471438","Piñón Gutiérrez, María Teresa","3D","D",{"$f":"VLOOKUP(C1046,Referencias!$C$4:$D$21,2,FALSE())","v":"Tercera Diamante"},{"$f":"VLOOKUP(I1046,Referencias!$B$24:$C$41,2,FALSE())","v":"CYL"},{"$f":"VLOOKUP(C1046,Referencias!$C$4:$E$21,3,FALSE())","v":3},"Competición","Castilla y León"]
["2471478","Sánchez Picazas, Marta","3C","D",{"$f":"VLOOKUP(C1047,Referencias!$C$4:$D$21,2,FALSE())","v":"Tercera Corazón"},{"$f":"VLOOKUP(I1047,Referencias!$B$24:$C$41,2,FALSE())","v":"CYL"},{"$f":"VLOOKUP(C1047,Referencias!$C$4:$E$21,3,FALSE())","v":3},"Competición","Castilla y León"]
["2471480","Santos Rodríguez, María del Carmen","3D","D",{"$f":"VLOOKUP(C1048,Referencias!$C$4:$D$21,2,FALSE())","v":"Tercera Diamante"},{"$f":"VLOOKUP(I1048,Referencias!$B$24:$C$41,2,FALSE())","v":"CYL"},{"$f":"VLOOKUP(C1048,Referencias!$C$4:$E$21,3,FALSE())","v":3},"Competición","Castilla y León"]
["2471522","Palmero, Corry","1P","D",{"$f":"VLOOKUP(C1049,Referencias!$C$4:$D$21,2,FALSE())","v":"Primera Picas"},{"$f":"VLOOKUP(I1049,Referencias!$B$24:$C$41,2,FALSE())","v":"CYL"},{"$f":"VLOOKUP(C1049,Referencias!$C$4:$E$21,3,FALSE())","v":1},"Competición","Castilla y León"]
["2471552","San Martín Martín, Fernando","3P","C",{"$f":"VLOOKUP(C1050,Referencias!$C$4:$D$21,2,FALSE())","v":"Tercera Picas"},{"$f":"VLOOKUP(I1050,Referencias!$B$24:$C$41,2,FALSE())","v":"CYL"},{"$f":"VLOOKUP(C1050,Referencias!$C$4:$E$21,3,FALSE())","v":3},"Competición","Castilla y León"]
["2471553","Sangrador Quijada, María Cruz","3P","D",{"$f":"VLOOKUP(C1051,Referencias!$C$4:$D$21,2,FALSE())","v":"Tercera Picas"},{"$f":"VLOOKUP(I1051,Referencias!$B$24:$C$41,2,FALSE())","v":"CYL"},{"$f":"VLOOKUP(C1051,Referencias!$C$4:$E$21,3,FALSE())","v":3},"Competición","Castilla y León"]
["2471554","Jones, Melville","3D","C",{"$f":"VLOOKUP(C1052,Referencias!$C$4:$D$21,2,FALSE())","v":"Tercera Diamante"},{"$f":"VLOOKUP(I1052,Referencias!$B$24:$C$41,2,FALSE())","v":"CYL"},{"$f":"VLOOKUP(C1052,Referencias!$C$4:$E$21,3,FALSE())","v":3},"Competición","Castilla y León"]
["2471555","González García, Sofía","3D","D",{"$f":"VLOOKUP(C1053,Referencias!$C$4:$D$21,2,FALSE())","v":"Tercera Diamante"},{"$f":"VLOOKUP(I1053,Referencias!$B$24:$C$41,2,FALSE())","v":"CYL"},{"$f":"VLOOKUP(C1053,Referencias!$C$4:$E$21,3,FALSE())","v":3},"Competición","Castilla y León"]
["2471556","Diez Arias, Manuel","3D","C",{"$f":"VLOOKUP(C1054,Referencias!$C$4:$D$21,2,FALSE())","v":"Tercera Diamante"},{"$f":"VLOOKUP(I1054,Referencias!$B$24:$C$41,2,FALSE())","v":"CYL"},{"$f":"VLOOKUP(C1054,Referencias!$C$4:$E$21,3,FALSE())","v":3},"Competición","Castilla y León"]
["2475713","Ameijide Montenegro, Luis","1P","C",{"$f":"VLOOKUP(C1055,Referencias!$C$4:$D$21,2,FALSE())","v":"Primera Picas"},{"$f":"VLOOKUP(I1055,Referencias!$B$24:$C$41,2,FALSE())","v":"CYL"},{"$f":"VLOOKUP(C1055,Referencias!$C$4:$E$21,3,FALSE())","v":1},"Competición","Castilla y León"]
["2475714","Calleja Medel, Gilda","2D","D",{"$f":"VLOOKUP(C1056,Referencias!$C$4:$D$21,2,FALSE())","v":"Segunda Diamante"},{"$f":"VLOOKUP(I1056,Referencias!$B$24:$C$41,2,FALSE())","v":"CYL"},{"$f":"VLOOKUP(C1056,Referencias!$C$4:$E$21,3,FALSE())","v":2},"Competición","Castilla y León"]
["2607000","Camacho García, Nieves","3D","D",{"$f":"VLOOKUP(C1057,Referencias!$C$4:$D$21,2,FALSE())","v":"Tercera Diamante"},{"$f":"VLOOKUP(I1057,Referencias!$B$24:$C$41,2,FALSE())","v":"RIOJ"},{"$f":"VLOOKUP(C1057,Referencias!$C$4:$E$21,3,FALSE())","v":3},"Competición","Riojana"]
["2607001","Le Barzic, Anne-Marie","3C","D",{"$f":"VLOOKUP(C1058,Referencias!$C$4:$D$21,2,FALSE())","v":"Tercera Corazón"},{"$f":"VLOOKUP(I1058,Referencias!$B$24:$C$41,2,FALSE())","v":"RIOJ"},{"$f":"VLOOKUP(C1058,Referencias!$C$4:$E$21,3,FALSE())","v":3},"Competición","Riojana"]
["2607002","Torres González, Lucía","3D","D",{"$f":"VLOOKUP(C1059,Referencias!$C$4:$D$21,2,FALSE())","v":"Tercera Diamante"},{"$f":"VLOOKUP(I1059,Referencias!$B$24:$C$41,2,FALSE())","v":"RIOJ"},{"$f":"VLOOKUP(C1059,Referencias!$C$4:$E$21,3,FALSE())","v":3},"Competición","Riojana"]
["2607004","Cordier Jolivot, Josette","3D","D",{"$f":"VLOOKUP(C1060,Referencias!$C$4:$D$21,2,FALSE())","v":"Tercera Diamante"},{"$f":"VLOOKUP(I1060,Referencias!$B$24:$C$41,2,FALSE())","v":"RIOJ"},{"$f":"VLOOKUP(C1060,Referencias!$C$4:$E$21,3,FALSE())","v":3},"Competición","Riojana"]
["2607007","García Jimenez, María Luz","3D","D",{"$f":"VLOOKUP(C1061,Referencias!$C$4:$D$21,2,FALSE())","v":"Tercera Diamante"},{"$f":"VLOOKUP(I1061,Referencias!$B$24:$C$41,2,FALSE())","v":"RIOJ"},{"$f":"VLOOKUP(C1061,Referencias!$C$4:$E$21,3,FALSE())","v":3},"Competición","Riojana"]
["2607008","Rodríguez Andollo, Rosa María","3D","D",{"$f":"VLOOKUP(C1062,Referencias!$C$4:$D$21,2,FALSE())","v":"Tercera Diamante"},{"$f":"VLOOKUP(I1062,Referencias!$B$24:$C$41,2,FALSE())","v":"RIOJ"},{"$f":"VLOOKUP(C1062,Referencias!$C$4:$E$21,3,FALSE())","v":3},"Competición","Riojana"]
["2607009","Meneses Mtnez. Bernal, Celia","3D","D",{"$f":"VLOOKUP(C1063,Referencias!$C$4:$D$21,2,FALSE())","v":"Tercera Diamante"},{"$f":"VLOOKUP(I1063,Referencias!$B$24:$C$41,2,FALSE())","v":"RIOJ"},{"$f":"VLOOKUP(C1063,Referencias!$C$4:$E$21,3,FALSE())","v":3},"Competición","Riojana"]
["2607010","García González, Míguel Angel","3D","C",{"$f":"VLOOKUP(C1064,Referencias!$C$4:$D$21,2,FALSE())","v":"Tercera Diamante"},{"$f":"VLOOKUP(I1064,Referencias!$B$24:$C$41,2,FALSE())","v":"RIOJ"},{"$f":"VLOOKUP(C1064,Referencias!$C$4:$E$21,3,FALSE())","v":3},"Competición","Riojana"]
["2607011","Marin Gallardo, Eloisa","3C","D",{"$f":"VLOOKUP(C1065,Referencias!$C$4:$D$21,2,FALSE())","v":"Tercera Corazón"},{"$f":"VLOOKUP(I1065,Referencias!$B$24:$C$41,2,FALSE())","v":"RIOJ"},{"$f":"VLOOKUP(C1065,Referencias!$C$4:$E$21,3,FALSE())","v":3},"Competición","Riojana"]
["2607013","Pastor Zubiri, Maria Jesús","3D","D",{"$f":"VLOOKUP(C1066,Referencias!$C$4:$D$21,2,FALSE())","v":"Tercera Diamante"},{"$f":"VLOOKUP(I1066,Referencias!$B$24:$C$41,2,FALSE())","v":"RIOJ"},{"$f":"VLOOKUP(C1066,Referencias!$C$4:$E$21,3,FALSE())","v":3},"Competición","Riojana"]
["2607014","de Miguel Cordon, María del Carmen","3D","D",{"$f":"VLOOKUP(C1067,Referencias!$C$4:$D$21,2,FALSE())","v":"Tercera Diamante"},{"$f":"VLOOKUP(I1067,Referencias!$B$24:$C$41,2,FALSE())","v":"RIOJ"},{"$f":"VLOOKUP(C1067,Referencias!$C$4:$E$21,3,FALSE())","v":3},"Competición","Riojana"]
["2607017","Rapún Ara, Alicia","3D","D",{"$f":"VLOOKUP(C1068,Referencias!$C$4:$D$21,2,FALSE())","v":"Tercera Diamante"},{"$f":"VLOOKUP(I1068,Referencias!$B$24:$C$41,2,FALSE())","v":"RIOJ"},{"$f":"VLOOKUP(C1068,Referencias!$C$4:$E$21,3,FALSE())","v":3},"Competición","Riojana"]
["2731217","Fernández López, Julia","3D","D",{"$f":"VLOOKUP(C1069,Referencias!$C$4:$D$21,2,FALSE())","v":"Tercera Diamante"},{"$f":"VLOOKUP(I1069,Referencias!$B$24:$C$41,2,FALSE())","v":"GAL"},{"$f":"VLOOKUP(C1069,Referencias!$C$4:$E$21,3,FALSE())","v":3},"Competición","Gallega"]
["2731251","Quiroga Codesido, Pilar","3D","D",{"$f":"VLOOKUP(C1070,Referencias!$C$4:$D$21,2,FALSE())","v":"Tercera Diamante"},{"$f":"VLOOKUP(I1070,Referencias!$B$24:$C$41,2,FALSE())","v":"GAL"},{"$f":"VLOOKUP(C1070,Referencias!$C$4:$E$21,3,FALSE())","v":3},"Honorífica","Gallega"]
["2731313","de Castel Blanco, Condesa","1C","D",{"$f":"VLOOKUP(C1071,Referencias!$C$4:$D$21,2,FALSE())","v":"Primera Corazón"},{"$f":"VLOOKUP(I1071,Referencias!$B$24:$C$41,2,FALSE())","v":"GAL"},{"$f":"VLOOKUP(C1071,Referencias!$C$4:$E$21,3,FALSE())","v":1},"Competición","Gallega"]
["2731331","Varga Rivero, Ana","2D","D",{"$f":"VLOOKUP(C1072,Referencias!$C$4:$D$21,2,FALSE())","v":"Segunda Diamante"},{"$f":"VLOOKUP(I1072,Referencias!$B$24:$C$41,2,FALSE())","v":"GAL"},{"$f":"VLOOKUP(C1072,Referencias!$C$4:$E$21,3,FALSE())","v":2},"Competición","Gallega"]
["2731336","Dorrego Magadan, Enriqueta","3C","D",{"$f":"VLOOKUP(C1073,Referencias!$C$4:$D$21,2,FALSE())","v":"Tercera Corazón"},{"$f":"VLOOKUP(I1073,Referencias!$B$24:$C$41,2,FALSE())","v":"GAL"},{"$f":"VLOOKUP(C1073,Referencias!$C$4:$E$21,3,FALSE())","v":3},"Competición","Gallega"]
["2731338","Caridad Arias, Chelo","2C","D",{"$f":"VLOOKUP(C1074,Referencias!$C$4:$D$21,2,FALSE())","v":"Segunda Corazón"},{"$f":"VLOOKUP(I1074,Referencias!$B$24:$C$41,2,FALSE())","v":"GAL"},{"$f":"VLOOKUP(C1074,Referencias!$C$4:$E$21,3,FALSE())","v":2},"Competición","Gallega"]
["2731361","Barreiro Carrasco, María Trinidad","3P","D",{"$f":"VLOOKUP(C1075,Referencias!$C$4:$D$21,2,FALSE())","v":"Tercera Picas"},{"$f":"VLOOKUP(I1075,Referencias!$B$24:$C$41,2,FALSE())","v":"GAL"},{"$f":"VLOOKUP(C1075,Referencias!$C$4:$E$21,3,FALSE())","v":3},"Competición","Gallega"]
["2731368","Velayos Pardo, Celia María","3D","D",{"$f":"VLOOKUP(C1076,Referencias!$C$4:$D$21,2,FALSE())","v":"Tercera Diamante"},{"$f":"VLOOKUP(I1076,Referencias!$B$24:$C$41,2,FALSE())","v":"GAL"},{"$f":"VLOOKUP(C1076,Referencias!$C$4:$E$21,3,FALSE())","v":3},"Competición","Gallega"]
["2731370","Alvárez Llamas, Montserrat","3D","D",{"$f":"VLOOKUP(C1077,Referencias!$C$4:$D$21,2,FALSE())","v":"Tercera Diamante"},{"$f":"VLOOKUP(I1077,Referencias!$B$24:$C$41,2,FALSE())","v":"GAL"},{"$f":"VLOOKUP(C1077,Referencias!$C$4:$E$21,3,FALSE())","v":3},"Competición","Gallega"]
["2731413","Nóvoa Arechaga, Isabel","1D","D",{"$f":"VLOOKUP(C1078,Referencias!$C$4:$D$21,2,FALSE())","v":"Primera Diamante"},{"$f":"VLOOKUP(I1078,Referencias!$B$24:$C$41,2,FALSE())","v":"GAL"},{"$f":"VLOOKUP(C1078,Referencias!$C$4:$E$21,3,FALSE())","v":1},"Competición","Gallega"]
["2731435","Sayagues Gómez, Aurora","3D","D",{"$f":"VLOOKUP(C1079,Referencias!$C$4:$D$21,2,FALSE())","v":"Tercera Diamante"},{"$f":"VLOOKUP(I1079,Referencias!$B$24:$C$41,2,FALSE())","v":"GAL"},{"$f":"VLOOKUP(C1079,Referencias!$C$4:$E$21,3,FALSE())","v":3},"Competición","Gallega"]
["2731437","Palmeiro Díaz, Elvira","3P","D",{"$f":"VLOOKUP(C1080,Referencias!$C$4:$D$21,2,FALSE())","v":"Tercera Picas"},{"$f":"VLOOKUP(I1080,Referencias!$B$24:$C$41,2,FALSE())","v":"GAL"},{"$f":"VLOOKUP(C1080,Referencias!$C$4:$E$21,3,FALSE())","v":3},"Competición","Gallega"]
["2731438","Rodríguez Freire, Celia","3C","D",{"$f":"VLOOKUP(C1081,Referencias!$C$4:$D$21,2,FALSE())","v":"Tercera Corazón"},{"$f":"VLOOKUP(I1081,Referencias!$B$24:$C$41,2,FALSE())","v":"GAL"},{"$f":"VLOOKUP(C1081,Referencias!$C$4:$E$21,3,FALSE())","v":3},"Competición","Gallega"]
["2731586","Seijas Soto, María Dolores","3C","D",{"$f":"VLOOKUP(C1082,Referencias!$C$4:$D$21,2,FALSE())","v":"Tercera Corazón"},{"$f":"VLOOKUP(I1082,Referencias!$B$24:$C$41,2,FALSE())","v":"GAL"},{"$f":"VLOOKUP(C1082,Referencias!$C$4:$E$21,3,FALSE())","v":3},"Competición","Gallega"]
["2731587","Díaz Porgueres, Mary Carmen","3D","D",{"$f":"VLOOKUP(C1083,Referencias!$C$4:$D$21,2,FALSE())","v":"Tercera Diamante"},{"$f":"VLOOKUP(I1083,Referencias!$B$24:$C$41,2,FALSE())","v":"GAL"},{"$f":"VLOOKUP(C1083,Referencias!$C$4:$E$21,3,FALSE())","v":3},"Competición","Gallega"]
["2731588","Fernández Gómez, Berta Victoria","3D","D",{"$f":"VLOOKUP(C1084,Referencias!$C$4:$D$21,2,FALSE())","v":"Tercera Diamante"},{"$f":"VLOOKUP(I1084,Referencias!$B$24:$C$41,2,FALSE())","v":"GAL"},{"$f":"VLOOKUP(C1084,Referencias!$C$4:$E$21,3,FALSE())","v":3},"Competición","Gallega"]
["2731610","Varela Novoa, Consuelo","3D","D",{"$f":"VLOOKUP(C1085,Referencias!$C$4:$D$21,2,FALSE())","v":"Tercera Diamante"},{"$f":"VLOOKUP(I1085,Referencias!$B$24:$C$41,2,FALSE())","v":"GAL"},{"$f":"VLOOKUP(C1085,Referencias!$C$4:$E$21,3,FALSE())","v":3},"Competición","Gallega"]
["2731626","García Castro, Manuel Jesús","3D","C",{"$f":"VLOOKUP(C1086,Referencias!$C$4:$D$21,2,FALSE())","v":"Tercera Diamante"},{"$f":"VLOOKUP(I1086,Referencias!$B$24:$C$41,2,FALSE())","v":"GAL"},{"$f":"VLOOKUP(C1086,Referencias!$C$4:$E$21,3,FALSE())","v":3},"Competición","Gallega"]
["2731627","Fernández Freire, Antonia","3D","D",{"$f":"VLOOKUP(C1087,Referencias!$C$4:$D$21,2,FALSE())","v":"Tercera Diamante"},{"$f":"VLOOKUP(I1087,Referencias!$B$24:$C$41,2,FALSE())","v":"GAL"},{"$f":"VLOOKUP(C1087,Referencias!$C$4:$E$21,3,FALSE())","v":3},"Competición","Gallega"]
["2731631","Raíces Madriñan, Manuel Jesús","1C","C",{"$f":"VLOOKUP(C1088,Referencias!$C$4:$D$21,2,FALSE())","v":"Primera Corazón"},{"$f":"VLOOKUP(I1088,Referencias!$B$24:$C$41,2,FALSE())","v":"GAL"},{"$f":"VLOOKUP(C1088,Referencias!$C$4:$E$21,3,FALSE())","v":1},"Competición","Gallega"]
["2731657","Martínez Modia, María del Carmen","3D","D",{"$f":"VLOOKUP(C1089,Referencias!$C$4:$D$21,2,FALSE())","v":"Tercera Diamante"},{"$f":"VLOOKUP(I1089,Referencias!$B$24:$C$41,2,FALSE())","v":"GAL"},{"$f":"VLOOKUP(C1089,Referencias!$C$4:$E$21,3,FALSE())","v":3},"Competición","Gallega"]
["2731670","Trigo Vázquez, Melania","3D","D",{"$f":"VLOOKUP(C1090,Referencias!$C$4:$D$21,2,FALSE())","v":"Tercera Diamante"},{"$f":"VLOOKUP(I1090,Referencias!$B$24:$C$41,2,FALSE())","v":"GAL"},{"$f":"VLOOKUP(C1090,Referencias!$C$4:$E$21,3,FALSE())","v":3},"Competición","Gallega"]
["2731671","Lombardero Díaz, Isabel","3D","D",{"$f":"VLOOKUP(C1091,Referencias!$C$4:$D$21,2,FALSE())","v":"Tercera Diamante"},{"$f":"VLOOKUP(I1091,Referencias!$B$24:$C$41,2,FALSE())","v":"GAL"},{"$f":"VLOOKUP(C1091,Referencias!$C$4:$E$21,3,FALSE())","v":3},"Competición","Gallega"]
["2731674","Valcarce Neira, María Teresa","3D","D",{"$f":"VLOOKUP(C1092,Referencias!$C$4:$D$21,2,FALSE())","v":"Tercera Diamante"},{"$f":"VLOOKUP(I1092,Referencias!$B$24:$C$41,2,FALSE())","v":"GAL"},{"$f":"VLOOKUP(C1092,Referencias!$C$4:$E$21,3,FALSE())","v":3},"Competición","Gallega"]
["2731678","Blanco Ruiz, María Adoración","3C","D",{"$f":"VLOOKUP(C1093,Referencias!$C$4:$D$21,2,FALSE())","v":"Tercera Corazón"},{"$f":"VLOOKUP(I1093,Referencias!$B$24:$C$41,2,FALSE())","v":"GAL"},{"$f":"VLOOKUP(C1093,Referencias!$C$4:$E$21,3,FALSE())","v":3},"Competición","Gallega"]
["2731704","Fernández García, María Isabel","3D","D",{"$f":"VLOOKUP(C1094,Referencias!$C$4:$D$21,2,FALSE())","v":"Tercera Diamante"},{"$f":"VLOOKUP(I1094,Referencias!$B$24:$C$41,2,FALSE())","v":"GAL"},{"$f":"VLOOKUP(C1094,Referencias!$C$4:$E$21,3,FALSE())","v":3},"Competición","Gallega"]
["2731720","del Pozo Andrés, Mercedes","3D","D",{"$f":"VLOOKUP(C1095,Referencias!$C$4:$D$21,2,FALSE())","v":"Tercera Diamante"},{"$f":"VLOOKUP(I1095,Referencias!$B$24:$C$41,2,FALSE())","v":"GAL"},{"$f":"VLOOKUP(C1095,Referencias!$C$4:$E$21,3,FALSE())","v":3},"Competición","Gallega"]
["2731721","González Encinar, Lucinda Victoria","3D","D",{"$f":"VLOOKUP(C1096,Referencias!$C$4:$D$21,2,FALSE())","v":"Tercera Diamante"},{"$f":"VLOOKUP(I1096,Referencias!$B$24:$C$41,2,FALSE())","v":"GAL"},{"$f":"VLOOKUP(C1096,Referencias!$C$4:$E$21,3,FALSE())","v":3},"Competición","Gallega"]
["2731722","Campo Rodicio, Celso","3C","D",{"$f":"VLOOKUP(C1097,Referencias!$C$4:$D$21,2,FALSE())","v":"Tercera Corazón"},{"$f":"VLOOKUP(I1097,Referencias!$B$24:$C$41,2,FALSE())","v":"GAL"},{"$f":"VLOOKUP(C1097,Referencias!$C$4:$E$21,3,FALSE())","v":3},"Competición","Gallega"]
["2731724","Franco Losada, Adelina","3D","D",{"$f":"VLOOKUP(C1098,Referencias!$C$4:$D$21,2,FALSE())","v":"Tercera Diamante"},{"$f":"VLOOKUP(I1098,Referencias!$B$24:$C$41,2,FALSE())","v":"GAL"},{"$f":"VLOOKUP(C1098,Referencias!$C$4:$E$21,3,FALSE())","v":3},"Competición","Gallega"]
["2731809","Rodríguez Cedrón, Amalia Aurea","3D","D",{"$f":"VLOOKUP(C1099,Referencias!$C$4:$D$21,2,FALSE())","v":"Tercera Diamante"},{"$f":"VLOOKUP(I1099,Referencias!$B$24:$C$41,2,FALSE())","v":"GAL"},{"$f":"VLOOKUP(C1099,Referencias!$C$4:$E$21,3,FALSE())","v":3},"Competición","Gallega"]
["2731811","Díaz Rodríguez, Abel","3D","C",{"$f":"VLOOKUP(C1100,Referencias!$C$4:$D$21,2,FALSE())","v":"Tercera Diamante"},{"$f":"VLOOKUP(I1100,Referencias!$B$24:$C$41,2,FALSE())","v":"GAL"},{"$f":"VLOOKUP(C1100,Referencias!$C$4:$E$21,3,FALSE())","v":3},"Competición","Gallega"]
["2731816","Prieto Alonso, José Manuel","3D","C",{"$f":"VLOOKUP(C1101,Referencias!$C$4:$D$21,2,FALSE())","v":"Tercera Diamante"},{"$f":"VLOOKUP(I1101,Referencias!$B$24:$C$41,2,FALSE())","v":"GAL"},{"$f":"VLOOKUP(C1101,Referencias!$C$4:$E$21,3,FALSE())","v":3},"Competición","Gallega"]
["2731819","Argiz Quintas, María Purificación","3D","D",{"$f":"VLOOKUP(C1102,Referencias!$C$4:$D$21,2,FALSE())","v":"Tercera Diamante"},{"$f":"VLOOKUP(I1102,Referencias!$B$24:$C$41,2,FALSE())","v":"GAL"},{"$f":"VLOOKUP(C1102,Referencias!$C$4:$E$21,3,FALSE())","v":3},"Competición","Gallega"]
["2731821","González Cabanas, María Aurora","3D","D",{"$f":"VLOOKUP(C1103,Referencias!$C$4:$D$21,2,FALSE())","v":"Tercera Diamante"},{"$f":"VLOOKUP(I1103,Referencias!$B$24:$C$41,2,FALSE())","v":"GAL"},{"$f":"VLOOKUP(C1103,Referencias!$C$4:$E$21,3,FALSE())","v":3},"Honorífica","Gallega"]
["2731939","Paz Cageao, Francisca","3D","D",{"$f":"VLOOKUP(C1104,Referencias!$C$4:$D$21,2,FALSE())","v":"Tercera Diamante"},{"$f":"VLOOKUP(I1104,Referencias!$B$24:$C$41,2,FALSE())","v":"GAL"},{"$f":"VLOOKUP(C1104,Referencias!$C$4:$E$21,3,FALSE())","v":3},"Competición","Gallega"]
["2731950","López Morais, María Dolores","3D","D",{"$f":"VLOOKUP(C1105,Referencias!$C$4:$D$21,2,FALSE())","v":"Tercera Diamante"},{"$f":"VLOOKUP(I1105,Referencias!$B$24:$C$41,2,FALSE())","v":"GAL"},{"$f":"VLOOKUP(C1105,Referencias!$C$4:$E$21,3,FALSE())","v":3},"Competición","Gallega"]
["2735840","Ordoñez Guevara, María Pilar","2C","D",{"$f":"VLOOKUP(C1106,Referencias!$C$4:$D$21,2,FALSE())","v":"Segunda Corazón"},{"$f":"VLOOKUP(I1106,Referencias!$B$24:$C$41,2,FALSE())","v":"GAL"},{"$f":"VLOOKUP(C1106,Referencias!$C$4:$E$21,3,FALSE())","v":2},"Competición","Gallega"]
["2810009","Muñoz, Rafael","MN-O","C",{"$f":"VLOOKUP(C1107,Referencias!$C$4:$D$21,2,FALSE())","v":"Maestro Nacional Open"},{"$f":"VLOOKUP(I1107,Referencias!$B$24:$C$41,2,FALSE())","v":"C.MAD"},{"$f":"VLOOKUP(C1107,Referencias!$C$4:$E$21,3,FALSE())","v":0},"Honorífica","Madrileña"]
["2810010","Francés de Mateo, Antonio","3D","C",{"$f":"VLOOKUP(C1108,Referencias!$C$4:$D$21,2,FALSE())","v":"Tercera Diamante"},{"$f":"VLOOKUP(I1108,Referencias!$B$24:$C$41,2,FALSE())","v":"C.MAD"},{"$f":"VLOOKUP(C1108,Referencias!$C$4:$E$21,3,FALSE())","v":3},"Honorífica","Madrileña"]
["2810016","Martorell Sáenz, Juan","1P","C",{"$f":"VLOOKUP(C1109,Referencias!$C$4:$D$21,2,FALSE())","v":"Primera Picas"},{"$f":"VLOOKUP(I1109,Referencias!$B$24:$C$41,2,FALSE())","v":"C.MAD"},{"$f":"VLOOKUP(C1109,Referencias!$C$4:$E$21,3,FALSE())","v":1},"Competición","Madrileña"]
["2811001","Gómez de Pablos González, Pablo","MN-O","C",{"$f":"VLOOKUP(C1110,Referencias!$C$4:$D$21,2,FALSE())","v":"Maestro Nacional Open"},{"$f":"VLOOKUP(I1110,Referencias!$B$24:$C$41,2,FALSE())","v":"C.MAD"},{"$f":"VLOOKUP(C1110,Referencias!$C$4:$E$21,3,FALSE())","v":0},"Competición","Madrileña"]
["2811002","Vassallo Moreno, Alberto","1D","C",{"$f":"VLOOKUP(C1111,Referencias!$C$4:$D$21,2,FALSE())","v":"Primera Diamante"},{"$f":"VLOOKUP(I1111,Referencias!$B$24:$C$41,2,FALSE())","v":"C.MAD"},{"$f":"VLOOKUP(C1111,Referencias!$C$4:$E$21,3,FALSE())","v":1},"Competición","Madrileña"]
["2811005","Martínez-Avial Marín, Álvaro","1P","C",{"$f":"VLOOKUP(C1112,Referencias!$C$4:$D$21,2,FALSE())","v":"Primera Picas"},{"$f":"VLOOKUP(I1112,Referencias!$B$24:$C$41,2,FALSE())","v":"C.MAD"},{"$f":"VLOOKUP(C1112,Referencias!$C$4:$E$21,3,FALSE())","v":1},"Competición","Madrileña"]
["2811006","Gómez, Ana Luz","1C","D",{"$f":"VLOOKUP(C1113,Referencias!$C$4:$D$21,2,FALSE())","v":"Primera Corazón"},{"$f":"VLOOKUP(I1113,Referencias!$B$24:$C$41,2,FALSE())","v":"C.MAD"},{"$f":"VLOOKUP(C1113,Referencias!$C$4:$E$21,3,FALSE())","v":1},"Competición","Madrileña"]
["2811012","Molero Cervantes, Eduardo","1P","C",{"$f":"VLOOKUP(C1114,Referencias!$C$4:$D$21,2,FALSE())","v":"Primera Picas"},{"$f":"VLOOKUP(I1114,Referencias!$B$24:$C$41,2,FALSE())","v":"C.MAD"},{"$f":"VLOOKUP(C1114,Referencias!$C$4:$E$21,3,FALSE())","v":1},"Competición","Madrileña"]
["2811014","Cuadrillero Muñoz de Baena, Rosa","1P","D",{"$f":"VLOOKUP(C1115,Referencias!$C$4:$D$21,2,FALSE())","v":"Primera Picas"},{"$f":"VLOOKUP(I1115,Referencias!$B$24:$C$41,2,FALSE())","v":"C.MAD"},{"$f":"VLOOKUP(C1115,Referencias!$C$4:$E$21,3,FALSE())","v":1},"Competición","Madrileña"]
["2811017","Fernández Cavada, Consuelo","2D","D",{"$f":"VLOOKUP(C1116,Referencias!$C$4:$D$21,2,FALSE())","v":"Segunda Diamante"},{"$f":"VLOOKUP(I1116,Referencias!$B$24:$C$41,2,FALSE())","v":"C.MAD"},{"$f":"VLOOKUP(C1116,Referencias!$C$4:$E$21,3,FALSE())","v":2},"Competición","Madrileña"]
["2811018","Aranguren Gárate, Julio","1D","C",{"$f":"VLOOKUP(C1117,Referencias!$C$4:$D$21,2,FALSE())","v":"Primera Diamante"},{"$f":"VLOOKUP(I1117,Referencias!$B$24:$C$41,2,FALSE())","v":"C.MAD"},{"$f":"VLOOKUP(C1117,Referencias!$C$4:$E$21,3,FALSE())","v":1},"Competición","Madrileña"]
["2811019","Goded Merino, Gonzalo","MM-O","C",{"$f":"VLOOKUP(C1118,Referencias!$C$4:$D$21,2,FALSE())","v":"Maestro Mundial Open"},{"$f":"VLOOKUP(I1118,Referencias!$B$24:$C$41,2,FALSE())","v":"C.MAD"},{"$f":"VLOOKUP(C1118,Referencias!$C$4:$E$21,3,FALSE())","v":0},"Competición","Madrileña"]
["2811021","Arranz Poole, Miguel","2P","C",{"$f":"VLOOKUP(C1119,Referencias!$C$4:$D$21,2,FALSE())","v":"Segunda Picas"},{"$f":"VLOOKUP(I1119,Referencias!$B$24:$C$41,2,FALSE())","v":"C.MAD"},{"$f":"VLOOKUP(C1119,Referencias!$C$4:$E$21,3,FALSE())","v":2},"Competición","Madrileña"]
["2811023","Angoloti Apolinario, Mercedes","3D","D",{"$f":"VLOOKUP(C1120,Referencias!$C$4:$D$21,2,FALSE())","v":"Tercera Diamante"},{"$f":"VLOOKUP(I1120,Referencias!$B$24:$C$41,2,FALSE())","v":"C.MAD"},{"$f":"VLOOKUP(C1120,Referencias!$C$4:$E$21,3,FALSE())","v":3},"Competición","Madrileña"]
["2811032","Corchado Enriquez, Juan Manuel","1D","C",{"$f":"VLOOKUP(C1121,Referencias!$C$4:$D$21,2,FALSE())","v":"Primera Diamante"},{"$f":"VLOOKUP(I1121,Referencias!$B$24:$C$41,2,FALSE())","v":"C.MAD"},{"$f":"VLOOKUP(C1121,Referencias!$C$4:$E$21,3,FALSE())","v":1},"Competición","Madrileña"]
["2811041","Martínez García-Ciudad, José Miguel","1P","C",{"$f":"VLOOKUP(C1122,Referencias!$C$4:$D$21,2,FALSE())","v":"Primera Picas"},{"$f":"VLOOKUP(I1122,Referencias!$B$24:$C$41,2,FALSE())","v":"C.MAD"},{"$f":"VLOOKUP(C1122,Referencias!$C$4:$E$21,3,FALSE())","v":1},"Competición","Madrileña"]
["2811042","Sanz Pérez, Consuelo","3C","D",{"$f":"VLOOKUP(C1123,Referencias!$C$4:$D$21,2,FALSE())","v":"Tercera Corazón"},{"$f":"VLOOKUP(I1123,Referencias!$B$24:$C$41,2,FALSE())","v":"C.MAD"},{"$f":"VLOOKUP(C1123,Referencias!$C$4:$E$21,3,FALSE())","v":3},"Competición","Madrileña"]
["2811044","Aizpurúa Garzón, María Rosario","2D","D",{"$f":"VLOOKUP(C1124,Referencias!$C$4:$D$21,2,FALSE())","v":"Segunda Diamante"},{"$f":"VLOOKUP(I1124,Referencias!$B$24:$C$41,2,FALSE())","v":"C.MAD"},{"$f":"VLOOKUP(C1124,Referencias!$C$4:$E$21,3,FALSE())","v":2},"Competición","Madrileña"]
["2811045","Fractman , Gabriel","MM-O","C",{"$f":"VLOOKUP(C1125,Referencias!$C$4:$D$21,2,FALSE())","v":"Maestro Mundial Open"},{"$f":"VLOOKUP(I1125,Referencias!$B$24:$C$41,2,FALSE())","v":"C.MAD"},{"$f":"VLOOKUP(C1125,Referencias!$C$4:$E$21,3,FALSE())","v":0},"Competición","Madrileña"]
["2811054","Gutiérrez-Herrero Barrera, Miryam","1P","D",{"$f":"VLOOKUP(C1126,Referencias!$C$4:$D$21,2,FALSE())","v":"Primera Picas"},{"$f":"VLOOKUP(I1126,Referencias!$B$24:$C$41,2,FALSE())","v":"C.MAD"},{"$f":"VLOOKUP(C1126,Referencias!$C$4:$E$21,3,FALSE())","v":1},"Competición","Madrileña"]
["2811061","Castiñeira Vilaseca, Ana María","2C","D",{"$f":"VLOOKUP(C1127,Referencias!$C$4:$D$21,2,FALSE())","v":"Segunda Corazón"},{"$f":"VLOOKUP(I1127,Referencias!$B$24:$C$41,2,FALSE())","v":"GAL"},{"$f":"VLOOKUP(C1127,Referencias!$C$4:$E$21,3,FALSE())","v":2},"Competición","Gallega"]
["2811062","Yraola Sánchez de la Bodega, Ana","3P","D",{"$f":"VLOOKUP(C1128,Referencias!$C$4:$D$21,2,FALSE())","v":"Tercera Picas"},{"$f":"VLOOKUP(I1128,Referencias!$B$24:$C$41,2,FALSE())","v":"C.MAD"},{"$f":"VLOOKUP(C1128,Referencias!$C$4:$E$21,3,FALSE())","v":3},"Competición","Madrileña"]
["2811063","Cantos-Figuerola  Pardo-Manuel de Villena, Carmen","3P","D",{"$f":"VLOOKUP(C1129,Referencias!$C$4:$D$21,2,FALSE())","v":"Tercera Picas"},{"$f":"VLOOKUP(I1129,Referencias!$B$24:$C$41,2,FALSE())","v":"C.MAD"},{"$f":"VLOOKUP(C1129,Referencias!$C$4:$E$21,3,FALSE())","v":3},"Competición","Madrileña"]
["2811065","López-Chicheri Dabán, Virginia","2D","D",{"$f":"VLOOKUP(C1130,Referencias!$C$4:$D$21,2,FALSE())","v":"Segunda Diamante"},{"$f":"VLOOKUP(I1130,Referencias!$B$24:$C$41,2,FALSE())","v":"C.MAD"},{"$f":"VLOOKUP(C1130,Referencias!$C$4:$E$21,3,FALSE())","v":2},"Competición","Madrileña"]
["2811074","Montes-Jovellar Stern, Concha","3C","D",{"$f":"VLOOKUP(C1131,Referencias!$C$4:$D$21,2,FALSE())","v":"Tercera Corazón"},{"$f":"VLOOKUP(I1131,Referencias!$B$24:$C$41,2,FALSE())","v":"C.MAD"},{"$f":"VLOOKUP(C1131,Referencias!$C$4:$E$21,3,FALSE())","v":3},"Competición","Madrileña"]
["2811077","Beneyto Aspíroz, Miguel","3D","C",{"$f":"VLOOKUP(C1132,Referencias!$C$4:$D$21,2,FALSE())","v":"Tercera Diamante"},{"$f":"VLOOKUP(I1132,Referencias!$B$24:$C$41,2,FALSE())","v":"C.MAD"},{"$f":"VLOOKUP(C1132,Referencias!$C$4:$E$21,3,FALSE())","v":3},"Competición","Madrileña"]
["2811079","García-Reyes , Beatríz","3P","D",{"$f":"VLOOKUP(C1133,Referencias!$C$4:$D$21,2,FALSE())","v":"Tercera Picas"},{"$f":"VLOOKUP(I1133,Referencias!$B$24:$C$41,2,FALSE())","v":"C.MAD"},{"$f":"VLOOKUP(C1133,Referencias!$C$4:$E$21,3,FALSE())","v":3},"Competición","Madrileña"]
["2811080","Cafranga Cavestany, Carmen","MM-D","D",{"$f":"VLOOKUP(C1134,Referencias!$C$4:$D$21,2,FALSE())","v":"Maestro Mundial Damas"},{"$f":"VLOOKUP(I1134,Referencias!$B$24:$C$41,2,FALSE())","v":"C.MAD"},{"$f":"VLOOKUP(C1134,Referencias!$C$4:$E$21,3,FALSE())","v":0},"Competición","Madrileña"]
["2811083","Benavides Salas, Concepción","3P","D",{"$f":"VLOOKUP(C1135,Referencias!$C$4:$D$21,2,FALSE())","v":"Tercera Picas"},{"$f":"VLOOKUP(I1135,Referencias!$B$24:$C$41,2,FALSE())","v":"C.MAD"},{"$f":"VLOOKUP(C1135,Referencias!$C$4:$E$21,3,FALSE())","v":3},"Competición","Madrileña"]
["2811085","García de Oteyza Llansó, Ignacio","1P","C",{"$f":"VLOOKUP(C1136,Referencias!$C$4:$D$21,2,FALSE())","v":"Primera Picas"},{"$f":"VLOOKUP(I1136,Referencias!$B$24:$C$41,2,FALSE())","v":"C.MAD"},{"$f":"VLOOKUP(C1136,Referencias!$C$4:$E$21,3,FALSE())","v":1},"Competición","Madrileña"]
["2811086","Marín Cubillo, Rosana","2C","D",{"$f":"VLOOKUP(C1137,Referencias!$C$4:$D$21,2,FALSE())","v":"Segunda Corazón"},{"$f":"VLOOKUP(I1137,Referencias!$B$24:$C$41,2,FALSE())","v":"C.MAD"},{"$f":"VLOOKUP(C1137,Referencias!$C$4:$E$21,3,FALSE())","v":2},"Competición","Madrileña"]
["2811092","Mallada Ezquerra, María Jesús","2C","D",{"$f":"VLOOKUP(C1138,Referencias!$C$4:$D$21,2,FALSE())","v":"Segunda Corazón"},{"$f":"VLOOKUP(I1138,Referencias!$B$24:$C$41,2,FALSE())","v":"C.MAD"},{"$f":"VLOOKUP(C1138,Referencias!$C$4:$E$21,3,FALSE())","v":2},"Competición","Madrileña"]
["2811094","Manglano de la Lastra, Josefina","1P","D",{"$f":"VLOOKUP(C1139,Referencias!$C$4:$D$21,2,FALSE())","v":"Primera Picas"},{"$f":"VLOOKUP(I1139,Referencias!$B$24:$C$41,2,FALSE())","v":"C.MAD"},{"$f":"VLOOKUP(C1139,Referencias!$C$4:$E$21,3,FALSE())","v":1},"Competición","Madrileña"]
["2811096","de la Peña Vela, Juan Ignacio","MN-O","C",{"$f":"VLOOKUP(C1140,Referencias!$C$4:$D$21,2,FALSE())","v":"Maestro Nacional Open"},{"$f":"VLOOKUP(I1140,Referencias!$B$24:$C$41,2,FALSE())","v":"GAL"},{"$f":"VLOOKUP(C1140,Referencias!$C$4:$E$21,3,FALSE())","v":0},"Competición","Gallega"]
["2811105","Castells de Castro, Antonio","3D","C",{"$f":"VLOOKUP(C1141,Referencias!$C$4:$D$21,2,FALSE())","v":"Tercera Diamante"},{"$f":"VLOOKUP(I1141,Referencias!$B$24:$C$41,2,FALSE())","v":"C.MAD"},{"$f":"VLOOKUP(C1141,Referencias!$C$4:$E$21,3,FALSE())","v":3},"Competición","Madrileña"]
["2811114","Valmaseda Rubio, Javier","1C","C",{"$f":"VLOOKUP(C1142,Referencias!$C$4:$D$21,2,FALSE())","v":"Primera Corazón"},{"$f":"VLOOKUP(I1142,Referencias!$B$24:$C$41,2,FALSE())","v":"C.MAD"},{"$f":"VLOOKUP(C1142,Referencias!$C$4:$E$21,3,FALSE())","v":1},"Competición","Madrileña"]
["2811117","Estévez Senra, María Dolores","3P","D",{"$f":"VLOOKUP(C1143,Referencias!$C$4:$D$21,2,FALSE())","v":"Tercera Picas"},{"$f":"VLOOKUP(I1143,Referencias!$B$24:$C$41,2,FALSE())","v":"C.MAD"},{"$f":"VLOOKUP(C1143,Referencias!$C$4:$E$21,3,FALSE())","v":3},"Competición","Madrileña"]
["2811127","Kindelán Segura, Cristina","1C","D",{"$f":"VLOOKUP(C1144,Referencias!$C$4:$D$21,2,FALSE())","v":"Primera Corazón"},{"$f":"VLOOKUP(I1144,Referencias!$B$24:$C$41,2,FALSE())","v":"C.MAD"},{"$f":"VLOOKUP(C1144,Referencias!$C$4:$E$21,3,FALSE())","v":1},"Competición","Madrileña"]
["2811129","Latorre de las Cagigas, María Elena","2D","D",{"$f":"VLOOKUP(C1145,Referencias!$C$4:$D$21,2,FALSE())","v":"Segunda Diamante"},{"$f":"VLOOKUP(I1145,Referencias!$B$24:$C$41,2,FALSE())","v":"C.MAD"},{"$f":"VLOOKUP(C1145,Referencias!$C$4:$E$21,3,FALSE())","v":2},"Competición","Madrileña"]
["2811133","Sánchez Rubio, Pilar","3P","D",{"$f":"VLOOKUP(C1146,Referencias!$C$4:$D$21,2,FALSE())","v":"Tercera Picas"},{"$f":"VLOOKUP(I1146,Referencias!$B$24:$C$41,2,FALSE())","v":"C.MAD"},{"$f":"VLOOKUP(C1146,Referencias!$C$4:$E$21,3,FALSE())","v":3},"Competición","Madrileña"]
["2811134","Francés de Velasco, Antonio","MM-O","C",{"$f":"VLOOKUP(C1147,Referencias!$C$4:$D$21,2,FALSE())","v":"Maestro Mundial Open"},{"$f":"VLOOKUP(I1147,Referencias!$B$24:$C$41,2,FALSE())","v":"C.MAD"},{"$f":"VLOOKUP(C1147,Referencias!$C$4:$E$21,3,FALSE())","v":0},"Competición","Madrileña"]
["2811135","Castells Cuadrillero, Pablo","3D","C",{"$f":"VLOOKUP(C1148,Referencias!$C$4:$D$21,2,FALSE())","v":"Tercera Diamante"},{"$f":"VLOOKUP(I1148,Referencias!$B$24:$C$41,2,FALSE())","v":"C.MAD"},{"$f":"VLOOKUP(C1148,Referencias!$C$4:$E$21,3,FALSE())","v":3},"Junior","Madrileña"]
["2811138","Martín de Cabiedes Arranz, Asís","3D","C",{"$f":"VLOOKUP(C1149,Referencias!$C$4:$D$21,2,FALSE())","v":"Tercera Diamante"},{"$f":"VLOOKUP(I1149,Referencias!$B$24:$C$41,2,FALSE())","v":"C.MAD"},{"$f":"VLOOKUP(C1149,Referencias!$C$4:$E$21,3,FALSE())","v":3},"Competición","Madrileña"]
["2811140","Rodulfo Puy, Carlos","3D","C",{"$f":"VLOOKUP(C1150,Referencias!$C$4:$D$21,2,FALSE())","v":"Tercera Diamante"},{"$f":"VLOOKUP(I1150,Referencias!$B$24:$C$41,2,FALSE())","v":"C.MAD"},{"$f":"VLOOKUP(C1150,Referencias!$C$4:$E$21,3,FALSE())","v":3},"Competición","Madrileña"]
["2811145","Sandres Salas, Paule","1P","D",{"$f":"VLOOKUP(C1151,Referencias!$C$4:$D$21,2,FALSE())","v":"Primera Picas"},{"$f":"VLOOKUP(I1151,Referencias!$B$24:$C$41,2,FALSE())","v":"C.MAD"},{"$f":"VLOOKUP(C1151,Referencias!$C$4:$E$21,3,FALSE())","v":1},"Competición","Madrileña"]
["2811164","Montenegro, María Rosario","1D","D",{"$f":"VLOOKUP(C1152,Referencias!$C$4:$D$21,2,FALSE())","v":"Primera Diamante"},{"$f":"VLOOKUP(I1152,Referencias!$B$24:$C$41,2,FALSE())","v":"C.MAD"},{"$f":"VLOOKUP(C1152,Referencias!$C$4:$E$21,3,FALSE())","v":1},"Competición","Madrileña"]
["2811167","Cerame Fernández-Vijande, Margarita","1C","D",{"$f":"VLOOKUP(C1153,Referencias!$C$4:$D$21,2,FALSE())","v":"Primera Corazón"},{"$f":"VLOOKUP(I1153,Referencias!$B$24:$C$41,2,FALSE())","v":"C.MAD"},{"$f":"VLOOKUP(C1153,Referencias!$C$4:$E$21,3,FALSE())","v":1},"Competición","Madrileña"]
["2811174","Prados del Amo, Ana","1C","D",{"$f":"VLOOKUP(C1154,Referencias!$C$4:$D$21,2,FALSE())","v":"Primera Corazón"},{"$f":"VLOOKUP(I1154,Referencias!$B$24:$C$41,2,FALSE())","v":"C.MAD"},{"$f":"VLOOKUP(C1154,Referencias!$C$4:$E$21,3,FALSE())","v":1},"Competición","Madrileña"]
["2811178","Maraver , Concepción","3C","D",{"$f":"VLOOKUP(C1155,Referencias!$C$4:$D$21,2,FALSE())","v":"Tercera Corazón"},{"$f":"VLOOKUP(I1155,Referencias!$B$24:$C$41,2,FALSE())","v":"C.MAD"},{"$f":"VLOOKUP(C1155,Referencias!$C$4:$E$21,3,FALSE())","v":3},"Competición","Madrileña"]
["2811185","Puyol Gómez, Araceli","1C","D",{"$f":"VLOOKUP(C1156,Referencias!$C$4:$D$21,2,FALSE())","v":"Primera Corazón"},{"$f":"VLOOKUP(I1156,Referencias!$B$24:$C$41,2,FALSE())","v":"C.MAD"},{"$f":"VLOOKUP(C1156,Referencias!$C$4:$E$21,3,FALSE())","v":1},"Competición","Madrileña"]
["2811190","Götze Grossman, Sigfrido","1D","C",{"$f":"VLOOKUP(C1157,Referencias!$C$4:$D$21,2,FALSE())","v":"Primera Diamante"},{"$f":"VLOOKUP(I1157,Referencias!$B$24:$C$41,2,FALSE())","v":"C.MAD"},{"$f":"VLOOKUP(C1157,Referencias!$C$4:$E$21,3,FALSE())","v":1},"Competición","Madrileña"]
["2811233","Hekneby , Mercedes","3P","D",{"$f":"VLOOKUP(C1158,Referencias!$C$4:$D$21,2,FALSE())","v":"Tercera Picas"},{"$f":"VLOOKUP(I1158,Referencias!$B$24:$C$41,2,FALSE())","v":"C.MAD"},{"$f":"VLOOKUP(C1158,Referencias!$C$4:$E$21,3,FALSE())","v":3},"Competición","Madrileña"]
["2811239","de la Vega Peñaranda, Carmen","3D","D",{"$f":"VLOOKUP(C1159,Referencias!$C$4:$D$21,2,FALSE())","v":"Tercera Diamante"},{"$f":"VLOOKUP(I1159,Referencias!$B$24:$C$41,2,FALSE())","v":"C.MAD"},{"$f":"VLOOKUP(C1159,Referencias!$C$4:$E$21,3,FALSE())","v":3},"Competición","Madrileña"]
["2811240","Zabia Lasala, Elisa","3D","D",{"$f":"VLOOKUP(C1160,Referencias!$C$4:$D$21,2,FALSE())","v":"Tercera Diamante"},{"$f":"VLOOKUP(I1160,Referencias!$B$24:$C$41,2,FALSE())","v":"C.MAD"},{"$f":"VLOOKUP(C1160,Referencias!$C$4:$E$21,3,FALSE())","v":3},"Competición","Madrileña"]
["2811244","Peña Marcos, María Patrocinio","1P","D",{"$f":"VLOOKUP(C1161,Referencias!$C$4:$D$21,2,FALSE())","v":"Primera Picas"},{"$f":"VLOOKUP(I1161,Referencias!$B$24:$C$41,2,FALSE())","v":"C.MAD"},{"$f":"VLOOKUP(C1161,Referencias!$C$4:$E$21,3,FALSE())","v":1},"Competición","Madrileña"]
["2811245","Beltrán Rojo, Covadonga","2P","D",{"$f":"VLOOKUP(C1162,Referencias!$C$4:$D$21,2,FALSE())","v":"Segunda Picas"},{"$f":"VLOOKUP(I1162,Referencias!$B$24:$C$41,2,FALSE())","v":"C.MAD"},{"$f":"VLOOKUP(C1162,Referencias!$C$4:$E$21,3,FALSE())","v":2},"Competición","Madrileña"]
["2811246","Goded Nadal, Federico","MM-O","C",{"$f":"VLOOKUP(C1163,Referencias!$C$4:$D$21,2,FALSE())","v":"Maestro Mundial Open"},{"$f":"VLOOKUP(I1163,Referencias!$B$24:$C$41,2,FALSE())","v":"C.MAD"},{"$f":"VLOOKUP(C1163,Referencias!$C$4:$E$21,3,FALSE())","v":0},"Competición","Madrileña"]
["2811253","Casanova , Pilar","3C","D",{"$f":"VLOOKUP(C1164,Referencias!$C$4:$D$21,2,FALSE())","v":"Tercera Corazón"},{"$f":"VLOOKUP(I1164,Referencias!$B$24:$C$41,2,FALSE())","v":"C.MAD"},{"$f":"VLOOKUP(C1164,Referencias!$C$4:$E$21,3,FALSE())","v":3},"Competición","Madrileña"]
["2811257","Franco Chato, Marta","2C","D",{"$f":"VLOOKUP(C1165,Referencias!$C$4:$D$21,2,FALSE())","v":"Segunda Corazón"},{"$f":"VLOOKUP(I1165,Referencias!$B$24:$C$41,2,FALSE())","v":"C.MAD"},{"$f":"VLOOKUP(C1165,Referencias!$C$4:$E$21,3,FALSE())","v":2},"Competición","Madrileña"]
["2811263","Lonchez Escribano, Victoria Eugenia","1C","D",{"$f":"VLOOKUP(C1166,Referencias!$C$4:$D$21,2,FALSE())","v":"Primera Corazón"},{"$f":"VLOOKUP(I1166,Referencias!$B$24:$C$41,2,FALSE())","v":"C.MAD"},{"$f":"VLOOKUP(C1166,Referencias!$C$4:$E$21,3,FALSE())","v":1},"Competición","Madrileña"]
["2811265","Goytre Pezzi, Alfonso","2P","C",{"$f":"VLOOKUP(C1167,Referencias!$C$4:$D$21,2,FALSE())","v":"Segunda Picas"},{"$f":"VLOOKUP(I1167,Referencias!$B$24:$C$41,2,FALSE())","v":"C.MAD"},{"$f":"VLOOKUP(C1167,Referencias!$C$4:$E$21,3,FALSE())","v":2},"Honorífica","Madrileña"]
["2811269","De Gavia, Conde","3P","C",{"$f":"VLOOKUP(C1168,Referencias!$C$4:$D$21,2,FALSE())","v":"Tercera Picas"},{"$f":"VLOOKUP(I1168,Referencias!$B$24:$C$41,2,FALSE())","v":"C.MAD"},{"$f":"VLOOKUP(C1168,Referencias!$C$4:$E$21,3,FALSE())","v":3},"Competición","Madrileña"]
["2811272","Ruíz de Velasco Larrea, Concha","1P","D",{"$f":"VLOOKUP(C1169,Referencias!$C$4:$D$21,2,FALSE())","v":"Primera Picas"},{"$f":"VLOOKUP(I1169,Referencias!$B$24:$C$41,2,FALSE())","v":"C.MAD"},{"$f":"VLOOKUP(C1169,Referencias!$C$4:$E$21,3,FALSE())","v":1},"Competición","Madrileña"]
["2811273","Bustillo , Beatríz","2D","D",{"$f":"VLOOKUP(C1170,Referencias!$C$4:$D$21,2,FALSE())","v":"Segunda Diamante"},{"$f":"VLOOKUP(I1170,Referencias!$B$24:$C$41,2,FALSE())","v":"C.MAD"},{"$f":"VLOOKUP(C1170,Referencias!$C$4:$E$21,3,FALSE())","v":2},"Competición","Madrileña"]
["2811275","Velázquez-Duro González de Regueral, María José","1C","D",{"$f":"VLOOKUP(C1171,Referencias!$C$4:$D$21,2,FALSE())","v":"Primera Corazón"},{"$f":"VLOOKUP(I1171,Referencias!$B$24:$C$41,2,FALSE())","v":"C.MAD"},{"$f":"VLOOKUP(C1171,Referencias!$C$4:$E$21,3,FALSE())","v":1},"Competición","Madrileña"]
["2811281","Muñoz , Mercedes","1P","D",{"$f":"VLOOKUP(C1172,Referencias!$C$4:$D$21,2,FALSE())","v":"Primera Picas"},{"$f":"VLOOKUP(I1172,Referencias!$B$24:$C$41,2,FALSE())","v":"C.MAD"},{"$f":"VLOOKUP(C1172,Referencias!$C$4:$E$21,3,FALSE())","v":1},"Competición","Madrileña"]
["2811283","Goded Nadal, Paloma","1C","D",{"$f":"VLOOKUP(C1173,Referencias!$C$4:$D$21,2,FALSE())","v":"Primera Corazón"},{"$f":"VLOOKUP(I1173,Referencias!$B$24:$C$41,2,FALSE())","v":"C.MAD"},{"$f":"VLOOKUP(C1173,Referencias!$C$4:$E$21,3,FALSE())","v":1},"Competición","Madrileña"]
["2811286","Santías , Carmen","1D","D",{"$f":"VLOOKUP(C1174,Referencias!$C$4:$D$21,2,FALSE())","v":"Primera Diamante"},{"$f":"VLOOKUP(I1174,Referencias!$B$24:$C$41,2,FALSE())","v":"C.MAD"},{"$f":"VLOOKUP(C1174,Referencias!$C$4:$E$21,3,FALSE())","v":1},"Competición","Madrileña"]
["2811290","Gil, María Luisa","2D","D",{"$f":"VLOOKUP(C1175,Referencias!$C$4:$D$21,2,FALSE())","v":"Segunda Diamante"},{"$f":"VLOOKUP(I1175,Referencias!$B$24:$C$41,2,FALSE())","v":"C.MAD"},{"$f":"VLOOKUP(C1175,Referencias!$C$4:$E$21,3,FALSE())","v":2},"Competición","Madrileña"]
["2811291","Álvarez de Tejera Fort, Carmen","2P","D",{"$f":"VLOOKUP(C1176,Referencias!$C$4:$D$21,2,FALSE())","v":"Segunda Picas"},{"$f":"VLOOKUP(I1176,Referencias!$B$24:$C$41,2,FALSE())","v":"C.MAD"},{"$f":"VLOOKUP(C1176,Referencias!$C$4:$E$21,3,FALSE())","v":2},"Competición","Madrileña"]
["2811322","Haym, Dilva","1D","D",{"$f":"VLOOKUP(C1177,Referencias!$C$4:$D$21,2,FALSE())","v":"Primera Diamante"},{"$f":"VLOOKUP(I1177,Referencias!$B$24:$C$41,2,FALSE())","v":"C.MAD"},{"$f":"VLOOKUP(C1177,Referencias!$C$4:$E$21,3,FALSE())","v":1},"Competición","Madrileña"]
["2811334","Arimón López, Joaquín","1C","C",{"$f":"VLOOKUP(C1178,Referencias!$C$4:$D$21,2,FALSE())","v":"Primera Corazón"},{"$f":"VLOOKUP(I1178,Referencias!$B$24:$C$41,2,FALSE())","v":"C.MAD"},{"$f":"VLOOKUP(C1178,Referencias!$C$4:$E$21,3,FALSE())","v":1},"Competición","Madrileña"]
["2811335","González-Estrada , Ignacio","1C","C",{"$f":"VLOOKUP(C1179,Referencias!$C$4:$D$21,2,FALSE())","v":"Primera Corazón"},{"$f":"VLOOKUP(I1179,Referencias!$B$24:$C$41,2,FALSE())","v":"C.MAD"},{"$f":"VLOOKUP(C1179,Referencias!$C$4:$E$21,3,FALSE())","v":1},"Competición","Madrileña"]
["2811342","García-Badell, Iñigo","2P","C",{"$f":"VLOOKUP(C1180,Referencias!$C$4:$D$21,2,FALSE())","v":"Segunda Picas"},{"$f":"VLOOKUP(I1180,Referencias!$B$24:$C$41,2,FALSE())","v":"C.MAD"},{"$f":"VLOOKUP(C1180,Referencias!$C$4:$E$21,3,FALSE())","v":2},"Competición","Madrileña"]
["2811345","Huici Casal, Amparo","3P","D",{"$f":"VLOOKUP(C1181,Referencias!$C$4:$D$21,2,FALSE())","v":"Tercera Picas"},{"$f":"VLOOKUP(I1181,Referencias!$B$24:$C$41,2,FALSE())","v":"C.MAD"},{"$f":"VLOOKUP(C1181,Referencias!$C$4:$E$21,3,FALSE())","v":3},"Competición","Madrileña"]
["2811346","Jiménez Arroyo, Marta","1P","D",{"$f":"VLOOKUP(C1182,Referencias!$C$4:$D$21,2,FALSE())","v":"Primera Picas"},{"$f":"VLOOKUP(I1182,Referencias!$B$24:$C$41,2,FALSE())","v":"C.MAD"},{"$f":"VLOOKUP(C1182,Referencias!$C$4:$E$21,3,FALSE())","v":1},"Competición","Madrileña"]
["2811349","Delage García de Cáceres, Pilar","1C","D",{"$f":"VLOOKUP(C1183,Referencias!$C$4:$D$21,2,FALSE())","v":"Primera Corazón"},{"$f":"VLOOKUP(I1183,Referencias!$B$24:$C$41,2,FALSE())","v":"C.MAD"},{"$f":"VLOOKUP(C1183,Referencias!$C$4:$E$21,3,FALSE())","v":1},"Competición","Madrileña"]
["2811350","Varela Díaz, Ignacio","1D","C",{"$f":"VLOOKUP(C1184,Referencias!$C$4:$D$21,2,FALSE())","v":"Primera Diamante"},{"$f":"VLOOKUP(I1184,Referencias!$B$24:$C$41,2,FALSE())","v":"C.MAD"},{"$f":"VLOOKUP(C1184,Referencias!$C$4:$E$21,3,FALSE())","v":1},"Competición","Madrileña"]
["2811356","García de la Rasilla de Pineda, Pilar","2D","D",{"$f":"VLOOKUP(C1185,Referencias!$C$4:$D$21,2,FALSE())","v":"Segunda Diamante"},{"$f":"VLOOKUP(I1185,Referencias!$B$24:$C$41,2,FALSE())","v":"C.MAD"},{"$f":"VLOOKUP(C1185,Referencias!$C$4:$E$21,3,FALSE())","v":2},"Competición","Madrileña"]
["2811358","Azcárraga Arana, Álvaro","2D","C",{"$f":"VLOOKUP(C1186,Referencias!$C$4:$D$21,2,FALSE())","v":"Segunda Diamante"},{"$f":"VLOOKUP(I1186,Referencias!$B$24:$C$41,2,FALSE())","v":"C.MAD"},{"$f":"VLOOKUP(C1186,Referencias!$C$4:$E$21,3,FALSE())","v":2},"Competición","Madrileña"]
["2811359","Gonzalo Vázquez, Luz","2P","D",{"$f":"VLOOKUP(C1187,Referencias!$C$4:$D$21,2,FALSE())","v":"Segunda Picas"},{"$f":"VLOOKUP(I1187,Referencias!$B$24:$C$41,2,FALSE())","v":"C.MAD"},{"$f":"VLOOKUP(C1187,Referencias!$C$4:$E$21,3,FALSE())","v":2},"Competición","Madrileña"]
["2811361","de Partearroyo, David","1P","C",{"$f":"VLOOKUP(C1188,Referencias!$C$4:$D$21,2,FALSE())","v":"Primera Picas"},{"$f":"VLOOKUP(I1188,Referencias!$B$24:$C$41,2,FALSE())","v":"C.MAD"},{"$f":"VLOOKUP(C1188,Referencias!$C$4:$E$21,3,FALSE())","v":1},"Competición","Madrileña"]
["2811365","Durán , Enrique","1C","C",{"$f":"VLOOKUP(C1189,Referencias!$C$4:$D$21,2,FALSE())","v":"Primera Corazón"},{"$f":"VLOOKUP(I1189,Referencias!$B$24:$C$41,2,FALSE())","v":"C.MAD"},{"$f":"VLOOKUP(C1189,Referencias!$C$4:$E$21,3,FALSE())","v":1},"Competición","Madrileña"]
["2811370","Aristoy Martínez, Laura","3D","D",{"$f":"VLOOKUP(C1190,Referencias!$C$4:$D$21,2,FALSE())","v":"Tercera Diamante"},{"$f":"VLOOKUP(I1190,Referencias!$B$24:$C$41,2,FALSE())","v":"C.MAD"},{"$f":"VLOOKUP(C1190,Referencias!$C$4:$E$21,3,FALSE())","v":3},"Competición","Madrileña"]
["2811371","Garrigues López-Chicheri, Isabel","2P","D",{"$f":"VLOOKUP(C1191,Referencias!$C$4:$D$21,2,FALSE())","v":"Segunda Picas"},{"$f":"VLOOKUP(I1191,Referencias!$B$24:$C$41,2,FALSE())","v":"C.MAD"},{"$f":"VLOOKUP(C1191,Referencias!$C$4:$E$21,3,FALSE())","v":2},"Competición","Madrileña"]
["2811372","Ruíz Constantino, Inés","1C","D",{"$f":"VLOOKUP(C1192,Referencias!$C$4:$D$21,2,FALSE())","v":"Primera Corazón"},{"$f":"VLOOKUP(I1192,Referencias!$B$24:$C$41,2,FALSE())","v":"C.MAD"},{"$f":"VLOOKUP(C1192,Referencias!$C$4:$E$21,3,FALSE())","v":1},"Honorífica","Madrileña"]
["2811373","Hurtado de Mendoza Páramo, María Concepción","3C","D",{"$f":"VLOOKUP(C1193,Referencias!$C$4:$D$21,2,FALSE())","v":"Tercera Corazón"},{"$f":"VLOOKUP(I1193,Referencias!$B$24:$C$41,2,FALSE())","v":"C.MAD"},{"$f":"VLOOKUP(C1193,Referencias!$C$4:$E$21,3,FALSE())","v":3},"Honorífica","Madrileña"]
["2811384","Quilez Martínez de la Vega, Pino","2D","D",{"$f":"VLOOKUP(C1194,Referencias!$C$4:$D$21,2,FALSE())","v":"Segunda Diamante"},{"$f":"VLOOKUP(I1194,Referencias!$B$24:$C$41,2,FALSE())","v":"C.MAD"},{"$f":"VLOOKUP(C1194,Referencias!$C$4:$E$21,3,FALSE())","v":2},"Competición","Madrileña"]
["2811385","Cantalapiedra Benjumea, Inés","3C","D",{"$f":"VLOOKUP(C1195,Referencias!$C$4:$D$21,2,FALSE())","v":"Tercera Corazón"},{"$f":"VLOOKUP(I1195,Referencias!$B$24:$C$41,2,FALSE())","v":"C.MAD"},{"$f":"VLOOKUP(C1195,Referencias!$C$4:$E$21,3,FALSE())","v":3},"Competición","Madrileña"]
["2811392","Soler , Beatríz","2P","D",{"$f":"VLOOKUP(C1196,Referencias!$C$4:$D$21,2,FALSE())","v":"Segunda Picas"},{"$f":"VLOOKUP(I1196,Referencias!$B$24:$C$41,2,FALSE())","v":"C.MAD"},{"$f":"VLOOKUP(C1196,Referencias!$C$4:$E$21,3,FALSE())","v":2},"Competición","Madrileña"]
["2811411","Fernández-Monasterio García, Ana","3P","D",{"$f":"VLOOKUP(C1197,Referencias!$C$4:$D$21,2,FALSE())","v":"Tercera Picas"},{"$f":"VLOOKUP(I1197,Referencias!$B$24:$C$41,2,FALSE())","v":"C.MAD"},{"$f":"VLOOKUP(C1197,Referencias!$C$4:$E$21,3,FALSE())","v":3},"Competición","Madrileña"]
["2811413","Carmona, Lucía","1C","D",{"$f":"VLOOKUP(C1198,Referencias!$C$4:$D$21,2,FALSE())","v":"Primera Corazón"},{"$f":"VLOOKUP(I1198,Referencias!$B$24:$C$41,2,FALSE())","v":"C.MAD"},{"$f":"VLOOKUP(C1198,Referencias!$C$4:$E$21,3,FALSE())","v":1},"Competición","Madrileña"]
["2811414","Torres Gutiérrez, José Ignacio","MM-O","C",{"$f":"VLOOKUP(C1199,Referencias!$C$4:$D$21,2,FALSE())","v":"Maestro Mundial Open"},{"$f":"VLOOKUP(I1199,Referencias!$B$24:$C$41,2,FALSE())","v":"C.MAD"},{"$f":"VLOOKUP(C1199,Referencias!$C$4:$E$21,3,FALSE())","v":0},"Competición","Madrileña"]
["2811416","Novo Domínguez, María Antonia","3C","D",{"$f":"VLOOKUP(C1200,Referencias!$C$4:$D$21,2,FALSE())","v":"Tercera Corazón"},{"$f":"VLOOKUP(I1200,Referencias!$B$24:$C$41,2,FALSE())","v":"C.MAD"},{"$f":"VLOOKUP(C1200,Referencias!$C$4:$E$21,3,FALSE())","v":3},"Competición","Madrileña"]
["2811417","R. de Sánchez Cortes, Inés","3P","D",{"$f":"VLOOKUP(C1201,Referencias!$C$4:$D$21,2,FALSE())","v":"Tercera Picas"},{"$f":"VLOOKUP(I1201,Referencias!$B$24:$C$41,2,FALSE())","v":"C.MAD"},{"$f":"VLOOKUP(C1201,Referencias!$C$4:$E$21,3,FALSE())","v":3},"Competición","Madrileña"]
["2811423","Ruíz Jarabo, Jesús","3P","C",{"$f":"VLOOKUP(C1202,Referencias!$C$4:$D$21,2,FALSE())","v":"Tercera Picas"},{"$f":"VLOOKUP(I1202,Referencias!$B$24:$C$41,2,FALSE())","v":"C.MAD"},{"$f":"VLOOKUP(C1202,Referencias!$C$4:$E$21,3,FALSE())","v":3},"Competición","Madrileña"]
["2811428","Villanueva Ibáñez, Marta","1D","D",{"$f":"VLOOKUP(C1203,Referencias!$C$4:$D$21,2,FALSE())","v":"Primera Diamante"},{"$f":"VLOOKUP(I1203,Referencias!$B$24:$C$41,2,FALSE())","v":"C.MAD"},{"$f":"VLOOKUP(C1203,Referencias!$C$4:$E$21,3,FALSE())","v":1},"Competición","Madrileña"]
["2811429","Angulo Barquín, Francisco","2P","C",{"$f":"VLOOKUP(C1204,Referencias!$C$4:$D$21,2,FALSE())","v":"Segunda Picas"},{"$f":"VLOOKUP(I1204,Referencias!$B$24:$C$41,2,FALSE())","v":"C.MAD"},{"$f":"VLOOKUP(C1204,Referencias!$C$4:$E$21,3,FALSE())","v":2},"Competición","Madrileña"]
["2811434","Fondevilla Calderón, Ricardo","3P","C",{"$f":"VLOOKUP(C1205,Referencias!$C$4:$D$21,2,FALSE())","v":"Tercera Picas"},{"$f":"VLOOKUP(I1205,Referencias!$B$24:$C$41,2,FALSE())","v":"C.MAD"},{"$f":"VLOOKUP(C1205,Referencias!$C$4:$E$21,3,FALSE())","v":3},"Competición","Madrileña"]
["2811435","Kindelán , Beatríz","1P","D",{"$f":"VLOOKUP(C1206,Referencias!$C$4:$D$21,2,FALSE())","v":"Primera Picas"},{"$f":"VLOOKUP(I1206,Referencias!$B$24:$C$41,2,FALSE())","v":"C.MAD"},{"$f":"VLOOKUP(C1206,Referencias!$C$4:$E$21,3,FALSE())","v":1},"Competición","Madrileña"]
["2811437","Bordallo Cortina, Mercedes","2P","D",{"$f":"VLOOKUP(C1207,Referencias!$C$4:$D$21,2,FALSE())","v":"Segunda Picas"},{"$f":"VLOOKUP(I1207,Referencias!$B$24:$C$41,2,FALSE())","v":"C.MAD"},{"$f":"VLOOKUP(C1207,Referencias!$C$4:$E$21,3,FALSE())","v":2},"Competición","Madrileña"]
["2811445","Hernando , Jorge","1P","C",{"$f":"VLOOKUP(C1208,Referencias!$C$4:$D$21,2,FALSE())","v":"Primera Picas"},{"$f":"VLOOKUP(I1208,Referencias!$B$24:$C$41,2,FALSE())","v":"C.MAD"},{"$f":"VLOOKUP(C1208,Referencias!$C$4:$E$21,3,FALSE())","v":1},"Competición","Madrileña"]
["2811446","Suárez del Villar Ruíz de Huidobro, Marta","1P","D",{"$f":"VLOOKUP(C1209,Referencias!$C$4:$D$21,2,FALSE())","v":"Primera Picas"},{"$f":"VLOOKUP(I1209,Referencias!$B$24:$C$41,2,FALSE())","v":"C.MAD"},{"$f":"VLOOKUP(C1209,Referencias!$C$4:$E$21,3,FALSE())","v":1},"Competición","Madrileña"]
["2811451","Alemán Bandrich, María del Carmen","2D","D",{"$f":"VLOOKUP(C1210,Referencias!$C$4:$D$21,2,FALSE())","v":"Segunda Diamante"},{"$f":"VLOOKUP(I1210,Referencias!$B$24:$C$41,2,FALSE())","v":"C.MAD"},{"$f":"VLOOKUP(C1210,Referencias!$C$4:$E$21,3,FALSE())","v":2},"Competición","Madrileña"]
["2811455","Melgar Escoriaza, Juan Manuel","1P","C",{"$f":"VLOOKUP(C1211,Referencias!$C$4:$D$21,2,FALSE())","v":"Primera Picas"},{"$f":"VLOOKUP(I1211,Referencias!$B$24:$C$41,2,FALSE())","v":"C.MAD"},{"$f":"VLOOKUP(C1211,Referencias!$C$4:$E$21,3,FALSE())","v":1},"Competición","Madrileña"]
["2811456","Biritos Ortiz, Raquel","1C","D",{"$f":"VLOOKUP(C1212,Referencias!$C$4:$D$21,2,FALSE())","v":"Primera Corazón"},{"$f":"VLOOKUP(I1212,Referencias!$B$24:$C$41,2,FALSE())","v":"C.MAD"},{"$f":"VLOOKUP(C1212,Referencias!$C$4:$E$21,3,FALSE())","v":1},"Competición","Madrileña"]
["2811460","Goicoechea Iparraguirre, María Luisa","3P","D",{"$f":"VLOOKUP(C1213,Referencias!$C$4:$D$21,2,FALSE())","v":"Tercera Picas"},{"$f":"VLOOKUP(I1213,Referencias!$B$24:$C$41,2,FALSE())","v":"C.MAD"},{"$f":"VLOOKUP(C1213,Referencias!$C$4:$E$21,3,FALSE())","v":3},"Competición","Madrileña"]
["2811464","de Castro López-Cortijo, María Soledad","2C","D",{"$f":"VLOOKUP(C1214,Referencias!$C$4:$D$21,2,FALSE())","v":"Segunda Corazón"},{"$f":"VLOOKUP(I1214,Referencias!$B$24:$C$41,2,FALSE())","v":"C.MAD"},{"$f":"VLOOKUP(C1214,Referencias!$C$4:$E$21,3,FALSE())","v":2},"Competición","Madrileña"]
["2811465","Jerez Méndez, Ángel","1P","C",{"$f":"VLOOKUP(C1215,Referencias!$C$4:$D$21,2,FALSE())","v":"Primera Picas"},{"$f":"VLOOKUP(I1215,Referencias!$B$24:$C$41,2,FALSE())","v":"C.MAD"},{"$f":"VLOOKUP(C1215,Referencias!$C$4:$E$21,3,FALSE())","v":1},"Competición","Madrileña"]
["2811466","Merino Selgas, Paloma","3D","D",{"$f":"VLOOKUP(C1216,Referencias!$C$4:$D$21,2,FALSE())","v":"Tercera Diamante"},{"$f":"VLOOKUP(I1216,Referencias!$B$24:$C$41,2,FALSE())","v":"C.MAD"},{"$f":"VLOOKUP(C1216,Referencias!$C$4:$E$21,3,FALSE())","v":3},"Competición","Madrileña"]
["2811469","Sáenz de Buruaga Dans, Pilar","3D","D",{"$f":"VLOOKUP(C1217,Referencias!$C$4:$D$21,2,FALSE())","v":"Tercera Diamante"},{"$f":"VLOOKUP(I1217,Referencias!$B$24:$C$41,2,FALSE())","v":"C.MAD"},{"$f":"VLOOKUP(C1217,Referencias!$C$4:$E$21,3,FALSE())","v":3},"Competición","Madrileña"]
["2811477","Navarro Pérez-Paves, Sara","2D","D",{"$f":"VLOOKUP(C1218,Referencias!$C$4:$D$21,2,FALSE())","v":"Segunda Diamante"},{"$f":"VLOOKUP(I1218,Referencias!$B$24:$C$41,2,FALSE())","v":"P.AST"},{"$f":"VLOOKUP(C1218,Referencias!$C$4:$E$21,3,FALSE())","v":2},"Competición","Asturiana"]
["2811479","Rocabert Bielsa, Pilar","1P","D",{"$f":"VLOOKUP(C1219,Referencias!$C$4:$D$21,2,FALSE())","v":"Primera Picas"},{"$f":"VLOOKUP(I1219,Referencias!$B$24:$C$41,2,FALSE())","v":"C.MAD"},{"$f":"VLOOKUP(C1219,Referencias!$C$4:$E$21,3,FALSE())","v":1},"Competición","Madrileña"]
["2811484","Romero Herrero, María Josefa","1P","D",{"$f":"VLOOKUP(C1220,Referencias!$C$4:$D$21,2,FALSE())","v":"Primera Picas"},{"$f":"VLOOKUP(I1220,Referencias!$B$24:$C$41,2,FALSE())","v":"C.MAD"},{"$f":"VLOOKUP(C1220,Referencias!$C$4:$E$21,3,FALSE())","v":1},"Competición","Madrileña"]
["2811485","Molero Manglano, Carlos","1D","C",{"$f":"VLOOKUP(C1221,Referencias!$C$4:$D$21,2,FALSE())","v":"Primera Diamante"},{"$f":"VLOOKUP(I1221,Referencias!$B$24:$C$41,2,FALSE())","v":"P.AST"},{"$f":"VLOOKUP(C1221,Referencias!$C$4:$E$21,3,FALSE())","v":1},"Competición","Asturiana"]
["2811495","Echeverría Y de Meer, Esperanza","3D","D",{"$f":"VLOOKUP(C1222,Referencias!$C$4:$D$21,2,FALSE())","v":"Tercera Diamante"},{"$f":"VLOOKUP(I1222,Referencias!$B$24:$C$41,2,FALSE())","v":"C.MAD"},{"$f":"VLOOKUP(C1222,Referencias!$C$4:$E$21,3,FALSE())","v":3},"Competición","Madrileña"]
["2811508","Castells Conrado, Marina","MN-D","D",{"$f":"VLOOKUP(C1223,Referencias!$C$4:$D$21,2,FALSE())","v":"Maestro Nacional Damas"},{"$f":"VLOOKUP(I1223,Referencias!$B$24:$C$41,2,FALSE())","v":"C.MAD"},{"$f":"VLOOKUP(C1223,Referencias!$C$4:$E$21,3,FALSE())","v":0},"Competición","Madrileña"]
["2811510","Muruaga López, María Ángeles","MN-D","D",{"$f":"VLOOKUP(C1224,Referencias!$C$4:$D$21,2,FALSE())","v":"Maestro Nacional Damas"},{"$f":"VLOOKUP(I1224,Referencias!$B$24:$C$41,2,FALSE())","v":"C.MAD"},{"$f":"VLOOKUP(C1224,Referencias!$C$4:$E$21,3,FALSE())","v":0},"Competición","Madrileña"]
["2811513","Guijarro Platas, Antonio","1C","C",{"$f":"VLOOKUP(C1225,Referencias!$C$4:$D$21,2,FALSE())","v":"Primera Corazón"},{"$f":"VLOOKUP(I1225,Referencias!$B$24:$C$41,2,FALSE())","v":"C.MAD"},{"$f":"VLOOKUP(C1225,Referencias!$C$4:$E$21,3,FALSE())","v":1},"Competición","Madrileña"]
["2811530","Ruiz Frías, Rosa","1D","D",{"$f":"VLOOKUP(C1226,Referencias!$C$4:$D$21,2,FALSE())","v":"Primera Diamante"},{"$f":"VLOOKUP(I1226,Referencias!$B$24:$C$41,2,FALSE())","v":"C.MAD"},{"$f":"VLOOKUP(C1226,Referencias!$C$4:$E$21,3,FALSE())","v":1},"Competición","Madrileña"]
["2811538","Inclán Giraldo, Pilar","3D","D",{"$f":"VLOOKUP(C1227,Referencias!$C$4:$D$21,2,FALSE())","v":"Tercera Diamante"},{"$f":"VLOOKUP(I1227,Referencias!$B$24:$C$41,2,FALSE())","v":"C.MAD"},{"$f":"VLOOKUP(C1227,Referencias!$C$4:$E$21,3,FALSE())","v":3},"Competición","Madrileña"]
["2811540","Hernández Gainza, María Eugenia","MM-D","D",{"$f":"VLOOKUP(C1228,Referencias!$C$4:$D$21,2,FALSE())","v":"Maestro Mundial Damas"},{"$f":"VLOOKUP(I1228,Referencias!$B$24:$C$41,2,FALSE())","v":"C.MAD"},{"$f":"VLOOKUP(C1228,Referencias!$C$4:$E$21,3,FALSE())","v":0},"Competición","Madrileña"]
["2811547","Alvargonzalez-Junquera , Suni","3D","D",{"$f":"VLOOKUP(C1229,Referencias!$C$4:$D$21,2,FALSE())","v":"Tercera Diamante"},{"$f":"VLOOKUP(I1229,Referencias!$B$24:$C$41,2,FALSE())","v":"C.MAD"},{"$f":"VLOOKUP(C1229,Referencias!$C$4:$E$21,3,FALSE())","v":3},"Competición","Madrileña"]
["2811553","Benmergui Esayag, Jacobo","1P","C",{"$f":"VLOOKUP(C1230,Referencias!$C$4:$D$21,2,FALSE())","v":"Primera Picas"},{"$f":"VLOOKUP(I1230,Referencias!$B$24:$C$41,2,FALSE())","v":"C.MAD"},{"$f":"VLOOKUP(C1230,Referencias!$C$4:$E$21,3,FALSE())","v":1},"Competición","Madrileña"]
["2811554","Palicio , Marta","2D","D",{"$f":"VLOOKUP(C1231,Referencias!$C$4:$D$21,2,FALSE())","v":"Segunda Diamante"},{"$f":"VLOOKUP(I1231,Referencias!$B$24:$C$41,2,FALSE())","v":"C.MAD"},{"$f":"VLOOKUP(C1231,Referencias!$C$4:$E$21,3,FALSE())","v":2},"Competición","Madrileña"]
["2811559","Villanueva Ibáñez, María del Mar","3D","D",{"$f":"VLOOKUP(C1232,Referencias!$C$4:$D$21,2,FALSE())","v":"Tercera Diamante"},{"$f":"VLOOKUP(I1232,Referencias!$B$24:$C$41,2,FALSE())","v":"C.MAD"},{"$f":"VLOOKUP(C1232,Referencias!$C$4:$E$21,3,FALSE())","v":3},"Competición","Madrileña"]
["2811560","Olivares Santiago, Rosa","1D","D",{"$f":"VLOOKUP(C1233,Referencias!$C$4:$D$21,2,FALSE())","v":"Primera Diamante"},{"$f":"VLOOKUP(I1233,Referencias!$B$24:$C$41,2,FALSE())","v":"C.MAD"},{"$f":"VLOOKUP(C1233,Referencias!$C$4:$E$21,3,FALSE())","v":1},"Competición","Madrileña"]
["2811567","Rbibo , Monique","3P","D",{"$f":"VLOOKUP(C1234,Referencias!$C$4:$D$21,2,FALSE())","v":"Tercera Picas"},{"$f":"VLOOKUP(I1234,Referencias!$B$24:$C$41,2,FALSE())","v":"C.MAD"},{"$f":"VLOOKUP(C1234,Referencias!$C$4:$E$21,3,FALSE())","v":3},"Competición","Madrileña"]
["2811574","Iranzo de Cabannes, María France","3C","D",{"$f":"VLOOKUP(C1235,Referencias!$C$4:$D$21,2,FALSE())","v":"Tercera Corazón"},{"$f":"VLOOKUP(I1235,Referencias!$B$24:$C$41,2,FALSE())","v":"C.MAD"},{"$f":"VLOOKUP(C1235,Referencias!$C$4:$E$21,3,FALSE())","v":3},"Competición","Madrileña"]
["2811578","Villalba Salgado, Mercedes","1P","D",{"$f":"VLOOKUP(C1236,Referencias!$C$4:$D$21,2,FALSE())","v":"Primera Picas"},{"$f":"VLOOKUP(I1236,Referencias!$B$24:$C$41,2,FALSE())","v":"C.MAD"},{"$f":"VLOOKUP(C1236,Referencias!$C$4:$E$21,3,FALSE())","v":1},"Competición","Madrileña"]
["2811583","Castells Conrado, Laura","MN-D","D",{"$f":"VLOOKUP(C1237,Referencias!$C$4:$D$21,2,FALSE())","v":"Maestro Nacional Damas"},{"$f":"VLOOKUP(I1237,Referencias!$B$24:$C$41,2,FALSE())","v":"C.MAD"},{"$f":"VLOOKUP(C1237,Referencias!$C$4:$E$21,3,FALSE())","v":0},"Competición","Madrileña"]
["2811588","Blasco Marín, Pedro","3D","C",{"$f":"VLOOKUP(C1238,Referencias!$C$4:$D$21,2,FALSE())","v":"Tercera Diamante"},{"$f":"VLOOKUP(I1238,Referencias!$B$24:$C$41,2,FALSE())","v":"C.MAD"},{"$f":"VLOOKUP(C1238,Referencias!$C$4:$E$21,3,FALSE())","v":3},"Competición","Madrileña"]
["2811595","Iglesias-Sarria , Blanca","3C","D",{"$f":"VLOOKUP(C1239,Referencias!$C$4:$D$21,2,FALSE())","v":"Tercera Corazón"},{"$f":"VLOOKUP(I1239,Referencias!$B$24:$C$41,2,FALSE())","v":"C.MAD"},{"$f":"VLOOKUP(C1239,Referencias!$C$4:$E$21,3,FALSE())","v":3},"Competición","Madrileña"]
["2811596","Jiménez García-Alzórriz, Ignacio","MN-O","C",{"$f":"VLOOKUP(C1240,Referencias!$C$4:$D$21,2,FALSE())","v":"Maestro Nacional Open"},{"$f":"VLOOKUP(I1240,Referencias!$B$24:$C$41,2,FALSE())","v":"C.MAD"},{"$f":"VLOOKUP(C1240,Referencias!$C$4:$E$21,3,FALSE())","v":0},"Competición","Madrileña"]
["2811601","Criado del Rey , Victoria","3P","D",{"$f":"VLOOKUP(C1241,Referencias!$C$4:$D$21,2,FALSE())","v":"Tercera Picas"},{"$f":"VLOOKUP(I1241,Referencias!$B$24:$C$41,2,FALSE())","v":"C.MAD"},{"$f":"VLOOKUP(C1241,Referencias!$C$4:$E$21,3,FALSE())","v":3},"Competición","Madrileña"]
["2811603","Guerra del Río Manrique de Lara, Adolfina","3C","D",{"$f":"VLOOKUP(C1242,Referencias!$C$4:$D$21,2,FALSE())","v":"Tercera Corazón"},{"$f":"VLOOKUP(I1242,Referencias!$B$24:$C$41,2,FALSE())","v":"C.MAD"},{"$f":"VLOOKUP(C1242,Referencias!$C$4:$E$21,3,FALSE())","v":3},"Competición","Madrileña"]
["2811604","Chacón Roca, Pilar","2P","D",{"$f":"VLOOKUP(C1243,Referencias!$C$4:$D$21,2,FALSE())","v":"Segunda Picas"},{"$f":"VLOOKUP(I1243,Referencias!$B$24:$C$41,2,FALSE())","v":"C.MAD"},{"$f":"VLOOKUP(C1243,Referencias!$C$4:$E$21,3,FALSE())","v":2},"Competición","Madrileña"]
["2811605","Ferrández Del Cacho, Mercedes","1P","D",{"$f":"VLOOKUP(C1244,Referencias!$C$4:$D$21,2,FALSE())","v":"Primera Picas"},{"$f":"VLOOKUP(I1244,Referencias!$B$24:$C$41,2,FALSE())","v":"C.MAD"},{"$f":"VLOOKUP(C1244,Referencias!$C$4:$E$21,3,FALSE())","v":1},"Competición","Madrileña"]
["2811610","Ferrer Crespo, Francisca","3P","D",{"$f":"VLOOKUP(C1245,Referencias!$C$4:$D$21,2,FALSE())","v":"Tercera Picas"},{"$f":"VLOOKUP(I1245,Referencias!$B$24:$C$41,2,FALSE())","v":"C.MAD"},{"$f":"VLOOKUP(C1245,Referencias!$C$4:$E$21,3,FALSE())","v":3},"Competición","Madrileña"]
["2811616","Giménez-Arnau , María del Carmen","2D","D",{"$f":"VLOOKUP(C1246,Referencias!$C$4:$D$21,2,FALSE())","v":"Segunda Diamante"},{"$f":"VLOOKUP(I1246,Referencias!$B$24:$C$41,2,FALSE())","v":"C.MAD"},{"$f":"VLOOKUP(C1246,Referencias!$C$4:$E$21,3,FALSE())","v":2},"Competición","Madrileña"]
["2811617","Nicolás-Correa Barragán, Elisa","1P","D",{"$f":"VLOOKUP(C1247,Referencias!$C$4:$D$21,2,FALSE())","v":"Primera Picas"},{"$f":"VLOOKUP(I1247,Referencias!$B$24:$C$41,2,FALSE())","v":"C.MAD"},{"$f":"VLOOKUP(C1247,Referencias!$C$4:$E$21,3,FALSE())","v":1},"Competición","Madrileña"]
["2811620","Castells Conrado, Antonio","1C","C",{"$f":"VLOOKUP(C1248,Referencias!$C$4:$D$21,2,FALSE())","v":"Primera Corazón"},{"$f":"VLOOKUP(I1248,Referencias!$B$24:$C$41,2,FALSE())","v":"C.MAD"},{"$f":"VLOOKUP(C1248,Referencias!$C$4:$E$21,3,FALSE())","v":1},"Competición","Madrileña"]
["2811622","Goya de Saiz, María Antonia","2C","D",{"$f":"VLOOKUP(C1249,Referencias!$C$4:$D$21,2,FALSE())","v":"Segunda Corazón"},{"$f":"VLOOKUP(I1249,Referencias!$B$24:$C$41,2,FALSE())","v":"C.MAD"},{"$f":"VLOOKUP(C1249,Referencias!$C$4:$E$21,3,FALSE())","v":2},"Competición","Madrileña"]
["2811625","Satrústegui Silvela, Fernanda","3P","D",{"$f":"VLOOKUP(C1250,Referencias!$C$4:$D$21,2,FALSE())","v":"Tercera Picas"},{"$f":"VLOOKUP(I1250,Referencias!$B$24:$C$41,2,FALSE())","v":"C.MAD"},{"$f":"VLOOKUP(C1250,Referencias!$C$4:$E$21,3,FALSE())","v":3},"Competición","Madrileña"]
["2811633","Prida Peláez, María Teresa","3D","D",{"$f":"VLOOKUP(C1251,Referencias!$C$4:$D$21,2,FALSE())","v":"Tercera Diamante"},{"$f":"VLOOKUP(I1251,Referencias!$B$24:$C$41,2,FALSE())","v":"C.MAD"},{"$f":"VLOOKUP(C1251,Referencias!$C$4:$E$21,3,FALSE())","v":3},"Competición","Madrileña"]
["2811642","Bujack , Karin","1C","D",{"$f":"VLOOKUP(C1252,Referencias!$C$4:$D$21,2,FALSE())","v":"Primera Corazón"},{"$f":"VLOOKUP(I1252,Referencias!$B$24:$C$41,2,FALSE())","v":"C.MAD"},{"$f":"VLOOKUP(C1252,Referencias!$C$4:$E$21,3,FALSE())","v":1},"Competición","Madrileña"]
["2811643","Taberna Ruíz, Ana","3D","D",{"$f":"VLOOKUP(C1253,Referencias!$C$4:$D$21,2,FALSE())","v":"Tercera Diamante"},{"$f":"VLOOKUP(I1253,Referencias!$B$24:$C$41,2,FALSE())","v":"C.MAD"},{"$f":"VLOOKUP(C1253,Referencias!$C$4:$E$21,3,FALSE())","v":3},"Competición","Madrileña"]
["2811648","Carmona de Argila, Irene","2P","D",{"$f":"VLOOKUP(C1254,Referencias!$C$4:$D$21,2,FALSE())","v":"Segunda Picas"},{"$f":"VLOOKUP(I1254,Referencias!$B$24:$C$41,2,FALSE())","v":"C.MAD"},{"$f":"VLOOKUP(C1254,Referencias!$C$4:$E$21,3,FALSE())","v":2},"Competición","Madrileña"]
["2811650","Santos Campano, Isabel","2P","D",{"$f":"VLOOKUP(C1255,Referencias!$C$4:$D$21,2,FALSE())","v":"Segunda Picas"},{"$f":"VLOOKUP(I1255,Referencias!$B$24:$C$41,2,FALSE())","v":"C.MAD"},{"$f":"VLOOKUP(C1255,Referencias!$C$4:$E$21,3,FALSE())","v":2},"Competición","Madrileña"]
["2811657","Resusta Covarrubias, Iñigo","1C","C",{"$f":"VLOOKUP(C1256,Referencias!$C$4:$D$21,2,FALSE())","v":"Primera Corazón"},{"$f":"VLOOKUP(I1256,Referencias!$B$24:$C$41,2,FALSE())","v":"C.MAD"},{"$f":"VLOOKUP(C1256,Referencias!$C$4:$E$21,3,FALSE())","v":1},"Competición","Madrileña"]
["2811659","Ramos Martínez, Rafael","1P","C",{"$f":"VLOOKUP(C1257,Referencias!$C$4:$D$21,2,FALSE())","v":"Primera Picas"},{"$f":"VLOOKUP(I1257,Referencias!$B$24:$C$41,2,FALSE())","v":"C.MAD"},{"$f":"VLOOKUP(C1257,Referencias!$C$4:$E$21,3,FALSE())","v":1},"Competición","Madrileña"]
["2811660","Reventún Núñez, Alberto","2C","C",{"$f":"VLOOKUP(C1258,Referencias!$C$4:$D$21,2,FALSE())","v":"Segunda Corazón"},{"$f":"VLOOKUP(I1258,Referencias!$B$24:$C$41,2,FALSE())","v":"C.MAD"},{"$f":"VLOOKUP(C1258,Referencias!$C$4:$E$21,3,FALSE())","v":2},"Competición","Madrileña"]
["2811663","Marín García de Mora, Belén","2D","D",{"$f":"VLOOKUP(C1259,Referencias!$C$4:$D$21,2,FALSE())","v":"Segunda Diamante"},{"$f":"VLOOKUP(I1259,Referencias!$B$24:$C$41,2,FALSE())","v":"C.MAD"},{"$f":"VLOOKUP(C1259,Referencias!$C$4:$E$21,3,FALSE())","v":2},"Competición","Madrileña"]
["2811664","Peidró Conde, José Manuel","MN-O","C",{"$f":"VLOOKUP(C1260,Referencias!$C$4:$D$21,2,FALSE())","v":"Maestro Nacional Open"},{"$f":"VLOOKUP(I1260,Referencias!$B$24:$C$41,2,FALSE())","v":"C.MAD"},{"$f":"VLOOKUP(C1260,Referencias!$C$4:$E$21,3,FALSE())","v":0},"Competición","Madrileña"]
["2811666","Basabe Armijo, Enrique","MN-O","C",{"$f":"VLOOKUP(C1261,Referencias!$C$4:$D$21,2,FALSE())","v":"Maestro Nacional Open"},{"$f":"VLOOKUP(I1261,Referencias!$B$24:$C$41,2,FALSE())","v":"C.MAD"},{"$f":"VLOOKUP(C1261,Referencias!$C$4:$E$21,3,FALSE())","v":0},"Competición","Madrileña"]
["2811671","Ruíz Rojas, María Isabel","1D","D",{"$f":"VLOOKUP(C1262,Referencias!$C$4:$D$21,2,FALSE())","v":"Primera Diamante"},{"$f":"VLOOKUP(I1262,Referencias!$B$24:$C$41,2,FALSE())","v":"C.MAD"},{"$f":"VLOOKUP(C1262,Referencias!$C$4:$E$21,3,FALSE())","v":1},"Competición","Madrileña"]
["2811676","Sierra López-Barrante, María del Carmen","3D","D",{"$f":"VLOOKUP(C1263,Referencias!$C$4:$D$21,2,FALSE())","v":"Tercera Diamante"},{"$f":"VLOOKUP(I1263,Referencias!$B$24:$C$41,2,FALSE())","v":"C.MAD"},{"$f":"VLOOKUP(C1263,Referencias!$C$4:$E$21,3,FALSE())","v":3},"Competición","Madrileña"]
["2811677","Sierra López, Josefina","3C","D",{"$f":"VLOOKUP(C1264,Referencias!$C$4:$D$21,2,FALSE())","v":"Tercera Corazón"},{"$f":"VLOOKUP(I1264,Referencias!$B$24:$C$41,2,FALSE())","v":"C.MAD"},{"$f":"VLOOKUP(C1264,Referencias!$C$4:$E$21,3,FALSE())","v":3},"Competición","Madrileña"]
["2811679","de Juanes Lago, Julia María","2D","D",{"$f":"VLOOKUP(C1265,Referencias!$C$4:$D$21,2,FALSE())","v":"Segunda Diamante"},{"$f":"VLOOKUP(I1265,Referencias!$B$24:$C$41,2,FALSE())","v":"C.MAD"},{"$f":"VLOOKUP(C1265,Referencias!$C$4:$E$21,3,FALSE())","v":2},"Competición","Madrileña"]
["2811696","Mazario Marañón, José Luis","3D","C",{"$f":"VLOOKUP(C1266,Referencias!$C$4:$D$21,2,FALSE())","v":"Tercera Diamante"},{"$f":"VLOOKUP(I1266,Referencias!$B$24:$C$41,2,FALSE())","v":"C.MAD"},{"$f":"VLOOKUP(C1266,Referencias!$C$4:$E$21,3,FALSE())","v":3},"Competición","Madrileña"]
["2811704","Guaps Maldonado, Marisol","3D","D",{"$f":"VLOOKUP(C1267,Referencias!$C$4:$D$21,2,FALSE())","v":"Tercera Diamante"},{"$f":"VLOOKUP(I1267,Referencias!$B$24:$C$41,2,FALSE())","v":"C.MAD"},{"$f":"VLOOKUP(C1267,Referencias!$C$4:$E$21,3,FALSE())","v":3},"Competición","Madrileña"]
["2811708","Aldasoro , Judith","3D","D",{"$f":"VLOOKUP(C1268,Referencias!$C$4:$D$21,2,FALSE())","v":"Tercera Diamante"},{"$f":"VLOOKUP(I1268,Referencias!$B$24:$C$41,2,FALSE())","v":"C.MAD"},{"$f":"VLOOKUP(C1268,Referencias!$C$4:$E$21,3,FALSE())","v":3},"Competición","Madrileña"]
["2811709","Castells Conrado, María Ángeles","1P","D",{"$f":"VLOOKUP(C1269,Referencias!$C$4:$D$21,2,FALSE())","v":"Primera Picas"},{"$f":"VLOOKUP(I1269,Referencias!$B$24:$C$41,2,FALSE())","v":"C.MAD"},{"$f":"VLOOKUP(C1269,Referencias!$C$4:$E$21,3,FALSE())","v":1},"Competición","Madrileña"]
["2811716","Jiménez Garrido, Francisco","1D","C",{"$f":"VLOOKUP(C1270,Referencias!$C$4:$D$21,2,FALSE())","v":"Primera Diamante"},{"$f":"VLOOKUP(I1270,Referencias!$B$24:$C$41,2,FALSE())","v":"C.MAD"},{"$f":"VLOOKUP(C1270,Referencias!$C$4:$E$21,3,FALSE())","v":1},"Competición","Madrileña"]
["2811717","Pérez Pareja, Jesús","3P","C",{"$f":"VLOOKUP(C1271,Referencias!$C$4:$D$21,2,FALSE())","v":"Tercera Picas"},{"$f":"VLOOKUP(I1271,Referencias!$B$24:$C$41,2,FALSE())","v":"C.MAD"},{"$f":"VLOOKUP(C1271,Referencias!$C$4:$E$21,3,FALSE())","v":3},"Competición","Madrileña"]
["2811718","del Nogal Ropero, Mª Teresa","3P","D",{"$f":"VLOOKUP(C1272,Referencias!$C$4:$D$21,2,FALSE())","v":"Tercera Picas"},{"$f":"VLOOKUP(I1272,Referencias!$B$24:$C$41,2,FALSE())","v":"C.MAD"},{"$f":"VLOOKUP(C1272,Referencias!$C$4:$E$21,3,FALSE())","v":3},"Competición","Madrileña"]
["2811724","Romeo Viñas, María Inés","MN-O","D",{"$f":"VLOOKUP(C1273,Referencias!$C$4:$D$21,2,FALSE())","v":"Maestro Nacional Open"},{"$f":"VLOOKUP(I1273,Referencias!$B$24:$C$41,2,FALSE())","v":"C.MAD"},{"$f":"VLOOKUP(C1273,Referencias!$C$4:$E$21,3,FALSE())","v":0},"Competición","Madrileña"]
["2811733","Rodríguez-Cano Hamparzoumian, Pedro","1P","C",{"$f":"VLOOKUP(C1274,Referencias!$C$4:$D$21,2,FALSE())","v":"Primera Picas"},{"$f":"VLOOKUP(I1274,Referencias!$B$24:$C$41,2,FALSE())","v":"C.MAD"},{"$f":"VLOOKUP(C1274,Referencias!$C$4:$E$21,3,FALSE())","v":1},"Competición","Madrileña"]
["2811738","Pumar Mariño, Carmen","2D","D",{"$f":"VLOOKUP(C1275,Referencias!$C$4:$D$21,2,FALSE())","v":"Segunda Diamante"},{"$f":"VLOOKUP(I1275,Referencias!$B$24:$C$41,2,FALSE())","v":"C.MAD"},{"$f":"VLOOKUP(C1275,Referencias!$C$4:$E$21,3,FALSE())","v":2},"Competición","Madrileña"]
["2811739","Pfeiffer de Maura, Marifé","3P","D",{"$f":"VLOOKUP(C1276,Referencias!$C$4:$D$21,2,FALSE())","v":"Tercera Picas"},{"$f":"VLOOKUP(I1276,Referencias!$B$24:$C$41,2,FALSE())","v":"C.MAD"},{"$f":"VLOOKUP(C1276,Referencias!$C$4:$E$21,3,FALSE())","v":3},"Competición","Madrileña"]
["2811742","Martínez Laya, Carlos","3D","C",{"$f":"VLOOKUP(C1277,Referencias!$C$4:$D$21,2,FALSE())","v":"Tercera Diamante"},{"$f":"VLOOKUP(I1277,Referencias!$B$24:$C$41,2,FALSE())","v":"C.MAD"},{"$f":"VLOOKUP(C1277,Referencias!$C$4:$E$21,3,FALSE())","v":3},"Competición","Madrileña"]
["2811746","Gárate Murillo, Rosa María","2C","D",{"$f":"VLOOKUP(C1278,Referencias!$C$4:$D$21,2,FALSE())","v":"Segunda Corazón"},{"$f":"VLOOKUP(I1278,Referencias!$B$24:$C$41,2,FALSE())","v":"C.MAD"},{"$f":"VLOOKUP(C1278,Referencias!$C$4:$E$21,3,FALSE())","v":2},"Competición","Madrileña"]
["2811748","Fernández-Valdés Zubiría, Jaime","2P","C",{"$f":"VLOOKUP(C1279,Referencias!$C$4:$D$21,2,FALSE())","v":"Segunda Picas"},{"$f":"VLOOKUP(I1279,Referencias!$B$24:$C$41,2,FALSE())","v":"C.MAD"},{"$f":"VLOOKUP(C1279,Referencias!$C$4:$E$21,3,FALSE())","v":2},"Competición","Madrileña"]
["2811752","Menéndez de Luarca Navia Osorio , María","2P","D",{"$f":"VLOOKUP(C1280,Referencias!$C$4:$D$21,2,FALSE())","v":"Segunda Picas"},{"$f":"VLOOKUP(I1280,Referencias!$B$24:$C$41,2,FALSE())","v":"C.MAD"},{"$f":"VLOOKUP(C1280,Referencias!$C$4:$E$21,3,FALSE())","v":2},"Competición","Madrileña"]
["2811753","Rubio Egurbide, Aurora","3P","D",{"$f":"VLOOKUP(C1281,Referencias!$C$4:$D$21,2,FALSE())","v":"Tercera Picas"},{"$f":"VLOOKUP(I1281,Referencias!$B$24:$C$41,2,FALSE())","v":"C.MAD"},{"$f":"VLOOKUP(C1281,Referencias!$C$4:$E$21,3,FALSE())","v":3},"Competición","Madrileña"]
["2811760","Morales Piga, Concepción","3P","D",{"$f":"VLOOKUP(C1282,Referencias!$C$4:$D$21,2,FALSE())","v":"Tercera Picas"},{"$f":"VLOOKUP(I1282,Referencias!$B$24:$C$41,2,FALSE())","v":"C.MAD"},{"$f":"VLOOKUP(C1282,Referencias!$C$4:$E$21,3,FALSE())","v":3},"Competición","Madrileña"]
["2811762","Lantarón Pinedo, Luis","MM-O","C",{"$f":"VLOOKUP(C1283,Referencias!$C$4:$D$21,2,FALSE())","v":"Maestro Mundial Open"},{"$f":"VLOOKUP(I1283,Referencias!$B$24:$C$41,2,FALSE())","v":"C.MAD"},{"$f":"VLOOKUP(C1283,Referencias!$C$4:$E$21,3,FALSE())","v":0},"Competición","Madrileña"]
["2811772","Aizpurua Saenz-Alonso, Ana Isabel","2C","D",{"$f":"VLOOKUP(C1284,Referencias!$C$4:$D$21,2,FALSE())","v":"Segunda Corazón"},{"$f":"VLOOKUP(I1284,Referencias!$B$24:$C$41,2,FALSE())","v":"C.MAD"},{"$f":"VLOOKUP(C1284,Referencias!$C$4:$E$21,3,FALSE())","v":2},"Competición","Madrileña"]
["2811777","de Miguel , Joaquín","1P","C",{"$f":"VLOOKUP(C1285,Referencias!$C$4:$D$21,2,FALSE())","v":"Primera Picas"},{"$f":"VLOOKUP(I1285,Referencias!$B$24:$C$41,2,FALSE())","v":"C.MAD"},{"$f":"VLOOKUP(C1285,Referencias!$C$4:$E$21,3,FALSE())","v":1},"Competición","Madrileña"]
["2811779","Hombravella Pérez de Ozores, María Paz","3D","D",{"$f":"VLOOKUP(C1286,Referencias!$C$4:$D$21,2,FALSE())","v":"Tercera Diamante"},{"$f":"VLOOKUP(I1286,Referencias!$B$24:$C$41,2,FALSE())","v":"C.MAD"},{"$f":"VLOOKUP(C1286,Referencias!$C$4:$E$21,3,FALSE())","v":3},"Competición","Madrileña"]
["2811780","Suárez Martínez, Sofía","2C","D",{"$f":"VLOOKUP(C1287,Referencias!$C$4:$D$21,2,FALSE())","v":"Segunda Corazón"},{"$f":"VLOOKUP(I1287,Referencias!$B$24:$C$41,2,FALSE())","v":"C.MAD"},{"$f":"VLOOKUP(C1287,Referencias!$C$4:$E$21,3,FALSE())","v":2},"Competición","Madrileña"]
["2811782","Castells Conrado, Alberto","1P","C",{"$f":"VLOOKUP(C1288,Referencias!$C$4:$D$21,2,FALSE())","v":"Primera Picas"},{"$f":"VLOOKUP(I1288,Referencias!$B$24:$C$41,2,FALSE())","v":"C.MAD"},{"$f":"VLOOKUP(C1288,Referencias!$C$4:$E$21,3,FALSE())","v":1},"Competición","Madrileña"]
["2811783","de Cossío, Carmen","3D","D",{"$f":"VLOOKUP(C1289,Referencias!$C$4:$D$21,2,FALSE())","v":"Tercera Diamante"},{"$f":"VLOOKUP(I1289,Referencias!$B$24:$C$41,2,FALSE())","v":"C.MAD"},{"$f":"VLOOKUP(C1289,Referencias!$C$4:$E$21,3,FALSE())","v":3},"Competición","Madrileña"]
["2811795","Carrasco Hervás, Gabriel","MN-O","C",{"$f":"VLOOKUP(C1290,Referencias!$C$4:$D$21,2,FALSE())","v":"Maestro Nacional Open"},{"$f":"VLOOKUP(I1290,Referencias!$B$24:$C$41,2,FALSE())","v":"C.MAD"},{"$f":"VLOOKUP(C1290,Referencias!$C$4:$E$21,3,FALSE())","v":0},"Competición","Madrileña"]
["2811799","Navarro Iglesias, Virgilio","3D","C",{"$f":"VLOOKUP(C1291,Referencias!$C$4:$D$21,2,FALSE())","v":"Tercera Diamante"},{"$f":"VLOOKUP(I1291,Referencias!$B$24:$C$41,2,FALSE())","v":"C.MAD"},{"$f":"VLOOKUP(C1291,Referencias!$C$4:$E$21,3,FALSE())","v":3},"Competición","Madrileña"]
["2811801","de Agustín Estanislao, Myriam","1C","D",{"$f":"VLOOKUP(C1292,Referencias!$C$4:$D$21,2,FALSE())","v":"Primera Corazón"},{"$f":"VLOOKUP(I1292,Referencias!$B$24:$C$41,2,FALSE())","v":"C.MAD"},{"$f":"VLOOKUP(C1292,Referencias!$C$4:$E$21,3,FALSE())","v":1},"Competición","Madrileña"]
["2811803","Quijano Barroso, Juan José","1D","C",{"$f":"VLOOKUP(C1293,Referencias!$C$4:$D$21,2,FALSE())","v":"Primera Diamante"},{"$f":"VLOOKUP(I1293,Referencias!$B$24:$C$41,2,FALSE())","v":"C.MAD"},{"$f":"VLOOKUP(C1293,Referencias!$C$4:$E$21,3,FALSE())","v":1},"Competición","Madrileña"]
["2811806","Chico Álvarez, María Rosa","1C","D",{"$f":"VLOOKUP(C1294,Referencias!$C$4:$D$21,2,FALSE())","v":"Primera Corazón"},{"$f":"VLOOKUP(I1294,Referencias!$B$24:$C$41,2,FALSE())","v":"C.MAD"},{"$f":"VLOOKUP(C1294,Referencias!$C$4:$E$21,3,FALSE())","v":1},"Competición","Madrileña"]
["2811807","del Castillo, Elisa","3D","D",{"$f":"VLOOKUP(C1295,Referencias!$C$4:$D$21,2,FALSE())","v":"Tercera Diamante"},{"$f":"VLOOKUP(I1295,Referencias!$B$24:$C$41,2,FALSE())","v":"C.MAD"},{"$f":"VLOOKUP(C1295,Referencias!$C$4:$E$21,3,FALSE())","v":3},"Competición","Madrileña"]
["2811808","Marcos Nicolás, Marisa","2C","D",{"$f":"VLOOKUP(C1296,Referencias!$C$4:$D$21,2,FALSE())","v":"Segunda Corazón"},{"$f":"VLOOKUP(I1296,Referencias!$B$24:$C$41,2,FALSE())","v":"C.MAD"},{"$f":"VLOOKUP(C1296,Referencias!$C$4:$E$21,3,FALSE())","v":2},"Competición","Madrileña"]
["2811809","de Roda Marchesi, María José","1C","D",{"$f":"VLOOKUP(C1297,Referencias!$C$4:$D$21,2,FALSE())","v":"Primera Corazón"},{"$f":"VLOOKUP(I1297,Referencias!$B$24:$C$41,2,FALSE())","v":"C.MAD"},{"$f":"VLOOKUP(C1297,Referencias!$C$4:$E$21,3,FALSE())","v":1},"Competición","Madrileña"]
["2811810","Urdiales Terry, Luis","1P","C",{"$f":"VLOOKUP(C1298,Referencias!$C$4:$D$21,2,FALSE())","v":"Primera Picas"},{"$f":"VLOOKUP(I1298,Referencias!$B$24:$C$41,2,FALSE())","v":"C.MAD"},{"$f":"VLOOKUP(C1298,Referencias!$C$4:$E$21,3,FALSE())","v":1},"Competición","Madrileña"]
["2811811","Vida Llorente, Mercedes","1C","D",{"$f":"VLOOKUP(C1299,Referencias!$C$4:$D$21,2,FALSE())","v":"Primera Corazón"},{"$f":"VLOOKUP(I1299,Referencias!$B$24:$C$41,2,FALSE())","v":"C.MAD"},{"$f":"VLOOKUP(C1299,Referencias!$C$4:$E$21,3,FALSE())","v":1},"Competición","Madrileña"]
["2811818","Castiñeira Villaseca, María Paz","2P","D",{"$f":"VLOOKUP(C1300,Referencias!$C$4:$D$21,2,FALSE())","v":"Segunda Picas"},{"$f":"VLOOKUP(I1300,Referencias!$B$24:$C$41,2,FALSE())","v":"C.MAD"},{"$f":"VLOOKUP(C1300,Referencias!$C$4:$E$21,3,FALSE())","v":2},"Competición","Madrileña"]
["2811819","Asín Pelay, María Jesús","1C","D",{"$f":"VLOOKUP(C1301,Referencias!$C$4:$D$21,2,FALSE())","v":"Primera Corazón"},{"$f":"VLOOKUP(I1301,Referencias!$B$24:$C$41,2,FALSE())","v":"C.MAD"},{"$f":"VLOOKUP(C1301,Referencias!$C$4:$E$21,3,FALSE())","v":1},"Competición","Madrileña"]
["2811824","Sandoval Renshaw, Carmen","1C","D",{"$f":"VLOOKUP(C1302,Referencias!$C$4:$D$21,2,FALSE())","v":"Primera Corazón"},{"$f":"VLOOKUP(I1302,Referencias!$B$24:$C$41,2,FALSE())","v":"C.MAD"},{"$f":"VLOOKUP(C1302,Referencias!$C$4:$E$21,3,FALSE())","v":1},"Competición","Madrileña"]
["2811828","Granda Rubio, Jesús","3D","C",{"$f":"VLOOKUP(C1303,Referencias!$C$4:$D$21,2,FALSE())","v":"Tercera Diamante"},{"$f":"VLOOKUP(I1303,Referencias!$B$24:$C$41,2,FALSE())","v":"C.MAD"},{"$f":"VLOOKUP(C1303,Referencias!$C$4:$E$21,3,FALSE())","v":3},"Honorífica","Madrileña"]
["2811835","Estefanell Solá, Trinidad","3D","D",{"$f":"VLOOKUP(C1304,Referencias!$C$4:$D$21,2,FALSE())","v":"Tercera Diamante"},{"$f":"VLOOKUP(I1304,Referencias!$B$24:$C$41,2,FALSE())","v":"C.MAD"},{"$f":"VLOOKUP(C1304,Referencias!$C$4:$E$21,3,FALSE())","v":3},"Competición","Madrileña"]
["2811841","Lafita Gorostiza, Begoña","2P","D",{"$f":"VLOOKUP(C1305,Referencias!$C$4:$D$21,2,FALSE())","v":"Segunda Picas"},{"$f":"VLOOKUP(I1305,Referencias!$B$24:$C$41,2,FALSE())","v":"C.MAD"},{"$f":"VLOOKUP(C1305,Referencias!$C$4:$E$21,3,FALSE())","v":2},"Competición","Madrileña"]
["2811849","Francés de Velasco, Ana","MN-O","D",{"$f":"VLOOKUP(C1306,Referencias!$C$4:$D$21,2,FALSE())","v":"Maestro Nacional Open"},{"$f":"VLOOKUP(I1306,Referencias!$B$24:$C$41,2,FALSE())","v":"C.MAD"},{"$f":"VLOOKUP(C1306,Referencias!$C$4:$E$21,3,FALSE())","v":0},"Competición","Madrileña"]
["2811859","Vicent Martínez, Mariel","1C","D",{"$f":"VLOOKUP(C1307,Referencias!$C$4:$D$21,2,FALSE())","v":"Primera Corazón"},{"$f":"VLOOKUP(I1307,Referencias!$B$24:$C$41,2,FALSE())","v":"C.MAD"},{"$f":"VLOOKUP(C1307,Referencias!$C$4:$E$21,3,FALSE())","v":1},"Competición","Madrileña"]
["2811860","Dhainault , Marie France","3P","D",{"$f":"VLOOKUP(C1308,Referencias!$C$4:$D$21,2,FALSE())","v":"Tercera Picas"},{"$f":"VLOOKUP(I1308,Referencias!$B$24:$C$41,2,FALSE())","v":"C.MAD"},{"$f":"VLOOKUP(C1308,Referencias!$C$4:$E$21,3,FALSE())","v":3},"Competición","Madrileña"]
["2811863","Julián Moreno, María Carmen","3D","D",{"$f":"VLOOKUP(C1309,Referencias!$C$4:$D$21,2,FALSE())","v":"Tercera Diamante"},{"$f":"VLOOKUP(I1309,Referencias!$B$24:$C$41,2,FALSE())","v":"C.MAD"},{"$f":"VLOOKUP(C1309,Referencias!$C$4:$E$21,3,FALSE())","v":3},"Competición","Madrileña"]
["2811878","Von Wichmann , Leles","1C","D",{"$f":"VLOOKUP(C1310,Referencias!$C$4:$D$21,2,FALSE())","v":"Primera Corazón"},{"$f":"VLOOKUP(I1310,Referencias!$B$24:$C$41,2,FALSE())","v":"C.MAD"},{"$f":"VLOOKUP(C1310,Referencias!$C$4:$E$21,3,FALSE())","v":1},"Competición","Madrileña"]
["2811881","Espinosa Ochoa, José Miguel","2P","C",{"$f":"VLOOKUP(C1311,Referencias!$C$4:$D$21,2,FALSE())","v":"Segunda Picas"},{"$f":"VLOOKUP(I1311,Referencias!$B$24:$C$41,2,FALSE())","v":"C.MAD"},{"$f":"VLOOKUP(C1311,Referencias!$C$4:$E$21,3,FALSE())","v":2},"Competición","Madrileña"]
["2811882","Guerrero , Manuela","2C","D",{"$f":"VLOOKUP(C1312,Referencias!$C$4:$D$21,2,FALSE())","v":"Segunda Corazón"},{"$f":"VLOOKUP(I1312,Referencias!$B$24:$C$41,2,FALSE())","v":"C.MAD"},{"$f":"VLOOKUP(C1312,Referencias!$C$4:$E$21,3,FALSE())","v":2},"Competición","Madrileña"]
["2811884","Peralta Sánchez, Pilar","2D","D",{"$f":"VLOOKUP(C1313,Referencias!$C$4:$D$21,2,FALSE())","v":"Segunda Diamante"},{"$f":"VLOOKUP(I1313,Referencias!$B$24:$C$41,2,FALSE())","v":"C.MAD"},{"$f":"VLOOKUP(C1313,Referencias!$C$4:$E$21,3,FALSE())","v":2},"Competición","Madrileña"]
["2811890","Sorensen Alber, Cristina","1D","D",{"$f":"VLOOKUP(C1314,Referencias!$C$4:$D$21,2,FALSE())","v":"Primera Diamante"},{"$f":"VLOOKUP(I1314,Referencias!$B$24:$C$41,2,FALSE())","v":"C.MAD"},{"$f":"VLOOKUP(C1314,Referencias!$C$4:$E$21,3,FALSE())","v":1},"Competición","Madrileña"]
["2811892","Sinovas Mate, Carmen","3D","D",{"$f":"VLOOKUP(C1315,Referencias!$C$4:$D$21,2,FALSE())","v":"Tercera Diamante"},{"$f":"VLOOKUP(I1315,Referencias!$B$24:$C$41,2,FALSE())","v":"C.MAD"},{"$f":"VLOOKUP(C1315,Referencias!$C$4:$E$21,3,FALSE())","v":3},"Competición","Madrileña"]
["2811893","Flórez , María Eugenia","3P","D",{"$f":"VLOOKUP(C1316,Referencias!$C$4:$D$21,2,FALSE())","v":"Tercera Picas"},{"$f":"VLOOKUP(I1316,Referencias!$B$24:$C$41,2,FALSE())","v":"C.MAD"},{"$f":"VLOOKUP(C1316,Referencias!$C$4:$E$21,3,FALSE())","v":3},"Competición","Madrileña"]
["2811894","Sendagorta , Luz","2P","D",{"$f":"VLOOKUP(C1317,Referencias!$C$4:$D$21,2,FALSE())","v":"Segunda Picas"},{"$f":"VLOOKUP(I1317,Referencias!$B$24:$C$41,2,FALSE())","v":"C.MAD"},{"$f":"VLOOKUP(C1317,Referencias!$C$4:$E$21,3,FALSE())","v":2},"Competición","Madrileña"]
["2811901","Vargas Román, María Dolores","2C","D",{"$f":"VLOOKUP(C1318,Referencias!$C$4:$D$21,2,FALSE())","v":"Segunda Corazón"},{"$f":"VLOOKUP(I1318,Referencias!$B$24:$C$41,2,FALSE())","v":"C.MAD"},{"$f":"VLOOKUP(C1318,Referencias!$C$4:$E$21,3,FALSE())","v":2},"Competición","Madrileña"]
["2811902","Castillo Sales, Milagros","3P","D",{"$f":"VLOOKUP(C1319,Referencias!$C$4:$D$21,2,FALSE())","v":"Tercera Picas"},{"$f":"VLOOKUP(I1319,Referencias!$B$24:$C$41,2,FALSE())","v":"C.MAD"},{"$f":"VLOOKUP(C1319,Referencias!$C$4:$E$21,3,FALSE())","v":3},"Competición","Madrileña"]
["2811906","de Leiva Rodríguez-Valdés, Cristina","MN-D","D",{"$f":"VLOOKUP(C1320,Referencias!$C$4:$D$21,2,FALSE())","v":"Maestro Nacional Damas"},{"$f":"VLOOKUP(I1320,Referencias!$B$24:$C$41,2,FALSE())","v":"C.MAD"},{"$f":"VLOOKUP(C1320,Referencias!$C$4:$E$21,3,FALSE())","v":0},"Competición","Madrileña"]
["2811909","de Lorenzo, Juan Manuel","1P","C",{"$f":"VLOOKUP(C1321,Referencias!$C$4:$D$21,2,FALSE())","v":"Primera Picas"},{"$f":"VLOOKUP(I1321,Referencias!$B$24:$C$41,2,FALSE())","v":"C.MAD"},{"$f":"VLOOKUP(C1321,Referencias!$C$4:$E$21,3,FALSE())","v":1},"Competición","Madrileña"]
["2811910","Wasik , Artur","MM-O","C",{"$f":"VLOOKUP(C1322,Referencias!$C$4:$D$21,2,FALSE())","v":"Maestro Mundial Open"},{"$f":"VLOOKUP(I1322,Referencias!$B$24:$C$41,2,FALSE())","v":"C.MAD"},{"$f":"VLOOKUP(C1322,Referencias!$C$4:$E$21,3,FALSE())","v":0},"Competición","Madrileña"]
["2811911","Knap, Andrzej","MM-O","C",{"$f":"VLOOKUP(C1323,Referencias!$C$4:$D$21,2,FALSE())","v":"Maestro Mundial Open"},{"$f":"VLOOKUP(I1323,Referencias!$B$24:$C$41,2,FALSE())","v":"C.MAD"},{"$f":"VLOOKUP(C1323,Referencias!$C$4:$E$21,3,FALSE())","v":0},"Competición","Madrileña"]
["2811915","Jaureguízar Francés, Antonio","3P","C",{"$f":"VLOOKUP(C1324,Referencias!$C$4:$D$21,2,FALSE())","v":"Tercera Picas"},{"$f":"VLOOKUP(I1324,Referencias!$B$24:$C$41,2,FALSE())","v":"C.MAD"},{"$f":"VLOOKUP(C1324,Referencias!$C$4:$E$21,3,FALSE())","v":3},"Competición","Madrileña"]
["2811942","González Urtiaga, Julia","3D","D",{"$f":"VLOOKUP(C1325,Referencias!$C$4:$D$21,2,FALSE())","v":"Tercera Diamante"},{"$f":"VLOOKUP(I1325,Referencias!$B$24:$C$41,2,FALSE())","v":"C.MAD"},{"$f":"VLOOKUP(C1325,Referencias!$C$4:$E$21,3,FALSE())","v":3},"Honorífica","Madrileña"]
["2811944","Sáenz Sáez, José Felipe","2P","C",{"$f":"VLOOKUP(C1326,Referencias!$C$4:$D$21,2,FALSE())","v":"Segunda Picas"},{"$f":"VLOOKUP(I1326,Referencias!$B$24:$C$41,2,FALSE())","v":"C.MAD"},{"$f":"VLOOKUP(C1326,Referencias!$C$4:$E$21,3,FALSE())","v":2},"Competición","Madrileña"]
["2811957","Velasco Peña, Ana María","MN-O","D",{"$f":"VLOOKUP(C1327,Referencias!$C$4:$D$21,2,FALSE())","v":"Maestro Nacional Open"},{"$f":"VLOOKUP(I1327,Referencias!$B$24:$C$41,2,FALSE())","v":"C.MAD"},{"$f":"VLOOKUP(C1327,Referencias!$C$4:$E$21,3,FALSE())","v":0},"Competición","Madrileña"]
["2811959","Erhardt Alzaga, Sol","2D","D",{"$f":"VLOOKUP(C1328,Referencias!$C$4:$D$21,2,FALSE())","v":"Segunda Diamante"},{"$f":"VLOOKUP(I1328,Referencias!$B$24:$C$41,2,FALSE())","v":"C.MAD"},{"$f":"VLOOKUP(C1328,Referencias!$C$4:$E$21,3,FALSE())","v":2},"Competición","Madrileña"]
["2811964","Esparza , Mercedes","2C","D",{"$f":"VLOOKUP(C1329,Referencias!$C$4:$D$21,2,FALSE())","v":"Segunda Corazón"},{"$f":"VLOOKUP(I1329,Referencias!$B$24:$C$41,2,FALSE())","v":"C.MAD"},{"$f":"VLOOKUP(C1329,Referencias!$C$4:$E$21,3,FALSE())","v":2},"Competición","Madrileña"]
["2811965","Cartassac , María Luisa","3D","D",{"$f":"VLOOKUP(C1330,Referencias!$C$4:$D$21,2,FALSE())","v":"Tercera Diamante"},{"$f":"VLOOKUP(I1330,Referencias!$B$24:$C$41,2,FALSE())","v":"C.MAD"},{"$f":"VLOOKUP(C1330,Referencias!$C$4:$E$21,3,FALSE())","v":3},"Competición","Madrileña"]
["2811967","Castellanos Borrego, Silvia","1D","D",{"$f":"VLOOKUP(C1331,Referencias!$C$4:$D$21,2,FALSE())","v":"Primera Diamante"},{"$f":"VLOOKUP(I1331,Referencias!$B$24:$C$41,2,FALSE())","v":"C.MAD"},{"$f":"VLOOKUP(C1331,Referencias!$C$4:$E$21,3,FALSE())","v":1},"Competición","Madrileña"]
["2811970","Valdivieso Martínez, Alejandro","2D","C",{"$f":"VLOOKUP(C1332,Referencias!$C$4:$D$21,2,FALSE())","v":"Segunda Diamante"},{"$f":"VLOOKUP(I1332,Referencias!$B$24:$C$41,2,FALSE())","v":"C.MAD"},{"$f":"VLOOKUP(C1332,Referencias!$C$4:$E$21,3,FALSE())","v":2},"Competición","Madrileña"]
["2811972","Ariño Oporto, Julia","2C","D",{"$f":"VLOOKUP(C1333,Referencias!$C$4:$D$21,2,FALSE())","v":"Segunda Corazón"},{"$f":"VLOOKUP(I1333,Referencias!$B$24:$C$41,2,FALSE())","v":"C.MAD"},{"$f":"VLOOKUP(C1333,Referencias!$C$4:$E$21,3,FALSE())","v":2},"Competición","Madrileña"]
["2811988","Entero Wandossell, Isabel","3D","D",{"$f":"VLOOKUP(C1334,Referencias!$C$4:$D$21,2,FALSE())","v":"Tercera Diamante"},{"$f":"VLOOKUP(I1334,Referencias!$B$24:$C$41,2,FALSE())","v":"C.MAD"},{"$f":"VLOOKUP(C1334,Referencias!$C$4:$E$21,3,FALSE())","v":3},"Competición","Madrileña"]
["2811993","Ochoa de Ocáriz Herrero, María Luisa","3D","D",{"$f":"VLOOKUP(C1335,Referencias!$C$4:$D$21,2,FALSE())","v":"Tercera Diamante"},{"$f":"VLOOKUP(I1335,Referencias!$B$24:$C$41,2,FALSE())","v":"C.MAD"},{"$f":"VLOOKUP(C1335,Referencias!$C$4:$E$21,3,FALSE())","v":3},"Honorífica","Madrileña"]
["2811995","Santos Bergua, María Ángeles","2C","D",{"$f":"VLOOKUP(C1336,Referencias!$C$4:$D$21,2,FALSE())","v":"Segunda Corazón"},{"$f":"VLOOKUP(I1336,Referencias!$B$24:$C$41,2,FALSE())","v":"C.MAD"},{"$f":"VLOOKUP(C1336,Referencias!$C$4:$E$21,3,FALSE())","v":2},"Competición","Madrileña"]
["2811996","Riestra Pardo, Javier","2C","C",{"$f":"VLOOKUP(C1337,Referencias!$C$4:$D$21,2,FALSE())","v":"Segunda Corazón"},{"$f":"VLOOKUP(I1337,Referencias!$B$24:$C$41,2,FALSE())","v":"C.MAD"},{"$f":"VLOOKUP(C1337,Referencias!$C$4:$E$21,3,FALSE())","v":2},"Competición","Madrileña"]
["2812008","Rifé Bertrán, María Luisa","3D","D",{"$f":"VLOOKUP(C1338,Referencias!$C$4:$D$21,2,FALSE())","v":"Tercera Diamante"},{"$f":"VLOOKUP(I1338,Referencias!$B$24:$C$41,2,FALSE())","v":"C.MAD"},{"$f":"VLOOKUP(C1338,Referencias!$C$4:$E$21,3,FALSE())","v":3},"Competición","Madrileña"]
["2812014","del Hierro Mutiozábal, Concepción","2D","D",{"$f":"VLOOKUP(C1339,Referencias!$C$4:$D$21,2,FALSE())","v":"Segunda Diamante"},{"$f":"VLOOKUP(I1339,Referencias!$B$24:$C$41,2,FALSE())","v":"C.MAD"},{"$f":"VLOOKUP(C1339,Referencias!$C$4:$E$21,3,FALSE())","v":2},"Competición","Madrileña"]
["2812015","Padial Aguirre, Enrique","2D","C",{"$f":"VLOOKUP(C1340,Referencias!$C$4:$D$21,2,FALSE())","v":"Segunda Diamante"},{"$f":"VLOOKUP(I1340,Referencias!$B$24:$C$41,2,FALSE())","v":"C.MAD"},{"$f":"VLOOKUP(C1340,Referencias!$C$4:$E$21,3,FALSE())","v":2},"Competición","Madrileña"]
["2812017","Martín Álvaro-Gracia, Paloma","1P","D",{"$f":"VLOOKUP(C1341,Referencias!$C$4:$D$21,2,FALSE())","v":"Primera Picas"},{"$f":"VLOOKUP(I1341,Referencias!$B$24:$C$41,2,FALSE())","v":"C.MAD"},{"$f":"VLOOKUP(C1341,Referencias!$C$4:$E$21,3,FALSE())","v":1},"Competición","Madrileña"]
["2812025","Moreno Mendoza, Fernando","1D","C",{"$f":"VLOOKUP(C1342,Referencias!$C$4:$D$21,2,FALSE())","v":"Primera Diamante"},{"$f":"VLOOKUP(I1342,Referencias!$B$24:$C$41,2,FALSE())","v":"C.MAD"},{"$f":"VLOOKUP(C1342,Referencias!$C$4:$E$21,3,FALSE())","v":1},"Competición","Madrileña"]
["2812026","Leva Ríos, Ana","3D","D",{"$f":"VLOOKUP(C1343,Referencias!$C$4:$D$21,2,FALSE())","v":"Tercera Diamante"},{"$f":"VLOOKUP(I1343,Referencias!$B$24:$C$41,2,FALSE())","v":"C.MAD"},{"$f":"VLOOKUP(C1343,Referencias!$C$4:$E$21,3,FALSE())","v":3},"Competición","Madrileña"]
["2812028","Armijo Navarro-Reverter, Dolores","1P","D",{"$f":"VLOOKUP(C1344,Referencias!$C$4:$D$21,2,FALSE())","v":"Primera Picas"},{"$f":"VLOOKUP(I1344,Referencias!$B$24:$C$41,2,FALSE())","v":"C.MAD"},{"$f":"VLOOKUP(C1344,Referencias!$C$4:$E$21,3,FALSE())","v":1},"Competición","Madrileña"]
["2812029","Ojeda Targioni, Patricia","2P","D",{"$f":"VLOOKUP(C1345,Referencias!$C$4:$D$21,2,FALSE())","v":"Segunda Picas"},{"$f":"VLOOKUP(I1345,Referencias!$B$24:$C$41,2,FALSE())","v":"C.MAD"},{"$f":"VLOOKUP(C1345,Referencias!$C$4:$E$21,3,FALSE())","v":2},"Competición","Madrileña"]
["2812031","Alija López, María Trinidad","1P","D",{"$f":"VLOOKUP(C1346,Referencias!$C$4:$D$21,2,FALSE())","v":"Primera Picas"},{"$f":"VLOOKUP(I1346,Referencias!$B$24:$C$41,2,FALSE())","v":"C.MAD"},{"$f":"VLOOKUP(C1346,Referencias!$C$4:$E$21,3,FALSE())","v":1},"Competición","Madrileña"]
["2812032","Sánchez Gil, Evencio","1P","C",{"$f":"VLOOKUP(C1347,Referencias!$C$4:$D$21,2,FALSE())","v":"Primera Picas"},{"$f":"VLOOKUP(I1347,Referencias!$B$24:$C$41,2,FALSE())","v":"C.MAD"},{"$f":"VLOOKUP(C1347,Referencias!$C$4:$E$21,3,FALSE())","v":1},"Competición","Madrileña"]
["2812033","Arangüena Docet, Rosa","3D","D",{"$f":"VLOOKUP(C1348,Referencias!$C$4:$D$21,2,FALSE())","v":"Tercera Diamante"},{"$f":"VLOOKUP(I1348,Referencias!$B$24:$C$41,2,FALSE())","v":"C.MAD"},{"$f":"VLOOKUP(C1348,Referencias!$C$4:$E$21,3,FALSE())","v":3},"Competición","Madrileña"]
["2812041","Kindelán Segura, Manuel","2P","C",{"$f":"VLOOKUP(C1349,Referencias!$C$4:$D$21,2,FALSE())","v":"Segunda Picas"},{"$f":"VLOOKUP(I1349,Referencias!$B$24:$C$41,2,FALSE())","v":"C.MAD"},{"$f":"VLOOKUP(C1349,Referencias!$C$4:$E$21,3,FALSE())","v":2},"Competición","Madrileña"]
["2812042","Vázquez Pimentel, Isabel","1P","D",{"$f":"VLOOKUP(C1350,Referencias!$C$4:$D$21,2,FALSE())","v":"Primera Picas"},{"$f":"VLOOKUP(I1350,Referencias!$B$24:$C$41,2,FALSE())","v":"C.MAD"},{"$f":"VLOOKUP(C1350,Referencias!$C$4:$E$21,3,FALSE())","v":1},"Competición","Madrileña"]
["2812051","Panadero Martín, María Fernanda","MM-D","D",{"$f":"VLOOKUP(C1351,Referencias!$C$4:$D$21,2,FALSE())","v":"Maestro Mundial Damas"},{"$f":"VLOOKUP(I1351,Referencias!$B$24:$C$41,2,FALSE())","v":"C.MAD"},{"$f":"VLOOKUP(C1351,Referencias!$C$4:$E$21,3,FALSE())","v":0},"Competición","Madrileña"]
["2812067","Bueno Valverde, León","1C","C",{"$f":"VLOOKUP(C1352,Referencias!$C$4:$D$21,2,FALSE())","v":"Primera Corazón"},{"$f":"VLOOKUP(I1352,Referencias!$B$24:$C$41,2,FALSE())","v":"C.MAD"},{"$f":"VLOOKUP(C1352,Referencias!$C$4:$E$21,3,FALSE())","v":1},"Competición","Madrileña"]
["2812081","Mediero Hernández, Marina","1P","D",{"$f":"VLOOKUP(C1353,Referencias!$C$4:$D$21,2,FALSE())","v":"Primera Picas"},{"$f":"VLOOKUP(I1353,Referencias!$B$24:$C$41,2,FALSE())","v":"C.MAD"},{"$f":"VLOOKUP(C1353,Referencias!$C$4:$E$21,3,FALSE())","v":1},"Competición","Madrileña"]
["2812083","Sevillano López, María Ángeles","1P","D",{"$f":"VLOOKUP(C1354,Referencias!$C$4:$D$21,2,FALSE())","v":"Primera Picas"},{"$f":"VLOOKUP(I1354,Referencias!$B$24:$C$41,2,FALSE())","v":"C.MAD"},{"$f":"VLOOKUP(C1354,Referencias!$C$4:$E$21,3,FALSE())","v":1},"Competición","Madrileña"]
["2812087","Corral Salas, Fernando","1C","C",{"$f":"VLOOKUP(C1355,Referencias!$C$4:$D$21,2,FALSE())","v":"Primera Corazón"},{"$f":"VLOOKUP(I1355,Referencias!$B$24:$C$41,2,FALSE())","v":"C.MAD"},{"$f":"VLOOKUP(C1355,Referencias!$C$4:$E$21,3,FALSE())","v":1},"Competición","Madrileña"]
["2812094","Arteta Arana, Ramón","1P","C",{"$f":"VLOOKUP(C1356,Referencias!$C$4:$D$21,2,FALSE())","v":"Primera Picas"},{"$f":"VLOOKUP(I1356,Referencias!$B$24:$C$41,2,FALSE())","v":"C.MAD"},{"$f":"VLOOKUP(C1356,Referencias!$C$4:$E$21,3,FALSE())","v":1},"Competición","Madrileña"]
["2812095","Moragues Andreu, Juana","1P","D",{"$f":"VLOOKUP(C1357,Referencias!$C$4:$D$21,2,FALSE())","v":"Primera Picas"},{"$f":"VLOOKUP(I1357,Referencias!$B$24:$C$41,2,FALSE())","v":"C.MAD"},{"$f":"VLOOKUP(C1357,Referencias!$C$4:$E$21,3,FALSE())","v":1},"Competición","Madrileña"]
["2812097","Puyol Gómez, María Pilar","2D","D",{"$f":"VLOOKUP(C1358,Referencias!$C$4:$D$21,2,FALSE())","v":"Segunda Diamante"},{"$f":"VLOOKUP(I1358,Referencias!$B$24:$C$41,2,FALSE())","v":"C.MAD"},{"$f":"VLOOKUP(C1358,Referencias!$C$4:$E$21,3,FALSE())","v":2},"Competición","Madrileña"]
["2812106","Goicoechea Echaide, Rosario","3D","D",{"$f":"VLOOKUP(C1359,Referencias!$C$4:$D$21,2,FALSE())","v":"Tercera Diamante"},{"$f":"VLOOKUP(I1359,Referencias!$B$24:$C$41,2,FALSE())","v":"C.MAD"},{"$f":"VLOOKUP(C1359,Referencias!$C$4:$E$21,3,FALSE())","v":3},"Competición","Madrileña"]
["2812108","Díaz Grande, Javier","1P","C",{"$f":"VLOOKUP(C1360,Referencias!$C$4:$D$21,2,FALSE())","v":"Primera Picas"},{"$f":"VLOOKUP(I1360,Referencias!$B$24:$C$41,2,FALSE())","v":"C.MAD"},{"$f":"VLOOKUP(C1360,Referencias!$C$4:$E$21,3,FALSE())","v":1},"Competición","Madrileña"]
["2812116","Osborne Sanz-Magallón, Cristina","3D","D",{"$f":"VLOOKUP(C1361,Referencias!$C$4:$D$21,2,FALSE())","v":"Tercera Diamante"},{"$f":"VLOOKUP(I1361,Referencias!$B$24:$C$41,2,FALSE())","v":"C.MAD"},{"$f":"VLOOKUP(C1361,Referencias!$C$4:$E$21,3,FALSE())","v":3},"Competición","Madrileña"]
["2812117","Lerma Millan, Adela","3P","D",{"$f":"VLOOKUP(C1362,Referencias!$C$4:$D$21,2,FALSE())","v":"Tercera Picas"},{"$f":"VLOOKUP(I1362,Referencias!$B$24:$C$41,2,FALSE())","v":"C.MAD"},{"$f":"VLOOKUP(C1362,Referencias!$C$4:$E$21,3,FALSE())","v":3},"Competición","Madrileña"]
["2812124","Bolander Larsson, Bárbara","2D","D",{"$f":"VLOOKUP(C1363,Referencias!$C$4:$D$21,2,FALSE())","v":"Segunda Diamante"},{"$f":"VLOOKUP(I1363,Referencias!$B$24:$C$41,2,FALSE())","v":"C.MAD"},{"$f":"VLOOKUP(C1363,Referencias!$C$4:$E$21,3,FALSE())","v":2},"Competición","Madrileña"]
["2812134","Gómez de Gracia, María Amelia","3D","D",{"$f":"VLOOKUP(C1364,Referencias!$C$4:$D$21,2,FALSE())","v":"Tercera Diamante"},{"$f":"VLOOKUP(I1364,Referencias!$B$24:$C$41,2,FALSE())","v":"C.MAD"},{"$f":"VLOOKUP(C1364,Referencias!$C$4:$E$21,3,FALSE())","v":3},"Competición","Madrileña"]
["2812136","Kessous Benzaquen, Raquel","2D","D",{"$f":"VLOOKUP(C1365,Referencias!$C$4:$D$21,2,FALSE())","v":"Segunda Diamante"},{"$f":"VLOOKUP(I1365,Referencias!$B$24:$C$41,2,FALSE())","v":"C.MAD"},{"$f":"VLOOKUP(C1365,Referencias!$C$4:$E$21,3,FALSE())","v":2},"Competición","Madrileña"]
["2812139","García Ibarrola, Mercedes","1C","D",{"$f":"VLOOKUP(C1366,Referencias!$C$4:$D$21,2,FALSE())","v":"Primera Corazón"},{"$f":"VLOOKUP(I1366,Referencias!$B$24:$C$41,2,FALSE())","v":"C.MAD"},{"$f":"VLOOKUP(C1366,Referencias!$C$4:$E$21,3,FALSE())","v":1},"Competición","Madrileña"]
["2812141","Barañano Fernández, Ana María","2C","D",{"$f":"VLOOKUP(C1367,Referencias!$C$4:$D$21,2,FALSE())","v":"Segunda Corazón"},{"$f":"VLOOKUP(I1367,Referencias!$B$24:$C$41,2,FALSE())","v":"C.MAD"},{"$f":"VLOOKUP(C1367,Referencias!$C$4:$E$21,3,FALSE())","v":2},"Competición","Madrileña"]
["2812148","Antón Nebreda, Luis","3D","C",{"$f":"VLOOKUP(C1368,Referencias!$C$4:$D$21,2,FALSE())","v":"Tercera Diamante"},{"$f":"VLOOKUP(I1368,Referencias!$B$24:$C$41,2,FALSE())","v":"C.MAD"},{"$f":"VLOOKUP(C1368,Referencias!$C$4:$E$21,3,FALSE())","v":3},"Competición","Madrileña"]
["2812149","Goded Nadal, María del Pilar","2D","D",{"$f":"VLOOKUP(C1369,Referencias!$C$4:$D$21,2,FALSE())","v":"Segunda Diamante"},{"$f":"VLOOKUP(I1369,Referencias!$B$24:$C$41,2,FALSE())","v":"C.MAD"},{"$f":"VLOOKUP(C1369,Referencias!$C$4:$E$21,3,FALSE())","v":2},"Competición","Madrileña"]
["2812151","Ruíz García, Rosa María","3C","D",{"$f":"VLOOKUP(C1370,Referencias!$C$4:$D$21,2,FALSE())","v":"Tercera Corazón"},{"$f":"VLOOKUP(I1370,Referencias!$B$24:$C$41,2,FALSE())","v":"C.MAD"},{"$f":"VLOOKUP(C1370,Referencias!$C$4:$E$21,3,FALSE())","v":3},"Competición","Madrileña"]
["2812161","Ruíz Oriol, David","1C","C",{"$f":"VLOOKUP(C1371,Referencias!$C$4:$D$21,2,FALSE())","v":"Primera Corazón"},{"$f":"VLOOKUP(I1371,Referencias!$B$24:$C$41,2,FALSE())","v":"C.MAD"},{"$f":"VLOOKUP(C1371,Referencias!$C$4:$E$21,3,FALSE())","v":1},"Competición","Madrileña"]
["2812162","Sanfrutos Cañizares, Marta","3D","D",{"$f":"VLOOKUP(C1372,Referencias!$C$4:$D$21,2,FALSE())","v":"Tercera Diamante"},{"$f":"VLOOKUP(I1372,Referencias!$B$24:$C$41,2,FALSE())","v":"C.MAD"},{"$f":"VLOOKUP(C1372,Referencias!$C$4:$E$21,3,FALSE())","v":3},"Competición","Madrileña"]
["2812164","Sanz Pérez, Rosa","1P","D",{"$f":"VLOOKUP(C1373,Referencias!$C$4:$D$21,2,FALSE())","v":"Primera Picas"},{"$f":"VLOOKUP(I1373,Referencias!$B$24:$C$41,2,FALSE())","v":"C.MAD"},{"$f":"VLOOKUP(C1373,Referencias!$C$4:$E$21,3,FALSE())","v":1},"Competición","Madrileña"]
["2812172","Mansilla Ruiz, Ana María","1P","D",{"$f":"VLOOKUP(C1374,Referencias!$C$4:$D$21,2,FALSE())","v":"Primera Picas"},{"$f":"VLOOKUP(I1374,Referencias!$B$24:$C$41,2,FALSE())","v":"C.MAD"},{"$f":"VLOOKUP(C1374,Referencias!$C$4:$E$21,3,FALSE())","v":1},"Competición","Madrileña"]
["2812175","García Helfenberger, Dora","3D","D",{"$f":"VLOOKUP(C1375,Referencias!$C$4:$D$21,2,FALSE())","v":"Tercera Diamante"},{"$f":"VLOOKUP(I1375,Referencias!$B$24:$C$41,2,FALSE())","v":"C.MAD"},{"$f":"VLOOKUP(C1375,Referencias!$C$4:$E$21,3,FALSE())","v":3},"Competición","Madrileña"]
["2812178","Gerez Pascual, Paloma","3C","D",{"$f":"VLOOKUP(C1376,Referencias!$C$4:$D$21,2,FALSE())","v":"Tercera Corazón"},{"$f":"VLOOKUP(I1376,Referencias!$B$24:$C$41,2,FALSE())","v":"C.MAD"},{"$f":"VLOOKUP(C1376,Referencias!$C$4:$E$21,3,FALSE())","v":3},"Competición","Madrileña"]
["2812179","González De Las Heras, Carmen","3P","D",{"$f":"VLOOKUP(C1377,Referencias!$C$4:$D$21,2,FALSE())","v":"Tercera Picas"},{"$f":"VLOOKUP(I1377,Referencias!$B$24:$C$41,2,FALSE())","v":"C.MAD"},{"$f":"VLOOKUP(C1377,Referencias!$C$4:$E$21,3,FALSE())","v":3},"Competición","Madrileña"]
["2812182","Quintián , Eva","3D","D",{"$f":"VLOOKUP(C1378,Referencias!$C$4:$D$21,2,FALSE())","v":"Tercera Diamante"},{"$f":"VLOOKUP(I1378,Referencias!$B$24:$C$41,2,FALSE())","v":"C.MAD"},{"$f":"VLOOKUP(C1378,Referencias!$C$4:$E$21,3,FALSE())","v":3},"Competición","Madrileña"]
["2812186","Sandoval Renshaw, Esperanza","2D","D",{"$f":"VLOOKUP(C1379,Referencias!$C$4:$D$21,2,FALSE())","v":"Segunda Diamante"},{"$f":"VLOOKUP(I1379,Referencias!$B$24:$C$41,2,FALSE())","v":"C.MAD"},{"$f":"VLOOKUP(C1379,Referencias!$C$4:$E$21,3,FALSE())","v":2},"Competición","Madrileña"]
["2812196","Castillo Vega, Tamy","1P","D",{"$f":"VLOOKUP(C1380,Referencias!$C$4:$D$21,2,FALSE())","v":"Primera Picas"},{"$f":"VLOOKUP(I1380,Referencias!$B$24:$C$41,2,FALSE())","v":"C.MAD"},{"$f":"VLOOKUP(C1380,Referencias!$C$4:$E$21,3,FALSE())","v":1},"Competición","Madrileña"]
["2812203","Hernández Font, Rafaela","3P","D",{"$f":"VLOOKUP(C1381,Referencias!$C$4:$D$21,2,FALSE())","v":"Tercera Picas"},{"$f":"VLOOKUP(I1381,Referencias!$B$24:$C$41,2,FALSE())","v":"C.MAD"},{"$f":"VLOOKUP(C1381,Referencias!$C$4:$E$21,3,FALSE())","v":3},"Competición","Madrileña"]
["2812205","de los Trujillos , Marqués","2C","C",{"$f":"VLOOKUP(C1382,Referencias!$C$4:$D$21,2,FALSE())","v":"Segunda Corazón"},{"$f":"VLOOKUP(I1382,Referencias!$B$24:$C$41,2,FALSE())","v":"C.MAD"},{"$f":"VLOOKUP(C1382,Referencias!$C$4:$E$21,3,FALSE())","v":2},"Competición","Madrileña"]
["2812207","de la Rocha Eizmendi, María Piedad","1C","D",{"$f":"VLOOKUP(C1383,Referencias!$C$4:$D$21,2,FALSE())","v":"Primera Corazón"},{"$f":"VLOOKUP(I1383,Referencias!$B$24:$C$41,2,FALSE())","v":"C.MAD"},{"$f":"VLOOKUP(C1383,Referencias!$C$4:$E$21,3,FALSE())","v":1},"Competición","Madrileña"]
["2812214","de Castel Blanco , Conde","1P","C",{"$f":"VLOOKUP(C1384,Referencias!$C$4:$D$21,2,FALSE())","v":"Primera Picas"},{"$f":"VLOOKUP(I1384,Referencias!$B$24:$C$41,2,FALSE())","v":"GAL"},{"$f":"VLOOKUP(C1384,Referencias!$C$4:$E$21,3,FALSE())","v":1},"Competición","Gallega"]
["2812216","Chicharro de Clairac Ortega, Jaime","2P","C",{"$f":"VLOOKUP(C1385,Referencias!$C$4:$D$21,2,FALSE())","v":"Segunda Picas"},{"$f":"VLOOKUP(I1385,Referencias!$B$24:$C$41,2,FALSE())","v":"C.MAD"},{"$f":"VLOOKUP(C1385,Referencias!$C$4:$E$21,3,FALSE())","v":2},"Competición","Madrileña"]
["2812217","Marcos Ballester, María José","1P","D",{"$f":"VLOOKUP(C1386,Referencias!$C$4:$D$21,2,FALSE())","v":"Primera Picas"},{"$f":"VLOOKUP(I1386,Referencias!$B$24:$C$41,2,FALSE())","v":"C.MAD"},{"$f":"VLOOKUP(C1386,Referencias!$C$4:$E$21,3,FALSE())","v":1},"Competición","Madrileña"]
["2812218","Garrido Martín, José Manuel","3P","C",{"$f":"VLOOKUP(C1387,Referencias!$C$4:$D$21,2,FALSE())","v":"Tercera Picas"},{"$f":"VLOOKUP(I1387,Referencias!$B$24:$C$41,2,FALSE())","v":"C.MAD"},{"$f":"VLOOKUP(C1387,Referencias!$C$4:$E$21,3,FALSE())","v":3},"Competición","Madrileña"]
["2812220","Sánchez Gómez, Marianela","1D","D",{"$f":"VLOOKUP(C1388,Referencias!$C$4:$D$21,2,FALSE())","v":"Primera Diamante"},{"$f":"VLOOKUP(I1388,Referencias!$B$24:$C$41,2,FALSE())","v":"C.MAD"},{"$f":"VLOOKUP(C1388,Referencias!$C$4:$E$21,3,FALSE())","v":1},"Competición","Madrileña"]
["2812221","Ramírez López-Terradas, Cristina","1C","D",{"$f":"VLOOKUP(C1389,Referencias!$C$4:$D$21,2,FALSE())","v":"Primera Corazón"},{"$f":"VLOOKUP(I1389,Referencias!$B$24:$C$41,2,FALSE())","v":"C.MAD"},{"$f":"VLOOKUP(C1389,Referencias!$C$4:$E$21,3,FALSE())","v":1},"Competición","Madrileña"]
["2812223","Raichs Balet, Manuel Cayetano","3D","C",{"$f":"VLOOKUP(C1390,Referencias!$C$4:$D$21,2,FALSE())","v":"Tercera Diamante"},{"$f":"VLOOKUP(I1390,Referencias!$B$24:$C$41,2,FALSE())","v":"C.MAD"},{"$f":"VLOOKUP(C1390,Referencias!$C$4:$E$21,3,FALSE())","v":3},"Competición","Madrileña"]
["2812224","Fernández Menéndez, Margarita","MN-D","D",{"$f":"VLOOKUP(C1391,Referencias!$C$4:$D$21,2,FALSE())","v":"Maestro Nacional Damas"},{"$f":"VLOOKUP(I1391,Referencias!$B$24:$C$41,2,FALSE())","v":"P.AST"},{"$f":"VLOOKUP(C1391,Referencias!$C$4:$E$21,3,FALSE())","v":0},"Competición","Asturiana"]
["2812228","de Unzá del Valle , Marquesa","3C","D",{"$f":"VLOOKUP(C1392,Referencias!$C$4:$D$21,2,FALSE())","v":"Tercera Corazón"},{"$f":"VLOOKUP(I1392,Referencias!$B$24:$C$41,2,FALSE())","v":"C.MAD"},{"$f":"VLOOKUP(C1392,Referencias!$C$4:$E$21,3,FALSE())","v":3},"Competición","Madrileña"]
["2812229","Ausocua Sanz, Ana","3C","D",{"$f":"VLOOKUP(C1393,Referencias!$C$4:$D$21,2,FALSE())","v":"Tercera Corazón"},{"$f":"VLOOKUP(I1393,Referencias!$B$24:$C$41,2,FALSE())","v":"C.MAD"},{"$f":"VLOOKUP(C1393,Referencias!$C$4:$E$21,3,FALSE())","v":3},"Competición","Madrileña"]
["2812236","Muguerza Balesta, Marcela","2P","D",{"$f":"VLOOKUP(C1394,Referencias!$C$4:$D$21,2,FALSE())","v":"Segunda Picas"},{"$f":"VLOOKUP(I1394,Referencias!$B$24:$C$41,2,FALSE())","v":"C.MAD"},{"$f":"VLOOKUP(C1394,Referencias!$C$4:$E$21,3,FALSE())","v":2},"Competición","Madrileña"]
["2812238","López-Chicheri Sáinz, Dolores","3D","D",{"$f":"VLOOKUP(C1395,Referencias!$C$4:$D$21,2,FALSE())","v":"Tercera Diamante"},{"$f":"VLOOKUP(I1395,Referencias!$B$24:$C$41,2,FALSE())","v":"C.MAD"},{"$f":"VLOOKUP(C1395,Referencias!$C$4:$E$21,3,FALSE())","v":3},"Competición","Madrileña"]
["2812247","Galvache Corcuera, Concepción","2C","D",{"$f":"VLOOKUP(C1396,Referencias!$C$4:$D$21,2,FALSE())","v":"Segunda Corazón"},{"$f":"VLOOKUP(I1396,Referencias!$B$24:$C$41,2,FALSE())","v":"C.MAD"},{"$f":"VLOOKUP(C1396,Referencias!$C$4:$E$21,3,FALSE())","v":2},"Competición","Madrileña"]
["2812252","Gallego Salguero, Petra","3D","D",{"$f":"VLOOKUP(C1397,Referencias!$C$4:$D$21,2,FALSE())","v":"Tercera Diamante"},{"$f":"VLOOKUP(I1397,Referencias!$B$24:$C$41,2,FALSE())","v":"C.MAD"},{"$f":"VLOOKUP(C1397,Referencias!$C$4:$E$21,3,FALSE())","v":3},"Competición","Madrileña"]
["2812255","González Serrano, Primitivo","1D","C",{"$f":"VLOOKUP(C1398,Referencias!$C$4:$D$21,2,FALSE())","v":"Primera Diamante"},{"$f":"VLOOKUP(I1398,Referencias!$B$24:$C$41,2,FALSE())","v":"C.MAD"},{"$f":"VLOOKUP(C1398,Referencias!$C$4:$E$21,3,FALSE())","v":1},"Competición","Madrileña"]
["2812256","Varanda Muñoz, Alicia","3P","D",{"$f":"VLOOKUP(C1399,Referencias!$C$4:$D$21,2,FALSE())","v":"Tercera Picas"},{"$f":"VLOOKUP(I1399,Referencias!$B$24:$C$41,2,FALSE())","v":"C.MAD"},{"$f":"VLOOKUP(C1399,Referencias!$C$4:$E$21,3,FALSE())","v":3},"Competición","Madrileña"]
["2812258","Gálvez Ruíz, Ascensión","1C","D",{"$f":"VLOOKUP(C1400,Referencias!$C$4:$D$21,2,FALSE())","v":"Primera Corazón"},{"$f":"VLOOKUP(I1400,Referencias!$B$24:$C$41,2,FALSE())","v":"C.MAD"},{"$f":"VLOOKUP(C1400,Referencias!$C$4:$E$21,3,FALSE())","v":1},"Competición","Madrileña"]
["2812261","Dietl Sagües, Marina","3C","D",{"$f":"VLOOKUP(C1401,Referencias!$C$4:$D$21,2,FALSE())","v":"Tercera Corazón"},{"$f":"VLOOKUP(I1401,Referencias!$B$24:$C$41,2,FALSE())","v":"C.MAD"},{"$f":"VLOOKUP(C1401,Referencias!$C$4:$E$21,3,FALSE())","v":3},"Competición","Madrileña"]
["2812262","Ferrández , Blanca","3P","D",{"$f":"VLOOKUP(C1402,Referencias!$C$4:$D$21,2,FALSE())","v":"Tercera Picas"},{"$f":"VLOOKUP(I1402,Referencias!$B$24:$C$41,2,FALSE())","v":"C.MAD"},{"$f":"VLOOKUP(C1402,Referencias!$C$4:$E$21,3,FALSE())","v":3},"Competición","Madrileña"]
["2812272","Lamo de Espinosa, María Luisa","1D","D",{"$f":"VLOOKUP(C1403,Referencias!$C$4:$D$21,2,FALSE())","v":"Primera Diamante"},{"$f":"VLOOKUP(I1403,Referencias!$B$24:$C$41,2,FALSE())","v":"C.MAD"},{"$f":"VLOOKUP(C1403,Referencias!$C$4:$E$21,3,FALSE())","v":1},"Competición","Madrileña"]
["2812273","González Cruz, María Teresa","2D","D",{"$f":"VLOOKUP(C1404,Referencias!$C$4:$D$21,2,FALSE())","v":"Segunda Diamante"},{"$f":"VLOOKUP(I1404,Referencias!$B$24:$C$41,2,FALSE())","v":"C.MAD"},{"$f":"VLOOKUP(C1404,Referencias!$C$4:$E$21,3,FALSE())","v":2},"Competición","Madrileña"]
["2812277","Herrero García, Francisco Javier","2D","C",{"$f":"VLOOKUP(C1405,Referencias!$C$4:$D$21,2,FALSE())","v":"Segunda Diamante"},{"$f":"VLOOKUP(I1405,Referencias!$B$24:$C$41,2,FALSE())","v":"C.MAD"},{"$f":"VLOOKUP(C1405,Referencias!$C$4:$E$21,3,FALSE())","v":2},"Competición","Madrileña"]
["2812282","Sánchez Sicilia, María Carmen","3D","D",{"$f":"VLOOKUP(C1406,Referencias!$C$4:$D$21,2,FALSE())","v":"Tercera Diamante"},{"$f":"VLOOKUP(I1406,Referencias!$B$24:$C$41,2,FALSE())","v":"C.MAD"},{"$f":"VLOOKUP(C1406,Referencias!$C$4:$E$21,3,FALSE())","v":3},"Competición","Madrileña"]
["2812286","Navarro Suárez, María José","3D","D",{"$f":"VLOOKUP(C1407,Referencias!$C$4:$D$21,2,FALSE())","v":"Tercera Diamante"},{"$f":"VLOOKUP(I1407,Referencias!$B$24:$C$41,2,FALSE())","v":"C.MAD"},{"$f":"VLOOKUP(C1407,Referencias!$C$4:$E$21,3,FALSE())","v":3},"Competición","Madrileña"]
["2812288","Mergelina Dessy, Eduarda","3D","D",{"$f":"VLOOKUP(C1408,Referencias!$C$4:$D$21,2,FALSE())","v":"Tercera Diamante"},{"$f":"VLOOKUP(I1408,Referencias!$B$24:$C$41,2,FALSE())","v":"C.MAD"},{"$f":"VLOOKUP(C1408,Referencias!$C$4:$E$21,3,FALSE())","v":3},"Competición","Madrileña"]
["2812289","Martos Aguirre, Angustias","3D","D",{"$f":"VLOOKUP(C1409,Referencias!$C$4:$D$21,2,FALSE())","v":"Tercera Diamante"},{"$f":"VLOOKUP(I1409,Referencias!$B$24:$C$41,2,FALSE())","v":"C.MAD"},{"$f":"VLOOKUP(C1409,Referencias!$C$4:$E$21,3,FALSE())","v":3},"Competición","Madrileña"]
["2812294","Munaiz Aparicio, Mercedes","1D","D",{"$f":"VLOOKUP(C1410,Referencias!$C$4:$D$21,2,FALSE())","v":"Primera Diamante"},{"$f":"VLOOKUP(I1410,Referencias!$B$24:$C$41,2,FALSE())","v":"C.MAD"},{"$f":"VLOOKUP(C1410,Referencias!$C$4:$E$21,3,FALSE())","v":1},"Competición","Madrileña"]
["2812295","Saldaña González, Carlos","3P","C",{"$f":"VLOOKUP(C1411,Referencias!$C$4:$D$21,2,FALSE())","v":"Tercera Picas"},{"$f":"VLOOKUP(I1411,Referencias!$B$24:$C$41,2,FALSE())","v":"C.MAD"},{"$f":"VLOOKUP(C1411,Referencias!$C$4:$E$21,3,FALSE())","v":3},"Competición","Madrileña"]
["2812298","Morenes Solís-Beaumont, Mercedes","1P","D",{"$f":"VLOOKUP(C1412,Referencias!$C$4:$D$21,2,FALSE())","v":"Primera Picas"},{"$f":"VLOOKUP(I1412,Referencias!$B$24:$C$41,2,FALSE())","v":"C.MAD"},{"$f":"VLOOKUP(C1412,Referencias!$C$4:$E$21,3,FALSE())","v":1},"Competición","Madrileña"]
["2812299","Martín Cano, Juan","1P","C",{"$f":"VLOOKUP(C1413,Referencias!$C$4:$D$21,2,FALSE())","v":"Primera Picas"},{"$f":"VLOOKUP(I1413,Referencias!$B$24:$C$41,2,FALSE())","v":"C.MAD"},{"$f":"VLOOKUP(C1413,Referencias!$C$4:$E$21,3,FALSE())","v":1},"Competición","Madrileña"]
["2812300","Navarro Rodríguez, Patricia","1P","D",{"$f":"VLOOKUP(C1414,Referencias!$C$4:$D$21,2,FALSE())","v":"Primera Picas"},{"$f":"VLOOKUP(I1414,Referencias!$B$24:$C$41,2,FALSE())","v":"C.MAD"},{"$f":"VLOOKUP(C1414,Referencias!$C$4:$E$21,3,FALSE())","v":1},"Competición","Madrileña"]
["2812303","Cotoner Martos, Marta","1C","D",{"$f":"VLOOKUP(C1415,Referencias!$C$4:$D$21,2,FALSE())","v":"Primera Corazón"},{"$f":"VLOOKUP(I1415,Referencias!$B$24:$C$41,2,FALSE())","v":"C.MAD"},{"$f":"VLOOKUP(C1415,Referencias!$C$4:$E$21,3,FALSE())","v":1},"Competición","Madrileña"]
["2812309","Navia-Osorio , Javier","3D","C",{"$f":"VLOOKUP(C1416,Referencias!$C$4:$D$21,2,FALSE())","v":"Tercera Diamante"},{"$f":"VLOOKUP(I1416,Referencias!$B$24:$C$41,2,FALSE())","v":"C.MAD"},{"$f":"VLOOKUP(C1416,Referencias!$C$4:$E$21,3,FALSE())","v":3},"Competición","Madrileña"]
["2812314","Macaya Torres-Solanot, Carmen","3D","D",{"$f":"VLOOKUP(C1417,Referencias!$C$4:$D$21,2,FALSE())","v":"Tercera Diamante"},{"$f":"VLOOKUP(I1417,Referencias!$B$24:$C$41,2,FALSE())","v":"C.MAD"},{"$f":"VLOOKUP(C1417,Referencias!$C$4:$E$21,3,FALSE())","v":3},"Competición","Madrileña"]
["2812320","Cotoner Martos, María","3D","D",{"$f":"VLOOKUP(C1418,Referencias!$C$4:$D$21,2,FALSE())","v":"Tercera Diamante"},{"$f":"VLOOKUP(I1418,Referencias!$B$24:$C$41,2,FALSE())","v":"C.MAD"},{"$f":"VLOOKUP(C1418,Referencias!$C$4:$E$21,3,FALSE())","v":3},"Competición","Madrileña"]
["2812321","Botín Gros, Mercedes","3D","D",{"$f":"VLOOKUP(C1419,Referencias!$C$4:$D$21,2,FALSE())","v":"Tercera Diamante"},{"$f":"VLOOKUP(I1419,Referencias!$B$24:$C$41,2,FALSE())","v":"C.MAD"},{"$f":"VLOOKUP(C1419,Referencias!$C$4:$E$21,3,FALSE())","v":3},"Competición","Madrileña"]
["2812326","Bayo , María Dolores","2C","D",{"$f":"VLOOKUP(C1420,Referencias!$C$4:$D$21,2,FALSE())","v":"Segunda Corazón"},{"$f":"VLOOKUP(I1420,Referencias!$B$24:$C$41,2,FALSE())","v":"C.MAD"},{"$f":"VLOOKUP(C1420,Referencias!$C$4:$E$21,3,FALSE())","v":2},"Competición","Madrileña"]
["2812332","Lleó García, Josefina","3P","D",{"$f":"VLOOKUP(C1421,Referencias!$C$4:$D$21,2,FALSE())","v":"Tercera Picas"},{"$f":"VLOOKUP(I1421,Referencias!$B$24:$C$41,2,FALSE())","v":"C.MAD"},{"$f":"VLOOKUP(C1421,Referencias!$C$4:$E$21,3,FALSE())","v":3},"Competición","Madrileña"]
["2812335","López Goicoechea, Lourdes","2P","D",{"$f":"VLOOKUP(C1422,Referencias!$C$4:$D$21,2,FALSE())","v":"Segunda Picas"},{"$f":"VLOOKUP(I1422,Referencias!$B$24:$C$41,2,FALSE())","v":"C.MAD"},{"$f":"VLOOKUP(C1422,Referencias!$C$4:$E$21,3,FALSE())","v":2},"Competición","Madrileña"]
["2812339","Masaveu Álvarez, Santiago","2P","C",{"$f":"VLOOKUP(C1423,Referencias!$C$4:$D$21,2,FALSE())","v":"Segunda Picas"},{"$f":"VLOOKUP(I1423,Referencias!$B$24:$C$41,2,FALSE())","v":"C.MAD"},{"$f":"VLOOKUP(C1423,Referencias!$C$4:$E$21,3,FALSE())","v":2},"Competición","Madrileña"]
["2812344","Garay Despujol, Pilar","3C","D",{"$f":"VLOOKUP(C1424,Referencias!$C$4:$D$21,2,FALSE())","v":"Tercera Corazón"},{"$f":"VLOOKUP(I1424,Referencias!$B$24:$C$41,2,FALSE())","v":"C.MAD"},{"$f":"VLOOKUP(C1424,Referencias!$C$4:$E$21,3,FALSE())","v":3},"Competición","Madrileña"]
["2812355","de Torre Milanos, Marquesa","1P","D",{"$f":"VLOOKUP(C1425,Referencias!$C$4:$D$21,2,FALSE())","v":"Primera Picas"},{"$f":"VLOOKUP(I1425,Referencias!$B$24:$C$41,2,FALSE())","v":"C.MAD"},{"$f":"VLOOKUP(C1425,Referencias!$C$4:$E$21,3,FALSE())","v":1},"Competición","Madrileña"]
["2812360","García Sánchez Grande, Rosario","2C","D",{"$f":"VLOOKUP(C1426,Referencias!$C$4:$D$21,2,FALSE())","v":"Segunda Corazón"},{"$f":"VLOOKUP(I1426,Referencias!$B$24:$C$41,2,FALSE())","v":"C.MAD"},{"$f":"VLOOKUP(C1426,Referencias!$C$4:$E$21,3,FALSE())","v":2},"Competición","Madrileña"]
["2812363","de la Chica Fleischer, Isabel","3D","D",{"$f":"VLOOKUP(C1427,Referencias!$C$4:$D$21,2,FALSE())","v":"Tercera Diamante"},{"$f":"VLOOKUP(I1427,Referencias!$B$24:$C$41,2,FALSE())","v":"C.MAD"},{"$f":"VLOOKUP(C1427,Referencias!$C$4:$E$21,3,FALSE())","v":3},"Competición","Madrileña"]
["2812366","Toro Arévalo, Gisela","3C","D",{"$f":"VLOOKUP(C1428,Referencias!$C$4:$D$21,2,FALSE())","v":"Tercera Corazón"},{"$f":"VLOOKUP(I1428,Referencias!$B$24:$C$41,2,FALSE())","v":"C.MAD"},{"$f":"VLOOKUP(C1428,Referencias!$C$4:$E$21,3,FALSE())","v":3},"Competición","Madrileña"]
["2812367","Bueso-Inchausti Inchausti, Alejandro","1P","C",{"$f":"VLOOKUP(C1429,Referencias!$C$4:$D$21,2,FALSE())","v":"Primera Picas"},{"$f":"VLOOKUP(I1429,Referencias!$B$24:$C$41,2,FALSE())","v":"C.MAD"},{"$f":"VLOOKUP(C1429,Referencias!$C$4:$E$21,3,FALSE())","v":1},"Competición","Madrileña"]
["2812378","Arranz , Jacqueline","3C","D",{"$f":"VLOOKUP(C1430,Referencias!$C$4:$D$21,2,FALSE())","v":"Tercera Corazón"},{"$f":"VLOOKUP(I1430,Referencias!$B$24:$C$41,2,FALSE())","v":"C.MAD"},{"$f":"VLOOKUP(C1430,Referencias!$C$4:$E$21,3,FALSE())","v":3},"Competición","Madrileña"]
["2812379","de Lorenzo, Paula","MN-D","D",{"$f":"VLOOKUP(C1431,Referencias!$C$4:$D$21,2,FALSE())","v":"Maestro Nacional Damas"},{"$f":"VLOOKUP(I1431,Referencias!$B$24:$C$41,2,FALSE())","v":"C.MAD"},{"$f":"VLOOKUP(C1431,Referencias!$C$4:$E$21,3,FALSE())","v":0},"Competición","Madrileña"]
["2812383","Gento Peña, Marta","1C","D",{"$f":"VLOOKUP(C1432,Referencias!$C$4:$D$21,2,FALSE())","v":"Primera Corazón"},{"$f":"VLOOKUP(I1432,Referencias!$B$24:$C$41,2,FALSE())","v":"C.MAD"},{"$f":"VLOOKUP(C1432,Referencias!$C$4:$E$21,3,FALSE())","v":1},"Competición","Madrileña"]
["2812384","Beneyto Arias, José Jaime","1P","C",{"$f":"VLOOKUP(C1433,Referencias!$C$4:$D$21,2,FALSE())","v":"Primera Picas"},{"$f":"VLOOKUP(I1433,Referencias!$B$24:$C$41,2,FALSE())","v":"C.MAD"},{"$f":"VLOOKUP(C1433,Referencias!$C$4:$E$21,3,FALSE())","v":1},"Competición","Madrileña"]
["2812397","Romero González, María Luisa","2C","D",{"$f":"VLOOKUP(C1434,Referencias!$C$4:$D$21,2,FALSE())","v":"Segunda Corazón"},{"$f":"VLOOKUP(I1434,Referencias!$B$24:$C$41,2,FALSE())","v":"C.MAD"},{"$f":"VLOOKUP(C1434,Referencias!$C$4:$E$21,3,FALSE())","v":2},"Competición","Madrileña"]
["2812398","Hortal López, Victoria","3D","D",{"$f":"VLOOKUP(C1435,Referencias!$C$4:$D$21,2,FALSE())","v":"Tercera Diamante"},{"$f":"VLOOKUP(I1435,Referencias!$B$24:$C$41,2,FALSE())","v":"C.MAD"},{"$f":"VLOOKUP(C1435,Referencias!$C$4:$E$21,3,FALSE())","v":3},"Competición","Madrileña"]
["2812399","Mahave Albar, Angel","3D","C",{"$f":"VLOOKUP(C1436,Referencias!$C$4:$D$21,2,FALSE())","v":"Tercera Diamante"},{"$f":"VLOOKUP(I1436,Referencias!$B$24:$C$41,2,FALSE())","v":"C.MAD"},{"$f":"VLOOKUP(C1436,Referencias!$C$4:$E$21,3,FALSE())","v":3},"Competición","Madrileña"]
["2812407","Falk, Larserik","2D","C",{"$f":"VLOOKUP(C1437,Referencias!$C$4:$D$21,2,FALSE())","v":"Segunda Diamante"},{"$f":"VLOOKUP(I1437,Referencias!$B$24:$C$41,2,FALSE())","v":"C.MAD"},{"$f":"VLOOKUP(C1437,Referencias!$C$4:$E$21,3,FALSE())","v":2},"Competición","Madrileña"]
["2812408","Cajal López, Mercedes","3P","D",{"$f":"VLOOKUP(C1438,Referencias!$C$4:$D$21,2,FALSE())","v":"Tercera Picas"},{"$f":"VLOOKUP(I1438,Referencias!$B$24:$C$41,2,FALSE())","v":"C.MAD"},{"$f":"VLOOKUP(C1438,Referencias!$C$4:$E$21,3,FALSE())","v":3},"Competición","Madrileña"]
["2812409","Regalado Jofre, Cristina","3D","D",{"$f":"VLOOKUP(C1439,Referencias!$C$4:$D$21,2,FALSE())","v":"Tercera Diamante"},{"$f":"VLOOKUP(I1439,Referencias!$B$24:$C$41,2,FALSE())","v":"C.MAD"},{"$f":"VLOOKUP(C1439,Referencias!$C$4:$E$21,3,FALSE())","v":3},"Competición","Madrileña"]
["2812410","Albaladejo Carrión, Josefina","3P","D",{"$f":"VLOOKUP(C1440,Referencias!$C$4:$D$21,2,FALSE())","v":"Tercera Picas"},{"$f":"VLOOKUP(I1440,Referencias!$B$24:$C$41,2,FALSE())","v":"C.MAD"},{"$f":"VLOOKUP(C1440,Referencias!$C$4:$E$21,3,FALSE())","v":3},"Competición","Madrileña"]
["2812411","Echeverría, José Ignacio","3P","C",{"$f":"VLOOKUP(C1441,Referencias!$C$4:$D$21,2,FALSE())","v":"Tercera Picas"},{"$f":"VLOOKUP(I1441,Referencias!$B$24:$C$41,2,FALSE())","v":"C.MAD"},{"$f":"VLOOKUP(C1441,Referencias!$C$4:$E$21,3,FALSE())","v":3},"Competición","Madrileña"]
["2812421","de Silva Villalón, Luis","2D","C",{"$f":"VLOOKUP(C1442,Referencias!$C$4:$D$21,2,FALSE())","v":"Segunda Diamante"},{"$f":"VLOOKUP(I1442,Referencias!$B$24:$C$41,2,FALSE())","v":"C.MAD"},{"$f":"VLOOKUP(C1442,Referencias!$C$4:$E$21,3,FALSE())","v":2},"Competición","Madrileña"]
["2812422","Cubillo Jordán, Jacobo","3D","C",{"$f":"VLOOKUP(C1443,Referencias!$C$4:$D$21,2,FALSE())","v":"Tercera Diamante"},{"$f":"VLOOKUP(I1443,Referencias!$B$24:$C$41,2,FALSE())","v":"C.MAD"},{"$f":"VLOOKUP(C1443,Referencias!$C$4:$E$21,3,FALSE())","v":3},"Competición","Madrileña"]
["2812423","Zulueta Velázquez-Duro, Itzíar","2C","D",{"$f":"VLOOKUP(C1444,Referencias!$C$4:$D$21,2,FALSE())","v":"Segunda Corazón"},{"$f":"VLOOKUP(I1444,Referencias!$B$24:$C$41,2,FALSE())","v":"C.MAD"},{"$f":"VLOOKUP(C1444,Referencias!$C$4:$E$21,3,FALSE())","v":2},"Competición","Madrileña"]
["2812429","Blanco Díez, Juan","1P","C",{"$f":"VLOOKUP(C1445,Referencias!$C$4:$D$21,2,FALSE())","v":"Primera Picas"},{"$f":"VLOOKUP(I1445,Referencias!$B$24:$C$41,2,FALSE())","v":"C.MAD"},{"$f":"VLOOKUP(C1445,Referencias!$C$4:$E$21,3,FALSE())","v":1},"Competición","Madrileña"]
["2812431","Gutiérrez Arroba, Elena","2D","D",{"$f":"VLOOKUP(C1446,Referencias!$C$4:$D$21,2,FALSE())","v":"Segunda Diamante"},{"$f":"VLOOKUP(I1446,Referencias!$B$24:$C$41,2,FALSE())","v":"C.MAD"},{"$f":"VLOOKUP(C1446,Referencias!$C$4:$E$21,3,FALSE())","v":2},"Competición","Madrileña"]
["2812448","Cantero Buitrón, José María","2D","C",{"$f":"VLOOKUP(C1447,Referencias!$C$4:$D$21,2,FALSE())","v":"Segunda Diamante"},{"$f":"VLOOKUP(I1447,Referencias!$B$24:$C$41,2,FALSE())","v":"C.MAD"},{"$f":"VLOOKUP(C1447,Referencias!$C$4:$E$21,3,FALSE())","v":2},"Competición","Madrileña"]
["2812449","Montes-Jovellar Cuesta, María Alcira","3P","D",{"$f":"VLOOKUP(C1448,Referencias!$C$4:$D$21,2,FALSE())","v":"Tercera Picas"},{"$f":"VLOOKUP(I1448,Referencias!$B$24:$C$41,2,FALSE())","v":"C.MAD"},{"$f":"VLOOKUP(C1448,Referencias!$C$4:$E$21,3,FALSE())","v":3},"Competición","Madrileña"]
["2812454","Lamana Torres, Manuel María","3D","C",{"$f":"VLOOKUP(C1449,Referencias!$C$4:$D$21,2,FALSE())","v":"Tercera Diamante"},{"$f":"VLOOKUP(I1449,Referencias!$B$24:$C$41,2,FALSE())","v":"C.MAD"},{"$f":"VLOOKUP(C1449,Referencias!$C$4:$E$21,3,FALSE())","v":3},"Honorífica","Madrileña"]
["2812466","Gutiérrez-Mellado Blasco, Ana","3D","D",{"$f":"VLOOKUP(C1450,Referencias!$C$4:$D$21,2,FALSE())","v":"Tercera Diamante"},{"$f":"VLOOKUP(I1450,Referencias!$B$24:$C$41,2,FALSE())","v":"C.MAD"},{"$f":"VLOOKUP(C1450,Referencias!$C$4:$E$21,3,FALSE())","v":3},"Competición","Madrileña"]
["2812467","Galán Sánchez, Aurora","3C","D",{"$f":"VLOOKUP(C1451,Referencias!$C$4:$D$21,2,FALSE())","v":"Tercera Corazón"},{"$f":"VLOOKUP(I1451,Referencias!$B$24:$C$41,2,FALSE())","v":"C.MAD"},{"$f":"VLOOKUP(C1451,Referencias!$C$4:$E$21,3,FALSE())","v":3},"Competición","Madrileña"]
["2812474","Esquivias Férriz, Amparo","3D","D",{"$f":"VLOOKUP(C1452,Referencias!$C$4:$D$21,2,FALSE())","v":"Tercera Diamante"},{"$f":"VLOOKUP(I1452,Referencias!$B$24:$C$41,2,FALSE())","v":"C.MAD"},{"$f":"VLOOKUP(C1452,Referencias!$C$4:$E$21,3,FALSE())","v":3},"Competición","Madrileña"]
["2812475","Pardo de Santayana Bustillo, Alfredo","3D","C",{"$f":"VLOOKUP(C1453,Referencias!$C$4:$D$21,2,FALSE())","v":"Tercera Diamante"},{"$f":"VLOOKUP(I1453,Referencias!$B$24:$C$41,2,FALSE())","v":"C.MAD"},{"$f":"VLOOKUP(C1453,Referencias!$C$4:$E$21,3,FALSE())","v":3},"Competición","Madrileña"]
["2812476","Kindelán Segura, Isabel","3P","D",{"$f":"VLOOKUP(C1454,Referencias!$C$4:$D$21,2,FALSE())","v":"Tercera Picas"},{"$f":"VLOOKUP(I1454,Referencias!$B$24:$C$41,2,FALSE())","v":"C.MAD"},{"$f":"VLOOKUP(C1454,Referencias!$C$4:$E$21,3,FALSE())","v":3},"Competición","Madrileña"]
["2812477","Fernández-Balbuena Azqueta, Rosa María","3P","D",{"$f":"VLOOKUP(C1455,Referencias!$C$4:$D$21,2,FALSE())","v":"Tercera Picas"},{"$f":"VLOOKUP(I1455,Referencias!$B$24:$C$41,2,FALSE())","v":"C.MAD"},{"$f":"VLOOKUP(C1455,Referencias!$C$4:$E$21,3,FALSE())","v":3},"Competición","Madrileña"]
["2812478","Eizaguirre Orbe, Luisa María","3D","D",{"$f":"VLOOKUP(C1456,Referencias!$C$4:$D$21,2,FALSE())","v":"Tercera Diamante"},{"$f":"VLOOKUP(I1456,Referencias!$B$24:$C$41,2,FALSE())","v":"C.MAD"},{"$f":"VLOOKUP(C1456,Referencias!$C$4:$E$21,3,FALSE())","v":3},"Competición","Madrileña"]
["2812479","Uriarte Monereo, Cruz","3D","D",{"$f":"VLOOKUP(C1457,Referencias!$C$4:$D$21,2,FALSE())","v":"Tercera Diamante"},{"$f":"VLOOKUP(I1457,Referencias!$B$24:$C$41,2,FALSE())","v":"C.MAD"},{"$f":"VLOOKUP(C1457,Referencias!$C$4:$E$21,3,FALSE())","v":3},"Competición","Madrileña"]
["2812480","Colsa Suárez de Tangil, Ignacio","1D","C",{"$f":"VLOOKUP(C1458,Referencias!$C$4:$D$21,2,FALSE())","v":"Primera Diamante"},{"$f":"VLOOKUP(I1458,Referencias!$B$24:$C$41,2,FALSE())","v":"C.MAD"},{"$f":"VLOOKUP(C1458,Referencias!$C$4:$E$21,3,FALSE())","v":1},"Competición","Madrileña"]
["2812481","Regalado Jofre, Marichu","2C","D",{"$f":"VLOOKUP(C1459,Referencias!$C$4:$D$21,2,FALSE())","v":"Segunda Corazón"},{"$f":"VLOOKUP(I1459,Referencias!$B$24:$C$41,2,FALSE())","v":"C.MAD"},{"$f":"VLOOKUP(C1459,Referencias!$C$4:$E$21,3,FALSE())","v":2},"Competición","Madrileña"]
["2812482","Mesa Jiménez, Silvia","3D","D",{"$f":"VLOOKUP(C1460,Referencias!$C$4:$D$21,2,FALSE())","v":"Tercera Diamante"},{"$f":"VLOOKUP(I1460,Referencias!$B$24:$C$41,2,FALSE())","v":"C.MAD"},{"$f":"VLOOKUP(C1460,Referencias!$C$4:$E$21,3,FALSE())","v":3},"Competición","Madrileña"]
["2812485","González Condie, Aurora","3D","D",{"$f":"VLOOKUP(C1461,Referencias!$C$4:$D$21,2,FALSE())","v":"Tercera Diamante"},{"$f":"VLOOKUP(I1461,Referencias!$B$24:$C$41,2,FALSE())","v":"C.MAD"},{"$f":"VLOOKUP(C1461,Referencias!$C$4:$E$21,3,FALSE())","v":3},"Competición","Madrileña"]
["2812495","Valdés , Natalia","3D","D",{"$f":"VLOOKUP(C1462,Referencias!$C$4:$D$21,2,FALSE())","v":"Tercera Diamante"},{"$f":"VLOOKUP(I1462,Referencias!$B$24:$C$41,2,FALSE())","v":"C.MAD"},{"$f":"VLOOKUP(C1462,Referencias!$C$4:$E$21,3,FALSE())","v":3},"Honorífica","Madrileña"]
["2812497","Romaguera Cuevas, Nuria","MN-D","D",{"$f":"VLOOKUP(C1463,Referencias!$C$4:$D$21,2,FALSE())","v":"Maestro Nacional Damas"},{"$f":"VLOOKUP(I1463,Referencias!$B$24:$C$41,2,FALSE())","v":"C.MAD"},{"$f":"VLOOKUP(C1463,Referencias!$C$4:$E$21,3,FALSE())","v":0},"Competición","Madrileña"]
["2812501","Ludeman , Gertrud","3D","D",{"$f":"VLOOKUP(C1464,Referencias!$C$4:$D$21,2,FALSE())","v":"Tercera Diamante"},{"$f":"VLOOKUP(I1464,Referencias!$B$24:$C$41,2,FALSE())","v":"C.MAD"},{"$f":"VLOOKUP(C1464,Referencias!$C$4:$E$21,3,FALSE())","v":3},"Competición","Madrileña"]
["2812508","Pardo Manuel de Villena Berthelemy, Ignacia","3D","D",{"$f":"VLOOKUP(C1465,Referencias!$C$4:$D$21,2,FALSE())","v":"Tercera Diamante"},{"$f":"VLOOKUP(I1465,Referencias!$B$24:$C$41,2,FALSE())","v":"C.MAD"},{"$f":"VLOOKUP(C1465,Referencias!$C$4:$E$21,3,FALSE())","v":3},"Competición","Madrileña"]
["2812510","Sabaté Iglesias, Jordi","MM-O","C",{"$f":"VLOOKUP(C1466,Referencias!$C$4:$D$21,2,FALSE())","v":"Maestro Mundial Open"},{"$f":"VLOOKUP(I1466,Referencias!$B$24:$C$41,2,FALSE())","v":"C.MAD"},{"$f":"VLOOKUP(C1466,Referencias!$C$4:$E$21,3,FALSE())","v":0},"Competición","Madrileña"]
["2812516","Moreno Mendoza, Macarena","3D","D",{"$f":"VLOOKUP(C1467,Referencias!$C$4:$D$21,2,FALSE())","v":"Tercera Diamante"},{"$f":"VLOOKUP(I1467,Referencias!$B$24:$C$41,2,FALSE())","v":"C.MAD"},{"$f":"VLOOKUP(C1467,Referencias!$C$4:$E$21,3,FALSE())","v":3},"Competición","Madrileña"]
["2812518","Cabrera Lorente, Marta","3C","D",{"$f":"VLOOKUP(C1468,Referencias!$C$4:$D$21,2,FALSE())","v":"Tercera Corazón"},{"$f":"VLOOKUP(I1468,Referencias!$B$24:$C$41,2,FALSE())","v":"C.MAD"},{"$f":"VLOOKUP(C1468,Referencias!$C$4:$E$21,3,FALSE())","v":3},"Competición","Madrileña"]
["2812524","García del Valle, Amparo","2D","D",{"$f":"VLOOKUP(C1469,Referencias!$C$4:$D$21,2,FALSE())","v":"Segunda Diamante"},{"$f":"VLOOKUP(I1469,Referencias!$B$24:$C$41,2,FALSE())","v":"C.MAD"},{"$f":"VLOOKUP(C1469,Referencias!$C$4:$E$21,3,FALSE())","v":2},"Competición","Madrileña"]
["2812526","Martínez Úbeda, Ignacio","2P","C",{"$f":"VLOOKUP(C1470,Referencias!$C$4:$D$21,2,FALSE())","v":"Segunda Picas"},{"$f":"VLOOKUP(I1470,Referencias!$B$24:$C$41,2,FALSE())","v":"C.MAD"},{"$f":"VLOOKUP(C1470,Referencias!$C$4:$E$21,3,FALSE())","v":2},"Competición","Madrileña"]
["2812530","Laborde Muñoz, Piedad","3D","D",{"$f":"VLOOKUP(C1471,Referencias!$C$4:$D$21,2,FALSE())","v":"Tercera Diamante"},{"$f":"VLOOKUP(I1471,Referencias!$B$24:$C$41,2,FALSE())","v":"C.MAD"},{"$f":"VLOOKUP(C1471,Referencias!$C$4:$E$21,3,FALSE())","v":3},"Competición","Madrileña"]
["2812533","de L'Epine Jacquin de Margerie, Evelyne","2P","D",{"$f":"VLOOKUP(C1472,Referencias!$C$4:$D$21,2,FALSE())","v":"Segunda Picas"},{"$f":"VLOOKUP(I1472,Referencias!$B$24:$C$41,2,FALSE())","v":"C.MAD"},{"$f":"VLOOKUP(C1472,Referencias!$C$4:$E$21,3,FALSE())","v":2},"Competición","Madrileña"]
["2812534","Mendizábal González, Angela","3D","D",{"$f":"VLOOKUP(C1473,Referencias!$C$4:$D$21,2,FALSE())","v":"Tercera Diamante"},{"$f":"VLOOKUP(I1473,Referencias!$B$24:$C$41,2,FALSE())","v":"C.MAD"},{"$f":"VLOOKUP(C1473,Referencias!$C$4:$E$21,3,FALSE())","v":3},"Competición","Madrileña"]
["2812535","Silvela Martínez-Cubells, Elena","3D","D",{"$f":"VLOOKUP(C1474,Referencias!$C$4:$D$21,2,FALSE())","v":"Tercera Diamante"},{"$f":"VLOOKUP(I1474,Referencias!$B$24:$C$41,2,FALSE())","v":"C.MAD"},{"$f":"VLOOKUP(C1474,Referencias!$C$4:$E$21,3,FALSE())","v":3},"Competición","Madrileña"]
["2812536","Soler López, Carlo José","3D","C",{"$f":"VLOOKUP(C1475,Referencias!$C$4:$D$21,2,FALSE())","v":"Tercera Diamante"},{"$f":"VLOOKUP(I1475,Referencias!$B$24:$C$41,2,FALSE())","v":"C.MAD"},{"$f":"VLOOKUP(C1475,Referencias!$C$4:$E$21,3,FALSE())","v":3},"Competición","Madrileña"]
["2812540","Gómez Montejo, Ignacio","2P","C",{"$f":"VLOOKUP(C1476,Referencias!$C$4:$D$21,2,FALSE())","v":"Segunda Picas"},{"$f":"VLOOKUP(I1476,Referencias!$B$24:$C$41,2,FALSE())","v":"C.MAD"},{"$f":"VLOOKUP(C1476,Referencias!$C$4:$E$21,3,FALSE())","v":2},"Competición","Madrileña"]
["2812549","Alonso Vega de Seoane, María Luisa","2D","D",{"$f":"VLOOKUP(C1477,Referencias!$C$4:$D$21,2,FALSE())","v":"Segunda Diamante"},{"$f":"VLOOKUP(I1477,Referencias!$B$24:$C$41,2,FALSE())","v":"C.MAD"},{"$f":"VLOOKUP(C1477,Referencias!$C$4:$E$21,3,FALSE())","v":2},"Competición","Madrileña"]
["2812553","Faget Montero, Margarita","3D","D",{"$f":"VLOOKUP(C1478,Referencias!$C$4:$D$21,2,FALSE())","v":"Tercera Diamante"},{"$f":"VLOOKUP(I1478,Referencias!$B$24:$C$41,2,FALSE())","v":"C.MAD"},{"$f":"VLOOKUP(C1478,Referencias!$C$4:$E$21,3,FALSE())","v":3},"Competición","Madrileña"]
["2812555","Guimard Tallour, Jean-Claude","3D","C",{"$f":"VLOOKUP(C1479,Referencias!$C$4:$D$21,2,FALSE())","v":"Tercera Diamante"},{"$f":"VLOOKUP(I1479,Referencias!$B$24:$C$41,2,FALSE())","v":"C.MAD"},{"$f":"VLOOKUP(C1479,Referencias!$C$4:$E$21,3,FALSE())","v":3},"Competición","Madrileña"]
["2812559","Balaca Roldán, María Dolores","3D","D",{"$f":"VLOOKUP(C1480,Referencias!$C$4:$D$21,2,FALSE())","v":"Tercera Diamante"},{"$f":"VLOOKUP(I1480,Referencias!$B$24:$C$41,2,FALSE())","v":"C.MAD"},{"$f":"VLOOKUP(C1480,Referencias!$C$4:$E$21,3,FALSE())","v":3},"Competición","Madrileña"]
["2812567","Bermúdez de Castro Rosillo, Nena","1P","D",{"$f":"VLOOKUP(C1481,Referencias!$C$4:$D$21,2,FALSE())","v":"Primera Picas"},{"$f":"VLOOKUP(I1481,Referencias!$B$24:$C$41,2,FALSE())","v":"C.MAD"},{"$f":"VLOOKUP(C1481,Referencias!$C$4:$E$21,3,FALSE())","v":1},"Competición","Madrileña"]
["2812571","Moral del Carro, Elena","2P","D",{"$f":"VLOOKUP(C1482,Referencias!$C$4:$D$21,2,FALSE())","v":"Segunda Picas"},{"$f":"VLOOKUP(I1482,Referencias!$B$24:$C$41,2,FALSE())","v":"C.MAD"},{"$f":"VLOOKUP(C1482,Referencias!$C$4:$E$21,3,FALSE())","v":2},"Competición","Madrileña"]
["2812573","Habchi, Anne Mette","3D","D",{"$f":"VLOOKUP(C1483,Referencias!$C$4:$D$21,2,FALSE())","v":"Tercera Diamante"},{"$f":"VLOOKUP(I1483,Referencias!$B$24:$C$41,2,FALSE())","v":"C.MAD"},{"$f":"VLOOKUP(C1483,Referencias!$C$4:$E$21,3,FALSE())","v":3},"Competición","Madrileña"]
["2812580","Quéhec Barthelemy, Jeannine","3D","D",{"$f":"VLOOKUP(C1484,Referencias!$C$4:$D$21,2,FALSE())","v":"Tercera Diamante"},{"$f":"VLOOKUP(I1484,Referencias!$B$24:$C$41,2,FALSE())","v":"C.MAD"},{"$f":"VLOOKUP(C1484,Referencias!$C$4:$E$21,3,FALSE())","v":3},"Honorífica","Madrileña"]
["2812583","Benito , Paloma","3D","D",{"$f":"VLOOKUP(C1485,Referencias!$C$4:$D$21,2,FALSE())","v":"Tercera Diamante"},{"$f":"VLOOKUP(I1485,Referencias!$B$24:$C$41,2,FALSE())","v":"C.MAD"},{"$f":"VLOOKUP(C1485,Referencias!$C$4:$E$21,3,FALSE())","v":3},"Competición","Madrileña"]
["2812584","Vassallo Moreno, Mercedes","3P","D",{"$f":"VLOOKUP(C1486,Referencias!$C$4:$D$21,2,FALSE())","v":"Tercera Picas"},{"$f":"VLOOKUP(I1486,Referencias!$B$24:$C$41,2,FALSE())","v":"C.MAD"},{"$f":"VLOOKUP(C1486,Referencias!$C$4:$E$21,3,FALSE())","v":3},"Competición","Madrileña"]
["2812585","Martínez Rodríguez, Inés","3P","D",{"$f":"VLOOKUP(C1487,Referencias!$C$4:$D$21,2,FALSE())","v":"Tercera Picas"},{"$f":"VLOOKUP(I1487,Referencias!$B$24:$C$41,2,FALSE())","v":"C.MAD"},{"$f":"VLOOKUP(C1487,Referencias!$C$4:$E$21,3,FALSE())","v":3},"Competición","Madrileña"]
["2812586","Kindelán Segura, Dolores","3C","D",{"$f":"VLOOKUP(C1488,Referencias!$C$4:$D$21,2,FALSE())","v":"Tercera Corazón"},{"$f":"VLOOKUP(I1488,Referencias!$B$24:$C$41,2,FALSE())","v":"C.MAD"},{"$f":"VLOOKUP(C1488,Referencias!$C$4:$E$21,3,FALSE())","v":3},"Competición","Madrileña"]
["2812588","Fernández Fole, María","3C","D",{"$f":"VLOOKUP(C1489,Referencias!$C$4:$D$21,2,FALSE())","v":"Tercera Corazón"},{"$f":"VLOOKUP(I1489,Referencias!$B$24:$C$41,2,FALSE())","v":"C.MAD"},{"$f":"VLOOKUP(C1489,Referencias!$C$4:$E$21,3,FALSE())","v":3},"Honorífica","Madrileña"]
["2812594","Juliá Díez de Rivera, Belén","3D","D",{"$f":"VLOOKUP(C1490,Referencias!$C$4:$D$21,2,FALSE())","v":"Tercera Diamante"},{"$f":"VLOOKUP(I1490,Referencias!$B$24:$C$41,2,FALSE())","v":"C.MAD"},{"$f":"VLOOKUP(C1490,Referencias!$C$4:$E$21,3,FALSE())","v":3},"Competición","Madrileña"]
["2812595","Goytre Crespo, Clementina","1C","D",{"$f":"VLOOKUP(C1491,Referencias!$C$4:$D$21,2,FALSE())","v":"Primera Corazón"},{"$f":"VLOOKUP(I1491,Referencias!$B$24:$C$41,2,FALSE())","v":"C.MAD"},{"$f":"VLOOKUP(C1491,Referencias!$C$4:$E$21,3,FALSE())","v":1},"Competición","Madrileña"]
["2812596","Menéndez Iñiguez, Mercedes","3D","D",{"$f":"VLOOKUP(C1492,Referencias!$C$4:$D$21,2,FALSE())","v":"Tercera Diamante"},{"$f":"VLOOKUP(I1492,Referencias!$B$24:$C$41,2,FALSE())","v":"C.MAD"},{"$f":"VLOOKUP(C1492,Referencias!$C$4:$E$21,3,FALSE())","v":3},"Competición","Madrileña"]
["2812602","Sánchez-Terán Sánchez-Arjona, Fernando","1C","C",{"$f":"VLOOKUP(C1493,Referencias!$C$4:$D$21,2,FALSE())","v":"Primera Corazón"},{"$f":"VLOOKUP(I1493,Referencias!$B$24:$C$41,2,FALSE())","v":"C.MAD"},{"$f":"VLOOKUP(C1493,Referencias!$C$4:$E$21,3,FALSE())","v":1},"Competición","Madrileña"]
["2812603","Treviño Rosales, Emilia","2P","D",{"$f":"VLOOKUP(C1494,Referencias!$C$4:$D$21,2,FALSE())","v":"Segunda Picas"},{"$f":"VLOOKUP(I1494,Referencias!$B$24:$C$41,2,FALSE())","v":"C.MAD"},{"$f":"VLOOKUP(C1494,Referencias!$C$4:$E$21,3,FALSE())","v":2},"Competición","Madrileña"]
["2812604","Moreno de la Santa Barajas, Soledad","3C","D",{"$f":"VLOOKUP(C1495,Referencias!$C$4:$D$21,2,FALSE())","v":"Tercera Corazón"},{"$f":"VLOOKUP(I1495,Referencias!$B$24:$C$41,2,FALSE())","v":"C.MAD"},{"$f":"VLOOKUP(C1495,Referencias!$C$4:$E$21,3,FALSE())","v":3},"Competición","Madrileña"]
["2812606","Martínez Fernández, Marta","2P","D",{"$f":"VLOOKUP(C1496,Referencias!$C$4:$D$21,2,FALSE())","v":"Segunda Picas"},{"$f":"VLOOKUP(I1496,Referencias!$B$24:$C$41,2,FALSE())","v":"C.MAD"},{"$f":"VLOOKUP(C1496,Referencias!$C$4:$E$21,3,FALSE())","v":2},"Competición","Madrileña"]
["2812610","Barros Barros, María José","3P","D",{"$f":"VLOOKUP(C1497,Referencias!$C$4:$D$21,2,FALSE())","v":"Tercera Picas"},{"$f":"VLOOKUP(I1497,Referencias!$B$24:$C$41,2,FALSE())","v":"C.MAD"},{"$f":"VLOOKUP(C1497,Referencias!$C$4:$E$21,3,FALSE())","v":3},"Competición","Madrileña"]
["2812612","López-Manterola González de Mendoza, Almudena","3P","D",{"$f":"VLOOKUP(C1498,Referencias!$C$4:$D$21,2,FALSE())","v":"Tercera Picas"},{"$f":"VLOOKUP(I1498,Referencias!$B$24:$C$41,2,FALSE())","v":"C.MAD"},{"$f":"VLOOKUP(C1498,Referencias!$C$4:$E$21,3,FALSE())","v":3},"Competición","Madrileña"]
["2812614","Cesianu Gheorghiu, Anca Elena","3P","D",{"$f":"VLOOKUP(C1499,Referencias!$C$4:$D$21,2,FALSE())","v":"Tercera Picas"},{"$f":"VLOOKUP(I1499,Referencias!$B$24:$C$41,2,FALSE())","v":"C.MAD"},{"$f":"VLOOKUP(C1499,Referencias!$C$4:$E$21,3,FALSE())","v":3},"Competición","Madrileña"]
["2812618","Baselga De la Vega, Ana","2D","D",{"$f":"VLOOKUP(C1500,Referencias!$C$4:$D$21,2,FALSE())","v":"Segunda Diamante"},{"$f":"VLOOKUP(I1500,Referencias!$B$24:$C$41,2,FALSE())","v":"C.MAD"},{"$f":"VLOOKUP(C1500,Referencias!$C$4:$E$21,3,FALSE())","v":2},"Competición","Madrileña"]
["2812620","Benavides Helbig, María Dolores","3D","D",{"$f":"VLOOKUP(C1501,Referencias!$C$4:$D$21,2,FALSE())","v":"Tercera Diamante"},{"$f":"VLOOKUP(I1501,Referencias!$B$24:$C$41,2,FALSE())","v":"C.MAD"},{"$f":"VLOOKUP(C1501,Referencias!$C$4:$E$21,3,FALSE())","v":3},"Competición","Madrileña"]
["2812625","Díaz de Bustamante Ulloa, Pilar","3D","D",{"$f":"VLOOKUP(C1502,Referencias!$C$4:$D$21,2,FALSE())","v":"Tercera Diamante"},{"$f":"VLOOKUP(I1502,Referencias!$B$24:$C$41,2,FALSE())","v":"C.MAD"},{"$f":"VLOOKUP(C1502,Referencias!$C$4:$E$21,3,FALSE())","v":3},"Competición","Madrileña"]
["2812628","Octavio de Toledo Eugui, Ysabel","3C","D",{"$f":"VLOOKUP(C1503,Referencias!$C$4:$D$21,2,FALSE())","v":"Tercera Corazón"},{"$f":"VLOOKUP(I1503,Referencias!$B$24:$C$41,2,FALSE())","v":"C.MAD"},{"$f":"VLOOKUP(C1503,Referencias!$C$4:$E$21,3,FALSE())","v":3},"Competición","Madrileña"]
["2812630","Leiceaga , Belén","3C","D",{"$f":"VLOOKUP(C1504,Referencias!$C$4:$D$21,2,FALSE())","v":"Tercera Corazón"},{"$f":"VLOOKUP(I1504,Referencias!$B$24:$C$41,2,FALSE())","v":"C.MAD"},{"$f":"VLOOKUP(C1504,Referencias!$C$4:$E$21,3,FALSE())","v":3},"Competición","Madrileña"]
["2812632","Trujillo González, Antonia","3D","D",{"$f":"VLOOKUP(C1505,Referencias!$C$4:$D$21,2,FALSE())","v":"Tercera Diamante"},{"$f":"VLOOKUP(I1505,Referencias!$B$24:$C$41,2,FALSE())","v":"C.MAD"},{"$f":"VLOOKUP(C1505,Referencias!$C$4:$E$21,3,FALSE())","v":3},"Honorífica","Madrileña"]
["2812635","Salcedo Porras, Marisol","3D","D",{"$f":"VLOOKUP(C1506,Referencias!$C$4:$D$21,2,FALSE())","v":"Tercera Diamante"},{"$f":"VLOOKUP(I1506,Referencias!$B$24:$C$41,2,FALSE())","v":"C.MAD"},{"$f":"VLOOKUP(C1506,Referencias!$C$4:$E$21,3,FALSE())","v":3},"Competición","Madrileña"]
["2812642","Samper Vidal, Paloma","2D","D",{"$f":"VLOOKUP(C1507,Referencias!$C$4:$D$21,2,FALSE())","v":"Segunda Diamante"},{"$f":"VLOOKUP(I1507,Referencias!$B$24:$C$41,2,FALSE())","v":"C.MAD"},{"$f":"VLOOKUP(C1507,Referencias!$C$4:$E$21,3,FALSE())","v":2},"Competición","Madrileña"]
["2812645","López Tartiere, Carmen","2P","D",{"$f":"VLOOKUP(C1508,Referencias!$C$4:$D$21,2,FALSE())","v":"Segunda Picas"},{"$f":"VLOOKUP(I1508,Referencias!$B$24:$C$41,2,FALSE())","v":"C.MAD"},{"$f":"VLOOKUP(C1508,Referencias!$C$4:$E$21,3,FALSE())","v":2},"Competición","Madrileña"]
["2812646","Labayén la Torre, Laura","3D","D",{"$f":"VLOOKUP(C1509,Referencias!$C$4:$D$21,2,FALSE())","v":"Tercera Diamante"},{"$f":"VLOOKUP(I1509,Referencias!$B$24:$C$41,2,FALSE())","v":"C.MAD"},{"$f":"VLOOKUP(C1509,Referencias!$C$4:$E$21,3,FALSE())","v":3},"Competición","Madrileña"]
["2812651","Martens Sanders, Anne","2C","D",{"$f":"VLOOKUP(C1510,Referencias!$C$4:$D$21,2,FALSE())","v":"Segunda Corazón"},{"$f":"VLOOKUP(I1510,Referencias!$B$24:$C$41,2,FALSE())","v":"C.MAD"},{"$f":"VLOOKUP(C1510,Referencias!$C$4:$E$21,3,FALSE())","v":2},"Competición","Madrileña"]
["2812655","Mazzuchelli Urquijo, Teresa","3D","D",{"$f":"VLOOKUP(C1511,Referencias!$C$4:$D$21,2,FALSE())","v":"Tercera Diamante"},{"$f":"VLOOKUP(I1511,Referencias!$B$24:$C$41,2,FALSE())","v":"C.MAD"},{"$f":"VLOOKUP(C1511,Referencias!$C$4:$E$21,3,FALSE())","v":3},"Competición","Madrileña"]
["2812656","Larrucea Martín, María Victoria","3C","D",{"$f":"VLOOKUP(C1512,Referencias!$C$4:$D$21,2,FALSE())","v":"Tercera Corazón"},{"$f":"VLOOKUP(I1512,Referencias!$B$24:$C$41,2,FALSE())","v":"C.MAD"},{"$f":"VLOOKUP(C1512,Referencias!$C$4:$E$21,3,FALSE())","v":3},"Competición","Madrileña"]
["2812657","Sánchez Errazuriz, Josefina","3D","D",{"$f":"VLOOKUP(C1513,Referencias!$C$4:$D$21,2,FALSE())","v":"Tercera Diamante"},{"$f":"VLOOKUP(I1513,Referencias!$B$24:$C$41,2,FALSE())","v":"C.MAD"},{"$f":"VLOOKUP(C1513,Referencias!$C$4:$E$21,3,FALSE())","v":3},"Competición","Madrileña"]
["2812660","Tallada Alarcón, Concha","1P","D",{"$f":"VLOOKUP(C1514,Referencias!$C$4:$D$21,2,FALSE())","v":"Primera Picas"},{"$f":"VLOOKUP(I1514,Referencias!$B$24:$C$41,2,FALSE())","v":"C.MAD"},{"$f":"VLOOKUP(C1514,Referencias!$C$4:$E$21,3,FALSE())","v":1},"Competición","Madrileña"]
["2812662","Lamana de Hoyos, Mercedes","3D","D",{"$f":"VLOOKUP(C1515,Referencias!$C$4:$D$21,2,FALSE())","v":"Tercera Diamante"},{"$f":"VLOOKUP(I1515,Referencias!$B$24:$C$41,2,FALSE())","v":"C.MAD"},{"$f":"VLOOKUP(C1515,Referencias!$C$4:$E$21,3,FALSE())","v":3},"Competición","Madrileña"]
["2812665","Scher Nitzki, Micaela","2C","D",{"$f":"VLOOKUP(C1516,Referencias!$C$4:$D$21,2,FALSE())","v":"Segunda Corazón"},{"$f":"VLOOKUP(I1516,Referencias!$B$24:$C$41,2,FALSE())","v":"C.MAD"},{"$f":"VLOOKUP(C1516,Referencias!$C$4:$E$21,3,FALSE())","v":2},"Competición","Madrileña"]
["2812666","Scher Nitzki, Ernesto","2P","C",{"$f":"VLOOKUP(C1517,Referencias!$C$4:$D$21,2,FALSE())","v":"Segunda Picas"},{"$f":"VLOOKUP(I1517,Referencias!$B$24:$C$41,2,FALSE())","v":"C.MAD"},{"$f":"VLOOKUP(C1517,Referencias!$C$4:$E$21,3,FALSE())","v":2},"Competición","Madrileña"]
["2812667","Gómez Guerra, Fernando","3D","C",{"$f":"VLOOKUP(C1518,Referencias!$C$4:$D$21,2,FALSE())","v":"Tercera Diamante"},{"$f":"VLOOKUP(I1518,Referencias!$B$24:$C$41,2,FALSE())","v":"C.MAD"},{"$f":"VLOOKUP(C1518,Referencias!$C$4:$E$21,3,FALSE())","v":3},"Competición","Madrileña"]
["2812679","Calderón Riestra, Carmen","3C","D",{"$f":"VLOOKUP(C1519,Referencias!$C$4:$D$21,2,FALSE())","v":"Tercera Corazón"},{"$f":"VLOOKUP(I1519,Referencias!$B$24:$C$41,2,FALSE())","v":"C.MAD"},{"$f":"VLOOKUP(C1519,Referencias!$C$4:$E$21,3,FALSE())","v":3},"Competición","Madrileña"]
["2812680","Rengifo Calderón, Juan Francisco","3C","C",{"$f":"VLOOKUP(C1520,Referencias!$C$4:$D$21,2,FALSE())","v":"Tercera Corazón"},{"$f":"VLOOKUP(I1520,Referencias!$B$24:$C$41,2,FALSE())","v":"C.MAD"},{"$f":"VLOOKUP(C1520,Referencias!$C$4:$E$21,3,FALSE())","v":3},"Competición","Madrileña"]
["2812684","Cervera Goizueta, María","2P","D",{"$f":"VLOOKUP(C1521,Referencias!$C$4:$D$21,2,FALSE())","v":"Segunda Picas"},{"$f":"VLOOKUP(I1521,Referencias!$B$24:$C$41,2,FALSE())","v":"C.MAD"},{"$f":"VLOOKUP(C1521,Referencias!$C$4:$E$21,3,FALSE())","v":2},"Competición","Madrileña"]
["2812685","Ramos Bolufer, Rosa","3P","D",{"$f":"VLOOKUP(C1522,Referencias!$C$4:$D$21,2,FALSE())","v":"Tercera Picas"},{"$f":"VLOOKUP(I1522,Referencias!$B$24:$C$41,2,FALSE())","v":"C.MAD"},{"$f":"VLOOKUP(C1522,Referencias!$C$4:$E$21,3,FALSE())","v":3},"Competición","Madrileña"]
["2812686","Galiana Gómez, Margarita","3P","D",{"$f":"VLOOKUP(C1523,Referencias!$C$4:$D$21,2,FALSE())","v":"Tercera Picas"},{"$f":"VLOOKUP(I1523,Referencias!$B$24:$C$41,2,FALSE())","v":"C.MAD"},{"$f":"VLOOKUP(C1523,Referencias!$C$4:$E$21,3,FALSE())","v":3},"Competición","Madrileña"]
["2812690","Bastida Fresneda, María Jesús","3C","D",{"$f":"VLOOKUP(C1524,Referencias!$C$4:$D$21,2,FALSE())","v":"Tercera Corazón"},{"$f":"VLOOKUP(I1524,Referencias!$B$24:$C$41,2,FALSE())","v":"C.MAD"},{"$f":"VLOOKUP(C1524,Referencias!$C$4:$E$21,3,FALSE())","v":3},"Competición","Madrileña"]
["2812691","Kruik van der Hoeven, Susanne","2P","D",{"$f":"VLOOKUP(C1525,Referencias!$C$4:$D$21,2,FALSE())","v":"Segunda Picas"},{"$f":"VLOOKUP(I1525,Referencias!$B$24:$C$41,2,FALSE())","v":"C.MAD"},{"$f":"VLOOKUP(C1525,Referencias!$C$4:$E$21,3,FALSE())","v":2},"Competición","Madrileña"]
["2812694","Viuda de Dato, Duquesa","3C","D",{"$f":"VLOOKUP(C1526,Referencias!$C$4:$D$21,2,FALSE())","v":"Tercera Corazón"},{"$f":"VLOOKUP(I1526,Referencias!$B$24:$C$41,2,FALSE())","v":"C.MAD"},{"$f":"VLOOKUP(C1526,Referencias!$C$4:$E$21,3,FALSE())","v":3},"Competición","Madrileña"]
["2812695","del Campo Muñoz, María Isabel","3C","D",{"$f":"VLOOKUP(C1527,Referencias!$C$4:$D$21,2,FALSE())","v":"Tercera Corazón"},{"$f":"VLOOKUP(I1527,Referencias!$B$24:$C$41,2,FALSE())","v":"C.MAD"},{"$f":"VLOOKUP(C1527,Referencias!$C$4:$E$21,3,FALSE())","v":3},"Competición","Madrileña"]
["2812698","Fribourg , Jean","3P","D",{"$f":"VLOOKUP(C1528,Referencias!$C$4:$D$21,2,FALSE())","v":"Tercera Picas"},{"$f":"VLOOKUP(I1528,Referencias!$B$24:$C$41,2,FALSE())","v":"C.MAD"},{"$f":"VLOOKUP(C1528,Referencias!$C$4:$E$21,3,FALSE())","v":3},"Competición","Madrileña"]
["2812699","Lizcano Navarro, Carmen","3D","D",{"$f":"VLOOKUP(C1529,Referencias!$C$4:$D$21,2,FALSE())","v":"Tercera Diamante"},{"$f":"VLOOKUP(I1529,Referencias!$B$24:$C$41,2,FALSE())","v":"C.MAD"},{"$f":"VLOOKUP(C1529,Referencias!$C$4:$E$21,3,FALSE())","v":3},"Competición","Madrileña"]
["2812703","Celaya Eseverri, María Jesús","3D","D",{"$f":"VLOOKUP(C1530,Referencias!$C$4:$D$21,2,FALSE())","v":"Tercera Diamante"},{"$f":"VLOOKUP(I1530,Referencias!$B$24:$C$41,2,FALSE())","v":"C.MAD"},{"$f":"VLOOKUP(C1530,Referencias!$C$4:$E$21,3,FALSE())","v":3},"Competición","Madrileña"]
["2812708","Hylander , Michael","2P","C",{"$f":"VLOOKUP(C1531,Referencias!$C$4:$D$21,2,FALSE())","v":"Segunda Picas"},{"$f":"VLOOKUP(I1531,Referencias!$B$24:$C$41,2,FALSE())","v":"C.MAD"},{"$f":"VLOOKUP(C1531,Referencias!$C$4:$E$21,3,FALSE())","v":2},"Competición","Madrileña"]
["2812709","Rodríguez Magariños, Felisa","2P","D",{"$f":"VLOOKUP(C1532,Referencias!$C$4:$D$21,2,FALSE())","v":"Segunda Picas"},{"$f":"VLOOKUP(I1532,Referencias!$B$24:$C$41,2,FALSE())","v":"C.MAD"},{"$f":"VLOOKUP(C1532,Referencias!$C$4:$E$21,3,FALSE())","v":2},"Competición","Madrileña"]
["2812710","Moreno-Luque Aspe, Isabel","3D","D",{"$f":"VLOOKUP(C1533,Referencias!$C$4:$D$21,2,FALSE())","v":"Tercera Diamante"},{"$f":"VLOOKUP(I1533,Referencias!$B$24:$C$41,2,FALSE())","v":"C.MAD"},{"$f":"VLOOKUP(C1533,Referencias!$C$4:$E$21,3,FALSE())","v":3},"Competición","Madrileña"]
["2812711","Orbegozo Balzola, Carmen","3D","D",{"$f":"VLOOKUP(C1534,Referencias!$C$4:$D$21,2,FALSE())","v":"Tercera Diamante"},{"$f":"VLOOKUP(I1534,Referencias!$B$24:$C$41,2,FALSE())","v":"C.MAD"},{"$f":"VLOOKUP(C1534,Referencias!$C$4:$E$21,3,FALSE())","v":3},"Competición","Madrileña"]
["2812717","Lobo Ruano, Consuelo","3C","D",{"$f":"VLOOKUP(C1535,Referencias!$C$4:$D$21,2,FALSE())","v":"Tercera Corazón"},{"$f":"VLOOKUP(I1535,Referencias!$B$24:$C$41,2,FALSE())","v":"C.MAD"},{"$f":"VLOOKUP(C1535,Referencias!$C$4:$E$21,3,FALSE())","v":3},"Competición","Madrileña"]
["2812718","Figar Velasco, Arturo","3D","C",{"$f":"VLOOKUP(C1536,Referencias!$C$4:$D$21,2,FALSE())","v":"Tercera Diamante"},{"$f":"VLOOKUP(I1536,Referencias!$B$24:$C$41,2,FALSE())","v":"C.MAD"},{"$f":"VLOOKUP(C1536,Referencias!$C$4:$E$21,3,FALSE())","v":3},"Competición","Madrileña"]
["2812719","Lacalle Noriega, Ángeles","3D","D",{"$f":"VLOOKUP(C1537,Referencias!$C$4:$D$21,2,FALSE())","v":"Tercera Diamante"},{"$f":"VLOOKUP(I1537,Referencias!$B$24:$C$41,2,FALSE())","v":"C.MAD"},{"$f":"VLOOKUP(C1537,Referencias!$C$4:$E$21,3,FALSE())","v":3},"Competición","Madrileña"]
["2812720","Segovia López, José Antonio","3D","C",{"$f":"VLOOKUP(C1538,Referencias!$C$4:$D$21,2,FALSE())","v":"Tercera Diamante"},{"$f":"VLOOKUP(I1538,Referencias!$B$24:$C$41,2,FALSE())","v":"C.MAD"},{"$f":"VLOOKUP(C1538,Referencias!$C$4:$E$21,3,FALSE())","v":3},"Competición","Madrileña"]
["2812721","García Del Pino, Lucía","3D","D",{"$f":"VLOOKUP(C1539,Referencias!$C$4:$D$21,2,FALSE())","v":"Tercera Diamante"},{"$f":"VLOOKUP(I1539,Referencias!$B$24:$C$41,2,FALSE())","v":"C.MAD"},{"$f":"VLOOKUP(C1539,Referencias!$C$4:$E$21,3,FALSE())","v":3},"Competición","Madrileña"]
["2812724","Posadas Mañe, Mercedes","2D","D",{"$f":"VLOOKUP(C1540,Referencias!$C$4:$D$21,2,FALSE())","v":"Segunda Diamante"},{"$f":"VLOOKUP(I1540,Referencias!$B$24:$C$41,2,FALSE())","v":"C.MAD"},{"$f":"VLOOKUP(C1540,Referencias!$C$4:$E$21,3,FALSE())","v":2},"Competición","Madrileña"]
["2812725","Fernández De Miguel, Consuelo","3D","D",{"$f":"VLOOKUP(C1541,Referencias!$C$4:$D$21,2,FALSE())","v":"Tercera Diamante"},{"$f":"VLOOKUP(I1541,Referencias!$B$24:$C$41,2,FALSE())","v":"C.MAD"},{"$f":"VLOOKUP(C1541,Referencias!$C$4:$E$21,3,FALSE())","v":3},"Competición","Madrileña"]
["2812726","López Acha, Belén","1P","D",{"$f":"VLOOKUP(C1542,Referencias!$C$4:$D$21,2,FALSE())","v":"Primera Picas"},{"$f":"VLOOKUP(I1542,Referencias!$B$24:$C$41,2,FALSE())","v":"C.MAD"},{"$f":"VLOOKUP(C1542,Referencias!$C$4:$E$21,3,FALSE())","v":1},"Competición","Madrileña"]
["2812731","Fernández-Ordas Abarca, María del Carmen","3P","D",{"$f":"VLOOKUP(C1543,Referencias!$C$4:$D$21,2,FALSE())","v":"Tercera Picas"},{"$f":"VLOOKUP(I1543,Referencias!$B$24:$C$41,2,FALSE())","v":"C.MAD"},{"$f":"VLOOKUP(C1543,Referencias!$C$4:$E$21,3,FALSE())","v":3},"Competición","Madrileña"]
["2812736","Hernández-Ros Martínez de Velasco, Mercedes","3C","D",{"$f":"VLOOKUP(C1544,Referencias!$C$4:$D$21,2,FALSE())","v":"Tercera Corazón"},{"$f":"VLOOKUP(I1544,Referencias!$B$24:$C$41,2,FALSE())","v":"C.MAD"},{"$f":"VLOOKUP(C1544,Referencias!$C$4:$E$21,3,FALSE())","v":3},"Competición","Madrileña"]
["2812737","Hernández-Ros Martínez de Velasco, Matilde","3D","D",{"$f":"VLOOKUP(C1545,Referencias!$C$4:$D$21,2,FALSE())","v":"Tercera Diamante"},{"$f":"VLOOKUP(I1545,Referencias!$B$24:$C$41,2,FALSE())","v":"C.MAD"},{"$f":"VLOOKUP(C1545,Referencias!$C$4:$E$21,3,FALSE())","v":3},"Competición","Madrileña"]
["2812738","Aparicio Méndez-Queipo de Llano, Piedad","3P","D",{"$f":"VLOOKUP(C1546,Referencias!$C$4:$D$21,2,FALSE())","v":"Tercera Picas"},{"$f":"VLOOKUP(I1546,Referencias!$B$24:$C$41,2,FALSE())","v":"C.MAD"},{"$f":"VLOOKUP(C1546,Referencias!$C$4:$E$21,3,FALSE())","v":3},"Competición","Madrileña"]
["2812740","Escandón de Aldecoa, María Paz","2C","D",{"$f":"VLOOKUP(C1547,Referencias!$C$4:$D$21,2,FALSE())","v":"Segunda Corazón"},{"$f":"VLOOKUP(I1547,Referencias!$B$24:$C$41,2,FALSE())","v":"C.MAD"},{"$f":"VLOOKUP(C1547,Referencias!$C$4:$E$21,3,FALSE())","v":2},"Competición","Madrileña"]
["2812741","Trillo-Figueroa Bruguera, Pilar","3C","D",{"$f":"VLOOKUP(C1548,Referencias!$C$4:$D$21,2,FALSE())","v":"Tercera Corazón"},{"$f":"VLOOKUP(I1548,Referencias!$B$24:$C$41,2,FALSE())","v":"C.MAD"},{"$f":"VLOOKUP(C1548,Referencias!$C$4:$E$21,3,FALSE())","v":3},"Competición","Madrileña"]
["2812743","Catón Vázquez, Cristal","3C","D",{"$f":"VLOOKUP(C1549,Referencias!$C$4:$D$21,2,FALSE())","v":"Tercera Corazón"},{"$f":"VLOOKUP(I1549,Referencias!$B$24:$C$41,2,FALSE())","v":"C.MAD"},{"$f":"VLOOKUP(C1549,Referencias!$C$4:$E$21,3,FALSE())","v":3},"Competición","Madrileña"]
["2812744","Escribano Hortal, Carmina","3C","D",{"$f":"VLOOKUP(C1550,Referencias!$C$4:$D$21,2,FALSE())","v":"Tercera Corazón"},{"$f":"VLOOKUP(I1550,Referencias!$B$24:$C$41,2,FALSE())","v":"C.MAD"},{"$f":"VLOOKUP(C1550,Referencias!$C$4:$E$21,3,FALSE())","v":3},"Competición","Madrileña"]
["2812749","Bañuelos Fournier, Carmen","3D","D",{"$f":"VLOOKUP(C1551,Referencias!$C$4:$D$21,2,FALSE())","v":"Tercera Diamante"},{"$f":"VLOOKUP(I1551,Referencias!$B$24:$C$41,2,FALSE())","v":"C.MAD"},{"$f":"VLOOKUP(C1551,Referencias!$C$4:$E$21,3,FALSE())","v":3},"Competición","Madrileña"]
["2812750","Ruiz de Velasco Larrea, Inés","2P","D",{"$f":"VLOOKUP(C1552,Referencias!$C$4:$D$21,2,FALSE())","v":"Segunda Picas"},{"$f":"VLOOKUP(I1552,Referencias!$B$24:$C$41,2,FALSE())","v":"C.MAD"},{"$f":"VLOOKUP(C1552,Referencias!$C$4:$E$21,3,FALSE())","v":2},"Competición","Madrileña"]
["2812751","Calderón Riestra, Maria","3C","D",{"$f":"VLOOKUP(C1553,Referencias!$C$4:$D$21,2,FALSE())","v":"Tercera Corazón"},{"$f":"VLOOKUP(I1553,Referencias!$B$24:$C$41,2,FALSE())","v":"C.MAD"},{"$f":"VLOOKUP(C1553,Referencias!$C$4:$E$21,3,FALSE())","v":3},"Competición","Madrileña"]
["2812753","Silvela Foret, Javier","2D","C",{"$f":"VLOOKUP(C1554,Referencias!$C$4:$D$21,2,FALSE())","v":"Segunda Diamante"},{"$f":"VLOOKUP(I1554,Referencias!$B$24:$C$41,2,FALSE())","v":"C.MAD"},{"$f":"VLOOKUP(C1554,Referencias!$C$4:$E$21,3,FALSE())","v":2},"Competición","Madrileña"]
["2812754","Damborenea Terroba, Maribel","3D","D",{"$f":"VLOOKUP(C1555,Referencias!$C$4:$D$21,2,FALSE())","v":"Tercera Diamante"},{"$f":"VLOOKUP(I1555,Referencias!$B$24:$C$41,2,FALSE())","v":"C.MAD"},{"$f":"VLOOKUP(C1555,Referencias!$C$4:$E$21,3,FALSE())","v":3},"Competición","Madrileña"]
["2812758","Mir Durán, Mercedes","3P","D",{"$f":"VLOOKUP(C1556,Referencias!$C$4:$D$21,2,FALSE())","v":"Tercera Picas"},{"$f":"VLOOKUP(I1556,Referencias!$B$24:$C$41,2,FALSE())","v":"C.MAD"},{"$f":"VLOOKUP(C1556,Referencias!$C$4:$E$21,3,FALSE())","v":3},"Competición","Madrileña"]
["2812761","Morán Mayo, María Salud","2D","D",{"$f":"VLOOKUP(C1557,Referencias!$C$4:$D$21,2,FALSE())","v":"Segunda Diamante"},{"$f":"VLOOKUP(I1557,Referencias!$B$24:$C$41,2,FALSE())","v":"C.MAD"},{"$f":"VLOOKUP(C1557,Referencias!$C$4:$E$21,3,FALSE())","v":2},"Competición","Madrileña"]
["2812763","Brujó Pfitz, Genoveva","3D","D",{"$f":"VLOOKUP(C1558,Referencias!$C$4:$D$21,2,FALSE())","v":"Tercera Diamante"},{"$f":"VLOOKUP(I1558,Referencias!$B$24:$C$41,2,FALSE())","v":"C.MAD"},{"$f":"VLOOKUP(C1558,Referencias!$C$4:$E$21,3,FALSE())","v":3},"Competición","Madrileña"]
["2812766","Arredonda Crecente, María Purificación","2D","D",{"$f":"VLOOKUP(C1559,Referencias!$C$4:$D$21,2,FALSE())","v":"Segunda Diamante"},{"$f":"VLOOKUP(I1559,Referencias!$B$24:$C$41,2,FALSE())","v":"C.MAD"},{"$f":"VLOOKUP(C1559,Referencias!$C$4:$E$21,3,FALSE())","v":2},"Competición","Madrileña"]
["2812772","Pascual Gálvez, María Rosa","3D","D",{"$f":"VLOOKUP(C1560,Referencias!$C$4:$D$21,2,FALSE())","v":"Tercera Diamante"},{"$f":"VLOOKUP(I1560,Referencias!$B$24:$C$41,2,FALSE())","v":"C.MAD"},{"$f":"VLOOKUP(C1560,Referencias!$C$4:$E$21,3,FALSE())","v":3},"Competición","Madrileña"]
["2812773","Bambach Gómez, Bernardita","3P","D",{"$f":"VLOOKUP(C1561,Referencias!$C$4:$D$21,2,FALSE())","v":"Tercera Picas"},{"$f":"VLOOKUP(I1561,Referencias!$B$24:$C$41,2,FALSE())","v":"C.MAD"},{"$f":"VLOOKUP(C1561,Referencias!$C$4:$E$21,3,FALSE())","v":3},"Competición","Madrileña"]
["2812776","Muñoz Gutiérrez, Paloma","1C","D",{"$f":"VLOOKUP(C1562,Referencias!$C$4:$D$21,2,FALSE())","v":"Primera Corazón"},{"$f":"VLOOKUP(I1562,Referencias!$B$24:$C$41,2,FALSE())","v":"C.MAD"},{"$f":"VLOOKUP(C1562,Referencias!$C$4:$E$21,3,FALSE())","v":1},"Competición","Madrileña"]
["2812777","Falcones Jaquotot, Baldomero","3C","C",{"$f":"VLOOKUP(C1563,Referencias!$C$4:$D$21,2,FALSE())","v":"Tercera Corazón"},{"$f":"VLOOKUP(I1563,Referencias!$B$24:$C$41,2,FALSE())","v":"C.MAD"},{"$f":"VLOOKUP(C1563,Referencias!$C$4:$E$21,3,FALSE())","v":3},"Competición","Madrileña"]
["2812780","Cames , María Victoria","3D","D",{"$f":"VLOOKUP(C1564,Referencias!$C$4:$D$21,2,FALSE())","v":"Tercera Diamante"},{"$f":"VLOOKUP(I1564,Referencias!$B$24:$C$41,2,FALSE())","v":"C.MAD"},{"$f":"VLOOKUP(C1564,Referencias!$C$4:$E$21,3,FALSE())","v":3},"Competición","Madrileña"]
["2812781","Von Wichmann , Gerardo","1P","C",{"$f":"VLOOKUP(C1565,Referencias!$C$4:$D$21,2,FALSE())","v":"Primera Picas"},{"$f":"VLOOKUP(I1565,Referencias!$B$24:$C$41,2,FALSE())","v":"C.MAD"},{"$f":"VLOOKUP(C1565,Referencias!$C$4:$E$21,3,FALSE())","v":1},"Competición","Madrileña"]
["2812782","Bordallo Cortina, Cristina","MN-D","D",{"$f":"VLOOKUP(C1566,Referencias!$C$4:$D$21,2,FALSE())","v":"Maestro Nacional Damas"},{"$f":"VLOOKUP(I1566,Referencias!$B$24:$C$41,2,FALSE())","v":"C.MAD"},{"$f":"VLOOKUP(C1566,Referencias!$C$4:$E$21,3,FALSE())","v":0},"Competición","Madrileña"]
["2812784","de Villa Santa Ana, Condesa","1P","D",{"$f":"VLOOKUP(C1567,Referencias!$C$4:$D$21,2,FALSE())","v":"Primera Picas"},{"$f":"VLOOKUP(I1567,Referencias!$B$24:$C$41,2,FALSE())","v":"C.MAD"},{"$f":"VLOOKUP(C1567,Referencias!$C$4:$E$21,3,FALSE())","v":1},"Competición","Madrileña"]
["2812785","Enrich Izard, Gisela","3D","D",{"$f":"VLOOKUP(C1568,Referencias!$C$4:$D$21,2,FALSE())","v":"Tercera Diamante"},{"$f":"VLOOKUP(I1568,Referencias!$B$24:$C$41,2,FALSE())","v":"C.MAD"},{"$f":"VLOOKUP(C1568,Referencias!$C$4:$E$21,3,FALSE())","v":3},"Competición","Madrileña"]
["2812786","Cotoner Martos, Nicolás","3D","C",{"$f":"VLOOKUP(C1569,Referencias!$C$4:$D$21,2,FALSE())","v":"Tercera Diamante"},{"$f":"VLOOKUP(I1569,Referencias!$B$24:$C$41,2,FALSE())","v":"C.MAD"},{"$f":"VLOOKUP(C1569,Referencias!$C$4:$E$21,3,FALSE())","v":3},"Competición","Madrileña"]
["2812787","Passarinho Preto, Joao","MN-O","C",{"$f":"VLOOKUP(C1570,Referencias!$C$4:$D$21,2,FALSE())","v":"Maestro Nacional Open"},{"$f":"VLOOKUP(I1570,Referencias!$B$24:$C$41,2,FALSE())","v":"C.MAD"},{"$f":"VLOOKUP(C1570,Referencias!$C$4:$E$21,3,FALSE())","v":0},"Competición","Madrileña"]
["2812788","Echavarri Olavarría, Ana","3D","D",{"$f":"VLOOKUP(C1571,Referencias!$C$4:$D$21,2,FALSE())","v":"Tercera Diamante"},{"$f":"VLOOKUP(I1571,Referencias!$B$24:$C$41,2,FALSE())","v":"C.MAD"},{"$f":"VLOOKUP(C1571,Referencias!$C$4:$E$21,3,FALSE())","v":3},"Competición","Madrileña"]
["2812789","Zurita Calderón, Ana","3P","D",{"$f":"VLOOKUP(C1572,Referencias!$C$4:$D$21,2,FALSE())","v":"Tercera Picas"},{"$f":"VLOOKUP(I1572,Referencias!$B$24:$C$41,2,FALSE())","v":"C.MAD"},{"$f":"VLOOKUP(C1572,Referencias!$C$4:$E$21,3,FALSE())","v":3},"Competición","Madrileña"]
["2812794","Pérez de Guirao, María Jesús","3D","D",{"$f":"VLOOKUP(C1573,Referencias!$C$4:$D$21,2,FALSE())","v":"Tercera Diamante"},{"$f":"VLOOKUP(I1573,Referencias!$B$24:$C$41,2,FALSE())","v":"C.MAD"},{"$f":"VLOOKUP(C1573,Referencias!$C$4:$E$21,3,FALSE())","v":3},"Competición","Madrileña"]
["2812795","Bugallal Ortiz, Álvaro","1C","C",{"$f":"VLOOKUP(C1574,Referencias!$C$4:$D$21,2,FALSE())","v":"Primera Corazón"},{"$f":"VLOOKUP(I1574,Referencias!$B$24:$C$41,2,FALSE())","v":"C.MAD"},{"$f":"VLOOKUP(C1574,Referencias!$C$4:$E$21,3,FALSE())","v":1},"Competición","Madrileña"]
["2812796","Garrido García, Eva","2P","D",{"$f":"VLOOKUP(C1575,Referencias!$C$4:$D$21,2,FALSE())","v":"Segunda Picas"},{"$f":"VLOOKUP(I1575,Referencias!$B$24:$C$41,2,FALSE())","v":"C.MAD"},{"$f":"VLOOKUP(C1575,Referencias!$C$4:$E$21,3,FALSE())","v":2},"Competición","Madrileña"]
["2812797","Butragueño Fernandez, Sandra","3D","D",{"$f":"VLOOKUP(C1576,Referencias!$C$4:$D$21,2,FALSE())","v":"Tercera Diamante"},{"$f":"VLOOKUP(I1576,Referencias!$B$24:$C$41,2,FALSE())","v":"C.MAD"},{"$f":"VLOOKUP(C1576,Referencias!$C$4:$E$21,3,FALSE())","v":3},"Competición","Madrileña"]
["2812798","de Villa Alegre de Castilla , Marqués","3C","C",{"$f":"VLOOKUP(C1577,Referencias!$C$4:$D$21,2,FALSE())","v":"Tercera Corazón"},{"$f":"VLOOKUP(I1577,Referencias!$B$24:$C$41,2,FALSE())","v":"C.MAD"},{"$f":"VLOOKUP(C1577,Referencias!$C$4:$E$21,3,FALSE())","v":3},"Competición","Madrileña"]
["2812799","de Bonilla Moreno, María","3P","D",{"$f":"VLOOKUP(C1578,Referencias!$C$4:$D$21,2,FALSE())","v":"Tercera Picas"},{"$f":"VLOOKUP(I1578,Referencias!$B$24:$C$41,2,FALSE())","v":"C.MAD"},{"$f":"VLOOKUP(C1578,Referencias!$C$4:$E$21,3,FALSE())","v":3},"Competición","Madrileña"]
["2812800","Mora-Figueroa Argudo, Marta","3D","D",{"$f":"VLOOKUP(C1579,Referencias!$C$4:$D$21,2,FALSE())","v":"Tercera Diamante"},{"$f":"VLOOKUP(I1579,Referencias!$B$24:$C$41,2,FALSE())","v":"C.MAD"},{"$f":"VLOOKUP(C1579,Referencias!$C$4:$E$21,3,FALSE())","v":3},"Competición","Madrileña"]
["2812802","Alonso-Martínez Cobo de Guzmán, Julio","1D","C",{"$f":"VLOOKUP(C1580,Referencias!$C$4:$D$21,2,FALSE())","v":"Primera Diamante"},{"$f":"VLOOKUP(I1580,Referencias!$B$24:$C$41,2,FALSE())","v":"C.MAD"},{"$f":"VLOOKUP(C1580,Referencias!$C$4:$E$21,3,FALSE())","v":1},"Competición","Madrileña"]
["2812804","Zaballos Rincón, Juan","1P","C",{"$f":"VLOOKUP(C1581,Referencias!$C$4:$D$21,2,FALSE())","v":"Primera Picas"},{"$f":"VLOOKUP(I1581,Referencias!$B$24:$C$41,2,FALSE())","v":"C.MAD"},{"$f":"VLOOKUP(C1581,Referencias!$C$4:$E$21,3,FALSE())","v":1},"Competición","Madrileña"]
["2812805","Pérez Echagüe, Carmen","2D","D",{"$f":"VLOOKUP(C1582,Referencias!$C$4:$D$21,2,FALSE())","v":"Segunda Diamante"},{"$f":"VLOOKUP(I1582,Referencias!$B$24:$C$41,2,FALSE())","v":"C.MAD"},{"$f":"VLOOKUP(C1582,Referencias!$C$4:$E$21,3,FALSE())","v":2},"Competición","Madrileña"]
["2812807","Sierra Fernández, Carmen","3D","D",{"$f":"VLOOKUP(C1583,Referencias!$C$4:$D$21,2,FALSE())","v":"Tercera Diamante"},{"$f":"VLOOKUP(I1583,Referencias!$B$24:$C$41,2,FALSE())","v":"C.MAD"},{"$f":"VLOOKUP(C1583,Referencias!$C$4:$E$21,3,FALSE())","v":3},"Competición","Madrileña"]
["2812808","Hidalgo de Quintana Torroba, Carmen","2P","D",{"$f":"VLOOKUP(C1584,Referencias!$C$4:$D$21,2,FALSE())","v":"Segunda Picas"},{"$f":"VLOOKUP(I1584,Referencias!$B$24:$C$41,2,FALSE())","v":"C.MAD"},{"$f":"VLOOKUP(C1584,Referencias!$C$4:$E$21,3,FALSE())","v":2},"Competición","Madrileña"]
["2812809","Amigo Souto, Julia","3C","D",{"$f":"VLOOKUP(C1585,Referencias!$C$4:$D$21,2,FALSE())","v":"Tercera Corazón"},{"$f":"VLOOKUP(I1585,Referencias!$B$24:$C$41,2,FALSE())","v":"C.MAD"},{"$f":"VLOOKUP(C1585,Referencias!$C$4:$E$21,3,FALSE())","v":3},"Competición","Madrileña"]
["2812813","Mainer Casado, Angel","3C","C",{"$f":"VLOOKUP(C1586,Referencias!$C$4:$D$21,2,FALSE())","v":"Tercera Corazón"},{"$f":"VLOOKUP(I1586,Referencias!$B$24:$C$41,2,FALSE())","v":"C.MAD"},{"$f":"VLOOKUP(C1586,Referencias!$C$4:$E$21,3,FALSE())","v":3},"Competición","Madrileña"]
["2812814","Mainer Casado, Javier","2P","C",{"$f":"VLOOKUP(C1587,Referencias!$C$4:$D$21,2,FALSE())","v":"Segunda Picas"},{"$f":"VLOOKUP(I1587,Referencias!$B$24:$C$41,2,FALSE())","v":"C.MAD"},{"$f":"VLOOKUP(C1587,Referencias!$C$4:$E$21,3,FALSE())","v":2},"Competición","Madrileña"]
["2812816","Franco Cerame, Margot","3P","D",{"$f":"VLOOKUP(C1588,Referencias!$C$4:$D$21,2,FALSE())","v":"Tercera Picas"},{"$f":"VLOOKUP(I1588,Referencias!$B$24:$C$41,2,FALSE())","v":"C.MAD"},{"$f":"VLOOKUP(C1588,Referencias!$C$4:$E$21,3,FALSE())","v":3},"Competición","Madrileña"]
["2812819","Páramo Neira, Pura","3C","D",{"$f":"VLOOKUP(C1589,Referencias!$C$4:$D$21,2,FALSE())","v":"Tercera Corazón"},{"$f":"VLOOKUP(I1589,Referencias!$B$24:$C$41,2,FALSE())","v":"C.MAD"},{"$f":"VLOOKUP(C1589,Referencias!$C$4:$E$21,3,FALSE())","v":3},"Competición","Madrileña"]
["2812821","Aparicio Méndez-Queipo de Llano, Beatriz","3D","D",{"$f":"VLOOKUP(C1590,Referencias!$C$4:$D$21,2,FALSE())","v":"Tercera Diamante"},{"$f":"VLOOKUP(I1590,Referencias!$B$24:$C$41,2,FALSE())","v":"C.MAD"},{"$f":"VLOOKUP(C1590,Referencias!$C$4:$E$21,3,FALSE())","v":3},"Competición","Madrileña"]
["2812822","Reyes Tous, Verónica","3P","D",{"$f":"VLOOKUP(C1591,Referencias!$C$4:$D$21,2,FALSE())","v":"Tercera Picas"},{"$f":"VLOOKUP(I1591,Referencias!$B$24:$C$41,2,FALSE())","v":"C.MAD"},{"$f":"VLOOKUP(C1591,Referencias!$C$4:$E$21,3,FALSE())","v":3},"Competición","Madrileña"]
["2812824","Herrera García-Moriyón, María Rosario","3P","D",{"$f":"VLOOKUP(C1592,Referencias!$C$4:$D$21,2,FALSE())","v":"Tercera Picas"},{"$f":"VLOOKUP(I1592,Referencias!$B$24:$C$41,2,FALSE())","v":"C.MAD"},{"$f":"VLOOKUP(C1592,Referencias!$C$4:$E$21,3,FALSE())","v":3},"Competición","Madrileña"]
["2812826","Fuentes Losa, Manuel","2D","C",{"$f":"VLOOKUP(C1593,Referencias!$C$4:$D$21,2,FALSE())","v":"Segunda Diamante"},{"$f":"VLOOKUP(I1593,Referencias!$B$24:$C$41,2,FALSE())","v":"C.MAD"},{"$f":"VLOOKUP(C1593,Referencias!$C$4:$E$21,3,FALSE())","v":2},"Competición","Madrileña"]
["2812828","Hernández Merino, Carmen","1P","D",{"$f":"VLOOKUP(C1594,Referencias!$C$4:$D$21,2,FALSE())","v":"Primera Picas"},{"$f":"VLOOKUP(I1594,Referencias!$B$24:$C$41,2,FALSE())","v":"C.MAD"},{"$f":"VLOOKUP(C1594,Referencias!$C$4:$E$21,3,FALSE())","v":1},"Competición","Madrileña"]
["2812829","Falcones Bordallo, Laura","3C","D",{"$f":"VLOOKUP(C1595,Referencias!$C$4:$D$21,2,FALSE())","v":"Tercera Corazón"},{"$f":"VLOOKUP(I1595,Referencias!$B$24:$C$41,2,FALSE())","v":"C.MAD"},{"$f":"VLOOKUP(C1595,Referencias!$C$4:$E$21,3,FALSE())","v":3},"Competición","Madrileña"]
["2812830","de Alcaráz Baillo, Luis","3D","C",{"$f":"VLOOKUP(C1596,Referencias!$C$4:$D$21,2,FALSE())","v":"Tercera Diamante"},{"$f":"VLOOKUP(I1596,Referencias!$B$24:$C$41,2,FALSE())","v":"C.MAD"},{"$f":"VLOOKUP(C1596,Referencias!$C$4:$E$21,3,FALSE())","v":3},"Competición","Madrileña"]
["2812831","Estrada Lauret, Ascensión","2D","D",{"$f":"VLOOKUP(C1597,Referencias!$C$4:$D$21,2,FALSE())","v":"Segunda Diamante"},{"$f":"VLOOKUP(I1597,Referencias!$B$24:$C$41,2,FALSE())","v":"C.MAD"},{"$f":"VLOOKUP(C1597,Referencias!$C$4:$E$21,3,FALSE())","v":2},"Competición","Madrileña"]
["2812833","Cal Souto, Pilar","1C","D",{"$f":"VLOOKUP(C1598,Referencias!$C$4:$D$21,2,FALSE())","v":"Primera Corazón"},{"$f":"VLOOKUP(I1598,Referencias!$B$24:$C$41,2,FALSE())","v":"C.MAD"},{"$f":"VLOOKUP(C1598,Referencias!$C$4:$E$21,3,FALSE())","v":1},"Competición","Madrileña"]
["2812834","de Vila Miranda, María","3C","D",{"$f":"VLOOKUP(C1599,Referencias!$C$4:$D$21,2,FALSE())","v":"Tercera Corazón"},{"$f":"VLOOKUP(I1599,Referencias!$B$24:$C$41,2,FALSE())","v":"C.MAD"},{"$f":"VLOOKUP(C1599,Referencias!$C$4:$E$21,3,FALSE())","v":3},"Competición","Madrileña"]
["2812837","Alberdi Berriatua, Ana","2C","D",{"$f":"VLOOKUP(C1600,Referencias!$C$4:$D$21,2,FALSE())","v":"Segunda Corazón"},{"$f":"VLOOKUP(I1600,Referencias!$B$24:$C$41,2,FALSE())","v":"C.MAD"},{"$f":"VLOOKUP(C1600,Referencias!$C$4:$E$21,3,FALSE())","v":2},"Competición","Madrileña"]
["2812838","Castillejo Del Castaño, Ana","3D","D",{"$f":"VLOOKUP(C1601,Referencias!$C$4:$D$21,2,FALSE())","v":"Tercera Diamante"},{"$f":"VLOOKUP(I1601,Referencias!$B$24:$C$41,2,FALSE())","v":"C.MAD"},{"$f":"VLOOKUP(C1601,Referencias!$C$4:$E$21,3,FALSE())","v":3},"Competición","Madrileña"]
["2812839","Sandoval Renshaw, José Luis","3D","C",{"$f":"VLOOKUP(C1602,Referencias!$C$4:$D$21,2,FALSE())","v":"Tercera Diamante"},{"$f":"VLOOKUP(I1602,Referencias!$B$24:$C$41,2,FALSE())","v":"CANT"},{"$f":"VLOOKUP(C1602,Referencias!$C$4:$E$21,3,FALSE())","v":3},"Competición","Cántabra"]
["2812842","Riu Monsó, Rosa","3D","D",{"$f":"VLOOKUP(C1603,Referencias!$C$4:$D$21,2,FALSE())","v":"Tercera Diamante"},{"$f":"VLOOKUP(I1603,Referencias!$B$24:$C$41,2,FALSE())","v":"C.MAD"},{"$f":"VLOOKUP(C1603,Referencias!$C$4:$E$21,3,FALSE())","v":3},"Competición","Madrileña"]
["2812843","Martínez Solares, Mª Ángeles","2D","D",{"$f":"VLOOKUP(C1604,Referencias!$C$4:$D$21,2,FALSE())","v":"Segunda Diamante"},{"$f":"VLOOKUP(I1604,Referencias!$B$24:$C$41,2,FALSE())","v":"C.MAD"},{"$f":"VLOOKUP(C1604,Referencias!$C$4:$E$21,3,FALSE())","v":2},"Competición","Madrileña"]
["2812844","Rodríguez San Pedro Márquez, José Carlos","3D","C",{"$f":"VLOOKUP(C1605,Referencias!$C$4:$D$21,2,FALSE())","v":"Tercera Diamante"},{"$f":"VLOOKUP(I1605,Referencias!$B$24:$C$41,2,FALSE())","v":"C.MAD"},{"$f":"VLOOKUP(C1605,Referencias!$C$4:$E$21,3,FALSE())","v":3},"Competición","Madrileña"]
["2812846","Bárcena Beltrán, María","2D","D",{"$f":"VLOOKUP(C1606,Referencias!$C$4:$D$21,2,FALSE())","v":"Segunda Diamante"},{"$f":"VLOOKUP(I1606,Referencias!$B$24:$C$41,2,FALSE())","v":"C.MAD"},{"$f":"VLOOKUP(C1606,Referencias!$C$4:$E$21,3,FALSE())","v":2},"Competición","Madrileña"]
["2812847","de los Ulagares , Marquesa","1P","D",{"$f":"VLOOKUP(C1607,Referencias!$C$4:$D$21,2,FALSE())","v":"Primera Picas"},{"$f":"VLOOKUP(I1607,Referencias!$B$24:$C$41,2,FALSE())","v":"C.MAD"},{"$f":"VLOOKUP(C1607,Referencias!$C$4:$E$21,3,FALSE())","v":1},"Competición","Madrileña"]
["2812849","Fernández-Lleó García, Luis","1P","C",{"$f":"VLOOKUP(C1608,Referencias!$C$4:$D$21,2,FALSE())","v":"Primera Picas"},{"$f":"VLOOKUP(I1608,Referencias!$B$24:$C$41,2,FALSE())","v":"AND"},{"$f":"VLOOKUP(C1608,Referencias!$C$4:$E$21,3,FALSE())","v":1},"Competición","Andaluza"]
["2812852","Rodríguez Delgado, María Trinidad","3P","D",{"$f":"VLOOKUP(C1609,Referencias!$C$4:$D$21,2,FALSE())","v":"Tercera Picas"},{"$f":"VLOOKUP(I1609,Referencias!$B$24:$C$41,2,FALSE())","v":"C.MAD"},{"$f":"VLOOKUP(C1609,Referencias!$C$4:$E$21,3,FALSE())","v":3},"Competición","Madrileña"]
["2812854","García Espinosa, José Ramón","1C","C",{"$f":"VLOOKUP(C1610,Referencias!$C$4:$D$21,2,FALSE())","v":"Primera Corazón"},{"$f":"VLOOKUP(I1610,Referencias!$B$24:$C$41,2,FALSE())","v":"CYL"},{"$f":"VLOOKUP(C1610,Referencias!$C$4:$E$21,3,FALSE())","v":1},"Competición","Castilla y León"]
["2812855","González-Baylin López, María del Carmen","3C","D",{"$f":"VLOOKUP(C1611,Referencias!$C$4:$D$21,2,FALSE())","v":"Tercera Corazón"},{"$f":"VLOOKUP(I1611,Referencias!$B$24:$C$41,2,FALSE())","v":"C.MAD"},{"$f":"VLOOKUP(C1611,Referencias!$C$4:$E$21,3,FALSE())","v":3},"Competición","Madrileña"]
["2812856","de la Peña Riva, Cristina","3D","D",{"$f":"VLOOKUP(C1612,Referencias!$C$4:$D$21,2,FALSE())","v":"Tercera Diamante"},{"$f":"VLOOKUP(I1612,Referencias!$B$24:$C$41,2,FALSE())","v":"C.MAD"},{"$f":"VLOOKUP(C1612,Referencias!$C$4:$E$21,3,FALSE())","v":3},"Competición","Madrileña"]
["2812857","Suárez-Llanos Rovira, Concha","1P","D",{"$f":"VLOOKUP(C1613,Referencias!$C$4:$D$21,2,FALSE())","v":"Primera Picas"},{"$f":"VLOOKUP(I1613,Referencias!$B$24:$C$41,2,FALSE())","v":"C.MAD"},{"$f":"VLOOKUP(C1613,Referencias!$C$4:$E$21,3,FALSE())","v":1},"Competición","Madrileña"]
["2812859","Cifuentes Servitje, Beatriz","3D","D",{"$f":"VLOOKUP(C1614,Referencias!$C$4:$D$21,2,FALSE())","v":"Tercera Diamante"},{"$f":"VLOOKUP(I1614,Referencias!$B$24:$C$41,2,FALSE())","v":"C.MAD"},{"$f":"VLOOKUP(C1614,Referencias!$C$4:$E$21,3,FALSE())","v":3},"Competición","Madrileña"]
["2812861","Artesani-Lyons , Petrana","3D","D",{"$f":"VLOOKUP(C1615,Referencias!$C$4:$D$21,2,FALSE())","v":"Tercera Diamante"},{"$f":"VLOOKUP(I1615,Referencias!$B$24:$C$41,2,FALSE())","v":"C.MAD"},{"$f":"VLOOKUP(C1615,Referencias!$C$4:$E$21,3,FALSE())","v":3},"Competición","Madrileña"]
["2812862","Jaúdenes Argüelles, Carmen","3D","D",{"$f":"VLOOKUP(C1616,Referencias!$C$4:$D$21,2,FALSE())","v":"Tercera Diamante"},{"$f":"VLOOKUP(I1616,Referencias!$B$24:$C$41,2,FALSE())","v":"C.MAD"},{"$f":"VLOOKUP(C1616,Referencias!$C$4:$E$21,3,FALSE())","v":3},"Competición","Madrileña"]
["2812863","Aranaz Rodríguez, María Rosa","3C","D",{"$f":"VLOOKUP(C1617,Referencias!$C$4:$D$21,2,FALSE())","v":"Tercera Corazón"},{"$f":"VLOOKUP(I1617,Referencias!$B$24:$C$41,2,FALSE())","v":"C.MAD"},{"$f":"VLOOKUP(C1617,Referencias!$C$4:$E$21,3,FALSE())","v":3},"Competición","Madrileña"]
["2812865","Magdalena Ramos, Ángeles","2P","D",{"$f":"VLOOKUP(C1618,Referencias!$C$4:$D$21,2,FALSE())","v":"Segunda Picas"},{"$f":"VLOOKUP(I1618,Referencias!$B$24:$C$41,2,FALSE())","v":"C.MAD"},{"$f":"VLOOKUP(C1618,Referencias!$C$4:$E$21,3,FALSE())","v":2},"Competición","Madrileña"]
["2812866","Vélez García-Nieto, Teresa","1P","D",{"$f":"VLOOKUP(C1619,Referencias!$C$4:$D$21,2,FALSE())","v":"Primera Picas"},{"$f":"VLOOKUP(I1619,Referencias!$B$24:$C$41,2,FALSE())","v":"C.MAD"},{"$f":"VLOOKUP(C1619,Referencias!$C$4:$E$21,3,FALSE())","v":1},"Competición","Madrileña"]
["2812868","Corrales Kindelán, Jaime","3D","C",{"$f":"VLOOKUP(C1620,Referencias!$C$4:$D$21,2,FALSE())","v":"Tercera Diamante"},{"$f":"VLOOKUP(I1620,Referencias!$B$24:$C$41,2,FALSE())","v":"C.MAD"},{"$f":"VLOOKUP(C1620,Referencias!$C$4:$E$21,3,FALSE())","v":3},"Competición","Madrileña"]
["2812870","Vélez García-Nieto, Carmen","1C","D",{"$f":"VLOOKUP(C1621,Referencias!$C$4:$D$21,2,FALSE())","v":"Primera Corazón"},{"$f":"VLOOKUP(I1621,Referencias!$B$24:$C$41,2,FALSE())","v":"C.MAD"},{"$f":"VLOOKUP(C1621,Referencias!$C$4:$E$21,3,FALSE())","v":1},"Competición","Madrileña"]
["2812871","Rodríguez Montellano, Rosa María","3C","D",{"$f":"VLOOKUP(C1622,Referencias!$C$4:$D$21,2,FALSE())","v":"Tercera Corazón"},{"$f":"VLOOKUP(I1622,Referencias!$B$24:$C$41,2,FALSE())","v":"C.MAD"},{"$f":"VLOOKUP(C1622,Referencias!$C$4:$E$21,3,FALSE())","v":3},"Competición","Madrileña"]
["2812875","Padellano De Blas, María Teresa","1P","D",{"$f":"VLOOKUP(C1623,Referencias!$C$4:$D$21,2,FALSE())","v":"Primera Picas"},{"$f":"VLOOKUP(I1623,Referencias!$B$24:$C$41,2,FALSE())","v":"C.MAD"},{"$f":"VLOOKUP(C1623,Referencias!$C$4:$E$21,3,FALSE())","v":1},"Competición","Madrileña"]
["2812876","Muñoz Torralbo, Antonio","2D","C",{"$f":"VLOOKUP(C1624,Referencias!$C$4:$D$21,2,FALSE())","v":"Segunda Diamante"},{"$f":"VLOOKUP(I1624,Referencias!$B$24:$C$41,2,FALSE())","v":"C.MAD"},{"$f":"VLOOKUP(C1624,Referencias!$C$4:$E$21,3,FALSE())","v":2},"Competición","Madrileña"]
["2812877","Alcocer Torra, Cristina","3C","D",{"$f":"VLOOKUP(C1625,Referencias!$C$4:$D$21,2,FALSE())","v":"Tercera Corazón"},{"$f":"VLOOKUP(I1625,Referencias!$B$24:$C$41,2,FALSE())","v":"C.MAD"},{"$f":"VLOOKUP(C1625,Referencias!$C$4:$E$21,3,FALSE())","v":3},"Competición","Madrileña"]
["2812878","Valdés Gómez, Marian","3C","D",{"$f":"VLOOKUP(C1626,Referencias!$C$4:$D$21,2,FALSE())","v":"Tercera Corazón"},{"$f":"VLOOKUP(I1626,Referencias!$B$24:$C$41,2,FALSE())","v":"C.MAD"},{"$f":"VLOOKUP(C1626,Referencias!$C$4:$E$21,3,FALSE())","v":3},"Competición","Madrileña"]
["2812883","Pardo de Unceta , Leticia","3C","D",{"$f":"VLOOKUP(C1627,Referencias!$C$4:$D$21,2,FALSE())","v":"Tercera Corazón"},{"$f":"VLOOKUP(I1627,Referencias!$B$24:$C$41,2,FALSE())","v":"C.MAD"},{"$f":"VLOOKUP(C1627,Referencias!$C$4:$E$21,3,FALSE())","v":3},"Competición","Madrileña"]
["2812884","Pardo de Unceta , María Cristina","3D","D",{"$f":"VLOOKUP(C1628,Referencias!$C$4:$D$21,2,FALSE())","v":"Tercera Diamante"},{"$f":"VLOOKUP(I1628,Referencias!$B$24:$C$41,2,FALSE())","v":"C.MAD"},{"$f":"VLOOKUP(C1628,Referencias!$C$4:$E$21,3,FALSE())","v":3},"Competición","Madrileña"]
["2812885","Lee Brunner, Margaret","2D","D",{"$f":"VLOOKUP(C1629,Referencias!$C$4:$D$21,2,FALSE())","v":"Segunda Diamante"},{"$f":"VLOOKUP(I1629,Referencias!$B$24:$C$41,2,FALSE())","v":"C.MAD"},{"$f":"VLOOKUP(C1629,Referencias!$C$4:$E$21,3,FALSE())","v":2},"Competición","Madrileña"]
["2812886","Müller Märki, Beatrice","3C","D",{"$f":"VLOOKUP(C1630,Referencias!$C$4:$D$21,2,FALSE())","v":"Tercera Corazón"},{"$f":"VLOOKUP(I1630,Referencias!$B$24:$C$41,2,FALSE())","v":"C.MAD"},{"$f":"VLOOKUP(C1630,Referencias!$C$4:$E$21,3,FALSE())","v":3},"Competición","Madrileña"]
["2812887","Banchini , María Giovanna","3D","D",{"$f":"VLOOKUP(C1631,Referencias!$C$4:$D$21,2,FALSE())","v":"Tercera Diamante"},{"$f":"VLOOKUP(I1631,Referencias!$B$24:$C$41,2,FALSE())","v":"C.MAD"},{"$f":"VLOOKUP(C1631,Referencias!$C$4:$E$21,3,FALSE())","v":3},"Competición","Madrileña"]
["2812888","Martín Rodríguez, Rosario","3C","D",{"$f":"VLOOKUP(C1632,Referencias!$C$4:$D$21,2,FALSE())","v":"Tercera Corazón"},{"$f":"VLOOKUP(I1632,Referencias!$B$24:$C$41,2,FALSE())","v":"C.MAD"},{"$f":"VLOOKUP(C1632,Referencias!$C$4:$E$21,3,FALSE())","v":3},"Competición","Madrileña"]
["2812889","Domecq Urquijo, Sofía","3P","D",{"$f":"VLOOKUP(C1633,Referencias!$C$4:$D$21,2,FALSE())","v":"Tercera Picas"},{"$f":"VLOOKUP(I1633,Referencias!$B$24:$C$41,2,FALSE())","v":"C.MAD"},{"$f":"VLOOKUP(C1633,Referencias!$C$4:$E$21,3,FALSE())","v":3},"Competición","Madrileña"]
["2812890","Jiménez Arroyo, Isabel","3P","D",{"$f":"VLOOKUP(C1634,Referencias!$C$4:$D$21,2,FALSE())","v":"Tercera Picas"},{"$f":"VLOOKUP(I1634,Referencias!$B$24:$C$41,2,FALSE())","v":"C.MAD"},{"$f":"VLOOKUP(C1634,Referencias!$C$4:$E$21,3,FALSE())","v":3},"Competición","Madrileña"]
["2812891","Romero Montero, Mónica","3P","D",{"$f":"VLOOKUP(C1635,Referencias!$C$4:$D$21,2,FALSE())","v":"Tercera Picas"},{"$f":"VLOOKUP(I1635,Referencias!$B$24:$C$41,2,FALSE())","v":"C.MAD"},{"$f":"VLOOKUP(C1635,Referencias!$C$4:$E$21,3,FALSE())","v":3},"Competición","Madrileña"]
["2812892","Vázquez Salinero, Jorge","3C","C",{"$f":"VLOOKUP(C1636,Referencias!$C$4:$D$21,2,FALSE())","v":"Tercera Corazón"},{"$f":"VLOOKUP(I1636,Referencias!$B$24:$C$41,2,FALSE())","v":"C.MAD"},{"$f":"VLOOKUP(C1636,Referencias!$C$4:$E$21,3,FALSE())","v":3},"Competición","Madrileña"]
["2812893","Badiola Gago, Susana","2P","D",{"$f":"VLOOKUP(C1637,Referencias!$C$4:$D$21,2,FALSE())","v":"Segunda Picas"},{"$f":"VLOOKUP(I1637,Referencias!$B$24:$C$41,2,FALSE())","v":"C.MAD"},{"$f":"VLOOKUP(C1637,Referencias!$C$4:$E$21,3,FALSE())","v":2},"Competición","Madrileña"]
["2812894","Santos-Suárez Márquez, Beatriz","2P","D",{"$f":"VLOOKUP(C1638,Referencias!$C$4:$D$21,2,FALSE())","v":"Segunda Picas"},{"$f":"VLOOKUP(I1638,Referencias!$B$24:$C$41,2,FALSE())","v":"C.MAD"},{"$f":"VLOOKUP(C1638,Referencias!$C$4:$E$21,3,FALSE())","v":2},"Competición","Madrileña"]
["2812895","Rodríguez Sobrino, Asunción","3P","D",{"$f":"VLOOKUP(C1639,Referencias!$C$4:$D$21,2,FALSE())","v":"Tercera Picas"},{"$f":"VLOOKUP(I1639,Referencias!$B$24:$C$41,2,FALSE())","v":"C.MAD"},{"$f":"VLOOKUP(C1639,Referencias!$C$4:$E$21,3,FALSE())","v":3},"Competición","Madrileña"]
["2812896","Gavia, Condesa de","2P","D",{"$f":"VLOOKUP(C1640,Referencias!$C$4:$D$21,2,FALSE())","v":"Segunda Picas"},{"$f":"VLOOKUP(I1640,Referencias!$B$24:$C$41,2,FALSE())","v":"C.MAD"},{"$f":"VLOOKUP(C1640,Referencias!$C$4:$E$21,3,FALSE())","v":2},"Competición","Madrileña"]
["2812899","Guerrero Guerrero, Pedro","1P","C",{"$f":"VLOOKUP(C1641,Referencias!$C$4:$D$21,2,FALSE())","v":"Primera Picas"},{"$f":"VLOOKUP(I1641,Referencias!$B$24:$C$41,2,FALSE())","v":"C.MAD"},{"$f":"VLOOKUP(C1641,Referencias!$C$4:$E$21,3,FALSE())","v":1},"Competición","Madrileña"]
["2812900","Antón Suanzes, Paloma","1D","D",{"$f":"VLOOKUP(C1642,Referencias!$C$4:$D$21,2,FALSE())","v":"Primera Diamante"},{"$f":"VLOOKUP(I1642,Referencias!$B$24:$C$41,2,FALSE())","v":"C.MAD"},{"$f":"VLOOKUP(C1642,Referencias!$C$4:$E$21,3,FALSE())","v":1},"Competición","Madrileña"]
["2812904","Corral Rodríguez, Consuelo","3D","D",{"$f":"VLOOKUP(C1643,Referencias!$C$4:$D$21,2,FALSE())","v":"Tercera Diamante"},{"$f":"VLOOKUP(I1643,Referencias!$B$24:$C$41,2,FALSE())","v":"C.MAD"},{"$f":"VLOOKUP(C1643,Referencias!$C$4:$E$21,3,FALSE())","v":3},"Competición","Madrileña"]
["2812906","Menchaca , Ángeles","3C","D",{"$f":"VLOOKUP(C1644,Referencias!$C$4:$D$21,2,FALSE())","v":"Tercera Corazón"},{"$f":"VLOOKUP(I1644,Referencias!$B$24:$C$41,2,FALSE())","v":"C.MAD"},{"$f":"VLOOKUP(C1644,Referencias!$C$4:$E$21,3,FALSE())","v":3},"Competición","Madrileña"]
["2812908","Herreros de Tejada, Asunción","3C","D",{"$f":"VLOOKUP(C1645,Referencias!$C$4:$D$21,2,FALSE())","v":"Tercera Corazón"},{"$f":"VLOOKUP(I1645,Referencias!$B$24:$C$41,2,FALSE())","v":"C.MAD"},{"$f":"VLOOKUP(C1645,Referencias!$C$4:$E$21,3,FALSE())","v":3},"Competición","Madrileña"]
["2812909","Padró Sánchez, Nuria","3P","D",{"$f":"VLOOKUP(C1646,Referencias!$C$4:$D$21,2,FALSE())","v":"Tercera Picas"},{"$f":"VLOOKUP(I1646,Referencias!$B$24:$C$41,2,FALSE())","v":"C.MAD"},{"$f":"VLOOKUP(C1646,Referencias!$C$4:$E$21,3,FALSE())","v":3},"Competición","Madrileña"]
["2812913","de Miguel Roses, Belén","3P","D",{"$f":"VLOOKUP(C1647,Referencias!$C$4:$D$21,2,FALSE())","v":"Tercera Picas"},{"$f":"VLOOKUP(I1647,Referencias!$B$24:$C$41,2,FALSE())","v":"C.MAD"},{"$f":"VLOOKUP(C1647,Referencias!$C$4:$E$21,3,FALSE())","v":3},"Competición","Madrileña"]
["2812915","de la Puebla de Valverde, Condesa","3D","D",{"$f":"VLOOKUP(C1648,Referencias!$C$4:$D$21,2,FALSE())","v":"Tercera Diamante"},{"$f":"VLOOKUP(I1648,Referencias!$B$24:$C$41,2,FALSE())","v":"C.MAD"},{"$f":"VLOOKUP(C1648,Referencias!$C$4:$E$21,3,FALSE())","v":3},"Competición","Madrileña"]
["2812917","Maldonado , Susana","3C","D",{"$f":"VLOOKUP(C1649,Referencias!$C$4:$D$21,2,FALSE())","v":"Tercera Corazón"},{"$f":"VLOOKUP(I1649,Referencias!$B$24:$C$41,2,FALSE())","v":"C.MAD"},{"$f":"VLOOKUP(C1649,Referencias!$C$4:$E$21,3,FALSE())","v":3},"Competición","Madrileña"]
["2812918","de la Vega Bergé, Carmen","1D","D",{"$f":"VLOOKUP(C1650,Referencias!$C$4:$D$21,2,FALSE())","v":"Primera Diamante"},{"$f":"VLOOKUP(I1650,Referencias!$B$24:$C$41,2,FALSE())","v":"C.MAD"},{"$f":"VLOOKUP(C1650,Referencias!$C$4:$E$21,3,FALSE())","v":1},"Competición","Madrileña"]
["2812920","del Serrallo, Conde","3C","C",{"$f":"VLOOKUP(C1651,Referencias!$C$4:$D$21,2,FALSE())","v":"Tercera Corazón"},{"$f":"VLOOKUP(I1651,Referencias!$B$24:$C$41,2,FALSE())","v":"C.MAD"},{"$f":"VLOOKUP(C1651,Referencias!$C$4:$E$21,3,FALSE())","v":3},"Competición","Madrileña"]
["2812924","Tkatch Vintrob, Ulises","1P","C",{"$f":"VLOOKUP(C1652,Referencias!$C$4:$D$21,2,FALSE())","v":"Primera Picas"},{"$f":"VLOOKUP(I1652,Referencias!$B$24:$C$41,2,FALSE())","v":"C.MAD"},{"$f":"VLOOKUP(C1652,Referencias!$C$4:$E$21,3,FALSE())","v":1},"Competición","Madrileña"]
["2812925","García de Oteyza Llansó, Javier","1P","C",{"$f":"VLOOKUP(C1653,Referencias!$C$4:$D$21,2,FALSE())","v":"Primera Picas"},{"$f":"VLOOKUP(I1653,Referencias!$B$24:$C$41,2,FALSE())","v":"C.MAD"},{"$f":"VLOOKUP(C1653,Referencias!$C$4:$E$21,3,FALSE())","v":1},"Competición","Madrileña"]
["2812928","Fernández Fernández, María Rosa","3C","D",{"$f":"VLOOKUP(C1654,Referencias!$C$4:$D$21,2,FALSE())","v":"Tercera Corazón"},{"$f":"VLOOKUP(I1654,Referencias!$B$24:$C$41,2,FALSE())","v":"C.MAD"},{"$f":"VLOOKUP(C1654,Referencias!$C$4:$E$21,3,FALSE())","v":3},"Competición","Madrileña"]
["2812932","Kindelán Barañano, Manuel","3C","C",{"$f":"VLOOKUP(C1655,Referencias!$C$4:$D$21,2,FALSE())","v":"Tercera Corazón"},{"$f":"VLOOKUP(I1655,Referencias!$B$24:$C$41,2,FALSE())","v":"C.MAD"},{"$f":"VLOOKUP(C1655,Referencias!$C$4:$E$21,3,FALSE())","v":3},"Competición","Madrileña"]
["2812942","Fierro Jiménez-Lopera, Juan Carlos","3D","C",{"$f":"VLOOKUP(C1656,Referencias!$C$4:$D$21,2,FALSE())","v":"Tercera Diamante"},{"$f":"VLOOKUP(I1656,Referencias!$B$24:$C$41,2,FALSE())","v":"C.MAD"},{"$f":"VLOOKUP(C1656,Referencias!$C$4:$E$21,3,FALSE())","v":3},"Competición","Madrileña"]
["2812948","Orbe Ozores, María Asunción","3D","D",{"$f":"VLOOKUP(C1657,Referencias!$C$4:$D$21,2,FALSE())","v":"Tercera Diamante"},{"$f":"VLOOKUP(I1657,Referencias!$B$24:$C$41,2,FALSE())","v":"C.MAD"},{"$f":"VLOOKUP(C1657,Referencias!$C$4:$E$21,3,FALSE())","v":3},"Competición","Madrileña"]
["2812953","Pérez-Loizaga Tous, Gloria","2C","D",{"$f":"VLOOKUP(C1658,Referencias!$C$4:$D$21,2,FALSE())","v":"Segunda Corazón"},{"$f":"VLOOKUP(I1658,Referencias!$B$24:$C$41,2,FALSE())","v":"C.MAD"},{"$f":"VLOOKUP(C1658,Referencias!$C$4:$E$21,3,FALSE())","v":2},"Competición","Madrileña"]
["2812955","Guerra Orgaz, María Fernanda","3D","D",{"$f":"VLOOKUP(C1659,Referencias!$C$4:$D$21,2,FALSE())","v":"Tercera Diamante"},{"$f":"VLOOKUP(I1659,Referencias!$B$24:$C$41,2,FALSE())","v":"C.MAD"},{"$f":"VLOOKUP(C1659,Referencias!$C$4:$E$21,3,FALSE())","v":3},"Competición","Madrileña"]
["2812960","Galíndez Zubiría, Dolores","3D","D",{"$f":"VLOOKUP(C1660,Referencias!$C$4:$D$21,2,FALSE())","v":"Tercera Diamante"},{"$f":"VLOOKUP(I1660,Referencias!$B$24:$C$41,2,FALSE())","v":"C.MAD"},{"$f":"VLOOKUP(C1660,Referencias!$C$4:$E$21,3,FALSE())","v":3},"Competición","Madrileña"]
["2812961","Alonso de Noriega Muñiz, Cristina","1P","D",{"$f":"VLOOKUP(C1661,Referencias!$C$4:$D$21,2,FALSE())","v":"Primera Picas"},{"$f":"VLOOKUP(I1661,Referencias!$B$24:$C$41,2,FALSE())","v":"C.MAD"},{"$f":"VLOOKUP(C1661,Referencias!$C$4:$E$21,3,FALSE())","v":1},"Competición","Madrileña"]
["2812968","Dolz de Espejo Arróspide, Sol","3D","D",{"$f":"VLOOKUP(C1662,Referencias!$C$4:$D$21,2,FALSE())","v":"Tercera Diamante"},{"$f":"VLOOKUP(I1662,Referencias!$B$24:$C$41,2,FALSE())","v":"C.MAD"},{"$f":"VLOOKUP(C1662,Referencias!$C$4:$E$21,3,FALSE())","v":3},"Competición","Madrileña"]
["2812969","García-Atance Lafuente, Salvador","1P","C",{"$f":"VLOOKUP(C1663,Referencias!$C$4:$D$21,2,FALSE())","v":"Primera Picas"},{"$f":"VLOOKUP(I1663,Referencias!$B$24:$C$41,2,FALSE())","v":"C.MAD"},{"$f":"VLOOKUP(C1663,Referencias!$C$4:$E$21,3,FALSE())","v":1},"Competición","Madrileña"]
["2812972","de Miguel Ortiz, María","3P","D",{"$f":"VLOOKUP(C1664,Referencias!$C$4:$D$21,2,FALSE())","v":"Tercera Picas"},{"$f":"VLOOKUP(I1664,Referencias!$B$24:$C$41,2,FALSE())","v":"C.MAD"},{"$f":"VLOOKUP(C1664,Referencias!$C$4:$E$21,3,FALSE())","v":3},"Competición","Madrileña"]
["2812976","Nicotra Alessie, Lucía","2P","D",{"$f":"VLOOKUP(C1665,Referencias!$C$4:$D$21,2,FALSE())","v":"Segunda Picas"},{"$f":"VLOOKUP(I1665,Referencias!$B$24:$C$41,2,FALSE())","v":"C.MAD"},{"$f":"VLOOKUP(C1665,Referencias!$C$4:$E$21,3,FALSE())","v":2},"Competición","Madrileña"]
["2812977","Aldaz Barrera, Pablo","3D","C",{"$f":"VLOOKUP(C1666,Referencias!$C$4:$D$21,2,FALSE())","v":"Tercera Diamante"},{"$f":"VLOOKUP(I1666,Referencias!$B$24:$C$41,2,FALSE())","v":"C.MAD"},{"$f":"VLOOKUP(C1666,Referencias!$C$4:$E$21,3,FALSE())","v":3},"Competición","Madrileña"]
["2812978","González-Mayo Vega, Oriente","3D","D",{"$f":"VLOOKUP(C1667,Referencias!$C$4:$D$21,2,FALSE())","v":"Tercera Diamante"},{"$f":"VLOOKUP(I1667,Referencias!$B$24:$C$41,2,FALSE())","v":"C.MAD"},{"$f":"VLOOKUP(C1667,Referencias!$C$4:$E$21,3,FALSE())","v":3},"Competición","Madrileña"]
["2812981","Paz-Ares Rodríguez, Juan Pablo","1P","C",{"$f":"VLOOKUP(C1668,Referencias!$C$4:$D$21,2,FALSE())","v":"Primera Picas"},{"$f":"VLOOKUP(I1668,Referencias!$B$24:$C$41,2,FALSE())","v":"GAL"},{"$f":"VLOOKUP(C1668,Referencias!$C$4:$E$21,3,FALSE())","v":1},"Competición","Gallega"]
["2812982","Juliá Díez de Rivera, Dolores","3P","D",{"$f":"VLOOKUP(C1669,Referencias!$C$4:$D$21,2,FALSE())","v":"Tercera Picas"},{"$f":"VLOOKUP(I1669,Referencias!$B$24:$C$41,2,FALSE())","v":"C.MAD"},{"$f":"VLOOKUP(C1669,Referencias!$C$4:$E$21,3,FALSE())","v":3},"Competición","Madrileña"]
["2812984","Cervera Jordan de Urries, Beatriz","2D","D",{"$f":"VLOOKUP(C1670,Referencias!$C$4:$D$21,2,FALSE())","v":"Segunda Diamante"},{"$f":"VLOOKUP(I1670,Referencias!$B$24:$C$41,2,FALSE())","v":"C.MAD"},{"$f":"VLOOKUP(C1670,Referencias!$C$4:$E$21,3,FALSE())","v":2},"Competición","Madrileña"]
["2812985","Serrano Pardo, Isabel","3D","D",{"$f":"VLOOKUP(C1671,Referencias!$C$4:$D$21,2,FALSE())","v":"Tercera Diamante"},{"$f":"VLOOKUP(I1671,Referencias!$B$24:$C$41,2,FALSE())","v":"C.MAD"},{"$f":"VLOOKUP(C1671,Referencias!$C$4:$E$21,3,FALSE())","v":3},"Competición","Madrileña"]
["2812986","Fernández Latorre, César","2D","C",{"$f":"VLOOKUP(C1672,Referencias!$C$4:$D$21,2,FALSE())","v":"Segunda Diamante"},{"$f":"VLOOKUP(I1672,Referencias!$B$24:$C$41,2,FALSE())","v":"C.MAD"},{"$f":"VLOOKUP(C1672,Referencias!$C$4:$E$21,3,FALSE())","v":2},"Competición","Madrileña"]
["2812987","Fernández de Bobadilla, Helena","1P","D",{"$f":"VLOOKUP(C1673,Referencias!$C$4:$D$21,2,FALSE())","v":"Primera Picas"},{"$f":"VLOOKUP(I1673,Referencias!$B$24:$C$41,2,FALSE())","v":"AND"},{"$f":"VLOOKUP(C1673,Referencias!$C$4:$E$21,3,FALSE())","v":1},"Competición","Andaluza"]
["2812990","Lezama-Leguizamón, Adelaida","3D","D",{"$f":"VLOOKUP(C1674,Referencias!$C$4:$D$21,2,FALSE())","v":"Tercera Diamante"},{"$f":"VLOOKUP(I1674,Referencias!$B$24:$C$41,2,FALSE())","v":"C.MAD"},{"$f":"VLOOKUP(C1674,Referencias!$C$4:$E$21,3,FALSE())","v":3},"Competición","Madrileña"]
["2812991","P. Manuel de Villena, Luis","2D","C",{"$f":"VLOOKUP(C1675,Referencias!$C$4:$D$21,2,FALSE())","v":"Segunda Diamante"},{"$f":"VLOOKUP(I1675,Referencias!$B$24:$C$41,2,FALSE())","v":"C.MAD"},{"$f":"VLOOKUP(C1675,Referencias!$C$4:$E$21,3,FALSE())","v":2},"Competición","Madrileña"]
["2812992","San Martín Colera, Pedro","3D","C",{"$f":"VLOOKUP(C1676,Referencias!$C$4:$D$21,2,FALSE())","v":"Tercera Diamante"},{"$f":"VLOOKUP(I1676,Referencias!$B$24:$C$41,2,FALSE())","v":"C.MAD"},{"$f":"VLOOKUP(C1676,Referencias!$C$4:$E$21,3,FALSE())","v":3},"Competición","Madrileña"]
["2812993","Casajuana , Rosa María","2D","D",{"$f":"VLOOKUP(C1677,Referencias!$C$4:$D$21,2,FALSE())","v":"Segunda Diamante"},{"$f":"VLOOKUP(I1677,Referencias!$B$24:$C$41,2,FALSE())","v":"C.MAD"},{"$f":"VLOOKUP(C1677,Referencias!$C$4:$E$21,3,FALSE())","v":2},"Competición","Madrileña"]
["2812994","Carvajal Vallejo, María Carmen","1C","D",{"$f":"VLOOKUP(C1678,Referencias!$C$4:$D$21,2,FALSE())","v":"Primera Corazón"},{"$f":"VLOOKUP(I1678,Referencias!$B$24:$C$41,2,FALSE())","v":"C.MAD"},{"$f":"VLOOKUP(C1678,Referencias!$C$4:$E$21,3,FALSE())","v":1},"Competición","Madrileña"]
["2812995","Penella Saus, Ángeles","3D","D",{"$f":"VLOOKUP(C1679,Referencias!$C$4:$D$21,2,FALSE())","v":"Tercera Diamante"},{"$f":"VLOOKUP(I1679,Referencias!$B$24:$C$41,2,FALSE())","v":"C.MAD"},{"$f":"VLOOKUP(C1679,Referencias!$C$4:$E$21,3,FALSE())","v":3},"Competición","Madrileña"]
["2813000","Canseco Viejo, Covadonga","2C","D",{"$f":"VLOOKUP(C1680,Referencias!$C$4:$D$21,2,FALSE())","v":"Segunda Corazón"},{"$f":"VLOOKUP(I1680,Referencias!$B$24:$C$41,2,FALSE())","v":"C.MAD"},{"$f":"VLOOKUP(C1680,Referencias!$C$4:$E$21,3,FALSE())","v":2},"Competición","Madrileña"]
["2813001","Maestre , Carmen","3D","D",{"$f":"VLOOKUP(C1681,Referencias!$C$4:$D$21,2,FALSE())","v":"Tercera Diamante"},{"$f":"VLOOKUP(I1681,Referencias!$B$24:$C$41,2,FALSE())","v":"C.MAD"},{"$f":"VLOOKUP(C1681,Referencias!$C$4:$E$21,3,FALSE())","v":3},"Competición","Madrileña"]
["2813004","Rumeu Cruzat, Cristina","3D","D",{"$f":"VLOOKUP(C1682,Referencias!$C$4:$D$21,2,FALSE())","v":"Tercera Diamante"},{"$f":"VLOOKUP(I1682,Referencias!$B$24:$C$41,2,FALSE())","v":"C.MAD"},{"$f":"VLOOKUP(C1682,Referencias!$C$4:$E$21,3,FALSE())","v":3},"Competición","Madrileña"]
["2813005","Mazario Marañón, Carmen","2D","D",{"$f":"VLOOKUP(C1683,Referencias!$C$4:$D$21,2,FALSE())","v":"Segunda Diamante"},{"$f":"VLOOKUP(I1683,Referencias!$B$24:$C$41,2,FALSE())","v":"C.MAD"},{"$f":"VLOOKUP(C1683,Referencias!$C$4:$E$21,3,FALSE())","v":2},"Competición","Madrileña"]
["2813006","Monasterio Chicharro, Camila","3C","D",{"$f":"VLOOKUP(C1684,Referencias!$C$4:$D$21,2,FALSE())","v":"Tercera Corazón"},{"$f":"VLOOKUP(I1684,Referencias!$B$24:$C$41,2,FALSE())","v":"C.MAD"},{"$f":"VLOOKUP(C1684,Referencias!$C$4:$E$21,3,FALSE())","v":3},"Competición","Madrileña"]
["2813008","Hombravella López, Guillermo","3D","C",{"$f":"VLOOKUP(C1685,Referencias!$C$4:$D$21,2,FALSE())","v":"Tercera Diamante"},{"$f":"VLOOKUP(I1685,Referencias!$B$24:$C$41,2,FALSE())","v":"C.MAD"},{"$f":"VLOOKUP(C1685,Referencias!$C$4:$E$21,3,FALSE())","v":3},"Competición","Madrileña"]
["2813009","Fuentes López, Patricia","1P","D",{"$f":"VLOOKUP(C1686,Referencias!$C$4:$D$21,2,FALSE())","v":"Primera Picas"},{"$f":"VLOOKUP(I1686,Referencias!$B$24:$C$41,2,FALSE())","v":"C.MAD"},{"$f":"VLOOKUP(C1686,Referencias!$C$4:$E$21,3,FALSE())","v":1},"Competición","Madrileña"]
["2813014","Ortiz González, María Rosa","3D","D",{"$f":"VLOOKUP(C1687,Referencias!$C$4:$D$21,2,FALSE())","v":"Tercera Diamante"},{"$f":"VLOOKUP(I1687,Referencias!$B$24:$C$41,2,FALSE())","v":"C.MAD"},{"$f":"VLOOKUP(C1687,Referencias!$C$4:$E$21,3,FALSE())","v":3},"Honorífica","Madrileña"]
["2813015","Saro Saiz, Concepción","3C","D",{"$f":"VLOOKUP(C1688,Referencias!$C$4:$D$21,2,FALSE())","v":"Tercera Corazón"},{"$f":"VLOOKUP(I1688,Referencias!$B$24:$C$41,2,FALSE())","v":"C.MAD"},{"$f":"VLOOKUP(C1688,Referencias!$C$4:$E$21,3,FALSE())","v":3},"Competición","Madrileña"]
["2813016","Ruiz de Gámiz Arrabal, Juan Pablo","3D","C",{"$f":"VLOOKUP(C1689,Referencias!$C$4:$D$21,2,FALSE())","v":"Tercera Diamante"},{"$f":"VLOOKUP(I1689,Referencias!$B$24:$C$41,2,FALSE())","v":"C.MAD"},{"$f":"VLOOKUP(C1689,Referencias!$C$4:$E$21,3,FALSE())","v":3},"Competición","Madrileña"]
["2813017","Pallarés de la Morena, María Luisa","3D","D",{"$f":"VLOOKUP(C1690,Referencias!$C$4:$D$21,2,FALSE())","v":"Tercera Diamante"},{"$f":"VLOOKUP(I1690,Referencias!$B$24:$C$41,2,FALSE())","v":"C.MAD"},{"$f":"VLOOKUP(C1690,Referencias!$C$4:$E$21,3,FALSE())","v":3},"Competición","Madrileña"]
["2813018","Fernández-Nespral Bertrand, Graciela","3D","D",{"$f":"VLOOKUP(C1691,Referencias!$C$4:$D$21,2,FALSE())","v":"Tercera Diamante"},{"$f":"VLOOKUP(I1691,Referencias!$B$24:$C$41,2,FALSE())","v":"C.MAD"},{"$f":"VLOOKUP(C1691,Referencias!$C$4:$E$21,3,FALSE())","v":3},"Competición","Madrileña"]
["2813019","García-Miñaur Rotaeche, Inés","3P","D",{"$f":"VLOOKUP(C1692,Referencias!$C$4:$D$21,2,FALSE())","v":"Tercera Picas"},{"$f":"VLOOKUP(I1692,Referencias!$B$24:$C$41,2,FALSE())","v":"C.MAD"},{"$f":"VLOOKUP(C1692,Referencias!$C$4:$E$21,3,FALSE())","v":3},"Competición","Madrileña"]
["2813020","López Goicoechea, Ignacio","3D","C",{"$f":"VLOOKUP(C1693,Referencias!$C$4:$D$21,2,FALSE())","v":"Tercera Diamante"},{"$f":"VLOOKUP(I1693,Referencias!$B$24:$C$41,2,FALSE())","v":"C.MAD"},{"$f":"VLOOKUP(C1693,Referencias!$C$4:$E$21,3,FALSE())","v":3},"Competición","Madrileña"]
["2813025","Georget Lassagne, Catherine","3C","D",{"$f":"VLOOKUP(C1694,Referencias!$C$4:$D$21,2,FALSE())","v":"Tercera Corazón"},{"$f":"VLOOKUP(I1694,Referencias!$B$24:$C$41,2,FALSE())","v":"C.MAD"},{"$f":"VLOOKUP(C1694,Referencias!$C$4:$E$21,3,FALSE())","v":3},"Competición","Madrileña"]
["2813026","Alcocer Pérez-España, Josefina","3C","D",{"$f":"VLOOKUP(C1695,Referencias!$C$4:$D$21,2,FALSE())","v":"Tercera Corazón"},{"$f":"VLOOKUP(I1695,Referencias!$B$24:$C$41,2,FALSE())","v":"C.MAD"},{"$f":"VLOOKUP(C1695,Referencias!$C$4:$E$21,3,FALSE())","v":3},"Competición","Madrileña"]
["2813027","Mañes García, Neftalí","3P","C",{"$f":"VLOOKUP(C1696,Referencias!$C$4:$D$21,2,FALSE())","v":"Tercera Picas"},{"$f":"VLOOKUP(I1696,Referencias!$B$24:$C$41,2,FALSE())","v":"C.MAD"},{"$f":"VLOOKUP(C1696,Referencias!$C$4:$E$21,3,FALSE())","v":3},"Competición","Madrileña"]
["2813028","Guerra Galván, Antonia","3C","D",{"$f":"VLOOKUP(C1697,Referencias!$C$4:$D$21,2,FALSE())","v":"Tercera Corazón"},{"$f":"VLOOKUP(I1697,Referencias!$B$24:$C$41,2,FALSE())","v":"C.MAD"},{"$f":"VLOOKUP(C1697,Referencias!$C$4:$E$21,3,FALSE())","v":3},"Competición","Madrileña"]
["2813029","Canosa Penaba, Ángeles","3C","D",{"$f":"VLOOKUP(C1698,Referencias!$C$4:$D$21,2,FALSE())","v":"Tercera Corazón"},{"$f":"VLOOKUP(I1698,Referencias!$B$24:$C$41,2,FALSE())","v":"C.MAD"},{"$f":"VLOOKUP(C1698,Referencias!$C$4:$E$21,3,FALSE())","v":3},"Honorífica","Madrileña"]
["2813030","Sainz Muñoz, Marisa","3C","D",{"$f":"VLOOKUP(C1699,Referencias!$C$4:$D$21,2,FALSE())","v":"Tercera Corazón"},{"$f":"VLOOKUP(I1699,Referencias!$B$24:$C$41,2,FALSE())","v":"C.MAD"},{"$f":"VLOOKUP(C1699,Referencias!$C$4:$E$21,3,FALSE())","v":3},"Competición","Madrileña"]
["2813034","Rodulfo Lavilla, Carlos","1C","C",{"$f":"VLOOKUP(C1700,Referencias!$C$4:$D$21,2,FALSE())","v":"Primera Corazón"},{"$f":"VLOOKUP(I1700,Referencias!$B$24:$C$41,2,FALSE())","v":"C.MAD"},{"$f":"VLOOKUP(C1700,Referencias!$C$4:$E$21,3,FALSE())","v":1},"Competición","Madrileña"]
["2813035","Puy Fernández, Ana","1D","D",{"$f":"VLOOKUP(C1701,Referencias!$C$4:$D$21,2,FALSE())","v":"Primera Diamante"},{"$f":"VLOOKUP(I1701,Referencias!$B$24:$C$41,2,FALSE())","v":"C.MAD"},{"$f":"VLOOKUP(C1701,Referencias!$C$4:$E$21,3,FALSE())","v":1},"Competición","Madrileña"]
["2813036","Rosa Keesen, Neiva Elisabeth","2P","D",{"$f":"VLOOKUP(C1702,Referencias!$C$4:$D$21,2,FALSE())","v":"Segunda Picas"},{"$f":"VLOOKUP(I1702,Referencias!$B$24:$C$41,2,FALSE())","v":"C.MAD"},{"$f":"VLOOKUP(C1702,Referencias!$C$4:$E$21,3,FALSE())","v":2},"Competición","Madrileña"]
["2813041","Teran Saenz, Bertha","1D","D",{"$f":"VLOOKUP(C1703,Referencias!$C$4:$D$21,2,FALSE())","v":"Primera Diamante"},{"$f":"VLOOKUP(I1703,Referencias!$B$24:$C$41,2,FALSE())","v":"C.MAD"},{"$f":"VLOOKUP(C1703,Referencias!$C$4:$E$21,3,FALSE())","v":1},"Competición","Madrileña"]
["2813048","Ballestero Aguilar, Alfonso","2P","C",{"$f":"VLOOKUP(C1704,Referencias!$C$4:$D$21,2,FALSE())","v":"Segunda Picas"},{"$f":"VLOOKUP(I1704,Referencias!$B$24:$C$41,2,FALSE())","v":"C.MAD"},{"$f":"VLOOKUP(C1704,Referencias!$C$4:$E$21,3,FALSE())","v":2},"Competición","Madrileña"]
["2813049","Aguilar González, Francisco","1D","C",{"$f":"VLOOKUP(C1705,Referencias!$C$4:$D$21,2,FALSE())","v":"Primera Diamante"},{"$f":"VLOOKUP(I1705,Referencias!$B$24:$C$41,2,FALSE())","v":"C.MAD"},{"$f":"VLOOKUP(C1705,Referencias!$C$4:$E$21,3,FALSE())","v":1},"Competición","Madrileña"]
["2813050","Trevijano Grasset, Susana","2D","D",{"$f":"VLOOKUP(C1706,Referencias!$C$4:$D$21,2,FALSE())","v":"Segunda Diamante"},{"$f":"VLOOKUP(I1706,Referencias!$B$24:$C$41,2,FALSE())","v":"C.MAD"},{"$f":"VLOOKUP(C1706,Referencias!$C$4:$E$21,3,FALSE())","v":2},"Competición","Madrileña"]
["2813052","Chover Latorre, Amparo","3D","D",{"$f":"VLOOKUP(C1707,Referencias!$C$4:$D$21,2,FALSE())","v":"Tercera Diamante"},{"$f":"VLOOKUP(I1707,Referencias!$B$24:$C$41,2,FALSE())","v":"C.MAD"},{"$f":"VLOOKUP(C1707,Referencias!$C$4:$E$21,3,FALSE())","v":3},"Competición","Madrileña"]
["2813055","Alarcón Torres, Esteban","1D","C",{"$f":"VLOOKUP(C1708,Referencias!$C$4:$D$21,2,FALSE())","v":"Primera Diamante"},{"$f":"VLOOKUP(I1708,Referencias!$B$24:$C$41,2,FALSE())","v":"C.MAD"},{"$f":"VLOOKUP(C1708,Referencias!$C$4:$E$21,3,FALSE())","v":1},"Competición","Madrileña"]
["2813056","Tejada, Ignacio","2P","C",{"$f":"VLOOKUP(C1709,Referencias!$C$4:$D$21,2,FALSE())","v":"Segunda Picas"},{"$f":"VLOOKUP(I1709,Referencias!$B$24:$C$41,2,FALSE())","v":"C.MAD"},{"$f":"VLOOKUP(C1709,Referencias!$C$4:$E$21,3,FALSE())","v":2},"Competición","Madrileña"]
["2813064","Maza García, Ignacio","3C","C",{"$f":"VLOOKUP(C1710,Referencias!$C$4:$D$21,2,FALSE())","v":"Tercera Corazón"},{"$f":"VLOOKUP(I1710,Referencias!$B$24:$C$41,2,FALSE())","v":"C.MAD"},{"$f":"VLOOKUP(C1710,Referencias!$C$4:$E$21,3,FALSE())","v":3},"Competición","Madrileña"]
["2813065","Aleixandre García, Almudena","2C","D",{"$f":"VLOOKUP(C1711,Referencias!$C$4:$D$21,2,FALSE())","v":"Segunda Corazón"},{"$f":"VLOOKUP(I1711,Referencias!$B$24:$C$41,2,FALSE())","v":"C.MAD"},{"$f":"VLOOKUP(C1711,Referencias!$C$4:$E$21,3,FALSE())","v":2},"Competición","Madrileña"]
["2813068","Santias Viada, Javier","3P","C",{"$f":"VLOOKUP(C1712,Referencias!$C$4:$D$21,2,FALSE())","v":"Tercera Picas"},{"$f":"VLOOKUP(I1712,Referencias!$B$24:$C$41,2,FALSE())","v":"C.MAD"},{"$f":"VLOOKUP(C1712,Referencias!$C$4:$E$21,3,FALSE())","v":3},"Competición","Madrileña"]
["2813069","Doporto Laguia, Mariano","1P","C",{"$f":"VLOOKUP(C1713,Referencias!$C$4:$D$21,2,FALSE())","v":"Primera Picas"},{"$f":"VLOOKUP(I1713,Referencias!$B$24:$C$41,2,FALSE())","v":"C.MAD"},{"$f":"VLOOKUP(C1713,Referencias!$C$4:$E$21,3,FALSE())","v":1},"Competición","Madrileña"]
["2813070","Russo Isola, Annabelle","1D","D",{"$f":"VLOOKUP(C1714,Referencias!$C$4:$D$21,2,FALSE())","v":"Primera Diamante"},{"$f":"VLOOKUP(I1714,Referencias!$B$24:$C$41,2,FALSE())","v":"C.MAD"},{"$f":"VLOOKUP(C1714,Referencias!$C$4:$E$21,3,FALSE())","v":1},"Competición","Madrileña"]
["2813072","Casado del Castillo, María Jesús","3D","D",{"$f":"VLOOKUP(C1715,Referencias!$C$4:$D$21,2,FALSE())","v":"Tercera Diamante"},{"$f":"VLOOKUP(I1715,Referencias!$B$24:$C$41,2,FALSE())","v":"C.MAD"},{"$f":"VLOOKUP(C1715,Referencias!$C$4:$E$21,3,FALSE())","v":3},"Competición","Madrileña"]
["2813073","Riestra-Morales de los Ríos, María Dolores","3D","D",{"$f":"VLOOKUP(C1716,Referencias!$C$4:$D$21,2,FALSE())","v":"Tercera Diamante"},{"$f":"VLOOKUP(I1716,Referencias!$B$24:$C$41,2,FALSE())","v":"C.MAD"},{"$f":"VLOOKUP(C1716,Referencias!$C$4:$E$21,3,FALSE())","v":3},"Competición","Madrileña"]
["2813075","Rico Villaverde, María Luisa","3P","D",{"$f":"VLOOKUP(C1717,Referencias!$C$4:$D$21,2,FALSE())","v":"Tercera Picas"},{"$f":"VLOOKUP(I1717,Referencias!$B$24:$C$41,2,FALSE())","v":"C.MAD"},{"$f":"VLOOKUP(C1717,Referencias!$C$4:$E$21,3,FALSE())","v":3},"Competición","Madrileña"]
["2813077","Magirena Varela, María José","1D","D",{"$f":"VLOOKUP(C1718,Referencias!$C$4:$D$21,2,FALSE())","v":"Primera Diamante"},{"$f":"VLOOKUP(I1718,Referencias!$B$24:$C$41,2,FALSE())","v":"C.MAD"},{"$f":"VLOOKUP(C1718,Referencias!$C$4:$E$21,3,FALSE())","v":1},"Competición","Madrileña"]
["2813080","Muñecas Alonso, Consolación","3D","D",{"$f":"VLOOKUP(C1719,Referencias!$C$4:$D$21,2,FALSE())","v":"Tercera Diamante"},{"$f":"VLOOKUP(I1719,Referencias!$B$24:$C$41,2,FALSE())","v":"C.MAD"},{"$f":"VLOOKUP(C1719,Referencias!$C$4:$E$21,3,FALSE())","v":3},"Competición","Madrileña"]
["2813082","Ballestero Aguilar, Elena","1C","D",{"$f":"VLOOKUP(C1720,Referencias!$C$4:$D$21,2,FALSE())","v":"Primera Corazón"},{"$f":"VLOOKUP(I1720,Referencias!$B$24:$C$41,2,FALSE())","v":"C.MAD"},{"$f":"VLOOKUP(C1720,Referencias!$C$4:$E$21,3,FALSE())","v":1},"Competición","Madrileña"]
["2813083","Langdon Ruiz, Flora","2C","D",{"$f":"VLOOKUP(C1721,Referencias!$C$4:$D$21,2,FALSE())","v":"Segunda Corazón"},{"$f":"VLOOKUP(I1721,Referencias!$B$24:$C$41,2,FALSE())","v":"C.MAD"},{"$f":"VLOOKUP(C1721,Referencias!$C$4:$E$21,3,FALSE())","v":2},"Competición","Madrileña"]
["2813088","Álvarez de las Asturias Bohorques, Inés","2D","D",{"$f":"VLOOKUP(C1722,Referencias!$C$4:$D$21,2,FALSE())","v":"Segunda Diamante"},{"$f":"VLOOKUP(I1722,Referencias!$B$24:$C$41,2,FALSE())","v":"C.MAD"},{"$f":"VLOOKUP(C1722,Referencias!$C$4:$E$21,3,FALSE())","v":2},"Competición","Madrileña"]
["2813090","Monllor Martí, Consuelo","3P","D",{"$f":"VLOOKUP(C1723,Referencias!$C$4:$D$21,2,FALSE())","v":"Tercera Picas"},{"$f":"VLOOKUP(I1723,Referencias!$B$24:$C$41,2,FALSE())","v":"C.MAD"},{"$f":"VLOOKUP(C1723,Referencias!$C$4:$E$21,3,FALSE())","v":3},"Competición","Madrileña"]
["2813091","Antón López, Francisco","3P","C",{"$f":"VLOOKUP(C1724,Referencias!$C$4:$D$21,2,FALSE())","v":"Tercera Picas"},{"$f":"VLOOKUP(I1724,Referencias!$B$24:$C$41,2,FALSE())","v":"C.MAD"},{"$f":"VLOOKUP(C1724,Referencias!$C$4:$E$21,3,FALSE())","v":3},"Competición","Madrileña"]
["2813092","Zoppas Navarro, Gianna","3D","C",{"$f":"VLOOKUP(C1725,Referencias!$C$4:$D$21,2,FALSE())","v":"Tercera Diamante"},{"$f":"VLOOKUP(I1725,Referencias!$B$24:$C$41,2,FALSE())","v":"C.MAD"},{"$f":"VLOOKUP(C1725,Referencias!$C$4:$E$21,3,FALSE())","v":3},"Competición","Madrileña"]
["2813093","Kapica , Krzysztof","1C","C",{"$f":"VLOOKUP(C1726,Referencias!$C$4:$D$21,2,FALSE())","v":"Primera Corazón"},{"$f":"VLOOKUP(I1726,Referencias!$B$24:$C$41,2,FALSE())","v":"C.MAD"},{"$f":"VLOOKUP(C1726,Referencias!$C$4:$E$21,3,FALSE())","v":1},"Competición","Madrileña"]
["2813094","Kapica , Bárbara Lidia","1P","D",{"$f":"VLOOKUP(C1727,Referencias!$C$4:$D$21,2,FALSE())","v":"Primera Picas"},{"$f":"VLOOKUP(I1727,Referencias!$B$24:$C$41,2,FALSE())","v":"C.MAD"},{"$f":"VLOOKUP(C1727,Referencias!$C$4:$E$21,3,FALSE())","v":1},"Competición","Madrileña"]
["2813095","Palicio , Carmen","3D","D",{"$f":"VLOOKUP(C1728,Referencias!$C$4:$D$21,2,FALSE())","v":"Tercera Diamante"},{"$f":"VLOOKUP(I1728,Referencias!$B$24:$C$41,2,FALSE())","v":"C.MAD"},{"$f":"VLOOKUP(C1728,Referencias!$C$4:$E$21,3,FALSE())","v":3},"Competición","Madrileña"]
["2813096","Martínez Velez, Jorge","1P","C",{"$f":"VLOOKUP(C1729,Referencias!$C$4:$D$21,2,FALSE())","v":"Primera Picas"},{"$f":"VLOOKUP(I1729,Referencias!$B$24:$C$41,2,FALSE())","v":"C.MAD"},{"$f":"VLOOKUP(C1729,Referencias!$C$4:$E$21,3,FALSE())","v":1},"Competición","Madrileña"]
["2813103","D´Aubarede Paya, Inés","3P","D",{"$f":"VLOOKUP(C1730,Referencias!$C$4:$D$21,2,FALSE())","v":"Tercera Picas"},{"$f":"VLOOKUP(I1730,Referencias!$B$24:$C$41,2,FALSE())","v":"C.MAD"},{"$f":"VLOOKUP(C1730,Referencias!$C$4:$E$21,3,FALSE())","v":3},"Competición","Madrileña"]
["2813104","Mendia Alcain, Ana","2C","D",{"$f":"VLOOKUP(C1731,Referencias!$C$4:$D$21,2,FALSE())","v":"Segunda Corazón"},{"$f":"VLOOKUP(I1731,Referencias!$B$24:$C$41,2,FALSE())","v":"C.MAD"},{"$f":"VLOOKUP(C1731,Referencias!$C$4:$E$21,3,FALSE())","v":2},"Competición","Madrileña"]
["2813107","Claver Madurga, Lucinda","3P","D",{"$f":"VLOOKUP(C1732,Referencias!$C$4:$D$21,2,FALSE())","v":"Tercera Picas"},{"$f":"VLOOKUP(I1732,Referencias!$B$24:$C$41,2,FALSE())","v":"C.MAD"},{"$f":"VLOOKUP(C1732,Referencias!$C$4:$E$21,3,FALSE())","v":3},"Competición","Madrileña"]
["2813108","Claver Madurga, Guadalupe","2C","D",{"$f":"VLOOKUP(C1733,Referencias!$C$4:$D$21,2,FALSE())","v":"Segunda Corazón"},{"$f":"VLOOKUP(I1733,Referencias!$B$24:$C$41,2,FALSE())","v":"C.MAD"},{"$f":"VLOOKUP(C1733,Referencias!$C$4:$E$21,3,FALSE())","v":2},"Competición","Madrileña"]
["2813109","Santesmases , María Teresa","2P","D",{"$f":"VLOOKUP(C1734,Referencias!$C$4:$D$21,2,FALSE())","v":"Segunda Picas"},{"$f":"VLOOKUP(I1734,Referencias!$B$24:$C$41,2,FALSE())","v":"C.MAD"},{"$f":"VLOOKUP(C1734,Referencias!$C$4:$E$21,3,FALSE())","v":2},"Competición","Madrileña"]
["2813110","Cardiel Vicario , Francisco José","2D","C",{"$f":"VLOOKUP(C1735,Referencias!$C$4:$D$21,2,FALSE())","v":"Segunda Diamante"},{"$f":"VLOOKUP(I1735,Referencias!$B$24:$C$41,2,FALSE())","v":"C.MAD"},{"$f":"VLOOKUP(C1735,Referencias!$C$4:$E$21,3,FALSE())","v":2},"Competición","Madrileña"]
["2813114","Sánchez Rubio, Maite","2C","D",{"$f":"VLOOKUP(C1736,Referencias!$C$4:$D$21,2,FALSE())","v":"Segunda Corazón"},{"$f":"VLOOKUP(I1736,Referencias!$B$24:$C$41,2,FALSE())","v":"C.MAD"},{"$f":"VLOOKUP(C1736,Referencias!$C$4:$E$21,3,FALSE())","v":2},"Competición","Madrileña"]
["2813115","Zuloaga Rodríguez, Ricardo","Sin Categoría","C",{"$f":"VLOOKUP(C1737,Referencias!$C$4:$D$21,2,FALSE())","v":{"$error":"#N/A"}},{"$f":"VLOOKUP(I1737,Referencias!$B$24:$C$41,2,FALSE())","v":"C.MAD"},{"$f":"VLOOKUP(C1737,Referencias!$C$4:$E$21,3,FALSE())","v":{"$error":"#N/A"}},"Competición","Madrileña"]
["2813116","Bermúdez de Castro Rosillo, Luis","2D","C",{"$f":"VLOOKUP(C1738,Referencias!$C$4:$D$21,2,FALSE())","v":"Segunda Diamante"},{"$f":"VLOOKUP(I1738,Referencias!$B$24:$C$41,2,FALSE())","v":"C.MAD"},{"$f":"VLOOKUP(C1738,Referencias!$C$4:$E$21,3,FALSE())","v":2},"Competición","Madrileña"]
["2813117","Rubio Liniers, Teresa","3D","D",{"$f":"VLOOKUP(C1739,Referencias!$C$4:$D$21,2,FALSE())","v":"Tercera Diamante"},{"$f":"VLOOKUP(I1739,Referencias!$B$24:$C$41,2,FALSE())","v":"C.MAD"},{"$f":"VLOOKUP(C1739,Referencias!$C$4:$E$21,3,FALSE())","v":3},"Competición","Madrileña"]
["2813118","López Socas, Constantino","3D","C",{"$f":"VLOOKUP(C1740,Referencias!$C$4:$D$21,2,FALSE())","v":"Tercera Diamante"},{"$f":"VLOOKUP(I1740,Referencias!$B$24:$C$41,2,FALSE())","v":"C.MAD"},{"$f":"VLOOKUP(C1740,Referencias!$C$4:$E$21,3,FALSE())","v":3},"Competición","Madrileña"]
["2813119","Benson Betterley, Judi","3D","D",{"$f":"VLOOKUP(C1741,Referencias!$C$4:$D$21,2,FALSE())","v":"Tercera Diamante"},{"$f":"VLOOKUP(I1741,Referencias!$B$24:$C$41,2,FALSE())","v":"C.MAD"},{"$f":"VLOOKUP(C1741,Referencias!$C$4:$E$21,3,FALSE())","v":3},"Competición","Madrileña"]
["2813120","Delibes Liniers, María","1P","D",{"$f":"VLOOKUP(C1742,Referencias!$C$4:$D$21,2,FALSE())","v":"Primera Picas"},{"$f":"VLOOKUP(I1742,Referencias!$B$24:$C$41,2,FALSE())","v":"C.MAD"},{"$f":"VLOOKUP(C1742,Referencias!$C$4:$E$21,3,FALSE())","v":1},"Competición","Madrileña"]
["2813121","Moreno Fernández de Córdova, Fátima","2P","D",{"$f":"VLOOKUP(C1743,Referencias!$C$4:$D$21,2,FALSE())","v":"Segunda Picas"},{"$f":"VLOOKUP(I1743,Referencias!$B$24:$C$41,2,FALSE())","v":"C.MAD"},{"$f":"VLOOKUP(C1743,Referencias!$C$4:$E$21,3,FALSE())","v":2},"Competición","Madrileña"]
["2813122","Sánchez Rubio, Paz","2C","D",{"$f":"VLOOKUP(C1744,Referencias!$C$4:$D$21,2,FALSE())","v":"Segunda Corazón"},{"$f":"VLOOKUP(I1744,Referencias!$B$24:$C$41,2,FALSE())","v":"C.MAD"},{"$f":"VLOOKUP(C1744,Referencias!$C$4:$E$21,3,FALSE())","v":2},"Competición","Madrileña"]
["2813123","Prados Martín, Paloma","3D","D",{"$f":"VLOOKUP(C1745,Referencias!$C$4:$D$21,2,FALSE())","v":"Tercera Diamante"},{"$f":"VLOOKUP(I1745,Referencias!$B$24:$C$41,2,FALSE())","v":"C.MAD"},{"$f":"VLOOKUP(C1745,Referencias!$C$4:$E$21,3,FALSE())","v":3},"Competición","Madrileña"]
["2813124","García-Escudero Marquez, Teresa","1P","D",{"$f":"VLOOKUP(C1746,Referencias!$C$4:$D$21,2,FALSE())","v":"Primera Picas"},{"$f":"VLOOKUP(I1746,Referencias!$B$24:$C$41,2,FALSE())","v":"C.MAD"},{"$f":"VLOOKUP(C1746,Referencias!$C$4:$E$21,3,FALSE())","v":1},"Competición","Madrileña"]
["2813126","González Díaz, Ana María","1C","D",{"$f":"VLOOKUP(C1747,Referencias!$C$4:$D$21,2,FALSE())","v":"Primera Corazón"},{"$f":"VLOOKUP(I1747,Referencias!$B$24:$C$41,2,FALSE())","v":"C.MAD"},{"$f":"VLOOKUP(C1747,Referencias!$C$4:$E$21,3,FALSE())","v":1},"Competición","Madrileña"]
["2813128","Bielsa Ferrer, Pilar","3D","D",{"$f":"VLOOKUP(C1748,Referencias!$C$4:$D$21,2,FALSE())","v":"Tercera Diamante"},{"$f":"VLOOKUP(I1748,Referencias!$B$24:$C$41,2,FALSE())","v":"C.MAD"},{"$f":"VLOOKUP(C1748,Referencias!$C$4:$E$21,3,FALSE())","v":3},"Competición","Madrileña"]
["2813129","Blanco Rodríguez, Dolores","3P","D",{"$f":"VLOOKUP(C1749,Referencias!$C$4:$D$21,2,FALSE())","v":"Tercera Picas"},{"$f":"VLOOKUP(I1749,Referencias!$B$24:$C$41,2,FALSE())","v":"C.MAD"},{"$f":"VLOOKUP(C1749,Referencias!$C$4:$E$21,3,FALSE())","v":3},"Competición","Madrileña"]
["2813130","Creus Ramírez de Haro, María Asunción","2D","D",{"$f":"VLOOKUP(C1750,Referencias!$C$4:$D$21,2,FALSE())","v":"Segunda Diamante"},{"$f":"VLOOKUP(I1750,Referencias!$B$24:$C$41,2,FALSE())","v":"C.MAD"},{"$f":"VLOOKUP(C1750,Referencias!$C$4:$E$21,3,FALSE())","v":2},"Competición","Madrileña"]
["2813131","Krohn, Ingrid","3C","D",{"$f":"VLOOKUP(C1751,Referencias!$C$4:$D$21,2,FALSE())","v":"Tercera Corazón"},{"$f":"VLOOKUP(I1751,Referencias!$B$24:$C$41,2,FALSE())","v":"C.MAD"},{"$f":"VLOOKUP(C1751,Referencias!$C$4:$E$21,3,FALSE())","v":3},"Competición","Madrileña"]
["2813132","Wendel, Ingrid","3D","D",{"$f":"VLOOKUP(C1752,Referencias!$C$4:$D$21,2,FALSE())","v":"Tercera Diamante"},{"$f":"VLOOKUP(I1752,Referencias!$B$24:$C$41,2,FALSE())","v":"C.MAD"},{"$f":"VLOOKUP(C1752,Referencias!$C$4:$E$21,3,FALSE())","v":3},"Competición","Madrileña"]
["2813133","Kremers, Marlis","1D","D",{"$f":"VLOOKUP(C1753,Referencias!$C$4:$D$21,2,FALSE())","v":"Primera Diamante"},{"$f":"VLOOKUP(I1753,Referencias!$B$24:$C$41,2,FALSE())","v":"C.MAD"},{"$f":"VLOOKUP(C1753,Referencias!$C$4:$E$21,3,FALSE())","v":1},"Competición","Madrileña"]
["2813134","Sagi-Vela Pilón, Elena","1D","D",{"$f":"VLOOKUP(C1754,Referencias!$C$4:$D$21,2,FALSE())","v":"Primera Diamante"},{"$f":"VLOOKUP(I1754,Referencias!$B$24:$C$41,2,FALSE())","v":"C.MAD"},{"$f":"VLOOKUP(C1754,Referencias!$C$4:$E$21,3,FALSE())","v":1},"Competición","Madrileña"]
["2813135","Sanz-Pastor Mingot, Miryam","1D","D",{"$f":"VLOOKUP(C1755,Referencias!$C$4:$D$21,2,FALSE())","v":"Primera Diamante"},{"$f":"VLOOKUP(I1755,Referencias!$B$24:$C$41,2,FALSE())","v":"C.MAD"},{"$f":"VLOOKUP(C1755,Referencias!$C$4:$E$21,3,FALSE())","v":1},"Competición","Madrileña"]
["2813139","Aparicio De Lázaro, Blanca","3D","D",{"$f":"VLOOKUP(C1756,Referencias!$C$4:$D$21,2,FALSE())","v":"Tercera Diamante"},{"$f":"VLOOKUP(I1756,Referencias!$B$24:$C$41,2,FALSE())","v":"C.MAD"},{"$f":"VLOOKUP(C1756,Referencias!$C$4:$E$21,3,FALSE())","v":3},"Competición","Madrileña"]
["2813141","Cillero Mourelo, Antonio","3D","C",{"$f":"VLOOKUP(C1757,Referencias!$C$4:$D$21,2,FALSE())","v":"Tercera Diamante"},{"$f":"VLOOKUP(I1757,Referencias!$B$24:$C$41,2,FALSE())","v":"C.MAD"},{"$f":"VLOOKUP(C1757,Referencias!$C$4:$E$21,3,FALSE())","v":3},"Competición","Madrileña"]
["2813142","Cavero Crespi, Joaquín","1P","C",{"$f":"VLOOKUP(C1758,Referencias!$C$4:$D$21,2,FALSE())","v":"Primera Picas"},{"$f":"VLOOKUP(I1758,Referencias!$B$24:$C$41,2,FALSE())","v":"C.MAD"},{"$f":"VLOOKUP(C1758,Referencias!$C$4:$E$21,3,FALSE())","v":1},"Competición","Madrileña"]
["2813144","Zamora Paguaga, Paz","3P","D",{"$f":"VLOOKUP(C1759,Referencias!$C$4:$D$21,2,FALSE())","v":"Tercera Picas"},{"$f":"VLOOKUP(I1759,Referencias!$B$24:$C$41,2,FALSE())","v":"C.MAD"},{"$f":"VLOOKUP(C1759,Referencias!$C$4:$E$21,3,FALSE())","v":3},"Competición","Madrileña"]
["2813147","Azcárraga Gonzalo, Álvaro","1D","C",{"$f":"VLOOKUP(C1760,Referencias!$C$4:$D$21,2,FALSE())","v":"Primera Diamante"},{"$f":"VLOOKUP(I1760,Referencias!$B$24:$C$41,2,FALSE())","v":"C.MAD"},{"$f":"VLOOKUP(C1760,Referencias!$C$4:$E$21,3,FALSE())","v":1},"Competición","Madrileña"]
["2813153","Falcones Jaquotot, José Miguel","2P","C",{"$f":"VLOOKUP(C1761,Referencias!$C$4:$D$21,2,FALSE())","v":"Segunda Picas"},{"$f":"VLOOKUP(I1761,Referencias!$B$24:$C$41,2,FALSE())","v":"C.MAD"},{"$f":"VLOOKUP(C1761,Referencias!$C$4:$E$21,3,FALSE())","v":2},"Competición","Madrileña"]
["2813155","Romaguera Cuevas, Luisa María","3D","D",{"$f":"VLOOKUP(C1762,Referencias!$C$4:$D$21,2,FALSE())","v":"Tercera Diamante"},{"$f":"VLOOKUP(I1762,Referencias!$B$24:$C$41,2,FALSE())","v":"C.MAD"},{"$f":"VLOOKUP(C1762,Referencias!$C$4:$E$21,3,FALSE())","v":3},"Competición","Madrileña"]
["2813158","Larrea , Sagrario","3P","D",{"$f":"VLOOKUP(C1763,Referencias!$C$4:$D$21,2,FALSE())","v":"Tercera Picas"},{"$f":"VLOOKUP(I1763,Referencias!$B$24:$C$41,2,FALSE())","v":"C.MAD"},{"$f":"VLOOKUP(C1763,Referencias!$C$4:$E$21,3,FALSE())","v":3},"Competición","Madrileña"]
["2813160","Megias Comín, Myriam","3P","D",{"$f":"VLOOKUP(C1764,Referencias!$C$4:$D$21,2,FALSE())","v":"Tercera Picas"},{"$f":"VLOOKUP(I1764,Referencias!$B$24:$C$41,2,FALSE())","v":"C.MAD"},{"$f":"VLOOKUP(C1764,Referencias!$C$4:$E$21,3,FALSE())","v":3},"Competición","Madrileña"]
["2813161","Rodríguez Sarasa, María Luz","3D","D",{"$f":"VLOOKUP(C1765,Referencias!$C$4:$D$21,2,FALSE())","v":"Tercera Diamante"},{"$f":"VLOOKUP(I1765,Referencias!$B$24:$C$41,2,FALSE())","v":"C.MAD"},{"$f":"VLOOKUP(C1765,Referencias!$C$4:$E$21,3,FALSE())","v":3},"Competición","Madrileña"]
["2813162","García de la Rasilla Domínguez, María Socorro","3C","D",{"$f":"VLOOKUP(C1766,Referencias!$C$4:$D$21,2,FALSE())","v":"Tercera Corazón"},{"$f":"VLOOKUP(I1766,Referencias!$B$24:$C$41,2,FALSE())","v":"C.MAD"},{"$f":"VLOOKUP(C1766,Referencias!$C$4:$E$21,3,FALSE())","v":3},"Competición","Madrileña"]
["2813163","Alvaro Bermejo, Ángela","3P","D",{"$f":"VLOOKUP(C1767,Referencias!$C$4:$D$21,2,FALSE())","v":"Tercera Picas"},{"$f":"VLOOKUP(I1767,Referencias!$B$24:$C$41,2,FALSE())","v":"C.MAD"},{"$f":"VLOOKUP(C1767,Referencias!$C$4:$E$21,3,FALSE())","v":3},"Competición","Madrileña"]
["2813166","Fernández Martínez, Marina","3D","D",{"$f":"VLOOKUP(C1768,Referencias!$C$4:$D$21,2,FALSE())","v":"Tercera Diamante"},{"$f":"VLOOKUP(I1768,Referencias!$B$24:$C$41,2,FALSE())","v":"C.MAD"},{"$f":"VLOOKUP(C1768,Referencias!$C$4:$E$21,3,FALSE())","v":3},"Competición","Madrileña"]
["2813167","Arranz de Lama, María Ángeles","3D","D",{"$f":"VLOOKUP(C1769,Referencias!$C$4:$D$21,2,FALSE())","v":"Tercera Diamante"},{"$f":"VLOOKUP(I1769,Referencias!$B$24:$C$41,2,FALSE())","v":"C.MAD"},{"$f":"VLOOKUP(C1769,Referencias!$C$4:$E$21,3,FALSE())","v":3},"Competición","Madrileña"]
["2813171","Anglada Sant, María Ángeles","3D","D",{"$f":"VLOOKUP(C1770,Referencias!$C$4:$D$21,2,FALSE())","v":"Tercera Diamante"},{"$f":"VLOOKUP(I1770,Referencias!$B$24:$C$41,2,FALSE())","v":"C.MAD"},{"$f":"VLOOKUP(C1770,Referencias!$C$4:$E$21,3,FALSE())","v":3},"Competición","Madrileña"]
["2813175","Díaz Beltrán, María Teresa","3P","D",{"$f":"VLOOKUP(C1771,Referencias!$C$4:$D$21,2,FALSE())","v":"Tercera Picas"},{"$f":"VLOOKUP(I1771,Referencias!$B$24:$C$41,2,FALSE())","v":"C.MAD"},{"$f":"VLOOKUP(C1771,Referencias!$C$4:$E$21,3,FALSE())","v":3},"Competición","Madrileña"]
["2813176","Beneyto Garnica, Virginia","3D","D",{"$f":"VLOOKUP(C1772,Referencias!$C$4:$D$21,2,FALSE())","v":"Tercera Diamante"},{"$f":"VLOOKUP(I1772,Referencias!$B$24:$C$41,2,FALSE())","v":"C.MAD"},{"$f":"VLOOKUP(C1772,Referencias!$C$4:$E$21,3,FALSE())","v":3},"Competición","Madrileña"]
["2813177","Alonso-Buron Chaves, Mariana","3D","D",{"$f":"VLOOKUP(C1773,Referencias!$C$4:$D$21,2,FALSE())","v":"Tercera Diamante"},{"$f":"VLOOKUP(I1773,Referencias!$B$24:$C$41,2,FALSE())","v":"C.MAD"},{"$f":"VLOOKUP(C1773,Referencias!$C$4:$E$21,3,FALSE())","v":3},"Competición","Madrileña"]
["2813178","Solis Bustos, Cristina","3C","D",{"$f":"VLOOKUP(C1774,Referencias!$C$4:$D$21,2,FALSE())","v":"Tercera Corazón"},{"$f":"VLOOKUP(I1774,Referencias!$B$24:$C$41,2,FALSE())","v":"C.MAD"},{"$f":"VLOOKUP(C1774,Referencias!$C$4:$E$21,3,FALSE())","v":3},"Competición","Madrileña"]
["2813180","de Lacalle Noriega, Carmen","3D","D",{"$f":"VLOOKUP(C1775,Referencias!$C$4:$D$21,2,FALSE())","v":"Tercera Diamante"},{"$f":"VLOOKUP(I1775,Referencias!$B$24:$C$41,2,FALSE())","v":"C.MAD"},{"$f":"VLOOKUP(C1775,Referencias!$C$4:$E$21,3,FALSE())","v":3},"Competición","Madrileña"]
["2813181","Artola Fernández-Miranda, Susana","3D","D",{"$f":"VLOOKUP(C1776,Referencias!$C$4:$D$21,2,FALSE())","v":"Tercera Diamante"},{"$f":"VLOOKUP(I1776,Referencias!$B$24:$C$41,2,FALSE())","v":"C.MAD"},{"$f":"VLOOKUP(C1776,Referencias!$C$4:$E$21,3,FALSE())","v":3},"Competición","Madrileña"]
["2813182","Torrubia Chalmeta, Pilar","3C","D",{"$f":"VLOOKUP(C1777,Referencias!$C$4:$D$21,2,FALSE())","v":"Tercera Corazón"},{"$f":"VLOOKUP(I1777,Referencias!$B$24:$C$41,2,FALSE())","v":"C.MAD"},{"$f":"VLOOKUP(C1777,Referencias!$C$4:$E$21,3,FALSE())","v":3},"Competición","Madrileña"]
["2813184","Rodríguez Andrés, Julia","3D","D",{"$f":"VLOOKUP(C1778,Referencias!$C$4:$D$21,2,FALSE())","v":"Tercera Diamante"},{"$f":"VLOOKUP(I1778,Referencias!$B$24:$C$41,2,FALSE())","v":"C.MAD"},{"$f":"VLOOKUP(C1778,Referencias!$C$4:$E$21,3,FALSE())","v":3},"Competición","Madrileña"]
["2813185","Ramírez Sánchez, Encarna","2C","D",{"$f":"VLOOKUP(C1779,Referencias!$C$4:$D$21,2,FALSE())","v":"Segunda Corazón"},{"$f":"VLOOKUP(I1779,Referencias!$B$24:$C$41,2,FALSE())","v":"C.MAD"},{"$f":"VLOOKUP(C1779,Referencias!$C$4:$E$21,3,FALSE())","v":2},"Competición","Madrileña"]
["2813187","Murphy Coffey, Anne","3D","D",{"$f":"VLOOKUP(C1780,Referencias!$C$4:$D$21,2,FALSE())","v":"Tercera Diamante"},{"$f":"VLOOKUP(I1780,Referencias!$B$24:$C$41,2,FALSE())","v":"C.MAD"},{"$f":"VLOOKUP(C1780,Referencias!$C$4:$E$21,3,FALSE())","v":3},"Competición","Madrileña"]
["2813188","Trujillo Ríos, Andrés","2D","C",{"$f":"VLOOKUP(C1781,Referencias!$C$4:$D$21,2,FALSE())","v":"Segunda Diamante"},{"$f":"VLOOKUP(I1781,Referencias!$B$24:$C$41,2,FALSE())","v":"C.MAD"},{"$f":"VLOOKUP(C1781,Referencias!$C$4:$E$21,3,FALSE())","v":2},"Competición","Madrileña"]
["2813189","Basagoiti González-Trevilla, Paloma","3D","D",{"$f":"VLOOKUP(C1782,Referencias!$C$4:$D$21,2,FALSE())","v":"Tercera Diamante"},{"$f":"VLOOKUP(I1782,Referencias!$B$24:$C$41,2,FALSE())","v":"C.MAD"},{"$f":"VLOOKUP(C1782,Referencias!$C$4:$E$21,3,FALSE())","v":3},"Competición","Madrileña"]
["2813190","Cabrero Abascal, Georgiana","3D","D",{"$f":"VLOOKUP(C1783,Referencias!$C$4:$D$21,2,FALSE())","v":"Tercera Diamante"},{"$f":"VLOOKUP(I1783,Referencias!$B$24:$C$41,2,FALSE())","v":"C.MAD"},{"$f":"VLOOKUP(C1783,Referencias!$C$4:$E$21,3,FALSE())","v":3},"Competición","Madrileña"]
["2813191","García-Calbelo Castellano, María Dolores","3D","D",{"$f":"VLOOKUP(C1784,Referencias!$C$4:$D$21,2,FALSE())","v":"Tercera Diamante"},{"$f":"VLOOKUP(I1784,Referencias!$B$24:$C$41,2,FALSE())","v":"C.MAD"},{"$f":"VLOOKUP(C1784,Referencias!$C$4:$E$21,3,FALSE())","v":3},"Competición","Madrileña"]
["2813192","Llarena Bastarreche, María Josefa","3C","D",{"$f":"VLOOKUP(C1785,Referencias!$C$4:$D$21,2,FALSE())","v":"Tercera Corazón"},{"$f":"VLOOKUP(I1785,Referencias!$B$24:$C$41,2,FALSE())","v":"C.MAD"},{"$f":"VLOOKUP(C1785,Referencias!$C$4:$E$21,3,FALSE())","v":3},"Competición","Madrileña"]
["2813196","López Díaz, Mercedes","1C","D",{"$f":"VLOOKUP(C1786,Referencias!$C$4:$D$21,2,FALSE())","v":"Primera Corazón"},{"$f":"VLOOKUP(I1786,Referencias!$B$24:$C$41,2,FALSE())","v":"C.MAD"},{"$f":"VLOOKUP(C1786,Referencias!$C$4:$E$21,3,FALSE())","v":1},"Competición","Madrileña"]
["2813199","de Casaus Reig, Rosalía","3C","D",{"$f":"VLOOKUP(C1787,Referencias!$C$4:$D$21,2,FALSE())","v":"Tercera Corazón"},{"$f":"VLOOKUP(I1787,Referencias!$B$24:$C$41,2,FALSE())","v":"C.MAD"},{"$f":"VLOOKUP(C1787,Referencias!$C$4:$E$21,3,FALSE())","v":3},"Competición","Madrileña"]
["2813200","Felip Fernández, Enrique","3C","C",{"$f":"VLOOKUP(C1788,Referencias!$C$4:$D$21,2,FALSE())","v":"Tercera Corazón"},{"$f":"VLOOKUP(I1788,Referencias!$B$24:$C$41,2,FALSE())","v":"C.MAD"},{"$f":"VLOOKUP(C1788,Referencias!$C$4:$E$21,3,FALSE())","v":3},"Competición","Madrileña"]
["2813201","del Val Hermoso, Sol","3D","D",{"$f":"VLOOKUP(C1789,Referencias!$C$4:$D$21,2,FALSE())","v":"Tercera Diamante"},{"$f":"VLOOKUP(I1789,Referencias!$B$24:$C$41,2,FALSE())","v":"C.MAD"},{"$f":"VLOOKUP(C1789,Referencias!$C$4:$E$21,3,FALSE())","v":3},"Competición","Madrileña"]
["2813205","Agustí Herrero, Agustina Dolores","3D","D",{"$f":"VLOOKUP(C1790,Referencias!$C$4:$D$21,2,FALSE())","v":"Tercera Diamante"},{"$f":"VLOOKUP(I1790,Referencias!$B$24:$C$41,2,FALSE())","v":"C.MAD"},{"$f":"VLOOKUP(C1790,Referencias!$C$4:$E$21,3,FALSE())","v":3},"Honorífica","Madrileña"]
["2813208","Domingo Bové, Monserrat","3D","D",{"$f":"VLOOKUP(C1791,Referencias!$C$4:$D$21,2,FALSE())","v":"Tercera Diamante"},{"$f":"VLOOKUP(I1791,Referencias!$B$24:$C$41,2,FALSE())","v":"C.MAD"},{"$f":"VLOOKUP(C1791,Referencias!$C$4:$E$21,3,FALSE())","v":3},"Honorífica","Madrileña"]
["2813217","Álvarez Maríz, Carmen","3P","D",{"$f":"VLOOKUP(C1792,Referencias!$C$4:$D$21,2,FALSE())","v":"Tercera Picas"},{"$f":"VLOOKUP(I1792,Referencias!$B$24:$C$41,2,FALSE())","v":"C.MAD"},{"$f":"VLOOKUP(C1792,Referencias!$C$4:$E$21,3,FALSE())","v":3},"Competición","Madrileña"]
["2813218","Grandas Alonso, Isabel","3C","D",{"$f":"VLOOKUP(C1793,Referencias!$C$4:$D$21,2,FALSE())","v":"Tercera Corazón"},{"$f":"VLOOKUP(I1793,Referencias!$B$24:$C$41,2,FALSE())","v":"C.MAD"},{"$f":"VLOOKUP(C1793,Referencias!$C$4:$E$21,3,FALSE())","v":3},"Competición","Madrileña"]
["2813219","Sanz Iglesias, Amalia","2D","D",{"$f":"VLOOKUP(C1794,Referencias!$C$4:$D$21,2,FALSE())","v":"Segunda Diamante"},{"$f":"VLOOKUP(I1794,Referencias!$B$24:$C$41,2,FALSE())","v":"C.MAD"},{"$f":"VLOOKUP(C1794,Referencias!$C$4:$E$21,3,FALSE())","v":2},"Competición","Madrileña"]
["2813220","Morales Motos, Isabel","1D","D",{"$f":"VLOOKUP(C1795,Referencias!$C$4:$D$21,2,FALSE())","v":"Primera Diamante"},{"$f":"VLOOKUP(I1795,Referencias!$B$24:$C$41,2,FALSE())","v":"C.MAD"},{"$f":"VLOOKUP(C1795,Referencias!$C$4:$E$21,3,FALSE())","v":1},"Competición","Madrileña"]
["2813221","Gustafsson Akerfeldt, Verónica","3D","D",{"$f":"VLOOKUP(C1796,Referencias!$C$4:$D$21,2,FALSE())","v":"Tercera Diamante"},{"$f":"VLOOKUP(I1796,Referencias!$B$24:$C$41,2,FALSE())","v":"C.MAD"},{"$f":"VLOOKUP(C1796,Referencias!$C$4:$E$21,3,FALSE())","v":3},"Competición","Madrileña"]
["2813223","Leal Pérez-Olagüe, María Luisa","3D","D",{"$f":"VLOOKUP(C1797,Referencias!$C$4:$D$21,2,FALSE())","v":"Tercera Diamante"},{"$f":"VLOOKUP(I1797,Referencias!$B$24:$C$41,2,FALSE())","v":"C.MAD"},{"$f":"VLOOKUP(C1797,Referencias!$C$4:$E$21,3,FALSE())","v":3},"Competición","Madrileña"]
["2813224","Magro Mas, Inmaculada","3C","D",{"$f":"VLOOKUP(C1798,Referencias!$C$4:$D$21,2,FALSE())","v":"Tercera Corazón"},{"$f":"VLOOKUP(I1798,Referencias!$B$24:$C$41,2,FALSE())","v":"C.MAD"},{"$f":"VLOOKUP(C1798,Referencias!$C$4:$E$21,3,FALSE())","v":3},"Competición","Madrileña"]
["2813227","Ayala Hernández, José","1C","C",{"$f":"VLOOKUP(C1799,Referencias!$C$4:$D$21,2,FALSE())","v":"Primera Corazón"},{"$f":"VLOOKUP(I1799,Referencias!$B$24:$C$41,2,FALSE())","v":"C.MAD"},{"$f":"VLOOKUP(C1799,Referencias!$C$4:$E$21,3,FALSE())","v":1},"Competición","Madrileña"]
["2813228","Sanz Iglesias, Pilar","3D","D",{"$f":"VLOOKUP(C1800,Referencias!$C$4:$D$21,2,FALSE())","v":"Tercera Diamante"},{"$f":"VLOOKUP(I1800,Referencias!$B$24:$C$41,2,FALSE())","v":"C.MAD"},{"$f":"VLOOKUP(C1800,Referencias!$C$4:$E$21,3,FALSE())","v":3},"Competición","Madrileña"]
["2813229","Español Jofre de Villegas, Pilar","3P","D",{"$f":"VLOOKUP(C1801,Referencias!$C$4:$D$21,2,FALSE())","v":"Tercera Picas"},{"$f":"VLOOKUP(I1801,Referencias!$B$24:$C$41,2,FALSE())","v":"C.MAD"},{"$f":"VLOOKUP(C1801,Referencias!$C$4:$E$21,3,FALSE())","v":3},"Competición","Madrileña"]
["2813231","Grech , Paz","1D","D",{"$f":"VLOOKUP(C1802,Referencias!$C$4:$D$21,2,FALSE())","v":"Primera Diamante"},{"$f":"VLOOKUP(I1802,Referencias!$B$24:$C$41,2,FALSE())","v":"C.MAD"},{"$f":"VLOOKUP(C1802,Referencias!$C$4:$E$21,3,FALSE())","v":1},"Honorífica","Madrileña"]
["2813232","Domingo Ruano, Rosario","3D","D",{"$f":"VLOOKUP(C1803,Referencias!$C$4:$D$21,2,FALSE())","v":"Tercera Diamante"},{"$f":"VLOOKUP(I1803,Referencias!$B$24:$C$41,2,FALSE())","v":"C.MAD"},{"$f":"VLOOKUP(C1803,Referencias!$C$4:$E$21,3,FALSE())","v":3},"Competición","Madrileña"]
["2813238","Marquina Sacristán, Concepción","2D","D",{"$f":"VLOOKUP(C1804,Referencias!$C$4:$D$21,2,FALSE())","v":"Segunda Diamante"},{"$f":"VLOOKUP(I1804,Referencias!$B$24:$C$41,2,FALSE())","v":"C.MAD"},{"$f":"VLOOKUP(C1804,Referencias!$C$4:$E$21,3,FALSE())","v":2},"Competición","Madrileña"]
["2813244","Sáenz Cala, María Ángeles","3D","D",{"$f":"VLOOKUP(C1805,Referencias!$C$4:$D$21,2,FALSE())","v":"Tercera Diamante"},{"$f":"VLOOKUP(I1805,Referencias!$B$24:$C$41,2,FALSE())","v":"C.MAD"},{"$f":"VLOOKUP(C1805,Referencias!$C$4:$E$21,3,FALSE())","v":3},"Competición","Madrileña"]
["2813245","De la Peña González-Camino, Berta","2C","D",{"$f":"VLOOKUP(C1806,Referencias!$C$4:$D$21,2,FALSE())","v":"Segunda Corazón"},{"$f":"VLOOKUP(I1806,Referencias!$B$24:$C$41,2,FALSE())","v":"C.MAD"},{"$f":"VLOOKUP(C1806,Referencias!$C$4:$E$21,3,FALSE())","v":2},"Competición","Madrileña"]
["2813246","Perera Briones, Virginia","3C","D",{"$f":"VLOOKUP(C1807,Referencias!$C$4:$D$21,2,FALSE())","v":"Tercera Corazón"},{"$f":"VLOOKUP(I1807,Referencias!$B$24:$C$41,2,FALSE())","v":"C.MAD"},{"$f":"VLOOKUP(C1807,Referencias!$C$4:$E$21,3,FALSE())","v":3},"Competición","Madrileña"]
["2813248","Perera Briones, Cristina","3D","D",{"$f":"VLOOKUP(C1808,Referencias!$C$4:$D$21,2,FALSE())","v":"Tercera Diamante"},{"$f":"VLOOKUP(I1808,Referencias!$B$24:$C$41,2,FALSE())","v":"C.MAD"},{"$f":"VLOOKUP(C1808,Referencias!$C$4:$E$21,3,FALSE())","v":3},"Competición","Madrileña"]
["2813249","Aguilar Urquijo, María","3P","D",{"$f":"VLOOKUP(C1809,Referencias!$C$4:$D$21,2,FALSE())","v":"Tercera Picas"},{"$f":"VLOOKUP(I1809,Referencias!$B$24:$C$41,2,FALSE())","v":"C.MAD"},{"$f":"VLOOKUP(C1809,Referencias!$C$4:$E$21,3,FALSE())","v":3},"Competición","Madrileña"]
["2813251","Esparza Hernández, Carmen","2D","D",{"$f":"VLOOKUP(C1810,Referencias!$C$4:$D$21,2,FALSE())","v":"Segunda Diamante"},{"$f":"VLOOKUP(I1810,Referencias!$B$24:$C$41,2,FALSE())","v":"C.MAD"},{"$f":"VLOOKUP(C1810,Referencias!$C$4:$E$21,3,FALSE())","v":2},"Competición","Madrileña"]
["2813252","Jiménez Muro, Carmen","3D","D",{"$f":"VLOOKUP(C1811,Referencias!$C$4:$D$21,2,FALSE())","v":"Tercera Diamante"},{"$f":"VLOOKUP(I1811,Referencias!$B$24:$C$41,2,FALSE())","v":"C.MAD"},{"$f":"VLOOKUP(C1811,Referencias!$C$4:$E$21,3,FALSE())","v":3},"Competición","Madrileña"]
["2813254","Zunzunegui Arocena, Zenaida","3D","D",{"$f":"VLOOKUP(C1812,Referencias!$C$4:$D$21,2,FALSE())","v":"Tercera Diamante"},{"$f":"VLOOKUP(I1812,Referencias!$B$24:$C$41,2,FALSE())","v":"C.MAD"},{"$f":"VLOOKUP(C1812,Referencias!$C$4:$E$21,3,FALSE())","v":3},"Competición","Madrileña"]
["2813256","López Gallego, Concepción","2D","D",{"$f":"VLOOKUP(C1813,Referencias!$C$4:$D$21,2,FALSE())","v":"Segunda Diamante"},{"$f":"VLOOKUP(I1813,Referencias!$B$24:$C$41,2,FALSE())","v":"C.MAD"},{"$f":"VLOOKUP(C1813,Referencias!$C$4:$E$21,3,FALSE())","v":2},"Competición","Madrileña"]
["2813259","Aguado de Corral, Myriam","1C","D",{"$f":"VLOOKUP(C1814,Referencias!$C$4:$D$21,2,FALSE())","v":"Primera Corazón"},{"$f":"VLOOKUP(I1814,Referencias!$B$24:$C$41,2,FALSE())","v":"C.MAD"},{"$f":"VLOOKUP(C1814,Referencias!$C$4:$E$21,3,FALSE())","v":1},"Competición","Madrileña"]
["2813260","de Corral Yerro, María Soledad","3P","D",{"$f":"VLOOKUP(C1815,Referencias!$C$4:$D$21,2,FALSE())","v":"Tercera Picas"},{"$f":"VLOOKUP(I1815,Referencias!$B$24:$C$41,2,FALSE())","v":"C.MAD"},{"$f":"VLOOKUP(C1815,Referencias!$C$4:$E$21,3,FALSE())","v":3},"Competición","Madrileña"]
["2813261","Rosety Blanco, Beatríz","1P","D",{"$f":"VLOOKUP(C1816,Referencias!$C$4:$D$21,2,FALSE())","v":"Primera Picas"},{"$f":"VLOOKUP(I1816,Referencias!$B$24:$C$41,2,FALSE())","v":"C.MAD"},{"$f":"VLOOKUP(C1816,Referencias!$C$4:$E$21,3,FALSE())","v":1},"Competición","Madrileña"]
["2813262","Garate Barrenechea, José Felix","2C","C",{"$f":"VLOOKUP(C1817,Referencias!$C$4:$D$21,2,FALSE())","v":"Segunda Corazón"},{"$f":"VLOOKUP(I1817,Referencias!$B$24:$C$41,2,FALSE())","v":"C.MAD"},{"$f":"VLOOKUP(C1817,Referencias!$C$4:$E$21,3,FALSE())","v":2},"Competición","Madrileña"]
["2813263","García Casado, Esther","1P","D",{"$f":"VLOOKUP(C1818,Referencias!$C$4:$D$21,2,FALSE())","v":"Primera Picas"},{"$f":"VLOOKUP(I1818,Referencias!$B$24:$C$41,2,FALSE())","v":"C.MAD"},{"$f":"VLOOKUP(C1818,Referencias!$C$4:$E$21,3,FALSE())","v":1},"Competición","Madrileña"]
["2813264","Heredero San José, María Jesús","2D","D",{"$f":"VLOOKUP(C1819,Referencias!$C$4:$D$21,2,FALSE())","v":"Segunda Diamante"},{"$f":"VLOOKUP(I1819,Referencias!$B$24:$C$41,2,FALSE())","v":"C.MAD"},{"$f":"VLOOKUP(C1819,Referencias!$C$4:$E$21,3,FALSE())","v":2},"Competición","Madrileña"]
["2813269","González de Aguilar Alonso-Urquijo, Francisca","3P","D",{"$f":"VLOOKUP(C1820,Referencias!$C$4:$D$21,2,FALSE())","v":"Tercera Picas"},{"$f":"VLOOKUP(I1820,Referencias!$B$24:$C$41,2,FALSE())","v":"C.MAD"},{"$f":"VLOOKUP(C1820,Referencias!$C$4:$E$21,3,FALSE())","v":3},"Competición","Madrileña"]
["2813270","Gil de Santivañes de la Mora, Marta","3D","D",{"$f":"VLOOKUP(C1821,Referencias!$C$4:$D$21,2,FALSE())","v":"Tercera Diamante"},{"$f":"VLOOKUP(I1821,Referencias!$B$24:$C$41,2,FALSE())","v":"C.MAD"},{"$f":"VLOOKUP(C1821,Referencias!$C$4:$E$21,3,FALSE())","v":3},"Competición","Madrileña"]
["2813271","González de Aguilar Alonso-Urquijo, Sofía","3D","D",{"$f":"VLOOKUP(C1822,Referencias!$C$4:$D$21,2,FALSE())","v":"Tercera Diamante"},{"$f":"VLOOKUP(I1822,Referencias!$B$24:$C$41,2,FALSE())","v":"C.MAD"},{"$f":"VLOOKUP(C1822,Referencias!$C$4:$E$21,3,FALSE())","v":3},"Competición","Madrileña"]
["2813272","Álvarez de Espejo Mariategui, Regina","3D","D",{"$f":"VLOOKUP(C1823,Referencias!$C$4:$D$21,2,FALSE())","v":"Tercera Diamante"},{"$f":"VLOOKUP(I1823,Referencias!$B$24:$C$41,2,FALSE())","v":"C.MAD"},{"$f":"VLOOKUP(C1823,Referencias!$C$4:$E$21,3,FALSE())","v":3},"Competición","Madrileña"]
["2813275","Rubio Matilla, María","3D","D",{"$f":"VLOOKUP(C1824,Referencias!$C$4:$D$21,2,FALSE())","v":"Tercera Diamante"},{"$f":"VLOOKUP(I1824,Referencias!$B$24:$C$41,2,FALSE())","v":"C.MAD"},{"$f":"VLOOKUP(C1824,Referencias!$C$4:$E$21,3,FALSE())","v":3},"Competición","Madrileña"]
["2813278","Naeder Gueutier, Virginia","2D","D",{"$f":"VLOOKUP(C1825,Referencias!$C$4:$D$21,2,FALSE())","v":"Segunda Diamante"},{"$f":"VLOOKUP(I1825,Referencias!$B$24:$C$41,2,FALSE())","v":"C.MAD"},{"$f":"VLOOKUP(C1825,Referencias!$C$4:$E$21,3,FALSE())","v":2},"Competición","Madrileña"]
["2813279","Bensadon Belicha, Larry","2D","C",{"$f":"VLOOKUP(C1826,Referencias!$C$4:$D$21,2,FALSE())","v":"Segunda Diamante"},{"$f":"VLOOKUP(I1826,Referencias!$B$24:$C$41,2,FALSE())","v":"C.MAD"},{"$f":"VLOOKUP(C1826,Referencias!$C$4:$E$21,3,FALSE())","v":2},"Competición","Madrileña"]
["2813283","Buendía García, Esther","3D","D",{"$f":"VLOOKUP(C1827,Referencias!$C$4:$D$21,2,FALSE())","v":"Tercera Diamante"},{"$f":"VLOOKUP(I1827,Referencias!$B$24:$C$41,2,FALSE())","v":"C.MAD"},{"$f":"VLOOKUP(C1827,Referencias!$C$4:$E$21,3,FALSE())","v":3},"Competición","Madrileña"]
["2813284","Teo, Carol","3C","D",{"$f":"VLOOKUP(C1828,Referencias!$C$4:$D$21,2,FALSE())","v":"Tercera Corazón"},{"$f":"VLOOKUP(I1828,Referencias!$B$24:$C$41,2,FALSE())","v":"C.MAD"},{"$f":"VLOOKUP(C1828,Referencias!$C$4:$E$21,3,FALSE())","v":3},"Competición","Madrileña"]
["2813285","Bartolomé Álvarez, José María","3D","C",{"$f":"VLOOKUP(C1829,Referencias!$C$4:$D$21,2,FALSE())","v":"Tercera Diamante"},{"$f":"VLOOKUP(I1829,Referencias!$B$24:$C$41,2,FALSE())","v":"C.MAD"},{"$f":"VLOOKUP(C1829,Referencias!$C$4:$E$21,3,FALSE())","v":3},"Competición","Madrileña"]
["2813286","Maillo Romero, Araceli","3D","D",{"$f":"VLOOKUP(C1830,Referencias!$C$4:$D$21,2,FALSE())","v":"Tercera Diamante"},{"$f":"VLOOKUP(I1830,Referencias!$B$24:$C$41,2,FALSE())","v":"C.MAD"},{"$f":"VLOOKUP(C1830,Referencias!$C$4:$E$21,3,FALSE())","v":3},"Competición","Madrileña"]
["2813287","Ripollés Moro, María del Carmen","3C","D",{"$f":"VLOOKUP(C1831,Referencias!$C$4:$D$21,2,FALSE())","v":"Tercera Corazón"},{"$f":"VLOOKUP(I1831,Referencias!$B$24:$C$41,2,FALSE())","v":"C.MAD"},{"$f":"VLOOKUP(C1831,Referencias!$C$4:$E$21,3,FALSE())","v":3},"Competición","Madrileña"]
["2813288","Arias Campo, Ana","3D","D",{"$f":"VLOOKUP(C1832,Referencias!$C$4:$D$21,2,FALSE())","v":"Tercera Diamante"},{"$f":"VLOOKUP(I1832,Referencias!$B$24:$C$41,2,FALSE())","v":"C.MAD"},{"$f":"VLOOKUP(C1832,Referencias!$C$4:$E$21,3,FALSE())","v":3},"Competición","Madrileña"]
["2813289","Villa Montes, Esperanza","3D","D",{"$f":"VLOOKUP(C1833,Referencias!$C$4:$D$21,2,FALSE())","v":"Tercera Diamante"},{"$f":"VLOOKUP(I1833,Referencias!$B$24:$C$41,2,FALSE())","v":"C.MAD"},{"$f":"VLOOKUP(C1833,Referencias!$C$4:$E$21,3,FALSE())","v":3},"Competición","Madrileña"]
["2813290","Moriyón Salomón, Roberto","1C","C",{"$f":"VLOOKUP(C1834,Referencias!$C$4:$D$21,2,FALSE())","v":"Primera Corazón"},{"$f":"VLOOKUP(I1834,Referencias!$B$24:$C$41,2,FALSE())","v":"C.MAD"},{"$f":"VLOOKUP(C1834,Referencias!$C$4:$E$21,3,FALSE())","v":1},"Competición","Madrileña"]
["2813296","López Sánchez, María Luscinda","3D","D",{"$f":"VLOOKUP(C1835,Referencias!$C$4:$D$21,2,FALSE())","v":"Tercera Diamante"},{"$f":"VLOOKUP(I1835,Referencias!$B$24:$C$41,2,FALSE())","v":"C.MAD"},{"$f":"VLOOKUP(C1835,Referencias!$C$4:$E$21,3,FALSE())","v":3},"Competición","Madrileña"]
["2813297","Martínez de Año, Julia","3P","D",{"$f":"VLOOKUP(C1836,Referencias!$C$4:$D$21,2,FALSE())","v":"Tercera Picas"},{"$f":"VLOOKUP(I1836,Referencias!$B$24:$C$41,2,FALSE())","v":"C.MAD"},{"$f":"VLOOKUP(C1836,Referencias!$C$4:$E$21,3,FALSE())","v":3},"Competición","Madrileña"]
["2813300","Montón Gil, Ana María","1C","D",{"$f":"VLOOKUP(C1837,Referencias!$C$4:$D$21,2,FALSE())","v":"Primera Corazón"},{"$f":"VLOOKUP(I1837,Referencias!$B$24:$C$41,2,FALSE())","v":"C.MAD"},{"$f":"VLOOKUP(C1837,Referencias!$C$4:$E$21,3,FALSE())","v":1},"Competición","Madrileña"]
["2813301","Tierra Serrano, Jesús","1C","C",{"$f":"VLOOKUP(C1838,Referencias!$C$4:$D$21,2,FALSE())","v":"Primera Corazón"},{"$f":"VLOOKUP(I1838,Referencias!$B$24:$C$41,2,FALSE())","v":"C.MAD"},{"$f":"VLOOKUP(C1838,Referencias!$C$4:$E$21,3,FALSE())","v":1},"Competición","Madrileña"]
["2813302","Cervera Vélez, Maite","2C","D",{"$f":"VLOOKUP(C1839,Referencias!$C$4:$D$21,2,FALSE())","v":"Segunda Corazón"},{"$f":"VLOOKUP(I1839,Referencias!$B$24:$C$41,2,FALSE())","v":"C.MAD"},{"$f":"VLOOKUP(C1839,Referencias!$C$4:$E$21,3,FALSE())","v":2},"Competición","Madrileña"]
["2813310","Temes Hernández, Elisa","3P","D",{"$f":"VLOOKUP(C1840,Referencias!$C$4:$D$21,2,FALSE())","v":"Tercera Picas"},{"$f":"VLOOKUP(I1840,Referencias!$B$24:$C$41,2,FALSE())","v":"C.MAD"},{"$f":"VLOOKUP(C1840,Referencias!$C$4:$E$21,3,FALSE())","v":3},"Competición","Madrileña"]
["2813316","Lasso de la Vega Linares, María Jesús","3D","D",{"$f":"VLOOKUP(C1841,Referencias!$C$4:$D$21,2,FALSE())","v":"Tercera Diamante"},{"$f":"VLOOKUP(I1841,Referencias!$B$24:$C$41,2,FALSE())","v":"C.MAD"},{"$f":"VLOOKUP(C1841,Referencias!$C$4:$E$21,3,FALSE())","v":3},"Competición","Madrileña"]
["2813317","Ojeda Jordana de Pozas, María Luz","3D","D",{"$f":"VLOOKUP(C1842,Referencias!$C$4:$D$21,2,FALSE())","v":"Tercera Diamante"},{"$f":"VLOOKUP(I1842,Referencias!$B$24:$C$41,2,FALSE())","v":"C.MAD"},{"$f":"VLOOKUP(C1842,Referencias!$C$4:$E$21,3,FALSE())","v":3},"Competición","Madrileña"]
["2813319","López Sánchez, Fuensanta","3C","D",{"$f":"VLOOKUP(C1843,Referencias!$C$4:$D$21,2,FALSE())","v":"Tercera Corazón"},{"$f":"VLOOKUP(I1843,Referencias!$B$24:$C$41,2,FALSE())","v":"C.MAD"},{"$f":"VLOOKUP(C1843,Referencias!$C$4:$E$21,3,FALSE())","v":3},"Competición","Madrileña"]
["2813320","Girón Muntadas, Santiago","3P","C",{"$f":"VLOOKUP(C1844,Referencias!$C$4:$D$21,2,FALSE())","v":"Tercera Picas"},{"$f":"VLOOKUP(I1844,Referencias!$B$24:$C$41,2,FALSE())","v":"C.MAD"},{"$f":"VLOOKUP(C1844,Referencias!$C$4:$E$21,3,FALSE())","v":3},"Competición","Madrileña"]
["2813321","Sagarra Ruiz, Isabel","3D","D",{"$f":"VLOOKUP(C1845,Referencias!$C$4:$D$21,2,FALSE())","v":"Tercera Diamante"},{"$f":"VLOOKUP(I1845,Referencias!$B$24:$C$41,2,FALSE())","v":"C.MAD"},{"$f":"VLOOKUP(C1845,Referencias!$C$4:$E$21,3,FALSE())","v":3},"Competición","Madrileña"]
["2813325","Hornedo Noriega, Natividad","3P","D",{"$f":"VLOOKUP(C1846,Referencias!$C$4:$D$21,2,FALSE())","v":"Tercera Picas"},{"$f":"VLOOKUP(I1846,Referencias!$B$24:$C$41,2,FALSE())","v":"C.MAD"},{"$f":"VLOOKUP(C1846,Referencias!$C$4:$E$21,3,FALSE())","v":3},"Competición","Madrileña"]
["2813326","Seghers Daelemans, Frida","3C","D",{"$f":"VLOOKUP(C1847,Referencias!$C$4:$D$21,2,FALSE())","v":"Tercera Corazón"},{"$f":"VLOOKUP(I1847,Referencias!$B$24:$C$41,2,FALSE())","v":"C.MAD"},{"$f":"VLOOKUP(C1847,Referencias!$C$4:$E$21,3,FALSE())","v":3},"Competición","Madrileña"]
["2813327","Cabañas Arenzana, Begoña","2C","D",{"$f":"VLOOKUP(C1848,Referencias!$C$4:$D$21,2,FALSE())","v":"Segunda Corazón"},{"$f":"VLOOKUP(I1848,Referencias!$B$24:$C$41,2,FALSE())","v":"C.MAD"},{"$f":"VLOOKUP(C1848,Referencias!$C$4:$E$21,3,FALSE())","v":2},"Competición","Madrileña"]
["2813328","Escribano García-Bosque, José Ignacio","2D","C",{"$f":"VLOOKUP(C1849,Referencias!$C$4:$D$21,2,FALSE())","v":"Segunda Diamante"},{"$f":"VLOOKUP(I1849,Referencias!$B$24:$C$41,2,FALSE())","v":"C.MAD"},{"$f":"VLOOKUP(C1849,Referencias!$C$4:$E$21,3,FALSE())","v":2},"Competición","Madrileña"]
["2813332","Blat Acacio, Raquel","3D","D",{"$f":"VLOOKUP(C1850,Referencias!$C$4:$D$21,2,FALSE())","v":"Tercera Diamante"},{"$f":"VLOOKUP(I1850,Referencias!$B$24:$C$41,2,FALSE())","v":"C.MAD"},{"$f":"VLOOKUP(C1850,Referencias!$C$4:$E$21,3,FALSE())","v":3},"Competición","Madrileña"]
["2813334","Jordán de Urries Castelo Branco, María Antonia","3D","D",{"$f":"VLOOKUP(C1851,Referencias!$C$4:$D$21,2,FALSE())","v":"Tercera Diamante"},{"$f":"VLOOKUP(I1851,Referencias!$B$24:$C$41,2,FALSE())","v":"C.MAD"},{"$f":"VLOOKUP(C1851,Referencias!$C$4:$E$21,3,FALSE())","v":3},"Competición","Madrileña"]
["2813337","Plaza de la Cuesta, María de la Paz","3D","D",{"$f":"VLOOKUP(C1852,Referencias!$C$4:$D$21,2,FALSE())","v":"Tercera Diamante"},{"$f":"VLOOKUP(I1852,Referencias!$B$24:$C$41,2,FALSE())","v":"C.MAD"},{"$f":"VLOOKUP(C1852,Referencias!$C$4:$E$21,3,FALSE())","v":3},"Competición","Madrileña"]
["2813339","Rodríguez-Vita Ferrer, Carmen","2D","D",{"$f":"VLOOKUP(C1853,Referencias!$C$4:$D$21,2,FALSE())","v":"Segunda Diamante"},{"$f":"VLOOKUP(I1853,Referencias!$B$24:$C$41,2,FALSE())","v":"C.MAD"},{"$f":"VLOOKUP(C1853,Referencias!$C$4:$E$21,3,FALSE())","v":2},"Competición","Madrileña"]
["2813340","Casanova Leyún, Mercedes","2D","D",{"$f":"VLOOKUP(C1854,Referencias!$C$4:$D$21,2,FALSE())","v":"Segunda Diamante"},{"$f":"VLOOKUP(I1854,Referencias!$B$24:$C$41,2,FALSE())","v":"C.MAD"},{"$f":"VLOOKUP(C1854,Referencias!$C$4:$E$21,3,FALSE())","v":2},"Competición","Madrileña"]
["2813342","Harmouch , Norma","3C","D",{"$f":"VLOOKUP(C1855,Referencias!$C$4:$D$21,2,FALSE())","v":"Tercera Corazón"},{"$f":"VLOOKUP(I1855,Referencias!$B$24:$C$41,2,FALSE())","v":"C.MAD"},{"$f":"VLOOKUP(C1855,Referencias!$C$4:$E$21,3,FALSE())","v":3},"Competición","Madrileña"]
["2813343","González-Orejas Fernández, María del Carmen","3C","D",{"$f":"VLOOKUP(C1856,Referencias!$C$4:$D$21,2,FALSE())","v":"Tercera Corazón"},{"$f":"VLOOKUP(I1856,Referencias!$B$24:$C$41,2,FALSE())","v":"C.MAD"},{"$f":"VLOOKUP(C1856,Referencias!$C$4:$E$21,3,FALSE())","v":3},"Competición","Madrileña"]
["2813345","Fitzgerald Mac Carthy, Jackie","3P","D",{"$f":"VLOOKUP(C1857,Referencias!$C$4:$D$21,2,FALSE())","v":"Tercera Picas"},{"$f":"VLOOKUP(I1857,Referencias!$B$24:$C$41,2,FALSE())","v":"C.MAD"},{"$f":"VLOOKUP(C1857,Referencias!$C$4:$E$21,3,FALSE())","v":3},"Competición","Madrileña"]
["2813347","Marzana Velázquez, María Eugenia","3D","D",{"$f":"VLOOKUP(C1858,Referencias!$C$4:$D$21,2,FALSE())","v":"Tercera Diamante"},{"$f":"VLOOKUP(I1858,Referencias!$B$24:$C$41,2,FALSE())","v":"C.MAD"},{"$f":"VLOOKUP(C1858,Referencias!$C$4:$E$21,3,FALSE())","v":3},"Competición","Madrileña"]
["2813349","de la Serna Llera, Cristina","1C","D",{"$f":"VLOOKUP(C1859,Referencias!$C$4:$D$21,2,FALSE())","v":"Primera Corazón"},{"$f":"VLOOKUP(I1859,Referencias!$B$24:$C$41,2,FALSE())","v":"C.MAD"},{"$f":"VLOOKUP(C1859,Referencias!$C$4:$E$21,3,FALSE())","v":1},"Competición","Madrileña"]
["2813350","Moratino Alcalde, María","3D","D",{"$f":"VLOOKUP(C1860,Referencias!$C$4:$D$21,2,FALSE())","v":"Tercera Diamante"},{"$f":"VLOOKUP(I1860,Referencias!$B$24:$C$41,2,FALSE())","v":"C.MAD"},{"$f":"VLOOKUP(C1860,Referencias!$C$4:$E$21,3,FALSE())","v":3},"Competición","Madrileña"]
["2813351","OlÍas Muñoz, Francisco","2C","C",{"$f":"VLOOKUP(C1861,Referencias!$C$4:$D$21,2,FALSE())","v":"Segunda Corazón"},{"$f":"VLOOKUP(I1861,Referencias!$B$24:$C$41,2,FALSE())","v":"C.MAD"},{"$f":"VLOOKUP(C1861,Referencias!$C$4:$E$21,3,FALSE())","v":2},"Competición","Madrileña"]
["2813354","Rochina Adelantado, Antonia","3D","D",{"$f":"VLOOKUP(C1862,Referencias!$C$4:$D$21,2,FALSE())","v":"Tercera Diamante"},{"$f":"VLOOKUP(I1862,Referencias!$B$24:$C$41,2,FALSE())","v":"C.MAD"},{"$f":"VLOOKUP(C1862,Referencias!$C$4:$E$21,3,FALSE())","v":3},"Competición","Madrileña"]
["2813356","Labrador Martín, Antonio","3C","C",{"$f":"VLOOKUP(C1863,Referencias!$C$4:$D$21,2,FALSE())","v":"Tercera Corazón"},{"$f":"VLOOKUP(I1863,Referencias!$B$24:$C$41,2,FALSE())","v":"C.MAD"},{"$f":"VLOOKUP(C1863,Referencias!$C$4:$E$21,3,FALSE())","v":3},"Competición","Madrileña"]
["2813369","Albarracín Rodríguez, María del Carmen","3D","D",{"$f":"VLOOKUP(C1864,Referencias!$C$4:$D$21,2,FALSE())","v":"Tercera Diamante"},{"$f":"VLOOKUP(I1864,Referencias!$B$24:$C$41,2,FALSE())","v":"C.MAD"},{"$f":"VLOOKUP(C1864,Referencias!$C$4:$E$21,3,FALSE())","v":3},"Competición","Madrileña"]
["2813370","Eguibar Galarza, María Fernanda","3P","D",{"$f":"VLOOKUP(C1865,Referencias!$C$4:$D$21,2,FALSE())","v":"Tercera Picas"},{"$f":"VLOOKUP(I1865,Referencias!$B$24:$C$41,2,FALSE())","v":"C.MAD"},{"$f":"VLOOKUP(C1865,Referencias!$C$4:$E$21,3,FALSE())","v":3},"Competición","Madrileña"]
["2813371","Argüelles Álvarez, Ramón","3D","C",{"$f":"VLOOKUP(C1866,Referencias!$C$4:$D$21,2,FALSE())","v":"Tercera Diamante"},{"$f":"VLOOKUP(I1866,Referencias!$B$24:$C$41,2,FALSE())","v":"C.MAD"},{"$f":"VLOOKUP(C1866,Referencias!$C$4:$E$21,3,FALSE())","v":3},"Competición","Madrileña"]
["2813372","Blanco Aladro, María del Carmen","3C","D",{"$f":"VLOOKUP(C1867,Referencias!$C$4:$D$21,2,FALSE())","v":"Tercera Corazón"},{"$f":"VLOOKUP(I1867,Referencias!$B$24:$C$41,2,FALSE())","v":"C.MAD"},{"$f":"VLOOKUP(C1867,Referencias!$C$4:$E$21,3,FALSE())","v":3},"Competición","Madrileña"]
["2813373","de Antonio Chaves, Carmen","3P","D",{"$f":"VLOOKUP(C1868,Referencias!$C$4:$D$21,2,FALSE())","v":"Tercera Picas"},{"$f":"VLOOKUP(I1868,Referencias!$B$24:$C$41,2,FALSE())","v":"C.MAD"},{"$f":"VLOOKUP(C1868,Referencias!$C$4:$E$21,3,FALSE())","v":3},"Competición","Madrileña"]
["2813374","de Bustillo Delgado, Carlos","3D","C",{"$f":"VLOOKUP(C1869,Referencias!$C$4:$D$21,2,FALSE())","v":"Tercera Diamante"},{"$f":"VLOOKUP(I1869,Referencias!$B$24:$C$41,2,FALSE())","v":"C.MAD"},{"$f":"VLOOKUP(C1869,Referencias!$C$4:$E$21,3,FALSE())","v":3},"Competición","Madrileña"]
["2813377","Martín García, María Pilar","3C","D",{"$f":"VLOOKUP(C1870,Referencias!$C$4:$D$21,2,FALSE())","v":"Tercera Corazón"},{"$f":"VLOOKUP(I1870,Referencias!$B$24:$C$41,2,FALSE())","v":"C.MAD"},{"$f":"VLOOKUP(C1870,Referencias!$C$4:$E$21,3,FALSE())","v":3},"Competición","Madrileña"]
["2813378","Nieto Mengotti, Cristina","3C","D",{"$f":"VLOOKUP(C1871,Referencias!$C$4:$D$21,2,FALSE())","v":"Tercera Corazón"},{"$f":"VLOOKUP(I1871,Referencias!$B$24:$C$41,2,FALSE())","v":"C.MAD"},{"$f":"VLOOKUP(C1871,Referencias!$C$4:$E$21,3,FALSE())","v":3},"Competición","Madrileña"]
["2813382","Macaya de Aguinaga, Paloma","3D","D",{"$f":"VLOOKUP(C1872,Referencias!$C$4:$D$21,2,FALSE())","v":"Tercera Diamante"},{"$f":"VLOOKUP(I1872,Referencias!$B$24:$C$41,2,FALSE())","v":"C.MAD"},{"$f":"VLOOKUP(C1872,Referencias!$C$4:$E$21,3,FALSE())","v":3},"Competición","Madrileña"]
["2813383","Broz Flores, Victoria","3C","D",{"$f":"VLOOKUP(C1873,Referencias!$C$4:$D$21,2,FALSE())","v":"Tercera Corazón"},{"$f":"VLOOKUP(I1873,Referencias!$B$24:$C$41,2,FALSE())","v":"C.MAD"},{"$f":"VLOOKUP(C1873,Referencias!$C$4:$E$21,3,FALSE())","v":3},"Competición","Madrileña"]
["2813385","de Manzanos de la Escosura, Paloma","3C","D",{"$f":"VLOOKUP(C1874,Referencias!$C$4:$D$21,2,FALSE())","v":"Tercera Corazón"},{"$f":"VLOOKUP(I1874,Referencias!$B$24:$C$41,2,FALSE())","v":"C.MAD"},{"$f":"VLOOKUP(C1874,Referencias!$C$4:$E$21,3,FALSE())","v":3},"Competición","Madrileña"]
["2813387","Ruiz-Cámara Inchaurtieta, Ana","3C","D",{"$f":"VLOOKUP(C1875,Referencias!$C$4:$D$21,2,FALSE())","v":"Tercera Corazón"},{"$f":"VLOOKUP(I1875,Referencias!$B$24:$C$41,2,FALSE())","v":"C.MAD"},{"$f":"VLOOKUP(C1875,Referencias!$C$4:$E$21,3,FALSE())","v":3},"Competición","Madrileña"]
["2813397","Arranz Pumar, Candelas","3C","D",{"$f":"VLOOKUP(C1876,Referencias!$C$4:$D$21,2,FALSE())","v":"Tercera Corazón"},{"$f":"VLOOKUP(I1876,Referencias!$B$24:$C$41,2,FALSE())","v":"C.MAD"},{"$f":"VLOOKUP(C1876,Referencias!$C$4:$E$21,3,FALSE())","v":3},"Competición","Madrileña"]
["2813398","Fuglestad , Finn","3D","C",{"$f":"VLOOKUP(C1877,Referencias!$C$4:$D$21,2,FALSE())","v":"Tercera Diamante"},{"$f":"VLOOKUP(I1877,Referencias!$B$24:$C$41,2,FALSE())","v":"C.MAD"},{"$f":"VLOOKUP(C1877,Referencias!$C$4:$E$21,3,FALSE())","v":3},"Competición","Madrileña"]
["2813402","Fernández Manrique, Elena","3C","D",{"$f":"VLOOKUP(C1878,Referencias!$C$4:$D$21,2,FALSE())","v":"Tercera Corazón"},{"$f":"VLOOKUP(I1878,Referencias!$B$24:$C$41,2,FALSE())","v":"C.MAD"},{"$f":"VLOOKUP(C1878,Referencias!$C$4:$E$21,3,FALSE())","v":3},"Competición","Madrileña"]
["2813403","Ramos Fernández, Bárbara","3D","D",{"$f":"VLOOKUP(C1879,Referencias!$C$4:$D$21,2,FALSE())","v":"Tercera Diamante"},{"$f":"VLOOKUP(I1879,Referencias!$B$24:$C$41,2,FALSE())","v":"C.MAD"},{"$f":"VLOOKUP(C1879,Referencias!$C$4:$E$21,3,FALSE())","v":3},"Competición","Madrileña"]
["2813404","Fernández de Córdoba , Sonsoles","3P","D",{"$f":"VLOOKUP(C1880,Referencias!$C$4:$D$21,2,FALSE())","v":"Tercera Picas"},{"$f":"VLOOKUP(I1880,Referencias!$B$24:$C$41,2,FALSE())","v":"C.MAD"},{"$f":"VLOOKUP(C1880,Referencias!$C$4:$E$21,3,FALSE())","v":3},"Competición","Madrileña"]
["2813407","Fernández Taviel de Andrade, Francisco","1C","C",{"$f":"VLOOKUP(C1881,Referencias!$C$4:$D$21,2,FALSE())","v":"Primera Corazón"},{"$f":"VLOOKUP(I1881,Referencias!$B$24:$C$41,2,FALSE())","v":"C.MAD"},{"$f":"VLOOKUP(C1881,Referencias!$C$4:$E$21,3,FALSE())","v":1},"Competición","Madrileña"]
["2813409","Velasco Arranz, Josefina","3C","D",{"$f":"VLOOKUP(C1882,Referencias!$C$4:$D$21,2,FALSE())","v":"Tercera Corazón"},{"$f":"VLOOKUP(I1882,Referencias!$B$24:$C$41,2,FALSE())","v":"C.MAD"},{"$f":"VLOOKUP(C1882,Referencias!$C$4:$E$21,3,FALSE())","v":3},"Competición","Madrileña"]
["2813410","García Cerdán, María Teresa","3D","D",{"$f":"VLOOKUP(C1883,Referencias!$C$4:$D$21,2,FALSE())","v":"Tercera Diamante"},{"$f":"VLOOKUP(I1883,Referencias!$B$24:$C$41,2,FALSE())","v":"C.MAD"},{"$f":"VLOOKUP(C1883,Referencias!$C$4:$E$21,3,FALSE())","v":3},"Competición","Madrileña"]
["2813412","Bernaldo de Quirós Robles, Fernando","3D","C",{"$f":"VLOOKUP(C1884,Referencias!$C$4:$D$21,2,FALSE())","v":"Tercera Diamante"},{"$f":"VLOOKUP(I1884,Referencias!$B$24:$C$41,2,FALSE())","v":"C.MAD"},{"$f":"VLOOKUP(C1884,Referencias!$C$4:$E$21,3,FALSE())","v":3},"Competición","Madrileña"]
["2813414","Cendra del Rivero, Carlos","2D","C",{"$f":"VLOOKUP(C1885,Referencias!$C$4:$D$21,2,FALSE())","v":"Segunda Diamante"},{"$f":"VLOOKUP(I1885,Referencias!$B$24:$C$41,2,FALSE())","v":"C.MAD"},{"$f":"VLOOKUP(C1885,Referencias!$C$4:$E$21,3,FALSE())","v":2},"Competición","Madrileña"]
["2813415","Soto López-Doriga, María Luisa","3D","D",{"$f":"VLOOKUP(C1886,Referencias!$C$4:$D$21,2,FALSE())","v":"Tercera Diamante"},{"$f":"VLOOKUP(I1886,Referencias!$B$24:$C$41,2,FALSE())","v":"C.MAD"},{"$f":"VLOOKUP(C1886,Referencias!$C$4:$E$21,3,FALSE())","v":3},"Competición","Madrileña"]
["2813419","Echeverría Echaniz, Rosario","3D","D",{"$f":"VLOOKUP(C1887,Referencias!$C$4:$D$21,2,FALSE())","v":"Tercera Diamante"},{"$f":"VLOOKUP(I1887,Referencias!$B$24:$C$41,2,FALSE())","v":"C.MAD"},{"$f":"VLOOKUP(C1887,Referencias!$C$4:$E$21,3,FALSE())","v":3},"Competición","Madrileña"]
["2813420","Muro Domínguez, Yolanda","3C","D",{"$f":"VLOOKUP(C1888,Referencias!$C$4:$D$21,2,FALSE())","v":"Tercera Corazón"},{"$f":"VLOOKUP(I1888,Referencias!$B$24:$C$41,2,FALSE())","v":"C.MAD"},{"$f":"VLOOKUP(C1888,Referencias!$C$4:$E$21,3,FALSE())","v":3},"Competición","Madrileña"]
["2813422","Justo Alonso, Pedro","3D","C",{"$f":"VLOOKUP(C1889,Referencias!$C$4:$D$21,2,FALSE())","v":"Tercera Diamante"},{"$f":"VLOOKUP(I1889,Referencias!$B$24:$C$41,2,FALSE())","v":"C.MAD"},{"$f":"VLOOKUP(C1889,Referencias!$C$4:$E$21,3,FALSE())","v":3},"Competición","Madrileña"]
["2813424","Iglesias-Sarria , Myriam","2D","D",{"$f":"VLOOKUP(C1890,Referencias!$C$4:$D$21,2,FALSE())","v":"Segunda Diamante"},{"$f":"VLOOKUP(I1890,Referencias!$B$24:$C$41,2,FALSE())","v":"C.MAD"},{"$f":"VLOOKUP(C1890,Referencias!$C$4:$E$21,3,FALSE())","v":2},"Competición","Madrileña"]
["2813425","Armijo Navarro-Reverter, Rosario","3P","D",{"$f":"VLOOKUP(C1891,Referencias!$C$4:$D$21,2,FALSE())","v":"Tercera Picas"},{"$f":"VLOOKUP(I1891,Referencias!$B$24:$C$41,2,FALSE())","v":"C.MAD"},{"$f":"VLOOKUP(C1891,Referencias!$C$4:$E$21,3,FALSE())","v":3},"Competición","Madrileña"]
["2813426","López-Ulloa Morais, Ana","3P","D",{"$f":"VLOOKUP(C1892,Referencias!$C$4:$D$21,2,FALSE())","v":"Tercera Picas"},{"$f":"VLOOKUP(I1892,Referencias!$B$24:$C$41,2,FALSE())","v":"C.MAD"},{"$f":"VLOOKUP(C1892,Referencias!$C$4:$E$21,3,FALSE())","v":3},"Competición","Madrileña"]
["2813433","López-Piña Pérez, Mª Luisa","3D","D",{"$f":"VLOOKUP(C1893,Referencias!$C$4:$D$21,2,FALSE())","v":"Tercera Diamante"},{"$f":"VLOOKUP(I1893,Referencias!$B$24:$C$41,2,FALSE())","v":"C.MAD"},{"$f":"VLOOKUP(C1893,Referencias!$C$4:$E$21,3,FALSE())","v":3},"Competición","Madrileña"]
["2813435","Casas Arruti, María José","3D","D",{"$f":"VLOOKUP(C1894,Referencias!$C$4:$D$21,2,FALSE())","v":"Tercera Diamante"},{"$f":"VLOOKUP(I1894,Referencias!$B$24:$C$41,2,FALSE())","v":"C.MAD"},{"$f":"VLOOKUP(C1894,Referencias!$C$4:$E$21,3,FALSE())","v":3},"Competición","Madrileña"]
["2813436","Naranjo Romaguera, Lara","3D","D",{"$f":"VLOOKUP(C1895,Referencias!$C$4:$D$21,2,FALSE())","v":"Tercera Diamante"},{"$f":"VLOOKUP(I1895,Referencias!$B$24:$C$41,2,FALSE())","v":"C.MAD"},{"$f":"VLOOKUP(C1895,Referencias!$C$4:$E$21,3,FALSE())","v":3},"Competición","Madrileña"]
["2813437","de Vargas Moreno, Juana","3D","D",{"$f":"VLOOKUP(C1896,Referencias!$C$4:$D$21,2,FALSE())","v":"Tercera Diamante"},{"$f":"VLOOKUP(I1896,Referencias!$B$24:$C$41,2,FALSE())","v":"C.MAD"},{"$f":"VLOOKUP(C1896,Referencias!$C$4:$E$21,3,FALSE())","v":3},"Competición","Madrileña"]
["2813438","Derks Hermans, Josephine","3D","D",{"$f":"VLOOKUP(C1897,Referencias!$C$4:$D$21,2,FALSE())","v":"Tercera Diamante"},{"$f":"VLOOKUP(I1897,Referencias!$B$24:$C$41,2,FALSE())","v":"C.MAD"},{"$f":"VLOOKUP(C1897,Referencias!$C$4:$E$21,3,FALSE())","v":3},"Competición","Madrileña"]
["2813440","Andrés Conde, Carmen","3C","D",{"$f":"VLOOKUP(C1898,Referencias!$C$4:$D$21,2,FALSE())","v":"Tercera Corazón"},{"$f":"VLOOKUP(I1898,Referencias!$B$24:$C$41,2,FALSE())","v":"C.MAD"},{"$f":"VLOOKUP(C1898,Referencias!$C$4:$E$21,3,FALSE())","v":3},"Competición","Madrileña"]
["2813441","Pérez de Villaamil Alfaro, Teresa","3D","D",{"$f":"VLOOKUP(C1899,Referencias!$C$4:$D$21,2,FALSE())","v":"Tercera Diamante"},{"$f":"VLOOKUP(I1899,Referencias!$B$24:$C$41,2,FALSE())","v":"C.MAD"},{"$f":"VLOOKUP(C1899,Referencias!$C$4:$E$21,3,FALSE())","v":3},"Competición","Madrileña"]
["2813442","Cantalapiedra Benjumea, Clotilde","3D","D",{"$f":"VLOOKUP(C1900,Referencias!$C$4:$D$21,2,FALSE())","v":"Tercera Diamante"},{"$f":"VLOOKUP(I1900,Referencias!$B$24:$C$41,2,FALSE())","v":"C.MAD"},{"$f":"VLOOKUP(C1900,Referencias!$C$4:$E$21,3,FALSE())","v":3},"Competición","Madrileña"]
["2813443","del Rosal Murga, Carmen","3D","D",{"$f":"VLOOKUP(C1901,Referencias!$C$4:$D$21,2,FALSE())","v":"Tercera Diamante"},{"$f":"VLOOKUP(I1901,Referencias!$B$24:$C$41,2,FALSE())","v":"C.MAD"},{"$f":"VLOOKUP(C1901,Referencias!$C$4:$E$21,3,FALSE())","v":3},"Competición","Madrileña"]
["2813445","Martínez-Reboredo García, Ana","1P","D",{"$f":"VLOOKUP(C1902,Referencias!$C$4:$D$21,2,FALSE())","v":"Primera Picas"},{"$f":"VLOOKUP(I1902,Referencias!$B$24:$C$41,2,FALSE())","v":"C.MAD"},{"$f":"VLOOKUP(C1902,Referencias!$C$4:$E$21,3,FALSE())","v":1},"Competición","Madrileña"]
["2813446","Luarte Bianchi, María Eugenia","3D","D",{"$f":"VLOOKUP(C1903,Referencias!$C$4:$D$21,2,FALSE())","v":"Tercera Diamante"},{"$f":"VLOOKUP(I1903,Referencias!$B$24:$C$41,2,FALSE())","v":"C.MAD"},{"$f":"VLOOKUP(C1903,Referencias!$C$4:$E$21,3,FALSE())","v":3},"Competición","Madrileña"]
["2813449","Gómez-Carrillo Carrasco, María Luisa","3C","D",{"$f":"VLOOKUP(C1904,Referencias!$C$4:$D$21,2,FALSE())","v":"Tercera Corazón"},{"$f":"VLOOKUP(I1904,Referencias!$B$24:$C$41,2,FALSE())","v":"C.MAD"},{"$f":"VLOOKUP(C1904,Referencias!$C$4:$E$21,3,FALSE())","v":3},"Competición","Madrileña"]
["2813450","García Pérez, María Teresa","2P","D",{"$f":"VLOOKUP(C1905,Referencias!$C$4:$D$21,2,FALSE())","v":"Segunda Picas"},{"$f":"VLOOKUP(I1905,Referencias!$B$24:$C$41,2,FALSE())","v":"C.MAD"},{"$f":"VLOOKUP(C1905,Referencias!$C$4:$E$21,3,FALSE())","v":2},"Competición","Madrileña"]
["2813451","Suárez Jordana, Beatriz","3D","D",{"$f":"VLOOKUP(C1906,Referencias!$C$4:$D$21,2,FALSE())","v":"Tercera Diamante"},{"$f":"VLOOKUP(I1906,Referencias!$B$24:$C$41,2,FALSE())","v":"C.MAD"},{"$f":"VLOOKUP(C1906,Referencias!$C$4:$E$21,3,FALSE())","v":3},"Competición","Madrileña"]
["2813453","Aguirre Espinosa, Mercedes","2D","D",{"$f":"VLOOKUP(C1907,Referencias!$C$4:$D$21,2,FALSE())","v":"Segunda Diamante"},{"$f":"VLOOKUP(I1907,Referencias!$B$24:$C$41,2,FALSE())","v":"C.MAD"},{"$f":"VLOOKUP(C1907,Referencias!$C$4:$E$21,3,FALSE())","v":2},"Competición","Madrileña"]
["2813459","Mac Cormac Desmond, Ruth","3D","D",{"$f":"VLOOKUP(C1908,Referencias!$C$4:$D$21,2,FALSE())","v":"Tercera Diamante"},{"$f":"VLOOKUP(I1908,Referencias!$B$24:$C$41,2,FALSE())","v":"C.MAD"},{"$f":"VLOOKUP(C1908,Referencias!$C$4:$E$21,3,FALSE())","v":3},"Competición","Madrileña"]
["2813460","de Hornachuelos , Duquesa","3C","D",{"$f":"VLOOKUP(C1909,Referencias!$C$4:$D$21,2,FALSE())","v":"Tercera Corazón"},{"$f":"VLOOKUP(I1909,Referencias!$B$24:$C$41,2,FALSE())","v":"C.MAD"},{"$f":"VLOOKUP(C1909,Referencias!$C$4:$E$21,3,FALSE())","v":3},"Competición","Madrileña"]
["2813461","Castro Rodríguez, María","3C","D",{"$f":"VLOOKUP(C1910,Referencias!$C$4:$D$21,2,FALSE())","v":"Tercera Corazón"},{"$f":"VLOOKUP(I1910,Referencias!$B$24:$C$41,2,FALSE())","v":"C.MAD"},{"$f":"VLOOKUP(C1910,Referencias!$C$4:$E$21,3,FALSE())","v":3},"Competición","Madrileña"]
["2813462","Martín-Ballestero Martínez de Velasco, Mercedes","3D","D",{"$f":"VLOOKUP(C1911,Referencias!$C$4:$D$21,2,FALSE())","v":"Tercera Diamante"},{"$f":"VLOOKUP(I1911,Referencias!$B$24:$C$41,2,FALSE())","v":"C.MAD"},{"$f":"VLOOKUP(C1911,Referencias!$C$4:$E$21,3,FALSE())","v":3},"Competición","Madrileña"]
["2813463","Sánchez Barriga, María Isabel","2D","D",{"$f":"VLOOKUP(C1912,Referencias!$C$4:$D$21,2,FALSE())","v":"Segunda Diamante"},{"$f":"VLOOKUP(I1912,Referencias!$B$24:$C$41,2,FALSE())","v":"C.MAD"},{"$f":"VLOOKUP(C1912,Referencias!$C$4:$E$21,3,FALSE())","v":2},"Competición","Madrileña"]
["2813467","Llanas Goicoechea, Marina","1D","D",{"$f":"VLOOKUP(C1913,Referencias!$C$4:$D$21,2,FALSE())","v":"Primera Diamante"},{"$f":"VLOOKUP(I1913,Referencias!$B$24:$C$41,2,FALSE())","v":"C.MAD"},{"$f":"VLOOKUP(C1913,Referencias!$C$4:$E$21,3,FALSE())","v":1},"Competición","Madrileña"]
["2813468","Álvarez-Novoa Romero, Nuria","3P","D",{"$f":"VLOOKUP(C1914,Referencias!$C$4:$D$21,2,FALSE())","v":"Tercera Picas"},{"$f":"VLOOKUP(I1914,Referencias!$B$24:$C$41,2,FALSE())","v":"C.MAD"},{"$f":"VLOOKUP(C1914,Referencias!$C$4:$E$21,3,FALSE())","v":3},"Competición","Madrileña"]
["2813475","Fernández de Córdoba Maldonado, Isabel","3D","D",{"$f":"VLOOKUP(C1915,Referencias!$C$4:$D$21,2,FALSE())","v":"Tercera Diamante"},{"$f":"VLOOKUP(I1915,Referencias!$B$24:$C$41,2,FALSE())","v":"C.MAD"},{"$f":"VLOOKUP(C1915,Referencias!$C$4:$E$21,3,FALSE())","v":3},"Competición","Madrileña"]
["2813476","Escriña Del Pozo, Rosa","3D","D",{"$f":"VLOOKUP(C1916,Referencias!$C$4:$D$21,2,FALSE())","v":"Tercera Diamante"},{"$f":"VLOOKUP(I1916,Referencias!$B$24:$C$41,2,FALSE())","v":"C.MAD"},{"$f":"VLOOKUP(C1916,Referencias!$C$4:$E$21,3,FALSE())","v":3},"Competición","Madrileña"]
["2813478","Ramiro Regueira, Javier","3D","C",{"$f":"VLOOKUP(C1917,Referencias!$C$4:$D$21,2,FALSE())","v":"Tercera Diamante"},{"$f":"VLOOKUP(I1917,Referencias!$B$24:$C$41,2,FALSE())","v":"C.MAD"},{"$f":"VLOOKUP(C1917,Referencias!$C$4:$E$21,3,FALSE())","v":3},"Competición","Madrileña"]
["2813480","Spinola González, Carmen","3C","D",{"$f":"VLOOKUP(C1918,Referencias!$C$4:$D$21,2,FALSE())","v":"Tercera Corazón"},{"$f":"VLOOKUP(I1918,Referencias!$B$24:$C$41,2,FALSE())","v":"C.MAD"},{"$f":"VLOOKUP(C1918,Referencias!$C$4:$E$21,3,FALSE())","v":3},"Competición","Madrileña"]
["2813481","de la Mata Collados, Aurora","3D","D",{"$f":"VLOOKUP(C1919,Referencias!$C$4:$D$21,2,FALSE())","v":"Tercera Diamante"},{"$f":"VLOOKUP(I1919,Referencias!$B$24:$C$41,2,FALSE())","v":"C.MAD"},{"$f":"VLOOKUP(C1919,Referencias!$C$4:$E$21,3,FALSE())","v":3},"Competición","Madrileña"]
["2813482","Andrés Solana, Santiago","3D","C",{"$f":"VLOOKUP(C1920,Referencias!$C$4:$D$21,2,FALSE())","v":"Tercera Diamante"},{"$f":"VLOOKUP(I1920,Referencias!$B$24:$C$41,2,FALSE())","v":"C.MAD"},{"$f":"VLOOKUP(C1920,Referencias!$C$4:$E$21,3,FALSE())","v":3},"Competición","Madrileña"]
["2813483","Foret Ussia, Cristina","3D","D",{"$f":"VLOOKUP(C1921,Referencias!$C$4:$D$21,2,FALSE())","v":"Tercera Diamante"},{"$f":"VLOOKUP(I1921,Referencias!$B$24:$C$41,2,FALSE())","v":"C.MAD"},{"$f":"VLOOKUP(C1921,Referencias!$C$4:$E$21,3,FALSE())","v":3},"Competición","Madrileña"]
["2813484","Badrinas Amat, Ana","3D","D",{"$f":"VLOOKUP(C1922,Referencias!$C$4:$D$21,2,FALSE())","v":"Tercera Diamante"},{"$f":"VLOOKUP(I1922,Referencias!$B$24:$C$41,2,FALSE())","v":"C.MAD"},{"$f":"VLOOKUP(C1922,Referencias!$C$4:$E$21,3,FALSE())","v":3},"Competición","Madrileña"]
["2813486","Vieira Montenegro, Pilar","3D","D",{"$f":"VLOOKUP(C1923,Referencias!$C$4:$D$21,2,FALSE())","v":"Tercera Diamante"},{"$f":"VLOOKUP(I1923,Referencias!$B$24:$C$41,2,FALSE())","v":"C.MAD"},{"$f":"VLOOKUP(C1923,Referencias!$C$4:$E$21,3,FALSE())","v":3},"Competición","Madrileña"]
["2813489","Montero de Pedro, Cristina","3D","D",{"$f":"VLOOKUP(C1924,Referencias!$C$4:$D$21,2,FALSE())","v":"Tercera Diamante"},{"$f":"VLOOKUP(I1924,Referencias!$B$24:$C$41,2,FALSE())","v":"C.MAD"},{"$f":"VLOOKUP(C1924,Referencias!$C$4:$E$21,3,FALSE())","v":3},"Honorífica","Madrileña"]
["2813492","Isla Sánchez, José María","3D","C",{"$f":"VLOOKUP(C1925,Referencias!$C$4:$D$21,2,FALSE())","v":"Tercera Diamante"},{"$f":"VLOOKUP(I1925,Referencias!$B$24:$C$41,2,FALSE())","v":"C.MAD"},{"$f":"VLOOKUP(C1925,Referencias!$C$4:$E$21,3,FALSE())","v":3},"Competición","Madrileña"]
["2813494","Claver Madurga, Matilde","2C","D",{"$f":"VLOOKUP(C1926,Referencias!$C$4:$D$21,2,FALSE())","v":"Segunda Corazón"},{"$f":"VLOOKUP(I1926,Referencias!$B$24:$C$41,2,FALSE())","v":"C.MAD"},{"$f":"VLOOKUP(C1926,Referencias!$C$4:$E$21,3,FALSE())","v":2},"Competición","Madrileña"]
["2813496","Salmerón Rodríguez, María","3D","D",{"$f":"VLOOKUP(C1927,Referencias!$C$4:$D$21,2,FALSE())","v":"Tercera Diamante"},{"$f":"VLOOKUP(I1927,Referencias!$B$24:$C$41,2,FALSE())","v":"C.MAD"},{"$f":"VLOOKUP(C1927,Referencias!$C$4:$E$21,3,FALSE())","v":3},"Competición","Madrileña"]
["2813500","García Tortosa, Blanca","3C","D",{"$f":"VLOOKUP(C1928,Referencias!$C$4:$D$21,2,FALSE())","v":"Tercera Corazón"},{"$f":"VLOOKUP(I1928,Referencias!$B$24:$C$41,2,FALSE())","v":"C.MAD"},{"$f":"VLOOKUP(C1928,Referencias!$C$4:$E$21,3,FALSE())","v":3},"Competición","Madrileña"]
["2813504","Von Korff Utin, Marina","3D","D",{"$f":"VLOOKUP(C1929,Referencias!$C$4:$D$21,2,FALSE())","v":"Tercera Diamante"},{"$f":"VLOOKUP(I1929,Referencias!$B$24:$C$41,2,FALSE())","v":"C.MAD"},{"$f":"VLOOKUP(C1929,Referencias!$C$4:$E$21,3,FALSE())","v":3},"Honorífica","Madrileña"]
["2813505","Salamanca Maesso, Dorys","2P","D",{"$f":"VLOOKUP(C1930,Referencias!$C$4:$D$21,2,FALSE())","v":"Segunda Picas"},{"$f":"VLOOKUP(I1930,Referencias!$B$24:$C$41,2,FALSE())","v":"C.MAD"},{"$f":"VLOOKUP(C1930,Referencias!$C$4:$E$21,3,FALSE())","v":2},"Competición","Madrileña"]
["2813507","Castresana Alonso de Prado, Mª Concepción","3P","D",{"$f":"VLOOKUP(C1931,Referencias!$C$4:$D$21,2,FALSE())","v":"Tercera Picas"},{"$f":"VLOOKUP(I1931,Referencias!$B$24:$C$41,2,FALSE())","v":"C.MAD"},{"$f":"VLOOKUP(C1931,Referencias!$C$4:$E$21,3,FALSE())","v":3},"Competición","Madrileña"]
["2813509","Ortíz de Zugasti Zumárraga, Almudena","3D","D",{"$f":"VLOOKUP(C1932,Referencias!$C$4:$D$21,2,FALSE())","v":"Tercera Diamante"},{"$f":"VLOOKUP(I1932,Referencias!$B$24:$C$41,2,FALSE())","v":"C.MAD"},{"$f":"VLOOKUP(C1932,Referencias!$C$4:$E$21,3,FALSE())","v":3},"Competición","Madrileña"]
["2813511","Torner Garrido-Espiga, Sandra","3D","D",{"$f":"VLOOKUP(C1933,Referencias!$C$4:$D$21,2,FALSE())","v":"Tercera Diamante"},{"$f":"VLOOKUP(I1933,Referencias!$B$24:$C$41,2,FALSE())","v":"C.MAD"},{"$f":"VLOOKUP(C1933,Referencias!$C$4:$E$21,3,FALSE())","v":3},"Competición","Madrileña"]
["2813512","Ortiz Marcide, María Isabel","3C","D",{"$f":"VLOOKUP(C1934,Referencias!$C$4:$D$21,2,FALSE())","v":"Tercera Corazón"},{"$f":"VLOOKUP(I1934,Referencias!$B$24:$C$41,2,FALSE())","v":"C.MAD"},{"$f":"VLOOKUP(C1934,Referencias!$C$4:$E$21,3,FALSE())","v":3},"Competición","Madrileña"]
["2813515","López-Suevos Fernández, María del Carmen","2P","D",{"$f":"VLOOKUP(C1935,Referencias!$C$4:$D$21,2,FALSE())","v":"Segunda Picas"},{"$f":"VLOOKUP(I1935,Referencias!$B$24:$C$41,2,FALSE())","v":"C.MAD"},{"$f":"VLOOKUP(C1935,Referencias!$C$4:$E$21,3,FALSE())","v":2},"Competición","Madrileña"]
["2813516","Martín Allegue, Carlos","3P","C",{"$f":"VLOOKUP(C1936,Referencias!$C$4:$D$21,2,FALSE())","v":"Tercera Picas"},{"$f":"VLOOKUP(I1936,Referencias!$B$24:$C$41,2,FALSE())","v":"C.MAD"},{"$f":"VLOOKUP(C1936,Referencias!$C$4:$E$21,3,FALSE())","v":3},"Honorífica","Madrileña"]
["2813517","González Andrés, Concepción","1P","D",{"$f":"VLOOKUP(C1937,Referencias!$C$4:$D$21,2,FALSE())","v":"Primera Picas"},{"$f":"VLOOKUP(I1937,Referencias!$B$24:$C$41,2,FALSE())","v":"C.MAD"},{"$f":"VLOOKUP(C1937,Referencias!$C$4:$E$21,3,FALSE())","v":1},"Competición","Madrileña"]
["2813518","Echenique Gordillo, Rodrigo","3D","C",{"$f":"VLOOKUP(C1938,Referencias!$C$4:$D$21,2,FALSE())","v":"Tercera Diamante"},{"$f":"VLOOKUP(I1938,Referencias!$B$24:$C$41,2,FALSE())","v":"C.MAD"},{"$f":"VLOOKUP(C1938,Referencias!$C$4:$E$21,3,FALSE())","v":3},"Competición","Madrileña"]
["2813521","Laguna del Cojo, Paloma","3C","D",{"$f":"VLOOKUP(C1939,Referencias!$C$4:$D$21,2,FALSE())","v":"Tercera Corazón"},{"$f":"VLOOKUP(I1939,Referencias!$B$24:$C$41,2,FALSE())","v":"C.MAD"},{"$f":"VLOOKUP(C1939,Referencias!$C$4:$E$21,3,FALSE())","v":3},"Competición","Madrileña"]
["2813522","Pedruelo Nuche, Margarita","3D","D",{"$f":"VLOOKUP(C1940,Referencias!$C$4:$D$21,2,FALSE())","v":"Tercera Diamante"},{"$f":"VLOOKUP(I1940,Referencias!$B$24:$C$41,2,FALSE())","v":"C.MAD"},{"$f":"VLOOKUP(C1940,Referencias!$C$4:$E$21,3,FALSE())","v":3},"Competición","Madrileña"]
["2813523","Gómez de la Vega López, Luis","3D","C",{"$f":"VLOOKUP(C1941,Referencias!$C$4:$D$21,2,FALSE())","v":"Tercera Diamante"},{"$f":"VLOOKUP(I1941,Referencias!$B$24:$C$41,2,FALSE())","v":"C.MAD"},{"$f":"VLOOKUP(C1941,Referencias!$C$4:$E$21,3,FALSE())","v":3},"Competición","Madrileña"]
["2813524","de Nardiz Pino, Juan","3D","C",{"$f":"VLOOKUP(C1942,Referencias!$C$4:$D$21,2,FALSE())","v":"Tercera Diamante"},{"$f":"VLOOKUP(I1942,Referencias!$B$24:$C$41,2,FALSE())","v":"C.MAD"},{"$f":"VLOOKUP(C1942,Referencias!$C$4:$E$21,3,FALSE())","v":3},"Competición","Madrileña"]
["2813525","Álvarez de Toledo Álvarez de Builla, Ana","3P","D",{"$f":"VLOOKUP(C1943,Referencias!$C$4:$D$21,2,FALSE())","v":"Tercera Picas"},{"$f":"VLOOKUP(I1943,Referencias!$B$24:$C$41,2,FALSE())","v":"C.MAD"},{"$f":"VLOOKUP(C1943,Referencias!$C$4:$E$21,3,FALSE())","v":3},"Competición","Madrileña"]
["2813527","Santiago Pérez, Carmen","3D","D",{"$f":"VLOOKUP(C1944,Referencias!$C$4:$D$21,2,FALSE())","v":"Tercera Diamante"},{"$f":"VLOOKUP(I1944,Referencias!$B$24:$C$41,2,FALSE())","v":"C.MAD"},{"$f":"VLOOKUP(C1944,Referencias!$C$4:$E$21,3,FALSE())","v":3},"Competición","Madrileña"]
["2813529","Torres-Quevedo González-Camino, Mercedes","2D","D",{"$f":"VLOOKUP(C1945,Referencias!$C$4:$D$21,2,FALSE())","v":"Segunda Diamante"},{"$f":"VLOOKUP(I1945,Referencias!$B$24:$C$41,2,FALSE())","v":"C.MAD"},{"$f":"VLOOKUP(C1945,Referencias!$C$4:$E$21,3,FALSE())","v":2},"Competición","Madrileña"]
["2813530","Acha Castresana, Ignacio","3C","C",{"$f":"VLOOKUP(C1946,Referencias!$C$4:$D$21,2,FALSE())","v":"Tercera Corazón"},{"$f":"VLOOKUP(I1946,Referencias!$B$24:$C$41,2,FALSE())","v":"C.MAD"},{"$f":"VLOOKUP(C1946,Referencias!$C$4:$E$21,3,FALSE())","v":3},"Competición","Madrileña"]
["2813531","Susaeta Salichs, Rosa","3D","D",{"$f":"VLOOKUP(C1947,Referencias!$C$4:$D$21,2,FALSE())","v":"Tercera Diamante"},{"$f":"VLOOKUP(I1947,Referencias!$B$24:$C$41,2,FALSE())","v":"C.MAD"},{"$f":"VLOOKUP(C1947,Referencias!$C$4:$E$21,3,FALSE())","v":3},"Competición","Madrileña"]
["2813532","Zumárraga Ortiz, Tomás","1P","C",{"$f":"VLOOKUP(C1948,Referencias!$C$4:$D$21,2,FALSE())","v":"Primera Picas"},{"$f":"VLOOKUP(I1948,Referencias!$B$24:$C$41,2,FALSE())","v":"C.MAD"},{"$f":"VLOOKUP(C1948,Referencias!$C$4:$E$21,3,FALSE())","v":1},"Competición","Madrileña"]
["2813533","Astorqui Zabala, María Isabel","2D","D",{"$f":"VLOOKUP(C1949,Referencias!$C$4:$D$21,2,FALSE())","v":"Segunda Diamante"},{"$f":"VLOOKUP(I1949,Referencias!$B$24:$C$41,2,FALSE())","v":"C.MAD"},{"$f":"VLOOKUP(C1949,Referencias!$C$4:$E$21,3,FALSE())","v":2},"Competición","Madrileña"]
["2813534","Albiol Pau, Enrique","3C","C",{"$f":"VLOOKUP(C1950,Referencias!$C$4:$D$21,2,FALSE())","v":"Tercera Corazón"},{"$f":"VLOOKUP(I1950,Referencias!$B$24:$C$41,2,FALSE())","v":"C.MAD"},{"$f":"VLOOKUP(C1950,Referencias!$C$4:$E$21,3,FALSE())","v":3},"Competición","Madrileña"]
["2813535","del Rosal Blasco, María Teresa","3C","D",{"$f":"VLOOKUP(C1951,Referencias!$C$4:$D$21,2,FALSE())","v":"Tercera Corazón"},{"$f":"VLOOKUP(I1951,Referencias!$B$24:$C$41,2,FALSE())","v":"C.MAD"},{"$f":"VLOOKUP(C1951,Referencias!$C$4:$E$21,3,FALSE())","v":3},"Competición","Madrileña"]
["2813538","Monjardín Bayo, Soledad","3D","D",{"$f":"VLOOKUP(C1952,Referencias!$C$4:$D$21,2,FALSE())","v":"Tercera Diamante"},{"$f":"VLOOKUP(I1952,Referencias!$B$24:$C$41,2,FALSE())","v":"C.MAD"},{"$f":"VLOOKUP(C1952,Referencias!$C$4:$E$21,3,FALSE())","v":3},"Honorífica","Madrileña"]
["2813539","Urrestarazu Cabrero, Leoncio","2D","C",{"$f":"VLOOKUP(C1953,Referencias!$C$4:$D$21,2,FALSE())","v":"Segunda Diamante"},{"$f":"VLOOKUP(I1953,Referencias!$B$24:$C$41,2,FALSE())","v":"C.MAD"},{"$f":"VLOOKUP(C1953,Referencias!$C$4:$E$21,3,FALSE())","v":2},"Competición","Madrileña"]
["2813540","González-Hontoria Velarde, José Luis","3D","C",{"$f":"VLOOKUP(C1954,Referencias!$C$4:$D$21,2,FALSE())","v":"Tercera Diamante"},{"$f":"VLOOKUP(I1954,Referencias!$B$24:$C$41,2,FALSE())","v":"C.MAD"},{"$f":"VLOOKUP(C1954,Referencias!$C$4:$E$21,3,FALSE())","v":3},"Competición","Madrileña"]
["2813548","San José González, Ana María","3C","D",{"$f":"VLOOKUP(C1955,Referencias!$C$4:$D$21,2,FALSE())","v":"Tercera Corazón"},{"$f":"VLOOKUP(I1955,Referencias!$B$24:$C$41,2,FALSE())","v":"C.MAD"},{"$f":"VLOOKUP(C1955,Referencias!$C$4:$E$21,3,FALSE())","v":3},"Competición","Madrileña"]
["2813551","Gil-Casares Fernández-Montes, Patricia","1C","D",{"$f":"VLOOKUP(C1956,Referencias!$C$4:$D$21,2,FALSE())","v":"Primera Corazón"},{"$f":"VLOOKUP(I1956,Referencias!$B$24:$C$41,2,FALSE())","v":"C.MAD"},{"$f":"VLOOKUP(C1956,Referencias!$C$4:$E$21,3,FALSE())","v":1},"Competición","Madrileña"]
["2813553","de Arroquia Noves, Concepción","3P","D",{"$f":"VLOOKUP(C1957,Referencias!$C$4:$D$21,2,FALSE())","v":"Tercera Picas"},{"$f":"VLOOKUP(I1957,Referencias!$B$24:$C$41,2,FALSE())","v":"C.MAD"},{"$f":"VLOOKUP(C1957,Referencias!$C$4:$E$21,3,FALSE())","v":3},"Competición","Madrileña"]
["2813554","Martín-Moreno Sacristán, Marta","3C","D",{"$f":"VLOOKUP(C1958,Referencias!$C$4:$D$21,2,FALSE())","v":"Tercera Corazón"},{"$f":"VLOOKUP(I1958,Referencias!$B$24:$C$41,2,FALSE())","v":"C.MAD"},{"$f":"VLOOKUP(C1958,Referencias!$C$4:$E$21,3,FALSE())","v":3},"Competición","Madrileña"]
["2813555","Urien del Diego, María Concepción","3C","D",{"$f":"VLOOKUP(C1959,Referencias!$C$4:$D$21,2,FALSE())","v":"Tercera Corazón"},{"$f":"VLOOKUP(I1959,Referencias!$B$24:$C$41,2,FALSE())","v":"C.MAD"},{"$f":"VLOOKUP(C1959,Referencias!$C$4:$E$21,3,FALSE())","v":3},"Competición","Madrileña"]
["2813556","Luque Hernández, Candelaria","3C","D",{"$f":"VLOOKUP(C1960,Referencias!$C$4:$D$21,2,FALSE())","v":"Tercera Corazón"},{"$f":"VLOOKUP(I1960,Referencias!$B$24:$C$41,2,FALSE())","v":"C.MAD"},{"$f":"VLOOKUP(C1960,Referencias!$C$4:$E$21,3,FALSE())","v":3},"Competición","Madrileña"]
["2813560","Högberg , Sonia","3P","D",{"$f":"VLOOKUP(C1961,Referencias!$C$4:$D$21,2,FALSE())","v":"Tercera Picas"},{"$f":"VLOOKUP(I1961,Referencias!$B$24:$C$41,2,FALSE())","v":"C.MAD"},{"$f":"VLOOKUP(C1961,Referencias!$C$4:$E$21,3,FALSE())","v":3},"Competición","Madrileña"]
["2813561","Alfaro Aguilar, Ana","3C","D",{"$f":"VLOOKUP(C1962,Referencias!$C$4:$D$21,2,FALSE())","v":"Tercera Corazón"},{"$f":"VLOOKUP(I1962,Referencias!$B$24:$C$41,2,FALSE())","v":"C.MAD"},{"$f":"VLOOKUP(C1962,Referencias!$C$4:$E$21,3,FALSE())","v":3},"Competición","Madrileña"]
["2813562","Fernández-Shaw, María","3P","D",{"$f":"VLOOKUP(C1963,Referencias!$C$4:$D$21,2,FALSE())","v":"Tercera Picas"},{"$f":"VLOOKUP(I1963,Referencias!$B$24:$C$41,2,FALSE())","v":"C.MAD"},{"$f":"VLOOKUP(C1963,Referencias!$C$4:$E$21,3,FALSE())","v":3},"Competición","Madrileña"]
["2813563","Rodríguez-Casanova González del Valle, Luz","3D","D",{"$f":"VLOOKUP(C1964,Referencias!$C$4:$D$21,2,FALSE())","v":"Tercera Diamante"},{"$f":"VLOOKUP(I1964,Referencias!$B$24:$C$41,2,FALSE())","v":"C.MAD"},{"$f":"VLOOKUP(C1964,Referencias!$C$4:$E$21,3,FALSE())","v":3},"Competición","Madrileña"]
["2813564","Dolz de Espejo Arróspide, Pilar","3D","D",{"$f":"VLOOKUP(C1965,Referencias!$C$4:$D$21,2,FALSE())","v":"Tercera Diamante"},{"$f":"VLOOKUP(I1965,Referencias!$B$24:$C$41,2,FALSE())","v":"C.MAD"},{"$f":"VLOOKUP(C1965,Referencias!$C$4:$E$21,3,FALSE())","v":3},"Competición","Madrileña"]
["2813565","de Olano Moliner, Chiti","2C","D",{"$f":"VLOOKUP(C1966,Referencias!$C$4:$D$21,2,FALSE())","v":"Segunda Corazón"},{"$f":"VLOOKUP(I1966,Referencias!$B$24:$C$41,2,FALSE())","v":"C.MAD"},{"$f":"VLOOKUP(C1966,Referencias!$C$4:$E$21,3,FALSE())","v":2},"Competición","Madrileña"]
["2813566","Echeverría Echaniz, María","3D","D",{"$f":"VLOOKUP(C1967,Referencias!$C$4:$D$21,2,FALSE())","v":"Tercera Diamante"},{"$f":"VLOOKUP(I1967,Referencias!$B$24:$C$41,2,FALSE())","v":"C.MAD"},{"$f":"VLOOKUP(C1967,Referencias!$C$4:$E$21,3,FALSE())","v":3},"Competición","Madrileña"]
["2813567","Grunberg Cabessa, Marcia","3D","D",{"$f":"VLOOKUP(C1968,Referencias!$C$4:$D$21,2,FALSE())","v":"Tercera Diamante"},{"$f":"VLOOKUP(I1968,Referencias!$B$24:$C$41,2,FALSE())","v":"C.MAD"},{"$f":"VLOOKUP(C1968,Referencias!$C$4:$E$21,3,FALSE())","v":3},"Competición","Madrileña"]
["2813568","Ordoñez Obregón, Charo","3D","D",{"$f":"VLOOKUP(C1969,Referencias!$C$4:$D$21,2,FALSE())","v":"Tercera Diamante"},{"$f":"VLOOKUP(I1969,Referencias!$B$24:$C$41,2,FALSE())","v":"C.MAD"},{"$f":"VLOOKUP(C1969,Referencias!$C$4:$E$21,3,FALSE())","v":3},"Competición","Madrileña"]
["2813570","Milián Quílez, María Luisa","3P","D",{"$f":"VLOOKUP(C1970,Referencias!$C$4:$D$21,2,FALSE())","v":"Tercera Picas"},{"$f":"VLOOKUP(I1970,Referencias!$B$24:$C$41,2,FALSE())","v":"C.MAD"},{"$f":"VLOOKUP(C1970,Referencias!$C$4:$E$21,3,FALSE())","v":3},"Competición","Madrileña"]
["2813571","Navarro Fernández, Ginés","3P","C",{"$f":"VLOOKUP(C1971,Referencias!$C$4:$D$21,2,FALSE())","v":"Tercera Picas"},{"$f":"VLOOKUP(I1971,Referencias!$B$24:$C$41,2,FALSE())","v":"C.MAD"},{"$f":"VLOOKUP(C1971,Referencias!$C$4:$E$21,3,FALSE())","v":3},"Competición","Madrileña"]
["2813576","Reguengo Rodríguez, Alicia","3D","D",{"$f":"VLOOKUP(C1972,Referencias!$C$4:$D$21,2,FALSE())","v":"Tercera Diamante"},{"$f":"VLOOKUP(I1972,Referencias!$B$24:$C$41,2,FALSE())","v":"C.MAD"},{"$f":"VLOOKUP(C1972,Referencias!$C$4:$E$21,3,FALSE())","v":3},"Competición","Madrileña"]
["2813586","Medrano González de Prado, Ana Marta","3C","D",{"$f":"VLOOKUP(C1973,Referencias!$C$4:$D$21,2,FALSE())","v":"Tercera Corazón"},{"$f":"VLOOKUP(I1973,Referencias!$B$24:$C$41,2,FALSE())","v":"C.MAD"},{"$f":"VLOOKUP(C1973,Referencias!$C$4:$E$21,3,FALSE())","v":3},"Competición","Madrileña"]
["2813592","Martín-Moreno Sacristán, Esperanza","2D","D",{"$f":"VLOOKUP(C1974,Referencias!$C$4:$D$21,2,FALSE())","v":"Segunda Diamante"},{"$f":"VLOOKUP(I1974,Referencias!$B$24:$C$41,2,FALSE())","v":"C.MAD"},{"$f":"VLOOKUP(C1974,Referencias!$C$4:$E$21,3,FALSE())","v":2},"Competición","Madrileña"]
["2813594","Alabart Fernández-Cavada, Álvaro","3D","C",{"$f":"VLOOKUP(C1975,Referencias!$C$4:$D$21,2,FALSE())","v":"Tercera Diamante"},{"$f":"VLOOKUP(I1975,Referencias!$B$24:$C$41,2,FALSE())","v":"C.MAD"},{"$f":"VLOOKUP(C1975,Referencias!$C$4:$E$21,3,FALSE())","v":3},"Competición","Madrileña"]
["2813597","Sintas Ponte, Pilar","3D","D",{"$f":"VLOOKUP(C1976,Referencias!$C$4:$D$21,2,FALSE())","v":"Tercera Diamante"},{"$f":"VLOOKUP(I1976,Referencias!$B$24:$C$41,2,FALSE())","v":"C.MAD"},{"$f":"VLOOKUP(C1976,Referencias!$C$4:$E$21,3,FALSE())","v":3},"Competición","Madrileña"]
["2813600","Llopis Martínez, Carmen","3D","D",{"$f":"VLOOKUP(C1977,Referencias!$C$4:$D$21,2,FALSE())","v":"Tercera Diamante"},{"$f":"VLOOKUP(I1977,Referencias!$B$24:$C$41,2,FALSE())","v":"C.MAD"},{"$f":"VLOOKUP(C1977,Referencias!$C$4:$E$21,3,FALSE())","v":3},"Competición","Madrileña"]
["2813601","de la Calle Vergara, Margarita","3D","D",{"$f":"VLOOKUP(C1978,Referencias!$C$4:$D$21,2,FALSE())","v":"Tercera Diamante"},{"$f":"VLOOKUP(I1978,Referencias!$B$24:$C$41,2,FALSE())","v":"C.MAD"},{"$f":"VLOOKUP(C1978,Referencias!$C$4:$E$21,3,FALSE())","v":3},"Competición","Madrileña"]
["2813607","Galbis Dolz de Espejo, Dolores","3D","D",{"$f":"VLOOKUP(C1979,Referencias!$C$4:$D$21,2,FALSE())","v":"Tercera Diamante"},{"$f":"VLOOKUP(I1979,Referencias!$B$24:$C$41,2,FALSE())","v":"C.MAD"},{"$f":"VLOOKUP(C1979,Referencias!$C$4:$E$21,3,FALSE())","v":3},"Competición","Madrileña"]
["2813609","Merino Company, Elvira","3C","D",{"$f":"VLOOKUP(C1980,Referencias!$C$4:$D$21,2,FALSE())","v":"Tercera Corazón"},{"$f":"VLOOKUP(I1980,Referencias!$B$24:$C$41,2,FALSE())","v":"C.MAD"},{"$f":"VLOOKUP(C1980,Referencias!$C$4:$E$21,3,FALSE())","v":3},"Honorífica","Madrileña"]
["2813610","Ortiz de Zúñiga Echeverría, Ignacio","2D","C",{"$f":"VLOOKUP(C1981,Referencias!$C$4:$D$21,2,FALSE())","v":"Segunda Diamante"},{"$f":"VLOOKUP(I1981,Referencias!$B$24:$C$41,2,FALSE())","v":"C.MAD"},{"$f":"VLOOKUP(C1981,Referencias!$C$4:$E$21,3,FALSE())","v":2},"Competición","Madrileña"]
["2813611","Mingot Aznar, Lola","1P","D",{"$f":"VLOOKUP(C1982,Referencias!$C$4:$D$21,2,FALSE())","v":"Primera Picas"},{"$f":"VLOOKUP(I1982,Referencias!$B$24:$C$41,2,FALSE())","v":"C.MAD"},{"$f":"VLOOKUP(C1982,Referencias!$C$4:$E$21,3,FALSE())","v":1},"Competición","Madrileña"]
["2813613","Requejo Falceto, María del Carmen","3C","D",{"$f":"VLOOKUP(C1983,Referencias!$C$4:$D$21,2,FALSE())","v":"Tercera Corazón"},{"$f":"VLOOKUP(I1983,Referencias!$B$24:$C$41,2,FALSE())","v":"C.MAD"},{"$f":"VLOOKUP(C1983,Referencias!$C$4:$E$21,3,FALSE())","v":3},"Competición","Madrileña"]
["2813616","Soto de Prado, Esperanza","3D","D",{"$f":"VLOOKUP(C1984,Referencias!$C$4:$D$21,2,FALSE())","v":"Tercera Diamante"},{"$f":"VLOOKUP(I1984,Referencias!$B$24:$C$41,2,FALSE())","v":"C.MAD"},{"$f":"VLOOKUP(C1984,Referencias!$C$4:$E$21,3,FALSE())","v":3},"Competición","Madrileña"]
["2813618","Rubio Morenés, Pilar","3C","D",{"$f":"VLOOKUP(C1985,Referencias!$C$4:$D$21,2,FALSE())","v":"Tercera Corazón"},{"$f":"VLOOKUP(I1985,Referencias!$B$24:$C$41,2,FALSE())","v":"C.MAD"},{"$f":"VLOOKUP(C1985,Referencias!$C$4:$E$21,3,FALSE())","v":3},"Competición","Madrileña"]
["2813620","García Del Nero, Marisol","3C","D",{"$f":"VLOOKUP(C1986,Referencias!$C$4:$D$21,2,FALSE())","v":"Tercera Corazón"},{"$f":"VLOOKUP(I1986,Referencias!$B$24:$C$41,2,FALSE())","v":"C.MAD"},{"$f":"VLOOKUP(C1986,Referencias!$C$4:$E$21,3,FALSE())","v":3},"Competición","Madrileña"]
["2813627","Espinosa de los Monteros Bernaldo de Quirós, Galinda","3C","D",{"$f":"VLOOKUP(C1987,Referencias!$C$4:$D$21,2,FALSE())","v":"Tercera Corazón"},{"$f":"VLOOKUP(I1987,Referencias!$B$24:$C$41,2,FALSE())","v":"C.MAD"},{"$f":"VLOOKUP(C1987,Referencias!$C$4:$E$21,3,FALSE())","v":3},"Competición","Madrileña"]
["2813628","Rubio Tió, Teresa","3D","D",{"$f":"VLOOKUP(C1988,Referencias!$C$4:$D$21,2,FALSE())","v":"Tercera Diamante"},{"$f":"VLOOKUP(I1988,Referencias!$B$24:$C$41,2,FALSE())","v":"C.MAD"},{"$f":"VLOOKUP(C1988,Referencias!$C$4:$E$21,3,FALSE())","v":3},"Competición","Madrileña"]
["2813629","González López, Rosario","3P","D",{"$f":"VLOOKUP(C1989,Referencias!$C$4:$D$21,2,FALSE())","v":"Tercera Picas"},{"$f":"VLOOKUP(I1989,Referencias!$B$24:$C$41,2,FALSE())","v":"C.MAD"},{"$f":"VLOOKUP(C1989,Referencias!$C$4:$E$21,3,FALSE())","v":3},"Competición","Madrileña"]
["2813636","Ciancas Prieto-Puga, Santiago","3D","C",{"$f":"VLOOKUP(C1990,Referencias!$C$4:$D$21,2,FALSE())","v":"Tercera Diamante"},{"$f":"VLOOKUP(I1990,Referencias!$B$24:$C$41,2,FALSE())","v":"C.MAD"},{"$f":"VLOOKUP(C1990,Referencias!$C$4:$E$21,3,FALSE())","v":3},"Competición","Madrileña"]
["2813637","Montoto Simón, Paloma","3D","D",{"$f":"VLOOKUP(C1991,Referencias!$C$4:$D$21,2,FALSE())","v":"Tercera Diamante"},{"$f":"VLOOKUP(I1991,Referencias!$B$24:$C$41,2,FALSE())","v":"C.MAD"},{"$f":"VLOOKUP(C1991,Referencias!$C$4:$E$21,3,FALSE())","v":3},"Competición","Madrileña"]
["2813638","Calderón Arana, Gonzalo","3C","C",{"$f":"VLOOKUP(C1992,Referencias!$C$4:$D$21,2,FALSE())","v":"Tercera Corazón"},{"$f":"VLOOKUP(I1992,Referencias!$B$24:$C$41,2,FALSE())","v":"C.MAD"},{"$f":"VLOOKUP(C1992,Referencias!$C$4:$E$21,3,FALSE())","v":3},"Competición","Madrileña"]
["2813640","Pezzi Goytre, María del Pilar","3D","D",{"$f":"VLOOKUP(C1993,Referencias!$C$4:$D$21,2,FALSE())","v":"Tercera Diamante"},{"$f":"VLOOKUP(I1993,Referencias!$B$24:$C$41,2,FALSE())","v":"C.MAD"},{"$f":"VLOOKUP(C1993,Referencias!$C$4:$E$21,3,FALSE())","v":3},"Competición","Madrileña"]
["2813642","Cunha Reis de Olazábal, Mariana","2D","D",{"$f":"VLOOKUP(C1994,Referencias!$C$4:$D$21,2,FALSE())","v":"Segunda Diamante"},{"$f":"VLOOKUP(I1994,Referencias!$B$24:$C$41,2,FALSE())","v":"C.MAD"},{"$f":"VLOOKUP(C1994,Referencias!$C$4:$E$21,3,FALSE())","v":2},"Competición","Madrileña"]
["2813643","Peréz-Seoane Escudero, Miriam","3D","D",{"$f":"VLOOKUP(C1995,Referencias!$C$4:$D$21,2,FALSE())","v":"Tercera Diamante"},{"$f":"VLOOKUP(I1995,Referencias!$B$24:$C$41,2,FALSE())","v":"C.MAD"},{"$f":"VLOOKUP(C1995,Referencias!$C$4:$E$21,3,FALSE())","v":3},"Competición","Madrileña"]
["2813644","del Riego Campos, Rafael","3D","C",{"$f":"VLOOKUP(C1996,Referencias!$C$4:$D$21,2,FALSE())","v":"Tercera Diamante"},{"$f":"VLOOKUP(I1996,Referencias!$B$24:$C$41,2,FALSE())","v":"C.MAD"},{"$f":"VLOOKUP(C1996,Referencias!$C$4:$E$21,3,FALSE())","v":3},"Competición","Madrileña"]
["2813645","Rodríguez-Marina González, María Dolores","3D","D",{"$f":"VLOOKUP(C1997,Referencias!$C$4:$D$21,2,FALSE())","v":"Tercera Diamante"},{"$f":"VLOOKUP(I1997,Referencias!$B$24:$C$41,2,FALSE())","v":"C.MAD"},{"$f":"VLOOKUP(C1997,Referencias!$C$4:$E$21,3,FALSE())","v":3},"Competición","Madrileña"]
["2813649","Doussinague García-Noblejas, María Josefa","3D","D",{"$f":"VLOOKUP(C1998,Referencias!$C$4:$D$21,2,FALSE())","v":"Tercera Diamante"},{"$f":"VLOOKUP(I1998,Referencias!$B$24:$C$41,2,FALSE())","v":"C.MAD"},{"$f":"VLOOKUP(C1998,Referencias!$C$4:$E$21,3,FALSE())","v":3},"Competición","Madrileña"]
["2813652","Orueta Gaytan, Teresa","3C","D",{"$f":"VLOOKUP(C1999,Referencias!$C$4:$D$21,2,FALSE())","v":"Tercera Corazón"},{"$f":"VLOOKUP(I1999,Referencias!$B$24:$C$41,2,FALSE())","v":"C.MAD"},{"$f":"VLOOKUP(C1999,Referencias!$C$4:$E$21,3,FALSE())","v":3},"Competición","Madrileña"]
["2813653","Martínez Antonino, Pilar","3D","D",{"$f":"VLOOKUP(C2000,Referencias!$C$4:$D$21,2,FALSE())","v":"Tercera Diamante"},{"$f":"VLOOKUP(I2000,Referencias!$B$24:$C$41,2,FALSE())","v":"C.MAD"},{"$f":"VLOOKUP(C2000,Referencias!$C$4:$E$21,3,FALSE())","v":3},"Competición","Madrileña"]
["2813655","de Guevara, Marqués","3C","C",{"$f":"VLOOKUP(C2001,Referencias!$C$4:$D$21,2,FALSE())","v":"Tercera Corazón"},{"$f":"VLOOKUP(I2001,Referencias!$B$24:$C$41,2,FALSE())","v":"C.MAD"},{"$f":"VLOOKUP(C2001,Referencias!$C$4:$E$21,3,FALSE())","v":3},"Competición","Madrileña"]
["2813656","Fernández Giménez, Beatriz","3P","D",{"$f":"VLOOKUP(C2002,Referencias!$C$4:$D$21,2,FALSE())","v":"Tercera Picas"},{"$f":"VLOOKUP(I2002,Referencias!$B$24:$C$41,2,FALSE())","v":"C.MAD"},{"$f":"VLOOKUP(C2002,Referencias!$C$4:$E$21,3,FALSE())","v":3},"Competición","Madrileña"]
["2813657","Calamita Pérez-Mangado, Anna","3C","D",{"$f":"VLOOKUP(C2003,Referencias!$C$4:$D$21,2,FALSE())","v":"Tercera Corazón"},{"$f":"VLOOKUP(I2003,Referencias!$B$24:$C$41,2,FALSE())","v":"C.MAD"},{"$f":"VLOOKUP(C2003,Referencias!$C$4:$E$21,3,FALSE())","v":3},"Competición","Madrileña"]
["2813661","Pintó Poch, Juan","3P","C",{"$f":"VLOOKUP(C2004,Referencias!$C$4:$D$21,2,FALSE())","v":"Tercera Picas"},{"$f":"VLOOKUP(I2004,Referencias!$B$24:$C$41,2,FALSE())","v":"C.MAD"},{"$f":"VLOOKUP(C2004,Referencias!$C$4:$E$21,3,FALSE())","v":3},"Competición","Madrileña"]
["2813662","Warleta Carrillo, María Rosario","1D","D",{"$f":"VLOOKUP(C2005,Referencias!$C$4:$D$21,2,FALSE())","v":"Primera Diamante"},{"$f":"VLOOKUP(I2005,Referencias!$B$24:$C$41,2,FALSE())","v":"C.MAD"},{"$f":"VLOOKUP(C2005,Referencias!$C$4:$E$21,3,FALSE())","v":1},"Competición","Madrileña"]
["2813663","Moreno Torres, Ricardo","1D","C",{"$f":"VLOOKUP(C2006,Referencias!$C$4:$D$21,2,FALSE())","v":"Primera Diamante"},{"$f":"VLOOKUP(I2006,Referencias!$B$24:$C$41,2,FALSE())","v":"C.MAD"},{"$f":"VLOOKUP(C2006,Referencias!$C$4:$E$21,3,FALSE())","v":1},"Competición","Madrileña"]
["2813665","Cavestany Vargas-Zuñiga, Paloma","3D","D",{"$f":"VLOOKUP(C2007,Referencias!$C$4:$D$21,2,FALSE())","v":"Tercera Diamante"},{"$f":"VLOOKUP(I2007,Referencias!$B$24:$C$41,2,FALSE())","v":"C.MAD"},{"$f":"VLOOKUP(C2007,Referencias!$C$4:$E$21,3,FALSE())","v":3},"Competición","Madrileña"]
["2813666","Capilla Cantó, Antonio","3C","C",{"$f":"VLOOKUP(C2008,Referencias!$C$4:$D$21,2,FALSE())","v":"Tercera Corazón"},{"$f":"VLOOKUP(I2008,Referencias!$B$24:$C$41,2,FALSE())","v":"C.MAD"},{"$f":"VLOOKUP(C2008,Referencias!$C$4:$E$21,3,FALSE())","v":3},"Competición","Madrileña"]
["2813674","Fernández Ponte, María Luisa","3D","D",{"$f":"VLOOKUP(C2009,Referencias!$C$4:$D$21,2,FALSE())","v":"Tercera Diamante"},{"$f":"VLOOKUP(I2009,Referencias!$B$24:$C$41,2,FALSE())","v":"C.MAD"},{"$f":"VLOOKUP(C2009,Referencias!$C$4:$E$21,3,FALSE())","v":3},"Honorífica","Madrileña"]
["2813682","Prieto Cabello, Teresa","3D","D",{"$f":"VLOOKUP(C2010,Referencias!$C$4:$D$21,2,FALSE())","v":"Tercera Diamante"},{"$f":"VLOOKUP(I2010,Referencias!$B$24:$C$41,2,FALSE())","v":"C.MAD"},{"$f":"VLOOKUP(C2010,Referencias!$C$4:$E$21,3,FALSE())","v":3},"Competición","Madrileña"]
["2813686","Hernández Omarrentería, María Jesús","3P","D",{"$f":"VLOOKUP(C2011,Referencias!$C$4:$D$21,2,FALSE())","v":"Tercera Picas"},{"$f":"VLOOKUP(I2011,Referencias!$B$24:$C$41,2,FALSE())","v":"C.MAD"},{"$f":"VLOOKUP(C2011,Referencias!$C$4:$E$21,3,FALSE())","v":3},"Competición","Madrileña"]
["2813688","Arrieta Reboiro, María","3D","D",{"$f":"VLOOKUP(C2012,Referencias!$C$4:$D$21,2,FALSE())","v":"Tercera Diamante"},{"$f":"VLOOKUP(I2012,Referencias!$B$24:$C$41,2,FALSE())","v":"C.MAD"},{"$f":"VLOOKUP(C2012,Referencias!$C$4:$E$21,3,FALSE())","v":3},"Competición","Madrileña"]
["2813691","Le Loup Bonamy, Sabine","3D","D",{"$f":"VLOOKUP(C2013,Referencias!$C$4:$D$21,2,FALSE())","v":"Tercera Diamante"},{"$f":"VLOOKUP(I2013,Referencias!$B$24:$C$41,2,FALSE())","v":"C.MAD"},{"$f":"VLOOKUP(C2013,Referencias!$C$4:$E$21,3,FALSE())","v":3},"Competición","Madrileña"]
["2813694","Sánchez Leoz, María Soledad","3P","D",{"$f":"VLOOKUP(C2014,Referencias!$C$4:$D$21,2,FALSE())","v":"Tercera Picas"},{"$f":"VLOOKUP(I2014,Referencias!$B$24:$C$41,2,FALSE())","v":"C.MAD"},{"$f":"VLOOKUP(C2014,Referencias!$C$4:$E$21,3,FALSE())","v":3},"Competición","Madrileña"]
["2813697","Eusebio López, María","3C","D",{"$f":"VLOOKUP(C2015,Referencias!$C$4:$D$21,2,FALSE())","v":"Tercera Corazón"},{"$f":"VLOOKUP(I2015,Referencias!$B$24:$C$41,2,FALSE())","v":"C.MAD"},{"$f":"VLOOKUP(C2015,Referencias!$C$4:$E$21,3,FALSE())","v":3},"Competición","Madrileña"]
["2813698","Arias González, Ana María","3D","D",{"$f":"VLOOKUP(C2016,Referencias!$C$4:$D$21,2,FALSE())","v":"Tercera Diamante"},{"$f":"VLOOKUP(I2016,Referencias!$B$24:$C$41,2,FALSE())","v":"C.MAD"},{"$f":"VLOOKUP(C2016,Referencias!$C$4:$E$21,3,FALSE())","v":3},"Honorífica","Madrileña"]
["2813701","Merino Retuerta, Rufino","3D","C",{"$f":"VLOOKUP(C2017,Referencias!$C$4:$D$21,2,FALSE())","v":"Tercera Diamante"},{"$f":"VLOOKUP(I2017,Referencias!$B$24:$C$41,2,FALSE())","v":"C.MAD"},{"$f":"VLOOKUP(C2017,Referencias!$C$4:$E$21,3,FALSE())","v":3},"Competición","Madrileña"]
["2813702","García González, Paloma","3D","D",{"$f":"VLOOKUP(C2018,Referencias!$C$4:$D$21,2,FALSE())","v":"Tercera Diamante"},{"$f":"VLOOKUP(I2018,Referencias!$B$24:$C$41,2,FALSE())","v":"C.MAD"},{"$f":"VLOOKUP(C2018,Referencias!$C$4:$E$21,3,FALSE())","v":3},"Competición","Madrileña"]
["2813703","Sebastián Bueno, Pilar","2D","D",{"$f":"VLOOKUP(C2019,Referencias!$C$4:$D$21,2,FALSE())","v":"Segunda Diamante"},{"$f":"VLOOKUP(I2019,Referencias!$B$24:$C$41,2,FALSE())","v":"C.MAD"},{"$f":"VLOOKUP(C2019,Referencias!$C$4:$E$21,3,FALSE())","v":2},"Competición","Madrileña"]
["2813706","Fernández de Alarcón Herrero, Javier","3D","C",{"$f":"VLOOKUP(C2020,Referencias!$C$4:$D$21,2,FALSE())","v":"Tercera Diamante"},{"$f":"VLOOKUP(I2020,Referencias!$B$24:$C$41,2,FALSE())","v":"C.MAD"},{"$f":"VLOOKUP(C2020,Referencias!$C$4:$E$21,3,FALSE())","v":3},"Competición","Madrileña"]
["2813707","Medina Guerrero, Clara","3D","D",{"$f":"VLOOKUP(C2021,Referencias!$C$4:$D$21,2,FALSE())","v":"Tercera Diamante"},{"$f":"VLOOKUP(I2021,Referencias!$B$24:$C$41,2,FALSE())","v":"C.MAD"},{"$f":"VLOOKUP(C2021,Referencias!$C$4:$E$21,3,FALSE())","v":3},"Competición","Madrileña"]
["2813708","Rafecas Lamana, José Manuel","3D","C",{"$f":"VLOOKUP(C2022,Referencias!$C$4:$D$21,2,FALSE())","v":"Tercera Diamante"},{"$f":"VLOOKUP(I2022,Referencias!$B$24:$C$41,2,FALSE())","v":"C.MAD"},{"$f":"VLOOKUP(C2022,Referencias!$C$4:$E$21,3,FALSE())","v":3},"Competición","Madrileña"]
["2813709","Tornos Martín-Fernández, Marta","3D","D",{"$f":"VLOOKUP(C2023,Referencias!$C$4:$D$21,2,FALSE())","v":"Tercera Diamante"},{"$f":"VLOOKUP(I2023,Referencias!$B$24:$C$41,2,FALSE())","v":"C.MAD"},{"$f":"VLOOKUP(C2023,Referencias!$C$4:$E$21,3,FALSE())","v":3},"Competición","Madrileña"]
["2813710","Morate León, María Fernanda","3C","D",{"$f":"VLOOKUP(C2024,Referencias!$C$4:$D$21,2,FALSE())","v":"Tercera Corazón"},{"$f":"VLOOKUP(I2024,Referencias!$B$24:$C$41,2,FALSE())","v":"C.MAD"},{"$f":"VLOOKUP(C2024,Referencias!$C$4:$E$21,3,FALSE())","v":3},"Competición","Madrileña"]
["2813712","de la Peña Juanes, Cristina","3D","D",{"$f":"VLOOKUP(C2025,Referencias!$C$4:$D$21,2,FALSE())","v":"Tercera Diamante"},{"$f":"VLOOKUP(I2025,Referencias!$B$24:$C$41,2,FALSE())","v":"C.MAD"},{"$f":"VLOOKUP(C2025,Referencias!$C$4:$E$21,3,FALSE())","v":3},"Competición","Madrileña"]
["2813713","Fullana Vicens, Pilar","3P","D",{"$f":"VLOOKUP(C2026,Referencias!$C$4:$D$21,2,FALSE())","v":"Tercera Picas"},{"$f":"VLOOKUP(I2026,Referencias!$B$24:$C$41,2,FALSE())","v":"C.MAD"},{"$f":"VLOOKUP(C2026,Referencias!$C$4:$E$21,3,FALSE())","v":3},"Competición","Madrileña"]
["2813714","Meliá Goicoechea, Francisco","3D","C",{"$f":"VLOOKUP(C2027,Referencias!$C$4:$D$21,2,FALSE())","v":"Tercera Diamante"},{"$f":"VLOOKUP(I2027,Referencias!$B$24:$C$41,2,FALSE())","v":"C.MAD"},{"$f":"VLOOKUP(C2027,Referencias!$C$4:$E$21,3,FALSE())","v":3},"Competición","Madrileña"]
["2813715","de la Peña González-Camino, Carmen","3D","D",{"$f":"VLOOKUP(C2028,Referencias!$C$4:$D$21,2,FALSE())","v":"Tercera Diamante"},{"$f":"VLOOKUP(I2028,Referencias!$B$24:$C$41,2,FALSE())","v":"C.MAD"},{"$f":"VLOOKUP(C2028,Referencias!$C$4:$E$21,3,FALSE())","v":3},"Honorífica","Madrileña"]
["2813718","del Portillo Rubí, Merle","2C","D",{"$f":"VLOOKUP(C2029,Referencias!$C$4:$D$21,2,FALSE())","v":"Segunda Corazón"},{"$f":"VLOOKUP(I2029,Referencias!$B$24:$C$41,2,FALSE())","v":"C.MAD"},{"$f":"VLOOKUP(C2029,Referencias!$C$4:$E$21,3,FALSE())","v":2},"Competición","Madrileña"]
["2813719","Tomás Crovetto, Ángel","2D","C",{"$f":"VLOOKUP(C2030,Referencias!$C$4:$D$21,2,FALSE())","v":"Segunda Diamante"},{"$f":"VLOOKUP(I2030,Referencias!$B$24:$C$41,2,FALSE())","v":"C.MAD"},{"$f":"VLOOKUP(C2030,Referencias!$C$4:$E$21,3,FALSE())","v":2},"Competición","Madrileña"]
["2813721","Martínez García-Azcutia, María Teresa","3C","D",{"$f":"VLOOKUP(C2031,Referencias!$C$4:$D$21,2,FALSE())","v":"Tercera Corazón"},{"$f":"VLOOKUP(I2031,Referencias!$B$24:$C$41,2,FALSE())","v":"C.MAD"},{"$f":"VLOOKUP(C2031,Referencias!$C$4:$E$21,3,FALSE())","v":3},"Competición","Madrileña"]
["2813724","Cerdá Sáinz, Concepción","3D","D",{"$f":"VLOOKUP(C2032,Referencias!$C$4:$D$21,2,FALSE())","v":"Tercera Diamante"},{"$f":"VLOOKUP(I2032,Referencias!$B$24:$C$41,2,FALSE())","v":"C.MAD"},{"$f":"VLOOKUP(C2032,Referencias!$C$4:$E$21,3,FALSE())","v":3},"Competición","Madrileña"]
["2813734","Schorr Schorr, Rosa-Lina","3D","D",{"$f":"VLOOKUP(C2033,Referencias!$C$4:$D$21,2,FALSE())","v":"Tercera Diamante"},{"$f":"VLOOKUP(I2033,Referencias!$B$24:$C$41,2,FALSE())","v":"C.MAD"},{"$f":"VLOOKUP(C2033,Referencias!$C$4:$E$21,3,FALSE())","v":3},"Competición","Madrileña"]
["2813740","Leal Zabala, Natalia","3P","D",{"$f":"VLOOKUP(C2034,Referencias!$C$4:$D$21,2,FALSE())","v":"Tercera Picas"},{"$f":"VLOOKUP(I2034,Referencias!$B$24:$C$41,2,FALSE())","v":"C.MAD"},{"$f":"VLOOKUP(C2034,Referencias!$C$4:$E$21,3,FALSE())","v":3},"Competición","Madrileña"]
["2813741","Lefort Sánchez de la Mata, Ignacio","3D","C",{"$f":"VLOOKUP(C2035,Referencias!$C$4:$D$21,2,FALSE())","v":"Tercera Diamante"},{"$f":"VLOOKUP(I2035,Referencias!$B$24:$C$41,2,FALSE())","v":"C.MAD"},{"$f":"VLOOKUP(C2035,Referencias!$C$4:$E$21,3,FALSE())","v":3},"Competición","Madrileña"]
["2813742","Pérez-Villar Aparicio, Rosa","3C","D",{"$f":"VLOOKUP(C2036,Referencias!$C$4:$D$21,2,FALSE())","v":"Tercera Corazón"},{"$f":"VLOOKUP(I2036,Referencias!$B$24:$C$41,2,FALSE())","v":"C.MAD"},{"$f":"VLOOKUP(C2036,Referencias!$C$4:$E$21,3,FALSE())","v":3},"Competición","Madrileña"]
["2813743","Carrión Ansorena, María del Prado","3D","D",{"$f":"VLOOKUP(C2037,Referencias!$C$4:$D$21,2,FALSE())","v":"Tercera Diamante"},{"$f":"VLOOKUP(I2037,Referencias!$B$24:$C$41,2,FALSE())","v":"C.MAD"},{"$f":"VLOOKUP(C2037,Referencias!$C$4:$E$21,3,FALSE())","v":3},"Competición","Madrileña"]
["2813747","García Muñoz, Felisa","1C","D",{"$f":"VLOOKUP(C2038,Referencias!$C$4:$D$21,2,FALSE())","v":"Primera Corazón"},{"$f":"VLOOKUP(I2038,Referencias!$B$24:$C$41,2,FALSE())","v":"C.MAD"},{"$f":"VLOOKUP(C2038,Referencias!$C$4:$E$21,3,FALSE())","v":1},"Competición","Madrileña"]
["2813748","Manaute Raposo, Nieves","3D","D",{"$f":"VLOOKUP(C2039,Referencias!$C$4:$D$21,2,FALSE())","v":"Tercera Diamante"},{"$f":"VLOOKUP(I2039,Referencias!$B$24:$C$41,2,FALSE())","v":"C.MAD"},{"$f":"VLOOKUP(C2039,Referencias!$C$4:$E$21,3,FALSE())","v":3},"Competición","Madrileña"]
["2813749","Vasallo Tomé, Jesús","3C","C",{"$f":"VLOOKUP(C2040,Referencias!$C$4:$D$21,2,FALSE())","v":"Tercera Corazón"},{"$f":"VLOOKUP(I2040,Referencias!$B$24:$C$41,2,FALSE())","v":"C.MAD"},{"$f":"VLOOKUP(C2040,Referencias!$C$4:$E$21,3,FALSE())","v":3},"Competición","Madrileña"]
["2813754","García del Nero, Yolanda","3D","D",{"$f":"VLOOKUP(C2041,Referencias!$C$4:$D$21,2,FALSE())","v":"Tercera Diamante"},{"$f":"VLOOKUP(I2041,Referencias!$B$24:$C$41,2,FALSE())","v":"C.MAD"},{"$f":"VLOOKUP(C2041,Referencias!$C$4:$E$21,3,FALSE())","v":3},"Competición","Madrileña"]
["2813757","Malavé Verdejo, María Victoria","3D","D",{"$f":"VLOOKUP(C2042,Referencias!$C$4:$D$21,2,FALSE())","v":"Tercera Diamante"},{"$f":"VLOOKUP(I2042,Referencias!$B$24:$C$41,2,FALSE())","v":"C.MAD"},{"$f":"VLOOKUP(C2042,Referencias!$C$4:$E$21,3,FALSE())","v":3},"Competición","Madrileña"]
["2813761","Leal Zabala, Sonsoles","3D","D",{"$f":"VLOOKUP(C2043,Referencias!$C$4:$D$21,2,FALSE())","v":"Tercera Diamante"},{"$f":"VLOOKUP(I2043,Referencias!$B$24:$C$41,2,FALSE())","v":"C.MAD"},{"$f":"VLOOKUP(C2043,Referencias!$C$4:$E$21,3,FALSE())","v":3},"Competición","Madrileña"]
["2813763","Rubio Suárez-Pazos, Margarita","3D","D",{"$f":"VLOOKUP(C2044,Referencias!$C$4:$D$21,2,FALSE())","v":"Tercera Diamante"},{"$f":"VLOOKUP(I2044,Referencias!$B$24:$C$41,2,FALSE())","v":"C.MAD"},{"$f":"VLOOKUP(C2044,Referencias!$C$4:$E$21,3,FALSE())","v":3},"Competición","Madrileña"]
["2813768","Oliva Utrera, Mercedes","3D","D",{"$f":"VLOOKUP(C2045,Referencias!$C$4:$D$21,2,FALSE())","v":"Tercera Diamante"},{"$f":"VLOOKUP(I2045,Referencias!$B$24:$C$41,2,FALSE())","v":"C.MAD"},{"$f":"VLOOKUP(C2045,Referencias!$C$4:$E$21,3,FALSE())","v":3},"Competición","Madrileña"]
["2813769","Ibañez Larrauri, Francisco J","3C","C",{"$f":"VLOOKUP(C2046,Referencias!$C$4:$D$21,2,FALSE())","v":"Tercera Corazón"},{"$f":"VLOOKUP(I2046,Referencias!$B$24:$C$41,2,FALSE())","v":"C.MAD"},{"$f":"VLOOKUP(C2046,Referencias!$C$4:$E$21,3,FALSE())","v":3},"Competición","Madrileña"]
["2813771","de la Fuente de la Revilla, Cristina","3D","D",{"$f":"VLOOKUP(C2047,Referencias!$C$4:$D$21,2,FALSE())","v":"Tercera Diamante"},{"$f":"VLOOKUP(I2047,Referencias!$B$24:$C$41,2,FALSE())","v":"C.MAD"},{"$f":"VLOOKUP(C2047,Referencias!$C$4:$E$21,3,FALSE())","v":3},"Competición","Madrileña"]
["2813774","Cuenca Cot, Olga","1D","D",{"$f":"VLOOKUP(C2048,Referencias!$C$4:$D$21,2,FALSE())","v":"Primera Diamante"},{"$f":"VLOOKUP(I2048,Referencias!$B$24:$C$41,2,FALSE())","v":"C.MAD"},{"$f":"VLOOKUP(C2048,Referencias!$C$4:$E$21,3,FALSE())","v":1},"Competición","Madrileña"]
["2813777","Colomo de Larrucea y Bravo, Moisés","3D","C",{"$f":"VLOOKUP(C2049,Referencias!$C$4:$D$21,2,FALSE())","v":"Tercera Diamante"},{"$f":"VLOOKUP(I2049,Referencias!$B$24:$C$41,2,FALSE())","v":"C.MAD"},{"$f":"VLOOKUP(C2049,Referencias!$C$4:$E$21,3,FALSE())","v":3},"Honorífica","Madrileña"]
["2813778","López de Toledo Ortíz, Carlos","3P","C",{"$f":"VLOOKUP(C2050,Referencias!$C$4:$D$21,2,FALSE())","v":"Tercera Picas"},{"$f":"VLOOKUP(I2050,Referencias!$B$24:$C$41,2,FALSE())","v":"C.MAD"},{"$f":"VLOOKUP(C2050,Referencias!$C$4:$E$21,3,FALSE())","v":3},"Competición","Madrileña"]
["2813779","de la Maza Fernández, Ana María","3C","D",{"$f":"VLOOKUP(C2051,Referencias!$C$4:$D$21,2,FALSE())","v":"Tercera Corazón"},{"$f":"VLOOKUP(I2051,Referencias!$B$24:$C$41,2,FALSE())","v":"C.MAD"},{"$f":"VLOOKUP(C2051,Referencias!$C$4:$E$21,3,FALSE())","v":3},"Competición","Madrileña"]
["2813783","López Pérez, Baldomero","3D","C",{"$f":"VLOOKUP(C2052,Referencias!$C$4:$D$21,2,FALSE())","v":"Tercera Diamante"},{"$f":"VLOOKUP(I2052,Referencias!$B$24:$C$41,2,FALSE())","v":"C.MAD"},{"$f":"VLOOKUP(C2052,Referencias!$C$4:$E$21,3,FALSE())","v":3},"Honorífica","Madrileña"]
["2813784","Villagrá Blanco, María Jesús","3D","C",{"$f":"VLOOKUP(C2053,Referencias!$C$4:$D$21,2,FALSE())","v":"Tercera Diamante"},{"$f":"VLOOKUP(I2053,Referencias!$B$24:$C$41,2,FALSE())","v":"C.MAD"},{"$f":"VLOOKUP(C2053,Referencias!$C$4:$E$21,3,FALSE())","v":3},"Competición","Madrileña"]
["2813785","González Dorrego, Consuelo","3D","D",{"$f":"VLOOKUP(C2054,Referencias!$C$4:$D$21,2,FALSE())","v":"Tercera Diamante"},{"$f":"VLOOKUP(I2054,Referencias!$B$24:$C$41,2,FALSE())","v":"C.MAD"},{"$f":"VLOOKUP(C2054,Referencias!$C$4:$E$21,3,FALSE())","v":3},"Competición","Madrileña"]
["2813787","Adatto de Botton, Eveline","3D","D",{"$f":"VLOOKUP(C2055,Referencias!$C$4:$D$21,2,FALSE())","v":"Tercera Diamante"},{"$f":"VLOOKUP(I2055,Referencias!$B$24:$C$41,2,FALSE())","v":"C.MAD"},{"$f":"VLOOKUP(C2055,Referencias!$C$4:$E$21,3,FALSE())","v":3},"Honorífica","Madrileña"]
["2813788","Mayoral Matesanz, María José","3D","D",{"$f":"VLOOKUP(C2056,Referencias!$C$4:$D$21,2,FALSE())","v":"Tercera Diamante"},{"$f":"VLOOKUP(I2056,Referencias!$B$24:$C$41,2,FALSE())","v":"C.MAD"},{"$f":"VLOOKUP(C2056,Referencias!$C$4:$E$21,3,FALSE())","v":3},"Competición","Madrileña"]
["2813790","de Alzaga Marín, Blanca","3P","D",{"$f":"VLOOKUP(C2057,Referencias!$C$4:$D$21,2,FALSE())","v":"Tercera Picas"},{"$f":"VLOOKUP(I2057,Referencias!$B$24:$C$41,2,FALSE())","v":"C.MAD"},{"$f":"VLOOKUP(C2057,Referencias!$C$4:$E$21,3,FALSE())","v":3},"Competición","Madrileña"]
["2813793","Fuster González de la Riva, Alicia","3P","D",{"$f":"VLOOKUP(C2058,Referencias!$C$4:$D$21,2,FALSE())","v":"Tercera Picas"},{"$f":"VLOOKUP(I2058,Referencias!$B$24:$C$41,2,FALSE())","v":"C.MAD"},{"$f":"VLOOKUP(C2058,Referencias!$C$4:$E$21,3,FALSE())","v":3},"Competición","Madrileña"]
["2813795","Baselga García-Escudero, Pilar","3C","D",{"$f":"VLOOKUP(C2059,Referencias!$C$4:$D$21,2,FALSE())","v":"Tercera Corazón"},{"$f":"VLOOKUP(I2059,Referencias!$B$24:$C$41,2,FALSE())","v":"C.MAD"},{"$f":"VLOOKUP(C2059,Referencias!$C$4:$E$21,3,FALSE())","v":3},"Competición","Madrileña"]
["2813798","de Idarreta Gabilondo, Juan María","3D","C",{"$f":"VLOOKUP(C2060,Referencias!$C$4:$D$21,2,FALSE())","v":"Tercera Diamante"},{"$f":"VLOOKUP(I2060,Referencias!$B$24:$C$41,2,FALSE())","v":"C.MAD"},{"$f":"VLOOKUP(C2060,Referencias!$C$4:$E$21,3,FALSE())","v":3},"Competición","Madrileña"]
["2813805","Huigens, Claire","3D","D",{"$f":"VLOOKUP(C2061,Referencias!$C$4:$D$21,2,FALSE())","v":"Tercera Diamante"},{"$f":"VLOOKUP(I2061,Referencias!$B$24:$C$41,2,FALSE())","v":"C.MAD"},{"$f":"VLOOKUP(C2061,Referencias!$C$4:$E$21,3,FALSE())","v":3},"Competición","Madrileña"]
["2813811","Gispert Nolla, Isabel","3D","D",{"$f":"VLOOKUP(C2062,Referencias!$C$4:$D$21,2,FALSE())","v":"Tercera Diamante"},{"$f":"VLOOKUP(I2062,Referencias!$B$24:$C$41,2,FALSE())","v":"C.MAD"},{"$f":"VLOOKUP(C2062,Referencias!$C$4:$E$21,3,FALSE())","v":3},"Competición","Madrileña"]
["2813812","Oliver Sala, Ana","3C","D",{"$f":"VLOOKUP(C2063,Referencias!$C$4:$D$21,2,FALSE())","v":"Tercera Corazón"},{"$f":"VLOOKUP(I2063,Referencias!$B$24:$C$41,2,FALSE())","v":"C.MAD"},{"$f":"VLOOKUP(C2063,Referencias!$C$4:$E$21,3,FALSE())","v":3},"Competición","Madrileña"]
["2813816","García de la Rasilla Pineda, Piedad","3D","D",{"$f":"VLOOKUP(C2064,Referencias!$C$4:$D$21,2,FALSE())","v":"Tercera Diamante"},{"$f":"VLOOKUP(I2064,Referencias!$B$24:$C$41,2,FALSE())","v":"C.MAD"},{"$f":"VLOOKUP(C2064,Referencias!$C$4:$E$21,3,FALSE())","v":3},"Competición","Madrileña"]
["2813818","Gallego Herreros, Piedad","3D","D",{"$f":"VLOOKUP(C2065,Referencias!$C$4:$D$21,2,FALSE())","v":"Tercera Diamante"},{"$f":"VLOOKUP(I2065,Referencias!$B$24:$C$41,2,FALSE())","v":"C.MAD"},{"$f":"VLOOKUP(C2065,Referencias!$C$4:$E$21,3,FALSE())","v":3},"Competición","Madrileña"]
["2813820","Forero Calderón, Carolina","3D","D",{"$f":"VLOOKUP(C2066,Referencias!$C$4:$D$21,2,FALSE())","v":"Tercera Diamante"},{"$f":"VLOOKUP(I2066,Referencias!$B$24:$C$41,2,FALSE())","v":"C.MAD"},{"$f":"VLOOKUP(C2066,Referencias!$C$4:$E$21,3,FALSE())","v":3},"Competición","Madrileña"]
["2813822","Schutt Elser, Ursula","3D","D",{"$f":"VLOOKUP(C2067,Referencias!$C$4:$D$21,2,FALSE())","v":"Tercera Diamante"},{"$f":"VLOOKUP(I2067,Referencias!$B$24:$C$41,2,FALSE())","v":"C.MAD"},{"$f":"VLOOKUP(C2067,Referencias!$C$4:$E$21,3,FALSE())","v":3},"Competición","Madrileña"]
["2813827","de los Santos Gómez-Acebo, María Victoria","3C","D",{"$f":"VLOOKUP(C2068,Referencias!$C$4:$D$21,2,FALSE())","v":"Tercera Corazón"},{"$f":"VLOOKUP(I2068,Referencias!$B$24:$C$41,2,FALSE())","v":"C.MAD"},{"$f":"VLOOKUP(C2068,Referencias!$C$4:$E$21,3,FALSE())","v":3},"Competición","Madrileña"]
["2813829","Cano Montes, María Gracia","3D","D",{"$f":"VLOOKUP(C2069,Referencias!$C$4:$D$21,2,FALSE())","v":"Tercera Diamante"},{"$f":"VLOOKUP(I2069,Referencias!$B$24:$C$41,2,FALSE())","v":"C.MAD"},{"$f":"VLOOKUP(C2069,Referencias!$C$4:$E$21,3,FALSE())","v":3},"Competición","Madrileña"]
["2813830","Tejero Montes, María Eugenia","3D","D",{"$f":"VLOOKUP(C2070,Referencias!$C$4:$D$21,2,FALSE())","v":"Tercera Diamante"},{"$f":"VLOOKUP(I2070,Referencias!$B$24:$C$41,2,FALSE())","v":"C.MAD"},{"$f":"VLOOKUP(C2070,Referencias!$C$4:$E$21,3,FALSE())","v":3},"Competición","Madrileña"]
["2813831","Martínez-Fresneda González-Anleo, Concha","3P","D",{"$f":"VLOOKUP(C2071,Referencias!$C$4:$D$21,2,FALSE())","v":"Tercera Picas"},{"$f":"VLOOKUP(I2071,Referencias!$B$24:$C$41,2,FALSE())","v":"C.MAD"},{"$f":"VLOOKUP(C2071,Referencias!$C$4:$E$21,3,FALSE())","v":3},"Competición","Madrileña"]
["2813834","Prados García, Ana María","3D","D",{"$f":"VLOOKUP(C2072,Referencias!$C$4:$D$21,2,FALSE())","v":"Tercera Diamante"},{"$f":"VLOOKUP(I2072,Referencias!$B$24:$C$41,2,FALSE())","v":"C.MAD"},{"$f":"VLOOKUP(C2072,Referencias!$C$4:$E$21,3,FALSE())","v":3},"Competición","Madrileña"]
["2813840","García-Badell Muñoz, Teresa","3C","D",{"$f":"VLOOKUP(C2073,Referencias!$C$4:$D$21,2,FALSE())","v":"Tercera Corazón"},{"$f":"VLOOKUP(I2073,Referencias!$B$24:$C$41,2,FALSE())","v":"C.MAD"},{"$f":"VLOOKUP(C2073,Referencias!$C$4:$E$21,3,FALSE())","v":3},"Competición","Madrileña"]
["2813841","Menéndez Díaz, Hortensia","3D","D",{"$f":"VLOOKUP(C2074,Referencias!$C$4:$D$21,2,FALSE())","v":"Tercera Diamante"},{"$f":"VLOOKUP(I2074,Referencias!$B$24:$C$41,2,FALSE())","v":"C.MAD"},{"$f":"VLOOKUP(C2074,Referencias!$C$4:$E$21,3,FALSE())","v":3},"Competición","Madrileña"]
["2813842","Spinola Venero, María","3D","D",{"$f":"VLOOKUP(C2075,Referencias!$C$4:$D$21,2,FALSE())","v":"Tercera Diamante"},{"$f":"VLOOKUP(I2075,Referencias!$B$24:$C$41,2,FALSE())","v":"C.MAD"},{"$f":"VLOOKUP(C2075,Referencias!$C$4:$E$21,3,FALSE())","v":3},"Competición","Madrileña"]
["2813843","Fernández Caicoya, Carmen","3P","D",{"$f":"VLOOKUP(C2076,Referencias!$C$4:$D$21,2,FALSE())","v":"Tercera Picas"},{"$f":"VLOOKUP(I2076,Referencias!$B$24:$C$41,2,FALSE())","v":"C.MAD"},{"$f":"VLOOKUP(C2076,Referencias!$C$4:$E$21,3,FALSE())","v":3},"Competición","Madrileña"]
["2813845","Rodríguez López, Carmen","3D","D",{"$f":"VLOOKUP(C2077,Referencias!$C$4:$D$21,2,FALSE())","v":"Tercera Diamante"},{"$f":"VLOOKUP(I2077,Referencias!$B$24:$C$41,2,FALSE())","v":"C.MAD"},{"$f":"VLOOKUP(C2077,Referencias!$C$4:$E$21,3,FALSE())","v":3},"Competición","Madrileña"]
["2813849","García-Badell Muñoz, Mercedes","2D","D",{"$f":"VLOOKUP(C2078,Referencias!$C$4:$D$21,2,FALSE())","v":"Segunda Diamante"},{"$f":"VLOOKUP(I2078,Referencias!$B$24:$C$41,2,FALSE())","v":"C.MAD"},{"$f":"VLOOKUP(C2078,Referencias!$C$4:$E$21,3,FALSE())","v":2},"Competición","Madrileña"]
["2813866","Ríos Carcamo, María del Carmen","3P","D",{"$f":"VLOOKUP(C2079,Referencias!$C$4:$D$21,2,FALSE())","v":"Tercera Picas"},{"$f":"VLOOKUP(I2079,Referencias!$B$24:$C$41,2,FALSE())","v":"C.MAD"},{"$f":"VLOOKUP(C2079,Referencias!$C$4:$E$21,3,FALSE())","v":3},"Competición","Madrileña"]
["2813871","Jordán de la Cruz, Eloisa","2D","D",{"$f":"VLOOKUP(C2080,Referencias!$C$4:$D$21,2,FALSE())","v":"Segunda Diamante"},{"$f":"VLOOKUP(I2080,Referencias!$B$24:$C$41,2,FALSE())","v":"C.MAD"},{"$f":"VLOOKUP(C2080,Referencias!$C$4:$E$21,3,FALSE())","v":2},"Competición","Madrileña"]
["2813873","Sánchez-Guerra Roig, María Luisa","3C","D",{"$f":"VLOOKUP(C2081,Referencias!$C$4:$D$21,2,FALSE())","v":"Tercera Corazón"},{"$f":"VLOOKUP(I2081,Referencias!$B$24:$C$41,2,FALSE())","v":"C.MAD"},{"$f":"VLOOKUP(C2081,Referencias!$C$4:$E$21,3,FALSE())","v":3},"Competición","Madrileña"]
["2813880","Márquez de la Plata García-Diego, Tomás Borja","3D","C",{"$f":"VLOOKUP(C2082,Referencias!$C$4:$D$21,2,FALSE())","v":"Tercera Diamante"},{"$f":"VLOOKUP(I2082,Referencias!$B$24:$C$41,2,FALSE())","v":"C.MAD"},{"$f":"VLOOKUP(C2082,Referencias!$C$4:$E$21,3,FALSE())","v":3},"Competición","Madrileña"]
["2813882","Lucini Bayod, Mercedes","3D","D",{"$f":"VLOOKUP(C2083,Referencias!$C$4:$D$21,2,FALSE())","v":"Tercera Diamante"},{"$f":"VLOOKUP(I2083,Referencias!$B$24:$C$41,2,FALSE())","v":"C.MAD"},{"$f":"VLOOKUP(C2083,Referencias!$C$4:$E$21,3,FALSE())","v":3},"Competición","Madrileña"]
["2813888","Calvo Arguelles, Pilar","3C","D",{"$f":"VLOOKUP(C2084,Referencias!$C$4:$D$21,2,FALSE())","v":"Tercera Corazón"},{"$f":"VLOOKUP(I2084,Referencias!$B$24:$C$41,2,FALSE())","v":"C.MAD"},{"$f":"VLOOKUP(C2084,Referencias!$C$4:$E$21,3,FALSE())","v":3},"Competición","Madrileña"]
["2813889","Poyán Rodera, Milagros","3C","D",{"$f":"VLOOKUP(C2085,Referencias!$C$4:$D$21,2,FALSE())","v":"Tercera Corazón"},{"$f":"VLOOKUP(I2085,Referencias!$B$24:$C$41,2,FALSE())","v":"C.MAD"},{"$f":"VLOOKUP(C2085,Referencias!$C$4:$E$21,3,FALSE())","v":3},"Competición","Madrileña"]
["2813892","Vegas Sansalvador, Mercedes","3C","D",{"$f":"VLOOKUP(C2086,Referencias!$C$4:$D$21,2,FALSE())","v":"Tercera Corazón"},{"$f":"VLOOKUP(I2086,Referencias!$B$24:$C$41,2,FALSE())","v":"C.MAD"},{"$f":"VLOOKUP(C2086,Referencias!$C$4:$E$21,3,FALSE())","v":3},"Competición","Madrileña"]
["2813893","Senac Sánchez-Anaut, Pilar","3D","D",{"$f":"VLOOKUP(C2087,Referencias!$C$4:$D$21,2,FALSE())","v":"Tercera Diamante"},{"$f":"VLOOKUP(I2087,Referencias!$B$24:$C$41,2,FALSE())","v":"C.MAD"},{"$f":"VLOOKUP(C2087,Referencias!$C$4:$E$21,3,FALSE())","v":3},"Competición","Madrileña"]
["2813894","Estades Seco, Matilde","3D","D",{"$f":"VLOOKUP(C2088,Referencias!$C$4:$D$21,2,FALSE())","v":"Tercera Diamante"},{"$f":"VLOOKUP(I2088,Referencias!$B$24:$C$41,2,FALSE())","v":"C.MAD"},{"$f":"VLOOKUP(C2088,Referencias!$C$4:$E$21,3,FALSE())","v":3},"Competición","Madrileña"]
["2813899","Álvarez de Toledo Bandeira, Lourdes","3D","D",{"$f":"VLOOKUP(C2089,Referencias!$C$4:$D$21,2,FALSE())","v":"Tercera Diamante"},{"$f":"VLOOKUP(I2089,Referencias!$B$24:$C$41,2,FALSE())","v":"C.MAD"},{"$f":"VLOOKUP(C2089,Referencias!$C$4:$E$21,3,FALSE())","v":3},"Competición","Madrileña"]
["2813900","Matoses Catania, Araceli","3P","D",{"$f":"VLOOKUP(C2090,Referencias!$C$4:$D$21,2,FALSE())","v":"Tercera Picas"},{"$f":"VLOOKUP(I2090,Referencias!$B$24:$C$41,2,FALSE())","v":"C.MAD"},{"$f":"VLOOKUP(C2090,Referencias!$C$4:$E$21,3,FALSE())","v":3},"Competición","Madrileña"]
["2813904","Carrasco , Jean Denis","2C","C",{"$f":"VLOOKUP(C2091,Referencias!$C$4:$D$21,2,FALSE())","v":"Segunda Corazón"},{"$f":"VLOOKUP(I2091,Referencias!$B$24:$C$41,2,FALSE())","v":"EXT"},{"$f":"VLOOKUP(C2091,Referencias!$C$4:$E$21,3,FALSE())","v":2},"Competición","Extremeña"]
["2813905","Martorell Cafranga, Almudena","1P","D",{"$f":"VLOOKUP(C2092,Referencias!$C$4:$D$21,2,FALSE())","v":"Primera Picas"},{"$f":"VLOOKUP(I2092,Referencias!$B$24:$C$41,2,FALSE())","v":"C.MAD"},{"$f":"VLOOKUP(C2092,Referencias!$C$4:$E$21,3,FALSE())","v":1},"Competición","Madrileña"]
["2813907","Merino Merino, Javier","3C","C",{"$f":"VLOOKUP(C2093,Referencias!$C$4:$D$21,2,FALSE())","v":"Tercera Corazón"},{"$f":"VLOOKUP(I2093,Referencias!$B$24:$C$41,2,FALSE())","v":"C.MAD"},{"$f":"VLOOKUP(C2093,Referencias!$C$4:$E$21,3,FALSE())","v":3},"Competición","Madrileña"]
["2813909","Nocella , Pier Luigi","1D","C",{"$f":"VLOOKUP(C2094,Referencias!$C$4:$D$21,2,FALSE())","v":"Primera Diamante"},{"$f":"VLOOKUP(I2094,Referencias!$B$24:$C$41,2,FALSE())","v":"C.MAD"},{"$f":"VLOOKUP(C2094,Referencias!$C$4:$E$21,3,FALSE())","v":1},"Competición","Madrileña"]
["2813910","Díaz Troitiño, María Luisa","2D","D",{"$f":"VLOOKUP(C2095,Referencias!$C$4:$D$21,2,FALSE())","v":"Segunda Diamante"},{"$f":"VLOOKUP(I2095,Referencias!$B$24:$C$41,2,FALSE())","v":"C.MAD"},{"$f":"VLOOKUP(C2095,Referencias!$C$4:$E$21,3,FALSE())","v":2},"Competición","Madrileña"]
["2813913","Zamácola Ballestero, Eduardo","3D","C",{"$f":"VLOOKUP(C2096,Referencias!$C$4:$D$21,2,FALSE())","v":"Tercera Diamante"},{"$f":"VLOOKUP(I2096,Referencias!$B$24:$C$41,2,FALSE())","v":"C.MAD"},{"$f":"VLOOKUP(C2096,Referencias!$C$4:$E$21,3,FALSE())","v":3},"Competición","Madrileña"]
["2813915","Zamácola Ballestero, María","3D","D",{"$f":"VLOOKUP(C2097,Referencias!$C$4:$D$21,2,FALSE())","v":"Tercera Diamante"},{"$f":"VLOOKUP(I2097,Referencias!$B$24:$C$41,2,FALSE())","v":"C.MAD"},{"$f":"VLOOKUP(C2097,Referencias!$C$4:$E$21,3,FALSE())","v":3},"Competición","Madrileña"]
["2813917","Aguirre Gil de Biedma, María","3P","D",{"$f":"VLOOKUP(C2098,Referencias!$C$4:$D$21,2,FALSE())","v":"Tercera Picas"},{"$f":"VLOOKUP(I2098,Referencias!$B$24:$C$41,2,FALSE())","v":"C.MAD"},{"$f":"VLOOKUP(C2098,Referencias!$C$4:$E$21,3,FALSE())","v":3},"Competición","Madrileña"]
["2813919","García-Monsalve Escriña, Javier","3P","C",{"$f":"VLOOKUP(C2099,Referencias!$C$4:$D$21,2,FALSE())","v":"Tercera Picas"},{"$f":"VLOOKUP(I2099,Referencias!$B$24:$C$41,2,FALSE())","v":"C.MAD"},{"$f":"VLOOKUP(C2099,Referencias!$C$4:$E$21,3,FALSE())","v":3},"Competición","Madrileña"]
["2813921","Guerrero-Burgos Pereiro, Juan","3D","C",{"$f":"VLOOKUP(C2100,Referencias!$C$4:$D$21,2,FALSE())","v":"Tercera Diamante"},{"$f":"VLOOKUP(I2100,Referencias!$B$24:$C$41,2,FALSE())","v":"C.MAD"},{"$f":"VLOOKUP(C2100,Referencias!$C$4:$E$21,3,FALSE())","v":3},"Competición","Madrileña"]
["2813922","Dávila Del Cerro, Consuelo","3D","D",{"$f":"VLOOKUP(C2101,Referencias!$C$4:$D$21,2,FALSE())","v":"Tercera Diamante"},{"$f":"VLOOKUP(I2101,Referencias!$B$24:$C$41,2,FALSE())","v":"C.MAD"},{"$f":"VLOOKUP(C2101,Referencias!$C$4:$E$21,3,FALSE())","v":3},"Competición","Madrileña"]
["2813923","Capriles López, María Pía","3P","D",{"$f":"VLOOKUP(C2102,Referencias!$C$4:$D$21,2,FALSE())","v":"Tercera Picas"},{"$f":"VLOOKUP(I2102,Referencias!$B$24:$C$41,2,FALSE())","v":"C.MAD"},{"$f":"VLOOKUP(C2102,Referencias!$C$4:$E$21,3,FALSE())","v":3},"Competición","Madrileña"]
["2813933","Wes López, Ángela","3D","D",{"$f":"VLOOKUP(C2103,Referencias!$C$4:$D$21,2,FALSE())","v":"Tercera Diamante"},{"$f":"VLOOKUP(I2103,Referencias!$B$24:$C$41,2,FALSE())","v":"C.MAD"},{"$f":"VLOOKUP(C2103,Referencias!$C$4:$E$21,3,FALSE())","v":3},"Competición","Madrileña"]
["2813934","Creus Lechaga, Ana","3P","D",{"$f":"VLOOKUP(C2104,Referencias!$C$4:$D$21,2,FALSE())","v":"Tercera Picas"},{"$f":"VLOOKUP(I2104,Referencias!$B$24:$C$41,2,FALSE())","v":"C.MAD"},{"$f":"VLOOKUP(C2104,Referencias!$C$4:$E$21,3,FALSE())","v":3},"Competición","Madrileña"]
["2813936","De Laiglesia Kaifer, Concepción","3C","D",{"$f":"VLOOKUP(C2105,Referencias!$C$4:$D$21,2,FALSE())","v":"Tercera Corazón"},{"$f":"VLOOKUP(I2105,Referencias!$B$24:$C$41,2,FALSE())","v":"C.MAD"},{"$f":"VLOOKUP(C2105,Referencias!$C$4:$E$21,3,FALSE())","v":3},"Competición","Madrileña"]
["2813939","Fernández Gómez, Celia","3D","D",{"$f":"VLOOKUP(C2106,Referencias!$C$4:$D$21,2,FALSE())","v":"Tercera Diamante"},{"$f":"VLOOKUP(I2106,Referencias!$B$24:$C$41,2,FALSE())","v":"C.MAD"},{"$f":"VLOOKUP(C2106,Referencias!$C$4:$E$21,3,FALSE())","v":3},"Competición","Madrileña"]
["2813940","Marlia Navas, Carmen","3D","D",{"$f":"VLOOKUP(C2107,Referencias!$C$4:$D$21,2,FALSE())","v":"Tercera Diamante"},{"$f":"VLOOKUP(I2107,Referencias!$B$24:$C$41,2,FALSE())","v":"C.MAD"},{"$f":"VLOOKUP(C2107,Referencias!$C$4:$E$21,3,FALSE())","v":3},"Competición","Madrileña"]
["2813942","Isla Álvarez de Tejera, Fernando","3D","C",{"$f":"VLOOKUP(C2108,Referencias!$C$4:$D$21,2,FALSE())","v":"Tercera Diamante"},{"$f":"VLOOKUP(I2108,Referencias!$B$24:$C$41,2,FALSE())","v":"C.MAD"},{"$f":"VLOOKUP(C2108,Referencias!$C$4:$E$21,3,FALSE())","v":3},"Competición","Madrileña"]
["2813943","Domínguez Bautista, Gertrudis","3D","D",{"$f":"VLOOKUP(C2109,Referencias!$C$4:$D$21,2,FALSE())","v":"Tercera Diamante"},{"$f":"VLOOKUP(I2109,Referencias!$B$24:$C$41,2,FALSE())","v":"C.MAD"},{"$f":"VLOOKUP(C2109,Referencias!$C$4:$E$21,3,FALSE())","v":3},"Competición","Madrileña"]
["2813948","Martínez Fernández, José Ignacio","3C","C",{"$f":"VLOOKUP(C2110,Referencias!$C$4:$D$21,2,FALSE())","v":"Tercera Corazón"},{"$f":"VLOOKUP(I2110,Referencias!$B$24:$C$41,2,FALSE())","v":"C.MAD"},{"$f":"VLOOKUP(C2110,Referencias!$C$4:$E$21,3,FALSE())","v":3},"Competición","Madrileña"]
["2813950","Rojo Izquierdo, Paloma","3D","D",{"$f":"VLOOKUP(C2111,Referencias!$C$4:$D$21,2,FALSE())","v":"Tercera Diamante"},{"$f":"VLOOKUP(I2111,Referencias!$B$24:$C$41,2,FALSE())","v":"C.MAD"},{"$f":"VLOOKUP(C2111,Referencias!$C$4:$E$21,3,FALSE())","v":3},"Competición","Madrileña"]
["2813952","Verduras Alonso, Isabel","3D","D",{"$f":"VLOOKUP(C2112,Referencias!$C$4:$D$21,2,FALSE())","v":"Tercera Diamante"},{"$f":"VLOOKUP(I2112,Referencias!$B$24:$C$41,2,FALSE())","v":"C.MAD"},{"$f":"VLOOKUP(C2112,Referencias!$C$4:$E$21,3,FALSE())","v":3},"Competición","Madrileña"]
["2813954","Cañizares Camacho, María Isabel","2D","D",{"$f":"VLOOKUP(C2113,Referencias!$C$4:$D$21,2,FALSE())","v":"Segunda Diamante"},{"$f":"VLOOKUP(I2113,Referencias!$B$24:$C$41,2,FALSE())","v":"C.MAD"},{"$f":"VLOOKUP(C2113,Referencias!$C$4:$E$21,3,FALSE())","v":2},"Competición","Madrileña"]
["2813958","Sánchez Gil, Miryam Lourdes","3D","D",{"$f":"VLOOKUP(C2114,Referencias!$C$4:$D$21,2,FALSE())","v":"Tercera Diamante"},{"$f":"VLOOKUP(I2114,Referencias!$B$24:$C$41,2,FALSE())","v":"C.MAD"},{"$f":"VLOOKUP(C2114,Referencias!$C$4:$E$21,3,FALSE())","v":3},"Competición","Madrileña"]
["2813961","Rivera Álvarez, Nieves","3D","D",{"$f":"VLOOKUP(C2115,Referencias!$C$4:$D$21,2,FALSE())","v":"Tercera Diamante"},{"$f":"VLOOKUP(I2115,Referencias!$B$24:$C$41,2,FALSE())","v":"C.MAD"},{"$f":"VLOOKUP(C2115,Referencias!$C$4:$E$21,3,FALSE())","v":3},"Competición","Madrileña"]
["2813966","Meiggs Corbellá, Lidia","3D","D",{"$f":"VLOOKUP(C2116,Referencias!$C$4:$D$21,2,FALSE())","v":"Tercera Diamante"},{"$f":"VLOOKUP(I2116,Referencias!$B$24:$C$41,2,FALSE())","v":"C.MAD"},{"$f":"VLOOKUP(C2116,Referencias!$C$4:$E$21,3,FALSE())","v":3},"Competición","Madrileña"]
["2813969","Labayen Latorre, Isabel","3D","D",{"$f":"VLOOKUP(C2117,Referencias!$C$4:$D$21,2,FALSE())","v":"Tercera Diamante"},{"$f":"VLOOKUP(I2117,Referencias!$B$24:$C$41,2,FALSE())","v":"C.MAD"},{"$f":"VLOOKUP(C2117,Referencias!$C$4:$E$21,3,FALSE())","v":3},"Competición","Madrileña"]
["2813970","Aleixandre García-Pescador, Dolores","3C","D",{"$f":"VLOOKUP(C2118,Referencias!$C$4:$D$21,2,FALSE())","v":"Tercera Corazón"},{"$f":"VLOOKUP(I2118,Referencias!$B$24:$C$41,2,FALSE())","v":"C.MAD"},{"$f":"VLOOKUP(C2118,Referencias!$C$4:$E$21,3,FALSE())","v":3},"Competición","Madrileña"]
["2813977","Gallego Arcos, Teresa","3D","D",{"$f":"VLOOKUP(C2119,Referencias!$C$4:$D$21,2,FALSE())","v":"Tercera Diamante"},{"$f":"VLOOKUP(I2119,Referencias!$B$24:$C$41,2,FALSE())","v":"C.MAD"},{"$f":"VLOOKUP(C2119,Referencias!$C$4:$E$21,3,FALSE())","v":3},"Competición","Madrileña"]
["2813981","Porras Delgado, María José","2C","D",{"$f":"VLOOKUP(C2120,Referencias!$C$4:$D$21,2,FALSE())","v":"Segunda Corazón"},{"$f":"VLOOKUP(I2120,Referencias!$B$24:$C$41,2,FALSE())","v":"C.MAD"},{"$f":"VLOOKUP(C2120,Referencias!$C$4:$E$21,3,FALSE())","v":2},"Competición","Madrileña"]
["2813983","Ladrón de Guevara Muñoz-Cobo, Teresa","3C","D",{"$f":"VLOOKUP(C2121,Referencias!$C$4:$D$21,2,FALSE())","v":"Tercera Corazón"},{"$f":"VLOOKUP(I2121,Referencias!$B$24:$C$41,2,FALSE())","v":"C.MAD"},{"$f":"VLOOKUP(C2121,Referencias!$C$4:$E$21,3,FALSE())","v":3},"Competición","Madrileña"]
["2813986","Arias Romero, Ana Mª","3D","D",{"$f":"VLOOKUP(C2122,Referencias!$C$4:$D$21,2,FALSE())","v":"Tercera Diamante"},{"$f":"VLOOKUP(I2122,Referencias!$B$24:$C$41,2,FALSE())","v":"C.MAD"},{"$f":"VLOOKUP(C2122,Referencias!$C$4:$E$21,3,FALSE())","v":3},"Competición","Madrileña"]
["2813987","Apalategui Carasa, Marisa","3C","D",{"$f":"VLOOKUP(C2123,Referencias!$C$4:$D$21,2,FALSE())","v":"Tercera Corazón"},{"$f":"VLOOKUP(I2123,Referencias!$B$24:$C$41,2,FALSE())","v":"C.MAD"},{"$f":"VLOOKUP(C2123,Referencias!$C$4:$E$21,3,FALSE())","v":3},"Competición","Madrileña"]
["2813988","Martínez-Gil Fluxá, Darío","2P","C",{"$f":"VLOOKUP(C2124,Referencias!$C$4:$D$21,2,FALSE())","v":"Segunda Picas"},{"$f":"VLOOKUP(I2124,Referencias!$B$24:$C$41,2,FALSE())","v":"C.MAD"},{"$f":"VLOOKUP(C2124,Referencias!$C$4:$E$21,3,FALSE())","v":2},"Competición","Madrileña"]
["2813994","Vaquero Hernández, Purificación","3D","D",{"$f":"VLOOKUP(C2125,Referencias!$C$4:$D$21,2,FALSE())","v":"Tercera Diamante"},{"$f":"VLOOKUP(I2125,Referencias!$B$24:$C$41,2,FALSE())","v":"C.MAD"},{"$f":"VLOOKUP(C2125,Referencias!$C$4:$E$21,3,FALSE())","v":3},"Competición","Madrileña"]
["2813996","Baeza Ochoa de Ocariz, María Concepción","3P","D",{"$f":"VLOOKUP(C2126,Referencias!$C$4:$D$21,2,FALSE())","v":"Tercera Picas"},{"$f":"VLOOKUP(I2126,Referencias!$B$24:$C$41,2,FALSE())","v":"C.MAD"},{"$f":"VLOOKUP(C2126,Referencias!$C$4:$E$21,3,FALSE())","v":3},"Competición","Madrileña"]
["2814001","Gaviña Pérez-Pardo, Juana","3D","D",{"$f":"VLOOKUP(C2127,Referencias!$C$4:$D$21,2,FALSE())","v":"Tercera Diamante"},{"$f":"VLOOKUP(I2127,Referencias!$B$24:$C$41,2,FALSE())","v":"C.MAD"},{"$f":"VLOOKUP(C2127,Referencias!$C$4:$E$21,3,FALSE())","v":3},"Competición","Madrileña"]
["2814002","Rute Macías, Elena","3C","D",{"$f":"VLOOKUP(C2128,Referencias!$C$4:$D$21,2,FALSE())","v":"Tercera Corazón"},{"$f":"VLOOKUP(I2128,Referencias!$B$24:$C$41,2,FALSE())","v":"C.MAD"},{"$f":"VLOOKUP(C2128,Referencias!$C$4:$E$21,3,FALSE())","v":3},"Competición","Madrileña"]
["2814005","de la Vega Gaytan de Ayala, Santiago","3D","C",{"$f":"VLOOKUP(C2129,Referencias!$C$4:$D$21,2,FALSE())","v":"Tercera Diamante"},{"$f":"VLOOKUP(I2129,Referencias!$B$24:$C$41,2,FALSE())","v":"C.MAD"},{"$f":"VLOOKUP(C2129,Referencias!$C$4:$E$21,3,FALSE())","v":3},"Competición","Madrileña"]
["2814006","Oriol Díaz de Bustamante, María","3D","D",{"$f":"VLOOKUP(C2130,Referencias!$C$4:$D$21,2,FALSE())","v":"Tercera Diamante"},{"$f":"VLOOKUP(I2130,Referencias!$B$24:$C$41,2,FALSE())","v":"C.MAD"},{"$f":"VLOOKUP(C2130,Referencias!$C$4:$E$21,3,FALSE())","v":3},"Competición","Madrileña"]
["2814008","Solera Gutiérrez, Luis","3D","C",{"$f":"VLOOKUP(C2131,Referencias!$C$4:$D$21,2,FALSE())","v":"Tercera Diamante"},{"$f":"VLOOKUP(I2131,Referencias!$B$24:$C$41,2,FALSE())","v":"C.MAD"},{"$f":"VLOOKUP(C2131,Referencias!$C$4:$E$21,3,FALSE())","v":3},"Competición","Madrileña"]
["2814009","Cereceda López-Gil, Carmen","3P","D",{"$f":"VLOOKUP(C2132,Referencias!$C$4:$D$21,2,FALSE())","v":"Tercera Picas"},{"$f":"VLOOKUP(I2132,Referencias!$B$24:$C$41,2,FALSE())","v":"C.MAD"},{"$f":"VLOOKUP(C2132,Referencias!$C$4:$E$21,3,FALSE())","v":3},"Competición","Madrileña"]
["2814011","Lafita Togores, María Victoria","3D","D",{"$f":"VLOOKUP(C2133,Referencias!$C$4:$D$21,2,FALSE())","v":"Tercera Diamante"},{"$f":"VLOOKUP(I2133,Referencias!$B$24:$C$41,2,FALSE())","v":"C.MAD"},{"$f":"VLOOKUP(C2133,Referencias!$C$4:$E$21,3,FALSE())","v":3},"Competición","Madrileña"]
["2814014","Ruíz Cecilia, Emilio","2D","C",{"$f":"VLOOKUP(C2134,Referencias!$C$4:$D$21,2,FALSE())","v":"Segunda Diamante"},{"$f":"VLOOKUP(I2134,Referencias!$B$24:$C$41,2,FALSE())","v":"C.MAD"},{"$f":"VLOOKUP(C2134,Referencias!$C$4:$E$21,3,FALSE())","v":2},"Competición","Madrileña"]
["2814019","Armada Martínez-Campos, Teresa","3D","D",{"$f":"VLOOKUP(C2135,Referencias!$C$4:$D$21,2,FALSE())","v":"Tercera Diamante"},{"$f":"VLOOKUP(I2135,Referencias!$B$24:$C$41,2,FALSE())","v":"C.MAD"},{"$f":"VLOOKUP(C2135,Referencias!$C$4:$E$21,3,FALSE())","v":3},"Competición","Madrileña"]
["2814020","Pons Senent, Araceli","3D","D",{"$f":"VLOOKUP(C2136,Referencias!$C$4:$D$21,2,FALSE())","v":"Tercera Diamante"},{"$f":"VLOOKUP(I2136,Referencias!$B$24:$C$41,2,FALSE())","v":"C.MAD"},{"$f":"VLOOKUP(C2136,Referencias!$C$4:$E$21,3,FALSE())","v":3},"Competición","Madrileña"]
["2814022","del Alcázar Armada, María","3D","D",{"$f":"VLOOKUP(C2137,Referencias!$C$4:$D$21,2,FALSE())","v":"Tercera Diamante"},{"$f":"VLOOKUP(I2137,Referencias!$B$24:$C$41,2,FALSE())","v":"C.MAD"},{"$f":"VLOOKUP(C2137,Referencias!$C$4:$E$21,3,FALSE())","v":3},"Competición","Madrileña"]
["2814023","Herránz Martínez, María del Carmen","3D","D",{"$f":"VLOOKUP(C2138,Referencias!$C$4:$D$21,2,FALSE())","v":"Tercera Diamante"},{"$f":"VLOOKUP(I2138,Referencias!$B$24:$C$41,2,FALSE())","v":"C.MAD"},{"$f":"VLOOKUP(C2138,Referencias!$C$4:$E$21,3,FALSE())","v":3},"Competición","Madrileña"]
["2814027","Serrano Milans del Bosch, María Teresa","3C","D",{"$f":"VLOOKUP(C2139,Referencias!$C$4:$D$21,2,FALSE())","v":"Tercera Corazón"},{"$f":"VLOOKUP(I2139,Referencias!$B$24:$C$41,2,FALSE())","v":"C.MAD"},{"$f":"VLOOKUP(C2139,Referencias!$C$4:$E$21,3,FALSE())","v":3},"Competición","Madrileña"]
["2814028","Álvarez-Novoa Romero, Isabel","3D","D",{"$f":"VLOOKUP(C2140,Referencias!$C$4:$D$21,2,FALSE())","v":"Tercera Diamante"},{"$f":"VLOOKUP(I2140,Referencias!$B$24:$C$41,2,FALSE())","v":"C.MAD"},{"$f":"VLOOKUP(C2140,Referencias!$C$4:$E$21,3,FALSE())","v":3},"Competición","Madrileña"]
["2814031","Pancorbo de Rato, Pilar","3D","D",{"$f":"VLOOKUP(C2141,Referencias!$C$4:$D$21,2,FALSE())","v":"Tercera Diamante"},{"$f":"VLOOKUP(I2141,Referencias!$B$24:$C$41,2,FALSE())","v":"P.AST"},{"$f":"VLOOKUP(C2141,Referencias!$C$4:$E$21,3,FALSE())","v":3},"Competición","Asturiana"]
["2814039","Cendán Lasheras, Ricardo","3D","C",{"$f":"VLOOKUP(C2142,Referencias!$C$4:$D$21,2,FALSE())","v":"Tercera Diamante"},{"$f":"VLOOKUP(I2142,Referencias!$B$24:$C$41,2,FALSE())","v":"C.MAD"},{"$f":"VLOOKUP(C2142,Referencias!$C$4:$E$21,3,FALSE())","v":3},"Competición","Madrileña"]
["2814043","Madero Ambrojo, Salud","3C","C",{"$f":"VLOOKUP(C2143,Referencias!$C$4:$D$21,2,FALSE())","v":"Tercera Corazón"},{"$f":"VLOOKUP(I2143,Referencias!$B$24:$C$41,2,FALSE())","v":"C.MAD"},{"$f":"VLOOKUP(C2143,Referencias!$C$4:$E$21,3,FALSE())","v":3},"Competición","Madrileña"]
["2814048","Morcillo Mestre, Maria Luisa","3D","D",{"$f":"VLOOKUP(C2144,Referencias!$C$4:$D$21,2,FALSE())","v":"Tercera Diamante"},{"$f":"VLOOKUP(I2144,Referencias!$B$24:$C$41,2,FALSE())","v":"C.MAD"},{"$f":"VLOOKUP(C2144,Referencias!$C$4:$E$21,3,FALSE())","v":3},"Competición","Madrileña"]
["2814054","Angulo Morales, Concepción","3D","D",{"$f":"VLOOKUP(C2145,Referencias!$C$4:$D$21,2,FALSE())","v":"Tercera Diamante"},{"$f":"VLOOKUP(I2145,Referencias!$B$24:$C$41,2,FALSE())","v":"C.MAD"},{"$f":"VLOOKUP(C2145,Referencias!$C$4:$E$21,3,FALSE())","v":3},"Competición","Madrileña"]
["2814055","Oriol López-Montenegro, Lucas","3D","C",{"$f":"VLOOKUP(C2146,Referencias!$C$4:$D$21,2,FALSE())","v":"Tercera Diamante"},{"$f":"VLOOKUP(I2146,Referencias!$B$24:$C$41,2,FALSE())","v":"C.MAD"},{"$f":"VLOOKUP(C2146,Referencias!$C$4:$E$21,3,FALSE())","v":3},"Competición","Madrileña"]
["2814056","Sanz Mendiola, Irene","3P","D",{"$f":"VLOOKUP(C2147,Referencias!$C$4:$D$21,2,FALSE())","v":"Tercera Picas"},{"$f":"VLOOKUP(I2147,Referencias!$B$24:$C$41,2,FALSE())","v":"C.MAD"},{"$f":"VLOOKUP(C2147,Referencias!$C$4:$E$21,3,FALSE())","v":3},"Competición","Madrileña"]
["2814060","De las Cuevas Castresana, Fernando","3D","C",{"$f":"VLOOKUP(C2148,Referencias!$C$4:$D$21,2,FALSE())","v":"Tercera Diamante"},{"$f":"VLOOKUP(I2148,Referencias!$B$24:$C$41,2,FALSE())","v":"C.MAD"},{"$f":"VLOOKUP(C2148,Referencias!$C$4:$E$21,3,FALSE())","v":3},"Competición","Madrileña"]
["2814063","Estévez Eguiagaray, Victoria","3D","D",{"$f":"VLOOKUP(C2149,Referencias!$C$4:$D$21,2,FALSE())","v":"Tercera Diamante"},{"$f":"VLOOKUP(I2149,Referencias!$B$24:$C$41,2,FALSE())","v":"C.MAD"},{"$f":"VLOOKUP(C2149,Referencias!$C$4:$E$21,3,FALSE())","v":3},"Competición","Madrileña"]
["2814065","Francés Goicoechea, Isabel","3P","D",{"$f":"VLOOKUP(C2150,Referencias!$C$4:$D$21,2,FALSE())","v":"Tercera Picas"},{"$f":"VLOOKUP(I2150,Referencias!$B$24:$C$41,2,FALSE())","v":"C.MAD"},{"$f":"VLOOKUP(C2150,Referencias!$C$4:$E$21,3,FALSE())","v":3},"Competición","Madrileña"]
["2814067","Entrecanales Vicinay, Ana María","3D","D",{"$f":"VLOOKUP(C2151,Referencias!$C$4:$D$21,2,FALSE())","v":"Tercera Diamante"},{"$f":"VLOOKUP(I2151,Referencias!$B$24:$C$41,2,FALSE())","v":"C.MAD"},{"$f":"VLOOKUP(C2151,Referencias!$C$4:$E$21,3,FALSE())","v":3},"Competición","Madrileña"]
["2814070","González de Prada, María Jesús","2C","D",{"$f":"VLOOKUP(C2152,Referencias!$C$4:$D$21,2,FALSE())","v":"Segunda Corazón"},{"$f":"VLOOKUP(I2152,Referencias!$B$24:$C$41,2,FALSE())","v":"C.MAD"},{"$f":"VLOOKUP(C2152,Referencias!$C$4:$E$21,3,FALSE())","v":2},"Competición","Madrileña"]
["2814074","Rodríguez Vignote, Ignacio","2P","C",{"$f":"VLOOKUP(C2153,Referencias!$C$4:$D$21,2,FALSE())","v":"Segunda Picas"},{"$f":"VLOOKUP(I2153,Referencias!$B$24:$C$41,2,FALSE())","v":"C.MAD"},{"$f":"VLOOKUP(C2153,Referencias!$C$4:$E$21,3,FALSE())","v":2},"Competición","Madrileña"]
["2814075","Martín Gutiérrez de Cabiedes, Belén","3D","D",{"$f":"VLOOKUP(C2154,Referencias!$C$4:$D$21,2,FALSE())","v":"Tercera Diamante"},{"$f":"VLOOKUP(I2154,Referencias!$B$24:$C$41,2,FALSE())","v":"C.MAD"},{"$f":"VLOOKUP(C2154,Referencias!$C$4:$E$21,3,FALSE())","v":3},"Competición","Madrileña"]
["2814078","Molina Aragón, Ana","3D","D",{"$f":"VLOOKUP(C2155,Referencias!$C$4:$D$21,2,FALSE())","v":"Tercera Diamante"},{"$f":"VLOOKUP(I2155,Referencias!$B$24:$C$41,2,FALSE())","v":"C.MAD"},{"$f":"VLOOKUP(C2155,Referencias!$C$4:$E$21,3,FALSE())","v":3},"Competición","Madrileña"]
["2814079","Velarde Pujadas, Teresa","3D","D",{"$f":"VLOOKUP(C2156,Referencias!$C$4:$D$21,2,FALSE())","v":"Tercera Diamante"},{"$f":"VLOOKUP(I2156,Referencias!$B$24:$C$41,2,FALSE())","v":"C.MAD"},{"$f":"VLOOKUP(C2156,Referencias!$C$4:$E$21,3,FALSE())","v":3},"Competición","Madrileña"]
["2814080","Sahagún Fernández, Carmen Rosa","3D","D",{"$f":"VLOOKUP(C2157,Referencias!$C$4:$D$21,2,FALSE())","v":"Tercera Diamante"},{"$f":"VLOOKUP(I2157,Referencias!$B$24:$C$41,2,FALSE())","v":"C.MAD"},{"$f":"VLOOKUP(C2157,Referencias!$C$4:$E$21,3,FALSE())","v":3},"Competición","Madrileña"]
["2814082","Bravo Urraca, María Dolores","3D","D",{"$f":"VLOOKUP(C2158,Referencias!$C$4:$D$21,2,FALSE())","v":"Tercera Diamante"},{"$f":"VLOOKUP(I2158,Referencias!$B$24:$C$41,2,FALSE())","v":"C.MAD"},{"$f":"VLOOKUP(C2158,Referencias!$C$4:$E$21,3,FALSE())","v":3},"Competición","Madrileña"]
["2814085","Moreno de Barreda Moreno, Consuelo","3C","D",{"$f":"VLOOKUP(C2159,Referencias!$C$4:$D$21,2,FALSE())","v":"Tercera Corazón"},{"$f":"VLOOKUP(I2159,Referencias!$B$24:$C$41,2,FALSE())","v":"C.MAD"},{"$f":"VLOOKUP(C2159,Referencias!$C$4:$E$21,3,FALSE())","v":3},"Competición","Madrileña"]
["2814086","Israel Benchimol, David","1C","C",{"$f":"VLOOKUP(C2160,Referencias!$C$4:$D$21,2,FALSE())","v":"Primera Corazón"},{"$f":"VLOOKUP(I2160,Referencias!$B$24:$C$41,2,FALSE())","v":"C.MAD"},{"$f":"VLOOKUP(C2160,Referencias!$C$4:$E$21,3,FALSE())","v":1},"Competición","Madrileña"]
["2814094","Zafrani Israel, Zari","3D","D",{"$f":"VLOOKUP(C2161,Referencias!$C$4:$D$21,2,FALSE())","v":"Tercera Diamante"},{"$f":"VLOOKUP(I2161,Referencias!$B$24:$C$41,2,FALSE())","v":"C.MAD"},{"$f":"VLOOKUP(C2161,Referencias!$C$4:$E$21,3,FALSE())","v":3},"Competición","Madrileña"]
["2814095","Soler González del Valle, Ángeles","2D","D",{"$f":"VLOOKUP(C2162,Referencias!$C$4:$D$21,2,FALSE())","v":"Segunda Diamante"},{"$f":"VLOOKUP(I2162,Referencias!$B$24:$C$41,2,FALSE())","v":"C.MAD"},{"$f":"VLOOKUP(C2162,Referencias!$C$4:$E$21,3,FALSE())","v":2},"Competición","Madrileña"]
["2814096","Torrente García de la Mata, Pedro","2C","C",{"$f":"VLOOKUP(C2163,Referencias!$C$4:$D$21,2,FALSE())","v":"Segunda Corazón"},{"$f":"VLOOKUP(I2163,Referencias!$B$24:$C$41,2,FALSE())","v":"C.MAD"},{"$f":"VLOOKUP(C2163,Referencias!$C$4:$E$21,3,FALSE())","v":2},"Competición","Madrileña"]
["2814097","Costa Cuadrench, Alfonso","3D","C",{"$f":"VLOOKUP(C2164,Referencias!$C$4:$D$21,2,FALSE())","v":"Tercera Diamante"},{"$f":"VLOOKUP(I2164,Referencias!$B$24:$C$41,2,FALSE())","v":"C.MAD"},{"$f":"VLOOKUP(C2164,Referencias!$C$4:$E$21,3,FALSE())","v":3},"Competición","Madrileña"]
["2814099","Aguirre Fernández-Cobaleda, Natividad","3D","D",{"$f":"VLOOKUP(C2165,Referencias!$C$4:$D$21,2,FALSE())","v":"Tercera Diamante"},{"$f":"VLOOKUP(I2165,Referencias!$B$24:$C$41,2,FALSE())","v":"C.MAD"},{"$f":"VLOOKUP(C2165,Referencias!$C$4:$E$21,3,FALSE())","v":3},"Competición","Madrileña"]
["2814103","Helain Mouquet, Françoise","3D","C",{"$f":"VLOOKUP(C2166,Referencias!$C$4:$D$21,2,FALSE())","v":"Tercera Diamante"},{"$f":"VLOOKUP(I2166,Referencias!$B$24:$C$41,2,FALSE())","v":"C.MAD"},{"$f":"VLOOKUP(C2166,Referencias!$C$4:$E$21,3,FALSE())","v":3},"Competición","Madrileña"]
["2814104","Latorre Cagigas, Alicia","3D","D",{"$f":"VLOOKUP(C2167,Referencias!$C$4:$D$21,2,FALSE())","v":"Tercera Diamante"},{"$f":"VLOOKUP(I2167,Referencias!$B$24:$C$41,2,FALSE())","v":"C.MAD"},{"$f":"VLOOKUP(C2167,Referencias!$C$4:$E$21,3,FALSE())","v":3},"Competición","Madrileña"]
["2814106","Sobrado Pérez, Pilar","3D","D",{"$f":"VLOOKUP(C2168,Referencias!$C$4:$D$21,2,FALSE())","v":"Tercera Diamante"},{"$f":"VLOOKUP(I2168,Referencias!$B$24:$C$41,2,FALSE())","v":"C.MAD"},{"$f":"VLOOKUP(C2168,Referencias!$C$4:$E$21,3,FALSE())","v":3},"Competición","Madrileña"]
["2814107","Sánchez-Terán Hernández, Miguel Ángel","3C","C",{"$f":"VLOOKUP(C2169,Referencias!$C$4:$D$21,2,FALSE())","v":"Tercera Corazón"},{"$f":"VLOOKUP(I2169,Referencias!$B$24:$C$41,2,FALSE())","v":"C.MAD"},{"$f":"VLOOKUP(C2169,Referencias!$C$4:$E$21,3,FALSE())","v":3},"Competición","Madrileña"]
["2814108","Espallardo Menor, José Antonio","3P","C",{"$f":"VLOOKUP(C2170,Referencias!$C$4:$D$21,2,FALSE())","v":"Tercera Picas"},{"$f":"VLOOKUP(I2170,Referencias!$B$24:$C$41,2,FALSE())","v":"C.MAD"},{"$f":"VLOOKUP(C2170,Referencias!$C$4:$E$21,3,FALSE())","v":3},"Competición","Madrileña"]
["2814109","Martínez Barreiro, Laura","3C","D",{"$f":"VLOOKUP(C2171,Referencias!$C$4:$D$21,2,FALSE())","v":"Tercera Corazón"},{"$f":"VLOOKUP(I2171,Referencias!$B$24:$C$41,2,FALSE())","v":"C.MAD"},{"$f":"VLOOKUP(C2171,Referencias!$C$4:$E$21,3,FALSE())","v":3},"Competición","Madrileña"]
["2814110","Manzano-Monis Caruncho, Cinta","3D","D",{"$f":"VLOOKUP(C2172,Referencias!$C$4:$D$21,2,FALSE())","v":"Tercera Diamante"},{"$f":"VLOOKUP(I2172,Referencias!$B$24:$C$41,2,FALSE())","v":"C.MAD"},{"$f":"VLOOKUP(C2172,Referencias!$C$4:$E$21,3,FALSE())","v":3},"Competición","Madrileña"]
["2814111","Vijande Brees, Pablo","3D","C",{"$f":"VLOOKUP(C2173,Referencias!$C$4:$D$21,2,FALSE())","v":"Tercera Diamante"},{"$f":"VLOOKUP(I2173,Referencias!$B$24:$C$41,2,FALSE())","v":"C.MAD"},{"$f":"VLOOKUP(C2173,Referencias!$C$4:$E$21,3,FALSE())","v":3},"Competición","Madrileña"]
["2814112","Alcocer Torra, Carlos","3P","C",{"$f":"VLOOKUP(C2174,Referencias!$C$4:$D$21,2,FALSE())","v":"Tercera Picas"},{"$f":"VLOOKUP(I2174,Referencias!$B$24:$C$41,2,FALSE())","v":"C.MAD"},{"$f":"VLOOKUP(C2174,Referencias!$C$4:$E$21,3,FALSE())","v":3},"Competición","Madrileña"]
["2814113","Zobel de Ayala Miranda, Cristina","1C","D",{"$f":"VLOOKUP(C2175,Referencias!$C$4:$D$21,2,FALSE())","v":"Primera Corazón"},{"$f":"VLOOKUP(I2175,Referencias!$B$24:$C$41,2,FALSE())","v":"C.MAD"},{"$f":"VLOOKUP(C2175,Referencias!$C$4:$E$21,3,FALSE())","v":1},"Competición","Madrileña"]
["2814114","Chapa Cañedo, Enrique","3C","C",{"$f":"VLOOKUP(C2176,Referencias!$C$4:$D$21,2,FALSE())","v":"Tercera Corazón"},{"$f":"VLOOKUP(I2176,Referencias!$B$24:$C$41,2,FALSE())","v":"C.MAD"},{"$f":"VLOOKUP(C2176,Referencias!$C$4:$E$21,3,FALSE())","v":3},"Competición","Madrileña"]
["2814115","Sáinz de Vicuña Primo de Rivera, María","1P","D",{"$f":"VLOOKUP(C2177,Referencias!$C$4:$D$21,2,FALSE())","v":"Primera Picas"},{"$f":"VLOOKUP(I2177,Referencias!$B$24:$C$41,2,FALSE())","v":"C.MAD"},{"$f":"VLOOKUP(C2177,Referencias!$C$4:$E$21,3,FALSE())","v":1},"Competición","Madrileña"]
["2814116","Espinosa de los Monteros Pitarque, Javier","2D","C",{"$f":"VLOOKUP(C2178,Referencias!$C$4:$D$21,2,FALSE())","v":"Segunda Diamante"},{"$f":"VLOOKUP(I2178,Referencias!$B$24:$C$41,2,FALSE())","v":"C.MAD"},{"$f":"VLOOKUP(C2178,Referencias!$C$4:$E$21,3,FALSE())","v":2},"Competición","Madrileña"]
["2814119","Gasset Loring, Marta","3D","D",{"$f":"VLOOKUP(C2179,Referencias!$C$4:$D$21,2,FALSE())","v":"Tercera Diamante"},{"$f":"VLOOKUP(I2179,Referencias!$B$24:$C$41,2,FALSE())","v":"C.MAD"},{"$f":"VLOOKUP(C2179,Referencias!$C$4:$E$21,3,FALSE())","v":3},"Competición","Madrileña"]
["2814120","Tomé Rodríguez, Sara","3D","D",{"$f":"VLOOKUP(C2180,Referencias!$C$4:$D$21,2,FALSE())","v":"Tercera Diamante"},{"$f":"VLOOKUP(I2180,Referencias!$B$24:$C$41,2,FALSE())","v":"C.MAD"},{"$f":"VLOOKUP(C2180,Referencias!$C$4:$E$21,3,FALSE())","v":3},"Competición","Madrileña"]
["2814121","Rodríguez Carrasco, Mary Carmen","3C","D",{"$f":"VLOOKUP(C2181,Referencias!$C$4:$D$21,2,FALSE())","v":"Tercera Corazón"},{"$f":"VLOOKUP(I2181,Referencias!$B$24:$C$41,2,FALSE())","v":"C.MAD"},{"$f":"VLOOKUP(C2181,Referencias!$C$4:$E$21,3,FALSE())","v":3},"Competición","Madrileña"]
["2814124","Parra Serrano, María del Carmen","3D","D",{"$f":"VLOOKUP(C2182,Referencias!$C$4:$D$21,2,FALSE())","v":"Tercera Diamante"},{"$f":"VLOOKUP(I2182,Referencias!$B$24:$C$41,2,FALSE())","v":"C.MAD"},{"$f":"VLOOKUP(C2182,Referencias!$C$4:$E$21,3,FALSE())","v":3},"Competición","Madrileña"]
["2814125","Garrido-Lestache Cabrera, Jesús María","3D","C",{"$f":"VLOOKUP(C2183,Referencias!$C$4:$D$21,2,FALSE())","v":"Tercera Diamante"},{"$f":"VLOOKUP(I2183,Referencias!$B$24:$C$41,2,FALSE())","v":"C.MAD"},{"$f":"VLOOKUP(C2183,Referencias!$C$4:$E$21,3,FALSE())","v":3},"Competición","Madrileña"]
["2814126","Hervada Yáñez, Joaquín","3C","C",{"$f":"VLOOKUP(C2184,Referencias!$C$4:$D$21,2,FALSE())","v":"Tercera Corazón"},{"$f":"VLOOKUP(I2184,Referencias!$B$24:$C$41,2,FALSE())","v":"C.MAD"},{"$f":"VLOOKUP(C2184,Referencias!$C$4:$E$21,3,FALSE())","v":3},"Competición","Madrileña"]
["2814127","Sierra Rocafort, María","3D","D",{"$f":"VLOOKUP(C2185,Referencias!$C$4:$D$21,2,FALSE())","v":"Tercera Diamante"},{"$f":"VLOOKUP(I2185,Referencias!$B$24:$C$41,2,FALSE())","v":"C.MAD"},{"$f":"VLOOKUP(C2185,Referencias!$C$4:$E$21,3,FALSE())","v":3},"Competición","Madrileña"]
["2814129","Alcocer Magirena, Carlos","3P","C",{"$f":"VLOOKUP(C2186,Referencias!$C$4:$D$21,2,FALSE())","v":"Tercera Picas"},{"$f":"VLOOKUP(I2186,Referencias!$B$24:$C$41,2,FALSE())","v":"C.MAD"},{"$f":"VLOOKUP(C2186,Referencias!$C$4:$E$21,3,FALSE())","v":3},"Competición","Madrileña"]
["2814131","Aguirre Gil de Biedma, Piedad","3D","D",{"$f":"VLOOKUP(C2187,Referencias!$C$4:$D$21,2,FALSE())","v":"Tercera Diamante"},{"$f":"VLOOKUP(I2187,Referencias!$B$24:$C$41,2,FALSE())","v":"C.MAD"},{"$f":"VLOOKUP(C2187,Referencias!$C$4:$E$21,3,FALSE())","v":3},"Competición","Madrileña"]
["2814134","Crespo Estefanía, Isabel","3D","D",{"$f":"VLOOKUP(C2188,Referencias!$C$4:$D$21,2,FALSE())","v":"Tercera Diamante"},{"$f":"VLOOKUP(I2188,Referencias!$B$24:$C$41,2,FALSE())","v":"C.MAD"},{"$f":"VLOOKUP(C2188,Referencias!$C$4:$E$21,3,FALSE())","v":3},"Competición","Madrileña"]
["2814137","Vainio Gyori-Molnar, María","3D","D",{"$f":"VLOOKUP(C2189,Referencias!$C$4:$D$21,2,FALSE())","v":"Tercera Diamante"},{"$f":"VLOOKUP(I2189,Referencias!$B$24:$C$41,2,FALSE())","v":"C.MAD"},{"$f":"VLOOKUP(C2189,Referencias!$C$4:$E$21,3,FALSE())","v":3},"Competición","Madrileña"]
["2814138","Heathcote Sapey, James","1P","C",{"$f":"VLOOKUP(C2190,Referencias!$C$4:$D$21,2,FALSE())","v":"Primera Picas"},{"$f":"VLOOKUP(I2190,Referencias!$B$24:$C$41,2,FALSE())","v":"C.MAD"},{"$f":"VLOOKUP(C2190,Referencias!$C$4:$E$21,3,FALSE())","v":1},"Competición","Madrileña"]
["2814140","Cuito Sabaté, Ramón","3D","C",{"$f":"VLOOKUP(C2191,Referencias!$C$4:$D$21,2,FALSE())","v":"Tercera Diamante"},{"$f":"VLOOKUP(I2191,Referencias!$B$24:$C$41,2,FALSE())","v":"C.MAD"},{"$f":"VLOOKUP(C2191,Referencias!$C$4:$E$21,3,FALSE())","v":3},"Competición","Madrileña"]
["2814141","Martín Tejedor, Mª del Rosario","3D","D",{"$f":"VLOOKUP(C2192,Referencias!$C$4:$D$21,2,FALSE())","v":"Tercera Diamante"},{"$f":"VLOOKUP(I2192,Referencias!$B$24:$C$41,2,FALSE())","v":"C.MAD"},{"$f":"VLOOKUP(C2192,Referencias!$C$4:$E$21,3,FALSE())","v":3},"Competición","Madrileña"]
["2814145","España Saz, Josefina","3D","D",{"$f":"VLOOKUP(C2193,Referencias!$C$4:$D$21,2,FALSE())","v":"Tercera Diamante"},{"$f":"VLOOKUP(I2193,Referencias!$B$24:$C$41,2,FALSE())","v":"C.MAD"},{"$f":"VLOOKUP(C2193,Referencias!$C$4:$E$21,3,FALSE())","v":3},"Competición","Madrileña"]
["2814149","Benítez Jurado, Carmen","3D","D",{"$f":"VLOOKUP(C2194,Referencias!$C$4:$D$21,2,FALSE())","v":"Tercera Diamante"},{"$f":"VLOOKUP(I2194,Referencias!$B$24:$C$41,2,FALSE())","v":"C.MAD"},{"$f":"VLOOKUP(C2194,Referencias!$C$4:$E$21,3,FALSE())","v":3},"Competición","Madrileña"]
["2814151","Sánchez de Neyra Espuch, Teresa","3D","D",{"$f":"VLOOKUP(C2195,Referencias!$C$4:$D$21,2,FALSE())","v":"Tercera Diamante"},{"$f":"VLOOKUP(I2195,Referencias!$B$24:$C$41,2,FALSE())","v":"C.MAD"},{"$f":"VLOOKUP(C2195,Referencias!$C$4:$E$21,3,FALSE())","v":3},"Competición","Madrileña"]
["2814153","Ruiz García, Concepción","3D","D",{"$f":"VLOOKUP(C2196,Referencias!$C$4:$D$21,2,FALSE())","v":"Tercera Diamante"},{"$f":"VLOOKUP(I2196,Referencias!$B$24:$C$41,2,FALSE())","v":"C.MAD"},{"$f":"VLOOKUP(C2196,Referencias!$C$4:$E$21,3,FALSE())","v":3},"Competición","Madrileña"]
["2814155","Cinta , Mónica Andreea","3D","D",{"$f":"VLOOKUP(C2197,Referencias!$C$4:$D$21,2,FALSE())","v":"Tercera Diamante"},{"$f":"VLOOKUP(I2197,Referencias!$B$24:$C$41,2,FALSE())","v":"C.MAD"},{"$f":"VLOOKUP(C2197,Referencias!$C$4:$E$21,3,FALSE())","v":3},"Competición","Madrileña"]
["2814156","Serra Carbonell, Pilar","3D","D",{"$f":"VLOOKUP(C2198,Referencias!$C$4:$D$21,2,FALSE())","v":"Tercera Diamante"},{"$f":"VLOOKUP(I2198,Referencias!$B$24:$C$41,2,FALSE())","v":"C.MAD"},{"$f":"VLOOKUP(C2198,Referencias!$C$4:$E$21,3,FALSE())","v":3},"Competición","Madrileña"]
["2814157","Zubiría Arana, Carolina","3C","D",{"$f":"VLOOKUP(C2199,Referencias!$C$4:$D$21,2,FALSE())","v":"Tercera Corazón"},{"$f":"VLOOKUP(I2199,Referencias!$B$24:$C$41,2,FALSE())","v":"C.MAD"},{"$f":"VLOOKUP(C2199,Referencias!$C$4:$E$21,3,FALSE())","v":3},"Competición","Madrileña"]
["2814159","López Nicolás, Eduardo","3D","C",{"$f":"VLOOKUP(C2200,Referencias!$C$4:$D$21,2,FALSE())","v":"Tercera Diamante"},{"$f":"VLOOKUP(I2200,Referencias!$B$24:$C$41,2,FALSE())","v":"C.MAD"},{"$f":"VLOOKUP(C2200,Referencias!$C$4:$E$21,3,FALSE())","v":3},"Competición","Madrileña"]
["2814160","Díaz-Agero De Pineda, Gabriel","2P","C",{"$f":"VLOOKUP(C2201,Referencias!$C$4:$D$21,2,FALSE())","v":"Segunda Picas"},{"$f":"VLOOKUP(I2201,Referencias!$B$24:$C$41,2,FALSE())","v":"C.MAD"},{"$f":"VLOOKUP(C2201,Referencias!$C$4:$E$21,3,FALSE())","v":2},"Competición","Madrileña"]
["2814163","Arana Monreal, Ana","3D","D",{"$f":"VLOOKUP(C2202,Referencias!$C$4:$D$21,2,FALSE())","v":"Tercera Diamante"},{"$f":"VLOOKUP(I2202,Referencias!$B$24:$C$41,2,FALSE())","v":"C.MAD"},{"$f":"VLOOKUP(C2202,Referencias!$C$4:$E$21,3,FALSE())","v":3},"Competición","Madrileña"]
["2814164","Knap , Margarita","2C","D",{"$f":"VLOOKUP(C2203,Referencias!$C$4:$D$21,2,FALSE())","v":"Segunda Corazón"},{"$f":"VLOOKUP(I2203,Referencias!$B$24:$C$41,2,FALSE())","v":"C.MAD"},{"$f":"VLOOKUP(C2203,Referencias!$C$4:$E$21,3,FALSE())","v":2},"Competición","Madrileña"]
["2814166","de la Plata Villoslada, Pilar","3D","D",{"$f":"VLOOKUP(C2204,Referencias!$C$4:$D$21,2,FALSE())","v":"Tercera Diamante"},{"$f":"VLOOKUP(I2204,Referencias!$B$24:$C$41,2,FALSE())","v":"C.MAD"},{"$f":"VLOOKUP(C2204,Referencias!$C$4:$E$21,3,FALSE())","v":3},"Competición","Madrileña"]
["2814167","Brujó Pfitz, Dolores","3D","D",{"$f":"VLOOKUP(C2205,Referencias!$C$4:$D$21,2,FALSE())","v":"Tercera Diamante"},{"$f":"VLOOKUP(I2205,Referencias!$B$24:$C$41,2,FALSE())","v":"C.MAD"},{"$f":"VLOOKUP(C2205,Referencias!$C$4:$E$21,3,FALSE())","v":3},"Competición","Madrileña"]
["2814172","Amatriain Corbi, Beatriz","3D","D",{"$f":"VLOOKUP(C2206,Referencias!$C$4:$D$21,2,FALSE())","v":"Tercera Diamante"},{"$f":"VLOOKUP(I2206,Referencias!$B$24:$C$41,2,FALSE())","v":"C.MAD"},{"$f":"VLOOKUP(C2206,Referencias!$C$4:$E$21,3,FALSE())","v":3},"Competición","Madrileña"]
["2814175","Malumbres Vicente, Almudena","1P","D",{"$f":"VLOOKUP(C2207,Referencias!$C$4:$D$21,2,FALSE())","v":"Primera Picas"},{"$f":"VLOOKUP(I2207,Referencias!$B$24:$C$41,2,FALSE())","v":"C.MAD"},{"$f":"VLOOKUP(C2207,Referencias!$C$4:$E$21,3,FALSE())","v":1},"Competición","Madrileña"]
["2814176","de Estepa , Marqués","1P","C",{"$f":"VLOOKUP(C2208,Referencias!$C$4:$D$21,2,FALSE())","v":"Primera Picas"},{"$f":"VLOOKUP(I2208,Referencias!$B$24:$C$41,2,FALSE())","v":"C.MAD"},{"$f":"VLOOKUP(C2208,Referencias!$C$4:$E$21,3,FALSE())","v":1},"Competición","Madrileña"]
["2814178","Portillo Rubí, Carlos","3P","D",{"$f":"VLOOKUP(C2209,Referencias!$C$4:$D$21,2,FALSE())","v":"Tercera Picas"},{"$f":"VLOOKUP(I2209,Referencias!$B$24:$C$41,2,FALSE())","v":"C.MAD"},{"$f":"VLOOKUP(C2209,Referencias!$C$4:$E$21,3,FALSE())","v":3},"Competición","Madrileña"]
["2814179","Pironti Lubrano, Filippo","3P","C",{"$f":"VLOOKUP(C2210,Referencias!$C$4:$D$21,2,FALSE())","v":"Tercera Picas"},{"$f":"VLOOKUP(I2210,Referencias!$B$24:$C$41,2,FALSE())","v":"C.MAD"},{"$f":"VLOOKUP(C2210,Referencias!$C$4:$E$21,3,FALSE())","v":3},"Competición","Madrileña"]
["2814180","Cuesta Adrados, Isabel","3C","D",{"$f":"VLOOKUP(C2211,Referencias!$C$4:$D$21,2,FALSE())","v":"Tercera Corazón"},{"$f":"VLOOKUP(I2211,Referencias!$B$24:$C$41,2,FALSE())","v":"C.MAD"},{"$f":"VLOOKUP(C2211,Referencias!$C$4:$E$21,3,FALSE())","v":3},"Competición","Madrileña"]
["2814184","Oriol Spinola, Borja","3D","C",{"$f":"VLOOKUP(C2212,Referencias!$C$4:$D$21,2,FALSE())","v":"Tercera Diamante"},{"$f":"VLOOKUP(I2212,Referencias!$B$24:$C$41,2,FALSE())","v":"C.MAD"},{"$f":"VLOOKUP(C2212,Referencias!$C$4:$E$21,3,FALSE())","v":3},"Competición","Madrileña"]
["2814186","Fernández Ongil, Concepción","3D","D",{"$f":"VLOOKUP(C2213,Referencias!$C$4:$D$21,2,FALSE())","v":"Tercera Diamante"},{"$f":"VLOOKUP(I2213,Referencias!$B$24:$C$41,2,FALSE())","v":"C.MAD"},{"$f":"VLOOKUP(C2213,Referencias!$C$4:$E$21,3,FALSE())","v":3},"Competición","Madrileña"]
["2814187","Mac-Crohon Pellón, Juan José","3C","C",{"$f":"VLOOKUP(C2214,Referencias!$C$4:$D$21,2,FALSE())","v":"Tercera Corazón"},{"$f":"VLOOKUP(I2214,Referencias!$B$24:$C$41,2,FALSE())","v":"C.MAD"},{"$f":"VLOOKUP(C2214,Referencias!$C$4:$E$21,3,FALSE())","v":3},"Competición","Madrileña"]
["2814188","Rodríguez Martín, Carmen","3D","D",{"$f":"VLOOKUP(C2215,Referencias!$C$4:$D$21,2,FALSE())","v":"Tercera Diamante"},{"$f":"VLOOKUP(I2215,Referencias!$B$24:$C$41,2,FALSE())","v":"C.MAD"},{"$f":"VLOOKUP(C2215,Referencias!$C$4:$E$21,3,FALSE())","v":3},"Competición","Madrileña"]
["2814189","Lobo Rico, Elena","3C","D",{"$f":"VLOOKUP(C2216,Referencias!$C$4:$D$21,2,FALSE())","v":"Tercera Corazón"},{"$f":"VLOOKUP(I2216,Referencias!$B$24:$C$41,2,FALSE())","v":"C.MAD"},{"$f":"VLOOKUP(C2216,Referencias!$C$4:$E$21,3,FALSE())","v":3},"Competición","Madrileña"]
["2814190","de la Joya Enríquez, Adela","3C","D",{"$f":"VLOOKUP(C2217,Referencias!$C$4:$D$21,2,FALSE())","v":"Tercera Corazón"},{"$f":"VLOOKUP(I2217,Referencias!$B$24:$C$41,2,FALSE())","v":"C.MAD"},{"$f":"VLOOKUP(C2217,Referencias!$C$4:$E$21,3,FALSE())","v":3},"Competición","Madrileña"]
["2814193","Cabanas Ansorena, María Pureza","1D","D",{"$f":"VLOOKUP(C2218,Referencias!$C$4:$D$21,2,FALSE())","v":"Primera Diamante"},{"$f":"VLOOKUP(I2218,Referencias!$B$24:$C$41,2,FALSE())","v":"C.MAD"},{"$f":"VLOOKUP(C2218,Referencias!$C$4:$E$21,3,FALSE())","v":1},"Competición","Madrileña"]
["2814194","Navarro Sánchez-Sicilia, Almudena","3D","D",{"$f":"VLOOKUP(C2219,Referencias!$C$4:$D$21,2,FALSE())","v":"Tercera Diamante"},{"$f":"VLOOKUP(I2219,Referencias!$B$24:$C$41,2,FALSE())","v":"C.MAD"},{"$f":"VLOOKUP(C2219,Referencias!$C$4:$E$21,3,FALSE())","v":3},"Competición","Madrileña"]
["2814195","Mor Mazin, Atara","2D","D",{"$f":"VLOOKUP(C2220,Referencias!$C$4:$D$21,2,FALSE())","v":"Segunda Diamante"},{"$f":"VLOOKUP(I2220,Referencias!$B$24:$C$41,2,FALSE())","v":"C.MAD"},{"$f":"VLOOKUP(C2220,Referencias!$C$4:$E$21,3,FALSE())","v":2},"Competición","Madrileña"]
["2814199","Sáez-Benito Godino, María Teresa","3D","D",{"$f":"VLOOKUP(C2221,Referencias!$C$4:$D$21,2,FALSE())","v":"Tercera Diamante"},{"$f":"VLOOKUP(I2221,Referencias!$B$24:$C$41,2,FALSE())","v":"C.MAD"},{"$f":"VLOOKUP(C2221,Referencias!$C$4:$E$21,3,FALSE())","v":3},"Competición","Madrileña"]
["2814200","Herrera Santa María, Fernando","3P","C",{"$f":"VLOOKUP(C2222,Referencias!$C$4:$D$21,2,FALSE())","v":"Tercera Picas"},{"$f":"VLOOKUP(I2222,Referencias!$B$24:$C$41,2,FALSE())","v":"C.MAD"},{"$f":"VLOOKUP(C2222,Referencias!$C$4:$E$21,3,FALSE())","v":3},"Competición","Madrileña"]
["2814201","Ibáñez Hernández, Victoria","3D","D",{"$f":"VLOOKUP(C2223,Referencias!$C$4:$D$21,2,FALSE())","v":"Tercera Diamante"},{"$f":"VLOOKUP(I2223,Referencias!$B$24:$C$41,2,FALSE())","v":"C.MAD"},{"$f":"VLOOKUP(C2223,Referencias!$C$4:$E$21,3,FALSE())","v":3},"Competición","Madrileña"]
["2814202","Gómez Gómez, María Victoria","3D","D",{"$f":"VLOOKUP(C2224,Referencias!$C$4:$D$21,2,FALSE())","v":"Tercera Diamante"},{"$f":"VLOOKUP(I2224,Referencias!$B$24:$C$41,2,FALSE())","v":"C.MAD"},{"$f":"VLOOKUP(C2224,Referencias!$C$4:$E$21,3,FALSE())","v":3},"Competición","Madrileña"]
["2814203","Carmona Villaverde, Rosario","3D","D",{"$f":"VLOOKUP(C2225,Referencias!$C$4:$D$21,2,FALSE())","v":"Tercera Diamante"},{"$f":"VLOOKUP(I2225,Referencias!$B$24:$C$41,2,FALSE())","v":"C.MAD"},{"$f":"VLOOKUP(C2225,Referencias!$C$4:$E$21,3,FALSE())","v":3},"Competición","Madrileña"]
["2814204","Viudes de Carlos, Amparo","3D","D",{"$f":"VLOOKUP(C2226,Referencias!$C$4:$D$21,2,FALSE())","v":"Tercera Diamante"},{"$f":"VLOOKUP(I2226,Referencias!$B$24:$C$41,2,FALSE())","v":"C.MAD"},{"$f":"VLOOKUP(C2226,Referencias!$C$4:$E$21,3,FALSE())","v":3},"Competición","Madrileña"]
["2814207","García Martos, Carlos","3D","C",{"$f":"VLOOKUP(C2227,Referencias!$C$4:$D$21,2,FALSE())","v":"Tercera Diamante"},{"$f":"VLOOKUP(I2227,Referencias!$B$24:$C$41,2,FALSE())","v":"C.MAD"},{"$f":"VLOOKUP(C2227,Referencias!$C$4:$E$21,3,FALSE())","v":3},"Competición","Madrileña"]
["2814208","de Mingo Azcárate, María","3D","D",{"$f":"VLOOKUP(C2228,Referencias!$C$4:$D$21,2,FALSE())","v":"Tercera Diamante"},{"$f":"VLOOKUP(I2228,Referencias!$B$24:$C$41,2,FALSE())","v":"C.MAD"},{"$f":"VLOOKUP(C2228,Referencias!$C$4:$E$21,3,FALSE())","v":3},"Competición","Madrileña"]
["2814209","Orozco Ulloa, Cristina","3D","D",{"$f":"VLOOKUP(C2229,Referencias!$C$4:$D$21,2,FALSE())","v":"Tercera Diamante"},{"$f":"VLOOKUP(I2229,Referencias!$B$24:$C$41,2,FALSE())","v":"C.MAD"},{"$f":"VLOOKUP(C2229,Referencias!$C$4:$E$21,3,FALSE())","v":3},"Competición","Madrileña"]
["2814210","Garre Murua, Isabel","3D","D",{"$f":"VLOOKUP(C2230,Referencias!$C$4:$D$21,2,FALSE())","v":"Tercera Diamante"},{"$f":"VLOOKUP(I2230,Referencias!$B$24:$C$41,2,FALSE())","v":"C.MAD"},{"$f":"VLOOKUP(C2230,Referencias!$C$4:$E$21,3,FALSE())","v":3},"Competición","Madrileña"]
["2814212","Gómez Purón, Mercedes","3D","D",{"$f":"VLOOKUP(C2231,Referencias!$C$4:$D$21,2,FALSE())","v":"Tercera Diamante"},{"$f":"VLOOKUP(I2231,Referencias!$B$24:$C$41,2,FALSE())","v":"C.MAD"},{"$f":"VLOOKUP(C2231,Referencias!$C$4:$E$21,3,FALSE())","v":3},"Competición","Madrileña"]
["2814214","de Estepa , Marquesa","3P","D",{"$f":"VLOOKUP(C2232,Referencias!$C$4:$D$21,2,FALSE())","v":"Tercera Picas"},{"$f":"VLOOKUP(I2232,Referencias!$B$24:$C$41,2,FALSE())","v":"C.MAD"},{"$f":"VLOOKUP(C2232,Referencias!$C$4:$E$21,3,FALSE())","v":3},"Competición","Madrileña"]
["2814215","Salto Sánchez, Conchita","3D","D",{"$f":"VLOOKUP(C2233,Referencias!$C$4:$D$21,2,FALSE())","v":"Tercera Diamante"},{"$f":"VLOOKUP(I2233,Referencias!$B$24:$C$41,2,FALSE())","v":"C.MAD"},{"$f":"VLOOKUP(C2233,Referencias!$C$4:$E$21,3,FALSE())","v":3},"Competición","Madrileña"]
["2814216","de Carlos Bertrán, Luis","1D","C",{"$f":"VLOOKUP(C2234,Referencias!$C$4:$D$21,2,FALSE())","v":"Primera Diamante"},{"$f":"VLOOKUP(I2234,Referencias!$B$24:$C$41,2,FALSE())","v":"C.MAD"},{"$f":"VLOOKUP(C2234,Referencias!$C$4:$E$21,3,FALSE())","v":1},"Competición","Madrileña"]
["2814218","Grutter Fuchs, Ursula","3D","D",{"$f":"VLOOKUP(C2235,Referencias!$C$4:$D$21,2,FALSE())","v":"Tercera Diamante"},{"$f":"VLOOKUP(I2235,Referencias!$B$24:$C$41,2,FALSE())","v":"C.MAD"},{"$f":"VLOOKUP(C2235,Referencias!$C$4:$E$21,3,FALSE())","v":3},"Competición","Madrileña"]
["2814222","Rivero Guzmán, Marta","3D","D",{"$f":"VLOOKUP(C2236,Referencias!$C$4:$D$21,2,FALSE())","v":"Tercera Diamante"},{"$f":"VLOOKUP(I2236,Referencias!$B$24:$C$41,2,FALSE())","v":"C.MAD"},{"$f":"VLOOKUP(C2236,Referencias!$C$4:$E$21,3,FALSE())","v":3},"Competición","Madrileña"]
["2814226","Jaúdenes Argüelles, Isabel","3C","D",{"$f":"VLOOKUP(C2237,Referencias!$C$4:$D$21,2,FALSE())","v":"Tercera Corazón"},{"$f":"VLOOKUP(I2237,Referencias!$B$24:$C$41,2,FALSE())","v":"C.MAD"},{"$f":"VLOOKUP(C2237,Referencias!$C$4:$E$21,3,FALSE())","v":3},"Competición","Madrileña"]
["2814227","Balaguer López, Teresa","3D","D",{"$f":"VLOOKUP(C2238,Referencias!$C$4:$D$21,2,FALSE())","v":"Tercera Diamante"},{"$f":"VLOOKUP(I2238,Referencias!$B$24:$C$41,2,FALSE())","v":"C.MAD"},{"$f":"VLOOKUP(C2238,Referencias!$C$4:$E$21,3,FALSE())","v":3},"Competición","Madrileña"]
["2814228","Núñez de Villavicencio de Soto, Cristina","3C","D",{"$f":"VLOOKUP(C2239,Referencias!$C$4:$D$21,2,FALSE())","v":"Tercera Corazón"},{"$f":"VLOOKUP(I2239,Referencias!$B$24:$C$41,2,FALSE())","v":"C.MAD"},{"$f":"VLOOKUP(C2239,Referencias!$C$4:$E$21,3,FALSE())","v":3},"Competición","Madrileña"]
["2814229","García Puig, Rafael","3D","C",{"$f":"VLOOKUP(C2240,Referencias!$C$4:$D$21,2,FALSE())","v":"Tercera Diamante"},{"$f":"VLOOKUP(I2240,Referencias!$B$24:$C$41,2,FALSE())","v":"C.MAD"},{"$f":"VLOOKUP(C2240,Referencias!$C$4:$E$21,3,FALSE())","v":3},"Competición","Madrileña"]
["2814230","López Peña, María Luisa","3D","D",{"$f":"VLOOKUP(C2241,Referencias!$C$4:$D$21,2,FALSE())","v":"Tercera Diamante"},{"$f":"VLOOKUP(I2241,Referencias!$B$24:$C$41,2,FALSE())","v":"C.MAD"},{"$f":"VLOOKUP(C2241,Referencias!$C$4:$E$21,3,FALSE())","v":3},"Competición","Madrileña"]
["2814234","Díaz-Agero De Pineda, Feliciana","3D","D",{"$f":"VLOOKUP(C2242,Referencias!$C$4:$D$21,2,FALSE())","v":"Tercera Diamante"},{"$f":"VLOOKUP(I2242,Referencias!$B$24:$C$41,2,FALSE())","v":"C.MAD"},{"$f":"VLOOKUP(C2242,Referencias!$C$4:$E$21,3,FALSE())","v":3},"Competición","Madrileña"]
["2814235","Sepúlveda Martín, María Ángeles","2P","D",{"$f":"VLOOKUP(C2243,Referencias!$C$4:$D$21,2,FALSE())","v":"Segunda Picas"},{"$f":"VLOOKUP(I2243,Referencias!$B$24:$C$41,2,FALSE())","v":"C.MAD"},{"$f":"VLOOKUP(C2243,Referencias!$C$4:$E$21,3,FALSE())","v":2},"Competición","Madrileña"]
["2814236","Sevillano García, Carlos","2C","C",{"$f":"VLOOKUP(C2244,Referencias!$C$4:$D$21,2,FALSE())","v":"Segunda Corazón"},{"$f":"VLOOKUP(I2244,Referencias!$B$24:$C$41,2,FALSE())","v":"C.MAD"},{"$f":"VLOOKUP(C2244,Referencias!$C$4:$E$21,3,FALSE())","v":2},"Competición","Madrileña"]
["2814237","Toscano Cleva, María Josefa","2D","D",{"$f":"VLOOKUP(C2245,Referencias!$C$4:$D$21,2,FALSE())","v":"Segunda Diamante"},{"$f":"VLOOKUP(I2245,Referencias!$B$24:$C$41,2,FALSE())","v":"C.MAD"},{"$f":"VLOOKUP(C2245,Referencias!$C$4:$E$21,3,FALSE())","v":2},"Honorífica","Madrileña"]
["2814238","Lucerga Revuelta, Teresa","3D","D",{"$f":"VLOOKUP(C2246,Referencias!$C$4:$D$21,2,FALSE())","v":"Tercera Diamante"},{"$f":"VLOOKUP(I2246,Referencias!$B$24:$C$41,2,FALSE())","v":"C.MAD"},{"$f":"VLOOKUP(C2246,Referencias!$C$4:$E$21,3,FALSE())","v":3},"Competición","Madrileña"]
["2814239","Dolz de Espejo Arróspide, Isabel","3D","D",{"$f":"VLOOKUP(C2247,Referencias!$C$4:$D$21,2,FALSE())","v":"Tercera Diamante"},{"$f":"VLOOKUP(I2247,Referencias!$B$24:$C$41,2,FALSE())","v":"C.MAD"},{"$f":"VLOOKUP(C2247,Referencias!$C$4:$E$21,3,FALSE())","v":3},"Competición","Madrileña"]
["2814240","Martiarena Aguilar, Eduardo","3D","C",{"$f":"VLOOKUP(C2248,Referencias!$C$4:$D$21,2,FALSE())","v":"Tercera Diamante"},{"$f":"VLOOKUP(I2248,Referencias!$B$24:$C$41,2,FALSE())","v":"C.MAD"},{"$f":"VLOOKUP(C2248,Referencias!$C$4:$E$21,3,FALSE())","v":3},"Competición","Madrileña"]
["2814242","Morenes Giles, Carmen","3D","D",{"$f":"VLOOKUP(C2249,Referencias!$C$4:$D$21,2,FALSE())","v":"Tercera Diamante"},{"$f":"VLOOKUP(I2249,Referencias!$B$24:$C$41,2,FALSE())","v":"C.MAD"},{"$f":"VLOOKUP(C2249,Referencias!$C$4:$E$21,3,FALSE())","v":3},"Competición","Madrileña"]
["2814244","Entrena Grijalba, Marimi","3D","D",{"$f":"VLOOKUP(C2250,Referencias!$C$4:$D$21,2,FALSE())","v":"Tercera Diamante"},{"$f":"VLOOKUP(I2250,Referencias!$B$24:$C$41,2,FALSE())","v":"C.MAD"},{"$f":"VLOOKUP(C2250,Referencias!$C$4:$E$21,3,FALSE())","v":3},"Competición","Madrileña"]
["2814245","Rubio González, Rafael","3C","C",{"$f":"VLOOKUP(C2251,Referencias!$C$4:$D$21,2,FALSE())","v":"Tercera Corazón"},{"$f":"VLOOKUP(I2251,Referencias!$B$24:$C$41,2,FALSE())","v":"C.MAD"},{"$f":"VLOOKUP(C2251,Referencias!$C$4:$E$21,3,FALSE())","v":3},"Competición","Madrileña"]
["2814247","Fernández de Soignie Lelaboureur, Ana","3D","D",{"$f":"VLOOKUP(C2252,Referencias!$C$4:$D$21,2,FALSE())","v":"Tercera Diamante"},{"$f":"VLOOKUP(I2252,Referencias!$B$24:$C$41,2,FALSE())","v":"C.MAD"},{"$f":"VLOOKUP(C2252,Referencias!$C$4:$E$21,3,FALSE())","v":3},"Competición","Madrileña"]
["2814248","Suárez-Inclán Martínez, Ramón","3D","C",{"$f":"VLOOKUP(C2253,Referencias!$C$4:$D$21,2,FALSE())","v":"Tercera Diamante"},{"$f":"VLOOKUP(I2253,Referencias!$B$24:$C$41,2,FALSE())","v":"C.MAD"},{"$f":"VLOOKUP(C2253,Referencias!$C$4:$E$21,3,FALSE())","v":3},"Competición","Madrileña"]
["2814249","Escribano Nicolás, Carlota","3D","D",{"$f":"VLOOKUP(C2254,Referencias!$C$4:$D$21,2,FALSE())","v":"Tercera Diamante"},{"$f":"VLOOKUP(I2254,Referencias!$B$24:$C$41,2,FALSE())","v":"C.MAD"},{"$f":"VLOOKUP(C2254,Referencias!$C$4:$E$21,3,FALSE())","v":3},"Competición","Madrileña"]
["2814251","de Alós Balderrabano, Carmen","3D","D",{"$f":"VLOOKUP(C2255,Referencias!$C$4:$D$21,2,FALSE())","v":"Tercera Diamante"},{"$f":"VLOOKUP(I2255,Referencias!$B$24:$C$41,2,FALSE())","v":"C.MAD"},{"$f":"VLOOKUP(C2255,Referencias!$C$4:$E$21,3,FALSE())","v":3},"Competición","Madrileña"]
["2814252","Rodríguez Inciarte, Juan","3D","C",{"$f":"VLOOKUP(C2256,Referencias!$C$4:$D$21,2,FALSE())","v":"Tercera Diamante"},{"$f":"VLOOKUP(I2256,Referencias!$B$24:$C$41,2,FALSE())","v":"C.MAD"},{"$f":"VLOOKUP(C2256,Referencias!$C$4:$E$21,3,FALSE())","v":3},"Competición","Madrileña"]
["2814254","Solaz García, Juan","3P","C",{"$f":"VLOOKUP(C2257,Referencias!$C$4:$D$21,2,FALSE())","v":"Tercera Picas"},{"$f":"VLOOKUP(I2257,Referencias!$B$24:$C$41,2,FALSE())","v":"C.MAD"},{"$f":"VLOOKUP(C2257,Referencias!$C$4:$E$21,3,FALSE())","v":3},"Competición","Madrileña"]
["2814255","Delage Comella, Javier","2D","C",{"$f":"VLOOKUP(C2258,Referencias!$C$4:$D$21,2,FALSE())","v":"Segunda Diamante"},{"$f":"VLOOKUP(I2258,Referencias!$B$24:$C$41,2,FALSE())","v":"C.MAD"},{"$f":"VLOOKUP(C2258,Referencias!$C$4:$E$21,3,FALSE())","v":2},"Competición","Madrileña"]
["2814262","Colás de Casso, Carmen","3D","D",{"$f":"VLOOKUP(C2259,Referencias!$C$4:$D$21,2,FALSE())","v":"Tercera Diamante"},{"$f":"VLOOKUP(I2259,Referencias!$B$24:$C$41,2,FALSE())","v":"C.MAD"},{"$f":"VLOOKUP(C2259,Referencias!$C$4:$E$21,3,FALSE())","v":3},"Competición","Madrileña"]
["2814266","de Cardona, Duquesa","1P","D",{"$f":"VLOOKUP(C2260,Referencias!$C$4:$D$21,2,FALSE())","v":"Primera Picas"},{"$f":"VLOOKUP(I2260,Referencias!$B$24:$C$41,2,FALSE())","v":"C.MAD"},{"$f":"VLOOKUP(C2260,Referencias!$C$4:$E$21,3,FALSE())","v":1},"Competición","Madrileña"]
["2814273","Prat Yaque, Carmen","3D","D",{"$f":"VLOOKUP(C2261,Referencias!$C$4:$D$21,2,FALSE())","v":"Tercera Diamante"},{"$f":"VLOOKUP(I2261,Referencias!$B$24:$C$41,2,FALSE())","v":"C.MAD"},{"$f":"VLOOKUP(C2261,Referencias!$C$4:$E$21,3,FALSE())","v":3},"Competición","Madrileña"]
["2814275","Calderón Bastos, María Teresa","3D","D",{"$f":"VLOOKUP(C2262,Referencias!$C$4:$D$21,2,FALSE())","v":"Tercera Diamante"},{"$f":"VLOOKUP(I2262,Referencias!$B$24:$C$41,2,FALSE())","v":"C.MAD"},{"$f":"VLOOKUP(C2262,Referencias!$C$4:$E$21,3,FALSE())","v":3},"Competición","Madrileña"]
["2814276","García Ramal López de Haro, María del Carmen","3C","D",{"$f":"VLOOKUP(C2263,Referencias!$C$4:$D$21,2,FALSE())","v":"Tercera Corazón"},{"$f":"VLOOKUP(I2263,Referencias!$B$24:$C$41,2,FALSE())","v":"C.MAD"},{"$f":"VLOOKUP(C2263,Referencias!$C$4:$E$21,3,FALSE())","v":3},"Competición","Madrileña"]
["2814278","Larriu Azpilicueta, Sylvia","3D","C",{"$f":"VLOOKUP(C2264,Referencias!$C$4:$D$21,2,FALSE())","v":"Tercera Diamante"},{"$f":"VLOOKUP(I2264,Referencias!$B$24:$C$41,2,FALSE())","v":"C.MAD"},{"$f":"VLOOKUP(C2264,Referencias!$C$4:$E$21,3,FALSE())","v":3},"Competición","Madrileña"]
["2814280","Rodríguez Inciarte, Marta","3C","D",{"$f":"VLOOKUP(C2265,Referencias!$C$4:$D$21,2,FALSE())","v":"Tercera Corazón"},{"$f":"VLOOKUP(I2265,Referencias!$B$24:$C$41,2,FALSE())","v":"C.MAD"},{"$f":"VLOOKUP(C2265,Referencias!$C$4:$E$21,3,FALSE())","v":3},"Competición","Madrileña"]
["2814281","Moreno Martínez, Maria Luisa","3D","D",{"$f":"VLOOKUP(C2266,Referencias!$C$4:$D$21,2,FALSE())","v":"Tercera Diamante"},{"$f":"VLOOKUP(I2266,Referencias!$B$24:$C$41,2,FALSE())","v":"C.MAD"},{"$f":"VLOOKUP(C2266,Referencias!$C$4:$E$21,3,FALSE())","v":3},"Competición","Madrileña"]
["2814283","Moliner Carbó, Gema","3D","D",{"$f":"VLOOKUP(C2267,Referencias!$C$4:$D$21,2,FALSE())","v":"Tercera Diamante"},{"$f":"VLOOKUP(I2267,Referencias!$B$24:$C$41,2,FALSE())","v":"C.MAD"},{"$f":"VLOOKUP(C2267,Referencias!$C$4:$E$21,3,FALSE())","v":3},"Competición","Madrileña"]
["2814284","Rozpide Orbegozo, Carmen","2D","D",{"$f":"VLOOKUP(C2268,Referencias!$C$4:$D$21,2,FALSE())","v":"Segunda Diamante"},{"$f":"VLOOKUP(I2268,Referencias!$B$24:$C$41,2,FALSE())","v":"C.MAD"},{"$f":"VLOOKUP(C2268,Referencias!$C$4:$E$21,3,FALSE())","v":2},"Competición","Madrileña"]
["2814286","Sánchez Ortega, Pedro","3D","C",{"$f":"VLOOKUP(C2269,Referencias!$C$4:$D$21,2,FALSE())","v":"Tercera Diamante"},{"$f":"VLOOKUP(I2269,Referencias!$B$24:$C$41,2,FALSE())","v":"C.MAD"},{"$f":"VLOOKUP(C2269,Referencias!$C$4:$E$21,3,FALSE())","v":3},"Competición","Madrileña"]
["2814293","García Zurdo, José","3D","C",{"$f":"VLOOKUP(C2270,Referencias!$C$4:$D$21,2,FALSE())","v":"Tercera Diamante"},{"$f":"VLOOKUP(I2270,Referencias!$B$24:$C$41,2,FALSE())","v":"C.MAD"},{"$f":"VLOOKUP(C2270,Referencias!$C$4:$E$21,3,FALSE())","v":3},"Competición","Madrileña"]
["2814299","Fernández de Mesa Temboury, Cristina","2P","D",{"$f":"VLOOKUP(C2271,Referencias!$C$4:$D$21,2,FALSE())","v":"Segunda Picas"},{"$f":"VLOOKUP(I2271,Referencias!$B$24:$C$41,2,FALSE())","v":"C.MAD"},{"$f":"VLOOKUP(C2271,Referencias!$C$4:$E$21,3,FALSE())","v":2},"Competición","Madrileña"]
["2814304","Armijo Torres, Marta","2P","D",{"$f":"VLOOKUP(C2272,Referencias!$C$4:$D$21,2,FALSE())","v":"Segunda Picas"},{"$f":"VLOOKUP(I2272,Referencias!$B$24:$C$41,2,FALSE())","v":"C.MAD"},{"$f":"VLOOKUP(C2272,Referencias!$C$4:$E$21,3,FALSE())","v":2},"Competición","Madrileña"]
["2814306","Llorente Navarro, Olga","3D","D",{"$f":"VLOOKUP(C2273,Referencias!$C$4:$D$21,2,FALSE())","v":"Tercera Diamante"},{"$f":"VLOOKUP(I2273,Referencias!$B$24:$C$41,2,FALSE())","v":"C.VAL"},{"$f":"VLOOKUP(C2273,Referencias!$C$4:$E$21,3,FALSE())","v":3},"Competición","C. Valenciana"]
["2814309","Serra López de Chicheri, María Dolores","3P","D",{"$f":"VLOOKUP(C2274,Referencias!$C$4:$D$21,2,FALSE())","v":"Tercera Picas"},{"$f":"VLOOKUP(I2274,Referencias!$B$24:$C$41,2,FALSE())","v":"C.MAD"},{"$f":"VLOOKUP(C2274,Referencias!$C$4:$E$21,3,FALSE())","v":3},"Competición","Madrileña"]
["2814312","Muñoz Noguera, Carmen","3D","D",{"$f":"VLOOKUP(C2275,Referencias!$C$4:$D$21,2,FALSE())","v":"Tercera Diamante"},{"$f":"VLOOKUP(I2275,Referencias!$B$24:$C$41,2,FALSE())","v":"C.MAD"},{"$f":"VLOOKUP(C2275,Referencias!$C$4:$E$21,3,FALSE())","v":3},"Competición","Madrileña"]
["2814317","Lozano García, Francisco","3P","C",{"$f":"VLOOKUP(C2276,Referencias!$C$4:$D$21,2,FALSE())","v":"Tercera Picas"},{"$f":"VLOOKUP(I2276,Referencias!$B$24:$C$41,2,FALSE())","v":"C.MAD"},{"$f":"VLOOKUP(C2276,Referencias!$C$4:$E$21,3,FALSE())","v":3},"Competición","Madrileña"]
["2814329","Figueroa Arevalo, Marta","3P","D",{"$f":"VLOOKUP(C2277,Referencias!$C$4:$D$21,2,FALSE())","v":"Tercera Picas"},{"$f":"VLOOKUP(I2277,Referencias!$B$24:$C$41,2,FALSE())","v":"C.MAD"},{"$f":"VLOOKUP(C2277,Referencias!$C$4:$E$21,3,FALSE())","v":3},"Competición","Madrileña"]
["2814330","Aguirrebengoa Garay, Myriam","3C","D",{"$f":"VLOOKUP(C2278,Referencias!$C$4:$D$21,2,FALSE())","v":"Tercera Corazón"},{"$f":"VLOOKUP(I2278,Referencias!$B$24:$C$41,2,FALSE())","v":"C.MAD"},{"$f":"VLOOKUP(C2278,Referencias!$C$4:$E$21,3,FALSE())","v":3},"Competición","Madrileña"]
["2814331","Vázquez Salinero, Cristina","3D","D",{"$f":"VLOOKUP(C2279,Referencias!$C$4:$D$21,2,FALSE())","v":"Tercera Diamante"},{"$f":"VLOOKUP(I2279,Referencias!$B$24:$C$41,2,FALSE())","v":"C.MAD"},{"$f":"VLOOKUP(C2279,Referencias!$C$4:$E$21,3,FALSE())","v":3},"Competición","Madrileña"]
["2814338","de Villemandy de la Mesniere, Patrick","3D","C",{"$f":"VLOOKUP(C2280,Referencias!$C$4:$D$21,2,FALSE())","v":"Tercera Diamante"},{"$f":"VLOOKUP(I2280,Referencias!$B$24:$C$41,2,FALSE())","v":"C.MAD"},{"$f":"VLOOKUP(C2280,Referencias!$C$4:$E$21,3,FALSE())","v":3},"Competición","Madrileña"]
["2814340","Juarranz de la Fuente, Corona","3D","D",{"$f":"VLOOKUP(C2281,Referencias!$C$4:$D$21,2,FALSE())","v":"Tercera Diamante"},{"$f":"VLOOKUP(I2281,Referencias!$B$24:$C$41,2,FALSE())","v":"C.MAD"},{"$f":"VLOOKUP(C2281,Referencias!$C$4:$E$21,3,FALSE())","v":3},"Competición","Madrileña"]
["2814341","García Nuñez, María Luisa","3D","D",{"$f":"VLOOKUP(C2282,Referencias!$C$4:$D$21,2,FALSE())","v":"Tercera Diamante"},{"$f":"VLOOKUP(I2282,Referencias!$B$24:$C$41,2,FALSE())","v":"C.MAD"},{"$f":"VLOOKUP(C2282,Referencias!$C$4:$E$21,3,FALSE())","v":3},"Competición","Madrileña"]
["2814342","García Muñoz, Jose María","3D","C",{"$f":"VLOOKUP(C2283,Referencias!$C$4:$D$21,2,FALSE())","v":"Tercera Diamante"},{"$f":"VLOOKUP(I2283,Referencias!$B$24:$C$41,2,FALSE())","v":"C.MAD"},{"$f":"VLOOKUP(C2283,Referencias!$C$4:$E$21,3,FALSE())","v":3},"Competición","Madrileña"]
["2814343","Villagrá Blanco, María Pilar","3D","D",{"$f":"VLOOKUP(C2284,Referencias!$C$4:$D$21,2,FALSE())","v":"Tercera Diamante"},{"$f":"VLOOKUP(I2284,Referencias!$B$24:$C$41,2,FALSE())","v":"C.MAD"},{"$f":"VLOOKUP(C2284,Referencias!$C$4:$E$21,3,FALSE())","v":3},"Competición","Madrileña"]
["2814346","Rubio Gónzalez, Regina","3D","D",{"$f":"VLOOKUP(C2285,Referencias!$C$4:$D$21,2,FALSE())","v":"Tercera Diamante"},{"$f":"VLOOKUP(I2285,Referencias!$B$24:$C$41,2,FALSE())","v":"C.MAD"},{"$f":"VLOOKUP(C2285,Referencias!$C$4:$E$21,3,FALSE())","v":3},"Competición","Madrileña"]
["2814348","Livianos Martín, Teresa","3D","D",{"$f":"VLOOKUP(C2286,Referencias!$C$4:$D$21,2,FALSE())","v":"Tercera Diamante"},{"$f":"VLOOKUP(I2286,Referencias!$B$24:$C$41,2,FALSE())","v":"C.MAD"},{"$f":"VLOOKUP(C2286,Referencias!$C$4:$E$21,3,FALSE())","v":3},"Competición","Madrileña"]
["2814350","Carceller Carceller, Patrocinio","3D","D",{"$f":"VLOOKUP(C2287,Referencias!$C$4:$D$21,2,FALSE())","v":"Tercera Diamante"},{"$f":"VLOOKUP(I2287,Referencias!$B$24:$C$41,2,FALSE())","v":"C.MAD"},{"$f":"VLOOKUP(C2287,Referencias!$C$4:$E$21,3,FALSE())","v":3},"Competición","Madrileña"]
["2814351","de Orueta Pemartín, María","3P","D",{"$f":"VLOOKUP(C2288,Referencias!$C$4:$D$21,2,FALSE())","v":"Tercera Picas"},{"$f":"VLOOKUP(I2288,Referencias!$B$24:$C$41,2,FALSE())","v":"C.MAD"},{"$f":"VLOOKUP(C2288,Referencias!$C$4:$E$21,3,FALSE())","v":3},"Competición","Madrileña"]
["2814352","Tinao Toledano, Sylvia","3C","D",{"$f":"VLOOKUP(C2289,Referencias!$C$4:$D$21,2,FALSE())","v":"Tercera Corazón"},{"$f":"VLOOKUP(I2289,Referencias!$B$24:$C$41,2,FALSE())","v":"C.MAD"},{"$f":"VLOOKUP(C2289,Referencias!$C$4:$E$21,3,FALSE())","v":3},"Competición","Madrileña"]
["2814353","Jaúdenes Argüelles, Rosa María","3P","D",{"$f":"VLOOKUP(C2290,Referencias!$C$4:$D$21,2,FALSE())","v":"Tercera Picas"},{"$f":"VLOOKUP(I2290,Referencias!$B$24:$C$41,2,FALSE())","v":"C.MAD"},{"$f":"VLOOKUP(C2290,Referencias!$C$4:$E$21,3,FALSE())","v":3},"Competición","Madrileña"]
["2814354","Fernández Durán, Reyes","3D","D",{"$f":"VLOOKUP(C2291,Referencias!$C$4:$D$21,2,FALSE())","v":"Tercera Diamante"},{"$f":"VLOOKUP(I2291,Referencias!$B$24:$C$41,2,FALSE())","v":"C.MAD"},{"$f":"VLOOKUP(C2291,Referencias!$C$4:$E$21,3,FALSE())","v":3},"Competición","Madrileña"]
["2814355","Salcedo, Jose María","3D","C",{"$f":"VLOOKUP(C2292,Referencias!$C$4:$D$21,2,FALSE())","v":"Tercera Diamante"},{"$f":"VLOOKUP(I2292,Referencias!$B$24:$C$41,2,FALSE())","v":"C.MAD"},{"$f":"VLOOKUP(C2292,Referencias!$C$4:$E$21,3,FALSE())","v":3},"Competición","Madrileña"]
["2814356","Merino Enseñat, Maria Luisa","3D","D",{"$f":"VLOOKUP(C2293,Referencias!$C$4:$D$21,2,FALSE())","v":"Tercera Diamante"},{"$f":"VLOOKUP(I2293,Referencias!$B$24:$C$41,2,FALSE())","v":"C.MAD"},{"$f":"VLOOKUP(C2293,Referencias!$C$4:$E$21,3,FALSE())","v":3},"Competición","Madrileña"]
["2814358","Blanco García, María Eugenia","3D","D",{"$f":"VLOOKUP(C2294,Referencias!$C$4:$D$21,2,FALSE())","v":"Tercera Diamante"},{"$f":"VLOOKUP(I2294,Referencias!$B$24:$C$41,2,FALSE())","v":"C.MAD"},{"$f":"VLOOKUP(C2294,Referencias!$C$4:$E$21,3,FALSE())","v":3},"Competición","Madrileña"]
["2814359","Soria Vidal, Ignacio","3P","C",{"$f":"VLOOKUP(C2295,Referencias!$C$4:$D$21,2,FALSE())","v":"Tercera Picas"},{"$f":"VLOOKUP(I2295,Referencias!$B$24:$C$41,2,FALSE())","v":"C.MAD"},{"$f":"VLOOKUP(C2295,Referencias!$C$4:$E$21,3,FALSE())","v":3},"Competición","Madrileña"]
["2814361","García Lantero, Carmen Dolores","3D","D",{"$f":"VLOOKUP(C2296,Referencias!$C$4:$D$21,2,FALSE())","v":"Tercera Diamante"},{"$f":"VLOOKUP(I2296,Referencias!$B$24:$C$41,2,FALSE())","v":"C.MAD"},{"$f":"VLOOKUP(C2296,Referencias!$C$4:$E$21,3,FALSE())","v":3},"Competición","Madrileña"]
["2814362","Richi Alberti, Manuel","3D","C",{"$f":"VLOOKUP(C2297,Referencias!$C$4:$D$21,2,FALSE())","v":"Tercera Diamante"},{"$f":"VLOOKUP(I2297,Referencias!$B$24:$C$41,2,FALSE())","v":"C.MAD"},{"$f":"VLOOKUP(C2297,Referencias!$C$4:$E$21,3,FALSE())","v":3},"Competición","Madrileña"]
["2814363","Junco Aguado, Mercedes","3D","D",{"$f":"VLOOKUP(C2298,Referencias!$C$4:$D$21,2,FALSE())","v":"Tercera Diamante"},{"$f":"VLOOKUP(I2298,Referencias!$B$24:$C$41,2,FALSE())","v":"C.MAD"},{"$f":"VLOOKUP(C2298,Referencias!$C$4:$E$21,3,FALSE())","v":3},"Competición","Madrileña"]
["2814364","Riera de Prada, Javier","3D","C",{"$f":"VLOOKUP(C2299,Referencias!$C$4:$D$21,2,FALSE())","v":"Tercera Diamante"},{"$f":"VLOOKUP(I2299,Referencias!$B$24:$C$41,2,FALSE())","v":"C.MAD"},{"$f":"VLOOKUP(C2299,Referencias!$C$4:$E$21,3,FALSE())","v":3},"Competición","Madrileña"]
["2814365","Gubianes Pol, Isabel","3C","D",{"$f":"VLOOKUP(C2300,Referencias!$C$4:$D$21,2,FALSE())","v":"Tercera Corazón"},{"$f":"VLOOKUP(I2300,Referencias!$B$24:$C$41,2,FALSE())","v":"C.MAD"},{"$f":"VLOOKUP(C2300,Referencias!$C$4:$E$21,3,FALSE())","v":3},"Competición","Madrileña"]
["2814366","Vázquez de la Cueva, José Manuel","3D","C",{"$f":"VLOOKUP(C2301,Referencias!$C$4:$D$21,2,FALSE())","v":"Tercera Diamante"},{"$f":"VLOOKUP(I2301,Referencias!$B$24:$C$41,2,FALSE())","v":"C.MAD"},{"$f":"VLOOKUP(C2301,Referencias!$C$4:$E$21,3,FALSE())","v":3},"Competición","Madrileña"]
["2814368","Vivas López, Santiago","3D","C",{"$f":"VLOOKUP(C2302,Referencias!$C$4:$D$21,2,FALSE())","v":"Tercera Diamante"},{"$f":"VLOOKUP(I2302,Referencias!$B$24:$C$41,2,FALSE())","v":"C.MAD"},{"$f":"VLOOKUP(C2302,Referencias!$C$4:$E$21,3,FALSE())","v":3},"Competición","Madrileña"]
["2814369","Hinojosa Fernández de Angulo, Carmen","3P","D",{"$f":"VLOOKUP(C2303,Referencias!$C$4:$D$21,2,FALSE())","v":"Tercera Picas"},{"$f":"VLOOKUP(I2303,Referencias!$B$24:$C$41,2,FALSE())","v":"C.MAD"},{"$f":"VLOOKUP(C2303,Referencias!$C$4:$E$21,3,FALSE())","v":3},"Competición","Madrileña"]
["2814375","Castells Cuadrillero, Álvaro","1P","C",{"$f":"VLOOKUP(C2304,Referencias!$C$4:$D$21,2,FALSE())","v":"Primera Picas"},{"$f":"VLOOKUP(I2304,Referencias!$B$24:$C$41,2,FALSE())","v":"C.MAD"},{"$f":"VLOOKUP(C2304,Referencias!$C$4:$E$21,3,FALSE())","v":1},"Competición","Madrileña"]
["2814376","Rodulfo Puy, Pablo","3D","C",{"$f":"VLOOKUP(C2305,Referencias!$C$4:$D$21,2,FALSE())","v":"Tercera Diamante"},{"$f":"VLOOKUP(I2305,Referencias!$B$24:$C$41,2,FALSE())","v":"C.MAD"},{"$f":"VLOOKUP(C2305,Referencias!$C$4:$E$21,3,FALSE())","v":3},"Competición","Madrileña"]
["2814378","Laiglesia Nieto, Pilar","3D","D",{"$f":"VLOOKUP(C2306,Referencias!$C$4:$D$21,2,FALSE())","v":"Tercera Diamante"},{"$f":"VLOOKUP(I2306,Referencias!$B$24:$C$41,2,FALSE())","v":"C.MAD"},{"$f":"VLOOKUP(C2306,Referencias!$C$4:$E$21,3,FALSE())","v":3},"Competición","Madrileña"]
["2814379","Orbegozo Laborde, Elena","1D","D",{"$f":"VLOOKUP(C2307,Referencias!$C$4:$D$21,2,FALSE())","v":"Primera Diamante"},{"$f":"VLOOKUP(I2307,Referencias!$B$24:$C$41,2,FALSE())","v":"PV"},{"$f":"VLOOKUP(C2307,Referencias!$C$4:$E$21,3,FALSE())","v":1},"Competición","Vasca"]
["2814380","Gutiérrez Sánchez, Amparo","3P","D",{"$f":"VLOOKUP(C2308,Referencias!$C$4:$D$21,2,FALSE())","v":"Tercera Picas"},{"$f":"VLOOKUP(I2308,Referencias!$B$24:$C$41,2,FALSE())","v":"C.MAD"},{"$f":"VLOOKUP(C2308,Referencias!$C$4:$E$21,3,FALSE())","v":3},"Competición","Madrileña"]
["2814382","Soroa Gutiérrez, José Manuel","2D","C",{"$f":"VLOOKUP(C2309,Referencias!$C$4:$D$21,2,FALSE())","v":"Segunda Diamante"},{"$f":"VLOOKUP(I2309,Referencias!$B$24:$C$41,2,FALSE())","v":"C.MAD"},{"$f":"VLOOKUP(C2309,Referencias!$C$4:$E$21,3,FALSE())","v":2},"Competición","Madrileña"]
["2814383","de Van Hofwegen, Myrna Lauw","3D","D",{"$f":"VLOOKUP(C2310,Referencias!$C$4:$D$21,2,FALSE())","v":"Tercera Diamante"},{"$f":"VLOOKUP(I2310,Referencias!$B$24:$C$41,2,FALSE())","v":"C.MAD"},{"$f":"VLOOKUP(C2310,Referencias!$C$4:$E$21,3,FALSE())","v":3},"Competición","Madrileña"]
["2814384","Méndez Férnandez, Carmen","2C","D",{"$f":"VLOOKUP(C2311,Referencias!$C$4:$D$21,2,FALSE())","v":"Segunda Corazón"},{"$f":"VLOOKUP(I2311,Referencias!$B$24:$C$41,2,FALSE())","v":"C.MAD"},{"$f":"VLOOKUP(C2311,Referencias!$C$4:$E$21,3,FALSE())","v":2},"Competición","Madrileña"]
["2814385","Castro Martínez, Carmen","3D","D",{"$f":"VLOOKUP(C2312,Referencias!$C$4:$D$21,2,FALSE())","v":"Tercera Diamante"},{"$f":"VLOOKUP(I2312,Referencias!$B$24:$C$41,2,FALSE())","v":"C.MAD"},{"$f":"VLOOKUP(C2312,Referencias!$C$4:$E$21,3,FALSE())","v":3},"Competición","Madrileña"]
["2814386","Luque Hernández, Aída","2C","D",{"$f":"VLOOKUP(C2313,Referencias!$C$4:$D$21,2,FALSE())","v":"Segunda Corazón"},{"$f":"VLOOKUP(I2313,Referencias!$B$24:$C$41,2,FALSE())","v":"C.MAD"},{"$f":"VLOOKUP(C2313,Referencias!$C$4:$E$21,3,FALSE())","v":2},"Competición","Madrileña"]
["2814388","Beltrán Garay, María","1D","D",{"$f":"VLOOKUP(C2314,Referencias!$C$4:$D$21,2,FALSE())","v":"Primera Diamante"},{"$f":"VLOOKUP(I2314,Referencias!$B$24:$C$41,2,FALSE())","v":"C.MAD"},{"$f":"VLOOKUP(C2314,Referencias!$C$4:$E$21,3,FALSE())","v":1},"Competición","Madrileña"]
["2814391","Martín Romero, Eva","3D","D",{"$f":"VLOOKUP(C2315,Referencias!$C$4:$D$21,2,FALSE())","v":"Tercera Diamante"},{"$f":"VLOOKUP(I2315,Referencias!$B$24:$C$41,2,FALSE())","v":"C.MAD"},{"$f":"VLOOKUP(C2315,Referencias!$C$4:$E$21,3,FALSE())","v":3},"Competición","Madrileña"]
["2814392","Gajate Plasencia, Alfonso","3D","C",{"$f":"VLOOKUP(C2316,Referencias!$C$4:$D$21,2,FALSE())","v":"Tercera Diamante"},{"$f":"VLOOKUP(I2316,Referencias!$B$24:$C$41,2,FALSE())","v":"C.MAD"},{"$f":"VLOOKUP(C2316,Referencias!$C$4:$E$21,3,FALSE())","v":3},"Competición","Madrileña"]
["2814393","Sebastián de Erice Sánchez -Ocaña, María","3C","D",{"$f":"VLOOKUP(C2317,Referencias!$C$4:$D$21,2,FALSE())","v":"Tercera Corazón"},{"$f":"VLOOKUP(I2317,Referencias!$B$24:$C$41,2,FALSE())","v":"C.MAD"},{"$f":"VLOOKUP(C2317,Referencias!$C$4:$E$21,3,FALSE())","v":3},"Competición","Madrileña"]
["2814394","Urizar Zubiria, María","3D","D",{"$f":"VLOOKUP(C2318,Referencias!$C$4:$D$21,2,FALSE())","v":"Tercera Diamante"},{"$f":"VLOOKUP(I2318,Referencias!$B$24:$C$41,2,FALSE())","v":"C.MAD"},{"$f":"VLOOKUP(C2318,Referencias!$C$4:$E$21,3,FALSE())","v":3},"Competición","Madrileña"]
["2814397","Subinas Landa, Rafael","3D","C",{"$f":"VLOOKUP(C2319,Referencias!$C$4:$D$21,2,FALSE())","v":"Tercera Diamante"},{"$f":"VLOOKUP(I2319,Referencias!$B$24:$C$41,2,FALSE())","v":"C.MAD"},{"$f":"VLOOKUP(C2319,Referencias!$C$4:$E$21,3,FALSE())","v":3},"Competición","Madrileña"]
["2814400","Belenda Justo, Beatriz","3P","D",{"$f":"VLOOKUP(C2320,Referencias!$C$4:$D$21,2,FALSE())","v":"Tercera Picas"},{"$f":"VLOOKUP(I2320,Referencias!$B$24:$C$41,2,FALSE())","v":"C.MAD"},{"$f":"VLOOKUP(C2320,Referencias!$C$4:$E$21,3,FALSE())","v":3},"Competición","Madrileña"]
["2814401","Travesí Cabetas, Alfonso","3P","C",{"$f":"VLOOKUP(C2321,Referencias!$C$4:$D$21,2,FALSE())","v":"Tercera Picas"},{"$f":"VLOOKUP(I2321,Referencias!$B$24:$C$41,2,FALSE())","v":"C.MAD"},{"$f":"VLOOKUP(C2321,Referencias!$C$4:$E$21,3,FALSE())","v":3},"Competición","Madrileña"]
["2814402","Mier Durante, Beatriz","3D","D",{"$f":"VLOOKUP(C2322,Referencias!$C$4:$D$21,2,FALSE())","v":"Tercera Diamante"},{"$f":"VLOOKUP(I2322,Referencias!$B$24:$C$41,2,FALSE())","v":"C.MAD"},{"$f":"VLOOKUP(C2322,Referencias!$C$4:$E$21,3,FALSE())","v":3},"Competición","Madrileña"]
["2814403","García-Seisdedos Durante, María","3D","D",{"$f":"VLOOKUP(C2323,Referencias!$C$4:$D$21,2,FALSE())","v":"Tercera Diamante"},{"$f":"VLOOKUP(I2323,Referencias!$B$24:$C$41,2,FALSE())","v":"C.MAD"},{"$f":"VLOOKUP(C2323,Referencias!$C$4:$E$21,3,FALSE())","v":3},"Competición","Madrileña"]
["2814404","Corral Ruiz, Lucila","3D","D",{"$f":"VLOOKUP(C2324,Referencias!$C$4:$D$21,2,FALSE())","v":"Tercera Diamante"},{"$f":"VLOOKUP(I2324,Referencias!$B$24:$C$41,2,FALSE())","v":"C.MAD"},{"$f":"VLOOKUP(C2324,Referencias!$C$4:$E$21,3,FALSE())","v":3},"Competición","Madrileña"]
["2814406","Urbasos Tapia, Cristina","2D","D",{"$f":"VLOOKUP(C2325,Referencias!$C$4:$D$21,2,FALSE())","v":"Segunda Diamante"},{"$f":"VLOOKUP(I2325,Referencias!$B$24:$C$41,2,FALSE())","v":"C.MAD"},{"$f":"VLOOKUP(C2325,Referencias!$C$4:$E$21,3,FALSE())","v":2},"Competición","Madrileña"]
["2814407","Almela Hijalva, José Vicente","3D","C",{"$f":"VLOOKUP(C2326,Referencias!$C$4:$D$21,2,FALSE())","v":"Tercera Diamante"},{"$f":"VLOOKUP(I2326,Referencias!$B$24:$C$41,2,FALSE())","v":"C.MAD"},{"$f":"VLOOKUP(C2326,Referencias!$C$4:$E$21,3,FALSE())","v":3},"Competición","Madrileña"]
["2814409","Celdrán Kuhl, Christian","3P","C",{"$f":"VLOOKUP(C2327,Referencias!$C$4:$D$21,2,FALSE())","v":"Tercera Picas"},{"$f":"VLOOKUP(I2327,Referencias!$B$24:$C$41,2,FALSE())","v":"C.MAD"},{"$f":"VLOOKUP(C2327,Referencias!$C$4:$E$21,3,FALSE())","v":3},"Competición","Madrileña"]
["2814410","Aizpurua Garzón, Soledad","3C","D",{"$f":"VLOOKUP(C2328,Referencias!$C$4:$D$21,2,FALSE())","v":"Tercera Corazón"},{"$f":"VLOOKUP(I2328,Referencias!$B$24:$C$41,2,FALSE())","v":"C.MAD"},{"$f":"VLOOKUP(C2328,Referencias!$C$4:$E$21,3,FALSE())","v":3},"Competición","Madrileña"]
["2814413","Biedma Sevilla, Alfredo","3D","C",{"$f":"VLOOKUP(C2329,Referencias!$C$4:$D$21,2,FALSE())","v":"Tercera Diamante"},{"$f":"VLOOKUP(I2329,Referencias!$B$24:$C$41,2,FALSE())","v":"C.MAD"},{"$f":"VLOOKUP(C2329,Referencias!$C$4:$E$21,3,FALSE())","v":3},"Competición","Madrileña"]
["2814418","de la Cruz Oñate, María Vega","3D","D",{"$f":"VLOOKUP(C2330,Referencias!$C$4:$D$21,2,FALSE())","v":"Tercera Diamante"},{"$f":"VLOOKUP(I2330,Referencias!$B$24:$C$41,2,FALSE())","v":"C.MAD"},{"$f":"VLOOKUP(C2330,Referencias!$C$4:$E$21,3,FALSE())","v":3},"Competición","Madrileña"]
["2814420","Huici Díaz, Araceli","3P","D",{"$f":"VLOOKUP(C2331,Referencias!$C$4:$D$21,2,FALSE())","v":"Tercera Picas"},{"$f":"VLOOKUP(I2331,Referencias!$B$24:$C$41,2,FALSE())","v":"C.MAD"},{"$f":"VLOOKUP(C2331,Referencias!$C$4:$E$21,3,FALSE())","v":3},"Competición","Madrileña"]
["2814421","García Lecuona, Jesús","2P","C",{"$f":"VLOOKUP(C2332,Referencias!$C$4:$D$21,2,FALSE())","v":"Segunda Picas"},{"$f":"VLOOKUP(I2332,Referencias!$B$24:$C$41,2,FALSE())","v":"C.MAD"},{"$f":"VLOOKUP(C2332,Referencias!$C$4:$E$21,3,FALSE())","v":2},"Competición","Madrileña"]
["2814422","Bernad Moreno, María Angeles","3D","D",{"$f":"VLOOKUP(C2333,Referencias!$C$4:$D$21,2,FALSE())","v":"Tercera Diamante"},{"$f":"VLOOKUP(I2333,Referencias!$B$24:$C$41,2,FALSE())","v":"C.MAD"},{"$f":"VLOOKUP(C2333,Referencias!$C$4:$E$21,3,FALSE())","v":3},"Competición","Madrileña"]
["2814423","Calderón Bastos, Luz María","3D","D",{"$f":"VLOOKUP(C2334,Referencias!$C$4:$D$21,2,FALSE())","v":"Tercera Diamante"},{"$f":"VLOOKUP(I2334,Referencias!$B$24:$C$41,2,FALSE())","v":"C.MAD"},{"$f":"VLOOKUP(C2334,Referencias!$C$4:$E$21,3,FALSE())","v":3},"Competición","Madrileña"]
["2814424","Ayala Muñoz, Rocio","3C","D",{"$f":"VLOOKUP(C2335,Referencias!$C$4:$D$21,2,FALSE())","v":"Tercera Corazón"},{"$f":"VLOOKUP(I2335,Referencias!$B$24:$C$41,2,FALSE())","v":"C.MAD"},{"$f":"VLOOKUP(C2335,Referencias!$C$4:$E$21,3,FALSE())","v":3},"Competición","Madrileña"]
["2814425","Velilla Arias, Pilar","3D","D",{"$f":"VLOOKUP(C2336,Referencias!$C$4:$D$21,2,FALSE())","v":"Tercera Diamante"},{"$f":"VLOOKUP(I2336,Referencias!$B$24:$C$41,2,FALSE())","v":"C.MAD"},{"$f":"VLOOKUP(C2336,Referencias!$C$4:$E$21,3,FALSE())","v":3},"Competición","Madrileña"]
["2814426","Oriol Hoyos, Lucas","3D","C",{"$f":"VLOOKUP(C2337,Referencias!$C$4:$D$21,2,FALSE())","v":"Tercera Diamante"},{"$f":"VLOOKUP(I2337,Referencias!$B$24:$C$41,2,FALSE())","v":"C.MAD"},{"$f":"VLOOKUP(C2337,Referencias!$C$4:$E$21,3,FALSE())","v":3},"Competición","Madrileña"]
["2814428","Peñalba Herraiz, Esther","1D","D",{"$f":"VLOOKUP(C2338,Referencias!$C$4:$D$21,2,FALSE())","v":"Primera Diamante"},{"$f":"VLOOKUP(I2338,Referencias!$B$24:$C$41,2,FALSE())","v":"C.MAD"},{"$f":"VLOOKUP(C2338,Referencias!$C$4:$E$21,3,FALSE())","v":1},"Competición","Madrileña"]
["2814430","Martínez Pradel, Begoña","3D","D",{"$f":"VLOOKUP(C2339,Referencias!$C$4:$D$21,2,FALSE())","v":"Tercera Diamante"},{"$f":"VLOOKUP(I2339,Referencias!$B$24:$C$41,2,FALSE())","v":"C.MAD"},{"$f":"VLOOKUP(C2339,Referencias!$C$4:$E$21,3,FALSE())","v":3},"Competición","Madrileña"]
["2814431","Portero Arfsten, Francisco Manuel","3D","C",{"$f":"VLOOKUP(C2340,Referencias!$C$4:$D$21,2,FALSE())","v":"Tercera Diamante"},{"$f":"VLOOKUP(I2340,Referencias!$B$24:$C$41,2,FALSE())","v":"C.MAD"},{"$f":"VLOOKUP(C2340,Referencias!$C$4:$E$21,3,FALSE())","v":3},"Competición","Madrileña"]
["2814432","Mira Ruiz, Nieves","2D","D",{"$f":"VLOOKUP(C2341,Referencias!$C$4:$D$21,2,FALSE())","v":"Segunda Diamante"},{"$f":"VLOOKUP(I2341,Referencias!$B$24:$C$41,2,FALSE())","v":"C.MAD"},{"$f":"VLOOKUP(C2341,Referencias!$C$4:$E$21,3,FALSE())","v":2},"Competición","Madrileña"]
["2814434","García de Oteyza Llansó, Enrique","1P","C",{"$f":"VLOOKUP(C2342,Referencias!$C$4:$D$21,2,FALSE())","v":"Primera Picas"},{"$f":"VLOOKUP(I2342,Referencias!$B$24:$C$41,2,FALSE())","v":"C.MAD"},{"$f":"VLOOKUP(C2342,Referencias!$C$4:$E$21,3,FALSE())","v":1},"Competición","Madrileña"]
["2814435","González-Hontoria Velarde, Pilar","1P","D",{"$f":"VLOOKUP(C2343,Referencias!$C$4:$D$21,2,FALSE())","v":"Primera Picas"},{"$f":"VLOOKUP(I2343,Referencias!$B$24:$C$41,2,FALSE())","v":"C.MAD"},{"$f":"VLOOKUP(C2343,Referencias!$C$4:$E$21,3,FALSE())","v":1},"Competición","Madrileña"]
["2814438","Gómez Abajo, Pablo","3D","C",{"$f":"VLOOKUP(C2344,Referencias!$C$4:$D$21,2,FALSE())","v":"Tercera Diamante"},{"$f":"VLOOKUP(I2344,Referencias!$B$24:$C$41,2,FALSE())","v":"C.MAD"},{"$f":"VLOOKUP(C2344,Referencias!$C$4:$E$21,3,FALSE())","v":3},"Competición","Madrileña"]
["2814439","Sánchez Serrano, Antonio","3P","C",{"$f":"VLOOKUP(C2345,Referencias!$C$4:$D$21,2,FALSE())","v":"Tercera Picas"},{"$f":"VLOOKUP(I2345,Referencias!$B$24:$C$41,2,FALSE())","v":"C.MAD"},{"$f":"VLOOKUP(C2345,Referencias!$C$4:$E$21,3,FALSE())","v":3},"Competición","Madrileña"]
["2814440","Aguilar Urquijo, Bruno","3C","C",{"$f":"VLOOKUP(C2346,Referencias!$C$4:$D$21,2,FALSE())","v":"Tercera Corazón"},{"$f":"VLOOKUP(I2346,Referencias!$B$24:$C$41,2,FALSE())","v":"C.MAD"},{"$f":"VLOOKUP(C2346,Referencias!$C$4:$E$21,3,FALSE())","v":3},"Competición","Madrileña"]
["2814442","Espinosa de los Monteros Pitarque, Carlos","3C","C",{"$f":"VLOOKUP(C2347,Referencias!$C$4:$D$21,2,FALSE())","v":"Tercera Corazón"},{"$f":"VLOOKUP(I2347,Referencias!$B$24:$C$41,2,FALSE())","v":"C.MAD"},{"$f":"VLOOKUP(C2347,Referencias!$C$4:$E$21,3,FALSE())","v":3},"Competición","Madrileña"]
["2814444","Valera de Vargas, Carla","2C","D",{"$f":"VLOOKUP(C2348,Referencias!$C$4:$D$21,2,FALSE())","v":"Segunda Corazón"},{"$f":"VLOOKUP(I2348,Referencias!$B$24:$C$41,2,FALSE())","v":"C.MAD"},{"$f":"VLOOKUP(C2348,Referencias!$C$4:$E$21,3,FALSE())","v":2},"Competición","Madrileña"]
["2814445","González Casaus, María Luisa","3D","D",{"$f":"VLOOKUP(C2349,Referencias!$C$4:$D$21,2,FALSE())","v":"Tercera Diamante"},{"$f":"VLOOKUP(I2349,Referencias!$B$24:$C$41,2,FALSE())","v":"C.MAD"},{"$f":"VLOOKUP(C2349,Referencias!$C$4:$E$21,3,FALSE())","v":3},"Competición","Madrileña"]
["2814446","Conde Salazar, Joaquín","3D","C",{"$f":"VLOOKUP(C2350,Referencias!$C$4:$D$21,2,FALSE())","v":"Tercera Diamante"},{"$f":"VLOOKUP(I2350,Referencias!$B$24:$C$41,2,FALSE())","v":"C.MAD"},{"$f":"VLOOKUP(C2350,Referencias!$C$4:$E$21,3,FALSE())","v":3},"Competición","Madrileña"]
["2814448","Collado Gutiérrez, María Luisa","3D","D",{"$f":"VLOOKUP(C2351,Referencias!$C$4:$D$21,2,FALSE())","v":"Tercera Diamante"},{"$f":"VLOOKUP(I2351,Referencias!$B$24:$C$41,2,FALSE())","v":"C.MAD"},{"$f":"VLOOKUP(C2351,Referencias!$C$4:$E$21,3,FALSE())","v":3},"Competición","Madrileña"]
["2814449","Fernández de Luz, Graziella","1P","D",{"$f":"VLOOKUP(C2352,Referencias!$C$4:$D$21,2,FALSE())","v":"Primera Picas"},{"$f":"VLOOKUP(I2352,Referencias!$B$24:$C$41,2,FALSE())","v":"C.MAD"},{"$f":"VLOOKUP(C2352,Referencias!$C$4:$E$21,3,FALSE())","v":1},"Competición","Madrileña"]
["2814450","Stevens, Beatrijs","3D","D",{"$f":"VLOOKUP(C2353,Referencias!$C$4:$D$21,2,FALSE())","v":"Tercera Diamante"},{"$f":"VLOOKUP(I2353,Referencias!$B$24:$C$41,2,FALSE())","v":"C.MAD"},{"$f":"VLOOKUP(C2353,Referencias!$C$4:$E$21,3,FALSE())","v":3},"Competición","Madrileña"]
["2814451","Arambarri Álvarez, Brigi","3D","D",{"$f":"VLOOKUP(C2354,Referencias!$C$4:$D$21,2,FALSE())","v":"Tercera Diamante"},{"$f":"VLOOKUP(I2354,Referencias!$B$24:$C$41,2,FALSE())","v":"C.MAD"},{"$f":"VLOOKUP(C2354,Referencias!$C$4:$E$21,3,FALSE())","v":3},"Competición","Madrileña"]
["2814452","Castillo Dolagaray, Pilar","1C","D",{"$f":"VLOOKUP(C2355,Referencias!$C$4:$D$21,2,FALSE())","v":"Primera Corazón"},{"$f":"VLOOKUP(I2355,Referencias!$B$24:$C$41,2,FALSE())","v":"C.MAD"},{"$f":"VLOOKUP(C2355,Referencias!$C$4:$E$21,3,FALSE())","v":1},"Competición","Madrileña"]
["2814453","Torres de la Calle, Enrique","3D","C",{"$f":"VLOOKUP(C2356,Referencias!$C$4:$D$21,2,FALSE())","v":"Tercera Diamante"},{"$f":"VLOOKUP(I2356,Referencias!$B$24:$C$41,2,FALSE())","v":"C.MAD"},{"$f":"VLOOKUP(C2356,Referencias!$C$4:$E$21,3,FALSE())","v":3},"Competición","Madrileña"]
["2814454","Dancausa García-Moya, Virginia","3D","D",{"$f":"VLOOKUP(C2357,Referencias!$C$4:$D$21,2,FALSE())","v":"Tercera Diamante"},{"$f":"VLOOKUP(I2357,Referencias!$B$24:$C$41,2,FALSE())","v":"C.MAD"},{"$f":"VLOOKUP(C2357,Referencias!$C$4:$E$21,3,FALSE())","v":3},"Junior","Madrileña"]
["2814455","Temes Hernández, Antonio","3D","C",{"$f":"VLOOKUP(C2358,Referencias!$C$4:$D$21,2,FALSE())","v":"Tercera Diamante"},{"$f":"VLOOKUP(I2358,Referencias!$B$24:$C$41,2,FALSE())","v":"C.MAD"},{"$f":"VLOOKUP(C2358,Referencias!$C$4:$E$21,3,FALSE())","v":3},"Competición","Madrileña"]
["2814456","Vassallo Castells, Cristina","3P","D",{"$f":"VLOOKUP(C2359,Referencias!$C$4:$D$21,2,FALSE())","v":"Tercera Picas"},{"$f":"VLOOKUP(I2359,Referencias!$B$24:$C$41,2,FALSE())","v":"C.MAD"},{"$f":"VLOOKUP(C2359,Referencias!$C$4:$E$21,3,FALSE())","v":3},"Competición","Madrileña"]
["2814457","Espinosa de los Monteros Bernaldo d Quiros, Fernanda","3D","D",{"$f":"VLOOKUP(C2360,Referencias!$C$4:$D$21,2,FALSE())","v":"Tercera Diamante"},{"$f":"VLOOKUP(I2360,Referencias!$B$24:$C$41,2,FALSE())","v":"C.MAD"},{"$f":"VLOOKUP(C2360,Referencias!$C$4:$E$21,3,FALSE())","v":3},"Competición","Madrileña"]
["2814458","Gómez-Acebo Carvajal, Blanca","3D","D",{"$f":"VLOOKUP(C2361,Referencias!$C$4:$D$21,2,FALSE())","v":"Tercera Diamante"},{"$f":"VLOOKUP(I2361,Referencias!$B$24:$C$41,2,FALSE())","v":"C.MAD"},{"$f":"VLOOKUP(C2361,Referencias!$C$4:$E$21,3,FALSE())","v":3},"Competición","Madrileña"]
["2814460","Montiel Armada, Rosario","3D","D",{"$f":"VLOOKUP(C2362,Referencias!$C$4:$D$21,2,FALSE())","v":"Tercera Diamante"},{"$f":"VLOOKUP(I2362,Referencias!$B$24:$C$41,2,FALSE())","v":"C.MAD"},{"$f":"VLOOKUP(C2362,Referencias!$C$4:$E$21,3,FALSE())","v":3},"Competición","Madrileña"]
["2814461","Montiel Armada, Victoria","3C","D",{"$f":"VLOOKUP(C2363,Referencias!$C$4:$D$21,2,FALSE())","v":"Tercera Corazón"},{"$f":"VLOOKUP(I2363,Referencias!$B$24:$C$41,2,FALSE())","v":"C.MAD"},{"$f":"VLOOKUP(C2363,Referencias!$C$4:$E$21,3,FALSE())","v":3},"Competición","Madrileña"]
["2814462","Suinaga Espin, Carmen","3D","D",{"$f":"VLOOKUP(C2364,Referencias!$C$4:$D$21,2,FALSE())","v":"Tercera Diamante"},{"$f":"VLOOKUP(I2364,Referencias!$B$24:$C$41,2,FALSE())","v":"C.MAD"},{"$f":"VLOOKUP(C2364,Referencias!$C$4:$E$21,3,FALSE())","v":3},"Competición","Madrileña"]
["2814465","Vilalta Pallarés, Eduardo","3D","C",{"$f":"VLOOKUP(C2365,Referencias!$C$4:$D$21,2,FALSE())","v":"Tercera Diamante"},{"$f":"VLOOKUP(I2365,Referencias!$B$24:$C$41,2,FALSE())","v":"C.MAD"},{"$f":"VLOOKUP(C2365,Referencias!$C$4:$E$21,3,FALSE())","v":3},"Competición","Madrileña"]
["2814466","de la Paz Serrano García, María Victoría","3D","D",{"$f":"VLOOKUP(C2366,Referencias!$C$4:$D$21,2,FALSE())","v":"Tercera Diamante"},{"$f":"VLOOKUP(I2366,Referencias!$B$24:$C$41,2,FALSE())","v":"C.MAD"},{"$f":"VLOOKUP(C2366,Referencias!$C$4:$E$21,3,FALSE())","v":3},"Competición","Madrileña"]
["2814467","Madrid Serrano, María del Mar","3D","D",{"$f":"VLOOKUP(C2367,Referencias!$C$4:$D$21,2,FALSE())","v":"Tercera Diamante"},{"$f":"VLOOKUP(I2367,Referencias!$B$24:$C$41,2,FALSE())","v":"C.MAD"},{"$f":"VLOOKUP(C2367,Referencias!$C$4:$E$21,3,FALSE())","v":3},"Competición","Madrileña"]
["2814468","de la Mata Pobes, Blanca","3D","D",{"$f":"VLOOKUP(C2368,Referencias!$C$4:$D$21,2,FALSE())","v":"Tercera Diamante"},{"$f":"VLOOKUP(I2368,Referencias!$B$24:$C$41,2,FALSE())","v":"C.MAD"},{"$f":"VLOOKUP(C2368,Referencias!$C$4:$E$21,3,FALSE())","v":3},"Competición","Madrileña"]
["2814470","Caro de Figueroa, María del Campanar","3D","D",{"$f":"VLOOKUP(C2369,Referencias!$C$4:$D$21,2,FALSE())","v":"Tercera Diamante"},{"$f":"VLOOKUP(I2369,Referencias!$B$24:$C$41,2,FALSE())","v":"C.MAD"},{"$f":"VLOOKUP(C2369,Referencias!$C$4:$E$21,3,FALSE())","v":3},"Competición","Madrileña"]
["2814471","López Granados, Patricia","1P","D",{"$f":"VLOOKUP(C2370,Referencias!$C$4:$D$21,2,FALSE())","v":"Primera Picas"},{"$f":"VLOOKUP(I2370,Referencias!$B$24:$C$41,2,FALSE())","v":"C.MAD"},{"$f":"VLOOKUP(C2370,Referencias!$C$4:$E$21,3,FALSE())","v":1},"Competición","Madrileña"]
["2814472","Smith Basterra, Jaime","3C","C",{"$f":"VLOOKUP(C2371,Referencias!$C$4:$D$21,2,FALSE())","v":"Tercera Corazón"},{"$f":"VLOOKUP(I2371,Referencias!$B$24:$C$41,2,FALSE())","v":"C.MAD"},{"$f":"VLOOKUP(C2371,Referencias!$C$4:$E$21,3,FALSE())","v":3},"Competición","Madrileña"]
["2814475","Sintes Pascual, Carmen","3D","D",{"$f":"VLOOKUP(C2372,Referencias!$C$4:$D$21,2,FALSE())","v":"Tercera Diamante"},{"$f":"VLOOKUP(I2372,Referencias!$B$24:$C$41,2,FALSE())","v":"C.MAD"},{"$f":"VLOOKUP(C2372,Referencias!$C$4:$E$21,3,FALSE())","v":3},"Competición","Madrileña"]
["2814476","Herrero Mateo, Elvira","3P","D",{"$f":"VLOOKUP(C2373,Referencias!$C$4:$D$21,2,FALSE())","v":"Tercera Picas"},{"$f":"VLOOKUP(I2373,Referencias!$B$24:$C$41,2,FALSE())","v":"C.MAD"},{"$f":"VLOOKUP(C2373,Referencias!$C$4:$E$21,3,FALSE())","v":3},"Competición","Madrileña"]
["2814478","Yañez Soto, Flora","3D","D",{"$f":"VLOOKUP(C2374,Referencias!$C$4:$D$21,2,FALSE())","v":"Tercera Diamante"},{"$f":"VLOOKUP(I2374,Referencias!$B$24:$C$41,2,FALSE())","v":"C.MAD"},{"$f":"VLOOKUP(C2374,Referencias!$C$4:$E$21,3,FALSE())","v":3},"Competición","Madrileña"]
["2814479","Conde Salazar, Susana","3D","D",{"$f":"VLOOKUP(C2375,Referencias!$C$4:$D$21,2,FALSE())","v":"Tercera Diamante"},{"$f":"VLOOKUP(I2375,Referencias!$B$24:$C$41,2,FALSE())","v":"C.MAD"},{"$f":"VLOOKUP(C2375,Referencias!$C$4:$E$21,3,FALSE())","v":3},"Competición","Madrileña"]
["2814481","Navarro Iglesias, Jose Luis","3D","C",{"$f":"VLOOKUP(C2376,Referencias!$C$4:$D$21,2,FALSE())","v":"Tercera Diamante"},{"$f":"VLOOKUP(I2376,Referencias!$B$24:$C$41,2,FALSE())","v":"C.MAD"},{"$f":"VLOOKUP(C2376,Referencias!$C$4:$E$21,3,FALSE())","v":3},"Competición","Madrileña"]
["2814483","Gemeno Díaz, Guzmán","2C","C",{"$f":"VLOOKUP(C2377,Referencias!$C$4:$D$21,2,FALSE())","v":"Segunda Corazón"},{"$f":"VLOOKUP(I2377,Referencias!$B$24:$C$41,2,FALSE())","v":"C.MAD"},{"$f":"VLOOKUP(C2377,Referencias!$C$4:$E$21,3,FALSE())","v":2},"Competición","Madrileña"]
["2814484","Fernández Izard, Marcela","3D","D",{"$f":"VLOOKUP(C2378,Referencias!$C$4:$D$21,2,FALSE())","v":"Tercera Diamante"},{"$f":"VLOOKUP(I2378,Referencias!$B$24:$C$41,2,FALSE())","v":"C.MAD"},{"$f":"VLOOKUP(C2378,Referencias!$C$4:$E$21,3,FALSE())","v":3},"Competición","Madrileña"]
["2814485","Girard McDermott, Mary","3D","D",{"$f":"VLOOKUP(C2379,Referencias!$C$4:$D$21,2,FALSE())","v":"Tercera Diamante"},{"$f":"VLOOKUP(I2379,Referencias!$B$24:$C$41,2,FALSE())","v":"C.MAD"},{"$f":"VLOOKUP(C2379,Referencias!$C$4:$E$21,3,FALSE())","v":3},"Competición","Madrileña"]
["2814486","Corchado Ruiz-Jarabo, Francisco","3C","C",{"$f":"VLOOKUP(C2380,Referencias!$C$4:$D$21,2,FALSE())","v":"Tercera Corazón"},{"$f":"VLOOKUP(I2380,Referencias!$B$24:$C$41,2,FALSE())","v":"C.MAD"},{"$f":"VLOOKUP(C2380,Referencias!$C$4:$E$21,3,FALSE())","v":3},"Competición","Madrileña"]
["2814487","Bueso-Inchausti Toro, Edgar","2D","C",{"$f":"VLOOKUP(C2381,Referencias!$C$4:$D$21,2,FALSE())","v":"Segunda Diamante"},{"$f":"VLOOKUP(I2381,Referencias!$B$24:$C$41,2,FALSE())","v":"C.MAD"},{"$f":"VLOOKUP(C2381,Referencias!$C$4:$E$21,3,FALSE())","v":2},"Competición","Madrileña"]
["2814488","Bueso-Inchausti Toro, Daniel","1C","C",{"$f":"VLOOKUP(C2382,Referencias!$C$4:$D$21,2,FALSE())","v":"Primera Corazón"},{"$f":"VLOOKUP(I2382,Referencias!$B$24:$C$41,2,FALSE())","v":"C.MAD"},{"$f":"VLOOKUP(C2382,Referencias!$C$4:$E$21,3,FALSE())","v":1},"Competición","Madrileña"]
["2814493","García García-Heras, Maria Teresa","3D","D",{"$f":"VLOOKUP(C2383,Referencias!$C$4:$D$21,2,FALSE())","v":"Tercera Diamante"},{"$f":"VLOOKUP(I2383,Referencias!$B$24:$C$41,2,FALSE())","v":"C.MAD"},{"$f":"VLOOKUP(C2383,Referencias!$C$4:$E$21,3,FALSE())","v":3},"Competición","Madrileña"]
["2814494","Ortúzar Abando, Belén","3C","D",{"$f":"VLOOKUP(C2384,Referencias!$C$4:$D$21,2,FALSE())","v":"Tercera Corazón"},{"$f":"VLOOKUP(I2384,Referencias!$B$24:$C$41,2,FALSE())","v":"C.MAD"},{"$f":"VLOOKUP(C2384,Referencias!$C$4:$E$21,3,FALSE())","v":3},"Competición","Madrileña"]
["2814497","Salas Collantes, José Ignacio","3D","C",{"$f":"VLOOKUP(C2385,Referencias!$C$4:$D$21,2,FALSE())","v":"Tercera Diamante"},{"$f":"VLOOKUP(I2385,Referencias!$B$24:$C$41,2,FALSE())","v":"C.MAD"},{"$f":"VLOOKUP(C2385,Referencias!$C$4:$E$21,3,FALSE())","v":3},"Competición","Madrileña"]
["2814498","Ferrandiz Josa, María Luisa","3D","D",{"$f":"VLOOKUP(C2386,Referencias!$C$4:$D$21,2,FALSE())","v":"Tercera Diamante"},{"$f":"VLOOKUP(I2386,Referencias!$B$24:$C$41,2,FALSE())","v":"C.MAD"},{"$f":"VLOOKUP(C2386,Referencias!$C$4:$E$21,3,FALSE())","v":3},"Competición","Madrileña"]
["2814502","Andrés Villareal, María Pilar","3D","D",{"$f":"VLOOKUP(C2387,Referencias!$C$4:$D$21,2,FALSE())","v":"Tercera Diamante"},{"$f":"VLOOKUP(I2387,Referencias!$B$24:$C$41,2,FALSE())","v":"C.MAD"},{"$f":"VLOOKUP(C2387,Referencias!$C$4:$E$21,3,FALSE())","v":3},"Competición","Madrileña"]
["2814503","Beamonte de Cominges, Paloma","2D","D",{"$f":"VLOOKUP(C2388,Referencias!$C$4:$D$21,2,FALSE())","v":"Segunda Diamante"},{"$f":"VLOOKUP(I2388,Referencias!$B$24:$C$41,2,FALSE())","v":"C.MAD"},{"$f":"VLOOKUP(C2388,Referencias!$C$4:$E$21,3,FALSE())","v":2},"Competición","Madrileña"]
["2814504","Navarro López-Chicheri, Mercedes","3D","D",{"$f":"VLOOKUP(C2389,Referencias!$C$4:$D$21,2,FALSE())","v":"Tercera Diamante"},{"$f":"VLOOKUP(I2389,Referencias!$B$24:$C$41,2,FALSE())","v":"C.MAD"},{"$f":"VLOOKUP(C2389,Referencias!$C$4:$E$21,3,FALSE())","v":3},"Competición","Madrileña"]
["2814505","Los Arcos Galbete, Francisco Javier","3C","C",{"$f":"VLOOKUP(C2390,Referencias!$C$4:$D$21,2,FALSE())","v":"Tercera Corazón"},{"$f":"VLOOKUP(I2390,Referencias!$B$24:$C$41,2,FALSE())","v":"C.MAD"},{"$f":"VLOOKUP(C2390,Referencias!$C$4:$E$21,3,FALSE())","v":3},"Competición","Madrileña"]
["2814506","Peña Morientes, Belén","3D","D",{"$f":"VLOOKUP(C2391,Referencias!$C$4:$D$21,2,FALSE())","v":"Tercera Diamante"},{"$f":"VLOOKUP(I2391,Referencias!$B$24:$C$41,2,FALSE())","v":"C.MAD"},{"$f":"VLOOKUP(C2391,Referencias!$C$4:$E$21,3,FALSE())","v":3},"Competición","Madrileña"]
["2814507","Olarra Zorrozúa, Juan Carlos","3D","C",{"$f":"VLOOKUP(C2392,Referencias!$C$4:$D$21,2,FALSE())","v":"Tercera Diamante"},{"$f":"VLOOKUP(I2392,Referencias!$B$24:$C$41,2,FALSE())","v":"C.MAD"},{"$f":"VLOOKUP(C2392,Referencias!$C$4:$E$21,3,FALSE())","v":3},"Competición","Madrileña"]
["2814508","Alonso Rodríguez, José Antonio","3D","C",{"$f":"VLOOKUP(C2393,Referencias!$C$4:$D$21,2,FALSE())","v":"Tercera Diamante"},{"$f":"VLOOKUP(I2393,Referencias!$B$24:$C$41,2,FALSE())","v":"C.MAD"},{"$f":"VLOOKUP(C2393,Referencias!$C$4:$E$21,3,FALSE())","v":3},"Competición","Madrileña"]
["2814509","Poyatos Adeva, Paloma Juana","3D","D",{"$f":"VLOOKUP(C2394,Referencias!$C$4:$D$21,2,FALSE())","v":"Tercera Diamante"},{"$f":"VLOOKUP(I2394,Referencias!$B$24:$C$41,2,FALSE())","v":"C.MAD"},{"$f":"VLOOKUP(C2394,Referencias!$C$4:$E$21,3,FALSE())","v":3},"Competición","Madrileña"]
["2814510","Gómez Gómez, Natividad","3D","D",{"$f":"VLOOKUP(C2395,Referencias!$C$4:$D$21,2,FALSE())","v":"Tercera Diamante"},{"$f":"VLOOKUP(I2395,Referencias!$B$24:$C$41,2,FALSE())","v":"C.MAD"},{"$f":"VLOOKUP(C2395,Referencias!$C$4:$E$21,3,FALSE())","v":3},"Competición","Madrileña"]
["2814511","Sánchez Broto, José Manuel","2C","C",{"$f":"VLOOKUP(C2396,Referencias!$C$4:$D$21,2,FALSE())","v":"Segunda Corazón"},{"$f":"VLOOKUP(I2396,Referencias!$B$24:$C$41,2,FALSE())","v":"C.MAD"},{"$f":"VLOOKUP(C2396,Referencias!$C$4:$E$21,3,FALSE())","v":2},"Competición","Madrileña"]
["2814512","Catalá Ena, Carmen","3P","D",{"$f":"VLOOKUP(C2397,Referencias!$C$4:$D$21,2,FALSE())","v":"Tercera Picas"},{"$f":"VLOOKUP(I2397,Referencias!$B$24:$C$41,2,FALSE())","v":"C.MAD"},{"$f":"VLOOKUP(C2397,Referencias!$C$4:$E$21,3,FALSE())","v":3},"Competición","Madrileña"]
["2814513","Vicente Bermúdez, Marín","3D","C",{"$f":"VLOOKUP(C2398,Referencias!$C$4:$D$21,2,FALSE())","v":"Tercera Diamante"},{"$f":"VLOOKUP(I2398,Referencias!$B$24:$C$41,2,FALSE())","v":"C.MAD"},{"$f":"VLOOKUP(C2398,Referencias!$C$4:$E$21,3,FALSE())","v":3},"Competición","Madrileña"]
["2814514","Martín Villegas, María del Carmen","3D","D",{"$f":"VLOOKUP(C2399,Referencias!$C$4:$D$21,2,FALSE())","v":"Tercera Diamante"},{"$f":"VLOOKUP(I2399,Referencias!$B$24:$C$41,2,FALSE())","v":"C.MAD"},{"$f":"VLOOKUP(C2399,Referencias!$C$4:$E$21,3,FALSE())","v":3},"Competición","Madrileña"]
["2814515","Rodríguez González, María Pilar","3D","D",{"$f":"VLOOKUP(C2400,Referencias!$C$4:$D$21,2,FALSE())","v":"Tercera Diamante"},{"$f":"VLOOKUP(I2400,Referencias!$B$24:$C$41,2,FALSE())","v":"C.MAD"},{"$f":"VLOOKUP(C2400,Referencias!$C$4:$E$21,3,FALSE())","v":3},"Competición","Madrileña"]
["2814521","Álvarez Gala, José Ramón","3D","C",{"$f":"VLOOKUP(C2401,Referencias!$C$4:$D$21,2,FALSE())","v":"Tercera Diamante"},{"$f":"VLOOKUP(I2401,Referencias!$B$24:$C$41,2,FALSE())","v":"C.MAD"},{"$f":"VLOOKUP(C2401,Referencias!$C$4:$E$21,3,FALSE())","v":3},"Competición","Madrileña"]
["2814523","Rebollo Cuadro, África","3D","D",{"$f":"VLOOKUP(C2402,Referencias!$C$4:$D$21,2,FALSE())","v":"Tercera Diamante"},{"$f":"VLOOKUP(I2402,Referencias!$B$24:$C$41,2,FALSE())","v":"C.MAD"},{"$f":"VLOOKUP(C2402,Referencias!$C$4:$E$21,3,FALSE())","v":3},"Competición","Madrileña"]
["2814526","Danés de Castro, Cristina","3D","D",{"$f":"VLOOKUP(C2403,Referencias!$C$4:$D$21,2,FALSE())","v":"Tercera Diamante"},{"$f":"VLOOKUP(I2403,Referencias!$B$24:$C$41,2,FALSE())","v":"C.MAD"},{"$f":"VLOOKUP(C2403,Referencias!$C$4:$E$21,3,FALSE())","v":3},"Competición","Madrileña"]
["2814527","Cuartero Martínez, Enriqueta","Sin Categoría","D",{"$f":"VLOOKUP(C2404,Referencias!$C$4:$D$21,2,FALSE())","v":{"$error":"#N/A"}},{"$f":"VLOOKUP(I2404,Referencias!$B$24:$C$41,2,FALSE())","v":"C.MAD"},{"$f":"VLOOKUP(C2404,Referencias!$C$4:$E$21,3,FALSE())","v":{"$error":"#N/A"}},"Competición","Madrileña"]
["2814528","Alpañes Ramos, Ana","3D","D",{"$f":"VLOOKUP(C2405,Referencias!$C$4:$D$21,2,FALSE())","v":"Tercera Diamante"},{"$f":"VLOOKUP(I2405,Referencias!$B$24:$C$41,2,FALSE())","v":"C.MAD"},{"$f":"VLOOKUP(C2405,Referencias!$C$4:$E$21,3,FALSE())","v":3},"Competición","Madrileña"]
["2814529","Pérez de Villaamil Lapiedra, Mercedes","3D","D",{"$f":"VLOOKUP(C2406,Referencias!$C$4:$D$21,2,FALSE())","v":"Tercera Diamante"},{"$f":"VLOOKUP(I2406,Referencias!$B$24:$C$41,2,FALSE())","v":"C.MAD"},{"$f":"VLOOKUP(C2406,Referencias!$C$4:$E$21,3,FALSE())","v":3},"Competición","Madrileña"]
["2814532","Cabrera Castells, Sylvia","3C","D",{"$f":"VLOOKUP(C2407,Referencias!$C$4:$D$21,2,FALSE())","v":"Tercera Corazón"},{"$f":"VLOOKUP(I2407,Referencias!$B$24:$C$41,2,FALSE())","v":"C.MAD"},{"$f":"VLOOKUP(C2407,Referencias!$C$4:$E$21,3,FALSE())","v":3},"Competición","Madrileña"]
["2814533","Pérez de Villaamil Lapiedra, Patricia","3D","D",{"$f":"VLOOKUP(C2408,Referencias!$C$4:$D$21,2,FALSE())","v":"Tercera Diamante"},{"$f":"VLOOKUP(I2408,Referencias!$B$24:$C$41,2,FALSE())","v":"C.MAD"},{"$f":"VLOOKUP(C2408,Referencias!$C$4:$E$21,3,FALSE())","v":3},"Competición","Madrileña"]
["2814534","Campal Rubio, Sofia","3D","D",{"$f":"VLOOKUP(C2409,Referencias!$C$4:$D$21,2,FALSE())","v":"Tercera Diamante"},{"$f":"VLOOKUP(I2409,Referencias!$B$24:$C$41,2,FALSE())","v":"C.MAD"},{"$f":"VLOOKUP(C2409,Referencias!$C$4:$E$21,3,FALSE())","v":3},"Competición","Madrileña"]
["2814536","Cervera Miralles, María Dolores","2D","D",{"$f":"VLOOKUP(C2410,Referencias!$C$4:$D$21,2,FALSE())","v":"Segunda Diamante"},{"$f":"VLOOKUP(I2410,Referencias!$B$24:$C$41,2,FALSE())","v":"C.MAD"},{"$f":"VLOOKUP(C2410,Referencias!$C$4:$E$21,3,FALSE())","v":2},"Competición","Madrileña"]
["2814538","Álvarez Veiga, Carmen","3D","D",{"$f":"VLOOKUP(C2411,Referencias!$C$4:$D$21,2,FALSE())","v":"Tercera Diamante"},{"$f":"VLOOKUP(I2411,Referencias!$B$24:$C$41,2,FALSE())","v":"C.MAD"},{"$f":"VLOOKUP(C2411,Referencias!$C$4:$E$21,3,FALSE())","v":3},"Competición","Madrileña"]
["2814539","Osuna Chambón, Jose María","3D","C",{"$f":"VLOOKUP(C2412,Referencias!$C$4:$D$21,2,FALSE())","v":"Tercera Diamante"},{"$f":"VLOOKUP(I2412,Referencias!$B$24:$C$41,2,FALSE())","v":"C.MAD"},{"$f":"VLOOKUP(C2412,Referencias!$C$4:$E$21,3,FALSE())","v":3},"Competición","Madrileña"]
["2814540","Menéndez de Luarca Navia-Osorio, Margarita","3D","D",{"$f":"VLOOKUP(C2413,Referencias!$C$4:$D$21,2,FALSE())","v":"Tercera Diamante"},{"$f":"VLOOKUP(I2413,Referencias!$B$24:$C$41,2,FALSE())","v":"C.MAD"},{"$f":"VLOOKUP(C2413,Referencias!$C$4:$E$21,3,FALSE())","v":3},"Competición","Madrileña"]
["2814541","Rosales García, Teresa","3P","D",{"$f":"VLOOKUP(C2414,Referencias!$C$4:$D$21,2,FALSE())","v":"Tercera Picas"},{"$f":"VLOOKUP(I2414,Referencias!$B$24:$C$41,2,FALSE())","v":"C.MAD"},{"$f":"VLOOKUP(C2414,Referencias!$C$4:$E$21,3,FALSE())","v":3},"Competición","Madrileña"]
["2814543","González Sánchez, María Mercedes","3D","D",{"$f":"VLOOKUP(C2415,Referencias!$C$4:$D$21,2,FALSE())","v":"Tercera Diamante"},{"$f":"VLOOKUP(I2415,Referencias!$B$24:$C$41,2,FALSE())","v":"C.MAD"},{"$f":"VLOOKUP(C2415,Referencias!$C$4:$E$21,3,FALSE())","v":3},"Competición","Madrileña"]
["2814544","Garaizabal del Valle, María Eugenia","3D","D",{"$f":"VLOOKUP(C2416,Referencias!$C$4:$D$21,2,FALSE())","v":"Tercera Diamante"},{"$f":"VLOOKUP(I2416,Referencias!$B$24:$C$41,2,FALSE())","v":"C.MAD"},{"$f":"VLOOKUP(C2416,Referencias!$C$4:$E$21,3,FALSE())","v":3},"Competición","Madrileña"]
["2814545","Díaz Múgica, María Asunción","3D","D",{"$f":"VLOOKUP(C2417,Referencias!$C$4:$D$21,2,FALSE())","v":"Tercera Diamante"},{"$f":"VLOOKUP(I2417,Referencias!$B$24:$C$41,2,FALSE())","v":"C.MAD"},{"$f":"VLOOKUP(C2417,Referencias!$C$4:$E$21,3,FALSE())","v":3},"Competición","Madrileña"]
["2814547","Fernández Mourelle, Guadalupe","3D","D",{"$f":"VLOOKUP(C2418,Referencias!$C$4:$D$21,2,FALSE())","v":"Tercera Diamante"},{"$f":"VLOOKUP(I2418,Referencias!$B$24:$C$41,2,FALSE())","v":"C.MAD"},{"$f":"VLOOKUP(C2418,Referencias!$C$4:$E$21,3,FALSE())","v":3},"Competición","Madrileña"]
["2814548","González Bastos, Paloma","3D","D",{"$f":"VLOOKUP(C2419,Referencias!$C$4:$D$21,2,FALSE())","v":"Tercera Diamante"},{"$f":"VLOOKUP(I2419,Referencias!$B$24:$C$41,2,FALSE())","v":"C.MAD"},{"$f":"VLOOKUP(C2419,Referencias!$C$4:$E$21,3,FALSE())","v":3},"Competición","Madrileña"]
["2814551","Aboy Oquendo, Carmen","3D","D",{"$f":"VLOOKUP(C2420,Referencias!$C$4:$D$21,2,FALSE())","v":"Tercera Diamante"},{"$f":"VLOOKUP(I2420,Referencias!$B$24:$C$41,2,FALSE())","v":"C.MAD"},{"$f":"VLOOKUP(C2420,Referencias!$C$4:$E$21,3,FALSE())","v":3},"Competición","Madrileña"]
["2814552","Arrate Fernández-Castaño, Juan","3C","C",{"$f":"VLOOKUP(C2421,Referencias!$C$4:$D$21,2,FALSE())","v":"Tercera Corazón"},{"$f":"VLOOKUP(I2421,Referencias!$B$24:$C$41,2,FALSE())","v":"C.MAD"},{"$f":"VLOOKUP(C2421,Referencias!$C$4:$E$21,3,FALSE())","v":3},"Competición","Madrileña"]
["2814555","Cavanilles Cavanilles, Roselia","3P","D",{"$f":"VLOOKUP(C2422,Referencias!$C$4:$D$21,2,FALSE())","v":"Tercera Picas"},{"$f":"VLOOKUP(I2422,Referencias!$B$24:$C$41,2,FALSE())","v":"C.MAD"},{"$f":"VLOOKUP(C2422,Referencias!$C$4:$E$21,3,FALSE())","v":3},"Competición","Madrileña"]
["2814556","Marin Riaño, Almudena","3C","D",{"$f":"VLOOKUP(C2423,Referencias!$C$4:$D$21,2,FALSE())","v":"Tercera Corazón"},{"$f":"VLOOKUP(I2423,Referencias!$B$24:$C$41,2,FALSE())","v":"C.MAD"},{"$f":"VLOOKUP(C2423,Referencias!$C$4:$E$21,3,FALSE())","v":3},"Competición","Madrileña"]
["2814557","González de Aguilar de la Peña, Elvira","3P","D",{"$f":"VLOOKUP(C2424,Referencias!$C$4:$D$21,2,FALSE())","v":"Tercera Picas"},{"$f":"VLOOKUP(I2424,Referencias!$B$24:$C$41,2,FALSE())","v":"C.MAD"},{"$f":"VLOOKUP(C2424,Referencias!$C$4:$E$21,3,FALSE())","v":3},"Competición","Madrileña"]
["2814559","Corchado Ruiz-Jarabo, Cecilia","3D","D",{"$f":"VLOOKUP(C2425,Referencias!$C$4:$D$21,2,FALSE())","v":"Tercera Diamante"},{"$f":"VLOOKUP(I2425,Referencias!$B$24:$C$41,2,FALSE())","v":"C.MAD"},{"$f":"VLOOKUP(C2425,Referencias!$C$4:$E$21,3,FALSE())","v":3},"Competición","Madrileña"]
["2814561","Guerra Arabolaza, Mapi","3D","D",{"$f":"VLOOKUP(C2426,Referencias!$C$4:$D$21,2,FALSE())","v":"Tercera Diamante"},{"$f":"VLOOKUP(I2426,Referencias!$B$24:$C$41,2,FALSE())","v":"C.MAD"},{"$f":"VLOOKUP(C2426,Referencias!$C$4:$E$21,3,FALSE())","v":3},"Competición","Madrileña"]
["2814562","Pascual Santamaría, Carmen","3D","D",{"$f":"VLOOKUP(C2427,Referencias!$C$4:$D$21,2,FALSE())","v":"Tercera Diamante"},{"$f":"VLOOKUP(I2427,Referencias!$B$24:$C$41,2,FALSE())","v":"C.MAD"},{"$f":"VLOOKUP(C2427,Referencias!$C$4:$E$21,3,FALSE())","v":3},"Competición","Madrileña"]
["2814563","Muñoz Sánz, Ana Isabel","3D","D",{"$f":"VLOOKUP(C2428,Referencias!$C$4:$D$21,2,FALSE())","v":"Tercera Diamante"},{"$f":"VLOOKUP(I2428,Referencias!$B$24:$C$41,2,FALSE())","v":"C.MAD"},{"$f":"VLOOKUP(C2428,Referencias!$C$4:$E$21,3,FALSE())","v":3},"Competición","Madrileña"]
["2814564","Marín Romero, José Carlos","2D","C",{"$f":"VLOOKUP(C2429,Referencias!$C$4:$D$21,2,FALSE())","v":"Segunda Diamante"},{"$f":"VLOOKUP(I2429,Referencias!$B$24:$C$41,2,FALSE())","v":"C.MAD"},{"$f":"VLOOKUP(C2429,Referencias!$C$4:$E$21,3,FALSE())","v":2},"Competición","Madrileña"]
["2814565","Arteche Pidal, Maravillas","3P","D",{"$f":"VLOOKUP(C2430,Referencias!$C$4:$D$21,2,FALSE())","v":"Tercera Picas"},{"$f":"VLOOKUP(I2430,Referencias!$B$24:$C$41,2,FALSE())","v":"C.MAD"},{"$f":"VLOOKUP(C2430,Referencias!$C$4:$E$21,3,FALSE())","v":3},"Competición","Madrileña"]
["2814566","Cabezas de Herrera García de la Rosa, Begoña","3C","D",{"$f":"VLOOKUP(C2431,Referencias!$C$4:$D$21,2,FALSE())","v":"Tercera Corazón"},{"$f":"VLOOKUP(I2431,Referencias!$B$24:$C$41,2,FALSE())","v":"C.MAD"},{"$f":"VLOOKUP(C2431,Referencias!$C$4:$E$21,3,FALSE())","v":3},"Competición","Madrileña"]
["2814567","Fernández de Córdoba Ruiz-Ocejo, Beatriz","3D","D",{"$f":"VLOOKUP(C2432,Referencias!$C$4:$D$21,2,FALSE())","v":"Tercera Diamante"},{"$f":"VLOOKUP(I2432,Referencias!$B$24:$C$41,2,FALSE())","v":"C.MAD"},{"$f":"VLOOKUP(C2432,Referencias!$C$4:$E$21,3,FALSE())","v":3},"Competición","Madrileña"]
["2814569","Morales de la Cova, Aida","3D","D",{"$f":"VLOOKUP(C2433,Referencias!$C$4:$D$21,2,FALSE())","v":"Tercera Diamante"},{"$f":"VLOOKUP(I2433,Referencias!$B$24:$C$41,2,FALSE())","v":"C.MAD"},{"$f":"VLOOKUP(C2433,Referencias!$C$4:$E$21,3,FALSE())","v":3},"Competición","Madrileña"]
["2814572","de Ena de la Cuesta, María","3D","D",{"$f":"VLOOKUP(C2434,Referencias!$C$4:$D$21,2,FALSE())","v":"Tercera Diamante"},{"$f":"VLOOKUP(I2434,Referencias!$B$24:$C$41,2,FALSE())","v":"C.MAD"},{"$f":"VLOOKUP(C2434,Referencias!$C$4:$E$21,3,FALSE())","v":3},"Competición","Madrileña"]
["2814573","Gómez-Acebo Borbón, Simoneta","2D","D",{"$f":"VLOOKUP(C2435,Referencias!$C$4:$D$21,2,FALSE())","v":"Segunda Diamante"},{"$f":"VLOOKUP(I2435,Referencias!$B$24:$C$41,2,FALSE())","v":"C.MAD"},{"$f":"VLOOKUP(C2435,Referencias!$C$4:$E$21,3,FALSE())","v":2},"Competición","Madrileña"]
["2814575","Eiroa Guillén, María Pilar","3D","D",{"$f":"VLOOKUP(C2436,Referencias!$C$4:$D$21,2,FALSE())","v":"Tercera Diamante"},{"$f":"VLOOKUP(I2436,Referencias!$B$24:$C$41,2,FALSE())","v":"C.MAD"},{"$f":"VLOOKUP(C2436,Referencias!$C$4:$E$21,3,FALSE())","v":3},"Competición","Madrileña"]
["2814576","Zuazo Rosado, Marisa","2C","D",{"$f":"VLOOKUP(C2437,Referencias!$C$4:$D$21,2,FALSE())","v":"Segunda Corazón"},{"$f":"VLOOKUP(I2437,Referencias!$B$24:$C$41,2,FALSE())","v":"C.MAD"},{"$f":"VLOOKUP(C2437,Referencias!$C$4:$E$21,3,FALSE())","v":2},"Competición","Madrileña"]
["2814577","Rumeu Cruzat, Patricia","3C","D",{"$f":"VLOOKUP(C2438,Referencias!$C$4:$D$21,2,FALSE())","v":"Tercera Corazón"},{"$f":"VLOOKUP(I2438,Referencias!$B$24:$C$41,2,FALSE())","v":"C.MAD"},{"$f":"VLOOKUP(C2438,Referencias!$C$4:$E$21,3,FALSE())","v":3},"Competición","Madrileña"]
["2814578","Campomanes De Labra, Carmen","3D","D",{"$f":"VLOOKUP(C2439,Referencias!$C$4:$D$21,2,FALSE())","v":"Tercera Diamante"},{"$f":"VLOOKUP(I2439,Referencias!$B$24:$C$41,2,FALSE())","v":"C.MAD"},{"$f":"VLOOKUP(C2439,Referencias!$C$4:$E$21,3,FALSE())","v":3},"Competición","Madrileña"]
["2814579","Eulate Gómez Rubiera, María","3D","D",{"$f":"VLOOKUP(C2440,Referencias!$C$4:$D$21,2,FALSE())","v":"Tercera Diamante"},{"$f":"VLOOKUP(I2440,Referencias!$B$24:$C$41,2,FALSE())","v":"C.MAD"},{"$f":"VLOOKUP(C2440,Referencias!$C$4:$E$21,3,FALSE())","v":3},"Competición","Madrileña"]
["2814580","Millán Mateo, Julio","3C","C",{"$f":"VLOOKUP(C2441,Referencias!$C$4:$D$21,2,FALSE())","v":"Tercera Corazón"},{"$f":"VLOOKUP(I2441,Referencias!$B$24:$C$41,2,FALSE())","v":"C.MAD"},{"$f":"VLOOKUP(C2441,Referencias!$C$4:$E$21,3,FALSE())","v":3},"Competición","Madrileña"]
["2814581","Basabe Armijo, José Raimundo","2D","C",{"$f":"VLOOKUP(C2442,Referencias!$C$4:$D$21,2,FALSE())","v":"Segunda Diamante"},{"$f":"VLOOKUP(I2442,Referencias!$B$24:$C$41,2,FALSE())","v":"C.MAD"},{"$f":"VLOOKUP(C2442,Referencias!$C$4:$E$21,3,FALSE())","v":2},"Competición","Madrileña"]
["2814582","Vila Riudavets, Blanca","3D","D",{"$f":"VLOOKUP(C2443,Referencias!$C$4:$D$21,2,FALSE())","v":"Tercera Diamante"},{"$f":"VLOOKUP(I2443,Referencias!$B$24:$C$41,2,FALSE())","v":"C.MAD"},{"$f":"VLOOKUP(C2443,Referencias!$C$4:$E$21,3,FALSE())","v":3},"Competición","Madrileña"]
["2814583","Riudavets Montes, Blanca","3D","D",{"$f":"VLOOKUP(C2444,Referencias!$C$4:$D$21,2,FALSE())","v":"Tercera Diamante"},{"$f":"VLOOKUP(I2444,Referencias!$B$24:$C$41,2,FALSE())","v":"C.MAD"},{"$f":"VLOOKUP(C2444,Referencias!$C$4:$E$21,3,FALSE())","v":3},"Competición","Madrileña"]
["2814584","Thams Lorey, Ulf","3D","C",{"$f":"VLOOKUP(C2445,Referencias!$C$4:$D$21,2,FALSE())","v":"Tercera Diamante"},{"$f":"VLOOKUP(I2445,Referencias!$B$24:$C$41,2,FALSE())","v":"C.MAD"},{"$f":"VLOOKUP(C2445,Referencias!$C$4:$E$21,3,FALSE())","v":3},"Competición","Madrileña"]
["2814586","Suárez del Villar Ruiz de Huidobro, Álvaro","3C","C",{"$f":"VLOOKUP(C2446,Referencias!$C$4:$D$21,2,FALSE())","v":"Tercera Corazón"},{"$f":"VLOOKUP(I2446,Referencias!$B$24:$C$41,2,FALSE())","v":"C.MAD"},{"$f":"VLOOKUP(C2446,Referencias!$C$4:$E$21,3,FALSE())","v":3},"Competición","Madrileña"]
["2814588","Montiel Allendesalazar, Luis","3D","C",{"$f":"VLOOKUP(C2447,Referencias!$C$4:$D$21,2,FALSE())","v":"Tercera Diamante"},{"$f":"VLOOKUP(I2447,Referencias!$B$24:$C$41,2,FALSE())","v":"C.MAD"},{"$f":"VLOOKUP(C2447,Referencias!$C$4:$E$21,3,FALSE())","v":3},"Competición","Madrileña"]
["2814589","Muro Domínguez, Mónica","3D","D",{"$f":"VLOOKUP(C2448,Referencias!$C$4:$D$21,2,FALSE())","v":"Tercera Diamante"},{"$f":"VLOOKUP(I2448,Referencias!$B$24:$C$41,2,FALSE())","v":"C.MAD"},{"$f":"VLOOKUP(C2448,Referencias!$C$4:$E$21,3,FALSE())","v":3},"Competición","Madrileña"]
["2814591","Cueto Puertas, Juan","3D","C",{"$f":"VLOOKUP(C2449,Referencias!$C$4:$D$21,2,FALSE())","v":"Tercera Diamante"},{"$f":"VLOOKUP(I2449,Referencias!$B$24:$C$41,2,FALSE())","v":"C.MAD"},{"$f":"VLOOKUP(C2449,Referencias!$C$4:$E$21,3,FALSE())","v":3},"Competición","Madrileña"]
["2814593","Querol Quadras, Carmen","3D","D",{"$f":"VLOOKUP(C2450,Referencias!$C$4:$D$21,2,FALSE())","v":"Tercera Diamante"},{"$f":"VLOOKUP(I2450,Referencias!$B$24:$C$41,2,FALSE())","v":"C.MAD"},{"$f":"VLOOKUP(C2450,Referencias!$C$4:$E$21,3,FALSE())","v":3},"Competición","Madrileña"]
["2814594","Moreno de Barreda Moreno, Antonio","3D","C",{"$f":"VLOOKUP(C2451,Referencias!$C$4:$D$21,2,FALSE())","v":"Tercera Diamante"},{"$f":"VLOOKUP(I2451,Referencias!$B$24:$C$41,2,FALSE())","v":"C.MAD"},{"$f":"VLOOKUP(C2451,Referencias!$C$4:$E$21,3,FALSE())","v":3},"Competición","Madrileña"]
["2814595","García-Germán Pedregal, Patricia","2D","D",{"$f":"VLOOKUP(C2452,Referencias!$C$4:$D$21,2,FALSE())","v":"Segunda Diamante"},{"$f":"VLOOKUP(I2452,Referencias!$B$24:$C$41,2,FALSE())","v":"C.MAD"},{"$f":"VLOOKUP(C2452,Referencias!$C$4:$E$21,3,FALSE())","v":2},"Competición","Madrileña"]
["2814597","Arrechea Fúster, Victoria","3D","D",{"$f":"VLOOKUP(C2453,Referencias!$C$4:$D$21,2,FALSE())","v":"Tercera Diamante"},{"$f":"VLOOKUP(I2453,Referencias!$B$24:$C$41,2,FALSE())","v":"C.MAD"},{"$f":"VLOOKUP(C2453,Referencias!$C$4:$E$21,3,FALSE())","v":3},"Competición","Madrileña"]
["2814598","Gómez Oriol, José Rafael","3P","C",{"$f":"VLOOKUP(C2454,Referencias!$C$4:$D$21,2,FALSE())","v":"Tercera Picas"},{"$f":"VLOOKUP(I2454,Referencias!$B$24:$C$41,2,FALSE())","v":"C.MAD"},{"$f":"VLOOKUP(C2454,Referencias!$C$4:$E$21,3,FALSE())","v":3},"Competición","Madrileña"]
["2814603","Lumbreras De Azanza, Juan Carlos","3D","C",{"$f":"VLOOKUP(C2455,Referencias!$C$4:$D$21,2,FALSE())","v":"Tercera Diamante"},{"$f":"VLOOKUP(I2455,Referencias!$B$24:$C$41,2,FALSE())","v":"C.MAD"},{"$f":"VLOOKUP(C2455,Referencias!$C$4:$E$21,3,FALSE())","v":3},"Competición","Madrileña"]
["2814604","Gil - Casares Trigo, María","3D","D",{"$f":"VLOOKUP(C2456,Referencias!$C$4:$D$21,2,FALSE())","v":"Tercera Diamante"},{"$f":"VLOOKUP(I2456,Referencias!$B$24:$C$41,2,FALSE())","v":"C.MAD"},{"$f":"VLOOKUP(C2456,Referencias!$C$4:$E$21,3,FALSE())","v":3},"Competición","Madrileña"]
["2814606","Hernando Grande, Amparo","3D","D",{"$f":"VLOOKUP(C2457,Referencias!$C$4:$D$21,2,FALSE())","v":"Tercera Diamante"},{"$f":"VLOOKUP(I2457,Referencias!$B$24:$C$41,2,FALSE())","v":"C.MAD"},{"$f":"VLOOKUP(C2457,Referencias!$C$4:$E$21,3,FALSE())","v":3},"Competición","Madrileña"]
["2814607","Armijo Torres, Elena","3D","D",{"$f":"VLOOKUP(C2458,Referencias!$C$4:$D$21,2,FALSE())","v":"Tercera Diamante"},{"$f":"VLOOKUP(I2458,Referencias!$B$24:$C$41,2,FALSE())","v":"C.MAD"},{"$f":"VLOOKUP(C2458,Referencias!$C$4:$E$21,3,FALSE())","v":3},"Competición","Madrileña"]
["2814609","Maiza Urbieta, Margarita","3D","D",{"$f":"VLOOKUP(C2459,Referencias!$C$4:$D$21,2,FALSE())","v":"Tercera Diamante"},{"$f":"VLOOKUP(I2459,Referencias!$B$24:$C$41,2,FALSE())","v":"C.MAD"},{"$f":"VLOOKUP(C2459,Referencias!$C$4:$E$21,3,FALSE())","v":3},"Competición","Madrileña"]
["2814610","López-Belmonte Rubira, Juan Luis","3D","C",{"$f":"VLOOKUP(C2460,Referencias!$C$4:$D$21,2,FALSE())","v":"Tercera Diamante"},{"$f":"VLOOKUP(I2460,Referencias!$B$24:$C$41,2,FALSE())","v":"C.MAD"},{"$f":"VLOOKUP(C2460,Referencias!$C$4:$E$21,3,FALSE())","v":3},"Competición","Madrileña"]
["2814612","González-Chaves García de Villegas, María","3P","D",{"$f":"VLOOKUP(C2461,Referencias!$C$4:$D$21,2,FALSE())","v":"Tercera Picas"},{"$f":"VLOOKUP(I2461,Referencias!$B$24:$C$41,2,FALSE())","v":"C.MAD"},{"$f":"VLOOKUP(C2461,Referencias!$C$4:$E$21,3,FALSE())","v":3},"Competición","Madrileña"]
["2814613","Herrera de Gómez, Carmen","3D","D",{"$f":"VLOOKUP(C2462,Referencias!$C$4:$D$21,2,FALSE())","v":"Tercera Diamante"},{"$f":"VLOOKUP(I2462,Referencias!$B$24:$C$41,2,FALSE())","v":"C.MAD"},{"$f":"VLOOKUP(C2462,Referencias!$C$4:$E$21,3,FALSE())","v":3},"Competición","Madrileña"]
["2814614","Gimeno Robledano, Esperanza","2D","D",{"$f":"VLOOKUP(C2463,Referencias!$C$4:$D$21,2,FALSE())","v":"Segunda Diamante"},{"$f":"VLOOKUP(I2463,Referencias!$B$24:$C$41,2,FALSE())","v":"C.MAD"},{"$f":"VLOOKUP(C2463,Referencias!$C$4:$E$21,3,FALSE())","v":2},"Competición","Madrileña"]
["2814615","del Campo Zunzunegui, Mónica","3D","D",{"$f":"VLOOKUP(C2464,Referencias!$C$4:$D$21,2,FALSE())","v":"Tercera Diamante"},{"$f":"VLOOKUP(I2464,Referencias!$B$24:$C$41,2,FALSE())","v":"C.MAD"},{"$f":"VLOOKUP(C2464,Referencias!$C$4:$E$21,3,FALSE())","v":3},"Competición","Madrileña"]
["2814616","Saénz de Miera Gutierrez, María José","3D","D",{"$f":"VLOOKUP(C2465,Referencias!$C$4:$D$21,2,FALSE())","v":"Tercera Diamante"},{"$f":"VLOOKUP(I2465,Referencias!$B$24:$C$41,2,FALSE())","v":"C.MAD"},{"$f":"VLOOKUP(C2465,Referencias!$C$4:$E$21,3,FALSE())","v":3},"Competición","Madrileña"]
["2814618","Nuñez Robles, Marian","3D","D",{"$f":"VLOOKUP(C2466,Referencias!$C$4:$D$21,2,FALSE())","v":"Tercera Diamante"},{"$f":"VLOOKUP(I2466,Referencias!$B$24:$C$41,2,FALSE())","v":"C.MAD"},{"$f":"VLOOKUP(C2466,Referencias!$C$4:$E$21,3,FALSE())","v":3},"Competición","Madrileña"]
["2814619","Bustos Pardo Manuel de Villena, Xavier","3D","C",{"$f":"VLOOKUP(C2467,Referencias!$C$4:$D$21,2,FALSE())","v":"Tercera Diamante"},{"$f":"VLOOKUP(I2467,Referencias!$B$24:$C$41,2,FALSE())","v":"C.MAD"},{"$f":"VLOOKUP(C2467,Referencias!$C$4:$E$21,3,FALSE())","v":3},"Competición","Madrileña"]
["2814621","del Pino O´Shea, Cristina","3C","D",{"$f":"VLOOKUP(C2468,Referencias!$C$4:$D$21,2,FALSE())","v":"Tercera Corazón"},{"$f":"VLOOKUP(I2468,Referencias!$B$24:$C$41,2,FALSE())","v":"C.MAD"},{"$f":"VLOOKUP(C2468,Referencias!$C$4:$E$21,3,FALSE())","v":3},"Competición","Madrileña"]
["2814623","Basabe O´Shea, Lourdes","3D","D",{"$f":"VLOOKUP(C2469,Referencias!$C$4:$D$21,2,FALSE())","v":"Tercera Diamante"},{"$f":"VLOOKUP(I2469,Referencias!$B$24:$C$41,2,FALSE())","v":"C.MAD"},{"$f":"VLOOKUP(C2469,Referencias!$C$4:$E$21,3,FALSE())","v":3},"Competición","Madrileña"]
["2814625","de la Vega Bergé, Begoña","3P","D",{"$f":"VLOOKUP(C2470,Referencias!$C$4:$D$21,2,FALSE())","v":"Tercera Picas"},{"$f":"VLOOKUP(I2470,Referencias!$B$24:$C$41,2,FALSE())","v":"C.MAD"},{"$f":"VLOOKUP(C2470,Referencias!$C$4:$E$21,3,FALSE())","v":3},"Competición","Madrileña"]
["2814626","Giménez Escudero, Luisa","3D","D",{"$f":"VLOOKUP(C2471,Referencias!$C$4:$D$21,2,FALSE())","v":"Tercera Diamante"},{"$f":"VLOOKUP(I2471,Referencias!$B$24:$C$41,2,FALSE())","v":"C.MAD"},{"$f":"VLOOKUP(C2471,Referencias!$C$4:$E$21,3,FALSE())","v":3},"Competición","Madrileña"]
["2814628","Zuloaga Gallego, Carmen","3D","D",{"$f":"VLOOKUP(C2472,Referencias!$C$4:$D$21,2,FALSE())","v":"Tercera Diamante"},{"$f":"VLOOKUP(I2472,Referencias!$B$24:$C$41,2,FALSE())","v":"C.MAD"},{"$f":"VLOOKUP(C2472,Referencias!$C$4:$E$21,3,FALSE())","v":3},"Competición","Madrileña"]
["2814629","Herrán Fernández, Alicia","3D","D",{"$f":"VLOOKUP(C2473,Referencias!$C$4:$D$21,2,FALSE())","v":"Tercera Diamante"},{"$f":"VLOOKUP(I2473,Referencias!$B$24:$C$41,2,FALSE())","v":"C.MAD"},{"$f":"VLOOKUP(C2473,Referencias!$C$4:$E$21,3,FALSE())","v":3},"Competición","Madrileña"]
["2814630","Delgado Escofet, Estela","2P","D",{"$f":"VLOOKUP(C2474,Referencias!$C$4:$D$21,2,FALSE())","v":"Segunda Picas"},{"$f":"VLOOKUP(I2474,Referencias!$B$24:$C$41,2,FALSE())","v":"C.MAD"},{"$f":"VLOOKUP(C2474,Referencias!$C$4:$E$21,3,FALSE())","v":2},"Competición","Madrileña"]
["2814631","Reh López-Dóriga, Beatriz","3D","D",{"$f":"VLOOKUP(C2475,Referencias!$C$4:$D$21,2,FALSE())","v":"Tercera Diamante"},{"$f":"VLOOKUP(I2475,Referencias!$B$24:$C$41,2,FALSE())","v":"C.MAD"},{"$f":"VLOOKUP(C2475,Referencias!$C$4:$E$21,3,FALSE())","v":3},"Competición","Madrileña"]
["2814634","Herránz Pérez, Luis Antonio","3P","C",{"$f":"VLOOKUP(C2476,Referencias!$C$4:$D$21,2,FALSE())","v":"Tercera Picas"},{"$f":"VLOOKUP(I2476,Referencias!$B$24:$C$41,2,FALSE())","v":"C.MAD"},{"$f":"VLOOKUP(C2476,Referencias!$C$4:$E$21,3,FALSE())","v":3},"Competición","Madrileña"]
["2814636","Gómez-Tejedor Ortiz, Concepción","3D","D",{"$f":"VLOOKUP(C2477,Referencias!$C$4:$D$21,2,FALSE())","v":"Tercera Diamante"},{"$f":"VLOOKUP(I2477,Referencias!$B$24:$C$41,2,FALSE())","v":"C.MAD"},{"$f":"VLOOKUP(C2477,Referencias!$C$4:$E$21,3,FALSE())","v":3},"Competición","Madrileña"]
["2814637","Llebot Majo, Rosa","1P","D",{"$f":"VLOOKUP(C2478,Referencias!$C$4:$D$21,2,FALSE())","v":"Primera Picas"},{"$f":"VLOOKUP(I2478,Referencias!$B$24:$C$41,2,FALSE())","v":"C.MAD"},{"$f":"VLOOKUP(C2478,Referencias!$C$4:$E$21,3,FALSE())","v":1},"Competición","Madrileña"]
["2814638","Guizy del Rio, Antonio","1C","C",{"$f":"VLOOKUP(C2479,Referencias!$C$4:$D$21,2,FALSE())","v":"Primera Corazón"},{"$f":"VLOOKUP(I2479,Referencias!$B$24:$C$41,2,FALSE())","v":"C.MAD"},{"$f":"VLOOKUP(C2479,Referencias!$C$4:$E$21,3,FALSE())","v":1},"Competición","Madrileña"]
["2814640","Escoriaza St. John, Florencia","3D","D",{"$f":"VLOOKUP(C2480,Referencias!$C$4:$D$21,2,FALSE())","v":"Tercera Diamante"},{"$f":"VLOOKUP(I2480,Referencias!$B$24:$C$41,2,FALSE())","v":"C.MAD"},{"$f":"VLOOKUP(C2480,Referencias!$C$4:$E$21,3,FALSE())","v":3},"Competición","Madrileña"]
["2814641","Fernández Granda, Susana","3P","D",{"$f":"VLOOKUP(C2481,Referencias!$C$4:$D$21,2,FALSE())","v":"Tercera Picas"},{"$f":"VLOOKUP(I2481,Referencias!$B$24:$C$41,2,FALSE())","v":"C.MAD"},{"$f":"VLOOKUP(C2481,Referencias!$C$4:$E$21,3,FALSE())","v":3},"Competición","Madrileña"]
["2814642","Benarroch Israel, Elena","3D","D",{"$f":"VLOOKUP(C2482,Referencias!$C$4:$D$21,2,FALSE())","v":"Tercera Diamante"},{"$f":"VLOOKUP(I2482,Referencias!$B$24:$C$41,2,FALSE())","v":"C.MAD"},{"$f":"VLOOKUP(C2482,Referencias!$C$4:$E$21,3,FALSE())","v":3},"Competición","Madrileña"]
["2814652","Espinosa de los Monteros Sánz-Tovar, María","3D","D",{"$f":"VLOOKUP(C2483,Referencias!$C$4:$D$21,2,FALSE())","v":"Tercera Diamante"},{"$f":"VLOOKUP(I2483,Referencias!$B$24:$C$41,2,FALSE())","v":"C.MAD"},{"$f":"VLOOKUP(C2483,Referencias!$C$4:$E$21,3,FALSE())","v":3},"Competición","Madrileña"]
["2814653","Fernández López, Gloria","3C","D",{"$f":"VLOOKUP(C2484,Referencias!$C$4:$D$21,2,FALSE())","v":"Tercera Corazón"},{"$f":"VLOOKUP(I2484,Referencias!$B$24:$C$41,2,FALSE())","v":"C.MAD"},{"$f":"VLOOKUP(C2484,Referencias!$C$4:$E$21,3,FALSE())","v":3},"Competición","Madrileña"]
["2814656","Arpón de Mendivil Aldama, Alejandra","3C","D",{"$f":"VLOOKUP(C2485,Referencias!$C$4:$D$21,2,FALSE())","v":"Tercera Corazón"},{"$f":"VLOOKUP(I2485,Referencias!$B$24:$C$41,2,FALSE())","v":"C.MAD"},{"$f":"VLOOKUP(C2485,Referencias!$C$4:$E$21,3,FALSE())","v":3},"Competición","Madrileña"]
["2814665","Zinger, Vladik","1P","D",{"$f":"VLOOKUP(C2486,Referencias!$C$4:$D$21,2,FALSE())","v":"Primera Picas"},{"$f":"VLOOKUP(I2486,Referencias!$B$24:$C$41,2,FALSE())","v":"C.MAD"},{"$f":"VLOOKUP(C2486,Referencias!$C$4:$E$21,3,FALSE())","v":1},"Competición","Madrileña"]
["2814666","Burgos Belascoain, Ana","3D","D",{"$f":"VLOOKUP(C2487,Referencias!$C$4:$D$21,2,FALSE())","v":"Tercera Diamante"},{"$f":"VLOOKUP(I2487,Referencias!$B$24:$C$41,2,FALSE())","v":"C.MAD"},{"$f":"VLOOKUP(C2487,Referencias!$C$4:$E$21,3,FALSE())","v":3},"Competición","Madrileña"]
["2814667","García Lombardía, María Dolores","1C","D",{"$f":"VLOOKUP(C2488,Referencias!$C$4:$D$21,2,FALSE())","v":"Primera Corazón"},{"$f":"VLOOKUP(I2488,Referencias!$B$24:$C$41,2,FALSE())","v":"C.MAD"},{"$f":"VLOOKUP(C2488,Referencias!$C$4:$E$21,3,FALSE())","v":1},"Competición","Madrileña"]
["2814669","Avello Prendes, Alfredo","3D","C",{"$f":"VLOOKUP(C2489,Referencias!$C$4:$D$21,2,FALSE())","v":"Tercera Diamante"},{"$f":"VLOOKUP(I2489,Referencias!$B$24:$C$41,2,FALSE())","v":"C.MAD"},{"$f":"VLOOKUP(C2489,Referencias!$C$4:$E$21,3,FALSE())","v":3},"Competición","Madrileña"]
["2814671","Tomé Arias, Alicia","3D","D",{"$f":"VLOOKUP(C2490,Referencias!$C$4:$D$21,2,FALSE())","v":"Tercera Diamante"},{"$f":"VLOOKUP(I2490,Referencias!$B$24:$C$41,2,FALSE())","v":"C.MAD"},{"$f":"VLOOKUP(C2490,Referencias!$C$4:$E$21,3,FALSE())","v":3},"Competición","Madrileña"]
["2814672","Antolin Navarro, Ana","3P","D",{"$f":"VLOOKUP(C2491,Referencias!$C$4:$D$21,2,FALSE())","v":"Tercera Picas"},{"$f":"VLOOKUP(I2491,Referencias!$B$24:$C$41,2,FALSE())","v":"C.MAD"},{"$f":"VLOOKUP(C2491,Referencias!$C$4:$E$21,3,FALSE())","v":3},"Competición","Madrileña"]
["2814673","Masaveu Cardin, Inés","3D","D",{"$f":"VLOOKUP(C2492,Referencias!$C$4:$D$21,2,FALSE())","v":"Tercera Diamante"},{"$f":"VLOOKUP(I2492,Referencias!$B$24:$C$41,2,FALSE())","v":"C.MAD"},{"$f":"VLOOKUP(C2492,Referencias!$C$4:$E$21,3,FALSE())","v":3},"Competición","Madrileña"]
["2814676","Nieto de la Cierva, María","3P","D",{"$f":"VLOOKUP(C2493,Referencias!$C$4:$D$21,2,FALSE())","v":"Tercera Picas"},{"$f":"VLOOKUP(I2493,Referencias!$B$24:$C$41,2,FALSE())","v":"C.MAD"},{"$f":"VLOOKUP(C2493,Referencias!$C$4:$E$21,3,FALSE())","v":3},"Competición","Madrileña"]
["2814677","Milano Manias, Alexander","3D","C",{"$f":"VLOOKUP(C2494,Referencias!$C$4:$D$21,2,FALSE())","v":"Tercera Diamante"},{"$f":"VLOOKUP(I2494,Referencias!$B$24:$C$41,2,FALSE())","v":"C.MAD"},{"$f":"VLOOKUP(C2494,Referencias!$C$4:$E$21,3,FALSE())","v":3},"Competición","Madrileña"]
["2814680","de Torres Escudero, Sonsoles","3D","D",{"$f":"VLOOKUP(C2495,Referencias!$C$4:$D$21,2,FALSE())","v":"Tercera Diamante"},{"$f":"VLOOKUP(I2495,Referencias!$B$24:$C$41,2,FALSE())","v":"C.MAD"},{"$f":"VLOOKUP(C2495,Referencias!$C$4:$E$21,3,FALSE())","v":3},"Junior","Madrileña"]
["2814684","Jané Marimón, Sara","3D","D",{"$f":"VLOOKUP(C2496,Referencias!$C$4:$D$21,2,FALSE())","v":"Tercera Diamante"},{"$f":"VLOOKUP(I2496,Referencias!$B$24:$C$41,2,FALSE())","v":"C.MAD"},{"$f":"VLOOKUP(C2496,Referencias!$C$4:$E$21,3,FALSE())","v":3},"Junior","Madrileña"]
["2814690","Oscoz Prim, Ana","2D","D",{"$f":"VLOOKUP(C2497,Referencias!$C$4:$D$21,2,FALSE())","v":"Segunda Diamante"},{"$f":"VLOOKUP(I2497,Referencias!$B$24:$C$41,2,FALSE())","v":"C.MAD"},{"$f":"VLOOKUP(C2497,Referencias!$C$4:$E$21,3,FALSE())","v":2},"Competición","Madrileña"]
["2814691","Delgado Bellón, María José","2D","D",{"$f":"VLOOKUP(C2498,Referencias!$C$4:$D$21,2,FALSE())","v":"Segunda Diamante"},{"$f":"VLOOKUP(I2498,Referencias!$B$24:$C$41,2,FALSE())","v":"C.MAD"},{"$f":"VLOOKUP(C2498,Referencias!$C$4:$E$21,3,FALSE())","v":2},"Competición","Madrileña"]
["2814692","Marín Romano, María","3D","D",{"$f":"VLOOKUP(C2499,Referencias!$C$4:$D$21,2,FALSE())","v":"Tercera Diamante"},{"$f":"VLOOKUP(I2499,Referencias!$B$24:$C$41,2,FALSE())","v":"C.MAD"},{"$f":"VLOOKUP(C2499,Referencias!$C$4:$E$21,3,FALSE())","v":3},"Competición","Madrileña"]
["2814693","Alonso de Noriega Muñiz, Lucia","3C","D",{"$f":"VLOOKUP(C2500,Referencias!$C$4:$D$21,2,FALSE())","v":"Tercera Corazón"},{"$f":"VLOOKUP(I2500,Referencias!$B$24:$C$41,2,FALSE())","v":"C.MAD"},{"$f":"VLOOKUP(C2500,Referencias!$C$4:$E$21,3,FALSE())","v":3},"Competición","Madrileña"]
["2814694","Melgarejo Nardiz, Covadonga","3D","D",{"$f":"VLOOKUP(C2501,Referencias!$C$4:$D$21,2,FALSE())","v":"Tercera Diamante"},{"$f":"VLOOKUP(I2501,Referencias!$B$24:$C$41,2,FALSE())","v":"C.MAD"},{"$f":"VLOOKUP(C2501,Referencias!$C$4:$E$21,3,FALSE())","v":3},"Competición","Madrileña"]
["2814695","Romero Castaño, Lidia","3C","D",{"$f":"VLOOKUP(C2502,Referencias!$C$4:$D$21,2,FALSE())","v":"Tercera Corazón"},{"$f":"VLOOKUP(I2502,Referencias!$B$24:$C$41,2,FALSE())","v":"C.MAD"},{"$f":"VLOOKUP(C2502,Referencias!$C$4:$E$21,3,FALSE())","v":3},"Competición","Madrileña"]
["2814696","López Pereira, Luz María","3D","D",{"$f":"VLOOKUP(C2503,Referencias!$C$4:$D$21,2,FALSE())","v":"Tercera Diamante"},{"$f":"VLOOKUP(I2503,Referencias!$B$24:$C$41,2,FALSE())","v":"C.MAD"},{"$f":"VLOOKUP(C2503,Referencias!$C$4:$E$21,3,FALSE())","v":3},"Competición","Madrileña"]
["2814698","Bigeriego Suárez-Blanco, Leticia","1C","D",{"$f":"VLOOKUP(C2504,Referencias!$C$4:$D$21,2,FALSE())","v":"Primera Corazón"},{"$f":"VLOOKUP(I2504,Referencias!$B$24:$C$41,2,FALSE())","v":"C.MAD"},{"$f":"VLOOKUP(C2504,Referencias!$C$4:$E$21,3,FALSE())","v":1},"Competición","Madrileña"]
["2814699","Fernández Benito, Almudena","3D","D",{"$f":"VLOOKUP(C2505,Referencias!$C$4:$D$21,2,FALSE())","v":"Tercera Diamante"},{"$f":"VLOOKUP(I2505,Referencias!$B$24:$C$41,2,FALSE())","v":"C.MAD"},{"$f":"VLOOKUP(C2505,Referencias!$C$4:$E$21,3,FALSE())","v":3},"Competición","Madrileña"]
["2814700","Bigeriego Súarez-Blanco, Isabel","1D","D",{"$f":"VLOOKUP(C2506,Referencias!$C$4:$D$21,2,FALSE())","v":"Primera Diamante"},{"$f":"VLOOKUP(I2506,Referencias!$B$24:$C$41,2,FALSE())","v":"C.MAD"},{"$f":"VLOOKUP(C2506,Referencias!$C$4:$E$21,3,FALSE())","v":1},"Competición","Madrileña"]
["2814701","Tamames Redondo, Carlota","3D","D",{"$f":"VLOOKUP(C2507,Referencias!$C$4:$D$21,2,FALSE())","v":"Tercera Diamante"},{"$f":"VLOOKUP(I2507,Referencias!$B$24:$C$41,2,FALSE())","v":"C.MAD"},{"$f":"VLOOKUP(C2507,Referencias!$C$4:$E$21,3,FALSE())","v":3},"Competición","Madrileña"]
["2814702","Hollegha, Daniel","3D","C",{"$f":"VLOOKUP(C2508,Referencias!$C$4:$D$21,2,FALSE())","v":"Tercera Diamante"},{"$f":"VLOOKUP(I2508,Referencias!$B$24:$C$41,2,FALSE())","v":"C.MAD"},{"$f":"VLOOKUP(C2508,Referencias!$C$4:$E$21,3,FALSE())","v":3},"Competición","Madrileña"]
["2814703","Basagoiti González-Trevilla, Belén","3P","D",{"$f":"VLOOKUP(C2509,Referencias!$C$4:$D$21,2,FALSE())","v":"Tercera Picas"},{"$f":"VLOOKUP(I2509,Referencias!$B$24:$C$41,2,FALSE())","v":"C.MAD"},{"$f":"VLOOKUP(C2509,Referencias!$C$4:$E$21,3,FALSE())","v":3},"Competición","Madrileña"]
["2814704","Chicharro Vaca de Osma, María","3D","D",{"$f":"VLOOKUP(C2510,Referencias!$C$4:$D$21,2,FALSE())","v":"Tercera Diamante"},{"$f":"VLOOKUP(I2510,Referencias!$B$24:$C$41,2,FALSE())","v":"C.MAD"},{"$f":"VLOOKUP(C2510,Referencias!$C$4:$E$21,3,FALSE())","v":3},"Junior","Madrileña"]
["2814705","Uriarte Petrini, Camila","3D","D",{"$f":"VLOOKUP(C2511,Referencias!$C$4:$D$21,2,FALSE())","v":"Tercera Diamante"},{"$f":"VLOOKUP(I2511,Referencias!$B$24:$C$41,2,FALSE())","v":"C.MAD"},{"$f":"VLOOKUP(C2511,Referencias!$C$4:$E$21,3,FALSE())","v":3},"Junior","Madrileña"]
["2814706","Romero Puerto, Jimena","3D","D",{"$f":"VLOOKUP(C2512,Referencias!$C$4:$D$21,2,FALSE())","v":"Tercera Diamante"},{"$f":"VLOOKUP(I2512,Referencias!$B$24:$C$41,2,FALSE())","v":"C.MAD"},{"$f":"VLOOKUP(C2512,Referencias!$C$4:$E$21,3,FALSE())","v":3},"Junior","Madrileña"]
["2814707","Marín Navarro, Almudena","3D","D",{"$f":"VLOOKUP(C2513,Referencias!$C$4:$D$21,2,FALSE())","v":"Tercera Diamante"},{"$f":"VLOOKUP(I2513,Referencias!$B$24:$C$41,2,FALSE())","v":"C.MAD"},{"$f":"VLOOKUP(C2513,Referencias!$C$4:$E$21,3,FALSE())","v":3},"Junior","Madrileña"]
["2814708","de la Lastra Alvear, Javier","3D","C",{"$f":"VLOOKUP(C2514,Referencias!$C$4:$D$21,2,FALSE())","v":"Tercera Diamante"},{"$f":"VLOOKUP(I2514,Referencias!$B$24:$C$41,2,FALSE())","v":"C.MAD"},{"$f":"VLOOKUP(C2514,Referencias!$C$4:$E$21,3,FALSE())","v":3},"Junior","Madrileña"]
["2814709","de la Lastra Alvear, Lourdes","3D","D",{"$f":"VLOOKUP(C2515,Referencias!$C$4:$D$21,2,FALSE())","v":"Tercera Diamante"},{"$f":"VLOOKUP(I2515,Referencias!$B$24:$C$41,2,FALSE())","v":"C.MAD"},{"$f":"VLOOKUP(C2515,Referencias!$C$4:$E$21,3,FALSE())","v":3},"Junior","Madrileña"]
["2814711","de la Lastra Alvear, Borja","3D","C",{"$f":"VLOOKUP(C2516,Referencias!$C$4:$D$21,2,FALSE())","v":"Tercera Diamante"},{"$f":"VLOOKUP(I2516,Referencias!$B$24:$C$41,2,FALSE())","v":"C.MAD"},{"$f":"VLOOKUP(C2516,Referencias!$C$4:$E$21,3,FALSE())","v":3},"Junior","Madrileña"]
["2814712","Torres Basabe, Gabriel","2D","C",{"$f":"VLOOKUP(C2517,Referencias!$C$4:$D$21,2,FALSE())","v":"Segunda Diamante"},{"$f":"VLOOKUP(I2517,Referencias!$B$24:$C$41,2,FALSE())","v":"C.MAD"},{"$f":"VLOOKUP(C2517,Referencias!$C$4:$E$21,3,FALSE())","v":2},"Competición","Madrileña"]
["2814713","Rivera Ysasi-Ysasmendi, Joaquin","2D","C",{"$f":"VLOOKUP(C2518,Referencias!$C$4:$D$21,2,FALSE())","v":"Segunda Diamante"},{"$f":"VLOOKUP(I2518,Referencias!$B$24:$C$41,2,FALSE())","v":"C.MAD"},{"$f":"VLOOKUP(C2518,Referencias!$C$4:$E$21,3,FALSE())","v":2},"Competición","Madrileña"]
["2814715","Amo Fernández, Inmaculada","3D","D",{"$f":"VLOOKUP(C2519,Referencias!$C$4:$D$21,2,FALSE())","v":"Tercera Diamante"},{"$f":"VLOOKUP(I2519,Referencias!$B$24:$C$41,2,FALSE())","v":"C.MAD"},{"$f":"VLOOKUP(C2519,Referencias!$C$4:$E$21,3,FALSE())","v":3},"Competición","Madrileña"]
["2814716","Isla Álvarez de Tejera, Paloma","2C","D",{"$f":"VLOOKUP(C2520,Referencias!$C$4:$D$21,2,FALSE())","v":"Segunda Corazón"},{"$f":"VLOOKUP(I2520,Referencias!$B$24:$C$41,2,FALSE())","v":"C.MAD"},{"$f":"VLOOKUP(C2520,Referencias!$C$4:$E$21,3,FALSE())","v":2},"Competición","Madrileña"]
["2814717","Salto Sánchez, Fernando","2C","C",{"$f":"VLOOKUP(C2521,Referencias!$C$4:$D$21,2,FALSE())","v":"Segunda Corazón"},{"$f":"VLOOKUP(I2521,Referencias!$B$24:$C$41,2,FALSE())","v":"C.MAD"},{"$f":"VLOOKUP(C2521,Referencias!$C$4:$E$21,3,FALSE())","v":2},"Competición","Madrileña"]
["2814718","Gila Herranz, Inés","3D","D",{"$f":"VLOOKUP(C2522,Referencias!$C$4:$D$21,2,FALSE())","v":"Tercera Diamante"},{"$f":"VLOOKUP(I2522,Referencias!$B$24:$C$41,2,FALSE())","v":"C.MAD"},{"$f":"VLOOKUP(C2522,Referencias!$C$4:$E$21,3,FALSE())","v":3},"Junior","Madrileña"]
["2814719","Bisdikian, Diana","1D","D",{"$f":"VLOOKUP(C2523,Referencias!$C$4:$D$21,2,FALSE())","v":"Primera Diamante"},{"$f":"VLOOKUP(I2523,Referencias!$B$24:$C$41,2,FALSE())","v":"C.MAD"},{"$f":"VLOOKUP(C2523,Referencias!$C$4:$E$21,3,FALSE())","v":1},"Competición","Madrileña"]
["2814720","de la Cierva Moreno, Sofía","2C","D",{"$f":"VLOOKUP(C2524,Referencias!$C$4:$D$21,2,FALSE())","v":"Segunda Corazón"},{"$f":"VLOOKUP(I2524,Referencias!$B$24:$C$41,2,FALSE())","v":"C.MAD"},{"$f":"VLOOKUP(C2524,Referencias!$C$4:$E$21,3,FALSE())","v":2},"Competición","Madrileña"]
["2814721","Moreno de Borbón, Clara","3D","D",{"$f":"VLOOKUP(C2525,Referencias!$C$4:$D$21,2,FALSE())","v":"Tercera Diamante"},{"$f":"VLOOKUP(I2525,Referencias!$B$24:$C$41,2,FALSE())","v":"C.MAD"},{"$f":"VLOOKUP(C2525,Referencias!$C$4:$E$21,3,FALSE())","v":3},"Competición","Madrileña"]
["2814722","Cesteros Fernández, Miguel","3D","C",{"$f":"VLOOKUP(C2526,Referencias!$C$4:$D$21,2,FALSE())","v":"Tercera Diamante"},{"$f":"VLOOKUP(I2526,Referencias!$B$24:$C$41,2,FALSE())","v":"C.MAD"},{"$f":"VLOOKUP(C2526,Referencias!$C$4:$E$21,3,FALSE())","v":3},"Competición","Madrileña"]
["2814723","Soriano de Torres, Amelia","3D","D",{"$f":"VLOOKUP(C2527,Referencias!$C$4:$D$21,2,FALSE())","v":"Tercera Diamante"},{"$f":"VLOOKUP(I2527,Referencias!$B$24:$C$41,2,FALSE())","v":"C.MAD"},{"$f":"VLOOKUP(C2527,Referencias!$C$4:$E$21,3,FALSE())","v":3},"Competición","Madrileña"]
["2814725","Fraile Rodríguez, Guadalupe","3D","D",{"$f":"VLOOKUP(C2528,Referencias!$C$4:$D$21,2,FALSE())","v":"Tercera Diamante"},{"$f":"VLOOKUP(I2528,Referencias!$B$24:$C$41,2,FALSE())","v":"C.MAD"},{"$f":"VLOOKUP(C2528,Referencias!$C$4:$E$21,3,FALSE())","v":3},"Competición","Madrileña"]
["2814726","Saínz Armada, Pilar","3P","D",{"$f":"VLOOKUP(C2529,Referencias!$C$4:$D$21,2,FALSE())","v":"Tercera Picas"},{"$f":"VLOOKUP(I2529,Referencias!$B$24:$C$41,2,FALSE())","v":"C.MAD"},{"$f":"VLOOKUP(C2529,Referencias!$C$4:$E$21,3,FALSE())","v":3},"Competición","Madrileña"]
["2814727","Fernández de Bobadilla Ivisón, Blanca","3D","D",{"$f":"VLOOKUP(C2530,Referencias!$C$4:$D$21,2,FALSE())","v":"Tercera Diamante"},{"$f":"VLOOKUP(I2530,Referencias!$B$24:$C$41,2,FALSE())","v":"C.MAD"},{"$f":"VLOOKUP(C2530,Referencias!$C$4:$E$21,3,FALSE())","v":3},"Competición","Madrileña"]
["2814728","Ozores Aguirre, Pastora","3D","D",{"$f":"VLOOKUP(C2531,Referencias!$C$4:$D$21,2,FALSE())","v":"Tercera Diamante"},{"$f":"VLOOKUP(I2531,Referencias!$B$24:$C$41,2,FALSE())","v":"C.MAD"},{"$f":"VLOOKUP(C2531,Referencias!$C$4:$E$21,3,FALSE())","v":3},"Competición","Madrileña"]
["2814731","Sánz-Briz Quijano, Pilar","3D","D",{"$f":"VLOOKUP(C2532,Referencias!$C$4:$D$21,2,FALSE())","v":"Tercera Diamante"},{"$f":"VLOOKUP(I2532,Referencias!$B$24:$C$41,2,FALSE())","v":"C.MAD"},{"$f":"VLOOKUP(C2532,Referencias!$C$4:$E$21,3,FALSE())","v":3},"Competición","Madrileña"]
["2814732","Wilda, Krzysztof Marek","2C","C",{"$f":"VLOOKUP(C2533,Referencias!$C$4:$D$21,2,FALSE())","v":"Segunda Corazón"},{"$f":"VLOOKUP(I2533,Referencias!$B$24:$C$41,2,FALSE())","v":"C.MAD"},{"$f":"VLOOKUP(C2533,Referencias!$C$4:$E$21,3,FALSE())","v":2},"Competición","Madrileña"]
["2814736","De Jaureguízar, Marquesa","2C","D",{"$f":"VLOOKUP(C2534,Referencias!$C$4:$D$21,2,FALSE())","v":"Segunda Corazón"},{"$f":"VLOOKUP(I2534,Referencias!$B$24:$C$41,2,FALSE())","v":"C.MAD"},{"$f":"VLOOKUP(C2534,Referencias!$C$4:$E$21,3,FALSE())","v":2},"Competición","Madrileña"]
["2814739","Ladrón de Guevara Rovira, Lina","3D","D",{"$f":"VLOOKUP(C2535,Referencias!$C$4:$D$21,2,FALSE())","v":"Tercera Diamante"},{"$f":"VLOOKUP(I2535,Referencias!$B$24:$C$41,2,FALSE())","v":"C.MAD"},{"$f":"VLOOKUP(C2535,Referencias!$C$4:$E$21,3,FALSE())","v":3},"Competición","Madrileña"]
["2814740","Quintian Rodríguez, María Antonia","1D","D",{"$f":"VLOOKUP(C2536,Referencias!$C$4:$D$21,2,FALSE())","v":"Primera Diamante"},{"$f":"VLOOKUP(I2536,Referencias!$B$24:$C$41,2,FALSE())","v":"C.MAD"},{"$f":"VLOOKUP(C2536,Referencias!$C$4:$E$21,3,FALSE())","v":1},"Competición","Madrileña"]
["2814741","Suárez García, Paloma","1P","D",{"$f":"VLOOKUP(C2537,Referencias!$C$4:$D$21,2,FALSE())","v":"Primera Picas"},{"$f":"VLOOKUP(I2537,Referencias!$B$24:$C$41,2,FALSE())","v":"C.MAD"},{"$f":"VLOOKUP(C2537,Referencias!$C$4:$E$21,3,FALSE())","v":1},"Competición","Madrileña"]
["2814742","Buteica, Amelia Persida","1P","D",{"$f":"VLOOKUP(C2538,Referencias!$C$4:$D$21,2,FALSE())","v":"Primera Picas"},{"$f":"VLOOKUP(I2538,Referencias!$B$24:$C$41,2,FALSE())","v":"C.MAD"},{"$f":"VLOOKUP(C2538,Referencias!$C$4:$E$21,3,FALSE())","v":1},"Competición","Madrileña"]
["2814745","Pagola Saenz, José","3D","C",{"$f":"VLOOKUP(C2539,Referencias!$C$4:$D$21,2,FALSE())","v":"Tercera Diamante"},{"$f":"VLOOKUP(I2539,Referencias!$B$24:$C$41,2,FALSE())","v":"C.MAD"},{"$f":"VLOOKUP(C2539,Referencias!$C$4:$E$21,3,FALSE())","v":3},"Competición","Madrileña"]
["2814746","García Romero, Ernestina","2C","D",{"$f":"VLOOKUP(C2540,Referencias!$C$4:$D$21,2,FALSE())","v":"Segunda Corazón"},{"$f":"VLOOKUP(I2540,Referencias!$B$24:$C$41,2,FALSE())","v":"C.MAD"},{"$f":"VLOOKUP(C2540,Referencias!$C$4:$E$21,3,FALSE())","v":2},"Competición","Madrileña"]
["2814747","Alonso Álvarez, María","3D","D",{"$f":"VLOOKUP(C2541,Referencias!$C$4:$D$21,2,FALSE())","v":"Tercera Diamante"},{"$f":"VLOOKUP(I2541,Referencias!$B$24:$C$41,2,FALSE())","v":"C.MAD"},{"$f":"VLOOKUP(C2541,Referencias!$C$4:$E$21,3,FALSE())","v":3},"Competición","Madrileña"]
["2814749","Herranz Méndez, María José","3D","D",{"$f":"VLOOKUP(C2542,Referencias!$C$4:$D$21,2,FALSE())","v":"Tercera Diamante"},{"$f":"VLOOKUP(I2542,Referencias!$B$24:$C$41,2,FALSE())","v":"C.MAD"},{"$f":"VLOOKUP(C2542,Referencias!$C$4:$E$21,3,FALSE())","v":3},"Competición","Madrileña"]
["2814750","Potsch, Andreas","2D","C",{"$f":"VLOOKUP(C2543,Referencias!$C$4:$D$21,2,FALSE())","v":"Segunda Diamante"},{"$f":"VLOOKUP(I2543,Referencias!$B$24:$C$41,2,FALSE())","v":"C.MAD"},{"$f":"VLOOKUP(C2543,Referencias!$C$4:$E$21,3,FALSE())","v":2},"Competición","Madrileña"]
["2814752","Barrios Robredo, María Jesús","3D","D",{"$f":"VLOOKUP(C2544,Referencias!$C$4:$D$21,2,FALSE())","v":"Tercera Diamante"},{"$f":"VLOOKUP(I2544,Referencias!$B$24:$C$41,2,FALSE())","v":"C.MAD"},{"$f":"VLOOKUP(C2544,Referencias!$C$4:$E$21,3,FALSE())","v":3},"Competición","Madrileña"]
["2814753","Sierra Pizarro, Raquel","3C","D",{"$f":"VLOOKUP(C2545,Referencias!$C$4:$D$21,2,FALSE())","v":"Tercera Corazón"},{"$f":"VLOOKUP(I2545,Referencias!$B$24:$C$41,2,FALSE())","v":"C.MAD"},{"$f":"VLOOKUP(C2545,Referencias!$C$4:$E$21,3,FALSE())","v":3},"Competición","Madrileña"]
["2814754","Díaz Rodríguez -Valdés, Clara","3D","D",{"$f":"VLOOKUP(C2546,Referencias!$C$4:$D$21,2,FALSE())","v":"Tercera Diamante"},{"$f":"VLOOKUP(I2546,Referencias!$B$24:$C$41,2,FALSE())","v":"C.MAD"},{"$f":"VLOOKUP(C2546,Referencias!$C$4:$E$21,3,FALSE())","v":3},"Competición","Madrileña"]
["2814755","Gómez-Pallete Alonso, Pilar","3P","D",{"$f":"VLOOKUP(C2547,Referencias!$C$4:$D$21,2,FALSE())","v":"Tercera Picas"},{"$f":"VLOOKUP(I2547,Referencias!$B$24:$C$41,2,FALSE())","v":"C.MAD"},{"$f":"VLOOKUP(C2547,Referencias!$C$4:$E$21,3,FALSE())","v":3},"Competición","Madrileña"]
["2814756","Labayen Latorre, Pilar","2C","D",{"$f":"VLOOKUP(C2548,Referencias!$C$4:$D$21,2,FALSE())","v":"Segunda Corazón"},{"$f":"VLOOKUP(I2548,Referencias!$B$24:$C$41,2,FALSE())","v":"C.MAD"},{"$f":"VLOOKUP(C2548,Referencias!$C$4:$E$21,3,FALSE())","v":2},"Competición","Madrileña"]
["2814757","Martí Navarro, Pilar","3D","D",{"$f":"VLOOKUP(C2549,Referencias!$C$4:$D$21,2,FALSE())","v":"Tercera Diamante"},{"$f":"VLOOKUP(I2549,Referencias!$B$24:$C$41,2,FALSE())","v":"C.MAD"},{"$f":"VLOOKUP(C2549,Referencias!$C$4:$E$21,3,FALSE())","v":3},"Competición","Madrileña"]
["2814758","de la Vega Berge, Rosario","3D","D",{"$f":"VLOOKUP(C2550,Referencias!$C$4:$D$21,2,FALSE())","v":"Tercera Diamante"},{"$f":"VLOOKUP(I2550,Referencias!$B$24:$C$41,2,FALSE())","v":"C.MAD"},{"$f":"VLOOKUP(C2550,Referencias!$C$4:$E$21,3,FALSE())","v":3},"Competición","Madrileña"]
["2814762","Burgo García, Agustina","3D","D",{"$f":"VLOOKUP(C2551,Referencias!$C$4:$D$21,2,FALSE())","v":"Tercera Diamante"},{"$f":"VLOOKUP(I2551,Referencias!$B$24:$C$41,2,FALSE())","v":"C.MAD"},{"$f":"VLOOKUP(C2551,Referencias!$C$4:$E$21,3,FALSE())","v":3},"Competición","Madrileña"]
["2814764","Jiménez Sanches, María Luz","3D","D",{"$f":"VLOOKUP(C2552,Referencias!$C$4:$D$21,2,FALSE())","v":"Tercera Diamante"},{"$f":"VLOOKUP(I2552,Referencias!$B$24:$C$41,2,FALSE())","v":"C.MAD"},{"$f":"VLOOKUP(C2552,Referencias!$C$4:$E$21,3,FALSE())","v":3},"Competición","Madrileña"]
["2814766","Lasso de la Vega Borja, Gonzalo","3P","C",{"$f":"VLOOKUP(C2553,Referencias!$C$4:$D$21,2,FALSE())","v":"Tercera Picas"},{"$f":"VLOOKUP(I2553,Referencias!$B$24:$C$41,2,FALSE())","v":"C.MAD"},{"$f":"VLOOKUP(C2553,Referencias!$C$4:$E$21,3,FALSE())","v":3},"Competición","Madrileña"]
["2814767","Lafuente Blanco, Ana María","3D","D",{"$f":"VLOOKUP(C2554,Referencias!$C$4:$D$21,2,FALSE())","v":"Tercera Diamante"},{"$f":"VLOOKUP(I2554,Referencias!$B$24:$C$41,2,FALSE())","v":"C.MAD"},{"$f":"VLOOKUP(C2554,Referencias!$C$4:$E$21,3,FALSE())","v":3},"Competición","Madrileña"]
["2814768","Liang Zhou, Jianguo","3D","C",{"$f":"VLOOKUP(C2555,Referencias!$C$4:$D$21,2,FALSE())","v":"Tercera Diamante"},{"$f":"VLOOKUP(I2555,Referencias!$B$24:$C$41,2,FALSE())","v":"C.MAD"},{"$f":"VLOOKUP(C2555,Referencias!$C$4:$E$21,3,FALSE())","v":3},"Competición","Madrileña"]
["2814771","Azcárraga Gonzalo, Paz","3P","D",{"$f":"VLOOKUP(C2556,Referencias!$C$4:$D$21,2,FALSE())","v":"Tercera Picas"},{"$f":"VLOOKUP(I2556,Referencias!$B$24:$C$41,2,FALSE())","v":"C.MAD"},{"$f":"VLOOKUP(C2556,Referencias!$C$4:$E$21,3,FALSE())","v":3},"Competición","Madrileña"]
["2814772","de Ena de la Cuesta, Sol","3C","D",{"$f":"VLOOKUP(C2557,Referencias!$C$4:$D$21,2,FALSE())","v":"Tercera Corazón"},{"$f":"VLOOKUP(I2557,Referencias!$B$24:$C$41,2,FALSE())","v":"C.MAD"},{"$f":"VLOOKUP(C2557,Referencias!$C$4:$E$21,3,FALSE())","v":3},"Competición","Madrileña"]
["2814774","Soriano Saavedra, María Eugenia","3D","D",{"$f":"VLOOKUP(C2558,Referencias!$C$4:$D$21,2,FALSE())","v":"Tercera Diamante"},{"$f":"VLOOKUP(I2558,Referencias!$B$24:$C$41,2,FALSE())","v":"C.MAD"},{"$f":"VLOOKUP(C2558,Referencias!$C$4:$E$21,3,FALSE())","v":3},"Competición","Madrileña"]
["2814777","Barandica Fernández, Ana María","3D","D",{"$f":"VLOOKUP(C2559,Referencias!$C$4:$D$21,2,FALSE())","v":"Tercera Diamante"},{"$f":"VLOOKUP(I2559,Referencias!$B$24:$C$41,2,FALSE())","v":"C.MAD"},{"$f":"VLOOKUP(C2559,Referencias!$C$4:$E$21,3,FALSE())","v":3},"Competición","Madrileña"]
["2814778","Hernández Santonja, Jorge","3D","C",{"$f":"VLOOKUP(C2560,Referencias!$C$4:$D$21,2,FALSE())","v":"Tercera Diamante"},{"$f":"VLOOKUP(I2560,Referencias!$B$24:$C$41,2,FALSE())","v":"C.MAD"},{"$f":"VLOOKUP(C2560,Referencias!$C$4:$E$21,3,FALSE())","v":3},"Competición","Madrileña"]
["2814779","Martínez Chapa, Álvaro","3P","C",{"$f":"VLOOKUP(C2561,Referencias!$C$4:$D$21,2,FALSE())","v":"Tercera Picas"},{"$f":"VLOOKUP(I2561,Referencias!$B$24:$C$41,2,FALSE())","v":"C.MAD"},{"$f":"VLOOKUP(C2561,Referencias!$C$4:$E$21,3,FALSE())","v":3},"Competición","Madrileña"]
["2814780","Barrera Pérez-Seoane, Isabel","3P","D",{"$f":"VLOOKUP(C2562,Referencias!$C$4:$D$21,2,FALSE())","v":"Tercera Picas"},{"$f":"VLOOKUP(I2562,Referencias!$B$24:$C$41,2,FALSE())","v":"C.MAD"},{"$f":"VLOOKUP(C2562,Referencias!$C$4:$E$21,3,FALSE())","v":3},"Competición","Madrileña"]
["2814781","Cubillo Rivera, Teresa","3D","D",{"$f":"VLOOKUP(C2563,Referencias!$C$4:$D$21,2,FALSE())","v":"Tercera Diamante"},{"$f":"VLOOKUP(I2563,Referencias!$B$24:$C$41,2,FALSE())","v":"C.MAD"},{"$f":"VLOOKUP(C2563,Referencias!$C$4:$E$21,3,FALSE())","v":3},"Junior","Madrileña"]
["2814782","Pardo Serrano, Leopoldo","3D","C",{"$f":"VLOOKUP(C2564,Referencias!$C$4:$D$21,2,FALSE())","v":"Tercera Diamante"},{"$f":"VLOOKUP(I2564,Referencias!$B$24:$C$41,2,FALSE())","v":"C.MAD"},{"$f":"VLOOKUP(C2564,Referencias!$C$4:$E$21,3,FALSE())","v":3},"Competición","Madrileña"]
["2814783","Sáez de Ocariz Díaz de Otazu, Lola","3C","D",{"$f":"VLOOKUP(C2565,Referencias!$C$4:$D$21,2,FALSE())","v":"Tercera Corazón"},{"$f":"VLOOKUP(I2565,Referencias!$B$24:$C$41,2,FALSE())","v":"C.MAD"},{"$f":"VLOOKUP(C2565,Referencias!$C$4:$E$21,3,FALSE())","v":3},"Competición","Madrileña"]
["2814784","Espinosa de los Monteros, María Eugenía","3D","D",{"$f":"VLOOKUP(C2566,Referencias!$C$4:$D$21,2,FALSE())","v":"Tercera Diamante"},{"$f":"VLOOKUP(I2566,Referencias!$B$24:$C$41,2,FALSE())","v":"C.MAD"},{"$f":"VLOOKUP(C2566,Referencias!$C$4:$E$21,3,FALSE())","v":3},"Competición","Madrileña"]
["2814785","Arce Montiel, Carmen","3D","D",{"$f":"VLOOKUP(C2567,Referencias!$C$4:$D$21,2,FALSE())","v":"Tercera Diamante"},{"$f":"VLOOKUP(I2567,Referencias!$B$24:$C$41,2,FALSE())","v":"C.MAD"},{"$f":"VLOOKUP(C2567,Referencias!$C$4:$E$21,3,FALSE())","v":3},"Competición","Madrileña"]
["2814787","Ruiz-Jarabo Ferrán, Emilio","3P","C",{"$f":"VLOOKUP(C2568,Referencias!$C$4:$D$21,2,FALSE())","v":"Tercera Picas"},{"$f":"VLOOKUP(I2568,Referencias!$B$24:$C$41,2,FALSE())","v":"C.MAD"},{"$f":"VLOOKUP(C2568,Referencias!$C$4:$E$21,3,FALSE())","v":3},"Competición","Madrileña"]
["2814789","Marin Riaño, Fernando","3D","C",{"$f":"VLOOKUP(C2569,Referencias!$C$4:$D$21,2,FALSE())","v":"Tercera Diamante"},{"$f":"VLOOKUP(I2569,Referencias!$B$24:$C$41,2,FALSE())","v":"C.MAD"},{"$f":"VLOOKUP(C2569,Referencias!$C$4:$E$21,3,FALSE())","v":3},"Competición","Madrileña"]
["2814790","Pérez Marcos, Regina","3D","D",{"$f":"VLOOKUP(C2570,Referencias!$C$4:$D$21,2,FALSE())","v":"Tercera Diamante"},{"$f":"VLOOKUP(I2570,Referencias!$B$24:$C$41,2,FALSE())","v":"C.MAD"},{"$f":"VLOOKUP(C2570,Referencias!$C$4:$E$21,3,FALSE())","v":3},"Competición","Madrileña"]
["2814791","Muñoz Jaureguialzo, Irene","3D","D",{"$f":"VLOOKUP(C2571,Referencias!$C$4:$D$21,2,FALSE())","v":"Tercera Diamante"},{"$f":"VLOOKUP(I2571,Referencias!$B$24:$C$41,2,FALSE())","v":"C.MAD"},{"$f":"VLOOKUP(C2571,Referencias!$C$4:$E$21,3,FALSE())","v":3},"Competición","Madrileña"]
["2814792","Larsen, Folke","3D","C",{"$f":"VLOOKUP(C2572,Referencias!$C$4:$D$21,2,FALSE())","v":"Tercera Diamante"},{"$f":"VLOOKUP(I2572,Referencias!$B$24:$C$41,2,FALSE())","v":"C.MAD"},{"$f":"VLOOKUP(C2572,Referencias!$C$4:$E$21,3,FALSE())","v":3},"Competición","Madrileña"]
["2814794","Martín, Marta","3C","D",{"$f":"VLOOKUP(C2573,Referencias!$C$4:$D$21,2,FALSE())","v":"Tercera Corazón"},{"$f":"VLOOKUP(I2573,Referencias!$B$24:$C$41,2,FALSE())","v":"C.MAD"},{"$f":"VLOOKUP(C2573,Referencias!$C$4:$E$21,3,FALSE())","v":3},"Competición","Madrileña"]
["2814797","Ulla Marguita, Larsen","3D","D",{"$f":"VLOOKUP(C2574,Referencias!$C$4:$D$21,2,FALSE())","v":"Tercera Diamante"},{"$f":"VLOOKUP(I2574,Referencias!$B$24:$C$41,2,FALSE())","v":"C.MAD"},{"$f":"VLOOKUP(C2574,Referencias!$C$4:$E$21,3,FALSE())","v":3},"Competición","Madrileña"]
["2814798","García de Ceca Benito, Paloma","3D","D",{"$f":"VLOOKUP(C2575,Referencias!$C$4:$D$21,2,FALSE())","v":"Tercera Diamante"},{"$f":"VLOOKUP(I2575,Referencias!$B$24:$C$41,2,FALSE())","v":"C.MAD"},{"$f":"VLOOKUP(C2575,Referencias!$C$4:$E$21,3,FALSE())","v":3},"Competición","Madrileña"]
["2814799","Ansa Urnoz, Uxua","3D","D",{"$f":"VLOOKUP(C2576,Referencias!$C$4:$D$21,2,FALSE())","v":"Tercera Diamante"},{"$f":"VLOOKUP(I2576,Referencias!$B$24:$C$41,2,FALSE())","v":"C.MAD"},{"$f":"VLOOKUP(C2576,Referencias!$C$4:$E$21,3,FALSE())","v":3},"Competición","Madrileña"]
["2814800","Cendra Aparicio, Paloma","3D","D",{"$f":"VLOOKUP(C2577,Referencias!$C$4:$D$21,2,FALSE())","v":"Tercera Diamante"},{"$f":"VLOOKUP(I2577,Referencias!$B$24:$C$41,2,FALSE())","v":"C.MAD"},{"$f":"VLOOKUP(C2577,Referencias!$C$4:$E$21,3,FALSE())","v":3},"Competición","Madrileña"]
["2814801","Moriano Mallo, Lucia","3D","D",{"$f":"VLOOKUP(C2578,Referencias!$C$4:$D$21,2,FALSE())","v":"Tercera Diamante"},{"$f":"VLOOKUP(I2578,Referencias!$B$24:$C$41,2,FALSE())","v":"C.MAD"},{"$f":"VLOOKUP(C2578,Referencias!$C$4:$E$21,3,FALSE())","v":3},"Competición","Madrileña"]
["2814802","Merry del Val Diez de Rivera, Pedro","3D","C",{"$f":"VLOOKUP(C2579,Referencias!$C$4:$D$21,2,FALSE())","v":"Tercera Diamante"},{"$f":"VLOOKUP(I2579,Referencias!$B$24:$C$41,2,FALSE())","v":"C.MAD"},{"$f":"VLOOKUP(C2579,Referencias!$C$4:$E$21,3,FALSE())","v":3},"Competición","Madrileña"]
["2814803","Fernández del Castillo Suardiaz, Virginia","3D","D",{"$f":"VLOOKUP(C2580,Referencias!$C$4:$D$21,2,FALSE())","v":"Tercera Diamante"},{"$f":"VLOOKUP(I2580,Referencias!$B$24:$C$41,2,FALSE())","v":"C.MAD"},{"$f":"VLOOKUP(C2580,Referencias!$C$4:$E$21,3,FALSE())","v":3},"Competición","Madrileña"]
["2814804","Bauluz Sabras, María Luisa","3D","D",{"$f":"VLOOKUP(C2581,Referencias!$C$4:$D$21,2,FALSE())","v":"Tercera Diamante"},{"$f":"VLOOKUP(I2581,Referencias!$B$24:$C$41,2,FALSE())","v":"C.MAD"},{"$f":"VLOOKUP(C2581,Referencias!$C$4:$E$21,3,FALSE())","v":3},"Competición","Madrileña"]
["2814805","Frowein López de Arenosa, Carmen","3P","D",{"$f":"VLOOKUP(C2582,Referencias!$C$4:$D$21,2,FALSE())","v":"Tercera Picas"},{"$f":"VLOOKUP(I2582,Referencias!$B$24:$C$41,2,FALSE())","v":"C.MAD"},{"$f":"VLOOKUP(C2582,Referencias!$C$4:$E$21,3,FALSE())","v":3},"Competición","Madrileña"]
["2814806","Díaz Cremades, Miguel Angel","3D","C",{"$f":"VLOOKUP(C2583,Referencias!$C$4:$D$21,2,FALSE())","v":"Tercera Diamante"},{"$f":"VLOOKUP(I2583,Referencias!$B$24:$C$41,2,FALSE())","v":"C.MAD"},{"$f":"VLOOKUP(C2583,Referencias!$C$4:$E$21,3,FALSE())","v":3},"Competición","Madrileña"]
["2814807","García de la Vega Ysasi-Ysasmendi, Mercedes","3C","D",{"$f":"VLOOKUP(C2584,Referencias!$C$4:$D$21,2,FALSE())","v":"Tercera Corazón"},{"$f":"VLOOKUP(I2584,Referencias!$B$24:$C$41,2,FALSE())","v":"C.MAD"},{"$f":"VLOOKUP(C2584,Referencias!$C$4:$E$21,3,FALSE())","v":3},"Competición","Madrileña"]
["2814808","Aparicio Alonso, María Paloma","3P","D",{"$f":"VLOOKUP(C2585,Referencias!$C$4:$D$21,2,FALSE())","v":"Tercera Picas"},{"$f":"VLOOKUP(I2585,Referencias!$B$24:$C$41,2,FALSE())","v":"C.MAD"},{"$f":"VLOOKUP(C2585,Referencias!$C$4:$E$21,3,FALSE())","v":3},"Competición","Madrileña"]
["2814809","García de la Vega Ysasi Ysasmendi, Pachela","2D","D",{"$f":"VLOOKUP(C2586,Referencias!$C$4:$D$21,2,FALSE())","v":"Segunda Diamante"},{"$f":"VLOOKUP(I2586,Referencias!$B$24:$C$41,2,FALSE())","v":"C.MAD"},{"$f":"VLOOKUP(C2586,Referencias!$C$4:$E$21,3,FALSE())","v":2},"Competición","Madrileña"]
["2814811","Igartúa Narvaiza, María Luisa","3D","D",{"$f":"VLOOKUP(C2587,Referencias!$C$4:$D$21,2,FALSE())","v":"Tercera Diamante"},{"$f":"VLOOKUP(I2587,Referencias!$B$24:$C$41,2,FALSE())","v":"C.MAD"},{"$f":"VLOOKUP(C2587,Referencias!$C$4:$E$21,3,FALSE())","v":3},"Competición","Madrileña"]
["2814812","Muela Pérez, María Victoria","3D","D",{"$f":"VLOOKUP(C2588,Referencias!$C$4:$D$21,2,FALSE())","v":"Tercera Diamante"},{"$f":"VLOOKUP(I2588,Referencias!$B$24:$C$41,2,FALSE())","v":"C.MAD"},{"$f":"VLOOKUP(C2588,Referencias!$C$4:$E$21,3,FALSE())","v":3},"Competición","Madrileña"]
["2814813","García Bergas, Guadalupe","3D","D",{"$f":"VLOOKUP(C2589,Referencias!$C$4:$D$21,2,FALSE())","v":"Tercera Diamante"},{"$f":"VLOOKUP(I2589,Referencias!$B$24:$C$41,2,FALSE())","v":"C.MAD"},{"$f":"VLOOKUP(C2589,Referencias!$C$4:$E$21,3,FALSE())","v":3},"Competición","Madrileña"]
["2814814","Chico de Guzmán Girón, Concepción","3D","D",{"$f":"VLOOKUP(C2590,Referencias!$C$4:$D$21,2,FALSE())","v":"Tercera Diamante"},{"$f":"VLOOKUP(I2590,Referencias!$B$24:$C$41,2,FALSE())","v":"C.MAD"},{"$f":"VLOOKUP(C2590,Referencias!$C$4:$E$21,3,FALSE())","v":3},"Competición","Madrileña"]
["2814815","de la Peña Robles, Almudena","3C","D",{"$f":"VLOOKUP(C2591,Referencias!$C$4:$D$21,2,FALSE())","v":"Tercera Corazón"},{"$f":"VLOOKUP(I2591,Referencias!$B$24:$C$41,2,FALSE())","v":"C.MAD"},{"$f":"VLOOKUP(C2591,Referencias!$C$4:$E$21,3,FALSE())","v":3},"Competición","Madrileña"]
["2814816","González-Aller Jurado, Rocío","3D","D",{"$f":"VLOOKUP(C2592,Referencias!$C$4:$D$21,2,FALSE())","v":"Tercera Diamante"},{"$f":"VLOOKUP(I2592,Referencias!$B$24:$C$41,2,FALSE())","v":"C.MAD"},{"$f":"VLOOKUP(C2592,Referencias!$C$4:$E$21,3,FALSE())","v":3},"Competición","Madrileña"]
["2814818","Tornos Oliveros, Begoña","3D","D",{"$f":"VLOOKUP(C2593,Referencias!$C$4:$D$21,2,FALSE())","v":"Tercera Diamante"},{"$f":"VLOOKUP(I2593,Referencias!$B$24:$C$41,2,FALSE())","v":"C.MAD"},{"$f":"VLOOKUP(C2593,Referencias!$C$4:$E$21,3,FALSE())","v":3},"Competición","Madrileña"]
["2814821","Ruiz Castellano, Matilde","3D","D",{"$f":"VLOOKUP(C2594,Referencias!$C$4:$D$21,2,FALSE())","v":"Tercera Diamante"},{"$f":"VLOOKUP(I2594,Referencias!$B$24:$C$41,2,FALSE())","v":"C.MAD"},{"$f":"VLOOKUP(C2594,Referencias!$C$4:$E$21,3,FALSE())","v":3},"Competición","Madrileña"]
["2814823","Merino Sánz, María Victoria","3D","D",{"$f":"VLOOKUP(C2595,Referencias!$C$4:$D$21,2,FALSE())","v":"Tercera Diamante"},{"$f":"VLOOKUP(I2595,Referencias!$B$24:$C$41,2,FALSE())","v":"C.MAD"},{"$f":"VLOOKUP(C2595,Referencias!$C$4:$E$21,3,FALSE())","v":3},"Competición","Madrileña"]
["2814824","Lucena Cuerda, Concha","3C","D",{"$f":"VLOOKUP(C2596,Referencias!$C$4:$D$21,2,FALSE())","v":"Tercera Corazón"},{"$f":"VLOOKUP(I2596,Referencias!$B$24:$C$41,2,FALSE())","v":"C.MAD"},{"$f":"VLOOKUP(C2596,Referencias!$C$4:$E$21,3,FALSE())","v":3},"Competición","Madrileña"]
["2814825","de Olano Moliner, María Jesús","3D","D",{"$f":"VLOOKUP(C2597,Referencias!$C$4:$D$21,2,FALSE())","v":"Tercera Diamante"},{"$f":"VLOOKUP(I2597,Referencias!$B$24:$C$41,2,FALSE())","v":"C.MAD"},{"$f":"VLOOKUP(C2597,Referencias!$C$4:$E$21,3,FALSE())","v":3},"Competición","Madrileña"]
["2814828","Alonso Fernández, María Aurora","3D","D",{"$f":"VLOOKUP(C2598,Referencias!$C$4:$D$21,2,FALSE())","v":"Tercera Diamante"},{"$f":"VLOOKUP(I2598,Referencias!$B$24:$C$41,2,FALSE())","v":"C.MAD"},{"$f":"VLOOKUP(C2598,Referencias!$C$4:$E$21,3,FALSE())","v":3},"Competición","Madrileña"]
["2814829","Foulquie Usan, Juan Miguel","3D","C",{"$f":"VLOOKUP(C2599,Referencias!$C$4:$D$21,2,FALSE())","v":"Tercera Diamante"},{"$f":"VLOOKUP(I2599,Referencias!$B$24:$C$41,2,FALSE())","v":"C.MAD"},{"$f":"VLOOKUP(C2599,Referencias!$C$4:$E$21,3,FALSE())","v":3},"Competición","Madrileña"]
["2814830","Chesa Padrón, María Dolores","3D","D",{"$f":"VLOOKUP(C2600,Referencias!$C$4:$D$21,2,FALSE())","v":"Tercera Diamante"},{"$f":"VLOOKUP(I2600,Referencias!$B$24:$C$41,2,FALSE())","v":"C.MAD"},{"$f":"VLOOKUP(C2600,Referencias!$C$4:$E$21,3,FALSE())","v":3},"Competición","Madrileña"]
["2814833","de la Mora Ojanguren, Virginia","3D","D",{"$f":"VLOOKUP(C2601,Referencias!$C$4:$D$21,2,FALSE())","v":"Tercera Diamante"},{"$f":"VLOOKUP(I2601,Referencias!$B$24:$C$41,2,FALSE())","v":"C.MAD"},{"$f":"VLOOKUP(C2601,Referencias!$C$4:$E$21,3,FALSE())","v":3},"Competición","Madrileña"]
["2814834","Aresti Múgica, Leonor","3P","D",{"$f":"VLOOKUP(C2602,Referencias!$C$4:$D$21,2,FALSE())","v":"Tercera Picas"},{"$f":"VLOOKUP(I2602,Referencias!$B$24:$C$41,2,FALSE())","v":"C.MAD"},{"$f":"VLOOKUP(C2602,Referencias!$C$4:$E$21,3,FALSE())","v":3},"Competición","Madrileña"]
["2814837","Fernández Rodríguez, María Jesús","3D","D",{"$f":"VLOOKUP(C2603,Referencias!$C$4:$D$21,2,FALSE())","v":"Tercera Diamante"},{"$f":"VLOOKUP(I2603,Referencias!$B$24:$C$41,2,FALSE())","v":"C.MAD"},{"$f":"VLOOKUP(C2603,Referencias!$C$4:$E$21,3,FALSE())","v":3},"Competición","Madrileña"]
["2814838","Cubillo Sagüés, Mercedes","2P","D",{"$f":"VLOOKUP(C2604,Referencias!$C$4:$D$21,2,FALSE())","v":"Segunda Picas"},{"$f":"VLOOKUP(I2604,Referencias!$B$24:$C$41,2,FALSE())","v":"C.MAD"},{"$f":"VLOOKUP(C2604,Referencias!$C$4:$E$21,3,FALSE())","v":2},"Competición","Madrileña"]
["2814839","Casian, Andrés","2C","C",{"$f":"VLOOKUP(C2605,Referencias!$C$4:$D$21,2,FALSE())","v":"Segunda Corazón"},{"$f":"VLOOKUP(I2605,Referencias!$B$24:$C$41,2,FALSE())","v":"C.MAD"},{"$f":"VLOOKUP(C2605,Referencias!$C$4:$E$21,3,FALSE())","v":2},"Competición","Madrileña"]
["2814840","García Moreno, Antonio","3D","C",{"$f":"VLOOKUP(C2606,Referencias!$C$4:$D$21,2,FALSE())","v":"Tercera Diamante"},{"$f":"VLOOKUP(I2606,Referencias!$B$24:$C$41,2,FALSE())","v":"C.MAD"},{"$f":"VLOOKUP(C2606,Referencias!$C$4:$E$21,3,FALSE())","v":3},"Competición","Madrileña"]
["2814842","Perez Magariños, Isabel","3D","D",{"$f":"VLOOKUP(C2607,Referencias!$C$4:$D$21,2,FALSE())","v":"Tercera Diamante"},{"$f":"VLOOKUP(I2607,Referencias!$B$24:$C$41,2,FALSE())","v":"C.MAD"},{"$f":"VLOOKUP(C2607,Referencias!$C$4:$E$21,3,FALSE())","v":3},"Competición","Madrileña"]
["2814844","Fernández-Cid Alcolea, María Dolores","3D","D",{"$f":"VLOOKUP(C2608,Referencias!$C$4:$D$21,2,FALSE())","v":"Tercera Diamante"},{"$f":"VLOOKUP(I2608,Referencias!$B$24:$C$41,2,FALSE())","v":"C.MAD"},{"$f":"VLOOKUP(C2608,Referencias!$C$4:$E$21,3,FALSE())","v":3},"Competición","Madrileña"]
["2814846","Vaca de Osma Zunzunegui, Ana Isabel","3D","D",{"$f":"VLOOKUP(C2609,Referencias!$C$4:$D$21,2,FALSE())","v":"Tercera Diamante"},{"$f":"VLOOKUP(I2609,Referencias!$B$24:$C$41,2,FALSE())","v":"C.MAD"},{"$f":"VLOOKUP(C2609,Referencias!$C$4:$E$21,3,FALSE())","v":3},"Competición","Madrileña"]
["2814847","Palacios Santaella, Javier","1D","C",{"$f":"VLOOKUP(C2610,Referencias!$C$4:$D$21,2,FALSE())","v":"Primera Diamante"},{"$f":"VLOOKUP(I2610,Referencias!$B$24:$C$41,2,FALSE())","v":"C.MAD"},{"$f":"VLOOKUP(C2610,Referencias!$C$4:$E$21,3,FALSE())","v":1},"Competición","Madrileña"]
["2814848","Olaso Sainz, Jorge José","2C","C",{"$f":"VLOOKUP(C2611,Referencias!$C$4:$D$21,2,FALSE())","v":"Segunda Corazón"},{"$f":"VLOOKUP(I2611,Referencias!$B$24:$C$41,2,FALSE())","v":"C.MAD"},{"$f":"VLOOKUP(C2611,Referencias!$C$4:$E$21,3,FALSE())","v":2},"Competición","Madrileña"]
["2814849","de Lorenzo Riestra, Iria","3D","D",{"$f":"VLOOKUP(C2612,Referencias!$C$4:$D$21,2,FALSE())","v":"Tercera Diamante"},{"$f":"VLOOKUP(I2612,Referencias!$B$24:$C$41,2,FALSE())","v":"C.MAD"},{"$f":"VLOOKUP(C2612,Referencias!$C$4:$E$21,3,FALSE())","v":3},"Competición","Madrileña"]
["2814850","Churruca Marin, Isabel","3D","D",{"$f":"VLOOKUP(C2613,Referencias!$C$4:$D$21,2,FALSE())","v":"Tercera Diamante"},{"$f":"VLOOKUP(I2613,Referencias!$B$24:$C$41,2,FALSE())","v":"C.MAD"},{"$f":"VLOOKUP(C2613,Referencias!$C$4:$E$21,3,FALSE())","v":3},"Competición","Madrileña"]
["2814852","Gonzalez Targhetta, Begoña","3D","D",{"$f":"VLOOKUP(C2614,Referencias!$C$4:$D$21,2,FALSE())","v":"Tercera Diamante"},{"$f":"VLOOKUP(I2614,Referencias!$B$24:$C$41,2,FALSE())","v":"C.MAD"},{"$f":"VLOOKUP(C2614,Referencias!$C$4:$E$21,3,FALSE())","v":3},"Competición","Madrileña"]
["2814853","Rua Morte, Elena","3D","D",{"$f":"VLOOKUP(C2615,Referencias!$C$4:$D$21,2,FALSE())","v":"Tercera Diamante"},{"$f":"VLOOKUP(I2615,Referencias!$B$24:$C$41,2,FALSE())","v":"C.MAD"},{"$f":"VLOOKUP(C2615,Referencias!$C$4:$E$21,3,FALSE())","v":3},"Competición","Madrileña"]
["2814854","Guillén Cortés, Joaquin","3D","C",{"$f":"VLOOKUP(C2616,Referencias!$C$4:$D$21,2,FALSE())","v":"Tercera Diamante"},{"$f":"VLOOKUP(I2616,Referencias!$B$24:$C$41,2,FALSE())","v":"C.MAD"},{"$f":"VLOOKUP(C2616,Referencias!$C$4:$E$21,3,FALSE())","v":3},"Competición","Madrileña"]
["2814855","Arce Alonso, Sol","3D","D",{"$f":"VLOOKUP(C2617,Referencias!$C$4:$D$21,2,FALSE())","v":"Tercera Diamante"},{"$f":"VLOOKUP(I2617,Referencias!$B$24:$C$41,2,FALSE())","v":"C.MAD"},{"$f":"VLOOKUP(C2617,Referencias!$C$4:$E$21,3,FALSE())","v":3},"Competición","Madrileña"]
["2814856","Roxas Olgado, Marta","3D","D",{"$f":"VLOOKUP(C2618,Referencias!$C$4:$D$21,2,FALSE())","v":"Tercera Diamante"},{"$f":"VLOOKUP(I2618,Referencias!$B$24:$C$41,2,FALSE())","v":"C.MAD"},{"$f":"VLOOKUP(C2618,Referencias!$C$4:$E$21,3,FALSE())","v":3},"Competición","Madrileña"]
["2814857","Basabe Armijo, Rosario","3P","D",{"$f":"VLOOKUP(C2619,Referencias!$C$4:$D$21,2,FALSE())","v":"Tercera Picas"},{"$f":"VLOOKUP(I2619,Referencias!$B$24:$C$41,2,FALSE())","v":"C.MAD"},{"$f":"VLOOKUP(C2619,Referencias!$C$4:$E$21,3,FALSE())","v":3},"Competición","Madrileña"]
["2814858","García de la Oliva, José Luis","3D","C",{"$f":"VLOOKUP(C2620,Referencias!$C$4:$D$21,2,FALSE())","v":"Tercera Diamante"},{"$f":"VLOOKUP(I2620,Referencias!$B$24:$C$41,2,FALSE())","v":"C.MAD"},{"$f":"VLOOKUP(C2620,Referencias!$C$4:$E$21,3,FALSE())","v":3},"Competición","Madrileña"]
["2814859","Tapia Puche, María Luisa","2C","D",{"$f":"VLOOKUP(C2621,Referencias!$C$4:$D$21,2,FALSE())","v":"Segunda Corazón"},{"$f":"VLOOKUP(I2621,Referencias!$B$24:$C$41,2,FALSE())","v":"C.MAD"},{"$f":"VLOOKUP(C2621,Referencias!$C$4:$E$21,3,FALSE())","v":2},"Competición","Madrileña"]
["2814861","Sánchez García, José","3D","C",{"$f":"VLOOKUP(C2622,Referencias!$C$4:$D$21,2,FALSE())","v":"Tercera Diamante"},{"$f":"VLOOKUP(I2622,Referencias!$B$24:$C$41,2,FALSE())","v":"C.MAD"},{"$f":"VLOOKUP(C2622,Referencias!$C$4:$E$21,3,FALSE())","v":3},"Competición","Madrileña"]
["2814864","Herrero Peire, Juan Manuel","2C","C",{"$f":"VLOOKUP(C2623,Referencias!$C$4:$D$21,2,FALSE())","v":"Segunda Corazón"},{"$f":"VLOOKUP(I2623,Referencias!$B$24:$C$41,2,FALSE())","v":"C.MAD"},{"$f":"VLOOKUP(C2623,Referencias!$C$4:$E$21,3,FALSE())","v":2},"Competición","Madrileña"]
["2814865","Iglesias-Sarria Fernández de Navarrete, Cristina","3D","D",{"$f":"VLOOKUP(C2624,Referencias!$C$4:$D$21,2,FALSE())","v":"Tercera Diamante"},{"$f":"VLOOKUP(I2624,Referencias!$B$24:$C$41,2,FALSE())","v":"C.MAD"},{"$f":"VLOOKUP(C2624,Referencias!$C$4:$E$21,3,FALSE())","v":3},"Competición","Madrileña"]
["2814867","de Blas Fernández-Fontecha, Antonio","3D","C",{"$f":"VLOOKUP(C2625,Referencias!$C$4:$D$21,2,FALSE())","v":"Tercera Diamante"},{"$f":"VLOOKUP(I2625,Referencias!$B$24:$C$41,2,FALSE())","v":"C.MAD"},{"$f":"VLOOKUP(C2625,Referencias!$C$4:$E$21,3,FALSE())","v":3},"Competición","Madrileña"]
["2814868","Zanón Ballesteros, María Ángeles","3D","D",{"$f":"VLOOKUP(C2626,Referencias!$C$4:$D$21,2,FALSE())","v":"Tercera Diamante"},{"$f":"VLOOKUP(I2626,Referencias!$B$24:$C$41,2,FALSE())","v":"C.MAD"},{"$f":"VLOOKUP(C2626,Referencias!$C$4:$E$21,3,FALSE())","v":3},"Competición","Madrileña"]
["2814869","Morales Osete, María Teresa","3D","D",{"$f":"VLOOKUP(C2627,Referencias!$C$4:$D$21,2,FALSE())","v":"Tercera Diamante"},{"$f":"VLOOKUP(I2627,Referencias!$B$24:$C$41,2,FALSE())","v":"C.MAD"},{"$f":"VLOOKUP(C2627,Referencias!$C$4:$E$21,3,FALSE())","v":3},"Competición","Madrileña"]
["2814870","Dobao Fraile, María Victoria","3D","D",{"$f":"VLOOKUP(C2628,Referencias!$C$4:$D$21,2,FALSE())","v":"Tercera Diamante"},{"$f":"VLOOKUP(I2628,Referencias!$B$24:$C$41,2,FALSE())","v":"C.MAD"},{"$f":"VLOOKUP(C2628,Referencias!$C$4:$E$21,3,FALSE())","v":3},"Competición","Madrileña"]
["2814871","Ligués Creus, Leonardo","3D","C",{"$f":"VLOOKUP(C2629,Referencias!$C$4:$D$21,2,FALSE())","v":"Tercera Diamante"},{"$f":"VLOOKUP(I2629,Referencias!$B$24:$C$41,2,FALSE())","v":"C.MAD"},{"$f":"VLOOKUP(C2629,Referencias!$C$4:$E$21,3,FALSE())","v":3},"Competición","Madrileña"]
["2814872","Núnez-Arenas Blat, Alfonso","3D","C",{"$f":"VLOOKUP(C2630,Referencias!$C$4:$D$21,2,FALSE())","v":"Tercera Diamante"},{"$f":"VLOOKUP(I2630,Referencias!$B$24:$C$41,2,FALSE())","v":"C.MAD"},{"$f":"VLOOKUP(C2630,Referencias!$C$4:$E$21,3,FALSE())","v":3},"Competición","Madrileña"]
["2814873","Muñoz Corredor, Pilar","Sin Categoría","D",{"$f":"VLOOKUP(C2631,Referencias!$C$4:$D$21,2,FALSE())","v":{"$error":"#N/A"}},{"$f":"VLOOKUP(I2631,Referencias!$B$24:$C$41,2,FALSE())","v":"C.MAD"},{"$f":"VLOOKUP(C2631,Referencias!$C$4:$E$21,3,FALSE())","v":{"$error":"#N/A"}},"Competición","Madrileña"]
["2814874","García Parames, Francisco","3D","C",{"$f":"VLOOKUP(C2632,Referencias!$C$4:$D$21,2,FALSE())","v":"Tercera Diamante"},{"$f":"VLOOKUP(I2632,Referencias!$B$24:$C$41,2,FALSE())","v":"C.MAD"},{"$f":"VLOOKUP(C2632,Referencias!$C$4:$E$21,3,FALSE())","v":3},"Competición","Madrileña"]
["2814878","Mendioroz Jauge, Ricardo","2P","C",{"$f":"VLOOKUP(C2633,Referencias!$C$4:$D$21,2,FALSE())","v":"Segunda Picas"},{"$f":"VLOOKUP(I2633,Referencias!$B$24:$C$41,2,FALSE())","v":"C.MAD"},{"$f":"VLOOKUP(C2633,Referencias!$C$4:$E$21,3,FALSE())","v":2},"Competición","Madrileña"]
["2814879","Ruiz Castell, Luis","1D","C",{"$f":"VLOOKUP(C2634,Referencias!$C$4:$D$21,2,FALSE())","v":"Primera Diamante"},{"$f":"VLOOKUP(I2634,Referencias!$B$24:$C$41,2,FALSE())","v":"C.MAD"},{"$f":"VLOOKUP(C2634,Referencias!$C$4:$E$21,3,FALSE())","v":1},"Competición","Madrileña"]
["2814882","Espinosa de los Monteros Jáudenes, Eugenio","3D","C",{"$f":"VLOOKUP(C2635,Referencias!$C$4:$D$21,2,FALSE())","v":"Tercera Diamante"},{"$f":"VLOOKUP(I2635,Referencias!$B$24:$C$41,2,FALSE())","v":"C.MAD"},{"$f":"VLOOKUP(C2635,Referencias!$C$4:$E$21,3,FALSE())","v":3},"Competición","Madrileña"]
["2814883","Rodríguez Marizcurrena, Gonzalo","3D","C",{"$f":"VLOOKUP(C2636,Referencias!$C$4:$D$21,2,FALSE())","v":"Tercera Diamante"},{"$f":"VLOOKUP(I2636,Referencias!$B$24:$C$41,2,FALSE())","v":"C.MAD"},{"$f":"VLOOKUP(C2636,Referencias!$C$4:$E$21,3,FALSE())","v":3},"Competición","Madrileña"]
["2814884","Bejar Ochoa, María José","3D","D",{"$f":"VLOOKUP(C2637,Referencias!$C$4:$D$21,2,FALSE())","v":"Tercera Diamante"},{"$f":"VLOOKUP(I2637,Referencias!$B$24:$C$41,2,FALSE())","v":"C.MAD"},{"$f":"VLOOKUP(C2637,Referencias!$C$4:$E$21,3,FALSE())","v":3},"Competición","Madrileña"]
["2814885","Antonio García , Maite","3D","C",{"$f":"VLOOKUP(C2638,Referencias!$C$4:$D$21,2,FALSE())","v":"Tercera Diamante"},{"$f":"VLOOKUP(I2638,Referencias!$B$24:$C$41,2,FALSE())","v":"C.MAD"},{"$f":"VLOOKUP(C2638,Referencias!$C$4:$E$21,3,FALSE())","v":3},"Competición","Madrileña"]
["2814887","Aguado del Corral, Blanca","3D","D",{"$f":"VLOOKUP(C2639,Referencias!$C$4:$D$21,2,FALSE())","v":"Tercera Diamante"},{"$f":"VLOOKUP(I2639,Referencias!$B$24:$C$41,2,FALSE())","v":"C.MAD"},{"$f":"VLOOKUP(C2639,Referencias!$C$4:$E$21,3,FALSE())","v":3},"Competición","Madrileña"]
["2814888","Merino Castells, Teresa","3P","D",{"$f":"VLOOKUP(C2640,Referencias!$C$4:$D$21,2,FALSE())","v":"Tercera Picas"},{"$f":"VLOOKUP(I2640,Referencias!$B$24:$C$41,2,FALSE())","v":"C.MAD"},{"$f":"VLOOKUP(C2640,Referencias!$C$4:$E$21,3,FALSE())","v":3},"Competición","Madrileña"]
["2814889","Rios Pérez, Calixto","3D","C",{"$f":"VLOOKUP(C2641,Referencias!$C$4:$D$21,2,FALSE())","v":"Tercera Diamante"},{"$f":"VLOOKUP(I2641,Referencias!$B$24:$C$41,2,FALSE())","v":"C.MAD"},{"$f":"VLOOKUP(C2641,Referencias!$C$4:$E$21,3,FALSE())","v":3},"Competición","Madrileña"]
["2814891","Múgica Inciarte, Teresa","3D","D",{"$f":"VLOOKUP(C2642,Referencias!$C$4:$D$21,2,FALSE())","v":"Tercera Diamante"},{"$f":"VLOOKUP(I2642,Referencias!$B$24:$C$41,2,FALSE())","v":"C.MAD"},{"$f":"VLOOKUP(C2642,Referencias!$C$4:$E$21,3,FALSE())","v":3},"Competición","Madrileña"]
["2814892","Múgica Inciarte, Marta","3D","D",{"$f":"VLOOKUP(C2643,Referencias!$C$4:$D$21,2,FALSE())","v":"Tercera Diamante"},{"$f":"VLOOKUP(I2643,Referencias!$B$24:$C$41,2,FALSE())","v":"C.MAD"},{"$f":"VLOOKUP(C2643,Referencias!$C$4:$E$21,3,FALSE())","v":3},"Competición","Madrileña"]
["2814895","Morales-Arce Crespi de Valldaura, Manuel","3D","C",{"$f":"VLOOKUP(C2644,Referencias!$C$4:$D$21,2,FALSE())","v":"Tercera Diamante"},{"$f":"VLOOKUP(I2644,Referencias!$B$24:$C$41,2,FALSE())","v":"C.MAD"},{"$f":"VLOOKUP(C2644,Referencias!$C$4:$E$21,3,FALSE())","v":3},"Competición","Madrileña"]
["2814897","Rodriguez Inciarte, Matias","3D","C",{"$f":"VLOOKUP(C2645,Referencias!$C$4:$D$21,2,FALSE())","v":"Tercera Diamante"},{"$f":"VLOOKUP(I2645,Referencias!$B$24:$C$41,2,FALSE())","v":"C.MAD"},{"$f":"VLOOKUP(C2645,Referencias!$C$4:$E$21,3,FALSE())","v":3},"Competición","Madrileña"]
["2814898","Vidal Verdia, Daniel","3D","C",{"$f":"VLOOKUP(C2646,Referencias!$C$4:$D$21,2,FALSE())","v":"Tercera Diamante"},{"$f":"VLOOKUP(I2646,Referencias!$B$24:$C$41,2,FALSE())","v":"C.MAD"},{"$f":"VLOOKUP(C2646,Referencias!$C$4:$E$21,3,FALSE())","v":3},"Competición","Madrileña"]
["2814899","Diz Acero, Fernanda","3D","D",{"$f":"VLOOKUP(C2647,Referencias!$C$4:$D$21,2,FALSE())","v":"Tercera Diamante"},{"$f":"VLOOKUP(I2647,Referencias!$B$24:$C$41,2,FALSE())","v":"C.MAD"},{"$f":"VLOOKUP(C2647,Referencias!$C$4:$E$21,3,FALSE())","v":3},"Competición","Madrileña"]
["2814901","Valle Vacas, Yolanda","3C","D",{"$f":"VLOOKUP(C2648,Referencias!$C$4:$D$21,2,FALSE())","v":"Tercera Corazón"},{"$f":"VLOOKUP(I2648,Referencias!$B$24:$C$41,2,FALSE())","v":"C.MAD"},{"$f":"VLOOKUP(C2648,Referencias!$C$4:$E$21,3,FALSE())","v":3},"Competición","Madrileña"]
["2814902","Benevides Salas, Ignacio","3D","C",{"$f":"VLOOKUP(C2649,Referencias!$C$4:$D$21,2,FALSE())","v":"Tercera Diamante"},{"$f":"VLOOKUP(I2649,Referencias!$B$24:$C$41,2,FALSE())","v":"C.MAD"},{"$f":"VLOOKUP(C2649,Referencias!$C$4:$E$21,3,FALSE())","v":3},"Competición","Madrileña"]
["2814904","Vassallo Castells, Alberto","2D","C",{"$f":"VLOOKUP(C2650,Referencias!$C$4:$D$21,2,FALSE())","v":"Segunda Diamante"},{"$f":"VLOOKUP(I2650,Referencias!$B$24:$C$41,2,FALSE())","v":"C.MAD"},{"$f":"VLOOKUP(C2650,Referencias!$C$4:$E$21,3,FALSE())","v":2},"Competición","Madrileña"]
["2814908","Martínez Montes, Ana María","3D","D",{"$f":"VLOOKUP(C2651,Referencias!$C$4:$D$21,2,FALSE())","v":"Tercera Diamante"},{"$f":"VLOOKUP(I2651,Referencias!$B$24:$C$41,2,FALSE())","v":"C.MAD"},{"$f":"VLOOKUP(C2651,Referencias!$C$4:$E$21,3,FALSE())","v":3},"Competición","Madrileña"]
["2814909","Muro Santiago, Ana","3D","D",{"$f":"VLOOKUP(C2652,Referencias!$C$4:$D$21,2,FALSE())","v":"Tercera Diamante"},{"$f":"VLOOKUP(I2652,Referencias!$B$24:$C$41,2,FALSE())","v":"C.MAD"},{"$f":"VLOOKUP(C2652,Referencias!$C$4:$E$21,3,FALSE())","v":3},"Competición","Madrileña"]
["2814910","Garcia de Oteyza Ballester, Esperanza","3D","D",{"$f":"VLOOKUP(C2653,Referencias!$C$4:$D$21,2,FALSE())","v":"Tercera Diamante"},{"$f":"VLOOKUP(I2653,Referencias!$B$24:$C$41,2,FALSE())","v":"C.MAD"},{"$f":"VLOOKUP(C2653,Referencias!$C$4:$E$21,3,FALSE())","v":3},"Competición","Madrileña"]
["2814911","Garcia de Oteyza Ballester, Fatima","3C","D",{"$f":"VLOOKUP(C2654,Referencias!$C$4:$D$21,2,FALSE())","v":"Tercera Corazón"},{"$f":"VLOOKUP(I2654,Referencias!$B$24:$C$41,2,FALSE())","v":"C.MAD"},{"$f":"VLOOKUP(C2654,Referencias!$C$4:$E$21,3,FALSE())","v":3},"Competición","Madrileña"]
["2814912","Pérez-Durias, Adela","3D","D",{"$f":"VLOOKUP(C2655,Referencias!$C$4:$D$21,2,FALSE())","v":"Tercera Diamante"},{"$f":"VLOOKUP(I2655,Referencias!$B$24:$C$41,2,FALSE())","v":"C.MAD"},{"$f":"VLOOKUP(C2655,Referencias!$C$4:$E$21,3,FALSE())","v":3},"Competición","Madrileña"]
["2814913","Cordón Plaza, Carmen","3D","D",{"$f":"VLOOKUP(C2656,Referencias!$C$4:$D$21,2,FALSE())","v":"Tercera Diamante"},{"$f":"VLOOKUP(I2656,Referencias!$B$24:$C$41,2,FALSE())","v":"C.MAD"},{"$f":"VLOOKUP(C2656,Referencias!$C$4:$E$21,3,FALSE())","v":3},"Competición","Madrileña"]
["2814917","Gareze Herrero, Carlos","3C","C",{"$f":"VLOOKUP(C2657,Referencias!$C$4:$D$21,2,FALSE())","v":"Tercera Corazón"},{"$f":"VLOOKUP(I2657,Referencias!$B$24:$C$41,2,FALSE())","v":"C.MAD"},{"$f":"VLOOKUP(C2657,Referencias!$C$4:$E$21,3,FALSE())","v":3},"Competición","Madrileña"]
["2814918","Azqueta Churruca, Carmen","3D","D",{"$f":"VLOOKUP(C2658,Referencias!$C$4:$D$21,2,FALSE())","v":"Tercera Diamante"},{"$f":"VLOOKUP(I2658,Referencias!$B$24:$C$41,2,FALSE())","v":"C.MAD"},{"$f":"VLOOKUP(C2658,Referencias!$C$4:$E$21,3,FALSE())","v":3},"Competición","Madrileña"]
["2814920","Niharra Martín, José Ignacio","3C","C",{"$f":"VLOOKUP(C2659,Referencias!$C$4:$D$21,2,FALSE())","v":"Tercera Corazón"},{"$f":"VLOOKUP(I2659,Referencias!$B$24:$C$41,2,FALSE())","v":"C.MAD"},{"$f":"VLOOKUP(C2659,Referencias!$C$4:$E$21,3,FALSE())","v":3},"Competición","Madrileña"]
["2814921","Olias Jarava, Belen","3P","D",{"$f":"VLOOKUP(C2660,Referencias!$C$4:$D$21,2,FALSE())","v":"Tercera Picas"},{"$f":"VLOOKUP(I2660,Referencias!$B$24:$C$41,2,FALSE())","v":"C.MAD"},{"$f":"VLOOKUP(C2660,Referencias!$C$4:$E$21,3,FALSE())","v":3},"Competición","Madrileña"]
["2814922","Sánchez Velasco, Blanca","3C","D",{"$f":"VLOOKUP(C2661,Referencias!$C$4:$D$21,2,FALSE())","v":"Tercera Corazón"},{"$f":"VLOOKUP(I2661,Referencias!$B$24:$C$41,2,FALSE())","v":"C.MAD"},{"$f":"VLOOKUP(C2661,Referencias!$C$4:$E$21,3,FALSE())","v":3},"Competición","Madrileña"]
["2814923","Gonçalves Pereira, Paulo","MM-O","C",{"$f":"VLOOKUP(C2662,Referencias!$C$4:$D$21,2,FALSE())","v":"Maestro Mundial Open"},{"$f":"VLOOKUP(I2662,Referencias!$B$24:$C$41,2,FALSE())","v":"C.MAD"},{"$f":"VLOOKUP(C2662,Referencias!$C$4:$E$21,3,FALSE())","v":0},"Competición","Madrileña"]
["2814924","Rupérez Pérez, Benjamin","3D","C",{"$f":"VLOOKUP(C2663,Referencias!$C$4:$D$21,2,FALSE())","v":"Tercera Diamante"},{"$f":"VLOOKUP(I2663,Referencias!$B$24:$C$41,2,FALSE())","v":"C.MAD"},{"$f":"VLOOKUP(C2663,Referencias!$C$4:$E$21,3,FALSE())","v":3},"Competición","Madrileña"]
["2814925","Alonso Fernández, Juan Aurelio","3C","C",{"$f":"VLOOKUP(C2664,Referencias!$C$4:$D$21,2,FALSE())","v":"Tercera Corazón"},{"$f":"VLOOKUP(I2664,Referencias!$B$24:$C$41,2,FALSE())","v":"C.MAD"},{"$f":"VLOOKUP(C2664,Referencias!$C$4:$E$21,3,FALSE())","v":3},"Competición","Madrileña"]
["2814926","Martín Puerta,  María José","3D","D",{"$f":"VLOOKUP(C2665,Referencias!$C$4:$D$21,2,FALSE())","v":"Tercera Diamante"},{"$f":"VLOOKUP(I2665,Referencias!$B$24:$C$41,2,FALSE())","v":"C.MAD"},{"$f":"VLOOKUP(C2665,Referencias!$C$4:$E$21,3,FALSE())","v":3},"Competición","Madrileña"]
["2814927","Puig Montserrat, Pedro","3D","C",{"$f":"VLOOKUP(C2666,Referencias!$C$4:$D$21,2,FALSE())","v":"Tercera Diamante"},{"$f":"VLOOKUP(I2666,Referencias!$B$24:$C$41,2,FALSE())","v":"C.MAD"},{"$f":"VLOOKUP(C2666,Referencias!$C$4:$E$21,3,FALSE())","v":3},"Competición","Madrileña"]
["2814928","Garcia de la Vega Ysasi-Ysasmendi, Paloma","3D","D",{"$f":"VLOOKUP(C2667,Referencias!$C$4:$D$21,2,FALSE())","v":"Tercera Diamante"},{"$f":"VLOOKUP(I2667,Referencias!$B$24:$C$41,2,FALSE())","v":"C.MAD"},{"$f":"VLOOKUP(C2667,Referencias!$C$4:$E$21,3,FALSE())","v":3},"Competición","Madrileña"]
["2814929","de Cardona, Duque","3D","C",{"$f":"VLOOKUP(C2668,Referencias!$C$4:$D$21,2,FALSE())","v":"Tercera Diamante"},{"$f":"VLOOKUP(I2668,Referencias!$B$24:$C$41,2,FALSE())","v":"C.MAD"},{"$f":"VLOOKUP(C2668,Referencias!$C$4:$E$21,3,FALSE())","v":3},"Competición","Madrileña"]
["2814932","Moro Cabezas de Herrera, Felix","3D","C",{"$f":"VLOOKUP(C2669,Referencias!$C$4:$D$21,2,FALSE())","v":"Tercera Diamante"},{"$f":"VLOOKUP(I2669,Referencias!$B$24:$C$41,2,FALSE())","v":"C.MAD"},{"$f":"VLOOKUP(C2669,Referencias!$C$4:$E$21,3,FALSE())","v":3},"Competición","Madrileña"]
["2814933","Rodrigo Zarza, Marian","3D","D",{"$f":"VLOOKUP(C2670,Referencias!$C$4:$D$21,2,FALSE())","v":"Tercera Diamante"},{"$f":"VLOOKUP(I2670,Referencias!$B$24:$C$41,2,FALSE())","v":"C.MAD"},{"$f":"VLOOKUP(C2670,Referencias!$C$4:$E$21,3,FALSE())","v":3},"Competición","Madrileña"]
["2814934","Viada Fernandez-Velilla, Socorro","3D","D",{"$f":"VLOOKUP(C2671,Referencias!$C$4:$D$21,2,FALSE())","v":"Tercera Diamante"},{"$f":"VLOOKUP(I2671,Referencias!$B$24:$C$41,2,FALSE())","v":"C.MAD"},{"$f":"VLOOKUP(C2671,Referencias!$C$4:$E$21,3,FALSE())","v":3},"Competición","Madrileña"]
["2814935","Ruiz-Jarabo Vicedo,  Jorge","2C","C",{"$f":"VLOOKUP(C2672,Referencias!$C$4:$D$21,2,FALSE())","v":"Segunda Corazón"},{"$f":"VLOOKUP(I2672,Referencias!$B$24:$C$41,2,FALSE())","v":"C.MAD"},{"$f":"VLOOKUP(C2672,Referencias!$C$4:$E$21,3,FALSE())","v":2},"Competición","Madrileña"]
["2814936","Pérez Fernández, Ángeles","3D","D",{"$f":"VLOOKUP(C2673,Referencias!$C$4:$D$21,2,FALSE())","v":"Tercera Diamante"},{"$f":"VLOOKUP(I2673,Referencias!$B$24:$C$41,2,FALSE())","v":"C.MAD"},{"$f":"VLOOKUP(C2673,Referencias!$C$4:$E$21,3,FALSE())","v":3},"Competición","Madrileña"]
["2814938","Cubillo Muñoz de Baena, Teresa","3D","D",{"$f":"VLOOKUP(C2674,Referencias!$C$4:$D$21,2,FALSE())","v":"Tercera Diamante"},{"$f":"VLOOKUP(I2674,Referencias!$B$24:$C$41,2,FALSE())","v":"C.MAD"},{"$f":"VLOOKUP(C2674,Referencias!$C$4:$E$21,3,FALSE())","v":3},"Competición","Madrileña"]
["2814939","Serrano Herrero, José Antonio","3D","C",{"$f":"VLOOKUP(C2675,Referencias!$C$4:$D$21,2,FALSE())","v":"Tercera Diamante"},{"$f":"VLOOKUP(I2675,Referencias!$B$24:$C$41,2,FALSE())","v":"C.MAD"},{"$f":"VLOOKUP(C2675,Referencias!$C$4:$E$21,3,FALSE())","v":3},"Competición","Madrileña"]
["2814942","García de la Vega Ysasi-Ysasmendi, Marta","3D","D",{"$f":"VLOOKUP(C2676,Referencias!$C$4:$D$21,2,FALSE())","v":"Tercera Diamante"},{"$f":"VLOOKUP(I2676,Referencias!$B$24:$C$41,2,FALSE())","v":"C.MAD"},{"$f":"VLOOKUP(C2676,Referencias!$C$4:$E$21,3,FALSE())","v":3},"Competición","Madrileña"]
["2814943","Pedroso Aldasoro, Isabel","3D","D",{"$f":"VLOOKUP(C2677,Referencias!$C$4:$D$21,2,FALSE())","v":"Tercera Diamante"},{"$f":"VLOOKUP(I2677,Referencias!$B$24:$C$41,2,FALSE())","v":"C.MAD"},{"$f":"VLOOKUP(C2677,Referencias!$C$4:$E$21,3,FALSE())","v":3},"Competición","Madrileña"]
["2814944","Zapico Goñi, Teresa","3D","D",{"$f":"VLOOKUP(C2678,Referencias!$C$4:$D$21,2,FALSE())","v":"Tercera Diamante"},{"$f":"VLOOKUP(I2678,Referencias!$B$24:$C$41,2,FALSE())","v":"C.MAD"},{"$f":"VLOOKUP(C2678,Referencias!$C$4:$E$21,3,FALSE())","v":3},"Competición","Madrileña"]
["2814945","Basterrechea Varela, Beatriz","3D","D",{"$f":"VLOOKUP(C2679,Referencias!$C$4:$D$21,2,FALSE())","v":"Tercera Diamante"},{"$f":"VLOOKUP(I2679,Referencias!$B$24:$C$41,2,FALSE())","v":"C.MAD"},{"$f":"VLOOKUP(C2679,Referencias!$C$4:$E$21,3,FALSE())","v":3},"Honorífica","Madrileña"]
["2814947","Alonso Suau, Amelia","3D","D",{"$f":"VLOOKUP(C2680,Referencias!$C$4:$D$21,2,FALSE())","v":"Tercera Diamante"},{"$f":"VLOOKUP(I2680,Referencias!$B$24:$C$41,2,FALSE())","v":"C.MAD"},{"$f":"VLOOKUP(C2680,Referencias!$C$4:$E$21,3,FALSE())","v":3},"Competición","Madrileña"]
["2814948","Garcia de Lago de la Guardia, Arral","3C","D",{"$f":"VLOOKUP(C2681,Referencias!$C$4:$D$21,2,FALSE())","v":"Tercera Corazón"},{"$f":"VLOOKUP(I2681,Referencias!$B$24:$C$41,2,FALSE())","v":"C.MAD"},{"$f":"VLOOKUP(C2681,Referencias!$C$4:$E$21,3,FALSE())","v":3},"Competición","Madrileña"]
["2814949","Romero López de Ceballos, Elena","3C","C",{"$f":"VLOOKUP(C2682,Referencias!$C$4:$D$21,2,FALSE())","v":"Tercera Corazón"},{"$f":"VLOOKUP(I2682,Referencias!$B$24:$C$41,2,FALSE())","v":"C.MAD"},{"$f":"VLOOKUP(C2682,Referencias!$C$4:$E$21,3,FALSE())","v":3},"Competición","Madrileña"]
["2814950","de la Lastra Moreno de Barreda, José Ramón","3C","C",{"$f":"VLOOKUP(C2683,Referencias!$C$4:$D$21,2,FALSE())","v":"Tercera Corazón"},{"$f":"VLOOKUP(I2683,Referencias!$B$24:$C$41,2,FALSE())","v":"C.MAD"},{"$f":"VLOOKUP(C2683,Referencias!$C$4:$E$21,3,FALSE())","v":3},"Competición","Madrileña"]
["2814951","de Burgos Buil, Mercedes","3D","D",{"$f":"VLOOKUP(C2684,Referencias!$C$4:$D$21,2,FALSE())","v":"Tercera Diamante"},{"$f":"VLOOKUP(I2684,Referencias!$B$24:$C$41,2,FALSE())","v":"C.MAD"},{"$f":"VLOOKUP(C2684,Referencias!$C$4:$E$21,3,FALSE())","v":3},"Competición","Madrileña"]
["2814952","Villanueva Vigil de Quiñones, Maria Luisa","3D","D",{"$f":"VLOOKUP(C2685,Referencias!$C$4:$D$21,2,FALSE())","v":"Tercera Diamante"},{"$f":"VLOOKUP(I2685,Referencias!$B$24:$C$41,2,FALSE())","v":"C.MAD"},{"$f":"VLOOKUP(C2685,Referencias!$C$4:$E$21,3,FALSE())","v":3},"Competición","Madrileña"]
["2814955","Torres García, Maria Isabel","2D","D",{"$f":"VLOOKUP(C2686,Referencias!$C$4:$D$21,2,FALSE())","v":"Segunda Diamante"},{"$f":"VLOOKUP(I2686,Referencias!$B$24:$C$41,2,FALSE())","v":"C.MAD"},{"$f":"VLOOKUP(C2686,Referencias!$C$4:$E$21,3,FALSE())","v":2},"Competición","Madrileña"]
["2814956","Abele, Dennis","2C","C",{"$f":"VLOOKUP(C2687,Referencias!$C$4:$D$21,2,FALSE())","v":"Segunda Corazón"},{"$f":"VLOOKUP(I2687,Referencias!$B$24:$C$41,2,FALSE())","v":"C.MAD"},{"$f":"VLOOKUP(C2687,Referencias!$C$4:$E$21,3,FALSE())","v":2},"Competición","Madrileña"]
["2814957","Enamorado Sanchez, Ana","3D","D",{"$f":"VLOOKUP(C2688,Referencias!$C$4:$D$21,2,FALSE())","v":"Tercera Diamante"},{"$f":"VLOOKUP(I2688,Referencias!$B$24:$C$41,2,FALSE())","v":"C.MAD"},{"$f":"VLOOKUP(C2688,Referencias!$C$4:$E$21,3,FALSE())","v":3},"Competición","Madrileña"]
["2814959","Gonzalez-Baylin Nores, Pilar","3D","D",{"$f":"VLOOKUP(C2689,Referencias!$C$4:$D$21,2,FALSE())","v":"Tercera Diamante"},{"$f":"VLOOKUP(I2689,Referencias!$B$24:$C$41,2,FALSE())","v":"C.MAD"},{"$f":"VLOOKUP(C2689,Referencias!$C$4:$E$21,3,FALSE())","v":3},"Competición","Madrileña"]
["2814960","Abadal Isasmendi, José María","3D","C",{"$f":"VLOOKUP(C2690,Referencias!$C$4:$D$21,2,FALSE())","v":"Tercera Diamante"},{"$f":"VLOOKUP(I2690,Referencias!$B$24:$C$41,2,FALSE())","v":"C.MAD"},{"$f":"VLOOKUP(C2690,Referencias!$C$4:$E$21,3,FALSE())","v":3},"Competición","Madrileña"]
["2814961","Villayandre Fornies, María José","3D","D",{"$f":"VLOOKUP(C2691,Referencias!$C$4:$D$21,2,FALSE())","v":"Tercera Diamante"},{"$f":"VLOOKUP(I2691,Referencias!$B$24:$C$41,2,FALSE())","v":"C.MAD"},{"$f":"VLOOKUP(C2691,Referencias!$C$4:$E$21,3,FALSE())","v":3},"Competición","Madrileña"]
["2814962","Rodríguez-Carreño de Cominges, Gloria","3D","D",{"$f":"VLOOKUP(C2692,Referencias!$C$4:$D$21,2,FALSE())","v":"Tercera Diamante"},{"$f":"VLOOKUP(I2692,Referencias!$B$24:$C$41,2,FALSE())","v":"C.MAD"},{"$f":"VLOOKUP(C2692,Referencias!$C$4:$E$21,3,FALSE())","v":3},"Competición","Madrileña"]
["2814963","Miranda López, Marta","3P","D",{"$f":"VLOOKUP(C2693,Referencias!$C$4:$D$21,2,FALSE())","v":"Tercera Picas"},{"$f":"VLOOKUP(I2693,Referencias!$B$24:$C$41,2,FALSE())","v":"C.MAD"},{"$f":"VLOOKUP(C2693,Referencias!$C$4:$E$21,3,FALSE())","v":3},"Competición","Madrileña"]
["2814964","Sánchez Jiménez, Maria A.","3D","D",{"$f":"VLOOKUP(C2694,Referencias!$C$4:$D$21,2,FALSE())","v":"Tercera Diamante"},{"$f":"VLOOKUP(I2694,Referencias!$B$24:$C$41,2,FALSE())","v":"C.MAD"},{"$f":"VLOOKUP(C2694,Referencias!$C$4:$E$21,3,FALSE())","v":3},"Competición","Madrileña"]
["2814965","Rodríguez Viña, Rosa","3D","D",{"$f":"VLOOKUP(C2695,Referencias!$C$4:$D$21,2,FALSE())","v":"Tercera Diamante"},{"$f":"VLOOKUP(I2695,Referencias!$B$24:$C$41,2,FALSE())","v":"C.MAD"},{"$f":"VLOOKUP(C2695,Referencias!$C$4:$E$21,3,FALSE())","v":3},"Competición","Madrileña"]
["2814966","Donovan, Sheila","3D","D",{"$f":"VLOOKUP(C2696,Referencias!$C$4:$D$21,2,FALSE())","v":"Tercera Diamante"},{"$f":"VLOOKUP(I2696,Referencias!$B$24:$C$41,2,FALSE())","v":"C.MAD"},{"$f":"VLOOKUP(C2696,Referencias!$C$4:$E$21,3,FALSE())","v":3},"Competición","Madrileña"]
["2814967","Figuerola Santos, María Ángeles","3D","D",{"$f":"VLOOKUP(C2697,Referencias!$C$4:$D$21,2,FALSE())","v":"Tercera Diamante"},{"$f":"VLOOKUP(I2697,Referencias!$B$24:$C$41,2,FALSE())","v":"C.MAD"},{"$f":"VLOOKUP(C2697,Referencias!$C$4:$E$21,3,FALSE())","v":3},"Competición","Madrileña"]
["2814968","Palacín Rodriguez, Pilar","3D","D",{"$f":"VLOOKUP(C2698,Referencias!$C$4:$D$21,2,FALSE())","v":"Tercera Diamante"},{"$f":"VLOOKUP(I2698,Referencias!$B$24:$C$41,2,FALSE())","v":"C.MAD"},{"$f":"VLOOKUP(C2698,Referencias!$C$4:$E$21,3,FALSE())","v":3},"Competición","Madrileña"]
["2814969","Fernández Pérez, Cristina","3D","C",{"$f":"VLOOKUP(C2699,Referencias!$C$4:$D$21,2,FALSE())","v":"Tercera Diamante"},{"$f":"VLOOKUP(I2699,Referencias!$B$24:$C$41,2,FALSE())","v":"C.MAD"},{"$f":"VLOOKUP(C2699,Referencias!$C$4:$E$21,3,FALSE())","v":3},"Competición","Madrileña"]
["2814970","Calderón Torres, Javier","3D","C",{"$f":"VLOOKUP(C2700,Referencias!$C$4:$D$21,2,FALSE())","v":"Tercera Diamante"},{"$f":"VLOOKUP(I2700,Referencias!$B$24:$C$41,2,FALSE())","v":"C.MAD"},{"$f":"VLOOKUP(C2700,Referencias!$C$4:$E$21,3,FALSE())","v":3},"Competición","Madrileña"]
["2814971","Ruiz de Velasco Echeverría, Esperanza","3D","D",{"$f":"VLOOKUP(C2701,Referencias!$C$4:$D$21,2,FALSE())","v":"Tercera Diamante"},{"$f":"VLOOKUP(I2701,Referencias!$B$24:$C$41,2,FALSE())","v":"C.MAD"},{"$f":"VLOOKUP(C2701,Referencias!$C$4:$E$21,3,FALSE())","v":3},"Competición","Madrileña"]
["2814972","Santos-Suárez Márquez, Pía","3D","D",{"$f":"VLOOKUP(C2702,Referencias!$C$4:$D$21,2,FALSE())","v":"Tercera Diamante"},{"$f":"VLOOKUP(I2702,Referencias!$B$24:$C$41,2,FALSE())","v":"C.MAD"},{"$f":"VLOOKUP(C2702,Referencias!$C$4:$E$21,3,FALSE())","v":3},"Competición","Madrileña"]
["2814973","Guirao Perez, Marta","3D","D",{"$f":"VLOOKUP(C2703,Referencias!$C$4:$D$21,2,FALSE())","v":"Tercera Diamante"},{"$f":"VLOOKUP(I2703,Referencias!$B$24:$C$41,2,FALSE())","v":"C.MAD"},{"$f":"VLOOKUP(C2703,Referencias!$C$4:$E$21,3,FALSE())","v":3},"Competición","Madrileña"]
["2814974","Estalella Girón, Rodrigo","3D","C",{"$f":"VLOOKUP(C2704,Referencias!$C$4:$D$21,2,FALSE())","v":"Tercera Diamante"},{"$f":"VLOOKUP(I2704,Referencias!$B$24:$C$41,2,FALSE())","v":"C.MAD"},{"$f":"VLOOKUP(C2704,Referencias!$C$4:$E$21,3,FALSE())","v":3},"Junior","Madrileña"]
["2814975","Martin Cobo, Laura","3D","D",{"$f":"VLOOKUP(C2705,Referencias!$C$4:$D$21,2,FALSE())","v":"Tercera Diamante"},{"$f":"VLOOKUP(I2705,Referencias!$B$24:$C$41,2,FALSE())","v":"C.MAD"},{"$f":"VLOOKUP(C2705,Referencias!$C$4:$E$21,3,FALSE())","v":3},"Competición","Madrileña"]
["2814976","Corsini Freese, Margarita","3D","D",{"$f":"VLOOKUP(C2706,Referencias!$C$4:$D$21,2,FALSE())","v":"Tercera Diamante"},{"$f":"VLOOKUP(I2706,Referencias!$B$24:$C$41,2,FALSE())","v":"C.MAD"},{"$f":"VLOOKUP(C2706,Referencias!$C$4:$E$21,3,FALSE())","v":3},"Competición","Madrileña"]
["2814977","Gimenez-Arnau Puente, Patricia","3D","D",{"$f":"VLOOKUP(C2707,Referencias!$C$4:$D$21,2,FALSE())","v":"Tercera Diamante"},{"$f":"VLOOKUP(I2707,Referencias!$B$24:$C$41,2,FALSE())","v":"C.MAD"},{"$f":"VLOOKUP(C2707,Referencias!$C$4:$E$21,3,FALSE())","v":3},"Competición","Madrileña"]
["2814978","Girón Dávila, Maria Eugenia","3D","D",{"$f":"VLOOKUP(C2708,Referencias!$C$4:$D$21,2,FALSE())","v":"Tercera Diamante"},{"$f":"VLOOKUP(I2708,Referencias!$B$24:$C$41,2,FALSE())","v":"C.MAD"},{"$f":"VLOOKUP(C2708,Referencias!$C$4:$E$21,3,FALSE())","v":3},"Competición","Madrileña"]
["2814979","Oliveras Zalce, Adriana","3D","D",{"$f":"VLOOKUP(C2709,Referencias!$C$4:$D$21,2,FALSE())","v":"Tercera Diamante"},{"$f":"VLOOKUP(I2709,Referencias!$B$24:$C$41,2,FALSE())","v":"C.MAD"},{"$f":"VLOOKUP(C2709,Referencias!$C$4:$E$21,3,FALSE())","v":3},"Competición","Madrileña"]
["2814980","García Fidalgo, Beatriz","3D","D",{"$f":"VLOOKUP(C2710,Referencias!$C$4:$D$21,2,FALSE())","v":"Tercera Diamante"},{"$f":"VLOOKUP(I2710,Referencias!$B$24:$C$41,2,FALSE())","v":"C.MAD"},{"$f":"VLOOKUP(C2710,Referencias!$C$4:$E$21,3,FALSE())","v":3},"Competición","Madrileña"]
["2814981","López-Igor Aliño, Maria José","3D","D",{"$f":"VLOOKUP(C2711,Referencias!$C$4:$D$21,2,FALSE())","v":"Tercera Diamante"},{"$f":"VLOOKUP(I2711,Referencias!$B$24:$C$41,2,FALSE())","v":"C.MAD"},{"$f":"VLOOKUP(C2711,Referencias!$C$4:$E$21,3,FALSE())","v":3},"Competición","Madrileña"]
["2814982","Laynez Aspenberg, Joaquín","3D","C",{"$f":"VLOOKUP(C2712,Referencias!$C$4:$D$21,2,FALSE())","v":"Tercera Diamante"},{"$f":"VLOOKUP(I2712,Referencias!$B$24:$C$41,2,FALSE())","v":"C.MAD"},{"$f":"VLOOKUP(C2712,Referencias!$C$4:$E$21,3,FALSE())","v":3},"Competición","Madrileña"]
["2814983","Moreno Gonzalez, Margarita","3D","D",{"$f":"VLOOKUP(C2713,Referencias!$C$4:$D$21,2,FALSE())","v":"Tercera Diamante"},{"$f":"VLOOKUP(I2713,Referencias!$B$24:$C$41,2,FALSE())","v":"C.MAD"},{"$f":"VLOOKUP(C2713,Referencias!$C$4:$E$21,3,FALSE())","v":3},"Competición","Madrileña"]
["2814984","Saiz de Arce Amigo, Isabel","3D","D",{"$f":"VLOOKUP(C2714,Referencias!$C$4:$D$21,2,FALSE())","v":"Tercera Diamante"},{"$f":"VLOOKUP(I2714,Referencias!$B$24:$C$41,2,FALSE())","v":"C.MAD"},{"$f":"VLOOKUP(C2714,Referencias!$C$4:$E$21,3,FALSE())","v":3},"Competición","Madrileña"]
["2814985","Álvarez Barreiro, Caridad","3D","D",{"$f":"VLOOKUP(C2715,Referencias!$C$4:$D$21,2,FALSE())","v":"Tercera Diamante"},{"$f":"VLOOKUP(I2715,Referencias!$B$24:$C$41,2,FALSE())","v":"C.MAD"},{"$f":"VLOOKUP(C2715,Referencias!$C$4:$E$21,3,FALSE())","v":3},"Competición","Madrileña"]
["2814986","Tortajada Suils, Belén","3D","D",{"$f":"VLOOKUP(C2716,Referencias!$C$4:$D$21,2,FALSE())","v":"Tercera Diamante"},{"$f":"VLOOKUP(I2716,Referencias!$B$24:$C$41,2,FALSE())","v":"C.MAD"},{"$f":"VLOOKUP(C2716,Referencias!$C$4:$E$21,3,FALSE())","v":3},"Competición","Madrileña"]
["2814987","Rodriguez Hergueta, Carmen","3D","D",{"$f":"VLOOKUP(C2717,Referencias!$C$4:$D$21,2,FALSE())","v":"Tercera Diamante"},{"$f":"VLOOKUP(I2717,Referencias!$B$24:$C$41,2,FALSE())","v":"C.MAD"},{"$f":"VLOOKUP(C2717,Referencias!$C$4:$E$21,3,FALSE())","v":3},"Competición","Madrileña"]
["2814988","Magirena Varela, Marisol","3D","D",{"$f":"VLOOKUP(C2718,Referencias!$C$4:$D$21,2,FALSE())","v":"Tercera Diamante"},{"$f":"VLOOKUP(I2718,Referencias!$B$24:$C$41,2,FALSE())","v":"C.MAD"},{"$f":"VLOOKUP(C2718,Referencias!$C$4:$E$21,3,FALSE())","v":3},"Competición","Madrileña"]
["2814989","Lope-Garnica Marin, María Cristina","3C","D",{"$f":"VLOOKUP(C2719,Referencias!$C$4:$D$21,2,FALSE())","v":"Tercera Corazón"},{"$f":"VLOOKUP(I2719,Referencias!$B$24:$C$41,2,FALSE())","v":"C.MAD"},{"$f":"VLOOKUP(C2719,Referencias!$C$4:$E$21,3,FALSE())","v":3},"Competición","Madrileña"]
["2814990","Usera Cano, José","3D","C",{"$f":"VLOOKUP(C2720,Referencias!$C$4:$D$21,2,FALSE())","v":"Tercera Diamante"},{"$f":"VLOOKUP(I2720,Referencias!$B$24:$C$41,2,FALSE())","v":"C.MAD"},{"$f":"VLOOKUP(C2720,Referencias!$C$4:$E$21,3,FALSE())","v":3},"Competición","Madrileña"]
["2814991","Rodriguez Sobrino, Edmundo","3D","C",{"$f":"VLOOKUP(C2721,Referencias!$C$4:$D$21,2,FALSE())","v":"Tercera Diamante"},{"$f":"VLOOKUP(I2721,Referencias!$B$24:$C$41,2,FALSE())","v":"C.MAD"},{"$f":"VLOOKUP(C2721,Referencias!$C$4:$E$21,3,FALSE())","v":3},"Competición","Madrileña"]
["2814992","Fuster Fuster, José Antonio","2D","C",{"$f":"VLOOKUP(C2722,Referencias!$C$4:$D$21,2,FALSE())","v":"Segunda Diamante"},{"$f":"VLOOKUP(I2722,Referencias!$B$24:$C$41,2,FALSE())","v":"C.MAD"},{"$f":"VLOOKUP(C2722,Referencias!$C$4:$E$21,3,FALSE())","v":2},"Competición","Madrileña"]
["2814993","Aresti Aldasoro, Alvaro","3P","C",{"$f":"VLOOKUP(C2723,Referencias!$C$4:$D$21,2,FALSE())","v":"Tercera Picas"},{"$f":"VLOOKUP(I2723,Referencias!$B$24:$C$41,2,FALSE())","v":"C.MAD"},{"$f":"VLOOKUP(C2723,Referencias!$C$4:$E$21,3,FALSE())","v":3},"Competición","Madrileña"]
["2814994","Churruca Diez de Rivera, Pilar","3D","D",{"$f":"VLOOKUP(C2724,Referencias!$C$4:$D$21,2,FALSE())","v":"Tercera Diamante"},{"$f":"VLOOKUP(I2724,Referencias!$B$24:$C$41,2,FALSE())","v":"C.MAD"},{"$f":"VLOOKUP(C2724,Referencias!$C$4:$E$21,3,FALSE())","v":3},"Competición","Madrileña"]
["2814995","Perez de Rada Cavanilles, Maria Covadonga","3D","D",{"$f":"VLOOKUP(C2725,Referencias!$C$4:$D$21,2,FALSE())","v":"Tercera Diamante"},{"$f":"VLOOKUP(I2725,Referencias!$B$24:$C$41,2,FALSE())","v":"C.MAD"},{"$f":"VLOOKUP(C2725,Referencias!$C$4:$E$21,3,FALSE())","v":3},"Competición","Madrileña"]
["2814996","Iglesias de Guisasola, Beatriz","3D","D",{"$f":"VLOOKUP(C2726,Referencias!$C$4:$D$21,2,FALSE())","v":"Tercera Diamante"},{"$f":"VLOOKUP(I2726,Referencias!$B$24:$C$41,2,FALSE())","v":"C.MAD"},{"$f":"VLOOKUP(C2726,Referencias!$C$4:$E$21,3,FALSE())","v":3},"Competición","Madrileña"]
["2814997","Carreño García, Natalia","3D","D",{"$f":"VLOOKUP(C2727,Referencias!$C$4:$D$21,2,FALSE())","v":"Tercera Diamante"},{"$f":"VLOOKUP(I2727,Referencias!$B$24:$C$41,2,FALSE())","v":"C.MAD"},{"$f":"VLOOKUP(C2727,Referencias!$C$4:$E$21,3,FALSE())","v":3},"Competición","Madrileña"]
["2814998","Vaca Fernández, Roberto","3D","C",{"$f":"VLOOKUP(C2728,Referencias!$C$4:$D$21,2,FALSE())","v":"Tercera Diamante"},{"$f":"VLOOKUP(I2728,Referencias!$B$24:$C$41,2,FALSE())","v":"C.MAD"},{"$f":"VLOOKUP(C2728,Referencias!$C$4:$E$21,3,FALSE())","v":3},"Competición","Madrileña"]
["2814999","Lamothe Torres, Paloma","3D","D",{"$f":"VLOOKUP(C2729,Referencias!$C$4:$D$21,2,FALSE())","v":"Tercera Diamante"},{"$f":"VLOOKUP(I2729,Referencias!$B$24:$C$41,2,FALSE())","v":"C.MAD"},{"$f":"VLOOKUP(C2729,Referencias!$C$4:$E$21,3,FALSE())","v":3},"Competición","Madrileña"]
["2815000","García de Oteyza Ballester, Paloma","3C","D",{"$f":"VLOOKUP(C2730,Referencias!$C$4:$D$21,2,FALSE())","v":"Tercera Corazón"},{"$f":"VLOOKUP(I2730,Referencias!$B$24:$C$41,2,FALSE())","v":"C.MAD"},{"$f":"VLOOKUP(C2730,Referencias!$C$4:$E$21,3,FALSE())","v":3},"Competición","Madrileña"]
["2815001","Huertas Urosa, Margarita","3D","D",{"$f":"VLOOKUP(C2731,Referencias!$C$4:$D$21,2,FALSE())","v":"Tercera Diamante"},{"$f":"VLOOKUP(I2731,Referencias!$B$24:$C$41,2,FALSE())","v":"C.MAD"},{"$f":"VLOOKUP(C2731,Referencias!$C$4:$E$21,3,FALSE())","v":3},"Competición","Madrileña"]
["2815002","Muelas Mayor, Ana María","3D","D",{"$f":"VLOOKUP(C2732,Referencias!$C$4:$D$21,2,FALSE())","v":"Tercera Diamante"},{"$f":"VLOOKUP(I2732,Referencias!$B$24:$C$41,2,FALSE())","v":"C.MAD"},{"$f":"VLOOKUP(C2732,Referencias!$C$4:$E$21,3,FALSE())","v":3},"Competición","Madrileña"]
["2815003","Serrahima Bartolome, Patricia","3C","D",{"$f":"VLOOKUP(C2733,Referencias!$C$4:$D$21,2,FALSE())","v":"Tercera Corazón"},{"$f":"VLOOKUP(I2733,Referencias!$B$24:$C$41,2,FALSE())","v":"C.MAD"},{"$f":"VLOOKUP(C2733,Referencias!$C$4:$E$21,3,FALSE())","v":3},"Competición","Madrileña"]
["2815004","Marín de la Barcena Folache, María Isabel","3D","D",{"$f":"VLOOKUP(C2734,Referencias!$C$4:$D$21,2,FALSE())","v":"Tercera Diamante"},{"$f":"VLOOKUP(I2734,Referencias!$B$24:$C$41,2,FALSE())","v":"C.MAD"},{"$f":"VLOOKUP(C2734,Referencias!$C$4:$E$21,3,FALSE())","v":3},"Competición","Madrileña"]
["2815005","Garelly Compte, Margarita","3D","D",{"$f":"VLOOKUP(C2735,Referencias!$C$4:$D$21,2,FALSE())","v":"Tercera Diamante"},{"$f":"VLOOKUP(I2735,Referencias!$B$24:$C$41,2,FALSE())","v":"C.MAD"},{"$f":"VLOOKUP(C2735,Referencias!$C$4:$E$21,3,FALSE())","v":3},"Competición","Madrileña"]
["2815007","de Frutos Benés, Olga","3D","D",{"$f":"VLOOKUP(C2736,Referencias!$C$4:$D$21,2,FALSE())","v":"Tercera Diamante"},{"$f":"VLOOKUP(I2736,Referencias!$B$24:$C$41,2,FALSE())","v":"C.MAD"},{"$f":"VLOOKUP(C2736,Referencias!$C$4:$E$21,3,FALSE())","v":3},"Competición","Madrileña"]
["2815008","Dominguez Nafría, Andrés","3D","C",{"$f":"VLOOKUP(C2737,Referencias!$C$4:$D$21,2,FALSE())","v":"Tercera Diamante"},{"$f":"VLOOKUP(I2737,Referencias!$B$24:$C$41,2,FALSE())","v":"C.MAD"},{"$f":"VLOOKUP(C2737,Referencias!$C$4:$E$21,3,FALSE())","v":3},"Competición","Madrileña"]
["2815009","Capaz Ruiz, Concepción","3D","D",{"$f":"VLOOKUP(C2738,Referencias!$C$4:$D$21,2,FALSE())","v":"Tercera Diamante"},{"$f":"VLOOKUP(I2738,Referencias!$B$24:$C$41,2,FALSE())","v":"C.MAD"},{"$f":"VLOOKUP(C2738,Referencias!$C$4:$E$21,3,FALSE())","v":3},"Competición","Madrileña"]
["2815010","Zamarriego Sedeño, María Pilar","3D","D",{"$f":"VLOOKUP(C2739,Referencias!$C$4:$D$21,2,FALSE())","v":"Tercera Diamante"},{"$f":"VLOOKUP(I2739,Referencias!$B$24:$C$41,2,FALSE())","v":"C.MAD"},{"$f":"VLOOKUP(C2739,Referencias!$C$4:$E$21,3,FALSE())","v":3},"Competición","Madrileña"]
["2815011","Robledo Robledo, Rodrigo","3D","C",{"$f":"VLOOKUP(C2740,Referencias!$C$4:$D$21,2,FALSE())","v":"Tercera Diamante"},{"$f":"VLOOKUP(I2740,Referencias!$B$24:$C$41,2,FALSE())","v":"C.MAD"},{"$f":"VLOOKUP(C2740,Referencias!$C$4:$E$21,3,FALSE())","v":3},"Competición","Madrileña"]
["2815012","Urech Díaz, Elena","3D","D",{"$f":"VLOOKUP(C2741,Referencias!$C$4:$D$21,2,FALSE())","v":"Tercera Diamante"},{"$f":"VLOOKUP(I2741,Referencias!$B$24:$C$41,2,FALSE())","v":"C.MAD"},{"$f":"VLOOKUP(C2741,Referencias!$C$4:$E$21,3,FALSE())","v":3},"Competición","Madrileña"]
["2815013","Casal Velasco, Paloma","3D","D",{"$f":"VLOOKUP(C2742,Referencias!$C$4:$D$21,2,FALSE())","v":"Tercera Diamante"},{"$f":"VLOOKUP(I2742,Referencias!$B$24:$C$41,2,FALSE())","v":"C.MAD"},{"$f":"VLOOKUP(C2742,Referencias!$C$4:$E$21,3,FALSE())","v":3},"Competición","Madrileña"]
["2815014","Coiduras Martínez, Carmen","3D","D",{"$f":"VLOOKUP(C2743,Referencias!$C$4:$D$21,2,FALSE())","v":"Tercera Diamante"},{"$f":"VLOOKUP(I2743,Referencias!$B$24:$C$41,2,FALSE())","v":"C.MAD"},{"$f":"VLOOKUP(C2743,Referencias!$C$4:$E$21,3,FALSE())","v":3},"Competición","Madrileña"]
["2815015","Segura Barrios, Susana","3D","D",{"$f":"VLOOKUP(C2744,Referencias!$C$4:$D$21,2,FALSE())","v":"Tercera Diamante"},{"$f":"VLOOKUP(I2744,Referencias!$B$24:$C$41,2,FALSE())","v":"C.MAD"},{"$f":"VLOOKUP(C2744,Referencias!$C$4:$E$21,3,FALSE())","v":3},"Competición","Madrileña"]
["2815017","Pedrajas Moreno, María","3D","D",{"$f":"VLOOKUP(C2745,Referencias!$C$4:$D$21,2,FALSE())","v":"Tercera Diamante"},{"$f":"VLOOKUP(I2745,Referencias!$B$24:$C$41,2,FALSE())","v":"C.MAD"},{"$f":"VLOOKUP(C2745,Referencias!$C$4:$E$21,3,FALSE())","v":3},"Competición","Madrileña"]
["2815018","González Ardevinez, Paloma","3D","D",{"$f":"VLOOKUP(C2746,Referencias!$C$4:$D$21,2,FALSE())","v":"Tercera Diamante"},{"$f":"VLOOKUP(I2746,Referencias!$B$24:$C$41,2,FALSE())","v":"C.MAD"},{"$f":"VLOOKUP(C2746,Referencias!$C$4:$E$21,3,FALSE())","v":3},"Competición","Madrileña"]
["2815019","Vigueras Miralles, Fuensanta","3D","D",{"$f":"VLOOKUP(C2747,Referencias!$C$4:$D$21,2,FALSE())","v":"Tercera Diamante"},{"$f":"VLOOKUP(I2747,Referencias!$B$24:$C$41,2,FALSE())","v":"C.MAD"},{"$f":"VLOOKUP(C2747,Referencias!$C$4:$E$21,3,FALSE())","v":3},"Competición","Madrileña"]
["2815020","García del Pino , Bernardo","3C","C",{"$f":"VLOOKUP(C2748,Referencias!$C$4:$D$21,2,FALSE())","v":"Tercera Corazón"},{"$f":"VLOOKUP(I2748,Referencias!$B$24:$C$41,2,FALSE())","v":"C.MAD"},{"$f":"VLOOKUP(C2748,Referencias!$C$4:$E$21,3,FALSE())","v":3},"Competición","Madrileña"]
["2815021","Esteban Ortega, Aurora","3C","D",{"$f":"VLOOKUP(C2749,Referencias!$C$4:$D$21,2,FALSE())","v":"Tercera Corazón"},{"$f":"VLOOKUP(I2749,Referencias!$B$24:$C$41,2,FALSE())","v":"C.MAD"},{"$f":"VLOOKUP(C2749,Referencias!$C$4:$E$21,3,FALSE())","v":3},"Competición","Madrileña"]
["2815023","Lorenzo-Arroyo Poullet, María del Rocío","3D","D",{"$f":"VLOOKUP(C2750,Referencias!$C$4:$D$21,2,FALSE())","v":"Tercera Diamante"},{"$f":"VLOOKUP(I2750,Referencias!$B$24:$C$41,2,FALSE())","v":"C.MAD"},{"$f":"VLOOKUP(C2750,Referencias!$C$4:$E$21,3,FALSE())","v":3},"Competición","Madrileña"]
["2815024","Martorell Amengual, Vicente","3D","C",{"$f":"VLOOKUP(C2751,Referencias!$C$4:$D$21,2,FALSE())","v":"Tercera Diamante"},{"$f":"VLOOKUP(I2751,Referencias!$B$24:$C$41,2,FALSE())","v":"C.MAD"},{"$f":"VLOOKUP(C2751,Referencias!$C$4:$E$21,3,FALSE())","v":3},"Competición","Madrileña"]
["2815025","Caro Moreno, Ana","3D","D",{"$f":"VLOOKUP(C2752,Referencias!$C$4:$D$21,2,FALSE())","v":"Tercera Diamante"},{"$f":"VLOOKUP(I2752,Referencias!$B$24:$C$41,2,FALSE())","v":"C.MAD"},{"$f":"VLOOKUP(C2752,Referencias!$C$4:$E$21,3,FALSE())","v":3},"Competición","Madrileña"]
["2815026","García Martínez, Pilar","3D","D",{"$f":"VLOOKUP(C2753,Referencias!$C$4:$D$21,2,FALSE())","v":"Tercera Diamante"},{"$f":"VLOOKUP(I2753,Referencias!$B$24:$C$41,2,FALSE())","v":"C.MAD"},{"$f":"VLOOKUP(C2753,Referencias!$C$4:$E$21,3,FALSE())","v":3},"Competición","Madrileña"]
["2815027","García Delgado, Pura","3D","D",{"$f":"VLOOKUP(C2754,Referencias!$C$4:$D$21,2,FALSE())","v":"Tercera Diamante"},{"$f":"VLOOKUP(I2754,Referencias!$B$24:$C$41,2,FALSE())","v":"C.MAD"},{"$f":"VLOOKUP(C2754,Referencias!$C$4:$E$21,3,FALSE())","v":3},"Competición","Madrileña"]
["2815029","Dolado Lobregad, Carmen","3D","D",{"$f":"VLOOKUP(C2755,Referencias!$C$4:$D$21,2,FALSE())","v":"Tercera Diamante"},{"$f":"VLOOKUP(I2755,Referencias!$B$24:$C$41,2,FALSE())","v":"C.MAD"},{"$f":"VLOOKUP(C2755,Referencias!$C$4:$E$21,3,FALSE())","v":3},"Competición","Madrileña"]
["2815030","Forero Calderón, Rosario","3D","D",{"$f":"VLOOKUP(C2756,Referencias!$C$4:$D$21,2,FALSE())","v":"Tercera Diamante"},{"$f":"VLOOKUP(I2756,Referencias!$B$24:$C$41,2,FALSE())","v":"C.MAD"},{"$f":"VLOOKUP(C2756,Referencias!$C$4:$E$21,3,FALSE())","v":3},"Competición","Madrileña"]
["2815031","Borman Ugarte, Michael","3D","",{"$f":"VLOOKUP(C2757,Referencias!$C$4:$D$21,2,FALSE())","v":"Tercera Diamante"},{"$f":"VLOOKUP(I2757,Referencias!$B$24:$C$41,2,FALSE())","v":"C.MAD"},{"$f":"VLOOKUP(C2757,Referencias!$C$4:$E$21,3,FALSE())","v":3},"Competición","Madrileña"]
["2815032","Suárez-Llanos Rovira, Mar","3D","D",{"$f":"VLOOKUP(C2758,Referencias!$C$4:$D$21,2,FALSE())","v":"Tercera Diamante"},{"$f":"VLOOKUP(I2758,Referencias!$B$24:$C$41,2,FALSE())","v":"C.MAD"},{"$f":"VLOOKUP(C2758,Referencias!$C$4:$E$21,3,FALSE())","v":3},"Competición","Madrileña"]
["2815034","Pérez de Rada Cavanilles, Beroiz","3D","D",{"$f":"VLOOKUP(C2759,Referencias!$C$4:$D$21,2,FALSE())","v":"Tercera Diamante"},{"$f":"VLOOKUP(I2759,Referencias!$B$24:$C$41,2,FALSE())","v":"C.MAD"},{"$f":"VLOOKUP(C2759,Referencias!$C$4:$E$21,3,FALSE())","v":3},"Competición","Madrileña"]
["2815035","Galatas Escat,  Juan","3D","C",{"$f":"VLOOKUP(C2760,Referencias!$C$4:$D$21,2,FALSE())","v":"Tercera Diamante"},{"$f":"VLOOKUP(I2760,Referencias!$B$24:$C$41,2,FALSE())","v":"C.MAD"},{"$f":"VLOOKUP(C2760,Referencias!$C$4:$E$21,3,FALSE())","v":3},"Competición","Madrileña"]
["2815036","García González-Herrero, Sonia","3D","D",{"$f":"VLOOKUP(C2761,Referencias!$C$4:$D$21,2,FALSE())","v":"Tercera Diamante"},{"$f":"VLOOKUP(I2761,Referencias!$B$24:$C$41,2,FALSE())","v":"C.MAD"},{"$f":"VLOOKUP(C2761,Referencias!$C$4:$E$21,3,FALSE())","v":3},"Competición","Madrileña"]
["2815037","Amann Ostos, María José","3D","D",{"$f":"VLOOKUP(C2762,Referencias!$C$4:$D$21,2,FALSE())","v":"Tercera Diamante"},{"$f":"VLOOKUP(I2762,Referencias!$B$24:$C$41,2,FALSE())","v":"C.MAD"},{"$f":"VLOOKUP(C2762,Referencias!$C$4:$E$21,3,FALSE())","v":3},"Competición","Madrileña"]
["2815038","Blasco Blanco, María Jesús","3D","D",{"$f":"VLOOKUP(C2763,Referencias!$C$4:$D$21,2,FALSE())","v":"Tercera Diamante"},{"$f":"VLOOKUP(I2763,Referencias!$B$24:$C$41,2,FALSE())","v":"C.MAD"},{"$f":"VLOOKUP(C2763,Referencias!$C$4:$E$21,3,FALSE())","v":3},"Competición","Madrileña"]
["2815039","Folguera Crespo,  Jaime","3D","C",{"$f":"VLOOKUP(C2764,Referencias!$C$4:$D$21,2,FALSE())","v":"Tercera Diamante"},{"$f":"VLOOKUP(I2764,Referencias!$B$24:$C$41,2,FALSE())","v":"C.MAD"},{"$f":"VLOOKUP(C2764,Referencias!$C$4:$E$21,3,FALSE())","v":3},"Competición","Madrileña"]
["2815040","Gonzalo Bonilla, Inmaculada","3D","D",{"$f":"VLOOKUP(C2765,Referencias!$C$4:$D$21,2,FALSE())","v":"Tercera Diamante"},{"$f":"VLOOKUP(I2765,Referencias!$B$24:$C$41,2,FALSE())","v":"C.MAD"},{"$f":"VLOOKUP(C2765,Referencias!$C$4:$E$21,3,FALSE())","v":3},"Competición","Madrileña"]
["2815042","Alvarez Valentín, Gonzalo","3P","D",{"$f":"VLOOKUP(C2766,Referencias!$C$4:$D$21,2,FALSE())","v":"Tercera Picas"},{"$f":"VLOOKUP(I2766,Referencias!$B$24:$C$41,2,FALSE())","v":"C.MAD"},{"$f":"VLOOKUP(C2766,Referencias!$C$4:$E$21,3,FALSE())","v":3},"Competición","Madrileña"]
["2815043","de Corral Yerro, Diego","3D","D",{"$f":"VLOOKUP(C2767,Referencias!$C$4:$D$21,2,FALSE())","v":"Tercera Diamante"},{"$f":"VLOOKUP(I2767,Referencias!$B$24:$C$41,2,FALSE())","v":"C.MAD"},{"$f":"VLOOKUP(C2767,Referencias!$C$4:$E$21,3,FALSE())","v":3},"Competición","Madrileña"]
["2815044","Sainz González, Marta","3D","D",{"$f":"VLOOKUP(C2768,Referencias!$C$4:$D$21,2,FALSE())","v":"Tercera Diamante"},{"$f":"VLOOKUP(I2768,Referencias!$B$24:$C$41,2,FALSE())","v":"C.MAD"},{"$f":"VLOOKUP(C2768,Referencias!$C$4:$E$21,3,FALSE())","v":3},"Competición","Madrileña"]
["2815046","Garate Barrenechea, Nieves","3D","D",{"$f":"VLOOKUP(C2769,Referencias!$C$4:$D$21,2,FALSE())","v":"Tercera Diamante"},{"$f":"VLOOKUP(I2769,Referencias!$B$24:$C$41,2,FALSE())","v":"C.MAD"},{"$f":"VLOOKUP(C2769,Referencias!$C$4:$E$21,3,FALSE())","v":3},"Competición","Madrileña"]
["2815047","Greciano García, Nieves","3D","D",{"$f":"VLOOKUP(C2770,Referencias!$C$4:$D$21,2,FALSE())","v":"Tercera Diamante"},{"$f":"VLOOKUP(I2770,Referencias!$B$24:$C$41,2,FALSE())","v":"C.MAD"},{"$f":"VLOOKUP(C2770,Referencias!$C$4:$E$21,3,FALSE())","v":3},"Competición","Madrileña"]
["2815048","Saba Graziati, José María","3D","C",{"$f":"VLOOKUP(C2771,Referencias!$C$4:$D$21,2,FALSE())","v":"Tercera Diamante"},{"$f":"VLOOKUP(I2771,Referencias!$B$24:$C$41,2,FALSE())","v":"C.MAD"},{"$f":"VLOOKUP(C2771,Referencias!$C$4:$E$21,3,FALSE())","v":3},"Competición","Madrileña"]
["2815049","Jiménez Díaz, Silvia","3D","D",{"$f":"VLOOKUP(C2772,Referencias!$C$4:$D$21,2,FALSE())","v":"Tercera Diamante"},{"$f":"VLOOKUP(I2772,Referencias!$B$24:$C$41,2,FALSE())","v":"C.MAD"},{"$f":"VLOOKUP(C2772,Referencias!$C$4:$E$21,3,FALSE())","v":3},"Competición","Madrileña"]
["2815050","Monsalve Ballesteros, Ignacio","3D","C",{"$f":"VLOOKUP(C2773,Referencias!$C$4:$D$21,2,FALSE())","v":"Tercera Diamante"},{"$f":"VLOOKUP(I2773,Referencias!$B$24:$C$41,2,FALSE())","v":"C.MAD"},{"$f":"VLOOKUP(C2773,Referencias!$C$4:$E$21,3,FALSE())","v":3},"Competición","Madrileña"]
["2815051","De Delas-Vigo Padrones, Paola","3D","D",{"$f":"VLOOKUP(C2774,Referencias!$C$4:$D$21,2,FALSE())","v":"Tercera Diamante"},{"$f":"VLOOKUP(I2774,Referencias!$B$24:$C$41,2,FALSE())","v":"C.MAD"},{"$f":"VLOOKUP(C2774,Referencias!$C$4:$E$21,3,FALSE())","v":3},"Competición","Madrileña"]
["2815052","Rodriguez Chantada, Diana Emilce","3D","D",{"$f":"VLOOKUP(C2775,Referencias!$C$4:$D$21,2,FALSE())","v":"Tercera Diamante"},{"$f":"VLOOKUP(I2775,Referencias!$B$24:$C$41,2,FALSE())","v":"C.MAD"},{"$f":"VLOOKUP(C2775,Referencias!$C$4:$E$21,3,FALSE())","v":3},"Competición","Madrileña"]
["2815053","Izard Pereda , Ana","3D","D",{"$f":"VLOOKUP(C2776,Referencias!$C$4:$D$21,2,FALSE())","v":"Tercera Diamante"},{"$f":"VLOOKUP(I2776,Referencias!$B$24:$C$41,2,FALSE())","v":"C.MAD"},{"$f":"VLOOKUP(C2776,Referencias!$C$4:$E$21,3,FALSE())","v":3},"Competición","Madrileña"]
["2815054","Esayag Bendrao, Franklin","2C","C",{"$f":"VLOOKUP(C2777,Referencias!$C$4:$D$21,2,FALSE())","v":"Segunda Corazón"},{"$f":"VLOOKUP(I2777,Referencias!$B$24:$C$41,2,FALSE())","v":"C.MAD"},{"$f":"VLOOKUP(C2777,Referencias!$C$4:$E$21,3,FALSE())","v":2},"Competición","Madrileña"]
["2815055","Pérez Saiz, Julián","3D","D",{"$f":"VLOOKUP(C2778,Referencias!$C$4:$D$21,2,FALSE())","v":"Tercera Diamante"},{"$f":"VLOOKUP(I2778,Referencias!$B$24:$C$41,2,FALSE())","v":"C.MAD"},{"$f":"VLOOKUP(C2778,Referencias!$C$4:$E$21,3,FALSE())","v":3},"Competición","Madrileña"]
["2815056","García de Quesada Fort, Ignacio","2C","C",{"$f":"VLOOKUP(C2779,Referencias!$C$4:$D$21,2,FALSE())","v":"Segunda Corazón"},{"$f":"VLOOKUP(I2779,Referencias!$B$24:$C$41,2,FALSE())","v":"C.MAD"},{"$f":"VLOOKUP(C2779,Referencias!$C$4:$E$21,3,FALSE())","v":2},"Competición","Madrileña"]
["2815057","Muro Aguilar, Sonia","3D","D",{"$f":"VLOOKUP(C2780,Referencias!$C$4:$D$21,2,FALSE())","v":"Tercera Diamante"},{"$f":"VLOOKUP(I2780,Referencias!$B$24:$C$41,2,FALSE())","v":"C.MAD"},{"$f":"VLOOKUP(C2780,Referencias!$C$4:$E$21,3,FALSE())","v":3},"Competición","Madrileña"]
["2815058","Pinedo Sucre, Diana","3D","D",{"$f":"VLOOKUP(C2781,Referencias!$C$4:$D$21,2,FALSE())","v":"Tercera Diamante"},{"$f":"VLOOKUP(I2781,Referencias!$B$24:$C$41,2,FALSE())","v":"C.MAD"},{"$f":"VLOOKUP(C2781,Referencias!$C$4:$E$21,3,FALSE())","v":3},"Competición","Madrileña"]
["2815060","Serrano Trigueros, Maria Eugenia","3D","D",{"$f":"VLOOKUP(C2782,Referencias!$C$4:$D$21,2,FALSE())","v":"Tercera Diamante"},{"$f":"VLOOKUP(I2782,Referencias!$B$24:$C$41,2,FALSE())","v":"C.MAD"},{"$f":"VLOOKUP(C2782,Referencias!$C$4:$E$21,3,FALSE())","v":3},"Competición","Madrileña"]
["2815061","Isla Duarte, Maria Amparo","3D","D",{"$f":"VLOOKUP(C2783,Referencias!$C$4:$D$21,2,FALSE())","v":"Tercera Diamante"},{"$f":"VLOOKUP(I2783,Referencias!$B$24:$C$41,2,FALSE())","v":"C.MAD"},{"$f":"VLOOKUP(C2783,Referencias!$C$4:$E$21,3,FALSE())","v":3},"Competición","Madrileña"]
["2815062","De Buerba Pando, Adriana","3P","D",{"$f":"VLOOKUP(C2784,Referencias!$C$4:$D$21,2,FALSE())","v":"Tercera Picas"},{"$f":"VLOOKUP(I2784,Referencias!$B$24:$C$41,2,FALSE())","v":"C.MAD"},{"$f":"VLOOKUP(C2784,Referencias!$C$4:$E$21,3,FALSE())","v":3},"Competición","Madrileña"]
["2815063","Campaña Ceballos, Maria del Cariño","3D","D",{"$f":"VLOOKUP(C2785,Referencias!$C$4:$D$21,2,FALSE())","v":"Tercera Diamante"},{"$f":"VLOOKUP(I2785,Referencias!$B$24:$C$41,2,FALSE())","v":"C.MAD"},{"$f":"VLOOKUP(C2785,Referencias!$C$4:$E$21,3,FALSE())","v":3},"Competición","Madrileña"]
["2815064","González de Vega López, Ana","3P","D",{"$f":"VLOOKUP(C2786,Referencias!$C$4:$D$21,2,FALSE())","v":"Tercera Picas"},{"$f":"VLOOKUP(I2786,Referencias!$B$24:$C$41,2,FALSE())","v":"C.MAD"},{"$f":"VLOOKUP(C2786,Referencias!$C$4:$E$21,3,FALSE())","v":3},"Competición","Madrileña"]
["2815065","Bastarreche Sagüés,  Ana","2C","D",{"$f":"VLOOKUP(C2787,Referencias!$C$4:$D$21,2,FALSE())","v":"Segunda Corazón"},{"$f":"VLOOKUP(I2787,Referencias!$B$24:$C$41,2,FALSE())","v":"C.MAD"},{"$f":"VLOOKUP(C2787,Referencias!$C$4:$E$21,3,FALSE())","v":2},"Competición","Madrileña"]
["2815066","Rotaeche Ozores, Beatriz","3D","D",{"$f":"VLOOKUP(C2788,Referencias!$C$4:$D$21,2,FALSE())","v":"Tercera Diamante"},{"$f":"VLOOKUP(I2788,Referencias!$B$24:$C$41,2,FALSE())","v":"C.MAD"},{"$f":"VLOOKUP(C2788,Referencias!$C$4:$E$21,3,FALSE())","v":3},"Competición","Madrileña"]
["2815067","Moreno de Barreda Moreno, Ignacio","3D","C",{"$f":"VLOOKUP(C2789,Referencias!$C$4:$D$21,2,FALSE())","v":"Tercera Diamante"},{"$f":"VLOOKUP(I2789,Referencias!$B$24:$C$41,2,FALSE())","v":"C.MAD"},{"$f":"VLOOKUP(C2789,Referencias!$C$4:$E$21,3,FALSE())","v":3},"Competición","Madrileña"]
["2815069","Puiggros Asensio, Marta","3C","D",{"$f":"VLOOKUP(C2790,Referencias!$C$4:$D$21,2,FALSE())","v":"Tercera Corazón"},{"$f":"VLOOKUP(I2790,Referencias!$B$24:$C$41,2,FALSE())","v":"C.MAD"},{"$f":"VLOOKUP(C2790,Referencias!$C$4:$E$21,3,FALSE())","v":3},"Competición","Madrileña"]
["2815070","Cobacho López, Alicia","2D","D",{"$f":"VLOOKUP(C2791,Referencias!$C$4:$D$21,2,FALSE())","v":"Segunda Diamante"},{"$f":"VLOOKUP(I2791,Referencias!$B$24:$C$41,2,FALSE())","v":"C.MAD"},{"$f":"VLOOKUP(C2791,Referencias!$C$4:$E$21,3,FALSE())","v":2},"Competición","Madrileña"]
["2815071","Calero González, Guadalupe","3D","D",{"$f":"VLOOKUP(C2792,Referencias!$C$4:$D$21,2,FALSE())","v":"Tercera Diamante"},{"$f":"VLOOKUP(I2792,Referencias!$B$24:$C$41,2,FALSE())","v":"C.MAD"},{"$f":"VLOOKUP(C2792,Referencias!$C$4:$E$21,3,FALSE())","v":3},"Competición","Madrileña"]
["2815072","Gómez Domingo, Carmen","3D","D",{"$f":"VLOOKUP(C2793,Referencias!$C$4:$D$21,2,FALSE())","v":"Tercera Diamante"},{"$f":"VLOOKUP(I2793,Referencias!$B$24:$C$41,2,FALSE())","v":"C.MAD"},{"$f":"VLOOKUP(C2793,Referencias!$C$4:$E$21,3,FALSE())","v":3},"Competición","Madrileña"]
["2815073","Espinosa García, María Angeles","3D","D",{"$f":"VLOOKUP(C2794,Referencias!$C$4:$D$21,2,FALSE())","v":"Tercera Diamante"},{"$f":"VLOOKUP(I2794,Referencias!$B$24:$C$41,2,FALSE())","v":"C.MAD"},{"$f":"VLOOKUP(C2794,Referencias!$C$4:$E$21,3,FALSE())","v":3},"Competición","Madrileña"]
["2815074","Cepedano Beteta, Asún","3D","D",{"$f":"VLOOKUP(C2795,Referencias!$C$4:$D$21,2,FALSE())","v":"Tercera Diamante"},{"$f":"VLOOKUP(I2795,Referencias!$B$24:$C$41,2,FALSE())","v":"C.MAD"},{"$f":"VLOOKUP(C2795,Referencias!$C$4:$E$21,3,FALSE())","v":3},"Competición","Madrileña"]
["2815075","Rotaeche Ozores, Iria","3D","D",{"$f":"VLOOKUP(C2796,Referencias!$C$4:$D$21,2,FALSE())","v":"Tercera Diamante"},{"$f":"VLOOKUP(I2796,Referencias!$B$24:$C$41,2,FALSE())","v":"C.MAD"},{"$f":"VLOOKUP(C2796,Referencias!$C$4:$E$21,3,FALSE())","v":3},"Competición","Madrileña"]
["2815076","Riaño Ibañez, Marta","3D","D",{"$f":"VLOOKUP(C2797,Referencias!$C$4:$D$21,2,FALSE())","v":"Tercera Diamante"},{"$f":"VLOOKUP(I2797,Referencias!$B$24:$C$41,2,FALSE())","v":"C.MAD"},{"$f":"VLOOKUP(C2797,Referencias!$C$4:$E$21,3,FALSE())","v":3},"Competición","Madrileña"]
["2815077","DÍEZ DE POLANCO, JAVIER","3D","C",{"$f":"VLOOKUP(C2798,Referencias!$C$4:$D$21,2,FALSE())","v":"Tercera Diamante"},{"$f":"VLOOKUP(I2798,Referencias!$B$24:$C$41,2,FALSE())","v":"C.MAD"},{"$f":"VLOOKUP(C2798,Referencias!$C$4:$E$21,3,FALSE())","v":3},"Competición","Madrileña"]
["2815078","Martín-González Hernán, María Luisa","3D","C",{"$f":"VLOOKUP(C2799,Referencias!$C$4:$D$21,2,FALSE())","v":"Tercera Diamante"},{"$f":"VLOOKUP(I2799,Referencias!$B$24:$C$41,2,FALSE())","v":"C.MAD"},{"$f":"VLOOKUP(C2799,Referencias!$C$4:$E$21,3,FALSE())","v":3},"Competición","Madrileña"]
["2815080","De San Roman Pais, Paloma","3D","D",{"$f":"VLOOKUP(C2800,Referencias!$C$4:$D$21,2,FALSE())","v":"Tercera Diamante"},{"$f":"VLOOKUP(I2800,Referencias!$B$24:$C$41,2,FALSE())","v":"C.MAD"},{"$f":"VLOOKUP(C2800,Referencias!$C$4:$E$21,3,FALSE())","v":3},"Competición","Madrileña"]
["2815082","Carriles Díaz de Bustamante, Carolina","3D","D",{"$f":"VLOOKUP(C2801,Referencias!$C$4:$D$21,2,FALSE())","v":"Tercera Diamante"},{"$f":"VLOOKUP(I2801,Referencias!$B$24:$C$41,2,FALSE())","v":"C.MAD"},{"$f":"VLOOKUP(C2801,Referencias!$C$4:$E$21,3,FALSE())","v":3},"Competición","Madrileña"]
["2815083","Espluga Gallart, Josefa","3D","D",{"$f":"VLOOKUP(C2802,Referencias!$C$4:$D$21,2,FALSE())","v":"Tercera Diamante"},{"$f":"VLOOKUP(I2802,Referencias!$B$24:$C$41,2,FALSE())","v":"C.MAD"},{"$f":"VLOOKUP(C2802,Referencias!$C$4:$E$21,3,FALSE())","v":3},"Competición","Madrileña"]
["2815084","Palau Depoli, Mirta","3D","D",{"$f":"VLOOKUP(C2803,Referencias!$C$4:$D$21,2,FALSE())","v":"Tercera Diamante"},{"$f":"VLOOKUP(I2803,Referencias!$B$24:$C$41,2,FALSE())","v":"C.MAD"},{"$f":"VLOOKUP(C2803,Referencias!$C$4:$E$21,3,FALSE())","v":3},"Competición","Madrileña"]
["2815085","Laguna Roldán, Constanza","3D","D",{"$f":"VLOOKUP(C2804,Referencias!$C$4:$D$21,2,FALSE())","v":"Tercera Diamante"},{"$f":"VLOOKUP(I2804,Referencias!$B$24:$C$41,2,FALSE())","v":"C.MAD"},{"$f":"VLOOKUP(C2804,Referencias!$C$4:$E$21,3,FALSE())","v":3},"Competición","Madrileña"]
["2815086","Vidal Verdasco, Maria Teresa","3D","D",{"$f":"VLOOKUP(C2805,Referencias!$C$4:$D$21,2,FALSE())","v":"Tercera Diamante"},{"$f":"VLOOKUP(I2805,Referencias!$B$24:$C$41,2,FALSE())","v":"C.MAD"},{"$f":"VLOOKUP(C2805,Referencias!$C$4:$E$21,3,FALSE())","v":3},"Competición","Madrileña"]
["2815087","Garate Barrenechea, Iciar","3D","D",{"$f":"VLOOKUP(C2806,Referencias!$C$4:$D$21,2,FALSE())","v":"Tercera Diamante"},{"$f":"VLOOKUP(I2806,Referencias!$B$24:$C$41,2,FALSE())","v":"C.MAD"},{"$f":"VLOOKUP(C2806,Referencias!$C$4:$E$21,3,FALSE())","v":3},"Competición","Madrileña"]
["2815089","Baeza Martín, Maite","3D","D",{"$f":"VLOOKUP(C2807,Referencias!$C$4:$D$21,2,FALSE())","v":"Tercera Diamante"},{"$f":"VLOOKUP(I2807,Referencias!$B$24:$C$41,2,FALSE())","v":"C.MAD"},{"$f":"VLOOKUP(C2807,Referencias!$C$4:$E$21,3,FALSE())","v":3},"Competición","Madrileña"]
["2815090","García Martín, María del Carmen","3D","D",{"$f":"VLOOKUP(C2808,Referencias!$C$4:$D$21,2,FALSE())","v":"Tercera Diamante"},{"$f":"VLOOKUP(I2808,Referencias!$B$24:$C$41,2,FALSE())","v":"C.MAD"},{"$f":"VLOOKUP(C2808,Referencias!$C$4:$E$21,3,FALSE())","v":3},"Competición","Madrileña"]
["2815091","Gargallo del Río , Ana María","3D","D",{"$f":"VLOOKUP(C2809,Referencias!$C$4:$D$21,2,FALSE())","v":"Tercera Diamante"},{"$f":"VLOOKUP(I2809,Referencias!$B$24:$C$41,2,FALSE())","v":"C.MAD"},{"$f":"VLOOKUP(C2809,Referencias!$C$4:$E$21,3,FALSE())","v":3},"Competición","Madrileña"]
["2815092","Pérez García, Javier","3D","C",{"$f":"VLOOKUP(C2810,Referencias!$C$4:$D$21,2,FALSE())","v":"Tercera Diamante"},{"$f":"VLOOKUP(I2810,Referencias!$B$24:$C$41,2,FALSE())","v":"C.MAD"},{"$f":"VLOOKUP(C2810,Referencias!$C$4:$E$21,3,FALSE())","v":3},"Competición","Madrileña"]
["2815094","Blanco Marenco, María Gemma","3D","D",{"$f":"VLOOKUP(C2811,Referencias!$C$4:$D$21,2,FALSE())","v":"Tercera Diamante"},{"$f":"VLOOKUP(I2811,Referencias!$B$24:$C$41,2,FALSE())","v":"C.MAD"},{"$f":"VLOOKUP(C2811,Referencias!$C$4:$E$21,3,FALSE())","v":3},"Competición","Madrileña"]
["2815095","Goicoechea Rodriguez, Iciar","3D","D",{"$f":"VLOOKUP(C2812,Referencias!$C$4:$D$21,2,FALSE())","v":"Tercera Diamante"},{"$f":"VLOOKUP(I2812,Referencias!$B$24:$C$41,2,FALSE())","v":"C.MAD"},{"$f":"VLOOKUP(C2812,Referencias!$C$4:$E$21,3,FALSE())","v":3},"Competición","Madrileña"]
["2815097","Sicilia Fernández-Shaw, Paloma","3D","D",{"$f":"VLOOKUP(C2813,Referencias!$C$4:$D$21,2,FALSE())","v":"Tercera Diamante"},{"$f":"VLOOKUP(I2813,Referencias!$B$24:$C$41,2,FALSE())","v":"C.MAD"},{"$f":"VLOOKUP(C2813,Referencias!$C$4:$E$21,3,FALSE())","v":3},"Competición","Madrileña"]
["2815098","Molina Pérez, María Antonia","3D","D",{"$f":"VLOOKUP(C2814,Referencias!$C$4:$D$21,2,FALSE())","v":"Tercera Diamante"},{"$f":"VLOOKUP(I2814,Referencias!$B$24:$C$41,2,FALSE())","v":"C.MAD"},{"$f":"VLOOKUP(C2814,Referencias!$C$4:$E$21,3,FALSE())","v":3},"Competición","Madrileña"]
["2815099","Cortina Moreno, Begoña","3D","D",{"$f":"VLOOKUP(C2815,Referencias!$C$4:$D$21,2,FALSE())","v":"Tercera Diamante"},{"$f":"VLOOKUP(I2815,Referencias!$B$24:$C$41,2,FALSE())","v":"C.MAD"},{"$f":"VLOOKUP(C2815,Referencias!$C$4:$E$21,3,FALSE())","v":3},"Competición","Madrileña"]
["2815100","Pillado Fernández, Elena","3D","D",{"$f":"VLOOKUP(C2816,Referencias!$C$4:$D$21,2,FALSE())","v":"Tercera Diamante"},{"$f":"VLOOKUP(I2816,Referencias!$B$24:$C$41,2,FALSE())","v":"C.MAD"},{"$f":"VLOOKUP(C2816,Referencias!$C$4:$E$21,3,FALSE())","v":3},"Competición","Madrileña"]
["2815101","de la Iglesia Mata, María","3D","D",{"$f":"VLOOKUP(C2817,Referencias!$C$4:$D$21,2,FALSE())","v":"Tercera Diamante"},{"$f":"VLOOKUP(I2817,Referencias!$B$24:$C$41,2,FALSE())","v":"C.MAD"},{"$f":"VLOOKUP(C2817,Referencias!$C$4:$E$21,3,FALSE())","v":3},"Competición","Madrileña"]
["2815104","González Rosaenz, Teresa","3D","D",{"$f":"VLOOKUP(C2818,Referencias!$C$4:$D$21,2,FALSE())","v":"Tercera Diamante"},{"$f":"VLOOKUP(I2818,Referencias!$B$24:$C$41,2,FALSE())","v":"C.MAD"},{"$f":"VLOOKUP(C2818,Referencias!$C$4:$E$21,3,FALSE())","v":3},"Competición","Madrileña"]
["2815106","Fernández Mora, Ana María","3D","D",{"$f":"VLOOKUP(C2819,Referencias!$C$4:$D$21,2,FALSE())","v":"Tercera Diamante"},{"$f":"VLOOKUP(I2819,Referencias!$B$24:$C$41,2,FALSE())","v":"C.MAD"},{"$f":"VLOOKUP(C2819,Referencias!$C$4:$E$21,3,FALSE())","v":3},"Competición","Madrileña"]
["2815107","Rigal Mengibar, Juan José","3D","C",{"$f":"VLOOKUP(C2820,Referencias!$C$4:$D$21,2,FALSE())","v":"Tercera Diamante"},{"$f":"VLOOKUP(I2820,Referencias!$B$24:$C$41,2,FALSE())","v":"C.MAD"},{"$f":"VLOOKUP(C2820,Referencias!$C$4:$E$21,3,FALSE())","v":3},"Competición","Madrileña"]
["2815108","Uzel, Nathalie","3D","D",{"$f":"VLOOKUP(C2821,Referencias!$C$4:$D$21,2,FALSE())","v":"Tercera Diamante"},{"$f":"VLOOKUP(I2821,Referencias!$B$24:$C$41,2,FALSE())","v":"C.MAD"},{"$f":"VLOOKUP(C2821,Referencias!$C$4:$E$21,3,FALSE())","v":3},"Competición","Madrileña"]
["2815109","Moretón Cobaleda, Ana","3D","D",{"$f":"VLOOKUP(C2822,Referencias!$C$4:$D$21,2,FALSE())","v":"Tercera Diamante"},{"$f":"VLOOKUP(I2822,Referencias!$B$24:$C$41,2,FALSE())","v":"C.MAD"},{"$f":"VLOOKUP(C2822,Referencias!$C$4:$E$21,3,FALSE())","v":3},"Competición","Madrileña"]
["2815110","Muñoz Bayo, Ángeles","3C","D",{"$f":"VLOOKUP(C2823,Referencias!$C$4:$D$21,2,FALSE())","v":"Tercera Corazón"},{"$f":"VLOOKUP(I2823,Referencias!$B$24:$C$41,2,FALSE())","v":"C.MAD"},{"$f":"VLOOKUP(C2823,Referencias!$C$4:$E$21,3,FALSE())","v":3},"Competición","Madrileña"]
["2815111","Pérez García, Begoña","3D","D",{"$f":"VLOOKUP(C2824,Referencias!$C$4:$D$21,2,FALSE())","v":"Tercera Diamante"},{"$f":"VLOOKUP(I2824,Referencias!$B$24:$C$41,2,FALSE())","v":"C.MAD"},{"$f":"VLOOKUP(C2824,Referencias!$C$4:$E$21,3,FALSE())","v":3},"Competición","Madrileña"]
["2815113","Gil Muñiz, María Jesús","3D","D",{"$f":"VLOOKUP(C2825,Referencias!$C$4:$D$21,2,FALSE())","v":"Tercera Diamante"},{"$f":"VLOOKUP(I2825,Referencias!$B$24:$C$41,2,FALSE())","v":"C.MAD"},{"$f":"VLOOKUP(C2825,Referencias!$C$4:$E$21,3,FALSE())","v":3},"Competición","Madrileña"]
["2815114","Arias Neira, María Cruz","3D","D",{"$f":"VLOOKUP(C2826,Referencias!$C$4:$D$21,2,FALSE())","v":"Tercera Diamante"},{"$f":"VLOOKUP(I2826,Referencias!$B$24:$C$41,2,FALSE())","v":"C.MAD"},{"$f":"VLOOKUP(C2826,Referencias!$C$4:$E$21,3,FALSE())","v":3},"Competición","Madrileña"]
["2815115","Miralles Manresa, Miriam","3D","D",{"$f":"VLOOKUP(C2827,Referencias!$C$4:$D$21,2,FALSE())","v":"Tercera Diamante"},{"$f":"VLOOKUP(I2827,Referencias!$B$24:$C$41,2,FALSE())","v":"C.MAD"},{"$f":"VLOOKUP(C2827,Referencias!$C$4:$E$21,3,FALSE())","v":3},"Competición","Madrileña"]
["2815116","Navarro Tome, Ana","3D","D",{"$f":"VLOOKUP(C2828,Referencias!$C$4:$D$21,2,FALSE())","v":"Tercera Diamante"},{"$f":"VLOOKUP(I2828,Referencias!$B$24:$C$41,2,FALSE())","v":"C.MAD"},{"$f":"VLOOKUP(C2828,Referencias!$C$4:$E$21,3,FALSE())","v":3},"Competición","Madrileña"]
["2815117","Maldonado Luque, Marta","3D","D",{"$f":"VLOOKUP(C2829,Referencias!$C$4:$D$21,2,FALSE())","v":"Tercera Diamante"},{"$f":"VLOOKUP(I2829,Referencias!$B$24:$C$41,2,FALSE())","v":"C.MAD"},{"$f":"VLOOKUP(C2829,Referencias!$C$4:$E$21,3,FALSE())","v":3},"Competición","Madrileña"]
["2815118","Castro Valdivia, Mónica","3C","D",{"$f":"VLOOKUP(C2830,Referencias!$C$4:$D$21,2,FALSE())","v":"Tercera Corazón"},{"$f":"VLOOKUP(I2830,Referencias!$B$24:$C$41,2,FALSE())","v":"C.MAD"},{"$f":"VLOOKUP(C2830,Referencias!$C$4:$E$21,3,FALSE())","v":3},"Competición","Madrileña"]
["2815119","Melero Aloy, Julio","3D","C",{"$f":"VLOOKUP(C2831,Referencias!$C$4:$D$21,2,FALSE())","v":"Tercera Diamante"},{"$f":"VLOOKUP(I2831,Referencias!$B$24:$C$41,2,FALSE())","v":"C.MAD"},{"$f":"VLOOKUP(C2831,Referencias!$C$4:$E$21,3,FALSE())","v":3},"Competición","Madrileña"]
["2815120","Morea Rodríguez, Antonio Javier","3C","C",{"$f":"VLOOKUP(C2832,Referencias!$C$4:$D$21,2,FALSE())","v":"Tercera Corazón"},{"$f":"VLOOKUP(I2832,Referencias!$B$24:$C$41,2,FALSE())","v":"C.MAD"},{"$f":"VLOOKUP(C2832,Referencias!$C$4:$E$21,3,FALSE())","v":3},"Competición","Madrileña"]
["2815121","Orlando Ascaso, Carmen","3C","D",{"$f":"VLOOKUP(C2833,Referencias!$C$4:$D$21,2,FALSE())","v":"Tercera Corazón"},{"$f":"VLOOKUP(I2833,Referencias!$B$24:$C$41,2,FALSE())","v":"C.MAD"},{"$f":"VLOOKUP(C2833,Referencias!$C$4:$E$21,3,FALSE())","v":3},"Competición","Madrileña"]
["2815122","López Díaz, Elvira","3D","D",{"$f":"VLOOKUP(C2834,Referencias!$C$4:$D$21,2,FALSE())","v":"Tercera Diamante"},{"$f":"VLOOKUP(I2834,Referencias!$B$24:$C$41,2,FALSE())","v":"C.MAD"},{"$f":"VLOOKUP(C2834,Referencias!$C$4:$E$21,3,FALSE())","v":3},"Competición","Madrileña"]
["2815124","de Carlos Mendoza, Concepción","3D","D",{"$f":"VLOOKUP(C2835,Referencias!$C$4:$D$21,2,FALSE())","v":"Tercera Diamante"},{"$f":"VLOOKUP(I2835,Referencias!$B$24:$C$41,2,FALSE())","v":"C.MAD"},{"$f":"VLOOKUP(C2835,Referencias!$C$4:$E$21,3,FALSE())","v":3},"Competición","Madrileña"]
["2815125","Stott, Andrew","3D","C",{"$f":"VLOOKUP(C2836,Referencias!$C$4:$D$21,2,FALSE())","v":"Tercera Diamante"},{"$f":"VLOOKUP(I2836,Referencias!$B$24:$C$41,2,FALSE())","v":"C.MAD"},{"$f":"VLOOKUP(C2836,Referencias!$C$4:$E$21,3,FALSE())","v":3},"Competición","Madrileña"]
["2815126","Rojas de la Cruz, Diego","3D","C",{"$f":"VLOOKUP(C2837,Referencias!$C$4:$D$21,2,FALSE())","v":"Tercera Diamante"},{"$f":"VLOOKUP(I2837,Referencias!$B$24:$C$41,2,FALSE())","v":"C.MAD"},{"$f":"VLOOKUP(C2837,Referencias!$C$4:$E$21,3,FALSE())","v":3},"Competición","Madrileña"]
["2815128","Lozano Artolachipi, Mónica","3D","D",{"$f":"VLOOKUP(C2838,Referencias!$C$4:$D$21,2,FALSE())","v":"Tercera Diamante"},{"$f":"VLOOKUP(I2838,Referencias!$B$24:$C$41,2,FALSE())","v":"C.MAD"},{"$f":"VLOOKUP(C2838,Referencias!$C$4:$E$21,3,FALSE())","v":3},"Competición","Madrileña"]
["2815129","Fernández-Shaw Zulueta, Blanca","3D","D",{"$f":"VLOOKUP(C2839,Referencias!$C$4:$D$21,2,FALSE())","v":"Tercera Diamante"},{"$f":"VLOOKUP(I2839,Referencias!$B$24:$C$41,2,FALSE())","v":"C.MAD"},{"$f":"VLOOKUP(C2839,Referencias!$C$4:$E$21,3,FALSE())","v":3},"Competición","Madrileña"]
["2815130","Noheda Ubach, Alicia","3P","C",{"$f":"VLOOKUP(C2840,Referencias!$C$4:$D$21,2,FALSE())","v":"Tercera Picas"},{"$f":"VLOOKUP(I2840,Referencias!$B$24:$C$41,2,FALSE())","v":"C.MAD"},{"$f":"VLOOKUP(C2840,Referencias!$C$4:$E$21,3,FALSE())","v":3},"Competición","Madrileña"]
["2815132","Pérez-Ardá Criado, Javier","3D","C",{"$f":"VLOOKUP(C2841,Referencias!$C$4:$D$21,2,FALSE())","v":"Tercera Diamante"},{"$f":"VLOOKUP(I2841,Referencias!$B$24:$C$41,2,FALSE())","v":"C.MAD"},{"$f":"VLOOKUP(C2841,Referencias!$C$4:$E$21,3,FALSE())","v":3},"Competición","Madrileña"]
["2815133","Precioso de Murga, Isabel","3D","D",{"$f":"VLOOKUP(C2842,Referencias!$C$4:$D$21,2,FALSE())","v":"Tercera Diamante"},{"$f":"VLOOKUP(I2842,Referencias!$B$24:$C$41,2,FALSE())","v":"C.MAD"},{"$f":"VLOOKUP(C2842,Referencias!$C$4:$E$21,3,FALSE())","v":3},"Competición","Madrileña"]
["2815134","Barco Gorostegui, Sofia","3D","D",{"$f":"VLOOKUP(C2843,Referencias!$C$4:$D$21,2,FALSE())","v":"Tercera Diamante"},{"$f":"VLOOKUP(I2843,Referencias!$B$24:$C$41,2,FALSE())","v":"C.MAD"},{"$f":"VLOOKUP(C2843,Referencias!$C$4:$E$21,3,FALSE())","v":3},"Competición","Madrileña"]
["2815136","Pardo Vigo, Ana","3D","D",{"$f":"VLOOKUP(C2844,Referencias!$C$4:$D$21,2,FALSE())","v":"Tercera Diamante"},{"$f":"VLOOKUP(I2844,Referencias!$B$24:$C$41,2,FALSE())","v":"C.MAD"},{"$f":"VLOOKUP(C2844,Referencias!$C$4:$E$21,3,FALSE())","v":3},"Competición","Madrileña"]
["2815137","Tortajada Suils, Cristina","3D","D",{"$f":"VLOOKUP(C2845,Referencias!$C$4:$D$21,2,FALSE())","v":"Tercera Diamante"},{"$f":"VLOOKUP(I2845,Referencias!$B$24:$C$41,2,FALSE())","v":"C.MAD"},{"$f":"VLOOKUP(C2845,Referencias!$C$4:$E$21,3,FALSE())","v":3},"Competición","Madrileña"]
["2815138","Pérez Iturriaga, José Luis","3D","C",{"$f":"VLOOKUP(C2846,Referencias!$C$4:$D$21,2,FALSE())","v":"Tercera Diamante"},{"$f":"VLOOKUP(I2846,Referencias!$B$24:$C$41,2,FALSE())","v":"C.MAD"},{"$f":"VLOOKUP(C2846,Referencias!$C$4:$E$21,3,FALSE())","v":3},"Competición","Madrileña"]
["2815139","Moreu de la Vega, Covadonga Inés","3D","D",{"$f":"VLOOKUP(C2847,Referencias!$C$4:$D$21,2,FALSE())","v":"Tercera Diamante"},{"$f":"VLOOKUP(I2847,Referencias!$B$24:$C$41,2,FALSE())","v":"C.MAD"},{"$f":"VLOOKUP(C2847,Referencias!$C$4:$E$21,3,FALSE())","v":3},"Competición","Madrileña"]
["2815140","Basabe Valor, Fco. Javier","3C","C",{"$f":"VLOOKUP(C2848,Referencias!$C$4:$D$21,2,FALSE())","v":"Tercera Corazón"},{"$f":"VLOOKUP(I2848,Referencias!$B$24:$C$41,2,FALSE())","v":"C.MAD"},{"$f":"VLOOKUP(C2848,Referencias!$C$4:$E$21,3,FALSE())","v":3},"Competición","Madrileña"]
["2815141","Sanz-Ramos Cruz, María Victoria","3D","D",{"$f":"VLOOKUP(C2849,Referencias!$C$4:$D$21,2,FALSE())","v":"Tercera Diamante"},{"$f":"VLOOKUP(I2849,Referencias!$B$24:$C$41,2,FALSE())","v":"C.MAD"},{"$f":"VLOOKUP(C2849,Referencias!$C$4:$E$21,3,FALSE())","v":3},"Competición","Madrileña"]
["2815142","Gabeiras Vazquez, Rafael","3D","C",{"$f":"VLOOKUP(C2850,Referencias!$C$4:$D$21,2,FALSE())","v":"Tercera Diamante"},{"$f":"VLOOKUP(I2850,Referencias!$B$24:$C$41,2,FALSE())","v":"C.MAD"},{"$f":"VLOOKUP(C2850,Referencias!$C$4:$E$21,3,FALSE())","v":3},"Competición","Madrileña"]
["2815143","Rovira Ruiz, Javier","3C","C",{"$f":"VLOOKUP(C2851,Referencias!$C$4:$D$21,2,FALSE())","v":"Tercera Corazón"},{"$f":"VLOOKUP(I2851,Referencias!$B$24:$C$41,2,FALSE())","v":"C.MAD"},{"$f":"VLOOKUP(C2851,Referencias!$C$4:$E$21,3,FALSE())","v":3},"Competición","Madrileña"]
["2815144","Busto Cuervas-Mons, Carmen","3C","D",{"$f":"VLOOKUP(C2852,Referencias!$C$4:$D$21,2,FALSE())","v":"Tercera Corazón"},{"$f":"VLOOKUP(I2852,Referencias!$B$24:$C$41,2,FALSE())","v":"C.MAD"},{"$f":"VLOOKUP(C2852,Referencias!$C$4:$E$21,3,FALSE())","v":3},"Competición","Madrileña"]
["2815145","Portes Fernández, Cynthia","3D","D",{"$f":"VLOOKUP(C2853,Referencias!$C$4:$D$21,2,FALSE())","v":"Tercera Diamante"},{"$f":"VLOOKUP(I2853,Referencias!$B$24:$C$41,2,FALSE())","v":"C.MAD"},{"$f":"VLOOKUP(C2853,Referencias!$C$4:$E$21,3,FALSE())","v":3},"Competición","Madrileña"]
["2815146","Laumans de Haes, Martina","3D","D",{"$f":"VLOOKUP(C2854,Referencias!$C$4:$D$21,2,FALSE())","v":"Tercera Diamante"},{"$f":"VLOOKUP(I2854,Referencias!$B$24:$C$41,2,FALSE())","v":"C.MAD"},{"$f":"VLOOKUP(C2854,Referencias!$C$4:$E$21,3,FALSE())","v":3},"Competición","Madrileña"]
["2815147","de Zulueta Velázquez-Duro, Luz","3P","D",{"$f":"VLOOKUP(C2855,Referencias!$C$4:$D$21,2,FALSE())","v":"Tercera Picas"},{"$f":"VLOOKUP(I2855,Referencias!$B$24:$C$41,2,FALSE())","v":"C.MAD"},{"$f":"VLOOKUP(C2855,Referencias!$C$4:$E$21,3,FALSE())","v":3},"Competición","Madrileña"]
["2815148","Borrego Hernando, Raquel","3D","D",{"$f":"VLOOKUP(C2856,Referencias!$C$4:$D$21,2,FALSE())","v":"Tercera Diamante"},{"$f":"VLOOKUP(I2856,Referencias!$B$24:$C$41,2,FALSE())","v":"C.MAD"},{"$f":"VLOOKUP(C2856,Referencias!$C$4:$E$21,3,FALSE())","v":3},"Competición","Madrileña"]
["2815150","Escudero Diez, Pedro Jesús","3D","C",{"$f":"VLOOKUP(C2857,Referencias!$C$4:$D$21,2,FALSE())","v":"Tercera Diamante"},{"$f":"VLOOKUP(I2857,Referencias!$B$24:$C$41,2,FALSE())","v":"C.MAD"},{"$f":"VLOOKUP(C2857,Referencias!$C$4:$E$21,3,FALSE())","v":3},"Competición","Madrileña"]
["2815151","Ribeiro Pidal, Soledad","3D","D",{"$f":"VLOOKUP(C2858,Referencias!$C$4:$D$21,2,FALSE())","v":"Tercera Diamante"},{"$f":"VLOOKUP(I2858,Referencias!$B$24:$C$41,2,FALSE())","v":"C.MAD"},{"$f":"VLOOKUP(C2858,Referencias!$C$4:$E$21,3,FALSE())","v":3},"Competición","Madrileña"]
["2815152","Ybarra Coello de Portugal, Teresa","3D","D",{"$f":"VLOOKUP(C2859,Referencias!$C$4:$D$21,2,FALSE())","v":"Tercera Diamante"},{"$f":"VLOOKUP(I2859,Referencias!$B$24:$C$41,2,FALSE())","v":"C.MAD"},{"$f":"VLOOKUP(C2859,Referencias!$C$4:$E$21,3,FALSE())","v":3},"Competición","Madrileña"]
["2815153","García-Pardo García-Lorenzana, Beatriz","3C","D",{"$f":"VLOOKUP(C2860,Referencias!$C$4:$D$21,2,FALSE())","v":"Tercera Corazón"},{"$f":"VLOOKUP(I2860,Referencias!$B$24:$C$41,2,FALSE())","v":"C.MAD"},{"$f":"VLOOKUP(C2860,Referencias!$C$4:$E$21,3,FALSE())","v":3},"Competición","Madrileña"]
["2815154","Martín Valladolid, Inmaculada","3D","D",{"$f":"VLOOKUP(C2861,Referencias!$C$4:$D$21,2,FALSE())","v":"Tercera Diamante"},{"$f":"VLOOKUP(I2861,Referencias!$B$24:$C$41,2,FALSE())","v":"C.MAD"},{"$f":"VLOOKUP(C2861,Referencias!$C$4:$E$21,3,FALSE())","v":3},"Competición","Madrileña"]
["2815155","Martín-Moreno Sacristán, María","3D","D",{"$f":"VLOOKUP(C2862,Referencias!$C$4:$D$21,2,FALSE())","v":"Tercera Diamante"},{"$f":"VLOOKUP(I2862,Referencias!$B$24:$C$41,2,FALSE())","v":"C.MAD"},{"$f":"VLOOKUP(C2862,Referencias!$C$4:$E$21,3,FALSE())","v":3},"Competición","Madrileña"]
["2815156","Queipo de Llano Mazzuchelli, Fátima","3D","D",{"$f":"VLOOKUP(C2863,Referencias!$C$4:$D$21,2,FALSE())","v":"Tercera Diamante"},{"$f":"VLOOKUP(I2863,Referencias!$B$24:$C$41,2,FALSE())","v":"C.MAD"},{"$f":"VLOOKUP(C2863,Referencias!$C$4:$E$21,3,FALSE())","v":3},"Junior","Madrileña"]
["2815157","de la Lastra Romero, José Ramón","3D","C",{"$f":"VLOOKUP(C2864,Referencias!$C$4:$D$21,2,FALSE())","v":"Tercera Diamante"},{"$f":"VLOOKUP(I2864,Referencias!$B$24:$C$41,2,FALSE())","v":"C.MAD"},{"$f":"VLOOKUP(C2864,Referencias!$C$4:$E$21,3,FALSE())","v":3},"Junior","Madrileña"]
["2815158","de la Lastra Romero, Almudena","3D","D",{"$f":"VLOOKUP(C2865,Referencias!$C$4:$D$21,2,FALSE())","v":"Tercera Diamante"},{"$f":"VLOOKUP(I2865,Referencias!$B$24:$C$41,2,FALSE())","v":"C.MAD"},{"$f":"VLOOKUP(C2865,Referencias!$C$4:$E$21,3,FALSE())","v":3},"Junior","Madrileña"]
["2815159","de la Lastra Romero, Cristina","3D","D",{"$f":"VLOOKUP(C2866,Referencias!$C$4:$D$21,2,FALSE())","v":"Tercera Diamante"},{"$f":"VLOOKUP(I2866,Referencias!$B$24:$C$41,2,FALSE())","v":"C.MAD"},{"$f":"VLOOKUP(C2866,Referencias!$C$4:$E$21,3,FALSE())","v":3},"Junior","Madrileña"]
["2815160","Gómez Tolcheff, Iñigo","3D","C",{"$f":"VLOOKUP(C2867,Referencias!$C$4:$D$21,2,FALSE())","v":"Tercera Diamante"},{"$f":"VLOOKUP(I2867,Referencias!$B$24:$C$41,2,FALSE())","v":"C.MAD"},{"$f":"VLOOKUP(C2867,Referencias!$C$4:$E$21,3,FALSE())","v":3},"Junior","Madrileña"]
["2815161","Gómez Tolcheff, Katia","3D","D",{"$f":"VLOOKUP(C2868,Referencias!$C$4:$D$21,2,FALSE())","v":"Tercera Diamante"},{"$f":"VLOOKUP(I2868,Referencias!$B$24:$C$41,2,FALSE())","v":"C.MAD"},{"$f":"VLOOKUP(C2868,Referencias!$C$4:$E$21,3,FALSE())","v":3},"Junior","Madrileña"]
["2815162","Gómez Tolcheff, Martín","3D","C",{"$f":"VLOOKUP(C2869,Referencias!$C$4:$D$21,2,FALSE())","v":"Tercera Diamante"},{"$f":"VLOOKUP(I2869,Referencias!$B$24:$C$41,2,FALSE())","v":"C.MAD"},{"$f":"VLOOKUP(C2869,Referencias!$C$4:$E$21,3,FALSE())","v":3},"Junior","Madrileña"]
["2815163","Garrido Hevia, Teresa","3D","D",{"$f":"VLOOKUP(C2870,Referencias!$C$4:$D$21,2,FALSE())","v":"Tercera Diamante"},{"$f":"VLOOKUP(I2870,Referencias!$B$24:$C$41,2,FALSE())","v":"C.MAD"},{"$f":"VLOOKUP(C2870,Referencias!$C$4:$E$21,3,FALSE())","v":3},"Junior","Madrileña"]
["2815164","Moreno Rabanal, Inés","3D","D",{"$f":"VLOOKUP(C2871,Referencias!$C$4:$D$21,2,FALSE())","v":"Tercera Diamante"},{"$f":"VLOOKUP(I2871,Referencias!$B$24:$C$41,2,FALSE())","v":"C.MAD"},{"$f":"VLOOKUP(C2871,Referencias!$C$4:$E$21,3,FALSE())","v":3},"Junior","Madrileña"]
["2815166","Herrera Torquemada, María Asunción","3D","D",{"$f":"VLOOKUP(C2872,Referencias!$C$4:$D$21,2,FALSE())","v":"Tercera Diamante"},{"$f":"VLOOKUP(I2872,Referencias!$B$24:$C$41,2,FALSE())","v":"C.MAD"},{"$f":"VLOOKUP(C2872,Referencias!$C$4:$E$21,3,FALSE())","v":3},"Junior","Madrileña"]
["2815167","de Cárcer Serrahima, Cayetana","3D","D",{"$f":"VLOOKUP(C2873,Referencias!$C$4:$D$21,2,FALSE())","v":"Tercera Diamante"},{"$f":"VLOOKUP(I2873,Referencias!$B$24:$C$41,2,FALSE())","v":"C.MAD"},{"$f":"VLOOKUP(C2873,Referencias!$C$4:$E$21,3,FALSE())","v":3},"Junior","Madrileña"]
["2815168","Manzaneque Palau, Marta","3D","D",{"$f":"VLOOKUP(C2874,Referencias!$C$4:$D$21,2,FALSE())","v":"Tercera Diamante"},{"$f":"VLOOKUP(I2874,Referencias!$B$24:$C$41,2,FALSE())","v":"C.MAD"},{"$f":"VLOOKUP(C2874,Referencias!$C$4:$E$21,3,FALSE())","v":3},"Junior","Madrileña"]
["2815169","Lobo Peralta, Artur","3D","C",{"$f":"VLOOKUP(C2875,Referencias!$C$4:$D$21,2,FALSE())","v":"Tercera Diamante"},{"$f":"VLOOKUP(I2875,Referencias!$B$24:$C$41,2,FALSE())","v":"C.MAD"},{"$f":"VLOOKUP(C2875,Referencias!$C$4:$E$21,3,FALSE())","v":3},"Junior","Madrileña"]
["2815172","García Alonso-Burón, Juan","3D","C",{"$f":"VLOOKUP(C2876,Referencias!$C$4:$D$21,2,FALSE())","v":"Tercera Diamante"},{"$f":"VLOOKUP(I2876,Referencias!$B$24:$C$41,2,FALSE())","v":"C.MAD"},{"$f":"VLOOKUP(C2876,Referencias!$C$4:$E$21,3,FALSE())","v":3},"Junior","Madrileña"]
["2815173","Rodríguez-Marín Moreira, Martina","3D","D",{"$f":"VLOOKUP(C2877,Referencias!$C$4:$D$21,2,FALSE())","v":"Tercera Diamante"},{"$f":"VLOOKUP(I2877,Referencias!$B$24:$C$41,2,FALSE())","v":"C.MAD"},{"$f":"VLOOKUP(C2877,Referencias!$C$4:$E$21,3,FALSE())","v":3},"Junior","Madrileña"]
["2815174","Santaolalla López, María Cristina","3D","D",{"$f":"VLOOKUP(C2878,Referencias!$C$4:$D$21,2,FALSE())","v":"Tercera Diamante"},{"$f":"VLOOKUP(I2878,Referencias!$B$24:$C$41,2,FALSE())","v":"C.MAD"},{"$f":"VLOOKUP(C2878,Referencias!$C$4:$E$21,3,FALSE())","v":3},"Competición","Madrileña"]
["2815175","van Thiel Coovels, Léontine","3D","D",{"$f":"VLOOKUP(C2879,Referencias!$C$4:$D$21,2,FALSE())","v":"Tercera Diamante"},{"$f":"VLOOKUP(I2879,Referencias!$B$24:$C$41,2,FALSE())","v":"C.MAD"},{"$f":"VLOOKUP(C2879,Referencias!$C$4:$E$21,3,FALSE())","v":3},"Competición","Madrileña"]
["2815176","Navarro López-Chicheri, Manuela","3D","D",{"$f":"VLOOKUP(C2880,Referencias!$C$4:$D$21,2,FALSE())","v":"Tercera Diamante"},{"$f":"VLOOKUP(I2880,Referencias!$B$24:$C$41,2,FALSE())","v":"C.MAD"},{"$f":"VLOOKUP(C2880,Referencias!$C$4:$E$21,3,FALSE())","v":3},"Competición","Madrileña"]
["2815179","Sánz de León, Olga María","3D","D",{"$f":"VLOOKUP(C2881,Referencias!$C$4:$D$21,2,FALSE())","v":"Tercera Diamante"},{"$f":"VLOOKUP(I2881,Referencias!$B$24:$C$41,2,FALSE())","v":"C.MAD"},{"$f":"VLOOKUP(C2881,Referencias!$C$4:$E$21,3,FALSE())","v":3},"Competición","Madrileña"]
["2815181","Lueches Talavera, Loreto","3D","D",{"$f":"VLOOKUP(C2882,Referencias!$C$4:$D$21,2,FALSE())","v":"Tercera Diamante"},{"$f":"VLOOKUP(I2882,Referencias!$B$24:$C$41,2,FALSE())","v":"C.MAD"},{"$f":"VLOOKUP(C2882,Referencias!$C$4:$E$21,3,FALSE())","v":3},"Competición","Madrileña"]
["2815182","Tolcheff Alvarez, Natalia","3D","D",{"$f":"VLOOKUP(C2883,Referencias!$C$4:$D$21,2,FALSE())","v":"Tercera Diamante"},{"$f":"VLOOKUP(I2883,Referencias!$B$24:$C$41,2,FALSE())","v":"C.MAD"},{"$f":"VLOOKUP(C2883,Referencias!$C$4:$E$21,3,FALSE())","v":3},"Competición","Madrileña"]
["2815183","Bullón Alemán, Mar","3D","D",{"$f":"VLOOKUP(C2884,Referencias!$C$4:$D$21,2,FALSE())","v":"Tercera Diamante"},{"$f":"VLOOKUP(I2884,Referencias!$B$24:$C$41,2,FALSE())","v":"C.MAD"},{"$f":"VLOOKUP(C2884,Referencias!$C$4:$E$21,3,FALSE())","v":3},"Competición","Madrileña"]
["2815184","Rodríguez-Arguelles Riva, Sara","3D","D",{"$f":"VLOOKUP(C2885,Referencias!$C$4:$D$21,2,FALSE())","v":"Tercera Diamante"},{"$f":"VLOOKUP(I2885,Referencias!$B$24:$C$41,2,FALSE())","v":"C.MAD"},{"$f":"VLOOKUP(C2885,Referencias!$C$4:$E$21,3,FALSE())","v":3},"Competición","Madrileña"]
["2815186","Sicilia de la Torre, Ana","3D","D",{"$f":"VLOOKUP(C2886,Referencias!$C$4:$D$21,2,FALSE())","v":"Tercera Diamante"},{"$f":"VLOOKUP(I2886,Referencias!$B$24:$C$41,2,FALSE())","v":"C.MAD"},{"$f":"VLOOKUP(C2886,Referencias!$C$4:$E$21,3,FALSE())","v":3},"Competición","Madrileña"]
["2815188","Casanueva de la Colina, Natalia","3D","D",{"$f":"VLOOKUP(C2887,Referencias!$C$4:$D$21,2,FALSE())","v":"Tercera Diamante"},{"$f":"VLOOKUP(I2887,Referencias!$B$24:$C$41,2,FALSE())","v":"C.MAD"},{"$f":"VLOOKUP(C2887,Referencias!$C$4:$E$21,3,FALSE())","v":3},"Competición","Madrileña"]
["2815189","Peralta Lechuga, Beatriz","3D","D",{"$f":"VLOOKUP(C2888,Referencias!$C$4:$D$21,2,FALSE())","v":"Tercera Diamante"},{"$f":"VLOOKUP(I2888,Referencias!$B$24:$C$41,2,FALSE())","v":"C.MAD"},{"$f":"VLOOKUP(C2888,Referencias!$C$4:$E$21,3,FALSE())","v":3},"Competición","Madrileña"]
["2815190","Fernández López, Amelia","3D","D",{"$f":"VLOOKUP(C2889,Referencias!$C$4:$D$21,2,FALSE())","v":"Tercera Diamante"},{"$f":"VLOOKUP(I2889,Referencias!$B$24:$C$41,2,FALSE())","v":"C.MAD"},{"$f":"VLOOKUP(C2889,Referencias!$C$4:$E$21,3,FALSE())","v":3},"Competición","Madrileña"]
["2815191","Clavería González, Pilar","3D","D",{"$f":"VLOOKUP(C2890,Referencias!$C$4:$D$21,2,FALSE())","v":"Tercera Diamante"},{"$f":"VLOOKUP(I2890,Referencias!$B$24:$C$41,2,FALSE())","v":"C.MAD"},{"$f":"VLOOKUP(C2890,Referencias!$C$4:$E$21,3,FALSE())","v":3},"Competición","Madrileña"]
["2815192","Malo de Molina Martín-Montalvo, Almudena","3D","D",{"$f":"VLOOKUP(C2891,Referencias!$C$4:$D$21,2,FALSE())","v":"Tercera Diamante"},{"$f":"VLOOKUP(I2891,Referencias!$B$24:$C$41,2,FALSE())","v":"C.MAD"},{"$f":"VLOOKUP(C2891,Referencias!$C$4:$E$21,3,FALSE())","v":3},"Competición","Madrileña"]
["2815194","Herrería de la Lastra, Leticia","3D","D",{"$f":"VLOOKUP(C2892,Referencias!$C$4:$D$21,2,FALSE())","v":"Tercera Diamante"},{"$f":"VLOOKUP(I2892,Referencias!$B$24:$C$41,2,FALSE())","v":"C.MAD"},{"$f":"VLOOKUP(C2892,Referencias!$C$4:$E$21,3,FALSE())","v":3},"Competición","Madrileña"]
["2815195","Conejero Martínez, Ana","3D","D",{"$f":"VLOOKUP(C2893,Referencias!$C$4:$D$21,2,FALSE())","v":"Tercera Diamante"},{"$f":"VLOOKUP(I2893,Referencias!$B$24:$C$41,2,FALSE())","v":"C.MAD"},{"$f":"VLOOKUP(C2893,Referencias!$C$4:$E$21,3,FALSE())","v":3},"Competición","Madrileña"]
["2815196","Hall, Mark","3D","D",{"$f":"VLOOKUP(C2894,Referencias!$C$4:$D$21,2,FALSE())","v":"Tercera Diamante"},{"$f":"VLOOKUP(I2894,Referencias!$B$24:$C$41,2,FALSE())","v":"C.MAD"},{"$f":"VLOOKUP(C2894,Referencias!$C$4:$E$21,3,FALSE())","v":3},"Competición","Madrileña"]
["2815197","Gálvez del Hierro, Ignacio","3D","C",{"$f":"VLOOKUP(C2895,Referencias!$C$4:$D$21,2,FALSE())","v":"Tercera Diamante"},{"$f":"VLOOKUP(I2895,Referencias!$B$24:$C$41,2,FALSE())","v":"C.MAD"},{"$f":"VLOOKUP(C2895,Referencias!$C$4:$E$21,3,FALSE())","v":3},"Competición","Madrileña"]
["2815198","Santos Alonso, Roberto","3D","C",{"$f":"VLOOKUP(C2896,Referencias!$C$4:$D$21,2,FALSE())","v":"Tercera Diamante"},{"$f":"VLOOKUP(I2896,Referencias!$B$24:$C$41,2,FALSE())","v":"C.MAD"},{"$f":"VLOOKUP(C2896,Referencias!$C$4:$E$21,3,FALSE())","v":3},"Competición","Madrileña"]
["2815199","García Alonso-Burón, Fernando","3D","C",{"$f":"VLOOKUP(C2897,Referencias!$C$4:$D$21,2,FALSE())","v":"Tercera Diamante"},{"$f":"VLOOKUP(I2897,Referencias!$B$24:$C$41,2,FALSE())","v":"C.MAD"},{"$f":"VLOOKUP(C2897,Referencias!$C$4:$E$21,3,FALSE())","v":3},"Junior","Madrileña"]
["2815200","Gómez Tolcheff, Luis","3D","C",{"$f":"VLOOKUP(C2898,Referencias!$C$4:$D$21,2,FALSE())","v":"Tercera Diamante"},{"$f":"VLOOKUP(I2898,Referencias!$B$24:$C$41,2,FALSE())","v":"C.MAD"},{"$f":"VLOOKUP(C2898,Referencias!$C$4:$E$21,3,FALSE())","v":3},"Junior","Madrileña"]
["2815201","Milano Hernández, Nicole Alexandra","3D","C",{"$f":"VLOOKUP(C2899,Referencias!$C$4:$D$21,2,FALSE())","v":"Tercera Diamante"},{"$f":"VLOOKUP(I2899,Referencias!$B$24:$C$41,2,FALSE())","v":"C.MAD"},{"$f":"VLOOKUP(C2899,Referencias!$C$4:$E$21,3,FALSE())","v":3},"Junior","Madrileña"]
["2815202","del Rio Merino, Isabel","3D","D",{"$f":"VLOOKUP(C2900,Referencias!$C$4:$D$21,2,FALSE())","v":"Tercera Diamante"},{"$f":"VLOOKUP(I2900,Referencias!$B$24:$C$41,2,FALSE())","v":"C.MAD"},{"$f":"VLOOKUP(C2900,Referencias!$C$4:$E$21,3,FALSE())","v":3},"Competición","Madrileña"]
["2815203","Izquierdo Barthelemy, Sara","3D","D",{"$f":"VLOOKUP(C2901,Referencias!$C$4:$D$21,2,FALSE())","v":"Tercera Diamante"},{"$f":"VLOOKUP(I2901,Referencias!$B$24:$C$41,2,FALSE())","v":"C.MAD"},{"$f":"VLOOKUP(C2901,Referencias!$C$4:$E$21,3,FALSE())","v":3},"Competición","Madrileña"]
["2815204","Martín García, María","3D","D",{"$f":"VLOOKUP(C2902,Referencias!$C$4:$D$21,2,FALSE())","v":"Tercera Diamante"},{"$f":"VLOOKUP(I2902,Referencias!$B$24:$C$41,2,FALSE())","v":"C.MAD"},{"$f":"VLOOKUP(C2902,Referencias!$C$4:$E$21,3,FALSE())","v":3},"Competición","Madrileña"]
["2815205","de Regnauld Bellescize, Stanislas","3D","D",{"$f":"VLOOKUP(C2903,Referencias!$C$4:$D$21,2,FALSE())","v":"Tercera Diamante"},{"$f":"VLOOKUP(I2903,Referencias!$B$24:$C$41,2,FALSE())","v":"C.MAD"},{"$f":"VLOOKUP(C2903,Referencias!$C$4:$E$21,3,FALSE())","v":3},"Competición","Madrileña"]
["2815206","Labayen López, Carmen","3D","D",{"$f":"VLOOKUP(C2904,Referencias!$C$4:$D$21,2,FALSE())","v":"Tercera Diamante"},{"$f":"VLOOKUP(I2904,Referencias!$B$24:$C$41,2,FALSE())","v":"C.MAD"},{"$f":"VLOOKUP(C2904,Referencias!$C$4:$E$21,3,FALSE())","v":3},"Competición","Madrileña"]
["2815207","Mora Navarro, Noelia","3D","D",{"$f":"VLOOKUP(C2905,Referencias!$C$4:$D$21,2,FALSE())","v":"Tercera Diamante"},{"$f":"VLOOKUP(I2905,Referencias!$B$24:$C$41,2,FALSE())","v":"C.MAD"},{"$f":"VLOOKUP(C2905,Referencias!$C$4:$E$21,3,FALSE())","v":3},"Competición","Madrileña"]
["2815208","Hernanz García-Cuenca, Esther","3D","D",{"$f":"VLOOKUP(C2906,Referencias!$C$4:$D$21,2,FALSE())","v":"Tercera Diamante"},{"$f":"VLOOKUP(I2906,Referencias!$B$24:$C$41,2,FALSE())","v":"C.MAD"},{"$f":"VLOOKUP(C2906,Referencias!$C$4:$E$21,3,FALSE())","v":3},"Competición","Madrileña"]
["2815209","Rodríguez González de Canales, Almudena","3D","D",{"$f":"VLOOKUP(C2907,Referencias!$C$4:$D$21,2,FALSE())","v":"Tercera Diamante"},{"$f":"VLOOKUP(I2907,Referencias!$B$24:$C$41,2,FALSE())","v":"C.MAD"},{"$f":"VLOOKUP(C2907,Referencias!$C$4:$E$21,3,FALSE())","v":3},"Competición","Madrileña"]
["2815210","Pacheco García-Germán, Emma","3D","D",{"$f":"VLOOKUP(C2908,Referencias!$C$4:$D$21,2,FALSE())","v":"Tercera Diamante"},{"$f":"VLOOKUP(I2908,Referencias!$B$24:$C$41,2,FALSE())","v":"C.MAD"},{"$f":"VLOOKUP(C2908,Referencias!$C$4:$E$21,3,FALSE())","v":3},"Competición","Madrileña"]
["2815211","Torres de Castro Pardo de Andrade, Beatriz","3D","D",{"$f":"VLOOKUP(C2909,Referencias!$C$4:$D$21,2,FALSE())","v":"Tercera Diamante"},{"$f":"VLOOKUP(I2909,Referencias!$B$24:$C$41,2,FALSE())","v":"C.MAD"},{"$f":"VLOOKUP(C2909,Referencias!$C$4:$E$21,3,FALSE())","v":3},"Competición","Madrileña"]
["2815212","González Prieto, Isabel","3D","D",{"$f":"VLOOKUP(C2910,Referencias!$C$4:$D$21,2,FALSE())","v":"Tercera Diamante"},{"$f":"VLOOKUP(I2910,Referencias!$B$24:$C$41,2,FALSE())","v":"C.MAD"},{"$f":"VLOOKUP(C2910,Referencias!$C$4:$E$21,3,FALSE())","v":3},"Competición","Madrileña"]
["2815213","González Prieto, Camino","3D","D",{"$f":"VLOOKUP(C2911,Referencias!$C$4:$D$21,2,FALSE())","v":"Tercera Diamante"},{"$f":"VLOOKUP(I2911,Referencias!$B$24:$C$41,2,FALSE())","v":"C.MAD"},{"$f":"VLOOKUP(C2911,Referencias!$C$4:$E$21,3,FALSE())","v":3},"Competición","Madrileña"]
["2815218","Carazo Fornieles, María del Mar","3D","D",{"$f":"VLOOKUP(C2912,Referencias!$C$4:$D$21,2,FALSE())","v":"Tercera Diamante"},{"$f":"VLOOKUP(I2912,Referencias!$B$24:$C$41,2,FALSE())","v":"C.MAD"},{"$f":"VLOOKUP(C2912,Referencias!$C$4:$E$21,3,FALSE())","v":3},"Competición","Madrileña"]
["2815219","Sánchez de la Rosa Fernández, Gemma","3D","D",{"$f":"VLOOKUP(C2913,Referencias!$C$4:$D$21,2,FALSE())","v":"Tercera Diamante"},{"$f":"VLOOKUP(I2913,Referencias!$B$24:$C$41,2,FALSE())","v":"C.MAD"},{"$f":"VLOOKUP(C2913,Referencias!$C$4:$E$21,3,FALSE())","v":3},"Competición","Madrileña"]
["2815222","Pujadas Descartín, Ana","3D","D",{"$f":"VLOOKUP(C2914,Referencias!$C$4:$D$21,2,FALSE())","v":"Tercera Diamante"},{"$f":"VLOOKUP(I2914,Referencias!$B$24:$C$41,2,FALSE())","v":"C.MAD"},{"$f":"VLOOKUP(C2914,Referencias!$C$4:$E$21,3,FALSE())","v":3},"Competición","Madrileña"]
["2815223","Andreo Gabán, Mayte","3D","D",{"$f":"VLOOKUP(C2915,Referencias!$C$4:$D$21,2,FALSE())","v":"Tercera Diamante"},{"$f":"VLOOKUP(I2915,Referencias!$B$24:$C$41,2,FALSE())","v":"C.MAD"},{"$f":"VLOOKUP(C2915,Referencias!$C$4:$E$21,3,FALSE())","v":3},"Competición","Madrileña"]
["2815224","Fernández Villena, Lucia","3D","D",{"$f":"VLOOKUP(C2916,Referencias!$C$4:$D$21,2,FALSE())","v":"Tercera Diamante"},{"$f":"VLOOKUP(I2916,Referencias!$B$24:$C$41,2,FALSE())","v":"C.MAD"},{"$f":"VLOOKUP(C2916,Referencias!$C$4:$E$21,3,FALSE())","v":3},"Competición","Madrileña"]
["2815225","Muñoz Lázaro, Felix","3D","C",{"$f":"VLOOKUP(C2917,Referencias!$C$4:$D$21,2,FALSE())","v":"Tercera Diamante"},{"$f":"VLOOKUP(I2917,Referencias!$B$24:$C$41,2,FALSE())","v":"C.MAD"},{"$f":"VLOOKUP(C2917,Referencias!$C$4:$E$21,3,FALSE())","v":3},"Competición","Madrileña"]
["2815226","del Olmo López, María","3D","D",{"$f":"VLOOKUP(C2918,Referencias!$C$4:$D$21,2,FALSE())","v":"Tercera Diamante"},{"$f":"VLOOKUP(I2918,Referencias!$B$24:$C$41,2,FALSE())","v":"C.MAD"},{"$f":"VLOOKUP(C2918,Referencias!$C$4:$E$21,3,FALSE())","v":3},"Competición","Madrileña"]
["2815227","Losada Gómez, Aurora","3D","D",{"$f":"VLOOKUP(C2919,Referencias!$C$4:$D$21,2,FALSE())","v":"Tercera Diamante"},{"$f":"VLOOKUP(I2919,Referencias!$B$24:$C$41,2,FALSE())","v":"C.MAD"},{"$f":"VLOOKUP(C2919,Referencias!$C$4:$E$21,3,FALSE())","v":3},"Competición","Madrileña"]
["2815228","Galvache Gómez, José","3D","C",{"$f":"VLOOKUP(C2920,Referencias!$C$4:$D$21,2,FALSE())","v":"Tercera Diamante"},{"$f":"VLOOKUP(I2920,Referencias!$B$24:$C$41,2,FALSE())","v":"C.MAD"},{"$f":"VLOOKUP(C2920,Referencias!$C$4:$E$21,3,FALSE())","v":3},"Competición","Madrileña"]
["2815229","Torroja Gascón, Carlos","3D","C",{"$f":"VLOOKUP(C2921,Referencias!$C$4:$D$21,2,FALSE())","v":"Tercera Diamante"},{"$f":"VLOOKUP(I2921,Referencias!$B$24:$C$41,2,FALSE())","v":"C.MAD"},{"$f":"VLOOKUP(C2921,Referencias!$C$4:$E$21,3,FALSE())","v":3},"Competición","Madrileña"]
["2815230","Sorela Pouget, Solange","3D","D",{"$f":"VLOOKUP(C2922,Referencias!$C$4:$D$21,2,FALSE())","v":"Tercera Diamante"},{"$f":"VLOOKUP(I2922,Referencias!$B$24:$C$41,2,FALSE())","v":"C.MAD"},{"$f":"VLOOKUP(C2922,Referencias!$C$4:$E$21,3,FALSE())","v":3},"Competición","Madrileña"]
["2815231","de Pablo de Andrés, María","3D","D",{"$f":"VLOOKUP(C2923,Referencias!$C$4:$D$21,2,FALSE())","v":"Tercera Diamante"},{"$f":"VLOOKUP(I2923,Referencias!$B$24:$C$41,2,FALSE())","v":"C.MAD"},{"$f":"VLOOKUP(C2923,Referencias!$C$4:$E$21,3,FALSE())","v":3},"Competición","Madrileña"]
["2815232","Malison, Marina","3D","D",{"$f":"VLOOKUP(C2924,Referencias!$C$4:$D$21,2,FALSE())","v":"Tercera Diamante"},{"$f":"VLOOKUP(I2924,Referencias!$B$24:$C$41,2,FALSE())","v":"C.MAD"},{"$f":"VLOOKUP(C2924,Referencias!$C$4:$E$21,3,FALSE())","v":3},"Competición","Madrileña"]
["2815233","Gómez Sánchez, Elena Beatriz","3D","D",{"$f":"VLOOKUP(C2925,Referencias!$C$4:$D$21,2,FALSE())","v":"Tercera Diamante"},{"$f":"VLOOKUP(I2925,Referencias!$B$24:$C$41,2,FALSE())","v":"C.MAD"},{"$f":"VLOOKUP(C2925,Referencias!$C$4:$E$21,3,FALSE())","v":3},"Competición","Madrileña"]
["2815234","de la Torre Zorrilla , Lucia","3D","D",{"$f":"VLOOKUP(C2926,Referencias!$C$4:$D$21,2,FALSE())","v":"Tercera Diamante"},{"$f":"VLOOKUP(I2926,Referencias!$B$24:$C$41,2,FALSE())","v":"C.MAD"},{"$f":"VLOOKUP(C2926,Referencias!$C$4:$E$21,3,FALSE())","v":3},"Competición","Madrileña"]
["2815235","Canovas del Castillo Pascual, Beatriz","3D","D",{"$f":"VLOOKUP(C2927,Referencias!$C$4:$D$21,2,FALSE())","v":"Tercera Diamante"},{"$f":"VLOOKUP(I2927,Referencias!$B$24:$C$41,2,FALSE())","v":"C.MAD"},{"$f":"VLOOKUP(C2927,Referencias!$C$4:$E$21,3,FALSE())","v":3},"Competición","Madrileña"]
["2815236","Soriano Trujillo, Flor","3D","D",{"$f":"VLOOKUP(C2928,Referencias!$C$4:$D$21,2,FALSE())","v":"Tercera Diamante"},{"$f":"VLOOKUP(I2928,Referencias!$B$24:$C$41,2,FALSE())","v":"C.MAD"},{"$f":"VLOOKUP(C2928,Referencias!$C$4:$E$21,3,FALSE())","v":3},"Competición","Madrileña"]
["2815237","Cabredo Anta, Paloma","3D","D",{"$f":"VLOOKUP(C2929,Referencias!$C$4:$D$21,2,FALSE())","v":"Tercera Diamante"},{"$f":"VLOOKUP(I2929,Referencias!$B$24:$C$41,2,FALSE())","v":"C.MAD"},{"$f":"VLOOKUP(C2929,Referencias!$C$4:$E$21,3,FALSE())","v":3},"Competición","Madrileña"]
["2815239","Jardón Beamonte, Andrés","3P","C",{"$f":"VLOOKUP(C2930,Referencias!$C$4:$D$21,2,FALSE())","v":"Tercera Picas"},{"$f":"VLOOKUP(I2930,Referencias!$B$24:$C$41,2,FALSE())","v":"C.MAD"},{"$f":"VLOOKUP(C2930,Referencias!$C$4:$E$21,3,FALSE())","v":3},"Competición","Madrileña"]
["2815240","Martín Hernández, María del Carmen","3D","D",{"$f":"VLOOKUP(C2931,Referencias!$C$4:$D$21,2,FALSE())","v":"Tercera Diamante"},{"$f":"VLOOKUP(I2931,Referencias!$B$24:$C$41,2,FALSE())","v":"C.MAD"},{"$f":"VLOOKUP(C2931,Referencias!$C$4:$E$21,3,FALSE())","v":3},"Competición","Madrileña"]
["2815243","Mesa Muñoz-Cobo, Rosa María","3D","D",{"$f":"VLOOKUP(C2932,Referencias!$C$4:$D$21,2,FALSE())","v":"Tercera Diamante"},{"$f":"VLOOKUP(I2932,Referencias!$B$24:$C$41,2,FALSE())","v":"C.MAD"},{"$f":"VLOOKUP(C2932,Referencias!$C$4:$E$21,3,FALSE())","v":3},"Competición","Madrileña"]
["2815244","Vargas Vignoli, Alejandro","2P","C",{"$f":"VLOOKUP(C2933,Referencias!$C$4:$D$21,2,FALSE())","v":"Segunda Picas"},{"$f":"VLOOKUP(I2933,Referencias!$B$24:$C$41,2,FALSE())","v":"C.MAD"},{"$f":"VLOOKUP(C2933,Referencias!$C$4:$E$21,3,FALSE())","v":2},"Competición","Madrileña"]
["2815245","Rueda García, Eva María","3D","D",{"$f":"VLOOKUP(C2934,Referencias!$C$4:$D$21,2,FALSE())","v":"Tercera Diamante"},{"$f":"VLOOKUP(I2934,Referencias!$B$24:$C$41,2,FALSE())","v":"C.MAD"},{"$f":"VLOOKUP(C2934,Referencias!$C$4:$E$21,3,FALSE())","v":3},"Competición","Madrileña"]
["2815246","Rodríguez-Arias Delgado, Dolores","3D","D",{"$f":"VLOOKUP(C2935,Referencias!$C$4:$D$21,2,FALSE())","v":"Tercera Diamante"},{"$f":"VLOOKUP(I2935,Referencias!$B$24:$C$41,2,FALSE())","v":"C.MAD"},{"$f":"VLOOKUP(C2935,Referencias!$C$4:$E$21,3,FALSE())","v":3},"Competición","Madrileña"]
["2815247","Pérez-Jaraiz Masa, María del Mar","3D","D",{"$f":"VLOOKUP(C2936,Referencias!$C$4:$D$21,2,FALSE())","v":"Tercera Diamante"},{"$f":"VLOOKUP(I2936,Referencias!$B$24:$C$41,2,FALSE())","v":"C.MAD"},{"$f":"VLOOKUP(C2936,Referencias!$C$4:$E$21,3,FALSE())","v":3},"Competición","Madrileña"]
["2815248","Vilas Gómez, Ángeles","3C","D",{"$f":"VLOOKUP(C2937,Referencias!$C$4:$D$21,2,FALSE())","v":"Tercera Corazón"},{"$f":"VLOOKUP(I2937,Referencias!$B$24:$C$41,2,FALSE())","v":"C.MAD"},{"$f":"VLOOKUP(C2937,Referencias!$C$4:$E$21,3,FALSE())","v":3},"Competición","Madrileña"]
["2815249","Sandoval, Enrique","3D","D",{"$f":"VLOOKUP(C2938,Referencias!$C$4:$D$21,2,FALSE())","v":"Tercera Diamante"},{"$f":"VLOOKUP(I2938,Referencias!$B$24:$C$41,2,FALSE())","v":"C.MAD"},{"$f":"VLOOKUP(C2938,Referencias!$C$4:$E$21,3,FALSE())","v":3},"Competición","Madrileña"]
["2815250","Pérez Millán, Gloria","3D","D",{"$f":"VLOOKUP(C2939,Referencias!$C$4:$D$21,2,FALSE())","v":"Tercera Diamante"},{"$f":"VLOOKUP(I2939,Referencias!$B$24:$C$41,2,FALSE())","v":"C.MAD"},{"$f":"VLOOKUP(C2939,Referencias!$C$4:$E$21,3,FALSE())","v":3},"Competición","Madrileña"]
["2815252","de Oteyza Scull, Silvia","3D","D",{"$f":"VLOOKUP(C2940,Referencias!$C$4:$D$21,2,FALSE())","v":"Tercera Diamante"},{"$f":"VLOOKUP(I2940,Referencias!$B$24:$C$41,2,FALSE())","v":"C.MAD"},{"$f":"VLOOKUP(C2940,Referencias!$C$4:$E$21,3,FALSE())","v":3},"Competición","Madrileña"]
["2815253","Iglesias Gil de Bernabé , María Luisa","3D","D",{"$f":"VLOOKUP(C2941,Referencias!$C$4:$D$21,2,FALSE())","v":"Tercera Diamante"},{"$f":"VLOOKUP(I2941,Referencias!$B$24:$C$41,2,FALSE())","v":"C.MAD"},{"$f":"VLOOKUP(C2941,Referencias!$C$4:$E$21,3,FALSE())","v":3},"Competición","Madrileña"]
["2815254","Rodriguez Añino, Rafael","3D","C",{"$f":"VLOOKUP(C2942,Referencias!$C$4:$D$21,2,FALSE())","v":"Tercera Diamante"},{"$f":"VLOOKUP(I2942,Referencias!$B$24:$C$41,2,FALSE())","v":"C.MAD"},{"$f":"VLOOKUP(C2942,Referencias!$C$4:$E$21,3,FALSE())","v":3},"Competición","Madrileña"]
["2815256","Rodríguez-Arias Olleros, María","3D","D",{"$f":"VLOOKUP(C2943,Referencias!$C$4:$D$21,2,FALSE())","v":"Tercera Diamante"},{"$f":"VLOOKUP(I2943,Referencias!$B$24:$C$41,2,FALSE())","v":"C.MAD"},{"$f":"VLOOKUP(C2943,Referencias!$C$4:$E$21,3,FALSE())","v":3},"Competición","Madrileña"]
["2815257","Puig García de la Vega, Clara","3D","D",{"$f":"VLOOKUP(C2944,Referencias!$C$4:$D$21,2,FALSE())","v":"Tercera Diamante"},{"$f":"VLOOKUP(I2944,Referencias!$B$24:$C$41,2,FALSE())","v":"C.MAD"},{"$f":"VLOOKUP(C2944,Referencias!$C$4:$E$21,3,FALSE())","v":3},"Junior","Madrileña"]
["2815258","Casado González, Pilar","3D","D",{"$f":"VLOOKUP(C2945,Referencias!$C$4:$D$21,2,FALSE())","v":"Tercera Diamante"},{"$f":"VLOOKUP(I2945,Referencias!$B$24:$C$41,2,FALSE())","v":"C.MAD"},{"$f":"VLOOKUP(C2945,Referencias!$C$4:$E$21,3,FALSE())","v":3},"Competición","Madrileña"]
["2815259","Barneto Hernández, Gala Teresa","3D","D",{"$f":"VLOOKUP(C2946,Referencias!$C$4:$D$21,2,FALSE())","v":"Tercera Diamante"},{"$f":"VLOOKUP(I2946,Referencias!$B$24:$C$41,2,FALSE())","v":"C.MAD"},{"$f":"VLOOKUP(C2946,Referencias!$C$4:$E$21,3,FALSE())","v":3},"Competición","Madrileña"]
["2815261","Sánchez-Cortés Ramírez, Belén","3D","D",{"$f":"VLOOKUP(C2947,Referencias!$C$4:$D$21,2,FALSE())","v":"Tercera Diamante"},{"$f":"VLOOKUP(I2947,Referencias!$B$24:$C$41,2,FALSE())","v":"C.MAD"},{"$f":"VLOOKUP(C2947,Referencias!$C$4:$E$21,3,FALSE())","v":3},"Competición","Madrileña"]
["2815262","Lewis, Anna","3D","D",{"$f":"VLOOKUP(C2948,Referencias!$C$4:$D$21,2,FALSE())","v":"Tercera Diamante"},{"$f":"VLOOKUP(I2948,Referencias!$B$24:$C$41,2,FALSE())","v":"C.MAD"},{"$f":"VLOOKUP(C2948,Referencias!$C$4:$E$21,3,FALSE())","v":3},"Competición","Madrileña"]
["2815263","Lewis, Graeme","3D","C",{"$f":"VLOOKUP(C2949,Referencias!$C$4:$D$21,2,FALSE())","v":"Tercera Diamante"},{"$f":"VLOOKUP(I2949,Referencias!$B$24:$C$41,2,FALSE())","v":"C.MAD"},{"$f":"VLOOKUP(C2949,Referencias!$C$4:$E$21,3,FALSE())","v":3},"Competición","Madrileña"]
["2815265","Machin Calle, Jesús","3D","C",{"$f":"VLOOKUP(C2950,Referencias!$C$4:$D$21,2,FALSE())","v":"Tercera Diamante"},{"$f":"VLOOKUP(I2950,Referencias!$B$24:$C$41,2,FALSE())","v":"C.MAD"},{"$f":"VLOOKUP(C2950,Referencias!$C$4:$E$21,3,FALSE())","v":3},"Competición","Madrileña"]
["2815266","Aguado Martínez, Ramón","3D","C",{"$f":"VLOOKUP(C2951,Referencias!$C$4:$D$21,2,FALSE())","v":"Tercera Diamante"},{"$f":"VLOOKUP(I2951,Referencias!$B$24:$C$41,2,FALSE())","v":"C.MAD"},{"$f":"VLOOKUP(C2951,Referencias!$C$4:$E$21,3,FALSE())","v":3},"Competición","Madrileña"]
["2815268","Reinoso Martín, Abelardo","3D","C",{"$f":"VLOOKUP(C2952,Referencias!$C$4:$D$21,2,FALSE())","v":"Tercera Diamante"},{"$f":"VLOOKUP(I2952,Referencias!$B$24:$C$41,2,FALSE())","v":"C.MAD"},{"$f":"VLOOKUP(C2952,Referencias!$C$4:$E$21,3,FALSE())","v":3},"Competición","Madrileña"]
["2815269","Nuñez-Lagos Bau, Belén","3D","C",{"$f":"VLOOKUP(C2953,Referencias!$C$4:$D$21,2,FALSE())","v":"Tercera Diamante"},{"$f":"VLOOKUP(I2953,Referencias!$B$24:$C$41,2,FALSE())","v":"C.MAD"},{"$f":"VLOOKUP(C2953,Referencias!$C$4:$E$21,3,FALSE())","v":3},"Competición","Madrileña"]
["2815273","Rengifo Abbad, Alvaro","3D","C",{"$f":"VLOOKUP(C2954,Referencias!$C$4:$D$21,2,FALSE())","v":"Tercera Diamante"},{"$f":"VLOOKUP(I2954,Referencias!$B$24:$C$41,2,FALSE())","v":"C.MAD"},{"$f":"VLOOKUP(C2954,Referencias!$C$4:$E$21,3,FALSE())","v":3},"Competición","Madrileña"]
["2815274","Merry del Val Roca de Togores, María","3D","D",{"$f":"VLOOKUP(C2955,Referencias!$C$4:$D$21,2,FALSE())","v":"Tercera Diamante"},{"$f":"VLOOKUP(I2955,Referencias!$B$24:$C$41,2,FALSE())","v":"C.MAD"},{"$f":"VLOOKUP(C2955,Referencias!$C$4:$E$21,3,FALSE())","v":3},"Competición","Madrileña"]
["2815275","Menéndez Menchaca, Juan María","3D","C",{"$f":"VLOOKUP(C2956,Referencias!$C$4:$D$21,2,FALSE())","v":"Tercera Diamante"},{"$f":"VLOOKUP(I2956,Referencias!$B$24:$C$41,2,FALSE())","v":"C.MAD"},{"$f":"VLOOKUP(C2956,Referencias!$C$4:$E$21,3,FALSE())","v":3},"Competición","Madrileña"]
["2815276","López-Galvez Hernández-Ros, Paloma","3D","D",{"$f":"VLOOKUP(C2957,Referencias!$C$4:$D$21,2,FALSE())","v":"Tercera Diamante"},{"$f":"VLOOKUP(I2957,Referencias!$B$24:$C$41,2,FALSE())","v":"C.MAD"},{"$f":"VLOOKUP(C2957,Referencias!$C$4:$E$21,3,FALSE())","v":3},"Competición","Madrileña"]
["2815277","Plaza Tejera, José Alberto","3D","C",{"$f":"VLOOKUP(C2958,Referencias!$C$4:$D$21,2,FALSE())","v":"Tercera Diamante"},{"$f":"VLOOKUP(I2958,Referencias!$B$24:$C$41,2,FALSE())","v":"C.MAD"},{"$f":"VLOOKUP(C2958,Referencias!$C$4:$E$21,3,FALSE())","v":3},"Competición","Madrileña"]
["2815278","Martín Torres, Victor","3D","C",{"$f":"VLOOKUP(C2959,Referencias!$C$4:$D$21,2,FALSE())","v":"Tercera Diamante"},{"$f":"VLOOKUP(I2959,Referencias!$B$24:$C$41,2,FALSE())","v":"C.MAD"},{"$f":"VLOOKUP(C2959,Referencias!$C$4:$E$21,3,FALSE())","v":3},"Competición","Madrileña"]
["2815279","Pérez-Ilzarbe, Rosario Arias","3D","D",{"$f":"VLOOKUP(C2960,Referencias!$C$4:$D$21,2,FALSE())","v":"Tercera Diamante"},{"$f":"VLOOKUP(I2960,Referencias!$B$24:$C$41,2,FALSE())","v":"C.MAD"},{"$f":"VLOOKUP(C2960,Referencias!$C$4:$E$21,3,FALSE())","v":3},"Competición","Madrileña"]
["2815280","Costales Ortiz, Gonzalo","3D","C",{"$f":"VLOOKUP(C2961,Referencias!$C$4:$D$21,2,FALSE())","v":"Tercera Diamante"},{"$f":"VLOOKUP(I2961,Referencias!$B$24:$C$41,2,FALSE())","v":"C.MAD"},{"$f":"VLOOKUP(C2961,Referencias!$C$4:$E$21,3,FALSE())","v":3},"Competición","Madrileña"]
["2815281","de Ledesma Thalheimer, Ana Sofia","3D","D",{"$f":"VLOOKUP(C2962,Referencias!$C$4:$D$21,2,FALSE())","v":"Tercera Diamante"},{"$f":"VLOOKUP(I2962,Referencias!$B$24:$C$41,2,FALSE())","v":"C.MAD"},{"$f":"VLOOKUP(C2962,Referencias!$C$4:$E$21,3,FALSE())","v":3},"Competición","Madrileña"]
["2815282","Adriani Mirapuri, Karina","3D","D",{"$f":"VLOOKUP(C2963,Referencias!$C$4:$D$21,2,FALSE())","v":"Tercera Diamante"},{"$f":"VLOOKUP(I2963,Referencias!$B$24:$C$41,2,FALSE())","v":"C.MAD"},{"$f":"VLOOKUP(C2963,Referencias!$C$4:$E$21,3,FALSE())","v":3},"Competición","Madrileña"]
["2815283","Oliver Cerrada, Carmen","3D","D",{"$f":"VLOOKUP(C2964,Referencias!$C$4:$D$21,2,FALSE())","v":"Tercera Diamante"},{"$f":"VLOOKUP(I2964,Referencias!$B$24:$C$41,2,FALSE())","v":"C.MAD"},{"$f":"VLOOKUP(C2964,Referencias!$C$4:$E$21,3,FALSE())","v":3},"Competición","Madrileña"]
["2815284","Puig Garcia de la Vega, Ignacio","3D","C",{"$f":"VLOOKUP(C2965,Referencias!$C$4:$D$21,2,FALSE())","v":"Tercera Diamante"},{"$f":"VLOOKUP(I2965,Referencias!$B$24:$C$41,2,FALSE())","v":"C.MAD"},{"$f":"VLOOKUP(C2965,Referencias!$C$4:$E$21,3,FALSE())","v":3},"Competición","Madrileña"]
["2815285","Hernández de Briones, María Paz","3D","D",{"$f":"VLOOKUP(C2966,Referencias!$C$4:$D$21,2,FALSE())","v":"Tercera Diamante"},{"$f":"VLOOKUP(I2966,Referencias!$B$24:$C$41,2,FALSE())","v":"C.MAD"},{"$f":"VLOOKUP(C2966,Referencias!$C$4:$E$21,3,FALSE())","v":3},"Competición","Madrileña"]
["2815286","González Teijido, Ana Beatriz","3D","D",{"$f":"VLOOKUP(C2967,Referencias!$C$4:$D$21,2,FALSE())","v":"Tercera Diamante"},{"$f":"VLOOKUP(I2967,Referencias!$B$24:$C$41,2,FALSE())","v":"C.MAD"},{"$f":"VLOOKUP(C2967,Referencias!$C$4:$E$21,3,FALSE())","v":3},"Competición","Madrileña"]
["2815289","Hector González, Alvaro","3D","C",{"$f":"VLOOKUP(C2968,Referencias!$C$4:$D$21,2,FALSE())","v":"Tercera Diamante"},{"$f":"VLOOKUP(I2968,Referencias!$B$24:$C$41,2,FALSE())","v":"C.MAD"},{"$f":"VLOOKUP(C2968,Referencias!$C$4:$E$21,3,FALSE())","v":3},"Competición","Madrileña"]
["2815290","Amores González, Alberto","3D","C",{"$f":"VLOOKUP(C2969,Referencias!$C$4:$D$21,2,FALSE())","v":"Tercera Diamante"},{"$f":"VLOOKUP(I2969,Referencias!$B$24:$C$41,2,FALSE())","v":"C.MAD"},{"$f":"VLOOKUP(C2969,Referencias!$C$4:$E$21,3,FALSE())","v":3},"Competición","Madrileña"]
["2815291","Bueno Martín, Carmen","3D","D",{"$f":"VLOOKUP(C2970,Referencias!$C$4:$D$21,2,FALSE())","v":"Tercera Diamante"},{"$f":"VLOOKUP(I2970,Referencias!$B$24:$C$41,2,FALSE())","v":"C.MAD"},{"$f":"VLOOKUP(C2970,Referencias!$C$4:$E$21,3,FALSE())","v":3},"Competición","Madrileña"]
["2815292","Liaño López-Puigcerver, Gabriel","3D","C",{"$f":"VLOOKUP(C2971,Referencias!$C$4:$D$21,2,FALSE())","v":"Tercera Diamante"},{"$f":"VLOOKUP(I2971,Referencias!$B$24:$C$41,2,FALSE())","v":"C.MAD"},{"$f":"VLOOKUP(C2971,Referencias!$C$4:$E$21,3,FALSE())","v":3},"Competición","Madrileña"]
["2815293","Sánz-Díez de Ulzurrun Lluch , María Dolores","3D","D",{"$f":"VLOOKUP(C2972,Referencias!$C$4:$D$21,2,FALSE())","v":"Tercera Diamante"},{"$f":"VLOOKUP(I2972,Referencias!$B$24:$C$41,2,FALSE())","v":"C.MAD"},{"$f":"VLOOKUP(C2972,Referencias!$C$4:$E$21,3,FALSE())","v":3},"Competición","Madrileña"]
["2815294","Vukmirovic Galli, Elena","3D","D",{"$f":"VLOOKUP(C2973,Referencias!$C$4:$D$21,2,FALSE())","v":"Tercera Diamante"},{"$f":"VLOOKUP(I2973,Referencias!$B$24:$C$41,2,FALSE())","v":"C.MAD"},{"$f":"VLOOKUP(C2973,Referencias!$C$4:$E$21,3,FALSE())","v":3},"Competición","Madrileña"]
["2815295","Candia Fernández, Victoria","3D","D",{"$f":"VLOOKUP(C2974,Referencias!$C$4:$D$21,2,FALSE())","v":"Tercera Diamante"},{"$f":"VLOOKUP(I2974,Referencias!$B$24:$C$41,2,FALSE())","v":"C.MAD"},{"$f":"VLOOKUP(C2974,Referencias!$C$4:$E$21,3,FALSE())","v":3},"Competición","Madrileña"]
["2815296","Torralbo Pérez, Gonzalo","3D","C",{"$f":"VLOOKUP(C2975,Referencias!$C$4:$D$21,2,FALSE())","v":"Tercera Diamante"},{"$f":"VLOOKUP(I2975,Referencias!$B$24:$C$41,2,FALSE())","v":"C.MAD"},{"$f":"VLOOKUP(C2975,Referencias!$C$4:$E$21,3,FALSE())","v":3},"Competición","Madrileña"]
["2815297","Arias Pérez-Ilzarbe, Esther","3D","D",{"$f":"VLOOKUP(C2976,Referencias!$C$4:$D$21,2,FALSE())","v":"Tercera Diamante"},{"$f":"VLOOKUP(I2976,Referencias!$B$24:$C$41,2,FALSE())","v":"C.MAD"},{"$f":"VLOOKUP(C2976,Referencias!$C$4:$E$21,3,FALSE())","v":3},"Competición","Madrileña"]
["2815298","Quintanal Meléndez, Soledad","3D","D",{"$f":"VLOOKUP(C2977,Referencias!$C$4:$D$21,2,FALSE())","v":"Tercera Diamante"},{"$f":"VLOOKUP(I2977,Referencias!$B$24:$C$41,2,FALSE())","v":"C.MAD"},{"$f":"VLOOKUP(C2977,Referencias!$C$4:$E$21,3,FALSE())","v":3},"Competición","Madrileña"]
["2815299","Junco Aguado, Manuel","3D","C",{"$f":"VLOOKUP(C2978,Referencias!$C$4:$D$21,2,FALSE())","v":"Tercera Diamante"},{"$f":"VLOOKUP(I2978,Referencias!$B$24:$C$41,2,FALSE())","v":"C.MAD"},{"$f":"VLOOKUP(C2978,Referencias!$C$4:$E$21,3,FALSE())","v":3},"Competición","Madrileña"]
["2815300","de la Fuente Matas, José Javier","3D","C",{"$f":"VLOOKUP(C2979,Referencias!$C$4:$D$21,2,FALSE())","v":"Tercera Diamante"},{"$f":"VLOOKUP(I2979,Referencias!$B$24:$C$41,2,FALSE())","v":"C.MAD"},{"$f":"VLOOKUP(C2979,Referencias!$C$4:$E$21,3,FALSE())","v":3},"Competición","Madrileña"]
["2815301","Junco Aguado, Ángeles","3D","D",{"$f":"VLOOKUP(C2980,Referencias!$C$4:$D$21,2,FALSE())","v":"Tercera Diamante"},{"$f":"VLOOKUP(I2980,Referencias!$B$24:$C$41,2,FALSE())","v":"C.MAD"},{"$f":"VLOOKUP(C2980,Referencias!$C$4:$E$21,3,FALSE())","v":3},"Competición","Madrileña"]
["2815302","Casas Cardenal, Bruno","3D","C",{"$f":"VLOOKUP(C2981,Referencias!$C$4:$D$21,2,FALSE())","v":"Tercera Diamante"},{"$f":"VLOOKUP(I2981,Referencias!$B$24:$C$41,2,FALSE())","v":"C.MAD"},{"$f":"VLOOKUP(C2981,Referencias!$C$4:$E$21,3,FALSE())","v":3},"Competición","Madrileña"]
["2815303","Aurelle, Antoine","3D","C",{"$f":"VLOOKUP(C2982,Referencias!$C$4:$D$21,2,FALSE())","v":"Tercera Diamante"},{"$f":"VLOOKUP(I2982,Referencias!$B$24:$C$41,2,FALSE())","v":"C.MAD"},{"$f":"VLOOKUP(C2982,Referencias!$C$4:$E$21,3,FALSE())","v":3},"Competición","Madrileña"]
["2815304","Fernández-Shaw Toda, Rocio","3D","D",{"$f":"VLOOKUP(C2983,Referencias!$C$4:$D$21,2,FALSE())","v":"Tercera Diamante"},{"$f":"VLOOKUP(I2983,Referencias!$B$24:$C$41,2,FALSE())","v":"C.MAD"},{"$f":"VLOOKUP(C2983,Referencias!$C$4:$E$21,3,FALSE())","v":3},"Competición","Madrileña"]
["2815305","Gomendio López de Asiain, Ana","3D","D",{"$f":"VLOOKUP(C2984,Referencias!$C$4:$D$21,2,FALSE())","v":"Tercera Diamante"},{"$f":"VLOOKUP(I2984,Referencias!$B$24:$C$41,2,FALSE())","v":"C.MAD"},{"$f":"VLOOKUP(C2984,Referencias!$C$4:$E$21,3,FALSE())","v":3},"Competición","Madrileña"]
["2815307","García Magro , Ana","3D","D",{"$f":"VLOOKUP(C2985,Referencias!$C$4:$D$21,2,FALSE())","v":"Tercera Diamante"},{"$f":"VLOOKUP(I2985,Referencias!$B$24:$C$41,2,FALSE())","v":"C.MAD"},{"$f":"VLOOKUP(C2985,Referencias!$C$4:$E$21,3,FALSE())","v":3},"Competición","Madrileña"]
["2815308","Aparicio Molina, Juan Manuel","3D","D",{"$f":"VLOOKUP(C2986,Referencias!$C$4:$D$21,2,FALSE())","v":"Tercera Diamante"},{"$f":"VLOOKUP(I2986,Referencias!$B$24:$C$41,2,FALSE())","v":"C.MAD"},{"$f":"VLOOKUP(C2986,Referencias!$C$4:$E$21,3,FALSE())","v":3},"Competición","Madrileña"]
["2815309","Defarges Pons, Regina","3D","D",{"$f":"VLOOKUP(C2987,Referencias!$C$4:$D$21,2,FALSE())","v":"Tercera Diamante"},{"$f":"VLOOKUP(I2987,Referencias!$B$24:$C$41,2,FALSE())","v":"C.MAD"},{"$f":"VLOOKUP(C2987,Referencias!$C$4:$E$21,3,FALSE())","v":3},"Competición","Madrileña"]
["2815312","Caballero Rubiato, Nieves","3D","D",{"$f":"VLOOKUP(C2988,Referencias!$C$4:$D$21,2,FALSE())","v":"Tercera Diamante"},{"$f":"VLOOKUP(I2988,Referencias!$B$24:$C$41,2,FALSE())","v":"C.MAD"},{"$f":"VLOOKUP(C2988,Referencias!$C$4:$E$21,3,FALSE())","v":3},"Competición","Madrileña"]
["2815313","Puertas García, Julia","3D","D",{"$f":"VLOOKUP(C2989,Referencias!$C$4:$D$21,2,FALSE())","v":"Tercera Diamante"},{"$f":"VLOOKUP(I2989,Referencias!$B$24:$C$41,2,FALSE())","v":"C.MAD"},{"$f":"VLOOKUP(C2989,Referencias!$C$4:$E$21,3,FALSE())","v":3},"Competición","Madrileña"]
["2815314","Pérez del Castillo, Gracia","3D","D",{"$f":"VLOOKUP(C2990,Referencias!$C$4:$D$21,2,FALSE())","v":"Tercera Diamante"},{"$f":"VLOOKUP(I2990,Referencias!$B$24:$C$41,2,FALSE())","v":"C.MAD"},{"$f":"VLOOKUP(C2990,Referencias!$C$4:$E$21,3,FALSE())","v":3},"Competición","Madrileña"]
["2815315","Martín Zumárraga, Isabel","3D","D",{"$f":"VLOOKUP(C2991,Referencias!$C$4:$D$21,2,FALSE())","v":"Tercera Diamante"},{"$f":"VLOOKUP(I2991,Referencias!$B$24:$C$41,2,FALSE())","v":"C.MAD"},{"$f":"VLOOKUP(C2991,Referencias!$C$4:$E$21,3,FALSE())","v":3},"Competición","Madrileña"]
["2815316","Blasco Espin, Sandra","3D","D",{"$f":"VLOOKUP(C2992,Referencias!$C$4:$D$21,2,FALSE())","v":"Tercera Diamante"},{"$f":"VLOOKUP(I2992,Referencias!$B$24:$C$41,2,FALSE())","v":"C.MAD"},{"$f":"VLOOKUP(C2992,Referencias!$C$4:$E$21,3,FALSE())","v":3},"Competición","Madrileña"]
["2815320","del Riego de la Peña, Antonio","3D","C",{"$f":"VLOOKUP(C2993,Referencias!$C$4:$D$21,2,FALSE())","v":"Tercera Diamante"},{"$f":"VLOOKUP(I2993,Referencias!$B$24:$C$41,2,FALSE())","v":"C.MAD"},{"$f":"VLOOKUP(C2993,Referencias!$C$4:$E$21,3,FALSE())","v":3},"Competición","Madrileña"]
["2815321","Dorsch Oli, Concepción","3D","D",{"$f":"VLOOKUP(C2994,Referencias!$C$4:$D$21,2,FALSE())","v":"Tercera Diamante"},{"$f":"VLOOKUP(I2994,Referencias!$B$24:$C$41,2,FALSE())","v":"C.MAD"},{"$f":"VLOOKUP(C2994,Referencias!$C$4:$E$21,3,FALSE())","v":3},"Competición","Madrileña"]
["2815322","Piñuela de Pablos, Miguel Angel","3D","C",{"$f":"VLOOKUP(C2995,Referencias!$C$4:$D$21,2,FALSE())","v":"Tercera Diamante"},{"$f":"VLOOKUP(I2995,Referencias!$B$24:$C$41,2,FALSE())","v":"C.MAD"},{"$f":"VLOOKUP(C2995,Referencias!$C$4:$E$21,3,FALSE())","v":3},"Competición","Madrileña"]
["2815323","Dader Fernández, Manuel","3D","C",{"$f":"VLOOKUP(C2996,Referencias!$C$4:$D$21,2,FALSE())","v":"Tercera Diamante"},{"$f":"VLOOKUP(I2996,Referencias!$B$24:$C$41,2,FALSE())","v":"C.MAD"},{"$f":"VLOOKUP(C2996,Referencias!$C$4:$E$21,3,FALSE())","v":3},"Competición","Madrileña"]
["2815324","Jiménez Marín, Carmina","3D","D",{"$f":"VLOOKUP(C2997,Referencias!$C$4:$D$21,2,FALSE())","v":"Tercera Diamante"},{"$f":"VLOOKUP(I2997,Referencias!$B$24:$C$41,2,FALSE())","v":"C.MAD"},{"$f":"VLOOKUP(C2997,Referencias!$C$4:$E$21,3,FALSE())","v":3},"Competición","Madrileña"]
["2815325","Ramírez Nuñez de Prado, Mercedes","3D","D",{"$f":"VLOOKUP(C2998,Referencias!$C$4:$D$21,2,FALSE())","v":"Tercera Diamante"},{"$f":"VLOOKUP(I2998,Referencias!$B$24:$C$41,2,FALSE())","v":"C.MAD"},{"$f":"VLOOKUP(C2998,Referencias!$C$4:$E$21,3,FALSE())","v":3},"Competición","Madrileña"]
["2815326","Alonso-Gamo Sandoval, José María","3D","C",{"$f":"VLOOKUP(C2999,Referencias!$C$4:$D$21,2,FALSE())","v":"Tercera Diamante"},{"$f":"VLOOKUP(I2999,Referencias!$B$24:$C$41,2,FALSE())","v":"C.MAD"},{"$f":"VLOOKUP(C2999,Referencias!$C$4:$E$21,3,FALSE())","v":3},"Competición","Madrileña"]
["2815328","Ferrando, Laura","3D","D",{"$f":"VLOOKUP(C3000,Referencias!$C$4:$D$21,2,FALSE())","v":"Tercera Diamante"},{"$f":"VLOOKUP(I3000,Referencias!$B$24:$C$41,2,FALSE())","v":"C.MAD"},{"$f":"VLOOKUP(C3000,Referencias!$C$4:$E$21,3,FALSE())","v":3},"Competición","Madrileña"]
["2815330","Estevez Zurita, Javier","3D","C",{"$f":"VLOOKUP(C3001,Referencias!$C$4:$D$21,2,FALSE())","v":"Tercera Diamante"},{"$f":"VLOOKUP(I3001,Referencias!$B$24:$C$41,2,FALSE())","v":"C.MAD"},{"$f":"VLOOKUP(C3001,Referencias!$C$4:$E$21,3,FALSE())","v":3},"Competición","Madrileña"]
["2815331","Ciccione, Paolo","3D","C",{"$f":"VLOOKUP(C3002,Referencias!$C$4:$D$21,2,FALSE())","v":"Tercera Diamante"},{"$f":"VLOOKUP(I3002,Referencias!$B$24:$C$41,2,FALSE())","v":"C.MAD"},{"$f":"VLOOKUP(C3002,Referencias!$C$4:$E$21,3,FALSE())","v":3},"Competición","Madrileña"]
["2815332","Ruiperez Zomeño, Mª Teresa","3D","D",{"$f":"VLOOKUP(C3003,Referencias!$C$4:$D$21,2,FALSE())","v":"Tercera Diamante"},{"$f":"VLOOKUP(I3003,Referencias!$B$24:$C$41,2,FALSE())","v":"C.MAD"},{"$f":"VLOOKUP(C3003,Referencias!$C$4:$E$21,3,FALSE())","v":3},"Competición","Madrileña"]
["2815334","González Cantora, Emma","3D","D",{"$f":"VLOOKUP(C3004,Referencias!$C$4:$D$21,2,FALSE())","v":"Tercera Diamante"},{"$f":"VLOOKUP(I3004,Referencias!$B$24:$C$41,2,FALSE())","v":"C.MAD"},{"$f":"VLOOKUP(C3004,Referencias!$C$4:$E$21,3,FALSE())","v":3},"Competición","Madrileña"]
["2815335","Sukhwani Mohandas, Mahesh","3D","C",{"$f":"VLOOKUP(C3005,Referencias!$C$4:$D$21,2,FALSE())","v":"Tercera Diamante"},{"$f":"VLOOKUP(I3005,Referencias!$B$24:$C$41,2,FALSE())","v":"C.MAD"},{"$f":"VLOOKUP(C3005,Referencias!$C$4:$E$21,3,FALSE())","v":3},"Competición","Madrileña"]
["2815336","Manghnani Kishinchand, Anmol","3D","D",{"$f":"VLOOKUP(C3006,Referencias!$C$4:$D$21,2,FALSE())","v":"Tercera Diamante"},{"$f":"VLOOKUP(I3006,Referencias!$B$24:$C$41,2,FALSE())","v":"C.MAD"},{"$f":"VLOOKUP(C3006,Referencias!$C$4:$E$21,3,FALSE())","v":3},"Competición","Madrileña"]
["2815337","Fernández-Pacheco Seijas, Maria Dolores","3D","D",{"$f":"VLOOKUP(C3007,Referencias!$C$4:$D$21,2,FALSE())","v":"Tercera Diamante"},{"$f":"VLOOKUP(I3007,Referencias!$B$24:$C$41,2,FALSE())","v":"C.MAD"},{"$f":"VLOOKUP(C3007,Referencias!$C$4:$E$21,3,FALSE())","v":3},"Competición","Madrileña"]
["2815338","Tavera Otero, Paloma","3D","D",{"$f":"VLOOKUP(C3008,Referencias!$C$4:$D$21,2,FALSE())","v":"Tercera Diamante"},{"$f":"VLOOKUP(I3008,Referencias!$B$24:$C$41,2,FALSE())","v":"C.MAD"},{"$f":"VLOOKUP(C3008,Referencias!$C$4:$E$21,3,FALSE())","v":3},"Competición","Madrileña"]
["2815339","Pujol de Lara, Cristina","3D","D",{"$f":"VLOOKUP(C3009,Referencias!$C$4:$D$21,2,FALSE())","v":"Tercera Diamante"},{"$f":"VLOOKUP(I3009,Referencias!$B$24:$C$41,2,FALSE())","v":"C.MAD"},{"$f":"VLOOKUP(C3009,Referencias!$C$4:$E$21,3,FALSE())","v":3},"Competición","Madrileña"]
["2815340","Gutiérrez de Luis, Luis María","3D","C",{"$f":"VLOOKUP(C3010,Referencias!$C$4:$D$21,2,FALSE())","v":"Tercera Diamante"},{"$f":"VLOOKUP(I3010,Referencias!$B$24:$C$41,2,FALSE())","v":"C.MAD"},{"$f":"VLOOKUP(C3010,Referencias!$C$4:$E$21,3,FALSE())","v":3},"Competición","Madrileña"]
["2815341","Zaragoza, Joseph","3P","C",{"$f":"VLOOKUP(C3011,Referencias!$C$4:$D$21,2,FALSE())","v":"Tercera Picas"},{"$f":"VLOOKUP(I3011,Referencias!$B$24:$C$41,2,FALSE())","v":"C.MAD"},{"$f":"VLOOKUP(C3011,Referencias!$C$4:$E$21,3,FALSE())","v":3},"Competición","Madrileña"]
["2815342","Fontes Muñoz, Carmen","3D","D",{"$f":"VLOOKUP(C3012,Referencias!$C$4:$D$21,2,FALSE())","v":"Tercera Diamante"},{"$f":"VLOOKUP(I3012,Referencias!$B$24:$C$41,2,FALSE())","v":"C.MAD"},{"$f":"VLOOKUP(C3012,Referencias!$C$4:$E$21,3,FALSE())","v":3},"Competición","Madrileña"]
["2815343","Pardo de Santayana Montes, María Eugenia","3D","D",{"$f":"VLOOKUP(C3013,Referencias!$C$4:$D$21,2,FALSE())","v":"Tercera Diamante"},{"$f":"VLOOKUP(I3013,Referencias!$B$24:$C$41,2,FALSE())","v":"C.MAD"},{"$f":"VLOOKUP(C3013,Referencias!$C$4:$E$21,3,FALSE())","v":3},"Competición","Madrileña"]
["2815344","Verde Abella, Penélope","3D","D",{"$f":"VLOOKUP(C3014,Referencias!$C$4:$D$21,2,FALSE())","v":"Tercera Diamante"},{"$f":"VLOOKUP(I3014,Referencias!$B$24:$C$41,2,FALSE())","v":"C.MAD"},{"$f":"VLOOKUP(C3014,Referencias!$C$4:$E$21,3,FALSE())","v":3},"Competición","Madrileña"]
["2815345","Rodríguez Baptista, Luis","3D","C",{"$f":"VLOOKUP(C3015,Referencias!$C$4:$D$21,2,FALSE())","v":"Tercera Diamante"},{"$f":"VLOOKUP(I3015,Referencias!$B$24:$C$41,2,FALSE())","v":"C.MAD"},{"$f":"VLOOKUP(C3015,Referencias!$C$4:$E$21,3,FALSE())","v":3},"Competición","Madrileña"]
["2815346","Alphonse, Dominique","3D","D",{"$f":"VLOOKUP(C3016,Referencias!$C$4:$D$21,2,FALSE())","v":"Tercera Diamante"},{"$f":"VLOOKUP(I3016,Referencias!$B$24:$C$41,2,FALSE())","v":"C.MAD"},{"$f":"VLOOKUP(C3016,Referencias!$C$4:$E$21,3,FALSE())","v":3},"Competición","Madrileña"]
["2815347","Guzmán Prenk, Dianny","3D","D",{"$f":"VLOOKUP(C3017,Referencias!$C$4:$D$21,2,FALSE())","v":"Tercera Diamante"},{"$f":"VLOOKUP(I3017,Referencias!$B$24:$C$41,2,FALSE())","v":"C.MAD"},{"$f":"VLOOKUP(C3017,Referencias!$C$4:$E$21,3,FALSE())","v":3},"Competición","Madrileña"]
["2815348","Turiel Cerezo, Marino","3D","C",{"$f":"VLOOKUP(C3018,Referencias!$C$4:$D$21,2,FALSE())","v":"Tercera Diamante"},{"$f":"VLOOKUP(I3018,Referencias!$B$24:$C$41,2,FALSE())","v":"C.MAD"},{"$f":"VLOOKUP(C3018,Referencias!$C$4:$E$21,3,FALSE())","v":3},"Competición","Madrileña"]
["2815349","Albi Piquer, Concha","3D","D",{"$f":"VLOOKUP(C3019,Referencias!$C$4:$D$21,2,FALSE())","v":"Tercera Diamante"},{"$f":"VLOOKUP(I3019,Referencias!$B$24:$C$41,2,FALSE())","v":"C.MAD"},{"$f":"VLOOKUP(C3019,Referencias!$C$4:$E$21,3,FALSE())","v":3},"Competición","Madrileña"]
["2815350","Anaya Tapia, Mónica","3D","D",{"$f":"VLOOKUP(C3020,Referencias!$C$4:$D$21,2,FALSE())","v":"Tercera Diamante"},{"$f":"VLOOKUP(I3020,Referencias!$B$24:$C$41,2,FALSE())","v":"C.MAD"},{"$f":"VLOOKUP(C3020,Referencias!$C$4:$E$21,3,FALSE())","v":3},"Competición","Madrileña"]
["2815353","Wanders, Michael","3D","C",{"$f":"VLOOKUP(C3021,Referencias!$C$4:$D$21,2,FALSE())","v":"Tercera Diamante"},{"$f":"VLOOKUP(I3021,Referencias!$B$24:$C$41,2,FALSE())","v":"C.MAD"},{"$f":"VLOOKUP(C3021,Referencias!$C$4:$E$21,3,FALSE())","v":3},"Competición","Madrileña"]
["2815354","Guerrero Meseguer, Fernando","3D","C",{"$f":"VLOOKUP(C3022,Referencias!$C$4:$D$21,2,FALSE())","v":"Tercera Diamante"},{"$f":"VLOOKUP(I3022,Referencias!$B$24:$C$41,2,FALSE())","v":"C.MAD"},{"$f":"VLOOKUP(C3022,Referencias!$C$4:$E$21,3,FALSE())","v":3},"Competición","Madrileña"]
["2815355","Gómez de la Vega, Paloma","3D","D",{"$f":"VLOOKUP(C3023,Referencias!$C$4:$D$21,2,FALSE())","v":"Tercera Diamante"},{"$f":"VLOOKUP(I3023,Referencias!$B$24:$C$41,2,FALSE())","v":"C.MAD"},{"$f":"VLOOKUP(C3023,Referencias!$C$4:$E$21,3,FALSE())","v":3},"Competición","Madrileña"]
["2815356","Gutiérrez Fernández, Margarita","3D","D",{"$f":"VLOOKUP(C3024,Referencias!$C$4:$D$21,2,FALSE())","v":"Tercera Diamante"},{"$f":"VLOOKUP(I3024,Referencias!$B$24:$C$41,2,FALSE())","v":"C.MAD"},{"$f":"VLOOKUP(C3024,Referencias!$C$4:$E$21,3,FALSE())","v":3},"Competición","Madrileña"]
["2815357","Cortezo García, Santiago","3D","C",{"$f":"VLOOKUP(C3025,Referencias!$C$4:$D$21,2,FALSE())","v":"Tercera Diamante"},{"$f":"VLOOKUP(I3025,Referencias!$B$24:$C$41,2,FALSE())","v":"C.MAD"},{"$f":"VLOOKUP(C3025,Referencias!$C$4:$E$21,3,FALSE())","v":3},"Competición","Madrileña"]
["2815358","González Millán, María Teresa","3D","D",{"$f":"VLOOKUP(C3026,Referencias!$C$4:$D$21,2,FALSE())","v":"Tercera Diamante"},{"$f":"VLOOKUP(I3026,Referencias!$B$24:$C$41,2,FALSE())","v":"C.MAD"},{"$f":"VLOOKUP(C3026,Referencias!$C$4:$E$21,3,FALSE())","v":3},"Competición","Madrileña"]
["2815359","Gimeno Lizasoain, Santiago","3D","C",{"$f":"VLOOKUP(C3027,Referencias!$C$4:$D$21,2,FALSE())","v":"Tercera Diamante"},{"$f":"VLOOKUP(I3027,Referencias!$B$24:$C$41,2,FALSE())","v":"C.MAD"},{"$f":"VLOOKUP(C3027,Referencias!$C$4:$E$21,3,FALSE())","v":3},"Competición","Madrileña"]
["2815360","Cobo Fernández, Francisca","3D","D",{"$f":"VLOOKUP(C3028,Referencias!$C$4:$D$21,2,FALSE())","v":"Tercera Diamante"},{"$f":"VLOOKUP(I3028,Referencias!$B$24:$C$41,2,FALSE())","v":"C.MAD"},{"$f":"VLOOKUP(C3028,Referencias!$C$4:$E$21,3,FALSE())","v":3},"Competición","Madrileña"]
["2815361","Matas Tardiu, Mireia","3D","D",{"$f":"VLOOKUP(C3029,Referencias!$C$4:$D$21,2,FALSE())","v":"Tercera Diamante"},{"$f":"VLOOKUP(I3029,Referencias!$B$24:$C$41,2,FALSE())","v":"C.MAD"},{"$f":"VLOOKUP(C3029,Referencias!$C$4:$E$21,3,FALSE())","v":3},"Competición","Madrileña"]
["2815362","Gibert Espinagosa, Abel","3D","C",{"$f":"VLOOKUP(C3030,Referencias!$C$4:$D$21,2,FALSE())","v":"Tercera Diamante"},{"$f":"VLOOKUP(I3030,Referencias!$B$24:$C$41,2,FALSE())","v":"C.MAD"},{"$f":"VLOOKUP(C3030,Referencias!$C$4:$E$21,3,FALSE())","v":3},"Competición","Madrileña"]
["2815363","Hinojosa Fernández de Angulo, Alicia","3D","D",{"$f":"VLOOKUP(C3031,Referencias!$C$4:$D$21,2,FALSE())","v":"Tercera Diamante"},{"$f":"VLOOKUP(I3031,Referencias!$B$24:$C$41,2,FALSE())","v":"C.MAD"},{"$f":"VLOOKUP(C3031,Referencias!$C$4:$E$21,3,FALSE())","v":3},"Competición","Madrileña"]
["2815364","Marcos Palma, María Elvira","3D","D",{"$f":"VLOOKUP(C3032,Referencias!$C$4:$D$21,2,FALSE())","v":"Tercera Diamante"},{"$f":"VLOOKUP(I3032,Referencias!$B$24:$C$41,2,FALSE())","v":"C.MAD"},{"$f":"VLOOKUP(C3032,Referencias!$C$4:$E$21,3,FALSE())","v":3},"Competición","Madrileña"]
["2815365","Zabaleta Torres, Estela","3D","D",{"$f":"VLOOKUP(C3033,Referencias!$C$4:$D$21,2,FALSE())","v":"Tercera Diamante"},{"$f":"VLOOKUP(I3033,Referencias!$B$24:$C$41,2,FALSE())","v":"C.MAD"},{"$f":"VLOOKUP(C3033,Referencias!$C$4:$E$21,3,FALSE())","v":3},"Competición","Madrileña"]
["2815366","Alarcó Canosa, Angeles","3D","D",{"$f":"VLOOKUP(C3034,Referencias!$C$4:$D$21,2,FALSE())","v":"Tercera Diamante"},{"$f":"VLOOKUP(I3034,Referencias!$B$24:$C$41,2,FALSE())","v":"C.MAD"},{"$f":"VLOOKUP(C3034,Referencias!$C$4:$E$21,3,FALSE())","v":3},"Competición","Madrileña"]
["2815367","Pérez-Pla de Viu, José","3D","C",{"$f":"VLOOKUP(C3035,Referencias!$C$4:$D$21,2,FALSE())","v":"Tercera Diamante"},{"$f":"VLOOKUP(I3035,Referencias!$B$24:$C$41,2,FALSE())","v":"C.MAD"},{"$f":"VLOOKUP(C3035,Referencias!$C$4:$E$21,3,FALSE())","v":3},"Competición","Madrileña"]
["2815368","Ruiz de Gámiz Arrabal, Rosario","3D","D",{"$f":"VLOOKUP(C3036,Referencias!$C$4:$D$21,2,FALSE())","v":"Tercera Diamante"},{"$f":"VLOOKUP(I3036,Referencias!$B$24:$C$41,2,FALSE())","v":"C.MAD"},{"$f":"VLOOKUP(C3036,Referencias!$C$4:$E$21,3,FALSE())","v":3},"Competición","Madrileña"]
["2815369","Corchado Arozarena, Teresa","3D","D",{"$f":"VLOOKUP(C3037,Referencias!$C$4:$D$21,2,FALSE())","v":"Tercera Diamante"},{"$f":"VLOOKUP(I3037,Referencias!$B$24:$C$41,2,FALSE())","v":"C.MAD"},{"$f":"VLOOKUP(C3037,Referencias!$C$4:$E$21,3,FALSE())","v":3},"Competición","Madrileña"]
["2815370","Belli, Federico","3D","C",{"$f":"VLOOKUP(C3038,Referencias!$C$4:$D$21,2,FALSE())","v":"Tercera Diamante"},{"$f":"VLOOKUP(I3038,Referencias!$B$24:$C$41,2,FALSE())","v":"C.MAD"},{"$f":"VLOOKUP(C3038,Referencias!$C$4:$E$21,3,FALSE())","v":3},"Competición","Madrileña"]
["2815371","Yllera Jiménez, Blanca","3D","D",{"$f":"VLOOKUP(C3039,Referencias!$C$4:$D$21,2,FALSE())","v":"Tercera Diamante"},{"$f":"VLOOKUP(I3039,Referencias!$B$24:$C$41,2,FALSE())","v":"C.MAD"},{"$f":"VLOOKUP(C3039,Referencias!$C$4:$E$21,3,FALSE())","v":3},"Competición","Madrileña"]
["2815372","Solanilla Sanchez, Olga","3D","D",{"$f":"VLOOKUP(C3040,Referencias!$C$4:$D$21,2,FALSE())","v":"Tercera Diamante"},{"$f":"VLOOKUP(I3040,Referencias!$B$24:$C$41,2,FALSE())","v":"C.MAD"},{"$f":"VLOOKUP(C3040,Referencias!$C$4:$E$21,3,FALSE())","v":3},"Competición","Madrileña"]
["2815373","López Cobelo, María Begoña","3D","D",{"$f":"VLOOKUP(C3041,Referencias!$C$4:$D$21,2,FALSE())","v":"Tercera Diamante"},{"$f":"VLOOKUP(I3041,Referencias!$B$24:$C$41,2,FALSE())","v":"C.MAD"},{"$f":"VLOOKUP(C3041,Referencias!$C$4:$E$21,3,FALSE())","v":3},"Competición","Madrileña"]
["2815374","Villate Ugarte, Pascual","3D","D",{"$f":"VLOOKUP(C3042,Referencias!$C$4:$D$21,2,FALSE())","v":"Tercera Diamante"},{"$f":"VLOOKUP(I3042,Referencias!$B$24:$C$41,2,FALSE())","v":"C.MAD"},{"$f":"VLOOKUP(C3042,Referencias!$C$4:$E$21,3,FALSE())","v":3},"Competición","Madrileña"]
["2815375","Álvarez Oblanca, Isabel","3D","D",{"$f":"VLOOKUP(C3043,Referencias!$C$4:$D$21,2,FALSE())","v":"Tercera Diamante"},{"$f":"VLOOKUP(I3043,Referencias!$B$24:$C$41,2,FALSE())","v":"C.MAD"},{"$f":"VLOOKUP(C3043,Referencias!$C$4:$E$21,3,FALSE())","v":3},"Competición","Madrileña"]
["2815376","Suárez-Inclán Martínez, Cristina","3D","D",{"$f":"VLOOKUP(C3044,Referencias!$C$4:$D$21,2,FALSE())","v":"Tercera Diamante"},{"$f":"VLOOKUP(I3044,Referencias!$B$24:$C$41,2,FALSE())","v":"C.MAD"},{"$f":"VLOOKUP(C3044,Referencias!$C$4:$E$21,3,FALSE())","v":3},"Competición","Madrileña"]
["2815377","Moyano Zamora, Francisco Javier","3D","C",{"$f":"VLOOKUP(C3045,Referencias!$C$4:$D$21,2,FALSE())","v":"Tercera Diamante"},{"$f":"VLOOKUP(I3045,Referencias!$B$24:$C$41,2,FALSE())","v":"C.MAD"},{"$f":"VLOOKUP(C3045,Referencias!$C$4:$E$21,3,FALSE())","v":3},"Competición","Madrileña"]
["2815378","Castro Carbón, Mar","3D","D",{"$f":"VLOOKUP(C3046,Referencias!$C$4:$D$21,2,FALSE())","v":"Tercera Diamante"},{"$f":"VLOOKUP(I3046,Referencias!$B$24:$C$41,2,FALSE())","v":"C.MAD"},{"$f":"VLOOKUP(C3046,Referencias!$C$4:$E$21,3,FALSE())","v":3},"Competición","Madrileña"]
["2815379","Bertrám López, Magdalena","3D","D",{"$f":"VLOOKUP(C3047,Referencias!$C$4:$D$21,2,FALSE())","v":"Tercera Diamante"},{"$f":"VLOOKUP(I3047,Referencias!$B$24:$C$41,2,FALSE())","v":"C.MAD"},{"$f":"VLOOKUP(C3047,Referencias!$C$4:$E$21,3,FALSE())","v":3},"Competición","Madrileña"]
["2815380","Fernández García, Adolfo","3D","D",{"$f":"VLOOKUP(C3048,Referencias!$C$4:$D$21,2,FALSE())","v":"Tercera Diamante"},{"$f":"VLOOKUP(I3048,Referencias!$B$24:$C$41,2,FALSE())","v":"C.MAD"},{"$f":"VLOOKUP(C3048,Referencias!$C$4:$E$21,3,FALSE())","v":3},"Competición","Madrileña"]
["2815381","Folguera Sánchez,  José Oriol","3D","C",{"$f":"VLOOKUP(C3049,Referencias!$C$4:$D$21,2,FALSE())","v":"Tercera Diamante"},{"$f":"VLOOKUP(I3049,Referencias!$B$24:$C$41,2,FALSE())","v":"C.MAD"},{"$f":"VLOOKUP(C3049,Referencias!$C$4:$E$21,3,FALSE())","v":3},"Competición","Madrileña"]
["2815382","Rodríguez Steuer, Isabela","3D","D",{"$f":"VLOOKUP(C3050,Referencias!$C$4:$D$21,2,FALSE())","v":"Tercera Diamante"},{"$f":"VLOOKUP(I3050,Referencias!$B$24:$C$41,2,FALSE())","v":"C.MAD"},{"$f":"VLOOKUP(C3050,Referencias!$C$4:$E$21,3,FALSE())","v":3},"Competición","Madrileña"]
["2815383","Martín García-Caro, Pedro","3D","C",{"$f":"VLOOKUP(C3051,Referencias!$C$4:$D$21,2,FALSE())","v":"Tercera Diamante"},{"$f":"VLOOKUP(I3051,Referencias!$B$24:$C$41,2,FALSE())","v":"C.MAD"},{"$f":"VLOOKUP(C3051,Referencias!$C$4:$E$21,3,FALSE())","v":3},"Competición","Madrileña"]
["2815384","Acedo Asín, María José","3D","D",{"$f":"VLOOKUP(C3052,Referencias!$C$4:$D$21,2,FALSE())","v":"Tercera Diamante"},{"$f":"VLOOKUP(I3052,Referencias!$B$24:$C$41,2,FALSE())","v":"C.MAD"},{"$f":"VLOOKUP(C3052,Referencias!$C$4:$E$21,3,FALSE())","v":3},"Competición","Madrileña"]
["2815385","López Requeijo, María Carmen","3D","D",{"$f":"VLOOKUP(C3053,Referencias!$C$4:$D$21,2,FALSE())","v":"Tercera Diamante"},{"$f":"VLOOKUP(I3053,Referencias!$B$24:$C$41,2,FALSE())","v":"C.MAD"},{"$f":"VLOOKUP(C3053,Referencias!$C$4:$E$21,3,FALSE())","v":3},"Competición","Madrileña"]
["2815386","León Ruiz de la Hermosa, Antonio","3D","C",{"$f":"VLOOKUP(C3054,Referencias!$C$4:$D$21,2,FALSE())","v":"Tercera Diamante"},{"$f":"VLOOKUP(I3054,Referencias!$B$24:$C$41,2,FALSE())","v":"C.MAD"},{"$f":"VLOOKUP(C3054,Referencias!$C$4:$E$21,3,FALSE())","v":3},"Competición","Madrileña"]
["2815387","Díaz Vega, Miguel","3D","C",{"$f":"VLOOKUP(C3055,Referencias!$C$4:$D$21,2,FALSE())","v":"Tercera Diamante"},{"$f":"VLOOKUP(I3055,Referencias!$B$24:$C$41,2,FALSE())","v":"C.MAD"},{"$f":"VLOOKUP(C3055,Referencias!$C$4:$E$21,3,FALSE())","v":3},"Competición","Madrileña"]
["2815388","Rivadulla Rodríguez, Maribel","3D","D",{"$f":"VLOOKUP(C3056,Referencias!$C$4:$D$21,2,FALSE())","v":"Tercera Diamante"},{"$f":"VLOOKUP(I3056,Referencias!$B$24:$C$41,2,FALSE())","v":"C.MAD"},{"$f":"VLOOKUP(C3056,Referencias!$C$4:$E$21,3,FALSE())","v":3},"Competición","Madrileña"]
["2815390","Ruiz de Valbuena, Carmen","3D","D",{"$f":"VLOOKUP(C3057,Referencias!$C$4:$D$21,2,FALSE())","v":"Tercera Diamante"},{"$f":"VLOOKUP(I3057,Referencias!$B$24:$C$41,2,FALSE())","v":"C.MAD"},{"$f":"VLOOKUP(C3057,Referencias!$C$4:$E$21,3,FALSE())","v":3},"Competición","Madrileña"]
["2815391","Lafalla Parrondo, Yolanda","3D","D",{"$f":"VLOOKUP(C3058,Referencias!$C$4:$D$21,2,FALSE())","v":"Tercera Diamante"},{"$f":"VLOOKUP(I3058,Referencias!$B$24:$C$41,2,FALSE())","v":"C.MAD"},{"$f":"VLOOKUP(C3058,Referencias!$C$4:$E$21,3,FALSE())","v":3},"Competición","Madrileña"]
["2815392","Hernánz García-Cuenca, Eva","3D","D",{"$f":"VLOOKUP(C3059,Referencias!$C$4:$D$21,2,FALSE())","v":"Tercera Diamante"},{"$f":"VLOOKUP(I3059,Referencias!$B$24:$C$41,2,FALSE())","v":"C.MAD"},{"$f":"VLOOKUP(C3059,Referencias!$C$4:$E$21,3,FALSE())","v":3},"Competición","Madrileña"]
["2815393","Hernández Barrantes, Susana","3D","D",{"$f":"VLOOKUP(C3060,Referencias!$C$4:$D$21,2,FALSE())","v":"Tercera Diamante"},{"$f":"VLOOKUP(I3060,Referencias!$B$24:$C$41,2,FALSE())","v":"C.MAD"},{"$f":"VLOOKUP(C3060,Referencias!$C$4:$E$21,3,FALSE())","v":3},"Competición","Madrileña"]
["2815395","Kadri García, Manuela","3D","D",{"$f":"VLOOKUP(C3061,Referencias!$C$4:$D$21,2,FALSE())","v":"Tercera Diamante"},{"$f":"VLOOKUP(I3061,Referencias!$B$24:$C$41,2,FALSE())","v":"C.MAD"},{"$f":"VLOOKUP(C3061,Referencias!$C$4:$E$21,3,FALSE())","v":3},"Competición","Madrileña"]
["2815396","López de Asiain Zabia, Almudena","3D","D",{"$f":"VLOOKUP(C3062,Referencias!$C$4:$D$21,2,FALSE())","v":"Tercera Diamante"},{"$f":"VLOOKUP(I3062,Referencias!$B$24:$C$41,2,FALSE())","v":"C.MAD"},{"$f":"VLOOKUP(C3062,Referencias!$C$4:$E$21,3,FALSE())","v":3},"Competición","Madrileña"]
["2815397","Palacios Morales, Marta","3D","D",{"$f":"VLOOKUP(C3063,Referencias!$C$4:$D$21,2,FALSE())","v":"Tercera Diamante"},{"$f":"VLOOKUP(I3063,Referencias!$B$24:$C$41,2,FALSE())","v":"C.MAD"},{"$f":"VLOOKUP(C3063,Referencias!$C$4:$E$21,3,FALSE())","v":3},"Competición","Madrileña"]
["2815398","Vidal Cedillo, Hugo","3D","C",{"$f":"VLOOKUP(C3064,Referencias!$C$4:$D$21,2,FALSE())","v":"Tercera Diamante"},{"$f":"VLOOKUP(I3064,Referencias!$B$24:$C$41,2,FALSE())","v":"C.MAD"},{"$f":"VLOOKUP(C3064,Referencias!$C$4:$E$21,3,FALSE())","v":3},"Competición","Madrileña"]
["2815399","Jiménez Sánchez, Laura","3D","D",{"$f":"VLOOKUP(C3065,Referencias!$C$4:$D$21,2,FALSE())","v":"Tercera Diamante"},{"$f":"VLOOKUP(I3065,Referencias!$B$24:$C$41,2,FALSE())","v":"C.MAD"},{"$f":"VLOOKUP(C3065,Referencias!$C$4:$E$21,3,FALSE())","v":3},"Competición","Madrileña"]
["2815400","Pascual Miravalles, Cristina","3D","D",{"$f":"VLOOKUP(C3066,Referencias!$C$4:$D$21,2,FALSE())","v":"Tercera Diamante"},{"$f":"VLOOKUP(I3066,Referencias!$B$24:$C$41,2,FALSE())","v":"C.MAD"},{"$f":"VLOOKUP(C3066,Referencias!$C$4:$E$21,3,FALSE())","v":3},"Competición","Madrileña"]
["2815401","Solanas Barrado, Ana","3D","D",{"$f":"VLOOKUP(C3067,Referencias!$C$4:$D$21,2,FALSE())","v":"Tercera Diamante"},{"$f":"VLOOKUP(I3067,Referencias!$B$24:$C$41,2,FALSE())","v":"C.MAD"},{"$f":"VLOOKUP(C3067,Referencias!$C$4:$E$21,3,FALSE())","v":3},"Competición","Madrileña"]
["2815402","Masnou López, Laura","3D","D",{"$f":"VLOOKUP(C3068,Referencias!$C$4:$D$21,2,FALSE())","v":"Tercera Diamante"},{"$f":"VLOOKUP(I3068,Referencias!$B$24:$C$41,2,FALSE())","v":"C.MAD"},{"$f":"VLOOKUP(C3068,Referencias!$C$4:$E$21,3,FALSE())","v":3},"Competición","Madrileña"]
["2815403","Bonilla Morett, María Dolores","3D","D",{"$f":"VLOOKUP(C3069,Referencias!$C$4:$D$21,2,FALSE())","v":"Tercera Diamante"},{"$f":"VLOOKUP(I3069,Referencias!$B$24:$C$41,2,FALSE())","v":"C.MAD"},{"$f":"VLOOKUP(C3069,Referencias!$C$4:$E$21,3,FALSE())","v":3},"Competición","Madrileña"]
["2815404","Humet Navarro, Mercedes","3D","D",{"$f":"VLOOKUP(C3070,Referencias!$C$4:$D$21,2,FALSE())","v":"Tercera Diamante"},{"$f":"VLOOKUP(I3070,Referencias!$B$24:$C$41,2,FALSE())","v":"C.MAD"},{"$f":"VLOOKUP(C3070,Referencias!$C$4:$E$21,3,FALSE())","v":3},"Competición","Madrileña"]
["2815405","Harris Goodfellow, Elizabeth","3D","D",{"$f":"VLOOKUP(C3071,Referencias!$C$4:$D$21,2,FALSE())","v":"Tercera Diamante"},{"$f":"VLOOKUP(I3071,Referencias!$B$24:$C$41,2,FALSE())","v":"C.MAD"},{"$f":"VLOOKUP(C3071,Referencias!$C$4:$E$21,3,FALSE())","v":3},"Competición","Madrileña"]
["2815406","Muñoz Falero, María Eugenia","3D","D",{"$f":"VLOOKUP(C3072,Referencias!$C$4:$D$21,2,FALSE())","v":"Tercera Diamante"},{"$f":"VLOOKUP(I3072,Referencias!$B$24:$C$41,2,FALSE())","v":"C.MAD"},{"$f":"VLOOKUP(C3072,Referencias!$C$4:$E$21,3,FALSE())","v":3},"Competición","Madrileña"]
["2815407","Serrano de la Peña, Victoria","3D","D",{"$f":"VLOOKUP(C3073,Referencias!$C$4:$D$21,2,FALSE())","v":"Tercera Diamante"},{"$f":"VLOOKUP(I3073,Referencias!$B$24:$C$41,2,FALSE())","v":"C.MAD"},{"$f":"VLOOKUP(C3073,Referencias!$C$4:$E$21,3,FALSE())","v":3},"Competición","Madrileña"]
["2815408","García Álvarez, Ricardo","3D","C",{"$f":"VLOOKUP(C3074,Referencias!$C$4:$D$21,2,FALSE())","v":"Tercera Diamante"},{"$f":"VLOOKUP(I3074,Referencias!$B$24:$C$41,2,FALSE())","v":"C.MAD"},{"$f":"VLOOKUP(C3074,Referencias!$C$4:$E$21,3,FALSE())","v":3},"Competición","Madrileña"]
["2815409","Guerra Criado, Javier","3D","C",{"$f":"VLOOKUP(C3075,Referencias!$C$4:$D$21,2,FALSE())","v":"Tercera Diamante"},{"$f":"VLOOKUP(I3075,Referencias!$B$24:$C$41,2,FALSE())","v":"C.MAD"},{"$f":"VLOOKUP(C3075,Referencias!$C$4:$E$21,3,FALSE())","v":3},"Competición","Madrileña"]
["2815410","Marti Puebla, Carlos","3D","C",{"$f":"VLOOKUP(C3076,Referencias!$C$4:$D$21,2,FALSE())","v":"Tercera Diamante"},{"$f":"VLOOKUP(I3076,Referencias!$B$24:$C$41,2,FALSE())","v":"C.MAD"},{"$f":"VLOOKUP(C3076,Referencias!$C$4:$E$21,3,FALSE())","v":3},"Competición","Madrileña"]
["2815411","Aguado Menéndez, Carmen","3D","D",{"$f":"VLOOKUP(C3077,Referencias!$C$4:$D$21,2,FALSE())","v":"Tercera Diamante"},{"$f":"VLOOKUP(I3077,Referencias!$B$24:$C$41,2,FALSE())","v":"C.MAD"},{"$f":"VLOOKUP(C3077,Referencias!$C$4:$E$21,3,FALSE())","v":3},"Competición","Madrileña"]
["2815412","Rosal Muntadas-Prim, Teresa","3D","D",{"$f":"VLOOKUP(C3078,Referencias!$C$4:$D$21,2,FALSE())","v":"Tercera Diamante"},{"$f":"VLOOKUP(I3078,Referencias!$B$24:$C$41,2,FALSE())","v":"C.MAD"},{"$f":"VLOOKUP(C3078,Referencias!$C$4:$E$21,3,FALSE())","v":3},"Competición","Madrileña"]
["2815413","Pagan de la Fuente, Rafael","3D","C",{"$f":"VLOOKUP(C3079,Referencias!$C$4:$D$21,2,FALSE())","v":"Tercera Diamante"},{"$f":"VLOOKUP(I3079,Referencias!$B$24:$C$41,2,FALSE())","v":"C.MAD"},{"$f":"VLOOKUP(C3079,Referencias!$C$4:$E$21,3,FALSE())","v":3},"Competición","Madrileña"]
["2815414","Rueda Nuñez, Gonzalo","3D","C",{"$f":"VLOOKUP(C3080,Referencias!$C$4:$D$21,2,FALSE())","v":"Tercera Diamante"},{"$f":"VLOOKUP(I3080,Referencias!$B$24:$C$41,2,FALSE())","v":"C.MAD"},{"$f":"VLOOKUP(C3080,Referencias!$C$4:$E$21,3,FALSE())","v":3},"Competición","Madrileña"]
["2815415","Corrales Kindelan, Isabel","3D","D",{"$f":"VLOOKUP(C3081,Referencias!$C$4:$D$21,2,FALSE())","v":"Tercera Diamante"},{"$f":"VLOOKUP(I3081,Referencias!$B$24:$C$41,2,FALSE())","v":"C.MAD"},{"$f":"VLOOKUP(C3081,Referencias!$C$4:$E$21,3,FALSE())","v":3},"Competición","Madrileña"]
["2815416","Martínez Pardavila, María José","3D","D",{"$f":"VLOOKUP(C3082,Referencias!$C$4:$D$21,2,FALSE())","v":"Tercera Diamante"},{"$f":"VLOOKUP(I3082,Referencias!$B$24:$C$41,2,FALSE())","v":"C.MAD"},{"$f":"VLOOKUP(C3082,Referencias!$C$4:$E$21,3,FALSE())","v":3},"Competición","Madrileña"]
["2815417","Vidal Sanz, Susana","3D","D",{"$f":"VLOOKUP(C3083,Referencias!$C$4:$D$21,2,FALSE())","v":"Tercera Diamante"},{"$f":"VLOOKUP(I3083,Referencias!$B$24:$C$41,2,FALSE())","v":"C.MAD"},{"$f":"VLOOKUP(C3083,Referencias!$C$4:$E$21,3,FALSE())","v":3},"Competición","Madrileña"]
["2815418","Nistal Andres, Fernanda","3D","D",{"$f":"VLOOKUP(C3084,Referencias!$C$4:$D$21,2,FALSE())","v":"Tercera Diamante"},{"$f":"VLOOKUP(I3084,Referencias!$B$24:$C$41,2,FALSE())","v":"C.MAD"},{"$f":"VLOOKUP(C3084,Referencias!$C$4:$E$21,3,FALSE())","v":3},"Competición","Madrileña"]
["2815419","Bressel Velasco, María Angeles","3D","D",{"$f":"VLOOKUP(C3085,Referencias!$C$4:$D$21,2,FALSE())","v":"Tercera Diamante"},{"$f":"VLOOKUP(I3085,Referencias!$B$24:$C$41,2,FALSE())","v":"C.MAD"},{"$f":"VLOOKUP(C3085,Referencias!$C$4:$E$21,3,FALSE())","v":3},"Competición","Madrileña"]
["2815420","Rimoldi Parallada, María Josefa","3D","D",{"$f":"VLOOKUP(C3086,Referencias!$C$4:$D$21,2,FALSE())","v":"Tercera Diamante"},{"$f":"VLOOKUP(I3086,Referencias!$B$24:$C$41,2,FALSE())","v":"C.MAD"},{"$f":"VLOOKUP(C3086,Referencias!$C$4:$E$21,3,FALSE())","v":3},"Competición","Madrileña"]
["2815421","Armijo Chavarri, Cristina","3D","D",{"$f":"VLOOKUP(C3087,Referencias!$C$4:$D$21,2,FALSE())","v":"Tercera Diamante"},{"$f":"VLOOKUP(I3087,Referencias!$B$24:$C$41,2,FALSE())","v":"C.MAD"},{"$f":"VLOOKUP(C3087,Referencias!$C$4:$E$21,3,FALSE())","v":3},"Competición","Madrileña"]
["2815422","Yarte del Toro, Paz","3D","D",{"$f":"VLOOKUP(C3088,Referencias!$C$4:$D$21,2,FALSE())","v":"Tercera Diamante"},{"$f":"VLOOKUP(I3088,Referencias!$B$24:$C$41,2,FALSE())","v":"C.MAD"},{"$f":"VLOOKUP(C3088,Referencias!$C$4:$E$21,3,FALSE())","v":3},"Competición","Madrileña"]
["2815423","Fernández-Avila Hernández, Victoria","3D","D",{"$f":"VLOOKUP(C3089,Referencias!$C$4:$D$21,2,FALSE())","v":"Tercera Diamante"},{"$f":"VLOOKUP(I3089,Referencias!$B$24:$C$41,2,FALSE())","v":"C.MAD"},{"$f":"VLOOKUP(C3089,Referencias!$C$4:$E$21,3,FALSE())","v":3},"Competición","Madrileña"]
["2815424","Vidal Sanz, María Mercedes","3D","D",{"$f":"VLOOKUP(C3090,Referencias!$C$4:$D$21,2,FALSE())","v":"Tercera Diamante"},{"$f":"VLOOKUP(I3090,Referencias!$B$24:$C$41,2,FALSE())","v":"C.MAD"},{"$f":"VLOOKUP(C3090,Referencias!$C$4:$E$21,3,FALSE())","v":3},"Competición","Madrileña"]
["2815425","Hernández-Ros Martínez de Velasco , Javier","3D","C",{"$f":"VLOOKUP(C3091,Referencias!$C$4:$D$21,2,FALSE())","v":"Tercera Diamante"},{"$f":"VLOOKUP(I3091,Referencias!$B$24:$C$41,2,FALSE())","v":"C.MAD"},{"$f":"VLOOKUP(C3091,Referencias!$C$4:$E$21,3,FALSE())","v":3},"Competición","Madrileña"]
["2815426","Montón Martínez, Pilar","3D","D",{"$f":"VLOOKUP(C3092,Referencias!$C$4:$D$21,2,FALSE())","v":"Tercera Diamante"},{"$f":"VLOOKUP(I3092,Referencias!$B$24:$C$41,2,FALSE())","v":"C.MAD"},{"$f":"VLOOKUP(C3092,Referencias!$C$4:$E$21,3,FALSE())","v":3},"Competición","Madrileña"]
["2815427","Jiménez Rocabert, Pilar","3D","D",{"$f":"VLOOKUP(C3093,Referencias!$C$4:$D$21,2,FALSE())","v":"Tercera Diamante"},{"$f":"VLOOKUP(I3093,Referencias!$B$24:$C$41,2,FALSE())","v":"C.MAD"},{"$f":"VLOOKUP(C3093,Referencias!$C$4:$E$21,3,FALSE())","v":3},"Competición","Madrileña"]
["2815428","González-Iglesias Sitges, María Covadonga","3D","D",{"$f":"VLOOKUP(C3094,Referencias!$C$4:$D$21,2,FALSE())","v":"Tercera Diamante"},{"$f":"VLOOKUP(I3094,Referencias!$B$24:$C$41,2,FALSE())","v":"C.MAD"},{"$f":"VLOOKUP(C3094,Referencias!$C$4:$E$21,3,FALSE())","v":3},"Competición","Madrileña"]
["2815429","Gutiérrez de la Torre Barrenechea, Mar","3D","D",{"$f":"VLOOKUP(C3095,Referencias!$C$4:$D$21,2,FALSE())","v":"Tercera Diamante"},{"$f":"VLOOKUP(I3095,Referencias!$B$24:$C$41,2,FALSE())","v":"C.MAD"},{"$f":"VLOOKUP(C3095,Referencias!$C$4:$E$21,3,FALSE())","v":3},"Competición","Madrileña"]
["2815430","Muhhin, Birgit","3D","D",{"$f":"VLOOKUP(C3096,Referencias!$C$4:$D$21,2,FALSE())","v":"Tercera Diamante"},{"$f":"VLOOKUP(I3096,Referencias!$B$24:$C$41,2,FALSE())","v":"C.MAD"},{"$f":"VLOOKUP(C3096,Referencias!$C$4:$E$21,3,FALSE())","v":3},"Junior","Madrileña"]
["2815431","Urrutia Mosquera, Concepción","3D","D",{"$f":"VLOOKUP(C3097,Referencias!$C$4:$D$21,2,FALSE())","v":"Tercera Diamante"},{"$f":"VLOOKUP(I3097,Referencias!$B$24:$C$41,2,FALSE())","v":"C.MAD"},{"$f":"VLOOKUP(C3097,Referencias!$C$4:$E$21,3,FALSE())","v":3},"Competición","Madrileña"]
["2815432","García-Prieto Vázquez de Sola, Patricia","3D","D",{"$f":"VLOOKUP(C3098,Referencias!$C$4:$D$21,2,FALSE())","v":"Tercera Diamante"},{"$f":"VLOOKUP(I3098,Referencias!$B$24:$C$41,2,FALSE())","v":"C.MAD"},{"$f":"VLOOKUP(C3098,Referencias!$C$4:$E$21,3,FALSE())","v":3},"Competición","Madrileña"]
["2815433","Mazo, María Luisa","3D","D",{"$f":"VLOOKUP(C3099,Referencias!$C$4:$D$21,2,FALSE())","v":"Tercera Diamante"},{"$f":"VLOOKUP(I3099,Referencias!$B$24:$C$41,2,FALSE())","v":"C.MAD"},{"$f":"VLOOKUP(C3099,Referencias!$C$4:$E$21,3,FALSE())","v":3},"Competición","Madrileña"]
["2815434","Aguilera Navarro, Isabel","3D","D",{"$f":"VLOOKUP(C3100,Referencias!$C$4:$D$21,2,FALSE())","v":"Tercera Diamante"},{"$f":"VLOOKUP(I3100,Referencias!$B$24:$C$41,2,FALSE())","v":"C.MAD"},{"$f":"VLOOKUP(C3100,Referencias!$C$4:$E$21,3,FALSE())","v":3},"Competición","Madrileña"]
["2815435","Gónzalez Sopelana\t, Mercedes","3D","D",{"$f":"VLOOKUP(C3101,Referencias!$C$4:$D$21,2,FALSE())","v":"Tercera Diamante"},{"$f":"VLOOKUP(I3101,Referencias!$B$24:$C$41,2,FALSE())","v":"C.MAD"},{"$f":"VLOOKUP(C3101,Referencias!$C$4:$E$21,3,FALSE())","v":3},"Competición","Madrileña"]
["2815436","Martínez Alberola, Pablo","3D","C",{"$f":"VLOOKUP(C3102,Referencias!$C$4:$D$21,2,FALSE())","v":"Tercera Diamante"},{"$f":"VLOOKUP(I3102,Referencias!$B$24:$C$41,2,FALSE())","v":"C.MAD"},{"$f":"VLOOKUP(C3102,Referencias!$C$4:$E$21,3,FALSE())","v":3},"Competición","Madrileña"]
["2815437","Palacio Hurle\t, Elena","3D","D",{"$f":"VLOOKUP(C3103,Referencias!$C$4:$D$21,2,FALSE())","v":"Tercera Diamante"},{"$f":"VLOOKUP(I3103,Referencias!$B$24:$C$41,2,FALSE())","v":"C.MAD"},{"$f":"VLOOKUP(C3103,Referencias!$C$4:$E$21,3,FALSE())","v":3},"Competición","Madrileña"]
["2815438","Melendo Derqui, Pedro","3D","C",{"$f":"VLOOKUP(C3104,Referencias!$C$4:$D$21,2,FALSE())","v":"Tercera Diamante"},{"$f":"VLOOKUP(I3104,Referencias!$B$24:$C$41,2,FALSE())","v":"C.MAD"},{"$f":"VLOOKUP(C3104,Referencias!$C$4:$E$21,3,FALSE())","v":3},"Competición","Madrileña"]
["2815439","Espinosa de los Monteros Ortiz de Zevallos, Elena","3D","D",{"$f":"VLOOKUP(C3105,Referencias!$C$4:$D$21,2,FALSE())","v":"Tercera Diamante"},{"$f":"VLOOKUP(I3105,Referencias!$B$24:$C$41,2,FALSE())","v":"C.MAD"},{"$f":"VLOOKUP(C3105,Referencias!$C$4:$E$21,3,FALSE())","v":3},"Competición","Madrileña"]
["2815440","Silva Sáenz de Buruaga, Pilar","3D","D",{"$f":"VLOOKUP(C3106,Referencias!$C$4:$D$21,2,FALSE())","v":"Tercera Diamante"},{"$f":"VLOOKUP(I3106,Referencias!$B$24:$C$41,2,FALSE())","v":"C.MAD"},{"$f":"VLOOKUP(C3106,Referencias!$C$4:$E$21,3,FALSE())","v":3},"Competición","Madrileña"]
["2815441","Pastor García-Moreno, María","3D","D",{"$f":"VLOOKUP(C3107,Referencias!$C$4:$D$21,2,FALSE())","v":"Tercera Diamante"},{"$f":"VLOOKUP(I3107,Referencias!$B$24:$C$41,2,FALSE())","v":"C.MAD"},{"$f":"VLOOKUP(C3107,Referencias!$C$4:$E$21,3,FALSE())","v":3},"Competición","Madrileña"]
["2815442","Fernández Méndez de Andes, María","3D","D",{"$f":"VLOOKUP(C3108,Referencias!$C$4:$D$21,2,FALSE())","v":"Tercera Diamante"},{"$f":"VLOOKUP(I3108,Referencias!$B$24:$C$41,2,FALSE())","v":"C.MAD"},{"$f":"VLOOKUP(C3108,Referencias!$C$4:$E$21,3,FALSE())","v":3},"Competición","Madrileña"]
["2815443","Ortiz Beitia, Evelin","3D","D",{"$f":"VLOOKUP(C3109,Referencias!$C$4:$D$21,2,FALSE())","v":"Tercera Diamante"},{"$f":"VLOOKUP(I3109,Referencias!$B$24:$C$41,2,FALSE())","v":"C.MAD"},{"$f":"VLOOKUP(C3109,Referencias!$C$4:$E$21,3,FALSE())","v":3},"Competición","Madrileña"]
["2815444","Arias Villanueva, Camino","3D","D",{"$f":"VLOOKUP(C3110,Referencias!$C$4:$D$21,2,FALSE())","v":"Tercera Diamante"},{"$f":"VLOOKUP(I3110,Referencias!$B$24:$C$41,2,FALSE())","v":"C.MAD"},{"$f":"VLOOKUP(C3110,Referencias!$C$4:$E$21,3,FALSE())","v":3},"Competición","Madrileña"]
["2815445","Esteban Fernández, María Josefa","3D","D",{"$f":"VLOOKUP(C3111,Referencias!$C$4:$D$21,2,FALSE())","v":"Tercera Diamante"},{"$f":"VLOOKUP(I3111,Referencias!$B$24:$C$41,2,FALSE())","v":"C.MAD"},{"$f":"VLOOKUP(C3111,Referencias!$C$4:$E$21,3,FALSE())","v":3},"Competición","Madrileña"]
["2815446","Martín García, Yolanda","3D","D",{"$f":"VLOOKUP(C3112,Referencias!$C$4:$D$21,2,FALSE())","v":"Tercera Diamante"},{"$f":"VLOOKUP(I3112,Referencias!$B$24:$C$41,2,FALSE())","v":"C.MAD"},{"$f":"VLOOKUP(C3112,Referencias!$C$4:$E$21,3,FALSE())","v":3},"Competición","Madrileña"]
["2815447","Barreda Rubio, Fernando","3D","C",{"$f":"VLOOKUP(C3113,Referencias!$C$4:$D$21,2,FALSE())","v":"Tercera Diamante"},{"$f":"VLOOKUP(I3113,Referencias!$B$24:$C$41,2,FALSE())","v":"C.MAD"},{"$f":"VLOOKUP(C3113,Referencias!$C$4:$E$21,3,FALSE())","v":3},"Competición","Madrileña"]
["2815448","Tellez García, Angeles","3D","D",{"$f":"VLOOKUP(C3114,Referencias!$C$4:$D$21,2,FALSE())","v":"Tercera Diamante"},{"$f":"VLOOKUP(I3114,Referencias!$B$24:$C$41,2,FALSE())","v":"C.MAD"},{"$f":"VLOOKUP(C3114,Referencias!$C$4:$E$21,3,FALSE())","v":3},"Competición","Madrileña"]
["2815449","Sandonis García, Yolanda","3D","D",{"$f":"VLOOKUP(C3115,Referencias!$C$4:$D$21,2,FALSE())","v":"Tercera Diamante"},{"$f":"VLOOKUP(I3115,Referencias!$B$24:$C$41,2,FALSE())","v":"C.MAD"},{"$f":"VLOOKUP(C3115,Referencias!$C$4:$E$21,3,FALSE())","v":3},"Competición","Madrileña"]
["2815450","Cendra Armijo, Lola","3D","D",{"$f":"VLOOKUP(C3116,Referencias!$C$4:$D$21,2,FALSE())","v":"Tercera Diamante"},{"$f":"VLOOKUP(I3116,Referencias!$B$24:$C$41,2,FALSE())","v":"C.MAD"},{"$f":"VLOOKUP(C3116,Referencias!$C$4:$E$21,3,FALSE())","v":3},"Competición","Madrileña"]
["2815451","Garrido-Lestache Torrente, Nieves","3D","D",{"$f":"VLOOKUP(C3117,Referencias!$C$4:$D$21,2,FALSE())","v":"Tercera Diamante"},{"$f":"VLOOKUP(I3117,Referencias!$B$24:$C$41,2,FALSE())","v":"C.MAD"},{"$f":"VLOOKUP(C3117,Referencias!$C$4:$E$21,3,FALSE())","v":3},"Competición","Madrileña"]
["2815452","Soler-Roig Dualde, Andrea","3D","D",{"$f":"VLOOKUP(C3118,Referencias!$C$4:$D$21,2,FALSE())","v":"Tercera Diamante"},{"$f":"VLOOKUP(I3118,Referencias!$B$24:$C$41,2,FALSE())","v":"C.MAD"},{"$f":"VLOOKUP(C3118,Referencias!$C$4:$E$21,3,FALSE())","v":3},"Competición","Madrileña"]
["2815453","Mesa Benes, María Carmen","3D","D",{"$f":"VLOOKUP(C3119,Referencias!$C$4:$D$21,2,FALSE())","v":"Tercera Diamante"},{"$f":"VLOOKUP(I3119,Referencias!$B$24:$C$41,2,FALSE())","v":"C.MAD"},{"$f":"VLOOKUP(C3119,Referencias!$C$4:$E$21,3,FALSE())","v":3},"Competición","Madrileña"]
["2815454","Estaun Rodríguez Roldán, Sarah","3D","D",{"$f":"VLOOKUP(C3120,Referencias!$C$4:$D$21,2,FALSE())","v":"Tercera Diamante"},{"$f":"VLOOKUP(I3120,Referencias!$B$24:$C$41,2,FALSE())","v":"C.MAD"},{"$f":"VLOOKUP(C3120,Referencias!$C$4:$E$21,3,FALSE())","v":3},"Competición","Madrileña"]
["2815455","Miranda Oropeza, María José","3D","D",{"$f":"VLOOKUP(C3121,Referencias!$C$4:$D$21,2,FALSE())","v":"Tercera Diamante"},{"$f":"VLOOKUP(I3121,Referencias!$B$24:$C$41,2,FALSE())","v":"C.MAD"},{"$f":"VLOOKUP(C3121,Referencias!$C$4:$E$21,3,FALSE())","v":3},"Competición","Madrileña"]
["2815456","Parejo Piñon, María Inmaculada","3D","D",{"$f":"VLOOKUP(C3122,Referencias!$C$4:$D$21,2,FALSE())","v":"Tercera Diamante"},{"$f":"VLOOKUP(I3122,Referencias!$B$24:$C$41,2,FALSE())","v":"C.MAD"},{"$f":"VLOOKUP(C3122,Referencias!$C$4:$E$21,3,FALSE())","v":3},"Competición","Madrileña"]
["2815457","Ferrer Pérez Agote, María Pilar","3D","D",{"$f":"VLOOKUP(C3123,Referencias!$C$4:$D$21,2,FALSE())","v":"Tercera Diamante"},{"$f":"VLOOKUP(I3123,Referencias!$B$24:$C$41,2,FALSE())","v":"C.MAD"},{"$f":"VLOOKUP(C3123,Referencias!$C$4:$E$21,3,FALSE())","v":3},"Competición","Madrileña"]
["2815458","Martín de Llano, María Isabel","3D","D",{"$f":"VLOOKUP(C3124,Referencias!$C$4:$D$21,2,FALSE())","v":"Tercera Diamante"},{"$f":"VLOOKUP(I3124,Referencias!$B$24:$C$41,2,FALSE())","v":"C.MAD"},{"$f":"VLOOKUP(C3124,Referencias!$C$4:$E$21,3,FALSE())","v":3},"Competición","Madrileña"]
["2815459","Alonso López, Maria Jesús","3D","D",{"$f":"VLOOKUP(C3125,Referencias!$C$4:$D$21,2,FALSE())","v":"Tercera Diamante"},{"$f":"VLOOKUP(I3125,Referencias!$B$24:$C$41,2,FALSE())","v":"C.MAD"},{"$f":"VLOOKUP(C3125,Referencias!$C$4:$E$21,3,FALSE())","v":3},"Competición","Madrileña"]
["2815460","Millán Simón, María Teresa","3D","D",{"$f":"VLOOKUP(C3126,Referencias!$C$4:$D$21,2,FALSE())","v":"Tercera Diamante"},{"$f":"VLOOKUP(I3126,Referencias!$B$24:$C$41,2,FALSE())","v":"C.MAD"},{"$f":"VLOOKUP(C3126,Referencias!$C$4:$E$21,3,FALSE())","v":3},"Competición","Madrileña"]
["2815461","Zamacola Martínez, Fernando","3D","C",{"$f":"VLOOKUP(C3127,Referencias!$C$4:$D$21,2,FALSE())","v":"Tercera Diamante"},{"$f":"VLOOKUP(I3127,Referencias!$B$24:$C$41,2,FALSE())","v":"C.MAD"},{"$f":"VLOOKUP(C3127,Referencias!$C$4:$E$21,3,FALSE())","v":3},"Competición","Madrileña"]
["2815462","Porto del Corral, Ana","3D","D",{"$f":"VLOOKUP(C3128,Referencias!$C$4:$D$21,2,FALSE())","v":"Tercera Diamante"},{"$f":"VLOOKUP(I3128,Referencias!$B$24:$C$41,2,FALSE())","v":"C.MAD"},{"$f":"VLOOKUP(C3128,Referencias!$C$4:$E$21,3,FALSE())","v":3},"Competición","Madrileña"]
["2815463","Quijano Morenes, Livia","3D","D",{"$f":"VLOOKUP(C3129,Referencias!$C$4:$D$21,2,FALSE())","v":"Tercera Diamante"},{"$f":"VLOOKUP(I3129,Referencias!$B$24:$C$41,2,FALSE())","v":"C.MAD"},{"$f":"VLOOKUP(C3129,Referencias!$C$4:$E$21,3,FALSE())","v":3},"Competición","Madrileña"]
["2815464","Samaniego Bordiu, Gonzalo","3D","C",{"$f":"VLOOKUP(C3130,Referencias!$C$4:$D$21,2,FALSE())","v":"Tercera Diamante"},{"$f":"VLOOKUP(I3130,Referencias!$B$24:$C$41,2,FALSE())","v":"C.MAD"},{"$f":"VLOOKUP(C3130,Referencias!$C$4:$E$21,3,FALSE())","v":3},"Competición","Madrileña"]
["2815465","Sánz Flores, Lourdes","3D","D",{"$f":"VLOOKUP(C3131,Referencias!$C$4:$D$21,2,FALSE())","v":"Tercera Diamante"},{"$f":"VLOOKUP(I3131,Referencias!$B$24:$C$41,2,FALSE())","v":"C.MAD"},{"$f":"VLOOKUP(C3131,Referencias!$C$4:$E$21,3,FALSE())","v":3},"Competición","Madrileña"]
["2815466","Magirena Varela, Maria Victoria","3D","D",{"$f":"VLOOKUP(C3132,Referencias!$C$4:$D$21,2,FALSE())","v":"Tercera Diamante"},{"$f":"VLOOKUP(I3132,Referencias!$B$24:$C$41,2,FALSE())","v":"C.MAD"},{"$f":"VLOOKUP(C3132,Referencias!$C$4:$E$21,3,FALSE())","v":3},"Competición","Madrileña"]
["2815467","Mulchi, David","3D","D",{"$f":"VLOOKUP(C3133,Referencias!$C$4:$D$21,2,FALSE())","v":"Tercera Diamante"},{"$f":"VLOOKUP(I3133,Referencias!$B$24:$C$41,2,FALSE())","v":"C.MAD"},{"$f":"VLOOKUP(C3133,Referencias!$C$4:$E$21,3,FALSE())","v":3},"Competición","Madrileña"]
["2815468","Miera Puente, Virginia","3D","D",{"$f":"VLOOKUP(C3134,Referencias!$C$4:$D$21,2,FALSE())","v":"Tercera Diamante"},{"$f":"VLOOKUP(I3134,Referencias!$B$24:$C$41,2,FALSE())","v":"C.MAD"},{"$f":"VLOOKUP(C3134,Referencias!$C$4:$E$21,3,FALSE())","v":3},"Competición","Madrileña"]
["2815469","López Sánchez, Pilar","3D","D",{"$f":"VLOOKUP(C3135,Referencias!$C$4:$D$21,2,FALSE())","v":"Tercera Diamante"},{"$f":"VLOOKUP(I3135,Referencias!$B$24:$C$41,2,FALSE())","v":"C.MAD"},{"$f":"VLOOKUP(C3135,Referencias!$C$4:$E$21,3,FALSE())","v":3},"Competición","Madrileña"]
["2815470","Berruga Monteagudo, María Llanos","3D","D",{"$f":"VLOOKUP(C3136,Referencias!$C$4:$D$21,2,FALSE())","v":"Tercera Diamante"},{"$f":"VLOOKUP(I3136,Referencias!$B$24:$C$41,2,FALSE())","v":"C.MAD"},{"$f":"VLOOKUP(C3136,Referencias!$C$4:$E$21,3,FALSE())","v":3},"Competición","Madrileña"]
["2815471","López Granados, Gracia","3D","D",{"$f":"VLOOKUP(C3137,Referencias!$C$4:$D$21,2,FALSE())","v":"Tercera Diamante"},{"$f":"VLOOKUP(I3137,Referencias!$B$24:$C$41,2,FALSE())","v":"C.MAD"},{"$f":"VLOOKUP(C3137,Referencias!$C$4:$E$21,3,FALSE())","v":3},"Competición","Madrileña"]
["2815472","Vidal Bujandas, Cesar","3D","C",{"$f":"VLOOKUP(C3138,Referencias!$C$4:$D$21,2,FALSE())","v":"Tercera Diamante"},{"$f":"VLOOKUP(I3138,Referencias!$B$24:$C$41,2,FALSE())","v":"C.MAD"},{"$f":"VLOOKUP(C3138,Referencias!$C$4:$E$21,3,FALSE())","v":3},"Competición","Madrileña"]
["2815473","Alvarez García, Montserrat","3D","D",{"$f":"VLOOKUP(C3139,Referencias!$C$4:$D$21,2,FALSE())","v":"Tercera Diamante"},{"$f":"VLOOKUP(I3139,Referencias!$B$24:$C$41,2,FALSE())","v":"C.MAD"},{"$f":"VLOOKUP(C3139,Referencias!$C$4:$E$21,3,FALSE())","v":3},"Competición","Madrileña"]
["2815474","Nogueira García, Rocio","3D","D",{"$f":"VLOOKUP(C3140,Referencias!$C$4:$D$21,2,FALSE())","v":"Tercera Diamante"},{"$f":"VLOOKUP(I3140,Referencias!$B$24:$C$41,2,FALSE())","v":"C.MAD"},{"$f":"VLOOKUP(C3140,Referencias!$C$4:$E$21,3,FALSE())","v":3},"Competición","Madrileña"]
["2815475","Peraita Adrados, Herminia","3D","D",{"$f":"VLOOKUP(C3141,Referencias!$C$4:$D$21,2,FALSE())","v":"Tercera Diamante"},{"$f":"VLOOKUP(I3141,Referencias!$B$24:$C$41,2,FALSE())","v":"C.MAD"},{"$f":"VLOOKUP(C3141,Referencias!$C$4:$E$21,3,FALSE())","v":3},"Competición","Madrileña"]
["2815476","López Granados, Belén","3D","D",{"$f":"VLOOKUP(C3142,Referencias!$C$4:$D$21,2,FALSE())","v":"Tercera Diamante"},{"$f":"VLOOKUP(I3142,Referencias!$B$24:$C$41,2,FALSE())","v":"C.MAD"},{"$f":"VLOOKUP(C3142,Referencias!$C$4:$E$21,3,FALSE())","v":3},"Competición","Madrileña"]
["2815477","Lloves Vieira, Ana","3D","D",{"$f":"VLOOKUP(C3143,Referencias!$C$4:$D$21,2,FALSE())","v":"Tercera Diamante"},{"$f":"VLOOKUP(I3143,Referencias!$B$24:$C$41,2,FALSE())","v":"C.MAD"},{"$f":"VLOOKUP(C3143,Referencias!$C$4:$E$21,3,FALSE())","v":3},"Competición","Madrileña"]
["2815478","Cortezo Chesa, Lola","3D","D",{"$f":"VLOOKUP(C3144,Referencias!$C$4:$D$21,2,FALSE())","v":"Tercera Diamante"},{"$f":"VLOOKUP(I3144,Referencias!$B$24:$C$41,2,FALSE())","v":"C.MAD"},{"$f":"VLOOKUP(C3144,Referencias!$C$4:$E$21,3,FALSE())","v":3},"Competición","Madrileña"]
["2815479","Marín Vilallonga, Virginia","3D","D",{"$f":"VLOOKUP(C3145,Referencias!$C$4:$D$21,2,FALSE())","v":"Tercera Diamante"},{"$f":"VLOOKUP(I3145,Referencias!$B$24:$C$41,2,FALSE())","v":"C.MAD"},{"$f":"VLOOKUP(C3145,Referencias!$C$4:$E$21,3,FALSE())","v":3},"Competición","Madrileña"]
["2815480","Evangelio Saenz, Ana","3D","D",{"$f":"VLOOKUP(C3146,Referencias!$C$4:$D$21,2,FALSE())","v":"Tercera Diamante"},{"$f":"VLOOKUP(I3146,Referencias!$B$24:$C$41,2,FALSE())","v":"C.MAD"},{"$f":"VLOOKUP(C3146,Referencias!$C$4:$E$21,3,FALSE())","v":3},"Competición","Madrileña"]
["2815481","Fuentes Herrero, Concha","3D","D",{"$f":"VLOOKUP(C3147,Referencias!$C$4:$D$21,2,FALSE())","v":"Tercera Diamante"},{"$f":"VLOOKUP(I3147,Referencias!$B$24:$C$41,2,FALSE())","v":"C.MAD"},{"$f":"VLOOKUP(C3147,Referencias!$C$4:$E$21,3,FALSE())","v":3},"Competición","Madrileña"]
["2815482","Rivero Fernández, Alicia del Carmen","3D","D",{"$f":"VLOOKUP(C3148,Referencias!$C$4:$D$21,2,FALSE())","v":"Tercera Diamante"},{"$f":"VLOOKUP(I3148,Referencias!$B$24:$C$41,2,FALSE())","v":"C.MAD"},{"$f":"VLOOKUP(C3148,Referencias!$C$4:$E$21,3,FALSE())","v":3},"Competición","Madrileña"]
["2815483","Guarido Corrales, Paula","3D","D",{"$f":"VLOOKUP(C3149,Referencias!$C$4:$D$21,2,FALSE())","v":"Tercera Diamante"},{"$f":"VLOOKUP(I3149,Referencias!$B$24:$C$41,2,FALSE())","v":"C.MAD"},{"$f":"VLOOKUP(C3149,Referencias!$C$4:$E$21,3,FALSE())","v":3},"Competición","Madrileña"]
["2815484","Arias Romaguera, Lucía","3D","D",{"$f":"VLOOKUP(C3150,Referencias!$C$4:$D$21,2,FALSE())","v":"Tercera Diamante"},{"$f":"VLOOKUP(I3150,Referencias!$B$24:$C$41,2,FALSE())","v":"C.MAD"},{"$f":"VLOOKUP(C3150,Referencias!$C$4:$E$21,3,FALSE())","v":3},"Competición","Madrileña"]
["2815485","Satrústegui Spinelli, Gonzalo","3D","C",{"$f":"VLOOKUP(C3151,Referencias!$C$4:$D$21,2,FALSE())","v":"Tercera Diamante"},{"$f":"VLOOKUP(I3151,Referencias!$B$24:$C$41,2,FALSE())","v":"C.MAD"},{"$f":"VLOOKUP(C3151,Referencias!$C$4:$E$21,3,FALSE())","v":3},"Competición","Madrileña"]
["2815486","López Tafall Bascuñana, Adriana","3D","D",{"$f":"VLOOKUP(C3152,Referencias!$C$4:$D$21,2,FALSE())","v":"Tercera Diamante"},{"$f":"VLOOKUP(I3152,Referencias!$B$24:$C$41,2,FALSE())","v":"C.MAD"},{"$f":"VLOOKUP(C3152,Referencias!$C$4:$E$21,3,FALSE())","v":3},"Competición","Madrileña"]
["2815487","Martín de Vidales Godino, Mónica","3D","D",{"$f":"VLOOKUP(C3153,Referencias!$C$4:$D$21,2,FALSE())","v":"Tercera Diamante"},{"$f":"VLOOKUP(I3153,Referencias!$B$24:$C$41,2,FALSE())","v":"C.MAD"},{"$f":"VLOOKUP(C3153,Referencias!$C$4:$E$21,3,FALSE())","v":3},"Competición","Madrileña"]
["2815488","Antoñanzas Alvear, Luis","3D","C",{"$f":"VLOOKUP(C3154,Referencias!$C$4:$D$21,2,FALSE())","v":"Tercera Diamante"},{"$f":"VLOOKUP(I3154,Referencias!$B$24:$C$41,2,FALSE())","v":"C.MAD"},{"$f":"VLOOKUP(C3154,Referencias!$C$4:$E$21,3,FALSE())","v":3},"Competición","Madrileña"]
["2815489","Suárez-Llanos Rovira, Isabel","3D","D",{"$f":"VLOOKUP(C3155,Referencias!$C$4:$D$21,2,FALSE())","v":"Tercera Diamante"},{"$f":"VLOOKUP(I3155,Referencias!$B$24:$C$41,2,FALSE())","v":"C.MAD"},{"$f":"VLOOKUP(C3155,Referencias!$C$4:$E$21,3,FALSE())","v":3},"Competición","Madrileña"]
["2815490","Canales Abaitua, Rafael","3D","C",{"$f":"VLOOKUP(C3156,Referencias!$C$4:$D$21,2,FALSE())","v":"Tercera Diamante"},{"$f":"VLOOKUP(I3156,Referencias!$B$24:$C$41,2,FALSE())","v":"C.MAD"},{"$f":"VLOOKUP(C3156,Referencias!$C$4:$E$21,3,FALSE())","v":3},"Competición","Madrileña"]
["2815491","Juste Ortega, Alfonso","3D","C",{"$f":"VLOOKUP(C3157,Referencias!$C$4:$D$21,2,FALSE())","v":"Tercera Diamante"},{"$f":"VLOOKUP(I3157,Referencias!$B$24:$C$41,2,FALSE())","v":"C.MAD"},{"$f":"VLOOKUP(C3157,Referencias!$C$4:$E$21,3,FALSE())","v":3},"Competición","Madrileña"]
["2815492","García-Sañudo Díez, Elena","3D","D",{"$f":"VLOOKUP(C3158,Referencias!$C$4:$D$21,2,FALSE())","v":"Tercera Diamante"},{"$f":"VLOOKUP(I3158,Referencias!$B$24:$C$41,2,FALSE())","v":"C.MAD"},{"$f":"VLOOKUP(C3158,Referencias!$C$4:$E$21,3,FALSE())","v":3},"Competición","Madrileña"]
["2815493","Verdaguer Aguerrebehere, Juan","3D","C",{"$f":"VLOOKUP(C3159,Referencias!$C$4:$D$21,2,FALSE())","v":"Tercera Diamante"},{"$f":"VLOOKUP(I3159,Referencias!$B$24:$C$41,2,FALSE())","v":"C.MAD"},{"$f":"VLOOKUP(C3159,Referencias!$C$4:$E$21,3,FALSE())","v":3},"Competición","Madrileña"]
["2815494","Aguerrebehere Hombravella, Maria Elena","3D","D",{"$f":"VLOOKUP(C3160,Referencias!$C$4:$D$21,2,FALSE())","v":"Tercera Diamante"},{"$f":"VLOOKUP(I3160,Referencias!$B$24:$C$41,2,FALSE())","v":"C.MAD"},{"$f":"VLOOKUP(C3160,Referencias!$C$4:$E$21,3,FALSE())","v":3},"Competición","Madrileña"]
["2815495","Martín del Rio, Sonsoles","3D","D",{"$f":"VLOOKUP(C3161,Referencias!$C$4:$D$21,2,FALSE())","v":"Tercera Diamante"},{"$f":"VLOOKUP(I3161,Referencias!$B$24:$C$41,2,FALSE())","v":"C.MAD"},{"$f":"VLOOKUP(C3161,Referencias!$C$4:$E$21,3,FALSE())","v":3},"Competición","Madrileña"]
["2815496","Sopena Egusquiza, Begoña","3D","D",{"$f":"VLOOKUP(C3162,Referencias!$C$4:$D$21,2,FALSE())","v":"Tercera Diamante"},{"$f":"VLOOKUP(I3162,Referencias!$B$24:$C$41,2,FALSE())","v":"C.MAD"},{"$f":"VLOOKUP(C3162,Referencias!$C$4:$E$21,3,FALSE())","v":3},"Competición","Madrileña"]
["2815497","Ruiz Orfila, Jaime","3D","C",{"$f":"VLOOKUP(C3163,Referencias!$C$4:$D$21,2,FALSE())","v":"Tercera Diamante"},{"$f":"VLOOKUP(I3163,Referencias!$B$24:$C$41,2,FALSE())","v":"C.MAD"},{"$f":"VLOOKUP(C3163,Referencias!$C$4:$E$21,3,FALSE())","v":3},"Competición","Madrileña"]
["2815498","Hernández Macarrón, María Jesús","3D","D",{"$f":"VLOOKUP(C3164,Referencias!$C$4:$D$21,2,FALSE())","v":"Tercera Diamante"},{"$f":"VLOOKUP(I3164,Referencias!$B$24:$C$41,2,FALSE())","v":"C.MAD"},{"$f":"VLOOKUP(C3164,Referencias!$C$4:$E$21,3,FALSE())","v":3},"Competición","Madrileña"]
["2815499","Martínez Hevia, María Soledad","3D","D",{"$f":"VLOOKUP(C3165,Referencias!$C$4:$D$21,2,FALSE())","v":"Tercera Diamante"},{"$f":"VLOOKUP(I3165,Referencias!$B$24:$C$41,2,FALSE())","v":"C.MAD"},{"$f":"VLOOKUP(C3165,Referencias!$C$4:$E$21,3,FALSE())","v":3},"Competición","Madrileña"]
["2815500","Verdeja Lizama, Isabel","3D","D",{"$f":"VLOOKUP(C3166,Referencias!$C$4:$D$21,2,FALSE())","v":"Tercera Diamante"},{"$f":"VLOOKUP(I3166,Referencias!$B$24:$C$41,2,FALSE())","v":"C.MAD"},{"$f":"VLOOKUP(C3166,Referencias!$C$4:$E$21,3,FALSE())","v":3},"Competición","Madrileña"]
["2815501","González-Aller de la Mota, Francisco Javier","3D","C",{"$f":"VLOOKUP(C3167,Referencias!$C$4:$D$21,2,FALSE())","v":"Tercera Diamante"},{"$f":"VLOOKUP(I3167,Referencias!$B$24:$C$41,2,FALSE())","v":"C.MAD"},{"$f":"VLOOKUP(C3167,Referencias!$C$4:$E$21,3,FALSE())","v":3},"Competición","Madrileña"]
["2815502","Alfageme Gonzalez-Ubeda, Miguel","3D","C",{"$f":"VLOOKUP(C3168,Referencias!$C$4:$D$21,2,FALSE())","v":"Tercera Diamante"},{"$f":"VLOOKUP(I3168,Referencias!$B$24:$C$41,2,FALSE())","v":"C.MAD"},{"$f":"VLOOKUP(C3168,Referencias!$C$4:$E$21,3,FALSE())","v":3},"Competición","Madrileña"]
["2815503","Martín de Argila, María","3D","D",{"$f":"VLOOKUP(C3169,Referencias!$C$4:$D$21,2,FALSE())","v":"Tercera Diamante"},{"$f":"VLOOKUP(I3169,Referencias!$B$24:$C$41,2,FALSE())","v":"C.MAD"},{"$f":"VLOOKUP(C3169,Referencias!$C$4:$E$21,3,FALSE())","v":3},"Competición","Madrileña"]
["2815504","Ramirez Nuñez de Prado\t, Mar","3D","D",{"$f":"VLOOKUP(C3170,Referencias!$C$4:$D$21,2,FALSE())","v":"Tercera Diamante"},{"$f":"VLOOKUP(I3170,Referencias!$B$24:$C$41,2,FALSE())","v":"C.MAD"},{"$f":"VLOOKUP(C3170,Referencias!$C$4:$E$21,3,FALSE())","v":3},"Competición","Madrileña"]
["2815505","Bachiller Llurda, Mónica","3D","D",{"$f":"VLOOKUP(C3171,Referencias!$C$4:$D$21,2,FALSE())","v":"Tercera Diamante"},{"$f":"VLOOKUP(I3171,Referencias!$B$24:$C$41,2,FALSE())","v":"C.MAD"},{"$f":"VLOOKUP(C3171,Referencias!$C$4:$E$21,3,FALSE())","v":3},"Competición","Madrileña"]
["2815506","Elejabeitia Cilleruelo\t, Claudio","3D","C",{"$f":"VLOOKUP(C3172,Referencias!$C$4:$D$21,2,FALSE())","v":"Tercera Diamante"},{"$f":"VLOOKUP(I3172,Referencias!$B$24:$C$41,2,FALSE())","v":"C.MAD"},{"$f":"VLOOKUP(C3172,Referencias!$C$4:$E$21,3,FALSE())","v":3},"Competición","Madrileña"]
["2815507","Girau Gómez, Marta","3D","D",{"$f":"VLOOKUP(C3173,Referencias!$C$4:$D$21,2,FALSE())","v":"Tercera Diamante"},{"$f":"VLOOKUP(I3173,Referencias!$B$24:$C$41,2,FALSE())","v":"C.MAD"},{"$f":"VLOOKUP(C3173,Referencias!$C$4:$E$21,3,FALSE())","v":3},"Competición","Madrileña"]
["2815508","Fernández-Victorio del Camino\t, María de La Concepción","3D","D",{"$f":"VLOOKUP(C3174,Referencias!$C$4:$D$21,2,FALSE())","v":"Tercera Diamante"},{"$f":"VLOOKUP(I3174,Referencias!$B$24:$C$41,2,FALSE())","v":"C.MAD"},{"$f":"VLOOKUP(C3174,Referencias!$C$4:$E$21,3,FALSE())","v":3},"Competición","Madrileña"]
["2815509","Messia Alarcón, Javier","3D","C",{"$f":"VLOOKUP(C3175,Referencias!$C$4:$D$21,2,FALSE())","v":"Tercera Diamante"},{"$f":"VLOOKUP(I3175,Referencias!$B$24:$C$41,2,FALSE())","v":"C.MAD"},{"$f":"VLOOKUP(C3175,Referencias!$C$4:$E$21,3,FALSE())","v":3},"Competición","Madrileña"]
["2815510","Pidal Vives, Agatha","1P","D",{"$f":"VLOOKUP(C3176,Referencias!$C$4:$D$21,2,FALSE())","v":"Primera Picas"},{"$f":"VLOOKUP(I3176,Referencias!$B$24:$C$41,2,FALSE())","v":"P.AST"},{"$f":"VLOOKUP(C3176,Referencias!$C$4:$E$21,3,FALSE())","v":1},"Competición","Asturiana"]
["2815511","Cordero García, Maria","3D","D",{"$f":"VLOOKUP(C3177,Referencias!$C$4:$D$21,2,FALSE())","v":"Tercera Diamante"},{"$f":"VLOOKUP(I3177,Referencias!$B$24:$C$41,2,FALSE())","v":"C.MAD"},{"$f":"VLOOKUP(C3177,Referencias!$C$4:$E$21,3,FALSE())","v":3},"Competición","Madrileña"]
["2815512","Narváez Rodríguez-Arias, Almudena","3D","D",{"$f":"VLOOKUP(C3178,Referencias!$C$4:$D$21,2,FALSE())","v":"Tercera Diamante"},{"$f":"VLOOKUP(I3178,Referencias!$B$24:$C$41,2,FALSE())","v":"C.MAD"},{"$f":"VLOOKUP(C3178,Referencias!$C$4:$E$21,3,FALSE())","v":3},"Competición","Madrileña"]
["2815513","Jordán de Urríes, María de Urbina","3D","D",{"$f":"VLOOKUP(C3179,Referencias!$C$4:$D$21,2,FALSE())","v":"Tercera Diamante"},{"$f":"VLOOKUP(I3179,Referencias!$B$24:$C$41,2,FALSE())","v":"C.MAD"},{"$f":"VLOOKUP(C3179,Referencias!$C$4:$E$21,3,FALSE())","v":3},"Competición","Madrileña"]
["2815514","Carbonell Bañuelos, Patricia","3D","D",{"$f":"VLOOKUP(C3180,Referencias!$C$4:$D$21,2,FALSE())","v":"Tercera Diamante"},{"$f":"VLOOKUP(I3180,Referencias!$B$24:$C$41,2,FALSE())","v":"C.MAD"},{"$f":"VLOOKUP(C3180,Referencias!$C$4:$E$21,3,FALSE())","v":3},"Competición","Madrileña"]
["2815515","Aresti López, Valeria","3D","D",{"$f":"VLOOKUP(C3181,Referencias!$C$4:$D$21,2,FALSE())","v":"Tercera Diamante"},{"$f":"VLOOKUP(I3181,Referencias!$B$24:$C$41,2,FALSE())","v":"C.MAD"},{"$f":"VLOOKUP(C3181,Referencias!$C$4:$E$21,3,FALSE())","v":3},"Competición","Madrileña"]
["2815516","Mohino Manrique, Ana","3D","D",{"$f":"VLOOKUP(C3182,Referencias!$C$4:$D$21,2,FALSE())","v":"Tercera Diamante"},{"$f":"VLOOKUP(I3182,Referencias!$B$24:$C$41,2,FALSE())","v":"C.MAD"},{"$f":"VLOOKUP(C3182,Referencias!$C$4:$E$21,3,FALSE())","v":3},"Competición","Madrileña"]
["2815517","Radigales Valdeauero, Maria Luisa","3D","D",{"$f":"VLOOKUP(C3183,Referencias!$C$4:$D$21,2,FALSE())","v":"Tercera Diamante"},{"$f":"VLOOKUP(I3183,Referencias!$B$24:$C$41,2,FALSE())","v":"C.MAD"},{"$f":"VLOOKUP(C3183,Referencias!$C$4:$E$21,3,FALSE())","v":3},"Competición","Madrileña"]
["2815518","Victor, Catherine","3D","C",{"$f":"VLOOKUP(C3184,Referencias!$C$4:$D$21,2,FALSE())","v":"Tercera Diamante"},{"$f":"VLOOKUP(I3184,Referencias!$B$24:$C$41,2,FALSE())","v":"C.MAD"},{"$f":"VLOOKUP(C3184,Referencias!$C$4:$E$21,3,FALSE())","v":3},"Competición","Madrileña"]
["2815519","Murlanch del Val, Pilar","3D","D",{"$f":"VLOOKUP(C3185,Referencias!$C$4:$D$21,2,FALSE())","v":"Tercera Diamante"},{"$f":"VLOOKUP(I3185,Referencias!$B$24:$C$41,2,FALSE())","v":"C.MAD"},{"$f":"VLOOKUP(C3185,Referencias!$C$4:$E$21,3,FALSE())","v":3},"Competición","Madrileña"]
["2815520","Pinedo Moraleda, Angel","3D","C",{"$f":"VLOOKUP(C3186,Referencias!$C$4:$D$21,2,FALSE())","v":"Tercera Diamante"},{"$f":"VLOOKUP(I3186,Referencias!$B$24:$C$41,2,FALSE())","v":"C.MAD"},{"$f":"VLOOKUP(C3186,Referencias!$C$4:$E$21,3,FALSE())","v":3},"Competición","Madrileña"]
["2815522","Suárez de Tangil Meneses de Orozco, Alfonso","3D","C",{"$f":"VLOOKUP(C3187,Referencias!$C$4:$D$21,2,FALSE())","v":"Tercera Diamante"},{"$f":"VLOOKUP(I3187,Referencias!$B$24:$C$41,2,FALSE())","v":"C.MAD"},{"$f":"VLOOKUP(C3187,Referencias!$C$4:$E$21,3,FALSE())","v":3},"Competición","Madrileña"]
["2815523","Villarrubia de Francisco, Cesar","3D","C",{"$f":"VLOOKUP(C3188,Referencias!$C$4:$D$21,2,FALSE())","v":"Tercera Diamante"},{"$f":"VLOOKUP(I3188,Referencias!$B$24:$C$41,2,FALSE())","v":"C.MAD"},{"$f":"VLOOKUP(C3188,Referencias!$C$4:$E$21,3,FALSE())","v":3},"Competición","Madrileña"]
["2815524","Pérez Algar, Cristina","3D","D",{"$f":"VLOOKUP(C3189,Referencias!$C$4:$D$21,2,FALSE())","v":"Tercera Diamante"},{"$f":"VLOOKUP(I3189,Referencias!$B$24:$C$41,2,FALSE())","v":"C.MAD"},{"$f":"VLOOKUP(C3189,Referencias!$C$4:$E$21,3,FALSE())","v":3},"Competición","Madrileña"]
["2815525","Palacios Álvarez, Miguel Ángel","3D","C",{"$f":"VLOOKUP(C3190,Referencias!$C$4:$D$21,2,FALSE())","v":"Tercera Diamante"},{"$f":"VLOOKUP(I3190,Referencias!$B$24:$C$41,2,FALSE())","v":"C.MAD"},{"$f":"VLOOKUP(C3190,Referencias!$C$4:$E$21,3,FALSE())","v":3},"Competición","Madrileña"]
["2815526","Martín Baena, María Jesús","3D","D",{"$f":"VLOOKUP(C3191,Referencias!$C$4:$D$21,2,FALSE())","v":"Tercera Diamante"},{"$f":"VLOOKUP(I3191,Referencias!$B$24:$C$41,2,FALSE())","v":"C.MAD"},{"$f":"VLOOKUP(C3191,Referencias!$C$4:$E$21,3,FALSE())","v":3},"Competición","Madrileña"]
["2815527","Esteban Fernández, Inocencio","3D","C",{"$f":"VLOOKUP(C3192,Referencias!$C$4:$D$21,2,FALSE())","v":"Tercera Diamante"},{"$f":"VLOOKUP(I3192,Referencias!$B$24:$C$41,2,FALSE())","v":"C.MAD"},{"$f":"VLOOKUP(C3192,Referencias!$C$4:$E$21,3,FALSE())","v":3},"Competición","Madrileña"]
["2815528","Serrano Serrano, María Angeles","3D","D",{"$f":"VLOOKUP(C3193,Referencias!$C$4:$D$21,2,FALSE())","v":"Tercera Diamante"},{"$f":"VLOOKUP(I3193,Referencias!$B$24:$C$41,2,FALSE())","v":"C.MAD"},{"$f":"VLOOKUP(C3193,Referencias!$C$4:$E$21,3,FALSE())","v":3},"Competición","Madrileña"]
["2815529","Díaz Gómez, Mayte","3D","D",{"$f":"VLOOKUP(C3194,Referencias!$C$4:$D$21,2,FALSE())","v":"Tercera Diamante"},{"$f":"VLOOKUP(I3194,Referencias!$B$24:$C$41,2,FALSE())","v":"C.MAD"},{"$f":"VLOOKUP(C3194,Referencias!$C$4:$E$21,3,FALSE())","v":3},"Competición","Madrileña"]
["2815530","Gutiérrez López, Adolfo","3D","C",{"$f":"VLOOKUP(C3195,Referencias!$C$4:$D$21,2,FALSE())","v":"Tercera Diamante"},{"$f":"VLOOKUP(I3195,Referencias!$B$24:$C$41,2,FALSE())","v":"C.MAD"},{"$f":"VLOOKUP(C3195,Referencias!$C$4:$E$21,3,FALSE())","v":3},"Competición","Madrileña"]
["2815531","Jiménez García-Alzórriz , Patricia María Bolivia","3D","D",{"$f":"VLOOKUP(C3196,Referencias!$C$4:$D$21,2,FALSE())","v":"Tercera Diamante"},{"$f":"VLOOKUP(I3196,Referencias!$B$24:$C$41,2,FALSE())","v":"C.MAD"},{"$f":"VLOOKUP(C3196,Referencias!$C$4:$E$21,3,FALSE())","v":3},"Competición","Madrileña"]
["2815532","Archdeacon, Tim","1P","C",{"$f":"VLOOKUP(C3197,Referencias!$C$4:$D$21,2,FALSE())","v":"Primera Picas"},{"$f":"VLOOKUP(I3197,Referencias!$B$24:$C$41,2,FALSE())","v":"C.MAD"},{"$f":"VLOOKUP(C3197,Referencias!$C$4:$E$21,3,FALSE())","v":1},"Competición","Madrileña"]
["2815533","Blanco Pinto, Enrique","3D","C",{"$f":"VLOOKUP(C3198,Referencias!$C$4:$D$21,2,FALSE())","v":"Tercera Diamante"},{"$f":"VLOOKUP(I3198,Referencias!$B$24:$C$41,2,FALSE())","v":"C.MAD"},{"$f":"VLOOKUP(C3198,Referencias!$C$4:$E$21,3,FALSE())","v":3},"Competición","Madrileña"]
["2815534","de la Calle Maldonado de Guevara, María Teresa","3D","D",{"$f":"VLOOKUP(C3199,Referencias!$C$4:$D$21,2,FALSE())","v":"Tercera Diamante"},{"$f":"VLOOKUP(I3199,Referencias!$B$24:$C$41,2,FALSE())","v":"C.MAD"},{"$f":"VLOOKUP(C3199,Referencias!$C$4:$E$21,3,FALSE())","v":3},"Competición","Madrileña"]
["2815535","Sánchez-Lozano Turmo, Rafael","3D","C",{"$f":"VLOOKUP(C3200,Referencias!$C$4:$D$21,2,FALSE())","v":"Tercera Diamante"},{"$f":"VLOOKUP(I3200,Referencias!$B$24:$C$41,2,FALSE())","v":"C.MAD"},{"$f":"VLOOKUP(C3200,Referencias!$C$4:$E$21,3,FALSE())","v":3},"Competición","Madrileña"]
["2815536","Bueno Tomas, Laura","3D","D",{"$f":"VLOOKUP(C3201,Referencias!$C$4:$D$21,2,FALSE())","v":"Tercera Diamante"},{"$f":"VLOOKUP(I3201,Referencias!$B$24:$C$41,2,FALSE())","v":"C.MAD"},{"$f":"VLOOKUP(C3201,Referencias!$C$4:$E$21,3,FALSE())","v":3},"Competición","Madrileña"]
["2815537","Morales Rodríguez, Antonio","3D","C",{"$f":"VLOOKUP(C3202,Referencias!$C$4:$D$21,2,FALSE())","v":"Tercera Diamante"},{"$f":"VLOOKUP(I3202,Referencias!$B$24:$C$41,2,FALSE())","v":"C.MAD"},{"$f":"VLOOKUP(C3202,Referencias!$C$4:$E$21,3,FALSE())","v":3},"Competición","Madrileña"]
["2815538","Jordán de Urríes, Juan Cubillo","3D","C",{"$f":"VLOOKUP(C3203,Referencias!$C$4:$D$21,2,FALSE())","v":"Tercera Diamante"},{"$f":"VLOOKUP(I3203,Referencias!$B$24:$C$41,2,FALSE())","v":"C.MAD"},{"$f":"VLOOKUP(C3203,Referencias!$C$4:$E$21,3,FALSE())","v":3},"Competición","Madrileña"]
["2961186","Chaudhuri, Amit","2P","C",{"$f":"VLOOKUP(C3204,Referencias!$C$4:$D$21,2,FALSE())","v":"Segunda Picas"},{"$f":"VLOOKUP(I3204,Referencias!$B$24:$C$41,2,FALSE())","v":"AND"},{"$f":"VLOOKUP(C3204,Referencias!$C$4:$E$21,3,FALSE())","v":2},"Competición","Andaluza"]
["2961269","Bjerre, Troels","3D","C",{"$f":"VLOOKUP(C3205,Referencias!$C$4:$D$21,2,FALSE())","v":"Tercera Diamante"},{"$f":"VLOOKUP(I3205,Referencias!$B$24:$C$41,2,FALSE())","v":"AND"},{"$f":"VLOOKUP(C3205,Referencias!$C$4:$E$21,3,FALSE())","v":3},"Competición","Andaluza"]
["2961364","Engstrom, Eva","3D","D",{"$f":"VLOOKUP(C3206,Referencias!$C$4:$D$21,2,FALSE())","v":"Tercera Diamante"},{"$f":"VLOOKUP(I3206,Referencias!$B$24:$C$41,2,FALSE())","v":"AND"},{"$f":"VLOOKUP(C3206,Referencias!$C$4:$E$21,3,FALSE())","v":3},"Competición","Andaluza"]
["2961394","López Llorca, María Teresa","3D","D",{"$f":"VLOOKUP(C3207,Referencias!$C$4:$D$21,2,FALSE())","v":"Tercera Diamante"},{"$f":"VLOOKUP(I3207,Referencias!$B$24:$C$41,2,FALSE())","v":"AND"},{"$f":"VLOOKUP(C3207,Referencias!$C$4:$E$21,3,FALSE())","v":3},"Competición","Andaluza"]
["2961483","Naqvi, Waseem","1P","C",{"$f":"VLOOKUP(C3208,Referencias!$C$4:$D$21,2,FALSE())","v":"Primera Picas"},{"$f":"VLOOKUP(I3208,Referencias!$B$24:$C$41,2,FALSE())","v":"AND"},{"$f":"VLOOKUP(C3208,Referencias!$C$4:$E$21,3,FALSE())","v":1},"Competición","Andaluza"]
["2961652","Alvarez-Ossorio Serrano, Margarita","3D","D",{"$f":"VLOOKUP(C3209,Referencias!$C$4:$D$21,2,FALSE())","v":"Tercera Diamante"},{"$f":"VLOOKUP(I3209,Referencias!$B$24:$C$41,2,FALSE())","v":"AND"},{"$f":"VLOOKUP(C3209,Referencias!$C$4:$E$21,3,FALSE())","v":3},"Competición","Andaluza"]
["2961681","Gadol, Patricia","3D","D",{"$f":"VLOOKUP(C3210,Referencias!$C$4:$D$21,2,FALSE())","v":"Tercera Diamante"},{"$f":"VLOOKUP(I3210,Referencias!$B$24:$C$41,2,FALSE())","v":"AND"},{"$f":"VLOOKUP(C3210,Referencias!$C$4:$E$21,3,FALSE())","v":3},"Competición","Andaluza"]
["2961694","Aizpurua Garzón, María Isabel","3D","D",{"$f":"VLOOKUP(C3211,Referencias!$C$4:$D$21,2,FALSE())","v":"Tercera Diamante"},{"$f":"VLOOKUP(I3211,Referencias!$B$24:$C$41,2,FALSE())","v":"AND"},{"$f":"VLOOKUP(C3211,Referencias!$C$4:$E$21,3,FALSE())","v":3},"Competición","Andaluza"]
["2961729","De Briones Segovia, Alicia","3D","D",{"$f":"VLOOKUP(C3212,Referencias!$C$4:$D$21,2,FALSE())","v":"Tercera Diamante"},{"$f":"VLOOKUP(I3212,Referencias!$B$24:$C$41,2,FALSE())","v":"AND"},{"$f":"VLOOKUP(C3212,Referencias!$C$4:$E$21,3,FALSE())","v":3},"Competición","Andaluza"]
["2961772","Mono, Roy","3D","C",{"$f":"VLOOKUP(C3213,Referencias!$C$4:$D$21,2,FALSE())","v":"Tercera Diamante"},{"$f":"VLOOKUP(I3213,Referencias!$B$24:$C$41,2,FALSE())","v":"AND"},{"$f":"VLOOKUP(C3213,Referencias!$C$4:$E$21,3,FALSE())","v":3},"Competición","Andaluza"]
["2961773","Pollak, Evelyn","3D","C",{"$f":"VLOOKUP(C3214,Referencias!$C$4:$D$21,2,FALSE())","v":"Tercera Diamante"},{"$f":"VLOOKUP(I3214,Referencias!$B$24:$C$41,2,FALSE())","v":"AND"},{"$f":"VLOOKUP(C3214,Referencias!$C$4:$E$21,3,FALSE())","v":3},"Competición","Andaluza"]
["2961775","Van Dam, Cornelius","2C","C",{"$f":"VLOOKUP(C3215,Referencias!$C$4:$D$21,2,FALSE())","v":"Segunda Corazón"},{"$f":"VLOOKUP(I3215,Referencias!$B$24:$C$41,2,FALSE())","v":"AND"},{"$f":"VLOOKUP(C3215,Referencias!$C$4:$E$21,3,FALSE())","v":2},"Competición","Andaluza"]
["2961795","Mutter, Deanne Armstrong","3D","C",{"$f":"VLOOKUP(C3216,Referencias!$C$4:$D$21,2,FALSE())","v":"Tercera Diamante"},{"$f":"VLOOKUP(I3216,Referencias!$B$24:$C$41,2,FALSE())","v":"AND"},{"$f":"VLOOKUP(C3216,Referencias!$C$4:$E$21,3,FALSE())","v":3},"Competición","Andaluza"]
["3004054","Fermín Corchero, Jesús","1P","C",{"$f":"VLOOKUP(C3217,Referencias!$C$4:$D$21,2,FALSE())","v":"Primera Picas"},{"$f":"VLOOKUP(I3217,Referencias!$B$24:$C$41,2,FALSE())","v":"MURC"},{"$f":"VLOOKUP(C3217,Referencias!$C$4:$E$21,3,FALSE())","v":1},"Competición","Murciana"]
["3004074","Gudiño Sarto, María Esperanza","3D","D",{"$f":"VLOOKUP(C3218,Referencias!$C$4:$D$21,2,FALSE())","v":"Tercera Diamante"},{"$f":"VLOOKUP(I3218,Referencias!$B$24:$C$41,2,FALSE())","v":"MURC"},{"$f":"VLOOKUP(C3218,Referencias!$C$4:$E$21,3,FALSE())","v":3},"Competición","Murciana"]
["3004612","Corchero Méndez, Isabel","3D","D",{"$f":"VLOOKUP(C3219,Referencias!$C$4:$D$21,2,FALSE())","v":"Tercera Diamante"},{"$f":"VLOOKUP(I3219,Referencias!$B$24:$C$41,2,FALSE())","v":"MURC"},{"$f":"VLOOKUP(C3219,Referencias!$C$4:$E$21,3,FALSE())","v":3},"Competición","Murciana"]
["3004938","Herrero Londres, Rosa María","2C","D",{"$f":"VLOOKUP(C3220,Referencias!$C$4:$D$21,2,FALSE())","v":"Segunda Corazón"},{"$f":"VLOOKUP(I3220,Referencias!$B$24:$C$41,2,FALSE())","v":"MURC"},{"$f":"VLOOKUP(C3220,Referencias!$C$4:$E$21,3,FALSE())","v":2},"Competición","Murciana"]
["3105002","Orue Lecue, Maite","3D","D",{"$f":"VLOOKUP(C3221,Referencias!$C$4:$D$21,2,FALSE())","v":"Tercera Diamante"},{"$f":"VLOOKUP(I3221,Referencias!$B$24:$C$41,2,FALSE())","v":"C.NAV"},{"$f":"VLOOKUP(C3221,Referencias!$C$4:$E$21,3,FALSE())","v":3},"Competición","Navarra"]
["3105003","Mina Apat, Sagrario","3P","D",{"$f":"VLOOKUP(C3222,Referencias!$C$4:$D$21,2,FALSE())","v":"Tercera Picas"},{"$f":"VLOOKUP(I3222,Referencias!$B$24:$C$41,2,FALSE())","v":"C.NAV"},{"$f":"VLOOKUP(C3222,Referencias!$C$4:$E$21,3,FALSE())","v":3},"Competición","Navarra"]
["3105005","García Mina Tuero, Fernando","3D","C",{"$f":"VLOOKUP(C3223,Referencias!$C$4:$D$21,2,FALSE())","v":"Tercera Diamante"},{"$f":"VLOOKUP(I3223,Referencias!$B$24:$C$41,2,FALSE())","v":"C.NAV"},{"$f":"VLOOKUP(C3223,Referencias!$C$4:$E$21,3,FALSE())","v":3},"Competición","Navarra"]
["3105015","Alegre Bosch, Carmen","3D","D",{"$f":"VLOOKUP(C3224,Referencias!$C$4:$D$21,2,FALSE())","v":"Tercera Diamante"},{"$f":"VLOOKUP(I3224,Referencias!$B$24:$C$41,2,FALSE())","v":"C.NAV"},{"$f":"VLOOKUP(C3224,Referencias!$C$4:$E$21,3,FALSE())","v":3},"Competición","Navarra"]
["3105017","Martínez de Azagra Irujo, María Dolores","3D","D",{"$f":"VLOOKUP(C3225,Referencias!$C$4:$D$21,2,FALSE())","v":"Tercera Diamante"},{"$f":"VLOOKUP(I3225,Referencias!$B$24:$C$41,2,FALSE())","v":"C.NAV"},{"$f":"VLOOKUP(C3225,Referencias!$C$4:$E$21,3,FALSE())","v":3},"Competición","Navarra"]
["3105025","Elizari Garayoa, María Nieves","3D","D",{"$f":"VLOOKUP(C3226,Referencias!$C$4:$D$21,2,FALSE())","v":"Tercera Diamante"},{"$f":"VLOOKUP(I3226,Referencias!$B$24:$C$41,2,FALSE())","v":"C.NAV"},{"$f":"VLOOKUP(C3226,Referencias!$C$4:$E$21,3,FALSE())","v":3},"Competición","Navarra"]
["3105029","San Martín Urdaniz, María Eugenia","3C","D",{"$f":"VLOOKUP(C3227,Referencias!$C$4:$D$21,2,FALSE())","v":"Tercera Corazón"},{"$f":"VLOOKUP(I3227,Referencias!$B$24:$C$41,2,FALSE())","v":"C.NAV"},{"$f":"VLOOKUP(C3227,Referencias!$C$4:$E$21,3,FALSE())","v":3},"Competición","Navarra"]
["3105031","Martinicorena Beruete, Santiago","3P","C",{"$f":"VLOOKUP(C3228,Referencias!$C$4:$D$21,2,FALSE())","v":"Tercera Picas"},{"$f":"VLOOKUP(I3228,Referencias!$B$24:$C$41,2,FALSE())","v":"C.NAV"},{"$f":"VLOOKUP(C3228,Referencias!$C$4:$E$21,3,FALSE())","v":3},"Competición","Navarra"]
["3105033","Ruiz de Alda de Carlos, Maria Puy","3C","D",{"$f":"VLOOKUP(C3229,Referencias!$C$4:$D$21,2,FALSE())","v":"Tercera Corazón"},{"$f":"VLOOKUP(I3229,Referencias!$B$24:$C$41,2,FALSE())","v":"C.NAV"},{"$f":"VLOOKUP(C3229,Referencias!$C$4:$E$21,3,FALSE())","v":3},"Competición","Navarra"]
["3105034","Garisoain , Alicia","3D","D",{"$f":"VLOOKUP(C3230,Referencias!$C$4:$D$21,2,FALSE())","v":"Tercera Diamante"},{"$f":"VLOOKUP(I3230,Referencias!$B$24:$C$41,2,FALSE())","v":"C.NAV"},{"$f":"VLOOKUP(C3230,Referencias!$C$4:$E$21,3,FALSE())","v":3},"Competición","Navarra"]
["3105035","Martinicorena Beruete, Angelina","3D","D",{"$f":"VLOOKUP(C3231,Referencias!$C$4:$D$21,2,FALSE())","v":"Tercera Diamante"},{"$f":"VLOOKUP(I3231,Referencias!$B$24:$C$41,2,FALSE())","v":"C.NAV"},{"$f":"VLOOKUP(C3231,Referencias!$C$4:$E$21,3,FALSE())","v":3},"Competición","Navarra"]
["3105036","Beunza Domeño, Mª Teresa","3D","D",{"$f":"VLOOKUP(C3232,Referencias!$C$4:$D$21,2,FALSE())","v":"Tercera Diamante"},{"$f":"VLOOKUP(I3232,Referencias!$B$24:$C$41,2,FALSE())","v":"C.NAV"},{"$f":"VLOOKUP(C3232,Referencias!$C$4:$E$21,3,FALSE())","v":3},"Competición","Navarra"]
["3105037","Montes Fuentes, María Teresa","3D","D",{"$f":"VLOOKUP(C3233,Referencias!$C$4:$D$21,2,FALSE())","v":"Tercera Diamante"},{"$f":"VLOOKUP(I3233,Referencias!$B$24:$C$41,2,FALSE())","v":"RIOJ"},{"$f":"VLOOKUP(C3233,Referencias!$C$4:$E$21,3,FALSE())","v":3},"Competición","Riojana"]
["3105039","Mozaz Garde, Mª Jesús","3D","D",{"$f":"VLOOKUP(C3234,Referencias!$C$4:$D$21,2,FALSE())","v":"Tercera Diamante"},{"$f":"VLOOKUP(I3234,Referencias!$B$24:$C$41,2,FALSE())","v":"C.NAV"},{"$f":"VLOOKUP(C3234,Referencias!$C$4:$E$21,3,FALSE())","v":3},"Competición","Navarra"]
["3105040","Laseca Martínez, José Bernardo","3C","C",{"$f":"VLOOKUP(C3235,Referencias!$C$4:$D$21,2,FALSE())","v":"Tercera Corazón"},{"$f":"VLOOKUP(I3235,Referencias!$B$24:$C$41,2,FALSE())","v":"C.NAV"},{"$f":"VLOOKUP(C3235,Referencias!$C$4:$E$21,3,FALSE())","v":3},"Competición","Navarra"]
["3105041","Laseca Martínez, Alberto","3C","C",{"$f":"VLOOKUP(C3236,Referencias!$C$4:$D$21,2,FALSE())","v":"Tercera Corazón"},{"$f":"VLOOKUP(I3236,Referencias!$B$24:$C$41,2,FALSE())","v":"C.NAV"},{"$f":"VLOOKUP(C3236,Referencias!$C$4:$E$21,3,FALSE())","v":3},"Competición","Navarra"]
["3105042","Marin Navarro, Carmen","3D","D",{"$f":"VLOOKUP(C3237,Referencias!$C$4:$D$21,2,FALSE())","v":"Tercera Diamante"},{"$f":"VLOOKUP(I3237,Referencias!$B$24:$C$41,2,FALSE())","v":"C.NAV"},{"$f":"VLOOKUP(C3237,Referencias!$C$4:$E$21,3,FALSE())","v":3},"Competición","Navarra"]
["3105043","Belzunce Martínez , María Luisa","3D","D",{"$f":"VLOOKUP(C3238,Referencias!$C$4:$D$21,2,FALSE())","v":"Tercera Diamante"},{"$f":"VLOOKUP(I3238,Referencias!$B$24:$C$41,2,FALSE())","v":"C.NAV"},{"$f":"VLOOKUP(C3238,Referencias!$C$4:$E$21,3,FALSE())","v":3},"Competición","Navarra"]
["3105044","Marzo Martínez , María Luisa","3D","D",{"$f":"VLOOKUP(C3239,Referencias!$C$4:$D$21,2,FALSE())","v":"Tercera Diamante"},{"$f":"VLOOKUP(I3239,Referencias!$B$24:$C$41,2,FALSE())","v":"C.NAV"},{"$f":"VLOOKUP(C3239,Referencias!$C$4:$E$21,3,FALSE())","v":3},"Competición","Navarra"]
["3105210","Alzugaray de Huarte, Blanca","2D","D",{"$f":"VLOOKUP(C3240,Referencias!$C$4:$D$21,2,FALSE())","v":"Segunda Diamante"},{"$f":"VLOOKUP(I3240,Referencias!$B$24:$C$41,2,FALSE())","v":"C.NAV"},{"$f":"VLOOKUP(C3240,Referencias!$C$4:$E$21,3,FALSE())","v":2},"Competición","Navarra"]
["3231236","Montes Tojo, Julia María","3D","D",{"$f":"VLOOKUP(C3241,Referencias!$C$4:$D$21,2,FALSE())","v":"Tercera Diamante"},{"$f":"VLOOKUP(I3241,Referencias!$B$24:$C$41,2,FALSE())","v":"GAL"},{"$f":"VLOOKUP(C3241,Referencias!$C$4:$E$21,3,FALSE())","v":3},"Competición","Gallega"]
["3231456","Abades Alvárez, Constantino","3D","C",{"$f":"VLOOKUP(C3242,Referencias!$C$4:$D$21,2,FALSE())","v":"Tercera Diamante"},{"$f":"VLOOKUP(I3242,Referencias!$B$24:$C$41,2,FALSE())","v":"GAL"},{"$f":"VLOOKUP(C3242,Referencias!$C$4:$E$21,3,FALSE())","v":3},"Competición","Gallega"]
["3231589","Gutierrez de la Cámara, Concepción","3D","D",{"$f":"VLOOKUP(C3243,Referencias!$C$4:$D$21,2,FALSE())","v":"Tercera Diamante"},{"$f":"VLOOKUP(I3243,Referencias!$B$24:$C$41,2,FALSE())","v":"AND"},{"$f":"VLOOKUP(C3243,Referencias!$C$4:$E$21,3,FALSE())","v":3},"Competición","Andaluza"]
["3301006","Guernica Otero, Carmen","1P","D",{"$f":"VLOOKUP(C3244,Referencias!$C$4:$D$21,2,FALSE())","v":"Primera Picas"},{"$f":"VLOOKUP(I3244,Referencias!$B$24:$C$41,2,FALSE())","v":"P.AST"},{"$f":"VLOOKUP(C3244,Referencias!$C$4:$E$21,3,FALSE())","v":1},"Competición","Asturiana"]
["3301009","LLaneza García, Carmen","1D","D",{"$f":"VLOOKUP(C3245,Referencias!$C$4:$D$21,2,FALSE())","v":"Primera Diamante"},{"$f":"VLOOKUP(I3245,Referencias!$B$24:$C$41,2,FALSE())","v":"P.AST"},{"$f":"VLOOKUP(C3245,Referencias!$C$4:$E$21,3,FALSE())","v":1},"Competición","Asturiana"]
["3301016","Escudero Martínez, Carmina","3D","D",{"$f":"VLOOKUP(C3246,Referencias!$C$4:$D$21,2,FALSE())","v":"Tercera Diamante"},{"$f":"VLOOKUP(I3246,Referencias!$B$24:$C$41,2,FALSE())","v":"P.AST"},{"$f":"VLOOKUP(C3246,Referencias!$C$4:$E$21,3,FALSE())","v":3},"Competición","Asturiana"]
["3301017","Arias Fernández, María José","1P","D",{"$f":"VLOOKUP(C3247,Referencias!$C$4:$D$21,2,FALSE())","v":"Primera Picas"},{"$f":"VLOOKUP(I3247,Referencias!$B$24:$C$41,2,FALSE())","v":"P.AST"},{"$f":"VLOOKUP(C3247,Referencias!$C$4:$E$21,3,FALSE())","v":1},"Competición","Asturiana"]
["3301020","Pendas García, María Rosa","1D","D",{"$f":"VLOOKUP(C3248,Referencias!$C$4:$D$21,2,FALSE())","v":"Primera Diamante"},{"$f":"VLOOKUP(I3248,Referencias!$B$24:$C$41,2,FALSE())","v":"P.AST"},{"$f":"VLOOKUP(C3248,Referencias!$C$4:$E$21,3,FALSE())","v":1},"Competición","Asturiana"]
["3301027","Álvarez Prieto, María Cristina","1C","D",{"$f":"VLOOKUP(C3249,Referencias!$C$4:$D$21,2,FALSE())","v":"Primera Corazón"},{"$f":"VLOOKUP(I3249,Referencias!$B$24:$C$41,2,FALSE())","v":"P.AST"},{"$f":"VLOOKUP(C3249,Referencias!$C$4:$E$21,3,FALSE())","v":1},"Competición","Asturiana"]
["3301028","Arrieta González, Beatriz","2C","D",{"$f":"VLOOKUP(C3250,Referencias!$C$4:$D$21,2,FALSE())","v":"Segunda Corazón"},{"$f":"VLOOKUP(I3250,Referencias!$B$24:$C$41,2,FALSE())","v":"P.AST"},{"$f":"VLOOKUP(C3250,Referencias!$C$4:$E$21,3,FALSE())","v":2},"Competición","Asturiana"]
["3301031","Barrero García, Rosalía","1P","D",{"$f":"VLOOKUP(C3251,Referencias!$C$4:$D$21,2,FALSE())","v":"Primera Picas"},{"$f":"VLOOKUP(I3251,Referencias!$B$24:$C$41,2,FALSE())","v":"P.AST"},{"$f":"VLOOKUP(C3251,Referencias!$C$4:$E$21,3,FALSE())","v":1},"Competición","Asturiana"]
["3301033","Caso de los Cobos Pascual, María Dolores","3D","D",{"$f":"VLOOKUP(C3252,Referencias!$C$4:$D$21,2,FALSE())","v":"Tercera Diamante"},{"$f":"VLOOKUP(I3252,Referencias!$B$24:$C$41,2,FALSE())","v":"P.AST"},{"$f":"VLOOKUP(C3252,Referencias!$C$4:$E$21,3,FALSE())","v":3},"Competición","Asturiana"]
["3301037","Fanjul García, Virginia","1P","D",{"$f":"VLOOKUP(C3253,Referencias!$C$4:$D$21,2,FALSE())","v":"Primera Picas"},{"$f":"VLOOKUP(I3253,Referencias!$B$24:$C$41,2,FALSE())","v":"P.AST"},{"$f":"VLOOKUP(C3253,Referencias!$C$4:$E$21,3,FALSE())","v":1},"Competición","Asturiana"]
["3301046","Martínez de la Vega Leguina, Covadonga","2P","D",{"$f":"VLOOKUP(C3254,Referencias!$C$4:$D$21,2,FALSE())","v":"Segunda Picas"},{"$f":"VLOOKUP(I3254,Referencias!$B$24:$C$41,2,FALSE())","v":"P.AST"},{"$f":"VLOOKUP(C3254,Referencias!$C$4:$E$21,3,FALSE())","v":2},"Competición","Asturiana"]
["3301050","Pérez del Busto, Rosa Elisa","2P","D",{"$f":"VLOOKUP(C3255,Referencias!$C$4:$D$21,2,FALSE())","v":"Segunda Picas"},{"$f":"VLOOKUP(I3255,Referencias!$B$24:$C$41,2,FALSE())","v":"P.AST"},{"$f":"VLOOKUP(C3255,Referencias!$C$4:$E$21,3,FALSE())","v":2},"Competición","Asturiana"]
["3301055","Soubrier, Carmen","1P","D",{"$f":"VLOOKUP(C3256,Referencias!$C$4:$D$21,2,FALSE())","v":"Primera Picas"},{"$f":"VLOOKUP(I3256,Referencias!$B$24:$C$41,2,FALSE())","v":"P.AST"},{"$f":"VLOOKUP(C3256,Referencias!$C$4:$E$21,3,FALSE())","v":1},"Competición","Asturiana"]
["3301060","Raposo Botana, María Rafaela","3D","D",{"$f":"VLOOKUP(C3257,Referencias!$C$4:$D$21,2,FALSE())","v":"Tercera Diamante"},{"$f":"VLOOKUP(I3257,Referencias!$B$24:$C$41,2,FALSE())","v":"P.AST"},{"$f":"VLOOKUP(C3257,Referencias!$C$4:$E$21,3,FALSE())","v":3},"Honorífica","Asturiana"]
["3301062","Rodríguez García, María Inés","3D","D",{"$f":"VLOOKUP(C3258,Referencias!$C$4:$D$21,2,FALSE())","v":"Tercera Diamante"},{"$f":"VLOOKUP(I3258,Referencias!$B$24:$C$41,2,FALSE())","v":"P.AST"},{"$f":"VLOOKUP(C3258,Referencias!$C$4:$E$21,3,FALSE())","v":3},"Competición","Asturiana"]
["3301064","Prieto Fernández, María Ángeles","1P","D",{"$f":"VLOOKUP(C3259,Referencias!$C$4:$D$21,2,FALSE())","v":"Primera Picas"},{"$f":"VLOOKUP(I3259,Referencias!$B$24:$C$41,2,FALSE())","v":"P.AST"},{"$f":"VLOOKUP(C3259,Referencias!$C$4:$E$21,3,FALSE())","v":1},"Competición","Asturiana"]
["3301068","López Lamela, Encarnación","1C","D",{"$f":"VLOOKUP(C3260,Referencias!$C$4:$D$21,2,FALSE())","v":"Primera Corazón"},{"$f":"VLOOKUP(I3260,Referencias!$B$24:$C$41,2,FALSE())","v":"P.AST"},{"$f":"VLOOKUP(C3260,Referencias!$C$4:$E$21,3,FALSE())","v":1},"Competición","Asturiana"]
["3301069","Blanco García, Marta","3D","D",{"$f":"VLOOKUP(C3261,Referencias!$C$4:$D$21,2,FALSE())","v":"Tercera Diamante"},{"$f":"VLOOKUP(I3261,Referencias!$B$24:$C$41,2,FALSE())","v":"P.AST"},{"$f":"VLOOKUP(C3261,Referencias!$C$4:$E$21,3,FALSE())","v":3},"Competición","Asturiana"]
["3301071","Montero González, Amparo","3D","D",{"$f":"VLOOKUP(C3262,Referencias!$C$4:$D$21,2,FALSE())","v":"Tercera Diamante"},{"$f":"VLOOKUP(I3262,Referencias!$B$24:$C$41,2,FALSE())","v":"P.AST"},{"$f":"VLOOKUP(C3262,Referencias!$C$4:$E$21,3,FALSE())","v":3},"Competición","Asturiana"]
["3301072","Fresno Baquero, Luz Mari","1P","D",{"$f":"VLOOKUP(C3263,Referencias!$C$4:$D$21,2,FALSE())","v":"Primera Picas"},{"$f":"VLOOKUP(I3263,Referencias!$B$24:$C$41,2,FALSE())","v":"P.AST"},{"$f":"VLOOKUP(C3263,Referencias!$C$4:$E$21,3,FALSE())","v":1},"Competición","Asturiana"]
["3301074","de Santiago Díez, María Elena","2P","D",{"$f":"VLOOKUP(C3264,Referencias!$C$4:$D$21,2,FALSE())","v":"Segunda Picas"},{"$f":"VLOOKUP(I3264,Referencias!$B$24:$C$41,2,FALSE())","v":"P.AST"},{"$f":"VLOOKUP(C3264,Referencias!$C$4:$E$21,3,FALSE())","v":2},"Competición","Asturiana"]
["3301076","Canzobre Boedo, Purificación","3D","D",{"$f":"VLOOKUP(C3265,Referencias!$C$4:$D$21,2,FALSE())","v":"Tercera Diamante"},{"$f":"VLOOKUP(I3265,Referencias!$B$24:$C$41,2,FALSE())","v":"P.AST"},{"$f":"VLOOKUP(C3265,Referencias!$C$4:$E$21,3,FALSE())","v":3},"Competición","Asturiana"]
["3301077","Fernández Martínez, María Teresa","2D","D",{"$f":"VLOOKUP(C3266,Referencias!$C$4:$D$21,2,FALSE())","v":"Segunda Diamante"},{"$f":"VLOOKUP(I3266,Referencias!$B$24:$C$41,2,FALSE())","v":"P.AST"},{"$f":"VLOOKUP(C3266,Referencias!$C$4:$E$21,3,FALSE())","v":2},"Competición","Asturiana"]
["3301080","Castrillo Zubeldia, María Victoria","3D","D",{"$f":"VLOOKUP(C3267,Referencias!$C$4:$D$21,2,FALSE())","v":"Tercera Diamante"},{"$f":"VLOOKUP(I3267,Referencias!$B$24:$C$41,2,FALSE())","v":"P.AST"},{"$f":"VLOOKUP(C3267,Referencias!$C$4:$E$21,3,FALSE())","v":3},"Competición","Asturiana"]
["3301083","Croissier López, María Jesús","3P","D",{"$f":"VLOOKUP(C3268,Referencias!$C$4:$D$21,2,FALSE())","v":"Tercera Picas"},{"$f":"VLOOKUP(I3268,Referencias!$B$24:$C$41,2,FALSE())","v":"P.AST"},{"$f":"VLOOKUP(C3268,Referencias!$C$4:$E$21,3,FALSE())","v":3},"Competición","Asturiana"]
["3301086","De la LLana González, Raquel","3D","D",{"$f":"VLOOKUP(C3269,Referencias!$C$4:$D$21,2,FALSE())","v":"Tercera Diamante"},{"$f":"VLOOKUP(I3269,Referencias!$B$24:$C$41,2,FALSE())","v":"P.AST"},{"$f":"VLOOKUP(C3269,Referencias!$C$4:$E$21,3,FALSE())","v":3},"Honorífica","Asturiana"]
["3301087","Díaz Solano, Mª Antonia","2C","D",{"$f":"VLOOKUP(C3270,Referencias!$C$4:$D$21,2,FALSE())","v":"Segunda Corazón"},{"$f":"VLOOKUP(I3270,Referencias!$B$24:$C$41,2,FALSE())","v":"P.AST"},{"$f":"VLOOKUP(C3270,Referencias!$C$4:$E$21,3,FALSE())","v":2},"Competición","Asturiana"]
["3301088","Garnung Varela, María Dolores","1P","D",{"$f":"VLOOKUP(C3271,Referencias!$C$4:$D$21,2,FALSE())","v":"Primera Picas"},{"$f":"VLOOKUP(I3271,Referencias!$B$24:$C$41,2,FALSE())","v":"P.AST"},{"$f":"VLOOKUP(C3271,Referencias!$C$4:$E$21,3,FALSE())","v":1},"Competición","Asturiana"]
["3301090","Ablanedo Rodríguez, Marinita","1C","D",{"$f":"VLOOKUP(C3272,Referencias!$C$4:$D$21,2,FALSE())","v":"Primera Corazón"},{"$f":"VLOOKUP(I3272,Referencias!$B$24:$C$41,2,FALSE())","v":"P.AST"},{"$f":"VLOOKUP(C3272,Referencias!$C$4:$E$21,3,FALSE())","v":1},"Competición","Asturiana"]
["3301091","Álvarez Varela, Mary Nieves","3P","D",{"$f":"VLOOKUP(C3273,Referencias!$C$4:$D$21,2,FALSE())","v":"Tercera Picas"},{"$f":"VLOOKUP(I3273,Referencias!$B$24:$C$41,2,FALSE())","v":"P.AST"},{"$f":"VLOOKUP(C3273,Referencias!$C$4:$E$21,3,FALSE())","v":3},"Competición","Asturiana"]
["3301096","Arques Simón, Francisco","3D","C",{"$f":"VLOOKUP(C3274,Referencias!$C$4:$D$21,2,FALSE())","v":"Tercera Diamante"},{"$f":"VLOOKUP(I3274,Referencias!$B$24:$C$41,2,FALSE())","v":"P.AST"},{"$f":"VLOOKUP(C3274,Referencias!$C$4:$E$21,3,FALSE())","v":3},"Competición","Asturiana"]
["3301097","Suárez de Luis, Alicia","3P","D",{"$f":"VLOOKUP(C3275,Referencias!$C$4:$D$21,2,FALSE())","v":"Tercera Picas"},{"$f":"VLOOKUP(I3275,Referencias!$B$24:$C$41,2,FALSE())","v":"P.AST"},{"$f":"VLOOKUP(C3275,Referencias!$C$4:$E$21,3,FALSE())","v":3},"Competición","Asturiana"]
["3301100","Vidal Sanjurjo, Olga","3D","D",{"$f":"VLOOKUP(C3276,Referencias!$C$4:$D$21,2,FALSE())","v":"Tercera Diamante"},{"$f":"VLOOKUP(I3276,Referencias!$B$24:$C$41,2,FALSE())","v":"P.AST"},{"$f":"VLOOKUP(C3276,Referencias!$C$4:$E$21,3,FALSE())","v":3},"Competición","Asturiana"]
["3301104","Verduras Alonso, Santos","1P","C",{"$f":"VLOOKUP(C3277,Referencias!$C$4:$D$21,2,FALSE())","v":"Primera Picas"},{"$f":"VLOOKUP(I3277,Referencias!$B$24:$C$41,2,FALSE())","v":"P.AST"},{"$f":"VLOOKUP(C3277,Referencias!$C$4:$E$21,3,FALSE())","v":1},"Competición","Asturiana"]
["3301109","Perancho Casas, Miguel","2P","C",{"$f":"VLOOKUP(C3278,Referencias!$C$4:$D$21,2,FALSE())","v":"Segunda Picas"},{"$f":"VLOOKUP(I3278,Referencias!$B$24:$C$41,2,FALSE())","v":"P.AST"},{"$f":"VLOOKUP(C3278,Referencias!$C$4:$E$21,3,FALSE())","v":2},"Competición","Asturiana"]
["3301111","Barrero García, Teresa","2D","D",{"$f":"VLOOKUP(C3279,Referencias!$C$4:$D$21,2,FALSE())","v":"Segunda Diamante"},{"$f":"VLOOKUP(I3279,Referencias!$B$24:$C$41,2,FALSE())","v":"P.AST"},{"$f":"VLOOKUP(C3279,Referencias!$C$4:$E$21,3,FALSE())","v":2},"Competición","Asturiana"]
["3301112","Veiguela Dellera, María Inés","2D","D",{"$f":"VLOOKUP(C3280,Referencias!$C$4:$D$21,2,FALSE())","v":"Segunda Diamante"},{"$f":"VLOOKUP(I3280,Referencias!$B$24:$C$41,2,FALSE())","v":"P.AST"},{"$f":"VLOOKUP(C3280,Referencias!$C$4:$E$21,3,FALSE())","v":2},"Competición","Asturiana"]
["3301113","Olay Villasanjurjo, Pilar","3C","D",{"$f":"VLOOKUP(C3281,Referencias!$C$4:$D$21,2,FALSE())","v":"Tercera Corazón"},{"$f":"VLOOKUP(I3281,Referencias!$B$24:$C$41,2,FALSE())","v":"P.AST"},{"$f":"VLOOKUP(C3281,Referencias!$C$4:$E$21,3,FALSE())","v":3},"Competición","Asturiana"]
["3301114","Gil Bonmatí, María Ángeles","1P","D",{"$f":"VLOOKUP(C3282,Referencias!$C$4:$D$21,2,FALSE())","v":"Primera Picas"},{"$f":"VLOOKUP(I3282,Referencias!$B$24:$C$41,2,FALSE())","v":"P.AST"},{"$f":"VLOOKUP(C3282,Referencias!$C$4:$E$21,3,FALSE())","v":1},"Competición","Asturiana"]
["3301115","Galán Martín, María Antonia","2D","D",{"$f":"VLOOKUP(C3283,Referencias!$C$4:$D$21,2,FALSE())","v":"Segunda Diamante"},{"$f":"VLOOKUP(I3283,Referencias!$B$24:$C$41,2,FALSE())","v":"P.AST"},{"$f":"VLOOKUP(C3283,Referencias!$C$4:$E$21,3,FALSE())","v":2},"Competición","Asturiana"]
["3301116","Martínez-Hombre, Isabel","3P","D",{"$f":"VLOOKUP(C3284,Referencias!$C$4:$D$21,2,FALSE())","v":"Tercera Picas"},{"$f":"VLOOKUP(I3284,Referencias!$B$24:$C$41,2,FALSE())","v":"P.AST"},{"$f":"VLOOKUP(C3284,Referencias!$C$4:$E$21,3,FALSE())","v":3},"Competición","Asturiana"]
["3301117","Alonso Gigosos, Loren","3D","D",{"$f":"VLOOKUP(C3285,Referencias!$C$4:$D$21,2,FALSE())","v":"Tercera Diamante"},{"$f":"VLOOKUP(I3285,Referencias!$B$24:$C$41,2,FALSE())","v":"P.AST"},{"$f":"VLOOKUP(C3285,Referencias!$C$4:$E$21,3,FALSE())","v":3},"Competición","Asturiana"]
["3301118","Alonso Gigosos, Mª Loli","3D","D",{"$f":"VLOOKUP(C3286,Referencias!$C$4:$D$21,2,FALSE())","v":"Tercera Diamante"},{"$f":"VLOOKUP(I3286,Referencias!$B$24:$C$41,2,FALSE())","v":"P.AST"},{"$f":"VLOOKUP(C3286,Referencias!$C$4:$E$21,3,FALSE())","v":3},"Competición","Asturiana"]
["3301124","Suarez Beltran, Rosina","3C","D",{"$f":"VLOOKUP(C3287,Referencias!$C$4:$D$21,2,FALSE())","v":"Tercera Corazón"},{"$f":"VLOOKUP(I3287,Referencias!$B$24:$C$41,2,FALSE())","v":"P.AST"},{"$f":"VLOOKUP(C3287,Referencias!$C$4:$E$21,3,FALSE())","v":3},"Competición","Asturiana"]
["3301125","Rodríguez Melo, Carmen","3D","D",{"$f":"VLOOKUP(C3288,Referencias!$C$4:$D$21,2,FALSE())","v":"Tercera Diamante"},{"$f":"VLOOKUP(I3288,Referencias!$B$24:$C$41,2,FALSE())","v":"P.AST"},{"$f":"VLOOKUP(C3288,Referencias!$C$4:$E$21,3,FALSE())","v":3},"Competición","Asturiana"]
["3301127","Sabino García, Antonio","3D","C",{"$f":"VLOOKUP(C3289,Referencias!$C$4:$D$21,2,FALSE())","v":"Tercera Diamante"},{"$f":"VLOOKUP(I3289,Referencias!$B$24:$C$41,2,FALSE())","v":"P.AST"},{"$f":"VLOOKUP(C3289,Referencias!$C$4:$E$21,3,FALSE())","v":3},"Competición","Asturiana"]
["3301129","Cuesta Fernández, Gonzalo","3C","C",{"$f":"VLOOKUP(C3290,Referencias!$C$4:$D$21,2,FALSE())","v":"Tercera Corazón"},{"$f":"VLOOKUP(I3290,Referencias!$B$24:$C$41,2,FALSE())","v":"P.AST"},{"$f":"VLOOKUP(C3290,Referencias!$C$4:$E$21,3,FALSE())","v":3},"Competición","Asturiana"]
["3301130","Gil Cortés, Conchita","1P","D",{"$f":"VLOOKUP(C3291,Referencias!$C$4:$D$21,2,FALSE())","v":"Primera Picas"},{"$f":"VLOOKUP(I3291,Referencias!$B$24:$C$41,2,FALSE())","v":"P.AST"},{"$f":"VLOOKUP(C3291,Referencias!$C$4:$E$21,3,FALSE())","v":1},"Competición","Asturiana"]
["3301131","Bernaldo de Quirós, Nieves","1P","D",{"$f":"VLOOKUP(C3292,Referencias!$C$4:$D$21,2,FALSE())","v":"Primera Picas"},{"$f":"VLOOKUP(I3292,Referencias!$B$24:$C$41,2,FALSE())","v":"P.AST"},{"$f":"VLOOKUP(C3292,Referencias!$C$4:$E$21,3,FALSE())","v":1},"Competición","Asturiana"]
["3301132","Sigüenza Amichís, Maria Isabel","1P","D",{"$f":"VLOOKUP(C3293,Referencias!$C$4:$D$21,2,FALSE())","v":"Primera Picas"},{"$f":"VLOOKUP(I3293,Referencias!$B$24:$C$41,2,FALSE())","v":"P.AST"},{"$f":"VLOOKUP(C3293,Referencias!$C$4:$E$21,3,FALSE())","v":1},"Competición","Asturiana"]
["3301135","Fernández Alvarez, Luisa María","2D","D",{"$f":"VLOOKUP(C3294,Referencias!$C$4:$D$21,2,FALSE())","v":"Segunda Diamante"},{"$f":"VLOOKUP(I3294,Referencias!$B$24:$C$41,2,FALSE())","v":"P.AST"},{"$f":"VLOOKUP(C3294,Referencias!$C$4:$E$21,3,FALSE())","v":2},"Competición","Asturiana"]
["3301137","Adrián Pando, María Pilar","3C","D",{"$f":"VLOOKUP(C3295,Referencias!$C$4:$D$21,2,FALSE())","v":"Tercera Corazón"},{"$f":"VLOOKUP(I3295,Referencias!$B$24:$C$41,2,FALSE())","v":"P.AST"},{"$f":"VLOOKUP(C3295,Referencias!$C$4:$E$21,3,FALSE())","v":3},"Competición","Asturiana"]
["3301138","Álvarez-Requejo, Beatriz","1P","D",{"$f":"VLOOKUP(C3296,Referencias!$C$4:$D$21,2,FALSE())","v":"Primera Picas"},{"$f":"VLOOKUP(I3296,Referencias!$B$24:$C$41,2,FALSE())","v":"P.AST"},{"$f":"VLOOKUP(C3296,Referencias!$C$4:$E$21,3,FALSE())","v":1},"Competición","Asturiana"]
["3301139","González García, Isabel","3P","D",{"$f":"VLOOKUP(C3297,Referencias!$C$4:$D$21,2,FALSE())","v":"Tercera Picas"},{"$f":"VLOOKUP(I3297,Referencias!$B$24:$C$41,2,FALSE())","v":"P.AST"},{"$f":"VLOOKUP(C3297,Referencias!$C$4:$E$21,3,FALSE())","v":3},"Competición","Asturiana"]
["3301145","Argüelles Camino, Nieves","3P","D",{"$f":"VLOOKUP(C3298,Referencias!$C$4:$D$21,2,FALSE())","v":"Tercera Picas"},{"$f":"VLOOKUP(I3298,Referencias!$B$24:$C$41,2,FALSE())","v":"P.AST"},{"$f":"VLOOKUP(C3298,Referencias!$C$4:$E$21,3,FALSE())","v":3},"Competición","Asturiana"]
["3301146","Teleña, Carmen","3C","D",{"$f":"VLOOKUP(C3299,Referencias!$C$4:$D$21,2,FALSE())","v":"Tercera Corazón"},{"$f":"VLOOKUP(I3299,Referencias!$B$24:$C$41,2,FALSE())","v":"P.AST"},{"$f":"VLOOKUP(C3299,Referencias!$C$4:$E$21,3,FALSE())","v":3},"Competición","Asturiana"]
["3301154","Alvarez Cuervo, María del Carmen","2D","D",{"$f":"VLOOKUP(C3300,Referencias!$C$4:$D$21,2,FALSE())","v":"Segunda Diamante"},{"$f":"VLOOKUP(I3300,Referencias!$B$24:$C$41,2,FALSE())","v":"P.AST"},{"$f":"VLOOKUP(C3300,Referencias!$C$4:$E$21,3,FALSE())","v":2},"Competición","Asturiana"]
["3301156","Manjarín Rebolledo, José María","3P","C",{"$f":"VLOOKUP(C3301,Referencias!$C$4:$D$21,2,FALSE())","v":"Tercera Picas"},{"$f":"VLOOKUP(I3301,Referencias!$B$24:$C$41,2,FALSE())","v":"P.AST"},{"$f":"VLOOKUP(C3301,Referencias!$C$4:$E$21,3,FALSE())","v":3},"Competición","Asturiana"]
["3301157","García Valiente, Lilia","3P","D",{"$f":"VLOOKUP(C3302,Referencias!$C$4:$D$21,2,FALSE())","v":"Tercera Picas"},{"$f":"VLOOKUP(I3302,Referencias!$B$24:$C$41,2,FALSE())","v":"P.AST"},{"$f":"VLOOKUP(C3302,Referencias!$C$4:$E$21,3,FALSE())","v":3},"Competición","Asturiana"]
["3301163","Fermín Jiménez, Jesús","1P","C",{"$f":"VLOOKUP(C3303,Referencias!$C$4:$D$21,2,FALSE())","v":"Primera Picas"},{"$f":"VLOOKUP(I3303,Referencias!$B$24:$C$41,2,FALSE())","v":"P.AST"},{"$f":"VLOOKUP(C3303,Referencias!$C$4:$E$21,3,FALSE())","v":1},"Competición","Asturiana"]
["3301165","Martín Angulo, Jesús","1P","C",{"$f":"VLOOKUP(C3304,Referencias!$C$4:$D$21,2,FALSE())","v":"Primera Picas"},{"$f":"VLOOKUP(I3304,Referencias!$B$24:$C$41,2,FALSE())","v":"P.AST"},{"$f":"VLOOKUP(C3304,Referencias!$C$4:$E$21,3,FALSE())","v":1},"Competición","Asturiana"]
["3301166","Noriega Niembro, José María","2D","C",{"$f":"VLOOKUP(C3305,Referencias!$C$4:$D$21,2,FALSE())","v":"Segunda Diamante"},{"$f":"VLOOKUP(I3305,Referencias!$B$24:$C$41,2,FALSE())","v":"P.AST"},{"$f":"VLOOKUP(C3305,Referencias!$C$4:$E$21,3,FALSE())","v":2},"Competición","Asturiana"]
["3301167","Loredo San José, María Angeles","3C","D",{"$f":"VLOOKUP(C3306,Referencias!$C$4:$D$21,2,FALSE())","v":"Tercera Corazón"},{"$f":"VLOOKUP(I3306,Referencias!$B$24:$C$41,2,FALSE())","v":"P.AST"},{"$f":"VLOOKUP(C3306,Referencias!$C$4:$E$21,3,FALSE())","v":3},"Competición","Asturiana"]
["3301168","López Glez.-Escalada, Eugenia","2D","D",{"$f":"VLOOKUP(C3307,Referencias!$C$4:$D$21,2,FALSE())","v":"Segunda Diamante"},{"$f":"VLOOKUP(I3307,Referencias!$B$24:$C$41,2,FALSE())","v":"P.AST"},{"$f":"VLOOKUP(C3307,Referencias!$C$4:$E$21,3,FALSE())","v":2},"Competición","Asturiana"]
["3301169","Fernández Alvarez, Aída","3C","D",{"$f":"VLOOKUP(C3308,Referencias!$C$4:$D$21,2,FALSE())","v":"Tercera Corazón"},{"$f":"VLOOKUP(I3308,Referencias!$B$24:$C$41,2,FALSE())","v":"P.AST"},{"$f":"VLOOKUP(C3308,Referencias!$C$4:$E$21,3,FALSE())","v":3},"Competición","Asturiana"]
["3301171","Montes Araluce, Maribel","3C","D",{"$f":"VLOOKUP(C3309,Referencias!$C$4:$D$21,2,FALSE())","v":"Tercera Corazón"},{"$f":"VLOOKUP(I3309,Referencias!$B$24:$C$41,2,FALSE())","v":"P.AST"},{"$f":"VLOOKUP(C3309,Referencias!$C$4:$E$21,3,FALSE())","v":3},"Competición","Asturiana"]
["3301172","Martínez de la Vega Leguina, María Antonia","2P","D",{"$f":"VLOOKUP(C3310,Referencias!$C$4:$D$21,2,FALSE())","v":"Segunda Picas"},{"$f":"VLOOKUP(I3310,Referencias!$B$24:$C$41,2,FALSE())","v":"P.AST"},{"$f":"VLOOKUP(C3310,Referencias!$C$4:$E$21,3,FALSE())","v":2},"Competición","Asturiana"]
["3301173","Sánchez Caro, Guadalupe","2C","D",{"$f":"VLOOKUP(C3311,Referencias!$C$4:$D$21,2,FALSE())","v":"Segunda Corazón"},{"$f":"VLOOKUP(I3311,Referencias!$B$24:$C$41,2,FALSE())","v":"P.AST"},{"$f":"VLOOKUP(C3311,Referencias!$C$4:$E$21,3,FALSE())","v":2},"Competición","Asturiana"]
["3301175","González-Babé Pita, Mercedes","2D","D",{"$f":"VLOOKUP(C3312,Referencias!$C$4:$D$21,2,FALSE())","v":"Segunda Diamante"},{"$f":"VLOOKUP(I3312,Referencias!$B$24:$C$41,2,FALSE())","v":"P.AST"},{"$f":"VLOOKUP(C3312,Referencias!$C$4:$E$21,3,FALSE())","v":2},"Competición","Asturiana"]
["3301176","Hardisson Rumeu, Carlos","3P","C",{"$f":"VLOOKUP(C3313,Referencias!$C$4:$D$21,2,FALSE())","v":"Tercera Picas"},{"$f":"VLOOKUP(I3313,Referencias!$B$24:$C$41,2,FALSE())","v":"P.AST"},{"$f":"VLOOKUP(C3313,Referencias!$C$4:$E$21,3,FALSE())","v":3},"Competición","Asturiana"]
["3301178","Hernáez Ruiz de Palacios, Ana María","3C","D",{"$f":"VLOOKUP(C3314,Referencias!$C$4:$D$21,2,FALSE())","v":"Tercera Corazón"},{"$f":"VLOOKUP(I3314,Referencias!$B$24:$C$41,2,FALSE())","v":"P.AST"},{"$f":"VLOOKUP(C3314,Referencias!$C$4:$E$21,3,FALSE())","v":3},"Competición","Asturiana"]
["3301179","Ronderos González, José Leandro","1P","C",{"$f":"VLOOKUP(C3315,Referencias!$C$4:$D$21,2,FALSE())","v":"Primera Picas"},{"$f":"VLOOKUP(I3315,Referencias!$B$24:$C$41,2,FALSE())","v":"P.AST"},{"$f":"VLOOKUP(C3315,Referencias!$C$4:$E$21,3,FALSE())","v":1},"Competición","Asturiana"]
["3301180","Álvarez Fernández, María Eugenia","2D","D",{"$f":"VLOOKUP(C3316,Referencias!$C$4:$D$21,2,FALSE())","v":"Segunda Diamante"},{"$f":"VLOOKUP(I3316,Referencias!$B$24:$C$41,2,FALSE())","v":"P.AST"},{"$f":"VLOOKUP(C3316,Referencias!$C$4:$E$21,3,FALSE())","v":2},"Competición","Asturiana"]
["3301182","Herrero Menéndez, Margarita","2D","D",{"$f":"VLOOKUP(C3317,Referencias!$C$4:$D$21,2,FALSE())","v":"Segunda Diamante"},{"$f":"VLOOKUP(I3317,Referencias!$B$24:$C$41,2,FALSE())","v":"P.AST"},{"$f":"VLOOKUP(C3317,Referencias!$C$4:$E$21,3,FALSE())","v":2},"Competición","Asturiana"]
["3301183","Rivas Gándara, José Antonio","3P","C",{"$f":"VLOOKUP(C3318,Referencias!$C$4:$D$21,2,FALSE())","v":"Tercera Picas"},{"$f":"VLOOKUP(I3318,Referencias!$B$24:$C$41,2,FALSE())","v":"P.AST"},{"$f":"VLOOKUP(C3318,Referencias!$C$4:$E$21,3,FALSE())","v":3},"Competición","Asturiana"]
["3301185","Merediz Vidal, Dolores","2P","D",{"$f":"VLOOKUP(C3319,Referencias!$C$4:$D$21,2,FALSE())","v":"Segunda Picas"},{"$f":"VLOOKUP(I3319,Referencias!$B$24:$C$41,2,FALSE())","v":"P.AST"},{"$f":"VLOOKUP(C3319,Referencias!$C$4:$E$21,3,FALSE())","v":2},"Competición","Asturiana"]
["3301188","Escobar Quirós, María Oliva","2D","D",{"$f":"VLOOKUP(C3320,Referencias!$C$4:$D$21,2,FALSE())","v":"Segunda Diamante"},{"$f":"VLOOKUP(I3320,Referencias!$B$24:$C$41,2,FALSE())","v":"P.AST"},{"$f":"VLOOKUP(C3320,Referencias!$C$4:$E$21,3,FALSE())","v":2},"Competición","Asturiana"]
["3301190","González Fernández, Carmen","2C","D",{"$f":"VLOOKUP(C3321,Referencias!$C$4:$D$21,2,FALSE())","v":"Segunda Corazón"},{"$f":"VLOOKUP(I3321,Referencias!$B$24:$C$41,2,FALSE())","v":"P.AST"},{"$f":"VLOOKUP(C3321,Referencias!$C$4:$E$21,3,FALSE())","v":2},"Competición","Asturiana"]
["3301191","del Truébano Quirce, María Noemí","2D","D",{"$f":"VLOOKUP(C3322,Referencias!$C$4:$D$21,2,FALSE())","v":"Segunda Diamante"},{"$f":"VLOOKUP(I3322,Referencias!$B$24:$C$41,2,FALSE())","v":"P.AST"},{"$f":"VLOOKUP(C3322,Referencias!$C$4:$E$21,3,FALSE())","v":2},"Competición","Asturiana"]
["3301192","Llerandi González, Laura","3C","D",{"$f":"VLOOKUP(C3323,Referencias!$C$4:$D$21,2,FALSE())","v":"Tercera Corazón"},{"$f":"VLOOKUP(I3323,Referencias!$B$24:$C$41,2,FALSE())","v":"P.AST"},{"$f":"VLOOKUP(C3323,Referencias!$C$4:$E$21,3,FALSE())","v":3},"Competición","Asturiana"]
["3301193","Cadavieco Corripio, Montserrat","2D","D",{"$f":"VLOOKUP(C3324,Referencias!$C$4:$D$21,2,FALSE())","v":"Segunda Diamante"},{"$f":"VLOOKUP(I3324,Referencias!$B$24:$C$41,2,FALSE())","v":"P.AST"},{"$f":"VLOOKUP(C3324,Referencias!$C$4:$E$21,3,FALSE())","v":2},"Competición","Asturiana"]
["3301194","Tuya González, Conchita","3D","D",{"$f":"VLOOKUP(C3325,Referencias!$C$4:$D$21,2,FALSE())","v":"Tercera Diamante"},{"$f":"VLOOKUP(I3325,Referencias!$B$24:$C$41,2,FALSE())","v":"P.AST"},{"$f":"VLOOKUP(C3325,Referencias!$C$4:$E$21,3,FALSE())","v":3},"Competición","Asturiana"]
["3301199","Rodríguez Díaz, María Teresa","3D","D",{"$f":"VLOOKUP(C3326,Referencias!$C$4:$D$21,2,FALSE())","v":"Tercera Diamante"},{"$f":"VLOOKUP(I3326,Referencias!$B$24:$C$41,2,FALSE())","v":"P.AST"},{"$f":"VLOOKUP(C3326,Referencias!$C$4:$E$21,3,FALSE())","v":3},"Competición","Asturiana"]
["3301200","Pérez García, Tarsila","3C","D",{"$f":"VLOOKUP(C3327,Referencias!$C$4:$D$21,2,FALSE())","v":"Tercera Corazón"},{"$f":"VLOOKUP(I3327,Referencias!$B$24:$C$41,2,FALSE())","v":"P.AST"},{"$f":"VLOOKUP(C3327,Referencias!$C$4:$E$21,3,FALSE())","v":3},"Competición","Asturiana"]
["3301201","Cid Alonso, María Rosario","3P","D",{"$f":"VLOOKUP(C3328,Referencias!$C$4:$D$21,2,FALSE())","v":"Tercera Picas"},{"$f":"VLOOKUP(I3328,Referencias!$B$24:$C$41,2,FALSE())","v":"P.AST"},{"$f":"VLOOKUP(C3328,Referencias!$C$4:$E$21,3,FALSE())","v":3},"Competición","Asturiana"]
["3301206","Gutiérrez Alonso, Mª Jesús","3D","D",{"$f":"VLOOKUP(C3329,Referencias!$C$4:$D$21,2,FALSE())","v":"Tercera Diamante"},{"$f":"VLOOKUP(I3329,Referencias!$B$24:$C$41,2,FALSE())","v":"P.AST"},{"$f":"VLOOKUP(C3329,Referencias!$C$4:$E$21,3,FALSE())","v":3},"Competición","Asturiana"]
["3301210","Fernández Hoyo, Josefina","3D","D",{"$f":"VLOOKUP(C3330,Referencias!$C$4:$D$21,2,FALSE())","v":"Tercera Diamante"},{"$f":"VLOOKUP(I3330,Referencias!$B$24:$C$41,2,FALSE())","v":"P.AST"},{"$f":"VLOOKUP(C3330,Referencias!$C$4:$E$21,3,FALSE())","v":3},"Competición","Asturiana"]
["3301211","García Medina, María Dolores","2C","D",{"$f":"VLOOKUP(C3331,Referencias!$C$4:$D$21,2,FALSE())","v":"Segunda Corazón"},{"$f":"VLOOKUP(I3331,Referencias!$B$24:$C$41,2,FALSE())","v":"P.AST"},{"$f":"VLOOKUP(C3331,Referencias!$C$4:$E$21,3,FALSE())","v":2},"Competición","Asturiana"]
["3301212","Del Castro Serrano, Irene","2P","D",{"$f":"VLOOKUP(C3332,Referencias!$C$4:$D$21,2,FALSE())","v":"Segunda Picas"},{"$f":"VLOOKUP(I3332,Referencias!$B$24:$C$41,2,FALSE())","v":"P.AST"},{"$f":"VLOOKUP(C3332,Referencias!$C$4:$E$21,3,FALSE())","v":2},"Competición","Asturiana"]
["3301213","Díaz Pulido, Mª del Rosario","3D","D",{"$f":"VLOOKUP(C3333,Referencias!$C$4:$D$21,2,FALSE())","v":"Tercera Diamante"},{"$f":"VLOOKUP(I3333,Referencias!$B$24:$C$41,2,FALSE())","v":"P.AST"},{"$f":"VLOOKUP(C3333,Referencias!$C$4:$E$21,3,FALSE())","v":3},"Competición","Asturiana"]
["3301214","Arellano Conejos, María Teresa","3C","D",{"$f":"VLOOKUP(C3334,Referencias!$C$4:$D$21,2,FALSE())","v":"Tercera Corazón"},{"$f":"VLOOKUP(I3334,Referencias!$B$24:$C$41,2,FALSE())","v":"P.AST"},{"$f":"VLOOKUP(C3334,Referencias!$C$4:$E$21,3,FALSE())","v":3},"Competición","Asturiana"]
["3301215","Valderrábano Nuñez, María Teresa","3D","D",{"$f":"VLOOKUP(C3335,Referencias!$C$4:$D$21,2,FALSE())","v":"Tercera Diamante"},{"$f":"VLOOKUP(I3335,Referencias!$B$24:$C$41,2,FALSE())","v":"P.AST"},{"$f":"VLOOKUP(C3335,Referencias!$C$4:$E$21,3,FALSE())","v":3},"Competición","Asturiana"]
["3301216","Gavela Martínez, Mónica","1P","D",{"$f":"VLOOKUP(C3336,Referencias!$C$4:$D$21,2,FALSE())","v":"Primera Picas"},{"$f":"VLOOKUP(I3336,Referencias!$B$24:$C$41,2,FALSE())","v":"P.AST"},{"$f":"VLOOKUP(C3336,Referencias!$C$4:$E$21,3,FALSE())","v":1},"Competición","Asturiana"]
["3301217","González Valderrábano, Jaime","1P","C",{"$f":"VLOOKUP(C3337,Referencias!$C$4:$D$21,2,FALSE())","v":"Primera Picas"},{"$f":"VLOOKUP(I3337,Referencias!$B$24:$C$41,2,FALSE())","v":"P.AST"},{"$f":"VLOOKUP(C3337,Referencias!$C$4:$E$21,3,FALSE())","v":1},"Competición","Asturiana"]
["3301218","Muñiz Girón, Carlos","3P","C",{"$f":"VLOOKUP(C3338,Referencias!$C$4:$D$21,2,FALSE())","v":"Tercera Picas"},{"$f":"VLOOKUP(I3338,Referencias!$B$24:$C$41,2,FALSE())","v":"P.AST"},{"$f":"VLOOKUP(C3338,Referencias!$C$4:$E$21,3,FALSE())","v":3},"Competición","Asturiana"]
["3301220","González González, María Esther","2C","D",{"$f":"VLOOKUP(C3339,Referencias!$C$4:$D$21,2,FALSE())","v":"Segunda Corazón"},{"$f":"VLOOKUP(I3339,Referencias!$B$24:$C$41,2,FALSE())","v":"P.AST"},{"$f":"VLOOKUP(C3339,Referencias!$C$4:$E$21,3,FALSE())","v":2},"Competición","Asturiana"]
["3301221","Gómez de la Torre Carderera, Socorro","3C","D",{"$f":"VLOOKUP(C3340,Referencias!$C$4:$D$21,2,FALSE())","v":"Tercera Corazón"},{"$f":"VLOOKUP(I3340,Referencias!$B$24:$C$41,2,FALSE())","v":"P.AST"},{"$f":"VLOOKUP(C3340,Referencias!$C$4:$E$21,3,FALSE())","v":3},"Competición","Asturiana"]
["3301225","García Celadilla, Raquel","3P","D",{"$f":"VLOOKUP(C3341,Referencias!$C$4:$D$21,2,FALSE())","v":"Tercera Picas"},{"$f":"VLOOKUP(I3341,Referencias!$B$24:$C$41,2,FALSE())","v":"P.AST"},{"$f":"VLOOKUP(C3341,Referencias!$C$4:$E$21,3,FALSE())","v":3},"Competición","Asturiana"]
["3301226","Segura Junquera, Angeles","3D","D",{"$f":"VLOOKUP(C3342,Referencias!$C$4:$D$21,2,FALSE())","v":"Tercera Diamante"},{"$f":"VLOOKUP(I3342,Referencias!$B$24:$C$41,2,FALSE())","v":"P.AST"},{"$f":"VLOOKUP(C3342,Referencias!$C$4:$E$21,3,FALSE())","v":3},"Competición","Asturiana"]
["3301229","García-Morán, Covadonga","3D","D",{"$f":"VLOOKUP(C3343,Referencias!$C$4:$D$21,2,FALSE())","v":"Tercera Diamante"},{"$f":"VLOOKUP(I3343,Referencias!$B$24:$C$41,2,FALSE())","v":"P.AST"},{"$f":"VLOOKUP(C3343,Referencias!$C$4:$E$21,3,FALSE())","v":3},"Competición","Asturiana"]
["3301230","Alvarez-Uría, Gerardo","1D","C",{"$f":"VLOOKUP(C3344,Referencias!$C$4:$D$21,2,FALSE())","v":"Primera Diamante"},{"$f":"VLOOKUP(I3344,Referencias!$B$24:$C$41,2,FALSE())","v":"P.AST"},{"$f":"VLOOKUP(C3344,Referencias!$C$4:$E$21,3,FALSE())","v":1},"Competición","Asturiana"]
["3301232","Estrada Alvarez, Carmen","2C","D",{"$f":"VLOOKUP(C3345,Referencias!$C$4:$D$21,2,FALSE())","v":"Segunda Corazón"},{"$f":"VLOOKUP(I3345,Referencias!$B$24:$C$41,2,FALSE())","v":"P.AST"},{"$f":"VLOOKUP(C3345,Referencias!$C$4:$E$21,3,FALSE())","v":2},"Competición","Asturiana"]
["3301233","Menéndez Callejo, María del Rosario","3C","D",{"$f":"VLOOKUP(C3346,Referencias!$C$4:$D$21,2,FALSE())","v":"Tercera Corazón"},{"$f":"VLOOKUP(I3346,Referencias!$B$24:$C$41,2,FALSE())","v":"P.AST"},{"$f":"VLOOKUP(C3346,Referencias!$C$4:$E$21,3,FALSE())","v":3},"Competición","Asturiana"]
["3301234","Rascón Peláez, Magdalena","3P","D",{"$f":"VLOOKUP(C3347,Referencias!$C$4:$D$21,2,FALSE())","v":"Tercera Picas"},{"$f":"VLOOKUP(I3347,Referencias!$B$24:$C$41,2,FALSE())","v":"P.AST"},{"$f":"VLOOKUP(C3347,Referencias!$C$4:$E$21,3,FALSE())","v":3},"Competición","Asturiana"]
["3301237","López Pende, Aurora","3D","D",{"$f":"VLOOKUP(C3348,Referencias!$C$4:$D$21,2,FALSE())","v":"Tercera Diamante"},{"$f":"VLOOKUP(I3348,Referencias!$B$24:$C$41,2,FALSE())","v":"P.AST"},{"$f":"VLOOKUP(C3348,Referencias!$C$4:$E$21,3,FALSE())","v":3},"Competición","Asturiana"]
["3301239","Argüelles González, Manuela","2C","D",{"$f":"VLOOKUP(C3349,Referencias!$C$4:$D$21,2,FALSE())","v":"Segunda Corazón"},{"$f":"VLOOKUP(I3349,Referencias!$B$24:$C$41,2,FALSE())","v":"P.AST"},{"$f":"VLOOKUP(C3349,Referencias!$C$4:$E$21,3,FALSE())","v":2},"Competición","Asturiana"]
["3301240","Alvarez Suárez, Herminia","3D","D",{"$f":"VLOOKUP(C3350,Referencias!$C$4:$D$21,2,FALSE())","v":"Tercera Diamante"},{"$f":"VLOOKUP(I3350,Referencias!$B$24:$C$41,2,FALSE())","v":"P.AST"},{"$f":"VLOOKUP(C3350,Referencias!$C$4:$E$21,3,FALSE())","v":3},"Competición","Asturiana"]
["3301243","Pérez Carbajal, Ana Julia","1P","D",{"$f":"VLOOKUP(C3351,Referencias!$C$4:$D$21,2,FALSE())","v":"Primera Picas"},{"$f":"VLOOKUP(I3351,Referencias!$B$24:$C$41,2,FALSE())","v":"P.AST"},{"$f":"VLOOKUP(C3351,Referencias!$C$4:$E$21,3,FALSE())","v":1},"Competición","Asturiana"]
["3301245","Fernández-Peña Rodríguez, María Amelia","3C","D",{"$f":"VLOOKUP(C3352,Referencias!$C$4:$D$21,2,FALSE())","v":"Tercera Corazón"},{"$f":"VLOOKUP(I3352,Referencias!$B$24:$C$41,2,FALSE())","v":"P.AST"},{"$f":"VLOOKUP(C3352,Referencias!$C$4:$E$21,3,FALSE())","v":3},"Competición","Asturiana"]
["3301247","Zabaleta Aristegui, Pepa","3P","D",{"$f":"VLOOKUP(C3353,Referencias!$C$4:$D$21,2,FALSE())","v":"Tercera Picas"},{"$f":"VLOOKUP(I3353,Referencias!$B$24:$C$41,2,FALSE())","v":"C.NAV"},{"$f":"VLOOKUP(C3353,Referencias!$C$4:$E$21,3,FALSE())","v":3},"Competición","Navarra"]
["3301248","Ballesteros Navas, Julia","3D","D",{"$f":"VLOOKUP(C3354,Referencias!$C$4:$D$21,2,FALSE())","v":"Tercera Diamante"},{"$f":"VLOOKUP(I3354,Referencias!$B$24:$C$41,2,FALSE())","v":"P.AST"},{"$f":"VLOOKUP(C3354,Referencias!$C$4:$E$21,3,FALSE())","v":3},"Competición","Asturiana"]
["3301249","Basterrechea Cabello, Antonio","3C","C",{"$f":"VLOOKUP(C3355,Referencias!$C$4:$D$21,2,FALSE())","v":"Tercera Corazón"},{"$f":"VLOOKUP(I3355,Referencias!$B$24:$C$41,2,FALSE())","v":"P.AST"},{"$f":"VLOOKUP(C3355,Referencias!$C$4:$E$21,3,FALSE())","v":3},"Competición","Asturiana"]
["3301251","Maillo Suarez, Ana","2C","D",{"$f":"VLOOKUP(C3356,Referencias!$C$4:$D$21,2,FALSE())","v":"Segunda Corazón"},{"$f":"VLOOKUP(I3356,Referencias!$B$24:$C$41,2,FALSE())","v":"P.AST"},{"$f":"VLOOKUP(C3356,Referencias!$C$4:$E$21,3,FALSE())","v":2},"Competición","Asturiana"]
["3301253","Martín de Diego, Lourdes","3C","D",{"$f":"VLOOKUP(C3357,Referencias!$C$4:$D$21,2,FALSE())","v":"Tercera Corazón"},{"$f":"VLOOKUP(I3357,Referencias!$B$24:$C$41,2,FALSE())","v":"P.AST"},{"$f":"VLOOKUP(C3357,Referencias!$C$4:$E$21,3,FALSE())","v":3},"Competición","Asturiana"]
["3301255","Marturet Azcona, María Jesús","3P","D",{"$f":"VLOOKUP(C3358,Referencias!$C$4:$D$21,2,FALSE())","v":"Tercera Picas"},{"$f":"VLOOKUP(I3358,Referencias!$B$24:$C$41,2,FALSE())","v":"P.AST"},{"$f":"VLOOKUP(C3358,Referencias!$C$4:$E$21,3,FALSE())","v":3},"Competición","Asturiana"]
["3301256","Jordán de Urries Senante, Inmaculada","3D","D",{"$f":"VLOOKUP(C3359,Referencias!$C$4:$D$21,2,FALSE())","v":"Tercera Diamante"},{"$f":"VLOOKUP(I3359,Referencias!$B$24:$C$41,2,FALSE())","v":"P.AST"},{"$f":"VLOOKUP(C3359,Referencias!$C$4:$E$21,3,FALSE())","v":3},"Competición","Asturiana"]
["3301257","Montero Luna, María del Carmen","3D","D",{"$f":"VLOOKUP(C3360,Referencias!$C$4:$D$21,2,FALSE())","v":"Tercera Diamante"},{"$f":"VLOOKUP(I3360,Referencias!$B$24:$C$41,2,FALSE())","v":"P.AST"},{"$f":"VLOOKUP(C3360,Referencias!$C$4:$E$21,3,FALSE())","v":3},"Competición","Asturiana"]
["3301258","Ceñal Berjano, Teresa","3C","D",{"$f":"VLOOKUP(C3361,Referencias!$C$4:$D$21,2,FALSE())","v":"Tercera Corazón"},{"$f":"VLOOKUP(I3361,Referencias!$B$24:$C$41,2,FALSE())","v":"P.AST"},{"$f":"VLOOKUP(C3361,Referencias!$C$4:$E$21,3,FALSE())","v":3},"Competición","Asturiana"]
["3301260","Bada Bada, Covadonga","3C","D",{"$f":"VLOOKUP(C3362,Referencias!$C$4:$D$21,2,FALSE())","v":"Tercera Corazón"},{"$f":"VLOOKUP(I3362,Referencias!$B$24:$C$41,2,FALSE())","v":"P.AST"},{"$f":"VLOOKUP(C3362,Referencias!$C$4:$E$21,3,FALSE())","v":3},"Competición","Asturiana"]
["3301261","García Orvíz, Ana María","1P","D",{"$f":"VLOOKUP(C3363,Referencias!$C$4:$D$21,2,FALSE())","v":"Primera Picas"},{"$f":"VLOOKUP(I3363,Referencias!$B$24:$C$41,2,FALSE())","v":"P.AST"},{"$f":"VLOOKUP(C3363,Referencias!$C$4:$E$21,3,FALSE())","v":1},"Competición","Asturiana"]
["3301263","Moré Rodríguez, Mercedes","3P","D",{"$f":"VLOOKUP(C3364,Referencias!$C$4:$D$21,2,FALSE())","v":"Tercera Picas"},{"$f":"VLOOKUP(I3364,Referencias!$B$24:$C$41,2,FALSE())","v":"P.AST"},{"$f":"VLOOKUP(C3364,Referencias!$C$4:$E$21,3,FALSE())","v":3},"Competición","Asturiana"]
["3301264","Labiano Nuin, María Elena","3C","D",{"$f":"VLOOKUP(C3365,Referencias!$C$4:$D$21,2,FALSE())","v":"Tercera Corazón"},{"$f":"VLOOKUP(I3365,Referencias!$B$24:$C$41,2,FALSE())","v":"P.AST"},{"$f":"VLOOKUP(C3365,Referencias!$C$4:$E$21,3,FALSE())","v":3},"Competición","Asturiana"]
["3301269","Tartiere Pidal, Carlota","3D","D",{"$f":"VLOOKUP(C3366,Referencias!$C$4:$D$21,2,FALSE())","v":"Tercera Diamante"},{"$f":"VLOOKUP(I3366,Referencias!$B$24:$C$41,2,FALSE())","v":"P.AST"},{"$f":"VLOOKUP(C3366,Referencias!$C$4:$E$21,3,FALSE())","v":3},"Competición","Asturiana"]
["3301271","Llenín Iglesias, María del Carmen","3C","D",{"$f":"VLOOKUP(C3367,Referencias!$C$4:$D$21,2,FALSE())","v":"Tercera Corazón"},{"$f":"VLOOKUP(I3367,Referencias!$B$24:$C$41,2,FALSE())","v":"P.AST"},{"$f":"VLOOKUP(C3367,Referencias!$C$4:$E$21,3,FALSE())","v":3},"Competición","Asturiana"]
["3301272","Riera Palacio, María Esther","3C","D",{"$f":"VLOOKUP(C3368,Referencias!$C$4:$D$21,2,FALSE())","v":"Tercera Corazón"},{"$f":"VLOOKUP(I3368,Referencias!$B$24:$C$41,2,FALSE())","v":"P.AST"},{"$f":"VLOOKUP(C3368,Referencias!$C$4:$E$21,3,FALSE())","v":3},"Competición","Asturiana"]
["3301275","Bárcena Suárez, Carmen","2P","D",{"$f":"VLOOKUP(C3369,Referencias!$C$4:$D$21,2,FALSE())","v":"Segunda Picas"},{"$f":"VLOOKUP(I3369,Referencias!$B$24:$C$41,2,FALSE())","v":"P.AST"},{"$f":"VLOOKUP(C3369,Referencias!$C$4:$E$21,3,FALSE())","v":2},"Competición","Asturiana"]
["3301276","Abad González, Angeles","3C","D",{"$f":"VLOOKUP(C3370,Referencias!$C$4:$D$21,2,FALSE())","v":"Tercera Corazón"},{"$f":"VLOOKUP(I3370,Referencias!$B$24:$C$41,2,FALSE())","v":"P.AST"},{"$f":"VLOOKUP(C3370,Referencias!$C$4:$E$21,3,FALSE())","v":3},"Competición","Asturiana"]
["3301277","García Vega, Mercedes","1P","D",{"$f":"VLOOKUP(C3371,Referencias!$C$4:$D$21,2,FALSE())","v":"Primera Picas"},{"$f":"VLOOKUP(I3371,Referencias!$B$24:$C$41,2,FALSE())","v":"P.AST"},{"$f":"VLOOKUP(C3371,Referencias!$C$4:$E$21,3,FALSE())","v":1},"Competición","Asturiana"]
["3301281","Felgueroso León, María Antonia","3C","D",{"$f":"VLOOKUP(C3372,Referencias!$C$4:$D$21,2,FALSE())","v":"Tercera Corazón"},{"$f":"VLOOKUP(I3372,Referencias!$B$24:$C$41,2,FALSE())","v":"P.AST"},{"$f":"VLOOKUP(C3372,Referencias!$C$4:$E$21,3,FALSE())","v":3},"Competición","Asturiana"]
["3301282","Arce Solares, Amparo","3D","D",{"$f":"VLOOKUP(C3373,Referencias!$C$4:$D$21,2,FALSE())","v":"Tercera Diamante"},{"$f":"VLOOKUP(I3373,Referencias!$B$24:$C$41,2,FALSE())","v":"P.AST"},{"$f":"VLOOKUP(C3373,Referencias!$C$4:$E$21,3,FALSE())","v":3},"Competición","Asturiana"]
["3301283","García Adaro, María Teresa","3D","D",{"$f":"VLOOKUP(C3374,Referencias!$C$4:$D$21,2,FALSE())","v":"Tercera Diamante"},{"$f":"VLOOKUP(I3374,Referencias!$B$24:$C$41,2,FALSE())","v":"P.AST"},{"$f":"VLOOKUP(C3374,Referencias!$C$4:$E$21,3,FALSE())","v":3},"Competición","Asturiana"]
["3301286","Campa García, Margarita","3D","D",{"$f":"VLOOKUP(C3375,Referencias!$C$4:$D$21,2,FALSE())","v":"Tercera Diamante"},{"$f":"VLOOKUP(I3375,Referencias!$B$24:$C$41,2,FALSE())","v":"P.AST"},{"$f":"VLOOKUP(C3375,Referencias!$C$4:$E$21,3,FALSE())","v":3},"Competición","Asturiana"]
["3301289","Medal García, Ana","3C","D",{"$f":"VLOOKUP(C3376,Referencias!$C$4:$D$21,2,FALSE())","v":"Tercera Corazón"},{"$f":"VLOOKUP(I3376,Referencias!$B$24:$C$41,2,FALSE())","v":"P.AST"},{"$f":"VLOOKUP(C3376,Referencias!$C$4:$E$21,3,FALSE())","v":3},"Competición","Asturiana"]
["3301290","Menéndez Muñiz, María Luisa","1P","D",{"$f":"VLOOKUP(C3377,Referencias!$C$4:$D$21,2,FALSE())","v":"Primera Picas"},{"$f":"VLOOKUP(I3377,Referencias!$B$24:$C$41,2,FALSE())","v":"P.AST"},{"$f":"VLOOKUP(C3377,Referencias!$C$4:$E$21,3,FALSE())","v":1},"Competición","Asturiana"]
["3301291","Cortina Frade, José Carlos","3C","C",{"$f":"VLOOKUP(C3378,Referencias!$C$4:$D$21,2,FALSE())","v":"Tercera Corazón"},{"$f":"VLOOKUP(I3378,Referencias!$B$24:$C$41,2,FALSE())","v":"P.AST"},{"$f":"VLOOKUP(C3378,Referencias!$C$4:$E$21,3,FALSE())","v":3},"Competición","Asturiana"]
["3301292","Cimadevilla Artime, Fernanda","3D","D",{"$f":"VLOOKUP(C3379,Referencias!$C$4:$D$21,2,FALSE())","v":"Tercera Diamante"},{"$f":"VLOOKUP(I3379,Referencias!$B$24:$C$41,2,FALSE())","v":"P.AST"},{"$f":"VLOOKUP(C3379,Referencias!$C$4:$E$21,3,FALSE())","v":3},"Competición","Asturiana"]
["3301295","Fernández Granda, Pilar","3P","D",{"$f":"VLOOKUP(C3380,Referencias!$C$4:$D$21,2,FALSE())","v":"Tercera Picas"},{"$f":"VLOOKUP(I3380,Referencias!$B$24:$C$41,2,FALSE())","v":"P.AST"},{"$f":"VLOOKUP(C3380,Referencias!$C$4:$E$21,3,FALSE())","v":3},"Competición","Asturiana"]
["3301296","Escandón Díaz, María Teresa","3D","D",{"$f":"VLOOKUP(C3381,Referencias!$C$4:$D$21,2,FALSE())","v":"Tercera Diamante"},{"$f":"VLOOKUP(I3381,Referencias!$B$24:$C$41,2,FALSE())","v":"P.AST"},{"$f":"VLOOKUP(C3381,Referencias!$C$4:$E$21,3,FALSE())","v":3},"Competición","Asturiana"]
["3301299","Chacón Pérez, Carmen","3C","D",{"$f":"VLOOKUP(C3382,Referencias!$C$4:$D$21,2,FALSE())","v":"Tercera Corazón"},{"$f":"VLOOKUP(I3382,Referencias!$B$24:$C$41,2,FALSE())","v":"P.AST"},{"$f":"VLOOKUP(C3382,Referencias!$C$4:$E$21,3,FALSE())","v":3},"Competición","Asturiana"]
["3301300","Perez-Campoamor Navarro, Reyes","3P","D",{"$f":"VLOOKUP(C3383,Referencias!$C$4:$D$21,2,FALSE())","v":"Tercera Picas"},{"$f":"VLOOKUP(I3383,Referencias!$B$24:$C$41,2,FALSE())","v":"P.AST"},{"$f":"VLOOKUP(C3383,Referencias!$C$4:$E$21,3,FALSE())","v":3},"Competición","Asturiana"]
["3301301","De Manuel Galán, María Antonia","3D","D",{"$f":"VLOOKUP(C3384,Referencias!$C$4:$D$21,2,FALSE())","v":"Tercera Diamante"},{"$f":"VLOOKUP(I3384,Referencias!$B$24:$C$41,2,FALSE())","v":"P.AST"},{"$f":"VLOOKUP(C3384,Referencias!$C$4:$E$21,3,FALSE())","v":3},"Competición","Asturiana"]
["3301302","Pérez Tárrega, Paz","3D","D",{"$f":"VLOOKUP(C3385,Referencias!$C$4:$D$21,2,FALSE())","v":"Tercera Diamante"},{"$f":"VLOOKUP(I3385,Referencias!$B$24:$C$41,2,FALSE())","v":"P.AST"},{"$f":"VLOOKUP(C3385,Referencias!$C$4:$E$21,3,FALSE())","v":3},"Competición","Asturiana"]
["3301305","López Alvarez, Montserrat","3P","D",{"$f":"VLOOKUP(C3386,Referencias!$C$4:$D$21,2,FALSE())","v":"Tercera Picas"},{"$f":"VLOOKUP(I3386,Referencias!$B$24:$C$41,2,FALSE())","v":"P.AST"},{"$f":"VLOOKUP(C3386,Referencias!$C$4:$E$21,3,FALSE())","v":3},"Competición","Asturiana"]
["3301309","Miyares González-Coto, María Antonia","2C","D",{"$f":"VLOOKUP(C3387,Referencias!$C$4:$D$21,2,FALSE())","v":"Segunda Corazón"},{"$f":"VLOOKUP(I3387,Referencias!$B$24:$C$41,2,FALSE())","v":"P.AST"},{"$f":"VLOOKUP(C3387,Referencias!$C$4:$E$21,3,FALSE())","v":2},"Competición","Asturiana"]
["3301310","Martinez Sanchez, Miguel Angel","2C","C",{"$f":"VLOOKUP(C3388,Referencias!$C$4:$D$21,2,FALSE())","v":"Segunda Corazón"},{"$f":"VLOOKUP(I3388,Referencias!$B$24:$C$41,2,FALSE())","v":"P.AST"},{"$f":"VLOOKUP(C3388,Referencias!$C$4:$E$21,3,FALSE())","v":2},"Competición","Asturiana"]
["3301322","Felgueroso Fernández, María Eladia","3D","D",{"$f":"VLOOKUP(C3389,Referencias!$C$4:$D$21,2,FALSE())","v":"Tercera Diamante"},{"$f":"VLOOKUP(I3389,Referencias!$B$24:$C$41,2,FALSE())","v":"P.AST"},{"$f":"VLOOKUP(C3389,Referencias!$C$4:$E$21,3,FALSE())","v":3},"Competición","Asturiana"]
["3301324","Peña Guiney, Leonor","3C","D",{"$f":"VLOOKUP(C3390,Referencias!$C$4:$D$21,2,FALSE())","v":"Tercera Corazón"},{"$f":"VLOOKUP(I3390,Referencias!$B$24:$C$41,2,FALSE())","v":"P.AST"},{"$f":"VLOOKUP(C3390,Referencias!$C$4:$E$21,3,FALSE())","v":3},"Competición","Asturiana"]
["3301325","Morenés Falcó, Livia","3D","D",{"$f":"VLOOKUP(C3391,Referencias!$C$4:$D$21,2,FALSE())","v":"Tercera Diamante"},{"$f":"VLOOKUP(I3391,Referencias!$B$24:$C$41,2,FALSE())","v":"P.AST"},{"$f":"VLOOKUP(C3391,Referencias!$C$4:$E$21,3,FALSE())","v":3},"Competición","Asturiana"]
["3301326","García Álvarez, María del Carmen","3D","D",{"$f":"VLOOKUP(C3392,Referencias!$C$4:$D$21,2,FALSE())","v":"Tercera Diamante"},{"$f":"VLOOKUP(I3392,Referencias!$B$24:$C$41,2,FALSE())","v":"P.AST"},{"$f":"VLOOKUP(C3392,Referencias!$C$4:$E$21,3,FALSE())","v":3},"Competición","Asturiana"]
["3301328","Rionda Fernández, Ana María","3P","D",{"$f":"VLOOKUP(C3393,Referencias!$C$4:$D$21,2,FALSE())","v":"Tercera Picas"},{"$f":"VLOOKUP(I3393,Referencias!$B$24:$C$41,2,FALSE())","v":"P.AST"},{"$f":"VLOOKUP(C3393,Referencias!$C$4:$E$21,3,FALSE())","v":3},"Competición","Asturiana"]
["3301331","García Muñiz, Luisa María","2D","D",{"$f":"VLOOKUP(C3394,Referencias!$C$4:$D$21,2,FALSE())","v":"Segunda Diamante"},{"$f":"VLOOKUP(I3394,Referencias!$B$24:$C$41,2,FALSE())","v":"P.AST"},{"$f":"VLOOKUP(C3394,Referencias!$C$4:$E$21,3,FALSE())","v":2},"Competición","Asturiana"]
["3301338","Aranguren Ispizua, Mónica","3D","D",{"$f":"VLOOKUP(C3395,Referencias!$C$4:$D$21,2,FALSE())","v":"Tercera Diamante"},{"$f":"VLOOKUP(I3395,Referencias!$B$24:$C$41,2,FALSE())","v":"P.AST"},{"$f":"VLOOKUP(C3395,Referencias!$C$4:$E$21,3,FALSE())","v":3},"Competición","Asturiana"]
["3301339","García García, Amparo","3D","D",{"$f":"VLOOKUP(C3396,Referencias!$C$4:$D$21,2,FALSE())","v":"Tercera Diamante"},{"$f":"VLOOKUP(I3396,Referencias!$B$24:$C$41,2,FALSE())","v":"P.AST"},{"$f":"VLOOKUP(C3396,Referencias!$C$4:$E$21,3,FALSE())","v":3},"Competición","Asturiana"]
["3301344","Sánz Llaneza, María Trinidad","3D","D",{"$f":"VLOOKUP(C3397,Referencias!$C$4:$D$21,2,FALSE())","v":"Tercera Diamante"},{"$f":"VLOOKUP(I3397,Referencias!$B$24:$C$41,2,FALSE())","v":"P.AST"},{"$f":"VLOOKUP(C3397,Referencias!$C$4:$E$21,3,FALSE())","v":3},"Competición","Asturiana"]
["3301348","Olay Villasanjurjo, María del Carmen","2D","D",{"$f":"VLOOKUP(C3398,Referencias!$C$4:$D$21,2,FALSE())","v":"Segunda Diamante"},{"$f":"VLOOKUP(I3398,Referencias!$B$24:$C$41,2,FALSE())","v":"P.AST"},{"$f":"VLOOKUP(C3398,Referencias!$C$4:$E$21,3,FALSE())","v":2},"Competición","Asturiana"]
["3301349","Sánchez - Ocaña Olay, Susana","2D","D",{"$f":"VLOOKUP(C3399,Referencias!$C$4:$D$21,2,FALSE())","v":"Segunda Diamante"},{"$f":"VLOOKUP(I3399,Referencias!$B$24:$C$41,2,FALSE())","v":"P.AST"},{"$f":"VLOOKUP(C3399,Referencias!$C$4:$E$21,3,FALSE())","v":2},"Competición","Asturiana"]
["3301350","Del Palacio Blanco, Carolina","3P","D",{"$f":"VLOOKUP(C3400,Referencias!$C$4:$D$21,2,FALSE())","v":"Tercera Picas"},{"$f":"VLOOKUP(I3400,Referencias!$B$24:$C$41,2,FALSE())","v":"P.AST"},{"$f":"VLOOKUP(C3400,Referencias!$C$4:$E$21,3,FALSE())","v":3},"Competición","Asturiana"]
["3301357","Calvo Aladro, Rosa","3D","D",{"$f":"VLOOKUP(C3401,Referencias!$C$4:$D$21,2,FALSE())","v":"Tercera Diamante"},{"$f":"VLOOKUP(I3401,Referencias!$B$24:$C$41,2,FALSE())","v":"P.AST"},{"$f":"VLOOKUP(C3401,Referencias!$C$4:$E$21,3,FALSE())","v":3},"Competición","Asturiana"]
["3301359","Galbis Dolz de Espejo, María","3D","D",{"$f":"VLOOKUP(C3402,Referencias!$C$4:$D$21,2,FALSE())","v":"Tercera Diamante"},{"$f":"VLOOKUP(I3402,Referencias!$B$24:$C$41,2,FALSE())","v":"P.AST"},{"$f":"VLOOKUP(C3402,Referencias!$C$4:$E$21,3,FALSE())","v":3},"Competición","Asturiana"]
["3301360","Díaz Solano, Mª Dolores","1C","D",{"$f":"VLOOKUP(C3403,Referencias!$C$4:$D$21,2,FALSE())","v":"Primera Corazón"},{"$f":"VLOOKUP(I3403,Referencias!$B$24:$C$41,2,FALSE())","v":"P.AST"},{"$f":"VLOOKUP(C3403,Referencias!$C$4:$E$21,3,FALSE())","v":1},"Competición","Asturiana"]
["3301361","Díaz Solano, Ana","2P","D",{"$f":"VLOOKUP(C3404,Referencias!$C$4:$D$21,2,FALSE())","v":"Segunda Picas"},{"$f":"VLOOKUP(I3404,Referencias!$B$24:$C$41,2,FALSE())","v":"P.AST"},{"$f":"VLOOKUP(C3404,Referencias!$C$4:$E$21,3,FALSE())","v":2},"Competición","Asturiana"]
["3301362","Fernández Bustillo, María","2C","D",{"$f":"VLOOKUP(C3405,Referencias!$C$4:$D$21,2,FALSE())","v":"Segunda Corazón"},{"$f":"VLOOKUP(I3405,Referencias!$B$24:$C$41,2,FALSE())","v":"P.AST"},{"$f":"VLOOKUP(C3405,Referencias!$C$4:$E$21,3,FALSE())","v":2},"Competición","Asturiana"]
["3301363","Astudillo González, Armando","2C","C",{"$f":"VLOOKUP(C3406,Referencias!$C$4:$D$21,2,FALSE())","v":"Segunda Corazón"},{"$f":"VLOOKUP(I3406,Referencias!$B$24:$C$41,2,FALSE())","v":"P.AST"},{"$f":"VLOOKUP(C3406,Referencias!$C$4:$E$21,3,FALSE())","v":2},"Competición","Asturiana"]
["3301364","Beheshti Tonos, Soraya","3D","D",{"$f":"VLOOKUP(C3407,Referencias!$C$4:$D$21,2,FALSE())","v":"Tercera Diamante"},{"$f":"VLOOKUP(I3407,Referencias!$B$24:$C$41,2,FALSE())","v":"P.AST"},{"$f":"VLOOKUP(C3407,Referencias!$C$4:$E$21,3,FALSE())","v":3},"Competición","Asturiana"]
["3301365","Tonos Galik, Robert-John","3D","C",{"$f":"VLOOKUP(C3408,Referencias!$C$4:$D$21,2,FALSE())","v":"Tercera Diamante"},{"$f":"VLOOKUP(I3408,Referencias!$B$24:$C$41,2,FALSE())","v":"P.AST"},{"$f":"VLOOKUP(C3408,Referencias!$C$4:$E$21,3,FALSE())","v":3},"Competición","Asturiana"]
["3301366","Martín Sánchez, Matilde Isabel","2D","D",{"$f":"VLOOKUP(C3409,Referencias!$C$4:$D$21,2,FALSE())","v":"Segunda Diamante"},{"$f":"VLOOKUP(I3409,Referencias!$B$24:$C$41,2,FALSE())","v":"P.AST"},{"$f":"VLOOKUP(C3409,Referencias!$C$4:$E$21,3,FALSE())","v":2},"Competición","Asturiana"]
["3301368","Navarro Suárez, María del Mar","3D","D",{"$f":"VLOOKUP(C3410,Referencias!$C$4:$D$21,2,FALSE())","v":"Tercera Diamante"},{"$f":"VLOOKUP(I3410,Referencias!$B$24:$C$41,2,FALSE())","v":"P.AST"},{"$f":"VLOOKUP(C3410,Referencias!$C$4:$E$21,3,FALSE())","v":3},"Competición","Asturiana"]
["3301369","Álvarez López, Maria Isabel","2C","D",{"$f":"VLOOKUP(C3411,Referencias!$C$4:$D$21,2,FALSE())","v":"Segunda Corazón"},{"$f":"VLOOKUP(I3411,Referencias!$B$24:$C$41,2,FALSE())","v":"P.AST"},{"$f":"VLOOKUP(C3411,Referencias!$C$4:$E$21,3,FALSE())","v":2},"Competición","Asturiana"]
["3301372","Rodríguez López, María Cristina","2C","D",{"$f":"VLOOKUP(C3412,Referencias!$C$4:$D$21,2,FALSE())","v":"Segunda Corazón"},{"$f":"VLOOKUP(I3412,Referencias!$B$24:$C$41,2,FALSE())","v":"P.AST"},{"$f":"VLOOKUP(C3412,Referencias!$C$4:$E$21,3,FALSE())","v":2},"Competición","Asturiana"]
["3301373","Martínez Costales, Maria Pilar Ramona","3D","D",{"$f":"VLOOKUP(C3413,Referencias!$C$4:$D$21,2,FALSE())","v":"Tercera Diamante"},{"$f":"VLOOKUP(I3413,Referencias!$B$24:$C$41,2,FALSE())","v":"P.AST"},{"$f":"VLOOKUP(C3413,Referencias!$C$4:$E$21,3,FALSE())","v":3},"Competición","Asturiana"]
["3301374","Ventura Alvárez- Arenas, María Africa","3D","D",{"$f":"VLOOKUP(C3414,Referencias!$C$4:$D$21,2,FALSE())","v":"Tercera Diamante"},{"$f":"VLOOKUP(I3414,Referencias!$B$24:$C$41,2,FALSE())","v":"P.AST"},{"$f":"VLOOKUP(C3414,Referencias!$C$4:$E$21,3,FALSE())","v":3},"Competición","Asturiana"]
["3301375","Amez Ventura, Maria Africa","3D","D",{"$f":"VLOOKUP(C3415,Referencias!$C$4:$D$21,2,FALSE())","v":"Tercera Diamante"},{"$f":"VLOOKUP(I3415,Referencias!$B$24:$C$41,2,FALSE())","v":"P.AST"},{"$f":"VLOOKUP(C3415,Referencias!$C$4:$E$21,3,FALSE())","v":3},"Competición","Asturiana"]
["3301378","García Pérez, Jose Ramón","3P","C",{"$f":"VLOOKUP(C3416,Referencias!$C$4:$D$21,2,FALSE())","v":"Tercera Picas"},{"$f":"VLOOKUP(I3416,Referencias!$B$24:$C$41,2,FALSE())","v":"P.AST"},{"$f":"VLOOKUP(C3416,Referencias!$C$4:$E$21,3,FALSE())","v":3},"Competición","Asturiana"]
["3301379","Vinagre Castaño, Jose Antonio","2P","C",{"$f":"VLOOKUP(C3417,Referencias!$C$4:$D$21,2,FALSE())","v":"Segunda Picas"},{"$f":"VLOOKUP(I3417,Referencias!$B$24:$C$41,2,FALSE())","v":"P.AST"},{"$f":"VLOOKUP(C3417,Referencias!$C$4:$E$21,3,FALSE())","v":2},"Competición","Asturiana"]
["3301380","Domínguez Pequeño, Beatriz","3C","D",{"$f":"VLOOKUP(C3418,Referencias!$C$4:$D$21,2,FALSE())","v":"Tercera Corazón"},{"$f":"VLOOKUP(I3418,Referencias!$B$24:$C$41,2,FALSE())","v":"P.AST"},{"$f":"VLOOKUP(C3418,Referencias!$C$4:$E$21,3,FALSE())","v":3},"Competición","Asturiana"]
["3301382","Petrelli Carlocchia, Marta Beatriz","3C","D",{"$f":"VLOOKUP(C3419,Referencias!$C$4:$D$21,2,FALSE())","v":"Tercera Corazón"},{"$f":"VLOOKUP(I3419,Referencias!$B$24:$C$41,2,FALSE())","v":"P.AST"},{"$f":"VLOOKUP(C3419,Referencias!$C$4:$E$21,3,FALSE())","v":3},"Competición","Asturiana"]
["3301383","Singer, Jenny","3D","D",{"$f":"VLOOKUP(C3420,Referencias!$C$4:$D$21,2,FALSE())","v":"Tercera Diamante"},{"$f":"VLOOKUP(I3420,Referencias!$B$24:$C$41,2,FALSE())","v":"P.AST"},{"$f":"VLOOKUP(C3420,Referencias!$C$4:$E$21,3,FALSE())","v":3},"Competición","Asturiana"]
["3301384","Castaño García, A. Fernando","3D","C",{"$f":"VLOOKUP(C3421,Referencias!$C$4:$D$21,2,FALSE())","v":"Tercera Diamante"},{"$f":"VLOOKUP(I3421,Referencias!$B$24:$C$41,2,FALSE())","v":"P.AST"},{"$f":"VLOOKUP(C3421,Referencias!$C$4:$E$21,3,FALSE())","v":3},"Competición","Asturiana"]
["3301385","Lueje Beltrán, Carlos","3P","C",{"$f":"VLOOKUP(C3422,Referencias!$C$4:$D$21,2,FALSE())","v":"Tercera Picas"},{"$f":"VLOOKUP(I3422,Referencias!$B$24:$C$41,2,FALSE())","v":"P.AST"},{"$f":"VLOOKUP(C3422,Referencias!$C$4:$E$21,3,FALSE())","v":3},"Competición","Asturiana"]
["3301386","Fenor Luque, Consuelo","3C","D",{"$f":"VLOOKUP(C3423,Referencias!$C$4:$D$21,2,FALSE())","v":"Tercera Corazón"},{"$f":"VLOOKUP(I3423,Referencias!$B$24:$C$41,2,FALSE())","v":"P.AST"},{"$f":"VLOOKUP(C3423,Referencias!$C$4:$E$21,3,FALSE())","v":3},"Competición","Asturiana"]
["3301388","González Álvarez, María Luisa","3P","D",{"$f":"VLOOKUP(C3424,Referencias!$C$4:$D$21,2,FALSE())","v":"Tercera Picas"},{"$f":"VLOOKUP(I3424,Referencias!$B$24:$C$41,2,FALSE())","v":"P.AST"},{"$f":"VLOOKUP(C3424,Referencias!$C$4:$E$21,3,FALSE())","v":3},"Competición","Asturiana"]
["3301389","Loredo Sierra, Beatriz","2P","D",{"$f":"VLOOKUP(C3425,Referencias!$C$4:$D$21,2,FALSE())","v":"Segunda Picas"},{"$f":"VLOOKUP(I3425,Referencias!$B$24:$C$41,2,FALSE())","v":"P.AST"},{"$f":"VLOOKUP(C3425,Referencias!$C$4:$E$21,3,FALSE())","v":2},"Competición","Asturiana"]
["3301390","Parapar Pérez, Carmen","3C","D",{"$f":"VLOOKUP(C3426,Referencias!$C$4:$D$21,2,FALSE())","v":"Tercera Corazón"},{"$f":"VLOOKUP(I3426,Referencias!$B$24:$C$41,2,FALSE())","v":"P.AST"},{"$f":"VLOOKUP(C3426,Referencias!$C$4:$E$21,3,FALSE())","v":3},"Competición","Asturiana"]
["3301392","Coya González, Patricia","3P","D",{"$f":"VLOOKUP(C3427,Referencias!$C$4:$D$21,2,FALSE())","v":"Tercera Picas"},{"$f":"VLOOKUP(I3427,Referencias!$B$24:$C$41,2,FALSE())","v":"P.AST"},{"$f":"VLOOKUP(C3427,Referencias!$C$4:$E$21,3,FALSE())","v":3},"Competición","Asturiana"]
["3301393","López González, Juan Luis","3P","C",{"$f":"VLOOKUP(C3428,Referencias!$C$4:$D$21,2,FALSE())","v":"Tercera Picas"},{"$f":"VLOOKUP(I3428,Referencias!$B$24:$C$41,2,FALSE())","v":"P.AST"},{"$f":"VLOOKUP(C3428,Referencias!$C$4:$E$21,3,FALSE())","v":3},"Competición","Asturiana"]
["3301394","Martins Silva, Jose Julio","1P","C",{"$f":"VLOOKUP(C3429,Referencias!$C$4:$D$21,2,FALSE())","v":"Primera Picas"},{"$f":"VLOOKUP(I3429,Referencias!$B$24:$C$41,2,FALSE())","v":"P.AST"},{"$f":"VLOOKUP(C3429,Referencias!$C$4:$E$21,3,FALSE())","v":1},"Competición","Asturiana"]
["3301395","Fernández-Villanueva González, María Dolores","3P","D",{"$f":"VLOOKUP(C3430,Referencias!$C$4:$D$21,2,FALSE())","v":"Tercera Picas"},{"$f":"VLOOKUP(I3430,Referencias!$B$24:$C$41,2,FALSE())","v":"P.AST"},{"$f":"VLOOKUP(C3430,Referencias!$C$4:$E$21,3,FALSE())","v":3},"Competición","Asturiana"]
["3301396","Río Elías, Maria Jesús","3D","D",{"$f":"VLOOKUP(C3431,Referencias!$C$4:$D$21,2,FALSE())","v":"Tercera Diamante"},{"$f":"VLOOKUP(I3431,Referencias!$B$24:$C$41,2,FALSE())","v":"P.AST"},{"$f":"VLOOKUP(C3431,Referencias!$C$4:$E$21,3,FALSE())","v":3},"Competición","Asturiana"]
["3301397","González Alonso, María Isabel","3C","D",{"$f":"VLOOKUP(C3432,Referencias!$C$4:$D$21,2,FALSE())","v":"Tercera Corazón"},{"$f":"VLOOKUP(I3432,Referencias!$B$24:$C$41,2,FALSE())","v":"P.AST"},{"$f":"VLOOKUP(C3432,Referencias!$C$4:$E$21,3,FALSE())","v":3},"Competición","Asturiana"]
["3301399","Costales Caso, María del Mar","3D","D",{"$f":"VLOOKUP(C3433,Referencias!$C$4:$D$21,2,FALSE())","v":"Tercera Diamante"},{"$f":"VLOOKUP(I3433,Referencias!$B$24:$C$41,2,FALSE())","v":"P.AST"},{"$f":"VLOOKUP(C3433,Referencias!$C$4:$E$21,3,FALSE())","v":3},"Competición","Asturiana"]
["3301400","Jiménez Pruneda, Rosa María","2C","D",{"$f":"VLOOKUP(C3434,Referencias!$C$4:$D$21,2,FALSE())","v":"Segunda Corazón"},{"$f":"VLOOKUP(I3434,Referencias!$B$24:$C$41,2,FALSE())","v":"P.AST"},{"$f":"VLOOKUP(C3434,Referencias!$C$4:$E$21,3,FALSE())","v":2},"Competición","Asturiana"]
["3301401","Canseco González, Carmen","3D","D",{"$f":"VLOOKUP(C3435,Referencias!$C$4:$D$21,2,FALSE())","v":"Tercera Diamante"},{"$f":"VLOOKUP(I3435,Referencias!$B$24:$C$41,2,FALSE())","v":"P.AST"},{"$f":"VLOOKUP(C3435,Referencias!$C$4:$E$21,3,FALSE())","v":3},"Competición","Asturiana"]
["3301402","De Santiago Díez, Angeles","3D","D",{"$f":"VLOOKUP(C3436,Referencias!$C$4:$D$21,2,FALSE())","v":"Tercera Diamante"},{"$f":"VLOOKUP(I3436,Referencias!$B$24:$C$41,2,FALSE())","v":"P.AST"},{"$f":"VLOOKUP(C3436,Referencias!$C$4:$E$21,3,FALSE())","v":3},"Competición","Asturiana"]
["3301403","Durán Ayala, Jerónimo","3D","C",{"$f":"VLOOKUP(C3437,Referencias!$C$4:$D$21,2,FALSE())","v":"Tercera Diamante"},{"$f":"VLOOKUP(I3437,Referencias!$B$24:$C$41,2,FALSE())","v":"P.AST"},{"$f":"VLOOKUP(C3437,Referencias!$C$4:$E$21,3,FALSE())","v":3},"Competición","Asturiana"]
["3301404","Sánchez Sobrino, Yolanda","3D","D",{"$f":"VLOOKUP(C3438,Referencias!$C$4:$D$21,2,FALSE())","v":"Tercera Diamante"},{"$f":"VLOOKUP(I3438,Referencias!$B$24:$C$41,2,FALSE())","v":"P.AST"},{"$f":"VLOOKUP(C3438,Referencias!$C$4:$E$21,3,FALSE())","v":3},"Competición","Asturiana"]
["3301405","Miguez García, Irene","3D","D",{"$f":"VLOOKUP(C3439,Referencias!$C$4:$D$21,2,FALSE())","v":"Tercera Diamante"},{"$f":"VLOOKUP(I3439,Referencias!$B$24:$C$41,2,FALSE())","v":"P.AST"},{"$f":"VLOOKUP(C3439,Referencias!$C$4:$E$21,3,FALSE())","v":3},"Competición","Asturiana"]
["3301406","Fernández Ovies, Francisco Javier","3D","C",{"$f":"VLOOKUP(C3440,Referencias!$C$4:$D$21,2,FALSE())","v":"Tercera Diamante"},{"$f":"VLOOKUP(I3440,Referencias!$B$24:$C$41,2,FALSE())","v":"P.AST"},{"$f":"VLOOKUP(C3440,Referencias!$C$4:$E$21,3,FALSE())","v":3},"Competición","Asturiana"]
["3301407","Alonso de Medina, Francisco Javier","3D","C",{"$f":"VLOOKUP(C3441,Referencias!$C$4:$D$21,2,FALSE())","v":"Tercera Diamante"},{"$f":"VLOOKUP(I3441,Referencias!$B$24:$C$41,2,FALSE())","v":"P.AST"},{"$f":"VLOOKUP(C3441,Referencias!$C$4:$E$21,3,FALSE())","v":3},"Competición","Asturiana"]
["3301408","Aguilar Fajardo, María Josefa","3D","D",{"$f":"VLOOKUP(C3442,Referencias!$C$4:$D$21,2,FALSE())","v":"Tercera Diamante"},{"$f":"VLOOKUP(I3442,Referencias!$B$24:$C$41,2,FALSE())","v":"P.AST"},{"$f":"VLOOKUP(C3442,Referencias!$C$4:$E$21,3,FALSE())","v":3},"Competición","Asturiana"]
["3301409","Ontañon González-Fierro, Cristina","3D","D",{"$f":"VLOOKUP(C3443,Referencias!$C$4:$D$21,2,FALSE())","v":"Tercera Diamante"},{"$f":"VLOOKUP(I3443,Referencias!$B$24:$C$41,2,FALSE())","v":"P.AST"},{"$f":"VLOOKUP(C3443,Referencias!$C$4:$E$21,3,FALSE())","v":3},"Competición","Asturiana"]
["3301412","García-Vega, Maria Elena","3D","D",{"$f":"VLOOKUP(C3444,Referencias!$C$4:$D$21,2,FALSE())","v":"Tercera Diamante"},{"$f":"VLOOKUP(I3444,Referencias!$B$24:$C$41,2,FALSE())","v":"P.AST"},{"$f":"VLOOKUP(C3444,Referencias!$C$4:$E$21,3,FALSE())","v":3},"Competición","Asturiana"]
["3301413","Simarro Martín-Ambrosio, María Isabel","3D","D",{"$f":"VLOOKUP(C3445,Referencias!$C$4:$D$21,2,FALSE())","v":"Tercera Diamante"},{"$f":"VLOOKUP(I3445,Referencias!$B$24:$C$41,2,FALSE())","v":"P.AST"},{"$f":"VLOOKUP(C3445,Referencias!$C$4:$E$21,3,FALSE())","v":3},"Competición","Asturiana"]
["3301414","Herrero Cuevas, María Lucía","3D","D",{"$f":"VLOOKUP(C3446,Referencias!$C$4:$D$21,2,FALSE())","v":"Tercera Diamante"},{"$f":"VLOOKUP(I3446,Referencias!$B$24:$C$41,2,FALSE())","v":"P.AST"},{"$f":"VLOOKUP(C3446,Referencias!$C$4:$E$21,3,FALSE())","v":3},"Competición","Asturiana"]
["3301415","Diz Astray, Babila","3D","D",{"$f":"VLOOKUP(C3447,Referencias!$C$4:$D$21,2,FALSE())","v":"Tercera Diamante"},{"$f":"VLOOKUP(I3447,Referencias!$B$24:$C$41,2,FALSE())","v":"P.AST"},{"$f":"VLOOKUP(C3447,Referencias!$C$4:$E$21,3,FALSE())","v":3},"Competición","Asturiana"]
["3301416","Canal Sastre, Ana","3C","D",{"$f":"VLOOKUP(C3448,Referencias!$C$4:$D$21,2,FALSE())","v":"Tercera Corazón"},{"$f":"VLOOKUP(I3448,Referencias!$B$24:$C$41,2,FALSE())","v":"P.AST"},{"$f":"VLOOKUP(C3448,Referencias!$C$4:$E$21,3,FALSE())","v":3},"Competición","Asturiana"]
["3301417","Quiros Montes de Oca, Francisco","3C","C",{"$f":"VLOOKUP(C3449,Referencias!$C$4:$D$21,2,FALSE())","v":"Tercera Corazón"},{"$f":"VLOOKUP(I3449,Referencias!$B$24:$C$41,2,FALSE())","v":"P.AST"},{"$f":"VLOOKUP(C3449,Referencias!$C$4:$E$21,3,FALSE())","v":3},"Competición","Asturiana"]
["3301418","Liñero de Azcárate, Liliana","3D","D",{"$f":"VLOOKUP(C3450,Referencias!$C$4:$D$21,2,FALSE())","v":"Tercera Diamante"},{"$f":"VLOOKUP(I3450,Referencias!$B$24:$C$41,2,FALSE())","v":"P.AST"},{"$f":"VLOOKUP(C3450,Referencias!$C$4:$E$21,3,FALSE())","v":3},"Competición","Asturiana"]
["3301419","González Martínez, Cristina","3D","D",{"$f":"VLOOKUP(C3451,Referencias!$C$4:$D$21,2,FALSE())","v":"Tercera Diamante"},{"$f":"VLOOKUP(I3451,Referencias!$B$24:$C$41,2,FALSE())","v":"P.AST"},{"$f":"VLOOKUP(C3451,Referencias!$C$4:$E$21,3,FALSE())","v":3},"Competición","Asturiana"]
["3301420","Ortiz Rey, Raquel","3D","D",{"$f":"VLOOKUP(C3452,Referencias!$C$4:$D$21,2,FALSE())","v":"Tercera Diamante"},{"$f":"VLOOKUP(I3452,Referencias!$B$24:$C$41,2,FALSE())","v":"P.AST"},{"$f":"VLOOKUP(C3452,Referencias!$C$4:$E$21,3,FALSE())","v":3},"Competición","Asturiana"]
["3301421","Olmos Fernández-Corugedo, Elena","3D","D",{"$f":"VLOOKUP(C3453,Referencias!$C$4:$D$21,2,FALSE())","v":"Tercera Diamante"},{"$f":"VLOOKUP(I3453,Referencias!$B$24:$C$41,2,FALSE())","v":"P.AST"},{"$f":"VLOOKUP(C3453,Referencias!$C$4:$E$21,3,FALSE())","v":3},"Competición","Asturiana"]
["3301423","Rodríguez-Rovira, Gemma","3C","D",{"$f":"VLOOKUP(C3454,Referencias!$C$4:$D$21,2,FALSE())","v":"Tercera Corazón"},{"$f":"VLOOKUP(I3454,Referencias!$B$24:$C$41,2,FALSE())","v":"P.AST"},{"$f":"VLOOKUP(C3454,Referencias!$C$4:$E$21,3,FALSE())","v":3},"Competición","Asturiana"]
["3301424","Cristos Bonal, Isabel","3C","D",{"$f":"VLOOKUP(C3455,Referencias!$C$4:$D$21,2,FALSE())","v":"Tercera Corazón"},{"$f":"VLOOKUP(I3455,Referencias!$B$24:$C$41,2,FALSE())","v":"P.AST"},{"$f":"VLOOKUP(C3455,Referencias!$C$4:$E$21,3,FALSE())","v":3},"Competición","Asturiana"]
["3301425","Ripoll Pernas, María Dolores","3D","D",{"$f":"VLOOKUP(C3456,Referencias!$C$4:$D$21,2,FALSE())","v":"Tercera Diamante"},{"$f":"VLOOKUP(I3456,Referencias!$B$24:$C$41,2,FALSE())","v":"P.AST"},{"$f":"VLOOKUP(C3456,Referencias!$C$4:$E$21,3,FALSE())","v":3},"Competición","Asturiana"]
["3301426","Suárez de Luis, Laura","2D","D",{"$f":"VLOOKUP(C3457,Referencias!$C$4:$D$21,2,FALSE())","v":"Segunda Diamante"},{"$f":"VLOOKUP(I3457,Referencias!$B$24:$C$41,2,FALSE())","v":"P.AST"},{"$f":"VLOOKUP(C3457,Referencias!$C$4:$E$21,3,FALSE())","v":2},"Competición","Asturiana"]
["3301427","González Fernández, Ana María","3D","D",{"$f":"VLOOKUP(C3458,Referencias!$C$4:$D$21,2,FALSE())","v":"Tercera Diamante"},{"$f":"VLOOKUP(I3458,Referencias!$B$24:$C$41,2,FALSE())","v":"P.AST"},{"$f":"VLOOKUP(C3458,Referencias!$C$4:$E$21,3,FALSE())","v":3},"Competición","Asturiana"]
["3301428","Muñiz Cueto, María Genoveva","3D","D",{"$f":"VLOOKUP(C3459,Referencias!$C$4:$D$21,2,FALSE())","v":"Tercera Diamante"},{"$f":"VLOOKUP(I3459,Referencias!$B$24:$C$41,2,FALSE())","v":"P.AST"},{"$f":"VLOOKUP(C3459,Referencias!$C$4:$E$21,3,FALSE())","v":3},"Competición","Asturiana"]
["3301429","Martínez Álvarez, Carla","3D","D",{"$f":"VLOOKUP(C3460,Referencias!$C$4:$D$21,2,FALSE())","v":"Tercera Diamante"},{"$f":"VLOOKUP(I3460,Referencias!$B$24:$C$41,2,FALSE())","v":"P.AST"},{"$f":"VLOOKUP(C3460,Referencias!$C$4:$E$21,3,FALSE())","v":3},"Competición","Asturiana"]
["3301430","Pérez de Rada Cavanilles, Teresa","3D","D",{"$f":"VLOOKUP(C3461,Referencias!$C$4:$D$21,2,FALSE())","v":"Tercera Diamante"},{"$f":"VLOOKUP(I3461,Referencias!$B$24:$C$41,2,FALSE())","v":"P.AST"},{"$f":"VLOOKUP(C3461,Referencias!$C$4:$E$21,3,FALSE())","v":3},"Competición","Asturiana"]
["3301431","Cueto Felgueroso Botas, Maria Victoria","3D","D",{"$f":"VLOOKUP(C3462,Referencias!$C$4:$D$21,2,FALSE())","v":"Tercera Diamante"},{"$f":"VLOOKUP(I3462,Referencias!$B$24:$C$41,2,FALSE())","v":"P.AST"},{"$f":"VLOOKUP(C3462,Referencias!$C$4:$E$21,3,FALSE())","v":3},"Competición","Asturiana"]
["3301432","Soriano Combarro, Montserrat","3C","D",{"$f":"VLOOKUP(C3463,Referencias!$C$4:$D$21,2,FALSE())","v":"Tercera Corazón"},{"$f":"VLOOKUP(I3463,Referencias!$B$24:$C$41,2,FALSE())","v":"P.AST"},{"$f":"VLOOKUP(C3463,Referencias!$C$4:$E$21,3,FALSE())","v":3},"Competición","Asturiana"]
["3301433","González López, Sanda","3D","D",{"$f":"VLOOKUP(C3464,Referencias!$C$4:$D$21,2,FALSE())","v":"Tercera Diamante"},{"$f":"VLOOKUP(I3464,Referencias!$B$24:$C$41,2,FALSE())","v":"P.AST"},{"$f":"VLOOKUP(C3464,Referencias!$C$4:$E$21,3,FALSE())","v":3},"Competición","Asturiana"]
["3301434","Buruaga Larrauri, Begoña","3C","D",{"$f":"VLOOKUP(C3465,Referencias!$C$4:$D$21,2,FALSE())","v":"Tercera Corazón"},{"$f":"VLOOKUP(I3465,Referencias!$B$24:$C$41,2,FALSE())","v":"P.AST"},{"$f":"VLOOKUP(C3465,Referencias!$C$4:$E$21,3,FALSE())","v":3},"Competición","Asturiana"]
["3301435","Lobo Rodriguez, Luis Miguel","3D","C",{"$f":"VLOOKUP(C3466,Referencias!$C$4:$D$21,2,FALSE())","v":"Tercera Diamante"},{"$f":"VLOOKUP(I3466,Referencias!$B$24:$C$41,2,FALSE())","v":"P.AST"},{"$f":"VLOOKUP(C3466,Referencias!$C$4:$E$21,3,FALSE())","v":3},"Competición","Asturiana"]
["3301436","Fernández Pantiga, Belinda","3C","D",{"$f":"VLOOKUP(C3467,Referencias!$C$4:$D$21,2,FALSE())","v":"Tercera Corazón"},{"$f":"VLOOKUP(I3467,Referencias!$B$24:$C$41,2,FALSE())","v":"P.AST"},{"$f":"VLOOKUP(C3467,Referencias!$C$4:$E$21,3,FALSE())","v":3},"Competición","Asturiana"]
["3301437","Alvarez  Fernández, Mª Elena","3D","D",{"$f":"VLOOKUP(C3468,Referencias!$C$4:$D$21,2,FALSE())","v":"Tercera Diamante"},{"$f":"VLOOKUP(I3468,Referencias!$B$24:$C$41,2,FALSE())","v":"P.AST"},{"$f":"VLOOKUP(C3468,Referencias!$C$4:$E$21,3,FALSE())","v":3},"Competición","Asturiana"]
["3301438","Ortea Tugnoli, María Beatriz","3D","D",{"$f":"VLOOKUP(C3469,Referencias!$C$4:$D$21,2,FALSE())","v":"Tercera Diamante"},{"$f":"VLOOKUP(I3469,Referencias!$B$24:$C$41,2,FALSE())","v":"P.AST"},{"$f":"VLOOKUP(C3469,Referencias!$C$4:$E$21,3,FALSE())","v":3},"Competición","Asturiana"]
["3301439","González Dorrego, Beatriz","3D","D",{"$f":"VLOOKUP(C3470,Referencias!$C$4:$D$21,2,FALSE())","v":"Tercera Diamante"},{"$f":"VLOOKUP(I3470,Referencias!$B$24:$C$41,2,FALSE())","v":"P.AST"},{"$f":"VLOOKUP(C3470,Referencias!$C$4:$E$21,3,FALSE())","v":3},"Competición","Asturiana"]
["3301440","Cavanilles Martínez, Margarita","3D","D",{"$f":"VLOOKUP(C3471,Referencias!$C$4:$D$21,2,FALSE())","v":"Tercera Diamante"},{"$f":"VLOOKUP(I3471,Referencias!$B$24:$C$41,2,FALSE())","v":"P.AST"},{"$f":"VLOOKUP(C3471,Referencias!$C$4:$E$21,3,FALSE())","v":3},"Competición","Asturiana"]
["3301441","Pérez Payo, Eduardo","3D","C",{"$f":"VLOOKUP(C3472,Referencias!$C$4:$D$21,2,FALSE())","v":"Tercera Diamante"},{"$f":"VLOOKUP(I3472,Referencias!$B$24:$C$41,2,FALSE())","v":"P.AST"},{"$f":"VLOOKUP(C3472,Referencias!$C$4:$E$21,3,FALSE())","v":3},"Competición","Asturiana"]
["3301442","Carrera Muñoz, Gloria","3D","D",{"$f":"VLOOKUP(C3473,Referencias!$C$4:$D$21,2,FALSE())","v":"Tercera Diamante"},{"$f":"VLOOKUP(I3473,Referencias!$B$24:$C$41,2,FALSE())","v":"P.AST"},{"$f":"VLOOKUP(C3473,Referencias!$C$4:$E$21,3,FALSE())","v":3},"Competición","Asturiana"]
["3301443","Alonso Fernández, Josefina","3D","D",{"$f":"VLOOKUP(C3474,Referencias!$C$4:$D$21,2,FALSE())","v":"Tercera Diamante"},{"$f":"VLOOKUP(I3474,Referencias!$B$24:$C$41,2,FALSE())","v":"P.AST"},{"$f":"VLOOKUP(C3474,Referencias!$C$4:$E$21,3,FALSE())","v":3},"Competición","Asturiana"]
["3301446","Gestera Álvarez, Ana","3D","D",{"$f":"VLOOKUP(C3475,Referencias!$C$4:$D$21,2,FALSE())","v":"Tercera Diamante"},{"$f":"VLOOKUP(I3475,Referencias!$B$24:$C$41,2,FALSE())","v":"P.AST"},{"$f":"VLOOKUP(C3475,Referencias!$C$4:$E$21,3,FALSE())","v":3},"Competición","Asturiana"]
["3301447","Díaz Múgica, María Teresa","3D","D",{"$f":"VLOOKUP(C3476,Referencias!$C$4:$D$21,2,FALSE())","v":"Tercera Diamante"},{"$f":"VLOOKUP(I3476,Referencias!$B$24:$C$41,2,FALSE())","v":"P.AST"},{"$f":"VLOOKUP(C3476,Referencias!$C$4:$E$21,3,FALSE())","v":3},"Competición","Asturiana"]
["3301449","López Argüelles, José Manuel","3D","C",{"$f":"VLOOKUP(C3477,Referencias!$C$4:$D$21,2,FALSE())","v":"Tercera Diamante"},{"$f":"VLOOKUP(I3477,Referencias!$B$24:$C$41,2,FALSE())","v":"P.AST"},{"$f":"VLOOKUP(C3477,Referencias!$C$4:$E$21,3,FALSE())","v":3},"Competición","Asturiana"]
["3301450","Menéndez de Luarca Navia-Osorio , Marta","3D","D",{"$f":"VLOOKUP(C3478,Referencias!$C$4:$D$21,2,FALSE())","v":"Tercera Diamante"},{"$f":"VLOOKUP(I3478,Referencias!$B$24:$C$41,2,FALSE())","v":"P.AST"},{"$f":"VLOOKUP(C3478,Referencias!$C$4:$E$21,3,FALSE())","v":3},"Competición","Asturiana"]
["3301451","Balbín Aldama, María Mercedes","3D","D",{"$f":"VLOOKUP(C3479,Referencias!$C$4:$D$21,2,FALSE())","v":"Tercera Diamante"},{"$f":"VLOOKUP(I3479,Referencias!$B$24:$C$41,2,FALSE())","v":"P.AST"},{"$f":"VLOOKUP(C3479,Referencias!$C$4:$E$21,3,FALSE())","v":3},"Competición","Asturiana"]
["3301452","Cuetos Cuetos, María Covadonga","3D","D",{"$f":"VLOOKUP(C3480,Referencias!$C$4:$D$21,2,FALSE())","v":"Tercera Diamante"},{"$f":"VLOOKUP(I3480,Referencias!$B$24:$C$41,2,FALSE())","v":"P.AST"},{"$f":"VLOOKUP(C3480,Referencias!$C$4:$E$21,3,FALSE())","v":3},"Competición","Asturiana"]
["3301453","Fontaneda Fernández, Alfredo","3D","C",{"$f":"VLOOKUP(C3481,Referencias!$C$4:$D$21,2,FALSE())","v":"Tercera Diamante"},{"$f":"VLOOKUP(I3481,Referencias!$B$24:$C$41,2,FALSE())","v":"P.AST"},{"$f":"VLOOKUP(C3481,Referencias!$C$4:$E$21,3,FALSE())","v":3},"Competición","Asturiana"]
["3301454","Garcia Morales, Marisa","3D","D",{"$f":"VLOOKUP(C3482,Referencias!$C$4:$D$21,2,FALSE())","v":"Tercera Diamante"},{"$f":"VLOOKUP(I3482,Referencias!$B$24:$C$41,2,FALSE())","v":"P.AST"},{"$f":"VLOOKUP(C3482,Referencias!$C$4:$E$21,3,FALSE())","v":3},"Competición","Asturiana"]
["3301455","García-Bernardo Pendas, Beatriz","3D","D",{"$f":"VLOOKUP(C3483,Referencias!$C$4:$D$21,2,FALSE())","v":"Tercera Diamante"},{"$f":"VLOOKUP(I3483,Referencias!$B$24:$C$41,2,FALSE())","v":"P.AST"},{"$f":"VLOOKUP(C3483,Referencias!$C$4:$E$21,3,FALSE())","v":3},"Competición","Asturiana"]
["3301456","Lara González, María José","3D","D",{"$f":"VLOOKUP(C3484,Referencias!$C$4:$D$21,2,FALSE())","v":"Tercera Diamante"},{"$f":"VLOOKUP(I3484,Referencias!$B$24:$C$41,2,FALSE())","v":"P.AST"},{"$f":"VLOOKUP(C3484,Referencias!$C$4:$E$21,3,FALSE())","v":3},"Competición","Asturiana"]
["3301457","Oliva Junquera, Amparo","3D","D",{"$f":"VLOOKUP(C3485,Referencias!$C$4:$D$21,2,FALSE())","v":"Tercera Diamante"},{"$f":"VLOOKUP(I3485,Referencias!$B$24:$C$41,2,FALSE())","v":"P.AST"},{"$f":"VLOOKUP(C3485,Referencias!$C$4:$E$21,3,FALSE())","v":3},"Competición","Asturiana"]
["3301458","López Pérez, María Eugenia","3D","D",{"$f":"VLOOKUP(C3486,Referencias!$C$4:$D$21,2,FALSE())","v":"Tercera Diamante"},{"$f":"VLOOKUP(I3486,Referencias!$B$24:$C$41,2,FALSE())","v":"P.AST"},{"$f":"VLOOKUP(C3486,Referencias!$C$4:$E$21,3,FALSE())","v":3},"Competición","Asturiana"]
["3301459","Argüelles González, María de los Angeles","3D","D",{"$f":"VLOOKUP(C3487,Referencias!$C$4:$D$21,2,FALSE())","v":"Tercera Diamante"},{"$f":"VLOOKUP(I3487,Referencias!$B$24:$C$41,2,FALSE())","v":"P.AST"},{"$f":"VLOOKUP(C3487,Referencias!$C$4:$E$21,3,FALSE())","v":3},"Competición","Asturiana"]
["3301460","Travería García, María Ángeles","3D","D",{"$f":"VLOOKUP(C3488,Referencias!$C$4:$D$21,2,FALSE())","v":"Tercera Diamante"},{"$f":"VLOOKUP(I3488,Referencias!$B$24:$C$41,2,FALSE())","v":"P.AST"},{"$f":"VLOOKUP(C3488,Referencias!$C$4:$E$21,3,FALSE())","v":3},"Competición","Asturiana"]
["3301461","Parvulescu, Constantin","1P","D",{"$f":"VLOOKUP(C3489,Referencias!$C$4:$D$21,2,FALSE())","v":"Primera Picas"},{"$f":"VLOOKUP(I3489,Referencias!$B$24:$C$41,2,FALSE())","v":"P.AST"},{"$f":"VLOOKUP(C3489,Referencias!$C$4:$E$21,3,FALSE())","v":1},"Competición","Asturiana"]
["3301462","Cano Seijas, María Luisa","3D","D",{"$f":"VLOOKUP(C3490,Referencias!$C$4:$D$21,2,FALSE())","v":"Tercera Diamante"},{"$f":"VLOOKUP(I3490,Referencias!$B$24:$C$41,2,FALSE())","v":"P.AST"},{"$f":"VLOOKUP(C3490,Referencias!$C$4:$E$21,3,FALSE())","v":3},"Competición","Asturiana"]
["3301463","Valcarce Paris, María Blanca","3D","D",{"$f":"VLOOKUP(C3491,Referencias!$C$4:$D$21,2,FALSE())","v":"Tercera Diamante"},{"$f":"VLOOKUP(I3491,Referencias!$B$24:$C$41,2,FALSE())","v":"P.AST"},{"$f":"VLOOKUP(C3491,Referencias!$C$4:$E$21,3,FALSE())","v":3},"Competición","Asturiana"]
["3301464","de la Roza Delgado, Begoña","3D","D",{"$f":"VLOOKUP(C3492,Referencias!$C$4:$D$21,2,FALSE())","v":"Tercera Diamante"},{"$f":"VLOOKUP(I3492,Referencias!$B$24:$C$41,2,FALSE())","v":"P.AST"},{"$f":"VLOOKUP(C3492,Referencias!$C$4:$E$21,3,FALSE())","v":3},"Competición","Asturiana"]
["3301465","Ordieres Muñiz, Aurora","3D","D",{"$f":"VLOOKUP(C3493,Referencias!$C$4:$D$21,2,FALSE())","v":"Tercera Diamante"},{"$f":"VLOOKUP(I3493,Referencias!$B$24:$C$41,2,FALSE())","v":"P.AST"},{"$f":"VLOOKUP(C3493,Referencias!$C$4:$E$21,3,FALSE())","v":3},"Competición","Asturiana"]
["3301466","Criado Fernández, Carmen","3D","D",{"$f":"VLOOKUP(C3494,Referencias!$C$4:$D$21,2,FALSE())","v":"Tercera Diamante"},{"$f":"VLOOKUP(I3494,Referencias!$B$24:$C$41,2,FALSE())","v":"P.AST"},{"$f":"VLOOKUP(C3494,Referencias!$C$4:$E$21,3,FALSE())","v":3},"Competición","Asturiana"]
["3301467","Somolinos Zaldívar, Loreto","3D","D",{"$f":"VLOOKUP(C3495,Referencias!$C$4:$D$21,2,FALSE())","v":"Tercera Diamante"},{"$f":"VLOOKUP(I3495,Referencias!$B$24:$C$41,2,FALSE())","v":"P.AST"},{"$f":"VLOOKUP(C3495,Referencias!$C$4:$E$21,3,FALSE())","v":3},"Competición","Asturiana"]
["3301468","Moreno Roldán, Carlota","3D","D",{"$f":"VLOOKUP(C3496,Referencias!$C$4:$D$21,2,FALSE())","v":"Tercera Diamante"},{"$f":"VLOOKUP(I3496,Referencias!$B$24:$C$41,2,FALSE())","v":"P.AST"},{"$f":"VLOOKUP(C3496,Referencias!$C$4:$E$21,3,FALSE())","v":3},"Competición","Asturiana"]
["3301469","del Camino Alonso, María Dolores","3D","D",{"$f":"VLOOKUP(C3497,Referencias!$C$4:$D$21,2,FALSE())","v":"Tercera Diamante"},{"$f":"VLOOKUP(I3497,Referencias!$B$24:$C$41,2,FALSE())","v":"P.AST"},{"$f":"VLOOKUP(C3497,Referencias!$C$4:$E$21,3,FALSE())","v":3},"Competición","Asturiana"]
["3301470","Corrales Canel, Mercedes","3D","D",{"$f":"VLOOKUP(C3498,Referencias!$C$4:$D$21,2,FALSE())","v":"Tercera Diamante"},{"$f":"VLOOKUP(I3498,Referencias!$B$24:$C$41,2,FALSE())","v":"P.AST"},{"$f":"VLOOKUP(C3498,Referencias!$C$4:$E$21,3,FALSE())","v":3},"Competición","Asturiana"]
["3301471","Requejo Pérez, Sancho","3D","D",{"$f":"VLOOKUP(C3499,Referencias!$C$4:$D$21,2,FALSE())","v":"Tercera Diamante"},{"$f":"VLOOKUP(I3499,Referencias!$B$24:$C$41,2,FALSE())","v":"P.AST"},{"$f":"VLOOKUP(C3499,Referencias!$C$4:$E$21,3,FALSE())","v":3},"Competición","Asturiana"]
["3301472","Machargo Fernández, Manuel","3D","C",{"$f":"VLOOKUP(C3500,Referencias!$C$4:$D$21,2,FALSE())","v":"Tercera Diamante"},{"$f":"VLOOKUP(I3500,Referencias!$B$24:$C$41,2,FALSE())","v":"P.AST"},{"$f":"VLOOKUP(C3500,Referencias!$C$4:$E$21,3,FALSE())","v":3},"Competición","Asturiana"]
["3301473","Levit, Yulia","3D","D",{"$f":"VLOOKUP(C3501,Referencias!$C$4:$D$21,2,FALSE())","v":"Tercera Diamante"},{"$f":"VLOOKUP(I3501,Referencias!$B$24:$C$41,2,FALSE())","v":"P.AST"},{"$f":"VLOOKUP(C3501,Referencias!$C$4:$E$21,3,FALSE())","v":3},"Competición","Asturiana"]
["3301474","Orejas Fernández , Estrella","3D","D",{"$f":"VLOOKUP(C3502,Referencias!$C$4:$D$21,2,FALSE())","v":"Tercera Diamante"},{"$f":"VLOOKUP(I3502,Referencias!$B$24:$C$41,2,FALSE())","v":"P.AST"},{"$f":"VLOOKUP(C3502,Referencias!$C$4:$E$21,3,FALSE())","v":3},"Competición","Asturiana"]
["3305520","Bonal Salanova, María Ángeles","1P","D",{"$f":"VLOOKUP(C3503,Referencias!$C$4:$D$21,2,FALSE())","v":"Primera Picas"},{"$f":"VLOOKUP(I3503,Referencias!$B$24:$C$41,2,FALSE())","v":"P.AST"},{"$f":"VLOOKUP(C3503,Referencias!$C$4:$E$21,3,FALSE())","v":1},"Competición","Asturiana"]
["3305521","Prendes de Artigas, Ana","1P","D",{"$f":"VLOOKUP(C3504,Referencias!$C$4:$D$21,2,FALSE())","v":"Primera Picas"},{"$f":"VLOOKUP(I3504,Referencias!$B$24:$C$41,2,FALSE())","v":"P.AST"},{"$f":"VLOOKUP(C3504,Referencias!$C$4:$E$21,3,FALSE())","v":1},"Competición","Asturiana"]
["3305526","Urquiola Permisán, Carmen","3C","D",{"$f":"VLOOKUP(C3505,Referencias!$C$4:$D$21,2,FALSE())","v":"Tercera Corazón"},{"$f":"VLOOKUP(I3505,Referencias!$B$24:$C$41,2,FALSE())","v":"P.AST"},{"$f":"VLOOKUP(C3505,Referencias!$C$4:$E$21,3,FALSE())","v":3},"Competición","Asturiana"]
["3305530","Fernández-Corugedo, Concepción","1C","D",{"$f":"VLOOKUP(C3506,Referencias!$C$4:$D$21,2,FALSE())","v":"Primera Corazón"},{"$f":"VLOOKUP(I3506,Referencias!$B$24:$C$41,2,FALSE())","v":"P.AST"},{"$f":"VLOOKUP(C3506,Referencias!$C$4:$E$21,3,FALSE())","v":1},"Competición","Asturiana"]
["3305539","Bonal Salanova, Dolores","1P","D",{"$f":"VLOOKUP(C3507,Referencias!$C$4:$D$21,2,FALSE())","v":"Primera Picas"},{"$f":"VLOOKUP(I3507,Referencias!$B$24:$C$41,2,FALSE())","v":"P.AST"},{"$f":"VLOOKUP(C3507,Referencias!$C$4:$E$21,3,FALSE())","v":1},"Honorífica","Asturiana"]
["3305545","Zueras de López-Acha, Cristina","1P","D",{"$f":"VLOOKUP(C3508,Referencias!$C$4:$D$21,2,FALSE())","v":"Primera Picas"},{"$f":"VLOOKUP(I3508,Referencias!$B$24:$C$41,2,FALSE())","v":"P.AST"},{"$f":"VLOOKUP(C3508,Referencias!$C$4:$E$21,3,FALSE())","v":1},"Competición","Asturiana"]
["3305546","Sempau Bárcena, Amparo","1P","D",{"$f":"VLOOKUP(C3509,Referencias!$C$4:$D$21,2,FALSE())","v":"Primera Picas"},{"$f":"VLOOKUP(I3509,Referencias!$B$24:$C$41,2,FALSE())","v":"P.AST"},{"$f":"VLOOKUP(C3509,Referencias!$C$4:$E$21,3,FALSE())","v":1},"Competición","Asturiana"]
["3305562","Rodríguez Rodríguez, Aurelio","1P","C",{"$f":"VLOOKUP(C3510,Referencias!$C$4:$D$21,2,FALSE())","v":"Primera Picas"},{"$f":"VLOOKUP(I3510,Referencias!$B$24:$C$41,2,FALSE())","v":"P.AST"},{"$f":"VLOOKUP(C3510,Referencias!$C$4:$E$21,3,FALSE())","v":1},"Competición","Asturiana"]
["3305570","Sempau Bárcena, Manuel","1D","C",{"$f":"VLOOKUP(C3511,Referencias!$C$4:$D$21,2,FALSE())","v":"Primera Diamante"},{"$f":"VLOOKUP(I3511,Referencias!$B$24:$C$41,2,FALSE())","v":"P.AST"},{"$f":"VLOOKUP(C3511,Referencias!$C$4:$E$21,3,FALSE())","v":1},"Competición","Asturiana"]
["3305575","Díaz Rubin Moreno, Josefa","1P","D",{"$f":"VLOOKUP(C3512,Referencias!$C$4:$D$21,2,FALSE())","v":"Primera Picas"},{"$f":"VLOOKUP(I3512,Referencias!$B$24:$C$41,2,FALSE())","v":"P.AST"},{"$f":"VLOOKUP(C3512,Referencias!$C$4:$E$21,3,FALSE())","v":1},"Competición","Asturiana"]
["3305589","Grande Oran, María Dolores","2D","D",{"$f":"VLOOKUP(C3513,Referencias!$C$4:$D$21,2,FALSE())","v":"Segunda Diamante"},{"$f":"VLOOKUP(I3513,Referencias!$B$24:$C$41,2,FALSE())","v":"P.AST"},{"$f":"VLOOKUP(C3513,Referencias!$C$4:$E$21,3,FALSE())","v":2},"Competición","Asturiana"]
["3471366","García Palacios, Pilar","3D","D",{"$f":"VLOOKUP(C3514,Referencias!$C$4:$D$21,2,FALSE())","v":"Tercera Diamante"},{"$f":"VLOOKUP(I3514,Referencias!$B$24:$C$41,2,FALSE())","v":"CYL"},{"$f":"VLOOKUP(C3514,Referencias!$C$4:$E$21,3,FALSE())","v":3},"Competición","Castilla y León"]
["3471443","García Ortiz, María Concepción","3D","D",{"$f":"VLOOKUP(C3515,Referencias!$C$4:$D$21,2,FALSE())","v":"Tercera Diamante"},{"$f":"VLOOKUP(I3515,Referencias!$B$24:$C$41,2,FALSE())","v":"CYL"},{"$f":"VLOOKUP(C3515,Referencias!$C$4:$E$21,3,FALSE())","v":3},"Competición","Castilla y León"]
["3471445","Rodríguez Rodríguez, María Antonia","3D","D",{"$f":"VLOOKUP(C3516,Referencias!$C$4:$D$21,2,FALSE())","v":"Tercera Diamante"},{"$f":"VLOOKUP(I3516,Referencias!$B$24:$C$41,2,FALSE())","v":"CYL"},{"$f":"VLOOKUP(C3516,Referencias!$C$4:$E$21,3,FALSE())","v":3},"Competición","Castilla y León"]
["3471548","Adán Mena, Isabel María","3D","D",{"$f":"VLOOKUP(C3517,Referencias!$C$4:$D$21,2,FALSE())","v":"Tercera Diamante"},{"$f":"VLOOKUP(I3517,Referencias!$B$24:$C$41,2,FALSE())","v":"CYL"},{"$f":"VLOOKUP(C3517,Referencias!$C$4:$E$21,3,FALSE())","v":3},"Competición","Castilla y León"]
["3551021","Corral Curia, María Carmen","1P","D",{"$f":"VLOOKUP(C3518,Referencias!$C$4:$D$21,2,FALSE())","v":"Primera Picas"},{"$f":"VLOOKUP(I3518,Referencias!$B$24:$C$41,2,FALSE())","v":"CANAR "},{"$f":"VLOOKUP(C3518,Referencias!$C$4:$E$21,3,FALSE())","v":1},"Competición","Canaria"]
["3551022","Mead, Sandra","2C","D",{"$f":"VLOOKUP(C3519,Referencias!$C$4:$D$21,2,FALSE())","v":"Segunda Corazón"},{"$f":"VLOOKUP(I3519,Referencias!$B$24:$C$41,2,FALSE())","v":"CANAR "},{"$f":"VLOOKUP(C3519,Referencias!$C$4:$E$21,3,FALSE())","v":2},"Competición","Canaria"]
["3551025","Poch, Palmira","1P","D",{"$f":"VLOOKUP(C3520,Referencias!$C$4:$D$21,2,FALSE())","v":"Primera Picas"},{"$f":"VLOOKUP(I3520,Referencias!$B$24:$C$41,2,FALSE())","v":"CANAR "},{"$f":"VLOOKUP(C3520,Referencias!$C$4:$E$21,3,FALSE())","v":1},"Competición","Canaria"]
["3551032","González Lamas, Eduardo","1P","C",{"$f":"VLOOKUP(C3521,Referencias!$C$4:$D$21,2,FALSE())","v":"Primera Picas"},{"$f":"VLOOKUP(I3521,Referencias!$B$24:$C$41,2,FALSE())","v":"CANAR "},{"$f":"VLOOKUP(C3521,Referencias!$C$4:$E$21,3,FALSE())","v":1},"Competición","Canaria"]
["3551033","Jiménez Arias, Mari Angeles","2D","D",{"$f":"VLOOKUP(C3522,Referencias!$C$4:$D$21,2,FALSE())","v":"Segunda Diamante"},{"$f":"VLOOKUP(I3522,Referencias!$B$24:$C$41,2,FALSE())","v":"CANAR "},{"$f":"VLOOKUP(C3522,Referencias!$C$4:$E$21,3,FALSE())","v":2},"Competición","Canaria"]
["3551036","Betancor Hernández, Dulce María","2D","D",{"$f":"VLOOKUP(C3523,Referencias!$C$4:$D$21,2,FALSE())","v":"Segunda Diamante"},{"$f":"VLOOKUP(I3523,Referencias!$B$24:$C$41,2,FALSE())","v":"CANAR "},{"$f":"VLOOKUP(C3523,Referencias!$C$4:$E$21,3,FALSE())","v":2},"Competición","Canaria"]
["3551037","Bonny Miranda, María Dolores","1P","D",{"$f":"VLOOKUP(C3524,Referencias!$C$4:$D$21,2,FALSE())","v":"Primera Picas"},{"$f":"VLOOKUP(I3524,Referencias!$B$24:$C$41,2,FALSE())","v":"CANAR "},{"$f":"VLOOKUP(C3524,Referencias!$C$4:$E$21,3,FALSE())","v":1},"Competición","Canaria"]
["3551043","García Díaz, Celia","2D","D",{"$f":"VLOOKUP(C3525,Referencias!$C$4:$D$21,2,FALSE())","v":"Segunda Diamante"},{"$f":"VLOOKUP(I3525,Referencias!$B$24:$C$41,2,FALSE())","v":"CANAR "},{"$f":"VLOOKUP(C3525,Referencias!$C$4:$E$21,3,FALSE())","v":2},"Competición","Canaria"]
["3551057","Jiménez Arias, María del Carmen","3P","D",{"$f":"VLOOKUP(C3526,Referencias!$C$4:$D$21,2,FALSE())","v":"Tercera Picas"},{"$f":"VLOOKUP(I3526,Referencias!$B$24:$C$41,2,FALSE())","v":"CANAR "},{"$f":"VLOOKUP(C3526,Referencias!$C$4:$E$21,3,FALSE())","v":3},"Competición","Canaria"]
["3551069","Taheri, Farzad","1D","C",{"$f":"VLOOKUP(C3527,Referencias!$C$4:$D$21,2,FALSE())","v":"Primera Diamante"},{"$f":"VLOOKUP(I3527,Referencias!$B$24:$C$41,2,FALSE())","v":"CANAR "},{"$f":"VLOOKUP(C3527,Referencias!$C$4:$E$21,3,FALSE())","v":1},"Competición","Canaria"]
["3551075","Rodríguez Sánchez, María Amparo","2D","D",{"$f":"VLOOKUP(C3528,Referencias!$C$4:$D$21,2,FALSE())","v":"Segunda Diamante"},{"$f":"VLOOKUP(I3528,Referencias!$B$24:$C$41,2,FALSE())","v":"CANAR "},{"$f":"VLOOKUP(C3528,Referencias!$C$4:$E$21,3,FALSE())","v":2},"Competición","Canaria"]
["3551076","Moayed de Taheri, Mojdeh","2P","D",{"$f":"VLOOKUP(C3529,Referencias!$C$4:$D$21,2,FALSE())","v":"Segunda Picas"},{"$f":"VLOOKUP(I3529,Referencias!$B$24:$C$41,2,FALSE())","v":"CANAR "},{"$f":"VLOOKUP(C3529,Referencias!$C$4:$E$21,3,FALSE())","v":2},"Competición","Canaria"]
["3551109","Vallejo de la Fe, Teresa","2C","D",{"$f":"VLOOKUP(C3530,Referencias!$C$4:$D$21,2,FALSE())","v":"Segunda Corazón"},{"$f":"VLOOKUP(I3530,Referencias!$B$24:$C$41,2,FALSE())","v":"CANAR "},{"$f":"VLOOKUP(C3530,Referencias!$C$4:$E$21,3,FALSE())","v":2},"Competición","Canaria"]
["3551114","Moragas, Maria Eugenia","3D","D",{"$f":"VLOOKUP(C3531,Referencias!$C$4:$D$21,2,FALSE())","v":"Tercera Diamante"},{"$f":"VLOOKUP(I3531,Referencias!$B$24:$C$41,2,FALSE())","v":"CANAR "},{"$f":"VLOOKUP(C3531,Referencias!$C$4:$E$21,3,FALSE())","v":3},"Competición","Canaria"]
["3551117","Martín-Fdez. de Larrinoa, Amelia","2D","D",{"$f":"VLOOKUP(C3532,Referencias!$C$4:$D$21,2,FALSE())","v":"Segunda Diamante"},{"$f":"VLOOKUP(I3532,Referencias!$B$24:$C$41,2,FALSE())","v":"CANAR "},{"$f":"VLOOKUP(C3532,Referencias!$C$4:$E$21,3,FALSE())","v":2},"Competición","Canaria"]
["3551158","Rodríguez Armas, Elena","3C","D",{"$f":"VLOOKUP(C3533,Referencias!$C$4:$D$21,2,FALSE())","v":"Tercera Corazón"},{"$f":"VLOOKUP(I3533,Referencias!$B$24:$C$41,2,FALSE())","v":"CANAR "},{"$f":"VLOOKUP(C3533,Referencias!$C$4:$E$21,3,FALSE())","v":3},"Competición","Canaria"]
["3551167","Robaina Frias, Mercedes","1C","D",{"$f":"VLOOKUP(C3534,Referencias!$C$4:$D$21,2,FALSE())","v":"Primera Corazón"},{"$f":"VLOOKUP(I3534,Referencias!$B$24:$C$41,2,FALSE())","v":"CANAR "},{"$f":"VLOOKUP(C3534,Referencias!$C$4:$E$21,3,FALSE())","v":1},"Competición","Canaria"]
["3551173","Hinestrosa Navarro, Inés","1P","D",{"$f":"VLOOKUP(C3535,Referencias!$C$4:$D$21,2,FALSE())","v":"Primera Picas"},{"$f":"VLOOKUP(I3535,Referencias!$B$24:$C$41,2,FALSE())","v":"CANAR "},{"$f":"VLOOKUP(C3535,Referencias!$C$4:$E$21,3,FALSE())","v":1},"Competición","Canaria"]
["3551179","Barrera Lujan, María Teresa","2P","D",{"$f":"VLOOKUP(C3536,Referencias!$C$4:$D$21,2,FALSE())","v":"Segunda Picas"},{"$f":"VLOOKUP(I3536,Referencias!$B$24:$C$41,2,FALSE())","v":"CANAR "},{"$f":"VLOOKUP(C3536,Referencias!$C$4:$E$21,3,FALSE())","v":2},"Competición","Canaria"]
["3551197","Rojas-O´Donnell y Martín, Leopoldo","3D","C",{"$f":"VLOOKUP(C3537,Referencias!$C$4:$D$21,2,FALSE())","v":"Tercera Diamante"},{"$f":"VLOOKUP(I3537,Referencias!$B$24:$C$41,2,FALSE())","v":"CANAR "},{"$f":"VLOOKUP(C3537,Referencias!$C$4:$E$21,3,FALSE())","v":3},"Competición","Canaria"]
["3551222","Gómez-Pablos Calvo, Mercedes","1D","D",{"$f":"VLOOKUP(C3538,Referencias!$C$4:$D$21,2,FALSE())","v":"Primera Diamante"},{"$f":"VLOOKUP(I3538,Referencias!$B$24:$C$41,2,FALSE())","v":"CANAR "},{"$f":"VLOOKUP(C3538,Referencias!$C$4:$E$21,3,FALSE())","v":1},"Competición","Canaria"]
["3551231","Cerezo Vicente, María Isabel","2P","D",{"$f":"VLOOKUP(C3539,Referencias!$C$4:$D$21,2,FALSE())","v":"Segunda Picas"},{"$f":"VLOOKUP(I3539,Referencias!$B$24:$C$41,2,FALSE())","v":"CANAR "},{"$f":"VLOOKUP(C3539,Referencias!$C$4:$E$21,3,FALSE())","v":2},"Competición","Canaria"]
["3551234","Sarmiento Acosta, María Eva","2D","D",{"$f":"VLOOKUP(C3540,Referencias!$C$4:$D$21,2,FALSE())","v":"Segunda Diamante"},{"$f":"VLOOKUP(I3540,Referencias!$B$24:$C$41,2,FALSE())","v":"CANAR "},{"$f":"VLOOKUP(C3540,Referencias!$C$4:$E$21,3,FALSE())","v":2},"Competición","Canaria"]
["3551237","Nacher Hernández, Ana María","3P","D",{"$f":"VLOOKUP(C3541,Referencias!$C$4:$D$21,2,FALSE())","v":"Tercera Picas"},{"$f":"VLOOKUP(I3541,Referencias!$B$24:$C$41,2,FALSE())","v":"CANAR "},{"$f":"VLOOKUP(C3541,Referencias!$C$4:$E$21,3,FALSE())","v":3},"Competición","Canaria"]
["3551240","Barros Fernández, María José","2D","D",{"$f":"VLOOKUP(C3542,Referencias!$C$4:$D$21,2,FALSE())","v":"Segunda Diamante"},{"$f":"VLOOKUP(I3542,Referencias!$B$24:$C$41,2,FALSE())","v":"CANAR "},{"$f":"VLOOKUP(C3542,Referencias!$C$4:$E$21,3,FALSE())","v":2},"Competición","Canaria"]
["3551245","Cabrera Montelongo, Josefa","2P","D",{"$f":"VLOOKUP(C3543,Referencias!$C$4:$D$21,2,FALSE())","v":"Segunda Picas"},{"$f":"VLOOKUP(I3543,Referencias!$B$24:$C$41,2,FALSE())","v":"CANAR "},{"$f":"VLOOKUP(C3543,Referencias!$C$4:$E$21,3,FALSE())","v":2},"Competición","Canaria"]
["3551253","Prats Cabrera, Rosa María","2C","D",{"$f":"VLOOKUP(C3544,Referencias!$C$4:$D$21,2,FALSE())","v":"Segunda Corazón"},{"$f":"VLOOKUP(I3544,Referencias!$B$24:$C$41,2,FALSE())","v":"CANAR "},{"$f":"VLOOKUP(C3544,Referencias!$C$4:$E$21,3,FALSE())","v":2},"Competición","Canaria"]
["3551257","López Arias, María Jesús","2P","D",{"$f":"VLOOKUP(C3545,Referencias!$C$4:$D$21,2,FALSE())","v":"Segunda Picas"},{"$f":"VLOOKUP(I3545,Referencias!$B$24:$C$41,2,FALSE())","v":"CANAR "},{"$f":"VLOOKUP(C3545,Referencias!$C$4:$E$21,3,FALSE())","v":2},"Competición","Canaria"]
["3551259","García Bolta, M. Consuelo","3P","D",{"$f":"VLOOKUP(C3546,Referencias!$C$4:$D$21,2,FALSE())","v":"Tercera Picas"},{"$f":"VLOOKUP(I3546,Referencias!$B$24:$C$41,2,FALSE())","v":"CANAR "},{"$f":"VLOOKUP(C3546,Referencias!$C$4:$E$21,3,FALSE())","v":3},"Competición","Canaria"]
["3551273","Toribio Fernández, Emilia","2C","D",{"$f":"VLOOKUP(C3547,Referencias!$C$4:$D$21,2,FALSE())","v":"Segunda Corazón"},{"$f":"VLOOKUP(I3547,Referencias!$B$24:$C$41,2,FALSE())","v":"CANAR "},{"$f":"VLOOKUP(C3547,Referencias!$C$4:$E$21,3,FALSE())","v":2},"Competición","Canaria"]
["3551277","Vázquez Ajuria, Angela","3D","D",{"$f":"VLOOKUP(C3548,Referencias!$C$4:$D$21,2,FALSE())","v":"Tercera Diamante"},{"$f":"VLOOKUP(I3548,Referencias!$B$24:$C$41,2,FALSE())","v":"CANAR "},{"$f":"VLOOKUP(C3548,Referencias!$C$4:$E$21,3,FALSE())","v":3},"Competición","Canaria"]
["3551280","Melian Santana, Dulce María","3C","D",{"$f":"VLOOKUP(C3549,Referencias!$C$4:$D$21,2,FALSE())","v":"Tercera Corazón"},{"$f":"VLOOKUP(I3549,Referencias!$B$24:$C$41,2,FALSE())","v":"CANAR "},{"$f":"VLOOKUP(C3549,Referencias!$C$4:$E$21,3,FALSE())","v":3},"Competición","Canaria"]
["3551301","Macías Bethencourt, Ana Rosa","1D","D",{"$f":"VLOOKUP(C3550,Referencias!$C$4:$D$21,2,FALSE())","v":"Primera Diamante"},{"$f":"VLOOKUP(I3550,Referencias!$B$24:$C$41,2,FALSE())","v":"CANAR "},{"$f":"VLOOKUP(C3550,Referencias!$C$4:$E$21,3,FALSE())","v":1},"Competición","Canaria"]
["3551309","Fuentes Naranjo, Teresa","2P","D",{"$f":"VLOOKUP(C3551,Referencias!$C$4:$D$21,2,FALSE())","v":"Segunda Picas"},{"$f":"VLOOKUP(I3551,Referencias!$B$24:$C$41,2,FALSE())","v":"CANAR "},{"$f":"VLOOKUP(C3551,Referencias!$C$4:$E$21,3,FALSE())","v":2},"Competición","Canaria"]
["3551336","Gutierrez Suarez, Flora","3P","D",{"$f":"VLOOKUP(C3552,Referencias!$C$4:$D$21,2,FALSE())","v":"Tercera Picas"},{"$f":"VLOOKUP(I3552,Referencias!$B$24:$C$41,2,FALSE())","v":"CANAR "},{"$f":"VLOOKUP(C3552,Referencias!$C$4:$E$21,3,FALSE())","v":3},"Competición","Canaria"]
["3551337","Curbelo Araña, Margarita","3D","D",{"$f":"VLOOKUP(C3553,Referencias!$C$4:$D$21,2,FALSE())","v":"Tercera Diamante"},{"$f":"VLOOKUP(I3553,Referencias!$B$24:$C$41,2,FALSE())","v":"CANAR "},{"$f":"VLOOKUP(C3553,Referencias!$C$4:$E$21,3,FALSE())","v":3},"Competición","Canaria"]
["3551342","Lambert, Regina","2C","D",{"$f":"VLOOKUP(C3554,Referencias!$C$4:$D$21,2,FALSE())","v":"Segunda Corazón"},{"$f":"VLOOKUP(I3554,Referencias!$B$24:$C$41,2,FALSE())","v":"CANAR "},{"$f":"VLOOKUP(C3554,Referencias!$C$4:$E$21,3,FALSE())","v":2},"Competición","Canaria"]
["3551345","Gómez García, Mª Carmen","2C","D",{"$f":"VLOOKUP(C3555,Referencias!$C$4:$D$21,2,FALSE())","v":"Segunda Corazón"},{"$f":"VLOOKUP(I3555,Referencias!$B$24:$C$41,2,FALSE())","v":"CANAR "},{"$f":"VLOOKUP(C3555,Referencias!$C$4:$E$21,3,FALSE())","v":2},"Competición","Canaria"]
["3551347","Tavio Toron, Agustin","3D","C",{"$f":"VLOOKUP(C3556,Referencias!$C$4:$D$21,2,FALSE())","v":"Tercera Diamante"},{"$f":"VLOOKUP(I3556,Referencias!$B$24:$C$41,2,FALSE())","v":"CANAR "},{"$f":"VLOOKUP(C3556,Referencias!$C$4:$E$21,3,FALSE())","v":3},"Competición","Canaria"]
["3551350","Suarez Barber, Isabel","3D","D",{"$f":"VLOOKUP(C3557,Referencias!$C$4:$D$21,2,FALSE())","v":"Tercera Diamante"},{"$f":"VLOOKUP(I3557,Referencias!$B$24:$C$41,2,FALSE())","v":"CANAR "},{"$f":"VLOOKUP(C3557,Referencias!$C$4:$E$21,3,FALSE())","v":3},"Competición","Canaria"]
["3551351","Díaz-Saavedra Suárez, Margarita","2C","D",{"$f":"VLOOKUP(C3558,Referencias!$C$4:$D$21,2,FALSE())","v":"Segunda Corazón"},{"$f":"VLOOKUP(I3558,Referencias!$B$24:$C$41,2,FALSE())","v":"CANAR "},{"$f":"VLOOKUP(C3558,Referencias!$C$4:$E$21,3,FALSE())","v":2},"Competición","Canaria"]
["3551354","Marrero Neyra, Mercedes","1D","D",{"$f":"VLOOKUP(C3559,Referencias!$C$4:$D$21,2,FALSE())","v":"Primera Diamante"},{"$f":"VLOOKUP(I3559,Referencias!$B$24:$C$41,2,FALSE())","v":"CANAR "},{"$f":"VLOOKUP(C3559,Referencias!$C$4:$E$21,3,FALSE())","v":1},"Competición","Canaria"]
["3551377","Gallar Marrero, Mª Mercedes","2C","D",{"$f":"VLOOKUP(C3560,Referencias!$C$4:$D$21,2,FALSE())","v":"Segunda Corazón"},{"$f":"VLOOKUP(I3560,Referencias!$B$24:$C$41,2,FALSE())","v":"CANAR "},{"$f":"VLOOKUP(C3560,Referencias!$C$4:$E$21,3,FALSE())","v":2},"Competición","Canaria"]
["3551383","Hernández Haddad, Cristina","1P","D",{"$f":"VLOOKUP(C3561,Referencias!$C$4:$D$21,2,FALSE())","v":"Primera Picas"},{"$f":"VLOOKUP(I3561,Referencias!$B$24:$C$41,2,FALSE())","v":"CANAR "},{"$f":"VLOOKUP(C3561,Referencias!$C$4:$E$21,3,FALSE())","v":1},"Competición","Canaria"]
["3551390","De la Riva Gracia, Amparo","2P","D",{"$f":"VLOOKUP(C3562,Referencias!$C$4:$D$21,2,FALSE())","v":"Segunda Picas"},{"$f":"VLOOKUP(I3562,Referencias!$B$24:$C$41,2,FALSE())","v":"CANAR "},{"$f":"VLOOKUP(C3562,Referencias!$C$4:$E$21,3,FALSE())","v":2},"Competición","Canaria"]
["3551402","Artiles Betancort, Alicia","2P","D",{"$f":"VLOOKUP(C3563,Referencias!$C$4:$D$21,2,FALSE())","v":"Segunda Picas"},{"$f":"VLOOKUP(I3563,Referencias!$B$24:$C$41,2,FALSE())","v":"CANAR "},{"$f":"VLOOKUP(C3563,Referencias!$C$4:$E$21,3,FALSE())","v":2},"Competición","Canaria"]
["3551404","Hassan, Joseph","3P","C",{"$f":"VLOOKUP(C3564,Referencias!$C$4:$D$21,2,FALSE())","v":"Tercera Picas"},{"$f":"VLOOKUP(I3564,Referencias!$B$24:$C$41,2,FALSE())","v":"CANAR "},{"$f":"VLOOKUP(C3564,Referencias!$C$4:$E$21,3,FALSE())","v":3},"Competición","Canaria"]
["3551407","Andreu Pérez, María del Carmen","2D","D",{"$f":"VLOOKUP(C3565,Referencias!$C$4:$D$21,2,FALSE())","v":"Segunda Diamante"},{"$f":"VLOOKUP(I3565,Referencias!$B$24:$C$41,2,FALSE())","v":"CANAR "},{"$f":"VLOOKUP(C3565,Referencias!$C$4:$E$21,3,FALSE())","v":2},"Competición","Canaria"]
["3551421","Mahana Jaber, Carmen","3D","D",{"$f":"VLOOKUP(C3566,Referencias!$C$4:$D$21,2,FALSE())","v":"Tercera Diamante"},{"$f":"VLOOKUP(I3566,Referencias!$B$24:$C$41,2,FALSE())","v":"CANAR "},{"$f":"VLOOKUP(C3566,Referencias!$C$4:$E$21,3,FALSE())","v":3},"Competición","Canaria"]
["3551431","López Arias, María Teresa","3P","D",{"$f":"VLOOKUP(C3567,Referencias!$C$4:$D$21,2,FALSE())","v":"Tercera Picas"},{"$f":"VLOOKUP(I3567,Referencias!$B$24:$C$41,2,FALSE())","v":"CANAR "},{"$f":"VLOOKUP(C3567,Referencias!$C$4:$E$21,3,FALSE())","v":3},"Competición","Canaria"]
["3551433","Méndez Altozano, Carlos","3P","C",{"$f":"VLOOKUP(C3568,Referencias!$C$4:$D$21,2,FALSE())","v":"Tercera Picas"},{"$f":"VLOOKUP(I3568,Referencias!$B$24:$C$41,2,FALSE())","v":"CANAR "},{"$f":"VLOOKUP(C3568,Referencias!$C$4:$E$21,3,FALSE())","v":3},"Competición","Canaria"]
["3551434","Quintana Reyes, Remedios","3D","D",{"$f":"VLOOKUP(C3569,Referencias!$C$4:$D$21,2,FALSE())","v":"Tercera Diamante"},{"$f":"VLOOKUP(I3569,Referencias!$B$24:$C$41,2,FALSE())","v":"CANAR "},{"$f":"VLOOKUP(C3569,Referencias!$C$4:$E$21,3,FALSE())","v":3},"Competición","Canaria"]
["3551454","Sánchez Rodilla, MªTeresa","3P","D",{"$f":"VLOOKUP(C3570,Referencias!$C$4:$D$21,2,FALSE())","v":"Tercera Picas"},{"$f":"VLOOKUP(I3570,Referencias!$B$24:$C$41,2,FALSE())","v":"CANAR "},{"$f":"VLOOKUP(C3570,Referencias!$C$4:$E$21,3,FALSE())","v":3},"Competición","Canaria"]
["3551457","Suarez Lorenzo, Ana","3P","D",{"$f":"VLOOKUP(C3571,Referencias!$C$4:$D$21,2,FALSE())","v":"Tercera Picas"},{"$f":"VLOOKUP(I3571,Referencias!$B$24:$C$41,2,FALSE())","v":"CANAR "},{"$f":"VLOOKUP(C3571,Referencias!$C$4:$E$21,3,FALSE())","v":3},"Competición","Canaria"]
["3551478","Pérez Hernández, Dolores","3C","D",{"$f":"VLOOKUP(C3572,Referencias!$C$4:$D$21,2,FALSE())","v":"Tercera Corazón"},{"$f":"VLOOKUP(I3572,Referencias!$B$24:$C$41,2,FALSE())","v":"CANAR "},{"$f":"VLOOKUP(C3572,Referencias!$C$4:$E$21,3,FALSE())","v":3},"Competición","Canaria"]
["3551481","Maddock, Alan Guy","1P","C",{"$f":"VLOOKUP(C3573,Referencias!$C$4:$D$21,2,FALSE())","v":"Primera Picas"},{"$f":"VLOOKUP(I3573,Referencias!$B$24:$C$41,2,FALSE())","v":"CANAR "},{"$f":"VLOOKUP(C3573,Referencias!$C$4:$E$21,3,FALSE())","v":1},"Competición","Canaria"]
["3551489","González Gil, Gloria","1C","D",{"$f":"VLOOKUP(C3574,Referencias!$C$4:$D$21,2,FALSE())","v":"Primera Corazón"},{"$f":"VLOOKUP(I3574,Referencias!$B$24:$C$41,2,FALSE())","v":"CANAR "},{"$f":"VLOOKUP(C3574,Referencias!$C$4:$E$21,3,FALSE())","v":1},"Competición","Canaria"]
["3551503","Pérez Hernández, Blanca Rosa","3D","D",{"$f":"VLOOKUP(C3575,Referencias!$C$4:$D$21,2,FALSE())","v":"Tercera Diamante"},{"$f":"VLOOKUP(I3575,Referencias!$B$24:$C$41,2,FALSE())","v":"CANAR "},{"$f":"VLOOKUP(C3575,Referencias!$C$4:$E$21,3,FALSE())","v":3},"Competición","Canaria"]
["3551509","Toledo Miranda, Irene","3P","D",{"$f":"VLOOKUP(C3576,Referencias!$C$4:$D$21,2,FALSE())","v":"Tercera Picas"},{"$f":"VLOOKUP(I3576,Referencias!$B$24:$C$41,2,FALSE())","v":"CANAR "},{"$f":"VLOOKUP(C3576,Referencias!$C$4:$E$21,3,FALSE())","v":3},"Competición","Canaria"]
["3551514","Pérez Díaz, Sofía","1P","D",{"$f":"VLOOKUP(C3577,Referencias!$C$4:$D$21,2,FALSE())","v":"Primera Picas"},{"$f":"VLOOKUP(I3577,Referencias!$B$24:$C$41,2,FALSE())","v":"CANAR "},{"$f":"VLOOKUP(C3577,Referencias!$C$4:$E$21,3,FALSE())","v":1},"Competición","Canaria"]
["3551515","Chesa Padrón, Rosario","2C","D",{"$f":"VLOOKUP(C3578,Referencias!$C$4:$D$21,2,FALSE())","v":"Segunda Corazón"},{"$f":"VLOOKUP(I3578,Referencias!$B$24:$C$41,2,FALSE())","v":"CANAR "},{"$f":"VLOOKUP(C3578,Referencias!$C$4:$E$21,3,FALSE())","v":2},"Competición","Canaria"]
["3551521","Ortíz Barber, Mª Pilar","3D","D",{"$f":"VLOOKUP(C3579,Referencias!$C$4:$D$21,2,FALSE())","v":"Tercera Diamante"},{"$f":"VLOOKUP(I3579,Referencias!$B$24:$C$41,2,FALSE())","v":"CANAR "},{"$f":"VLOOKUP(C3579,Referencias!$C$4:$E$21,3,FALSE())","v":3},"Competición","Canaria"]
["3551523","Ferrer Espino, Gloria","3C","D",{"$f":"VLOOKUP(C3580,Referencias!$C$4:$D$21,2,FALSE())","v":"Tercera Corazón"},{"$f":"VLOOKUP(I3580,Referencias!$B$24:$C$41,2,FALSE())","v":"CANAR "},{"$f":"VLOOKUP(C3580,Referencias!$C$4:$E$21,3,FALSE())","v":3},"Competición","Canaria"]
["3551524","Machín Rodríguez, Berta","3P","D",{"$f":"VLOOKUP(C3581,Referencias!$C$4:$D$21,2,FALSE())","v":"Tercera Picas"},{"$f":"VLOOKUP(I3581,Referencias!$B$24:$C$41,2,FALSE())","v":"CANAR "},{"$f":"VLOOKUP(C3581,Referencias!$C$4:$E$21,3,FALSE())","v":3},"Competición","Canaria"]
["3551537","Cabeza Luque, Araceli","3P","D",{"$f":"VLOOKUP(C3582,Referencias!$C$4:$D$21,2,FALSE())","v":"Tercera Picas"},{"$f":"VLOOKUP(I3582,Referencias!$B$24:$C$41,2,FALSE())","v":"CANAR "},{"$f":"VLOOKUP(C3582,Referencias!$C$4:$E$21,3,FALSE())","v":3},"Competición","Canaria"]
["3551542","Larriba Rodriguez, Maribel","2D","D",{"$f":"VLOOKUP(C3583,Referencias!$C$4:$D$21,2,FALSE())","v":"Segunda Diamante"},{"$f":"VLOOKUP(I3583,Referencias!$B$24:$C$41,2,FALSE())","v":"CANAR "},{"$f":"VLOOKUP(C3583,Referencias!$C$4:$E$21,3,FALSE())","v":2},"Competición","Canaria"]
["3551552","Saavedra Alvarado, María Luisa","2C","D",{"$f":"VLOOKUP(C3584,Referencias!$C$4:$D$21,2,FALSE())","v":"Segunda Corazón"},{"$f":"VLOOKUP(I3584,Referencias!$B$24:$C$41,2,FALSE())","v":"CANAR "},{"$f":"VLOOKUP(C3584,Referencias!$C$4:$E$21,3,FALSE())","v":2},"Competición","Canaria"]
["3551558","Molina Martín, Saro","2P","D",{"$f":"VLOOKUP(C3585,Referencias!$C$4:$D$21,2,FALSE())","v":"Segunda Picas"},{"$f":"VLOOKUP(I3585,Referencias!$B$24:$C$41,2,FALSE())","v":"CANAR "},{"$f":"VLOOKUP(C3585,Referencias!$C$4:$E$21,3,FALSE())","v":2},"Competición","Canaria"]
["3551569","Grant Trotz, Janine Patricia","3C","D",{"$f":"VLOOKUP(C3586,Referencias!$C$4:$D$21,2,FALSE())","v":"Tercera Corazón"},{"$f":"VLOOKUP(I3586,Referencias!$B$24:$C$41,2,FALSE())","v":"CANAR "},{"$f":"VLOOKUP(C3586,Referencias!$C$4:$E$21,3,FALSE())","v":3},"Competición","Canaria"]
["3551571","Wolf-Juif, Brigitte","1C","D",{"$f":"VLOOKUP(C3587,Referencias!$C$4:$D$21,2,FALSE())","v":"Primera Corazón"},{"$f":"VLOOKUP(I3587,Referencias!$B$24:$C$41,2,FALSE())","v":"CANAR "},{"$f":"VLOOKUP(C3587,Referencias!$C$4:$E$21,3,FALSE())","v":1},"Competición","Canaria"]
["3551572","Grant, Gisela","3D","D",{"$f":"VLOOKUP(C3588,Referencias!$C$4:$D$21,2,FALSE())","v":"Tercera Diamante"},{"$f":"VLOOKUP(I3588,Referencias!$B$24:$C$41,2,FALSE())","v":"CANAR "},{"$f":"VLOOKUP(C3588,Referencias!$C$4:$E$21,3,FALSE())","v":3},"Competición","Canaria"]
["3551605","Villamor Ramírez, Carmen","3P","D",{"$f":"VLOOKUP(C3589,Referencias!$C$4:$D$21,2,FALSE())","v":"Tercera Picas"},{"$f":"VLOOKUP(I3589,Referencias!$B$24:$C$41,2,FALSE())","v":"CANAR "},{"$f":"VLOOKUP(C3589,Referencias!$C$4:$E$21,3,FALSE())","v":3},"Competición","Canaria"]
["3551608","Bosch Caballero, María del Carmen","2D","D",{"$f":"VLOOKUP(C3590,Referencias!$C$4:$D$21,2,FALSE())","v":"Segunda Diamante"},{"$f":"VLOOKUP(I3590,Referencias!$B$24:$C$41,2,FALSE())","v":"CANAR "},{"$f":"VLOOKUP(C3590,Referencias!$C$4:$E$21,3,FALSE())","v":2},"Competición","Canaria"]
["3551610","Torres Hidalgo, María del Carmen","2C","D",{"$f":"VLOOKUP(C3591,Referencias!$C$4:$D$21,2,FALSE())","v":"Segunda Corazón"},{"$f":"VLOOKUP(I3591,Referencias!$B$24:$C$41,2,FALSE())","v":"CANAR "},{"$f":"VLOOKUP(C3591,Referencias!$C$4:$E$21,3,FALSE())","v":2},"Competición","Canaria"]
["3551612","Ferrer Quintana, María Jesús","1P","D",{"$f":"VLOOKUP(C3592,Referencias!$C$4:$D$21,2,FALSE())","v":"Primera Picas"},{"$f":"VLOOKUP(I3592,Referencias!$B$24:$C$41,2,FALSE())","v":"CANAR "},{"$f":"VLOOKUP(C3592,Referencias!$C$4:$E$21,3,FALSE())","v":1},"Competición","Canaria"]
["3551617","Benítez Suárez, María del Carmen","3D","D",{"$f":"VLOOKUP(C3593,Referencias!$C$4:$D$21,2,FALSE())","v":"Tercera Diamante"},{"$f":"VLOOKUP(I3593,Referencias!$B$24:$C$41,2,FALSE())","v":"CANAR "},{"$f":"VLOOKUP(C3593,Referencias!$C$4:$E$21,3,FALSE())","v":3},"Competición","Canaria"]
["3551618","Eriksson, Tony","2C","C",{"$f":"VLOOKUP(C3594,Referencias!$C$4:$D$21,2,FALSE())","v":"Segunda Corazón"},{"$f":"VLOOKUP(I3594,Referencias!$B$24:$C$41,2,FALSE())","v":"CANAR "},{"$f":"VLOOKUP(C3594,Referencias!$C$4:$E$21,3,FALSE())","v":2},"Competición","Canaria"]
["3551624","Fierro Alvarez, Augusto","3D","C",{"$f":"VLOOKUP(C3595,Referencias!$C$4:$D$21,2,FALSE())","v":"Tercera Diamante"},{"$f":"VLOOKUP(I3595,Referencias!$B$24:$C$41,2,FALSE())","v":"CANAR "},{"$f":"VLOOKUP(C3595,Referencias!$C$4:$E$21,3,FALSE())","v":3},"Competición","Canaria"]
["3551644","Hernández Sánchez, Mª Socorro","3C","D",{"$f":"VLOOKUP(C3596,Referencias!$C$4:$D$21,2,FALSE())","v":"Tercera Corazón"},{"$f":"VLOOKUP(I3596,Referencias!$B$24:$C$41,2,FALSE())","v":"CANAR "},{"$f":"VLOOKUP(C3596,Referencias!$C$4:$E$21,3,FALSE())","v":3},"Competición","Canaria"]
["3551645","Bravo de Laguna y Manrique de Lara, Ana","3C","D",{"$f":"VLOOKUP(C3597,Referencias!$C$4:$D$21,2,FALSE())","v":"Tercera Corazón"},{"$f":"VLOOKUP(I3597,Referencias!$B$24:$C$41,2,FALSE())","v":"CANAR "},{"$f":"VLOOKUP(C3597,Referencias!$C$4:$E$21,3,FALSE())","v":3},"Competición","Canaria"]
["3551647","Rodrigo Alemán, María Victoria","3P","D",{"$f":"VLOOKUP(C3598,Referencias!$C$4:$D$21,2,FALSE())","v":"Tercera Picas"},{"$f":"VLOOKUP(I3598,Referencias!$B$24:$C$41,2,FALSE())","v":"CANAR "},{"$f":"VLOOKUP(C3598,Referencias!$C$4:$E$21,3,FALSE())","v":3},"Competición","Canaria"]
["3551648","González de Chavez Fdez., Magdalena","2C","D",{"$f":"VLOOKUP(C3599,Referencias!$C$4:$D$21,2,FALSE())","v":"Segunda Corazón"},{"$f":"VLOOKUP(I3599,Referencias!$B$24:$C$41,2,FALSE())","v":"CANAR "},{"$f":"VLOOKUP(C3599,Referencias!$C$4:$E$21,3,FALSE())","v":2},"Competición","Canaria"]
["3551651","Oramas Manrique de Lara, Pilar","3C","D",{"$f":"VLOOKUP(C3600,Referencias!$C$4:$D$21,2,FALSE())","v":"Tercera Corazón"},{"$f":"VLOOKUP(I3600,Referencias!$B$24:$C$41,2,FALSE())","v":"CANAR "},{"$f":"VLOOKUP(C3600,Referencias!$C$4:$E$21,3,FALSE())","v":3},"Competición","Canaria"]
["3551652","Navarro Esteva, María Dolores","3C","D",{"$f":"VLOOKUP(C3601,Referencias!$C$4:$D$21,2,FALSE())","v":"Tercera Corazón"},{"$f":"VLOOKUP(I3601,Referencias!$B$24:$C$41,2,FALSE())","v":"CANAR "},{"$f":"VLOOKUP(C3601,Referencias!$C$4:$E$21,3,FALSE())","v":3},"Competición","Canaria"]
["3551653","Navarro Galbán, Jesús","2D","C",{"$f":"VLOOKUP(C3602,Referencias!$C$4:$D$21,2,FALSE())","v":"Segunda Diamante"},{"$f":"VLOOKUP(I3602,Referencias!$B$24:$C$41,2,FALSE())","v":"CANAR "},{"$f":"VLOOKUP(C3602,Referencias!$C$4:$E$21,3,FALSE())","v":2},"Competición","Canaria"]
["3551657","Comps, Rosario","3D","D",{"$f":"VLOOKUP(C3603,Referencias!$C$4:$D$21,2,FALSE())","v":"Tercera Diamante"},{"$f":"VLOOKUP(I3603,Referencias!$B$24:$C$41,2,FALSE())","v":"CANAR "},{"$f":"VLOOKUP(C3603,Referencias!$C$4:$E$21,3,FALSE())","v":3},"Competición","Canaria"]
["3551665","Pérez Morales, María Araceli","3P","D",{"$f":"VLOOKUP(C3604,Referencias!$C$4:$D$21,2,FALSE())","v":"Tercera Picas"},{"$f":"VLOOKUP(I3604,Referencias!$B$24:$C$41,2,FALSE())","v":"CANAR "},{"$f":"VLOOKUP(C3604,Referencias!$C$4:$E$21,3,FALSE())","v":3},"Competición","Canaria"]
["3551666","Chamorro Estevez, Alfonso","1P","C",{"$f":"VLOOKUP(C3605,Referencias!$C$4:$D$21,2,FALSE())","v":"Primera Picas"},{"$f":"VLOOKUP(I3605,Referencias!$B$24:$C$41,2,FALSE())","v":"CANAR "},{"$f":"VLOOKUP(C3605,Referencias!$C$4:$E$21,3,FALSE())","v":1},"Competición","Canaria"]
["3551669","Imholz Martín, Ruth","3C","D",{"$f":"VLOOKUP(C3606,Referencias!$C$4:$D$21,2,FALSE())","v":"Tercera Corazón"},{"$f":"VLOOKUP(I3606,Referencias!$B$24:$C$41,2,FALSE())","v":"CANAR "},{"$f":"VLOOKUP(C3606,Referencias!$C$4:$E$21,3,FALSE())","v":3},"Competición","Canaria"]
["3551670","Mejias Romero, Mª Dolores","2C","D",{"$f":"VLOOKUP(C3607,Referencias!$C$4:$D$21,2,FALSE())","v":"Segunda Corazón"},{"$f":"VLOOKUP(I3607,Referencias!$B$24:$C$41,2,FALSE())","v":"CANAR "},{"$f":"VLOOKUP(C3607,Referencias!$C$4:$E$21,3,FALSE())","v":2},"Competición","Canaria"]
["3551698","Grau del Campo, María Concepción","3C","D",{"$f":"VLOOKUP(C3608,Referencias!$C$4:$D$21,2,FALSE())","v":"Tercera Corazón"},{"$f":"VLOOKUP(I3608,Referencias!$B$24:$C$41,2,FALSE())","v":"CANAR "},{"$f":"VLOOKUP(C3608,Referencias!$C$4:$E$21,3,FALSE())","v":3},"Competición","Canaria"]
["3551699","Acedo Marchena, Dori","3D","D",{"$f":"VLOOKUP(C3609,Referencias!$C$4:$D$21,2,FALSE())","v":"Tercera Diamante"},{"$f":"VLOOKUP(I3609,Referencias!$B$24:$C$41,2,FALSE())","v":"CANAR "},{"$f":"VLOOKUP(C3609,Referencias!$C$4:$E$21,3,FALSE())","v":3},"Competición","Canaria"]
["3551703","Afonso Rodríguez, María Nieves","2C","D",{"$f":"VLOOKUP(C3610,Referencias!$C$4:$D$21,2,FALSE())","v":"Segunda Corazón"},{"$f":"VLOOKUP(I3610,Referencias!$B$24:$C$41,2,FALSE())","v":"CANAR "},{"$f":"VLOOKUP(C3610,Referencias!$C$4:$E$21,3,FALSE())","v":2},"Competición","Canaria"]
["3551704","Rodriguez Jorge, Francisco","2D","C",{"$f":"VLOOKUP(C3611,Referencias!$C$4:$D$21,2,FALSE())","v":"Segunda Diamante"},{"$f":"VLOOKUP(I3611,Referencias!$B$24:$C$41,2,FALSE())","v":"CANAR "},{"$f":"VLOOKUP(C3611,Referencias!$C$4:$E$21,3,FALSE())","v":2},"Competición","Canaria"]
["3551716","Malé, María Luisa","3D","D",{"$f":"VLOOKUP(C3612,Referencias!$C$4:$D$21,2,FALSE())","v":"Tercera Diamante"},{"$f":"VLOOKUP(I3612,Referencias!$B$24:$C$41,2,FALSE())","v":"CANAR "},{"$f":"VLOOKUP(C3612,Referencias!$C$4:$E$21,3,FALSE())","v":3},"Competición","Canaria"]
["3551717","Henriquez Blanco, Joaquin","2D","C",{"$f":"VLOOKUP(C3613,Referencias!$C$4:$D$21,2,FALSE())","v":"Segunda Diamante"},{"$f":"VLOOKUP(I3613,Referencias!$B$24:$C$41,2,FALSE())","v":"CANAR "},{"$f":"VLOOKUP(C3613,Referencias!$C$4:$E$21,3,FALSE())","v":2},"Competición","Canaria"]
["3551718","Alzola Hernández, Marta","2D","D",{"$f":"VLOOKUP(C3614,Referencias!$C$4:$D$21,2,FALSE())","v":"Segunda Diamante"},{"$f":"VLOOKUP(I3614,Referencias!$B$24:$C$41,2,FALSE())","v":"CANAR "},{"$f":"VLOOKUP(C3614,Referencias!$C$4:$E$21,3,FALSE())","v":2},"Competición","Canaria"]
["3551719","Stenlund, Lasse","1D","C",{"$f":"VLOOKUP(C3615,Referencias!$C$4:$D$21,2,FALSE())","v":"Primera Diamante"},{"$f":"VLOOKUP(I3615,Referencias!$B$24:$C$41,2,FALSE())","v":"CANAR "},{"$f":"VLOOKUP(C3615,Referencias!$C$4:$E$21,3,FALSE())","v":1},"Competición","Canaria"]
["3551736","Pérez González, Margarita","3C","D",{"$f":"VLOOKUP(C3616,Referencias!$C$4:$D$21,2,FALSE())","v":"Tercera Corazón"},{"$f":"VLOOKUP(I3616,Referencias!$B$24:$C$41,2,FALSE())","v":"CANAR "},{"$f":"VLOOKUP(C3616,Referencias!$C$4:$E$21,3,FALSE())","v":3},"Competición","Canaria"]
["3551760","Lofberg, Ann","3D","D",{"$f":"VLOOKUP(C3617,Referencias!$C$4:$D$21,2,FALSE())","v":"Tercera Diamante"},{"$f":"VLOOKUP(I3617,Referencias!$B$24:$C$41,2,FALSE())","v":"CANAR "},{"$f":"VLOOKUP(C3617,Referencias!$C$4:$E$21,3,FALSE())","v":3},"Competición","Canaria"]
["3551766","Barreto Pacheco, Trinidad","3D","D",{"$f":"VLOOKUP(C3618,Referencias!$C$4:$D$21,2,FALSE())","v":"Tercera Diamante"},{"$f":"VLOOKUP(I3618,Referencias!$B$24:$C$41,2,FALSE())","v":"CANAR "},{"$f":"VLOOKUP(C3618,Referencias!$C$4:$E$21,3,FALSE())","v":3},"Competición","Canaria"]
["3551767","Reguilón Fajardo, Remedios","3P","D",{"$f":"VLOOKUP(C3619,Referencias!$C$4:$D$21,2,FALSE())","v":"Tercera Picas"},{"$f":"VLOOKUP(I3619,Referencias!$B$24:$C$41,2,FALSE())","v":"CANAR "},{"$f":"VLOOKUP(C3619,Referencias!$C$4:$E$21,3,FALSE())","v":3},"Competición","Canaria"]
["3551772","Karlsen, Sverre","1D","C",{"$f":"VLOOKUP(C3620,Referencias!$C$4:$D$21,2,FALSE())","v":"Primera Diamante"},{"$f":"VLOOKUP(I3620,Referencias!$B$24:$C$41,2,FALSE())","v":"CANAR "},{"$f":"VLOOKUP(C3620,Referencias!$C$4:$E$21,3,FALSE())","v":1},"Competición","Canaria"]
["3551785","Werner, Christer","3P","C",{"$f":"VLOOKUP(C3621,Referencias!$C$4:$D$21,2,FALSE())","v":"Tercera Picas"},{"$f":"VLOOKUP(I3621,Referencias!$B$24:$C$41,2,FALSE())","v":"CANAR "},{"$f":"VLOOKUP(C3621,Referencias!$C$4:$E$21,3,FALSE())","v":3},"Competición","Canaria"]
["3551787","Arcos Hidalgo, María de los Ángeles","1P","D",{"$f":"VLOOKUP(C3622,Referencias!$C$4:$D$21,2,FALSE())","v":"Primera Picas"},{"$f":"VLOOKUP(I3622,Referencias!$B$24:$C$41,2,FALSE())","v":"CANAR "},{"$f":"VLOOKUP(C3622,Referencias!$C$4:$E$21,3,FALSE())","v":1},"Competición","Canaria"]
["3551790","Andreu Pérez, Eugenia","2D","D",{"$f":"VLOOKUP(C3623,Referencias!$C$4:$D$21,2,FALSE())","v":"Segunda Diamante"},{"$f":"VLOOKUP(I3623,Referencias!$B$24:$C$41,2,FALSE())","v":"CANAR "},{"$f":"VLOOKUP(C3623,Referencias!$C$4:$E$21,3,FALSE())","v":2},"Competición","Canaria"]
["3551802","Ferno, Sabine","1P","D",{"$f":"VLOOKUP(C3624,Referencias!$C$4:$D$21,2,FALSE())","v":"Primera Picas"},{"$f":"VLOOKUP(I3624,Referencias!$B$24:$C$41,2,FALSE())","v":"CANAR "},{"$f":"VLOOKUP(C3624,Referencias!$C$4:$E$21,3,FALSE())","v":1},"Competición","Canaria"]
["3551811","García Ormaechea y Quero, Francisco Javier","3D","C",{"$f":"VLOOKUP(C3625,Referencias!$C$4:$D$21,2,FALSE())","v":"Tercera Diamante"},{"$f":"VLOOKUP(I3625,Referencias!$B$24:$C$41,2,FALSE())","v":"CANAR "},{"$f":"VLOOKUP(C3625,Referencias!$C$4:$E$21,3,FALSE())","v":3},"Competición","Canaria"]
["3551823","Caubín Hernández, Rosario","3C","D",{"$f":"VLOOKUP(C3626,Referencias!$C$4:$D$21,2,FALSE())","v":"Tercera Corazón"},{"$f":"VLOOKUP(I3626,Referencias!$B$24:$C$41,2,FALSE())","v":"CANAR "},{"$f":"VLOOKUP(C3626,Referencias!$C$4:$E$21,3,FALSE())","v":3},"Competición","Canaria"]
["3551828","Martín Fernández de Larrinoa, Nandy","3C","C",{"$f":"VLOOKUP(C3627,Referencias!$C$4:$D$21,2,FALSE())","v":"Tercera Corazón"},{"$f":"VLOOKUP(I3627,Referencias!$B$24:$C$41,2,FALSE())","v":"CANAR "},{"$f":"VLOOKUP(C3627,Referencias!$C$4:$E$21,3,FALSE())","v":3},"Competición","Canaria"]
["3551830","Nuñez Gónzalez, José Vicente","2D","C",{"$f":"VLOOKUP(C3628,Referencias!$C$4:$D$21,2,FALSE())","v":"Segunda Diamante"},{"$f":"VLOOKUP(I3628,Referencias!$B$24:$C$41,2,FALSE())","v":"CANAR "},{"$f":"VLOOKUP(C3628,Referencias!$C$4:$E$21,3,FALSE())","v":2},"Competición","Canaria"]
["3551853","Duque de Lara, Manuel Fernando","1D","C",{"$f":"VLOOKUP(C3629,Referencias!$C$4:$D$21,2,FALSE())","v":"Primera Diamante"},{"$f":"VLOOKUP(I3629,Referencias!$B$24:$C$41,2,FALSE())","v":"CANAR "},{"$f":"VLOOKUP(C3629,Referencias!$C$4:$E$21,3,FALSE())","v":1},"Competición","Canaria"]
["3551860","García Martínez, Enrique","3P","C",{"$f":"VLOOKUP(C3630,Referencias!$C$4:$D$21,2,FALSE())","v":"Tercera Picas"},{"$f":"VLOOKUP(I3630,Referencias!$B$24:$C$41,2,FALSE())","v":"CANAR "},{"$f":"VLOOKUP(C3630,Referencias!$C$4:$E$21,3,FALSE())","v":3},"Competición","Canaria"]
["3551865","González León, Mª del Carmen","3P","D",{"$f":"VLOOKUP(C3631,Referencias!$C$4:$D$21,2,FALSE())","v":"Tercera Picas"},{"$f":"VLOOKUP(I3631,Referencias!$B$24:$C$41,2,FALSE())","v":"CANAR "},{"$f":"VLOOKUP(C3631,Referencias!$C$4:$E$21,3,FALSE())","v":3},"Competición","Canaria"]
["3551867","Pettersson, Tommy","3D","C",{"$f":"VLOOKUP(C3632,Referencias!$C$4:$D$21,2,FALSE())","v":"Tercera Diamante"},{"$f":"VLOOKUP(I3632,Referencias!$B$24:$C$41,2,FALSE())","v":"CANAR "},{"$f":"VLOOKUP(C3632,Referencias!$C$4:$E$21,3,FALSE())","v":3},"Competición","Canaria"]
["3551869","Hernández Spinola, Matilde de Rosalía","3D","D",{"$f":"VLOOKUP(C3633,Referencias!$C$4:$D$21,2,FALSE())","v":"Tercera Diamante"},{"$f":"VLOOKUP(I3633,Referencias!$B$24:$C$41,2,FALSE())","v":"CANAR "},{"$f":"VLOOKUP(C3633,Referencias!$C$4:$E$21,3,FALSE())","v":3},"Competición","Canaria"]
["3551870","Hernández Spinola, Mª de los Ángeles","3D","D",{"$f":"VLOOKUP(C3634,Referencias!$C$4:$D$21,2,FALSE())","v":"Tercera Diamante"},{"$f":"VLOOKUP(I3634,Referencias!$B$24:$C$41,2,FALSE())","v":"CANAR "},{"$f":"VLOOKUP(C3634,Referencias!$C$4:$E$21,3,FALSE())","v":3},"Competición","Canaria"]
["3551871","Álvarez Medina, Marta","3D","D",{"$f":"VLOOKUP(C3635,Referencias!$C$4:$D$21,2,FALSE())","v":"Tercera Diamante"},{"$f":"VLOOKUP(I3635,Referencias!$B$24:$C$41,2,FALSE())","v":"CANAR "},{"$f":"VLOOKUP(C3635,Referencias!$C$4:$E$21,3,FALSE())","v":3},"Competición","Canaria"]
["3551873","Salas Torres, Margarita","3C","D",{"$f":"VLOOKUP(C3636,Referencias!$C$4:$D$21,2,FALSE())","v":"Tercera Corazón"},{"$f":"VLOOKUP(I3636,Referencias!$B$24:$C$41,2,FALSE())","v":"CANAR "},{"$f":"VLOOKUP(C3636,Referencias!$C$4:$E$21,3,FALSE())","v":3},"Competición","Canaria"]
["3551874","Vela-Hidalgo Gómez, Blanca","3D","D",{"$f":"VLOOKUP(C3637,Referencias!$C$4:$D$21,2,FALSE())","v":"Tercera Diamante"},{"$f":"VLOOKUP(I3637,Referencias!$B$24:$C$41,2,FALSE())","v":"CANAR "},{"$f":"VLOOKUP(C3637,Referencias!$C$4:$E$21,3,FALSE())","v":3},"Competición","Canaria"]
["3551875","González de Chávez Menéndez, Felicidad","3D","D",{"$f":"VLOOKUP(C3638,Referencias!$C$4:$D$21,2,FALSE())","v":"Tercera Diamante"},{"$f":"VLOOKUP(I3638,Referencias!$B$24:$C$41,2,FALSE())","v":"CANAR "},{"$f":"VLOOKUP(C3638,Referencias!$C$4:$E$21,3,FALSE())","v":3},"Competición","Canaria"]
["3551878","Sanchéz Hernández Francés, Victoria","2D","D",{"$f":"VLOOKUP(C3639,Referencias!$C$4:$D$21,2,FALSE())","v":"Segunda Diamante"},{"$f":"VLOOKUP(I3639,Referencias!$B$24:$C$41,2,FALSE())","v":"CANAR "},{"$f":"VLOOKUP(C3639,Referencias!$C$4:$E$21,3,FALSE())","v":2},"Competición","Canaria"]
["3551879","Goyes Rodríguez, María Isabel","3C","D",{"$f":"VLOOKUP(C3640,Referencias!$C$4:$D$21,2,FALSE())","v":"Tercera Corazón"},{"$f":"VLOOKUP(I3640,Referencias!$B$24:$C$41,2,FALSE())","v":"CANAR "},{"$f":"VLOOKUP(C3640,Referencias!$C$4:$E$21,3,FALSE())","v":3},"Competición","Canaria"]
["3551880","Boudineau Bang, Violette","3C","D",{"$f":"VLOOKUP(C3641,Referencias!$C$4:$D$21,2,FALSE())","v":"Tercera Corazón"},{"$f":"VLOOKUP(I3641,Referencias!$B$24:$C$41,2,FALSE())","v":"CANAR "},{"$f":"VLOOKUP(C3641,Referencias!$C$4:$E$21,3,FALSE())","v":3},"Competición","Canaria"]
["3551884","Dorado Juárez, María Dolores","3C","D",{"$f":"VLOOKUP(C3642,Referencias!$C$4:$D$21,2,FALSE())","v":"Tercera Corazón"},{"$f":"VLOOKUP(I3642,Referencias!$B$24:$C$41,2,FALSE())","v":"CANAR "},{"$f":"VLOOKUP(C3642,Referencias!$C$4:$E$21,3,FALSE())","v":3},"Competición","Canaria"]
["3551885","Nielsen, Hanne","2D","C",{"$f":"VLOOKUP(C3643,Referencias!$C$4:$D$21,2,FALSE())","v":"Segunda Diamante"},{"$f":"VLOOKUP(I3643,Referencias!$B$24:$C$41,2,FALSE())","v":"CANAR "},{"$f":"VLOOKUP(C3643,Referencias!$C$4:$E$21,3,FALSE())","v":2},"Competición","Canaria"]
["3551886","López Cabrera, Marisol","3D","D",{"$f":"VLOOKUP(C3644,Referencias!$C$4:$D$21,2,FALSE())","v":"Tercera Diamante"},{"$f":"VLOOKUP(I3644,Referencias!$B$24:$C$41,2,FALSE())","v":"CANAR "},{"$f":"VLOOKUP(C3644,Referencias!$C$4:$E$21,3,FALSE())","v":3},"Competición","Canaria"]
["3551888","Ocampos Márquez, Ana Graciela","3D","D",{"$f":"VLOOKUP(C3645,Referencias!$C$4:$D$21,2,FALSE())","v":"Tercera Diamante"},{"$f":"VLOOKUP(I3645,Referencias!$B$24:$C$41,2,FALSE())","v":"CANAR "},{"$f":"VLOOKUP(C3645,Referencias!$C$4:$E$21,3,FALSE())","v":3},"Competición","Canaria"]
["3551890","Martín Hernández, María Teresa","3C","D",{"$f":"VLOOKUP(C3646,Referencias!$C$4:$D$21,2,FALSE())","v":"Tercera Corazón"},{"$f":"VLOOKUP(I3646,Referencias!$B$24:$C$41,2,FALSE())","v":"CANAR "},{"$f":"VLOOKUP(C3646,Referencias!$C$4:$E$21,3,FALSE())","v":3},"Competición","Canaria"]
["3551891","García Fuentes, Margarita","3D","D",{"$f":"VLOOKUP(C3647,Referencias!$C$4:$D$21,2,FALSE())","v":"Tercera Diamante"},{"$f":"VLOOKUP(I3647,Referencias!$B$24:$C$41,2,FALSE())","v":"CANAR "},{"$f":"VLOOKUP(C3647,Referencias!$C$4:$E$21,3,FALSE())","v":3},"Competición","Canaria"]
["3551893","González Amador, Carmen Gori","3D","D",{"$f":"VLOOKUP(C3648,Referencias!$C$4:$D$21,2,FALSE())","v":"Tercera Diamante"},{"$f":"VLOOKUP(I3648,Referencias!$B$24:$C$41,2,FALSE())","v":"CANAR "},{"$f":"VLOOKUP(C3648,Referencias!$C$4:$E$21,3,FALSE())","v":3},"Competición","Canaria"]
["3551895","López-Tomasetty Gil, Mari","3D","D",{"$f":"VLOOKUP(C3649,Referencias!$C$4:$D$21,2,FALSE())","v":"Tercera Diamante"},{"$f":"VLOOKUP(I3649,Referencias!$B$24:$C$41,2,FALSE())","v":"CANAR "},{"$f":"VLOOKUP(C3649,Referencias!$C$4:$E$21,3,FALSE())","v":3},"Competición","Canaria"]
["3551897","Lara Sentis, MªTeresa","3C","D",{"$f":"VLOOKUP(C3650,Referencias!$C$4:$D$21,2,FALSE())","v":"Tercera Corazón"},{"$f":"VLOOKUP(I3650,Referencias!$B$24:$C$41,2,FALSE())","v":"CANAR "},{"$f":"VLOOKUP(C3650,Referencias!$C$4:$E$21,3,FALSE())","v":3},"Competición","Canaria"]
["3551898","Ramos Prats, Manuel","3P","C",{"$f":"VLOOKUP(C3651,Referencias!$C$4:$D$21,2,FALSE())","v":"Tercera Picas"},{"$f":"VLOOKUP(I3651,Referencias!$B$24:$C$41,2,FALSE())","v":"CANAR "},{"$f":"VLOOKUP(C3651,Referencias!$C$4:$E$21,3,FALSE())","v":3},"Competición","Canaria"]
["3551899","Maya Díaz de Lezcano, Hortensia","3D","D",{"$f":"VLOOKUP(C3652,Referencias!$C$4:$D$21,2,FALSE())","v":"Tercera Diamante"},{"$f":"VLOOKUP(I3652,Referencias!$B$24:$C$41,2,FALSE())","v":"CANAR "},{"$f":"VLOOKUP(C3652,Referencias!$C$4:$E$21,3,FALSE())","v":3},"Competición","Canaria"]
["3551900","Martín Férnandez de Larrinoa, Katy","3C","D",{"$f":"VLOOKUP(C3653,Referencias!$C$4:$D$21,2,FALSE())","v":"Tercera Corazón"},{"$f":"VLOOKUP(I3653,Referencias!$B$24:$C$41,2,FALSE())","v":"CANAR "},{"$f":"VLOOKUP(C3653,Referencias!$C$4:$E$21,3,FALSE())","v":3},"Competición","Canaria"]
["3551901","Díez Betriu, Carmen","3D","D",{"$f":"VLOOKUP(C3654,Referencias!$C$4:$D$21,2,FALSE())","v":"Tercera Diamante"},{"$f":"VLOOKUP(I3654,Referencias!$B$24:$C$41,2,FALSE())","v":"CANAR "},{"$f":"VLOOKUP(C3654,Referencias!$C$4:$E$21,3,FALSE())","v":3},"Competición","Canaria"]
["3551908","Plans Gómez, José Maria","3P","C",{"$f":"VLOOKUP(C3655,Referencias!$C$4:$D$21,2,FALSE())","v":"Tercera Picas"},{"$f":"VLOOKUP(I3655,Referencias!$B$24:$C$41,2,FALSE())","v":"CANAR "},{"$f":"VLOOKUP(C3655,Referencias!$C$4:$E$21,3,FALSE())","v":3},"Competición","Canaria"]
["3551913","Garcés Pérez, Clara Isabel","3C","D",{"$f":"VLOOKUP(C3656,Referencias!$C$4:$D$21,2,FALSE())","v":"Tercera Corazón"},{"$f":"VLOOKUP(I3656,Referencias!$B$24:$C$41,2,FALSE())","v":"CANAR "},{"$f":"VLOOKUP(C3656,Referencias!$C$4:$E$21,3,FALSE())","v":3},"Competición","Canaria"]
["3551914","Almeida González, Juan Jesús","3D","C",{"$f":"VLOOKUP(C3657,Referencias!$C$4:$D$21,2,FALSE())","v":"Tercera Diamante"},{"$f":"VLOOKUP(I3657,Referencias!$B$24:$C$41,2,FALSE())","v":"CANAR "},{"$f":"VLOOKUP(C3657,Referencias!$C$4:$E$21,3,FALSE())","v":3},"Competición","Canaria"]
["3551917","Pulido, Rosa","3C","D",{"$f":"VLOOKUP(C3658,Referencias!$C$4:$D$21,2,FALSE())","v":"Tercera Corazón"},{"$f":"VLOOKUP(I3658,Referencias!$B$24:$C$41,2,FALSE())","v":"CANAR "},{"$f":"VLOOKUP(C3658,Referencias!$C$4:$E$21,3,FALSE())","v":3},"Competición","Canaria"]
["3551921","Hinestrosa Peco, Manuela","2C","D",{"$f":"VLOOKUP(C3659,Referencias!$C$4:$D$21,2,FALSE())","v":"Segunda Corazón"},{"$f":"VLOOKUP(I3659,Referencias!$B$24:$C$41,2,FALSE())","v":"CANAR "},{"$f":"VLOOKUP(C3659,Referencias!$C$4:$E$21,3,FALSE())","v":2},"Competición","Canaria"]
["3551924","Granados Pérez, Ana María","3D","D",{"$f":"VLOOKUP(C3660,Referencias!$C$4:$D$21,2,FALSE())","v":"Tercera Diamante"},{"$f":"VLOOKUP(I3660,Referencias!$B$24:$C$41,2,FALSE())","v":"CANAR "},{"$f":"VLOOKUP(C3660,Referencias!$C$4:$E$21,3,FALSE())","v":3},"Competición","Canaria"]
["3551926","Parrilla Barrera, María Cristina","3D","D",{"$f":"VLOOKUP(C3661,Referencias!$C$4:$D$21,2,FALSE())","v":"Tercera Diamante"},{"$f":"VLOOKUP(I3661,Referencias!$B$24:$C$41,2,FALSE())","v":"CANAR "},{"$f":"VLOOKUP(C3661,Referencias!$C$4:$E$21,3,FALSE())","v":3},"Competición","Canaria"]
["3551928","Zuasty Toajas, Mercedes","3C","D",{"$f":"VLOOKUP(C3662,Referencias!$C$4:$D$21,2,FALSE())","v":"Tercera Corazón"},{"$f":"VLOOKUP(I3662,Referencias!$B$24:$C$41,2,FALSE())","v":"CANAR "},{"$f":"VLOOKUP(C3662,Referencias!$C$4:$E$21,3,FALSE())","v":3},"Competición","Canaria"]
["3551931","Menéndez González, Mary Carmen","3P","D",{"$f":"VLOOKUP(C3663,Referencias!$C$4:$D$21,2,FALSE())","v":"Tercera Picas"},{"$f":"VLOOKUP(I3663,Referencias!$B$24:$C$41,2,FALSE())","v":"CANAR "},{"$f":"VLOOKUP(C3663,Referencias!$C$4:$E$21,3,FALSE())","v":3},"Competición","Canaria"]
["3551932","Limiñana Hernández, Ana María","3P","D",{"$f":"VLOOKUP(C3664,Referencias!$C$4:$D$21,2,FALSE())","v":"Tercera Picas"},{"$f":"VLOOKUP(I3664,Referencias!$B$24:$C$41,2,FALSE())","v":"CANAR "},{"$f":"VLOOKUP(C3664,Referencias!$C$4:$E$21,3,FALSE())","v":3},"Competición","Canaria"]
["3551942","Gonçalves, José Miguel","1P","C",{"$f":"VLOOKUP(C3665,Referencias!$C$4:$D$21,2,FALSE())","v":"Primera Picas"},{"$f":"VLOOKUP(I3665,Referencias!$B$24:$C$41,2,FALSE())","v":"CANAR "},{"$f":"VLOOKUP(C3665,Referencias!$C$4:$E$21,3,FALSE())","v":1},"Competición","Canaria"]
["3551947","Hernández Domínguez, María Dolores","3C","D",{"$f":"VLOOKUP(C3666,Referencias!$C$4:$D$21,2,FALSE())","v":"Tercera Corazón"},{"$f":"VLOOKUP(I3666,Referencias!$B$24:$C$41,2,FALSE())","v":"CANAR "},{"$f":"VLOOKUP(C3666,Referencias!$C$4:$E$21,3,FALSE())","v":3},"Competición","Canaria"]
["3551948","Hernández Suárez, Rita","3D","D",{"$f":"VLOOKUP(C3667,Referencias!$C$4:$D$21,2,FALSE())","v":"Tercera Diamante"},{"$f":"VLOOKUP(I3667,Referencias!$B$24:$C$41,2,FALSE())","v":"CANAR "},{"$f":"VLOOKUP(C3667,Referencias!$C$4:$E$21,3,FALSE())","v":3},"Competición","Canaria"]
["3551949","Martínez Arroyo Beatutell, Gabriel","3D","C",{"$f":"VLOOKUP(C3668,Referencias!$C$4:$D$21,2,FALSE())","v":"Tercera Diamante"},{"$f":"VLOOKUP(I3668,Referencias!$B$24:$C$41,2,FALSE())","v":"CANAR "},{"$f":"VLOOKUP(C3668,Referencias!$C$4:$E$21,3,FALSE())","v":3},"Competición","Canaria"]
["3551953","Galván Benítez, María","3D","D",{"$f":"VLOOKUP(C3669,Referencias!$C$4:$D$21,2,FALSE())","v":"Tercera Diamante"},{"$f":"VLOOKUP(I3669,Referencias!$B$24:$C$41,2,FALSE())","v":"CANAR "},{"$f":"VLOOKUP(C3669,Referencias!$C$4:$E$21,3,FALSE())","v":3},"Competición","Canaria"]
["3551959","Cabrera Rodríguez, Mª Jesús","3P","D",{"$f":"VLOOKUP(C3670,Referencias!$C$4:$D$21,2,FALSE())","v":"Tercera Picas"},{"$f":"VLOOKUP(I3670,Referencias!$B$24:$C$41,2,FALSE())","v":"CANAR "},{"$f":"VLOOKUP(C3670,Referencias!$C$4:$E$21,3,FALSE())","v":3},"Competición","Canaria"]
["3551960","Beerli Palacio, María Asunción","Sin Categoría","D",{"$f":"VLOOKUP(C3671,Referencias!$C$4:$D$21,2,FALSE())","v":{"$error":"#N/A"}},{"$f":"VLOOKUP(I3671,Referencias!$B$24:$C$41,2,FALSE())","v":"CANAR "},{"$f":"VLOOKUP(C3671,Referencias!$C$4:$E$21,3,FALSE())","v":{"$error":"#N/A"}},"Competición","Canaria"]
["3551963","Pérez Toledo, José Marcial","3P","C",{"$f":"VLOOKUP(C3672,Referencias!$C$4:$D$21,2,FALSE())","v":"Tercera Picas"},{"$f":"VLOOKUP(I3672,Referencias!$B$24:$C$41,2,FALSE())","v":"CANAR "},{"$f":"VLOOKUP(C3672,Referencias!$C$4:$E$21,3,FALSE())","v":3},"Competición","Canaria"]
["3551966","Delgado Quintero, Delfina Francisca","3D","D",{"$f":"VLOOKUP(C3673,Referencias!$C$4:$D$21,2,FALSE())","v":"Tercera Diamante"},{"$f":"VLOOKUP(I3673,Referencias!$B$24:$C$41,2,FALSE())","v":"CANAR "},{"$f":"VLOOKUP(C3673,Referencias!$C$4:$E$21,3,FALSE())","v":3},"Competición","Canaria"]
["3551968","Canning, Michael","2C","C",{"$f":"VLOOKUP(C3674,Referencias!$C$4:$D$21,2,FALSE())","v":"Segunda Corazón"},{"$f":"VLOOKUP(I3674,Referencias!$B$24:$C$41,2,FALSE())","v":"CANAR "},{"$f":"VLOOKUP(C3674,Referencias!$C$4:$E$21,3,FALSE())","v":2},"Competición","Canaria"]
["3551969","Hernández Santana, María Pino","3P","D",{"$f":"VLOOKUP(C3675,Referencias!$C$4:$D$21,2,FALSE())","v":"Tercera Picas"},{"$f":"VLOOKUP(I3675,Referencias!$B$24:$C$41,2,FALSE())","v":"CANAR "},{"$f":"VLOOKUP(C3675,Referencias!$C$4:$E$21,3,FALSE())","v":3},"Competición","Canaria"]
["3551973","Quevedo Mariñón, María Providencia","3D","D",{"$f":"VLOOKUP(C3676,Referencias!$C$4:$D$21,2,FALSE())","v":"Tercera Diamante"},{"$f":"VLOOKUP(I3676,Referencias!$B$24:$C$41,2,FALSE())","v":"CANAR "},{"$f":"VLOOKUP(C3676,Referencias!$C$4:$E$21,3,FALSE())","v":3},"Competición","Canaria"]
["3551974","Llorens Betancor, Lucia","3D","D",{"$f":"VLOOKUP(C3677,Referencias!$C$4:$D$21,2,FALSE())","v":"Tercera Diamante"},{"$f":"VLOOKUP(I3677,Referencias!$B$24:$C$41,2,FALSE())","v":"CANAR "},{"$f":"VLOOKUP(C3677,Referencias!$C$4:$E$21,3,FALSE())","v":3},"Competición","Canaria"]
["3551980","Rizo Arregui, Begoña","3D","D",{"$f":"VLOOKUP(C3678,Referencias!$C$4:$D$21,2,FALSE())","v":"Tercera Diamante"},{"$f":"VLOOKUP(I3678,Referencias!$B$24:$C$41,2,FALSE())","v":"CANAR "},{"$f":"VLOOKUP(C3678,Referencias!$C$4:$E$21,3,FALSE())","v":3},"Competición","Canaria"]
["3551981","Naranjo Suarez, Margarita","3D","D",{"$f":"VLOOKUP(C3679,Referencias!$C$4:$D$21,2,FALSE())","v":"Tercera Diamante"},{"$f":"VLOOKUP(I3679,Referencias!$B$24:$C$41,2,FALSE())","v":"CANAR "},{"$f":"VLOOKUP(C3679,Referencias!$C$4:$E$21,3,FALSE())","v":3},"Competición","Canaria"]
["3551982","Ferrer Sauermann, Isabel","2D","D",{"$f":"VLOOKUP(C3680,Referencias!$C$4:$D$21,2,FALSE())","v":"Segunda Diamante"},{"$f":"VLOOKUP(I3680,Referencias!$B$24:$C$41,2,FALSE())","v":"CANAR "},{"$f":"VLOOKUP(C3680,Referencias!$C$4:$E$21,3,FALSE())","v":2},"Competición","Canaria"]
["3551985","Bordes Caballero, Rosa","3D","D",{"$f":"VLOOKUP(C3681,Referencias!$C$4:$D$21,2,FALSE())","v":"Tercera Diamante"},{"$f":"VLOOKUP(I3681,Referencias!$B$24:$C$41,2,FALSE())","v":"CANAR "},{"$f":"VLOOKUP(C3681,Referencias!$C$4:$E$21,3,FALSE())","v":3},"Competición","Canaria"]
["3551987","Batista Acosta, Eusebio","3C","C",{"$f":"VLOOKUP(C3682,Referencias!$C$4:$D$21,2,FALSE())","v":"Tercera Corazón"},{"$f":"VLOOKUP(I3682,Referencias!$B$24:$C$41,2,FALSE())","v":"CANAR "},{"$f":"VLOOKUP(C3682,Referencias!$C$4:$E$21,3,FALSE())","v":3},"Competición","Canaria"]
["3551988","Cabrera Rodriguez, Flor Angeles","3P","D",{"$f":"VLOOKUP(C3683,Referencias!$C$4:$D$21,2,FALSE())","v":"Tercera Picas"},{"$f":"VLOOKUP(I3683,Referencias!$B$24:$C$41,2,FALSE())","v":"CANAR "},{"$f":"VLOOKUP(C3683,Referencias!$C$4:$E$21,3,FALSE())","v":3},"Competición","Canaria"]
["3551989","Domínguez Arias, Miguel Angel","2D","C",{"$f":"VLOOKUP(C3684,Referencias!$C$4:$D$21,2,FALSE())","v":"Segunda Diamante"},{"$f":"VLOOKUP(I3684,Referencias!$B$24:$C$41,2,FALSE())","v":"CANAR "},{"$f":"VLOOKUP(C3684,Referencias!$C$4:$E$21,3,FALSE())","v":2},"Competición","Canaria"]
["3551991","Padrón Estariol, Celina","3C","D",{"$f":"VLOOKUP(C3685,Referencias!$C$4:$D$21,2,FALSE())","v":"Tercera Corazón"},{"$f":"VLOOKUP(I3685,Referencias!$B$24:$C$41,2,FALSE())","v":"CANAR "},{"$f":"VLOOKUP(C3685,Referencias!$C$4:$E$21,3,FALSE())","v":3},"Competición","Canaria"]
["3551993","de la Torre, Rosario","3D","D",{"$f":"VLOOKUP(C3686,Referencias!$C$4:$D$21,2,FALSE())","v":"Tercera Diamante"},{"$f":"VLOOKUP(I3686,Referencias!$B$24:$C$41,2,FALSE())","v":"CANAR "},{"$f":"VLOOKUP(C3686,Referencias!$C$4:$E$21,3,FALSE())","v":3},"Competición","Canaria"]
["3551995","Sánchez Arancibia, Luz Marina","3D","D",{"$f":"VLOOKUP(C3687,Referencias!$C$4:$D$21,2,FALSE())","v":"Tercera Diamante"},{"$f":"VLOOKUP(I3687,Referencias!$B$24:$C$41,2,FALSE())","v":"CANAR "},{"$f":"VLOOKUP(C3687,Referencias!$C$4:$E$21,3,FALSE())","v":3},"Competición","Canaria"]
["3551996","Gimeno Maza, María Cruz","3C","D",{"$f":"VLOOKUP(C3688,Referencias!$C$4:$D$21,2,FALSE())","v":"Tercera Corazón"},{"$f":"VLOOKUP(I3688,Referencias!$B$24:$C$41,2,FALSE())","v":"CANAR "},{"$f":"VLOOKUP(C3688,Referencias!$C$4:$E$21,3,FALSE())","v":3},"Competición","Canaria"]
["3551999","Sánchez Hernández-Francés, Margarita María","2D","D",{"$f":"VLOOKUP(C3689,Referencias!$C$4:$D$21,2,FALSE())","v":"Segunda Diamante"},{"$f":"VLOOKUP(I3689,Referencias!$B$24:$C$41,2,FALSE())","v":"CANAR "},{"$f":"VLOOKUP(C3689,Referencias!$C$4:$E$21,3,FALSE())","v":2},"Competición","Canaria"]
["3552000","Selga Malet, Jaime","3C","C",{"$f":"VLOOKUP(C3690,Referencias!$C$4:$D$21,2,FALSE())","v":"Tercera Corazón"},{"$f":"VLOOKUP(I3690,Referencias!$B$24:$C$41,2,FALSE())","v":"CANAR "},{"$f":"VLOOKUP(C3690,Referencias!$C$4:$E$21,3,FALSE())","v":3},"Competición","Canaria"]
["3552001","Bonny Miranda, Maria del Carmen","2D","D",{"$f":"VLOOKUP(C3691,Referencias!$C$4:$D$21,2,FALSE())","v":"Segunda Diamante"},{"$f":"VLOOKUP(I3691,Referencias!$B$24:$C$41,2,FALSE())","v":"CANAR "},{"$f":"VLOOKUP(C3691,Referencias!$C$4:$E$21,3,FALSE())","v":2},"Competición","Canaria"]
["3552003","Jubindo De Elizalde , Maria Carmen","2C","D",{"$f":"VLOOKUP(C3692,Referencias!$C$4:$D$21,2,FALSE())","v":"Segunda Corazón"},{"$f":"VLOOKUP(I3692,Referencias!$B$24:$C$41,2,FALSE())","v":"CANAR "},{"$f":"VLOOKUP(C3692,Referencias!$C$4:$E$21,3,FALSE())","v":2},"Competición","Canaria"]
["3552005","Vega Holgado, Raquel","3D","D",{"$f":"VLOOKUP(C3693,Referencias!$C$4:$D$21,2,FALSE())","v":"Tercera Diamante"},{"$f":"VLOOKUP(I3693,Referencias!$B$24:$C$41,2,FALSE())","v":"CANAR "},{"$f":"VLOOKUP(C3693,Referencias!$C$4:$E$21,3,FALSE())","v":3},"Competición","Canaria"]
["3552008","Rodriguez , Pepa Marina","3P","D",{"$f":"VLOOKUP(C3694,Referencias!$C$4:$D$21,2,FALSE())","v":"Tercera Picas"},{"$f":"VLOOKUP(I3694,Referencias!$B$24:$C$41,2,FALSE())","v":"CANAR "},{"$f":"VLOOKUP(C3694,Referencias!$C$4:$E$21,3,FALSE())","v":3},"Competición","Canaria"]
["3552009","Henriquez Blanco, Antonio","3P","C",{"$f":"VLOOKUP(C3695,Referencias!$C$4:$D$21,2,FALSE())","v":"Tercera Picas"},{"$f":"VLOOKUP(I3695,Referencias!$B$24:$C$41,2,FALSE())","v":"CANAR "},{"$f":"VLOOKUP(C3695,Referencias!$C$4:$E$21,3,FALSE())","v":3},"Competición","Canaria"]
["3552010","Ley Bello, Mercedes","3C","D",{"$f":"VLOOKUP(C3696,Referencias!$C$4:$D$21,2,FALSE())","v":"Tercera Corazón"},{"$f":"VLOOKUP(I3696,Referencias!$B$24:$C$41,2,FALSE())","v":"CANAR "},{"$f":"VLOOKUP(C3696,Referencias!$C$4:$E$21,3,FALSE())","v":3},"Competición","Canaria"]
["3552011","Esteban, Amparo","3D","D",{"$f":"VLOOKUP(C3697,Referencias!$C$4:$D$21,2,FALSE())","v":"Tercera Diamante"},{"$f":"VLOOKUP(I3697,Referencias!$B$24:$C$41,2,FALSE())","v":"CANAR "},{"$f":"VLOOKUP(C3697,Referencias!$C$4:$E$21,3,FALSE())","v":3},"Competición","Canaria"]
["3552015","Ferrer Quintana, María del Mar","3C","D",{"$f":"VLOOKUP(C3698,Referencias!$C$4:$D$21,2,FALSE())","v":"Tercera Corazón"},{"$f":"VLOOKUP(I3698,Referencias!$B$24:$C$41,2,FALSE())","v":"CANAR "},{"$f":"VLOOKUP(C3698,Referencias!$C$4:$E$21,3,FALSE())","v":3},"Competición","Canaria"]
["3552016","Cerdá Poch, Maria Mercedes","3D","D",{"$f":"VLOOKUP(C3699,Referencias!$C$4:$D$21,2,FALSE())","v":"Tercera Diamante"},{"$f":"VLOOKUP(I3699,Referencias!$B$24:$C$41,2,FALSE())","v":"CANAR "},{"$f":"VLOOKUP(C3699,Referencias!$C$4:$E$21,3,FALSE())","v":3},"Competición","Canaria"]
["3552017","Normann Adeler, Nora","3D","D",{"$f":"VLOOKUP(C3700,Referencias!$C$4:$D$21,2,FALSE())","v":"Tercera Diamante"},{"$f":"VLOOKUP(I3700,Referencias!$B$24:$C$41,2,FALSE())","v":"CANAR "},{"$f":"VLOOKUP(C3700,Referencias!$C$4:$E$21,3,FALSE())","v":3},"Competición","Canaria"]
["3552018","Marrero Gutiérrez, Africa","3D","D",{"$f":"VLOOKUP(C3701,Referencias!$C$4:$D$21,2,FALSE())","v":"Tercera Diamante"},{"$f":"VLOOKUP(I3701,Referencias!$B$24:$C$41,2,FALSE())","v":"CANAR "},{"$f":"VLOOKUP(C3701,Referencias!$C$4:$E$21,3,FALSE())","v":3},"Competición","Canaria"]
["3552020","Alemán Ramírez, Amparo","3D","D",{"$f":"VLOOKUP(C3702,Referencias!$C$4:$D$21,2,FALSE())","v":"Tercera Diamante"},{"$f":"VLOOKUP(I3702,Referencias!$B$24:$C$41,2,FALSE())","v":"CANAR "},{"$f":"VLOOKUP(C3702,Referencias!$C$4:$E$21,3,FALSE())","v":3},"Competición","Canaria"]
["3552021","Guerra Martínez, Juan Andrés","3D","C",{"$f":"VLOOKUP(C3703,Referencias!$C$4:$D$21,2,FALSE())","v":"Tercera Diamante"},{"$f":"VLOOKUP(I3703,Referencias!$B$24:$C$41,2,FALSE())","v":"CANAR "},{"$f":"VLOOKUP(C3703,Referencias!$C$4:$E$21,3,FALSE())","v":3},"Competición","Canaria"]
["3552022","Zala García, Andrés","3D","C",{"$f":"VLOOKUP(C3704,Referencias!$C$4:$D$21,2,FALSE())","v":"Tercera Diamante"},{"$f":"VLOOKUP(I3704,Referencias!$B$24:$C$41,2,FALSE())","v":"CANAR "},{"$f":"VLOOKUP(C3704,Referencias!$C$4:$E$21,3,FALSE())","v":3},"Competición","Canaria"]
["3552023","Norman, Leif","3D","C",{"$f":"VLOOKUP(C3705,Referencias!$C$4:$D$21,2,FALSE())","v":"Tercera Diamante"},{"$f":"VLOOKUP(I3705,Referencias!$B$24:$C$41,2,FALSE())","v":"CANAR "},{"$f":"VLOOKUP(C3705,Referencias!$C$4:$E$21,3,FALSE())","v":3},"Competición","Canaria"]
["3552024","Nilsson, Kjell-Ake","2D","C",{"$f":"VLOOKUP(C3706,Referencias!$C$4:$D$21,2,FALSE())","v":"Segunda Diamante"},{"$f":"VLOOKUP(I3706,Referencias!$B$24:$C$41,2,FALSE())","v":"CANAR "},{"$f":"VLOOKUP(C3706,Referencias!$C$4:$E$21,3,FALSE())","v":2},"Competición","Canaria"]
["3552026","Monche Maristany, María Victoria","3D","D",{"$f":"VLOOKUP(C3707,Referencias!$C$4:$D$21,2,FALSE())","v":"Tercera Diamante"},{"$f":"VLOOKUP(I3707,Referencias!$B$24:$C$41,2,FALSE())","v":"CANAR "},{"$f":"VLOOKUP(C3707,Referencias!$C$4:$E$21,3,FALSE())","v":3},"Competición","Canaria"]
["3552027","Ekman, Stefan","2C","C",{"$f":"VLOOKUP(C3708,Referencias!$C$4:$D$21,2,FALSE())","v":"Segunda Corazón"},{"$f":"VLOOKUP(I3708,Referencias!$B$24:$C$41,2,FALSE())","v":"CANAR "},{"$f":"VLOOKUP(C3708,Referencias!$C$4:$E$21,3,FALSE())","v":2},"Competición","Canaria"]
["3552028","Vega Benítez, Soraya","3D","D",{"$f":"VLOOKUP(C3709,Referencias!$C$4:$D$21,2,FALSE())","v":"Tercera Diamante"},{"$f":"VLOOKUP(I3709,Referencias!$B$24:$C$41,2,FALSE())","v":"CANAR "},{"$f":"VLOOKUP(C3709,Referencias!$C$4:$E$21,3,FALSE())","v":3},"Competición","Canaria"]
["3552029","Poch Sosa, María","3D","D",{"$f":"VLOOKUP(C3710,Referencias!$C$4:$D$21,2,FALSE())","v":"Tercera Diamante"},{"$f":"VLOOKUP(I3710,Referencias!$B$24:$C$41,2,FALSE())","v":"CANAR "},{"$f":"VLOOKUP(C3710,Referencias!$C$4:$E$21,3,FALSE())","v":3},"Competición","Canaria"]
["3552030","Rodriguez Dias, Rosa","3C","D",{"$f":"VLOOKUP(C3711,Referencias!$C$4:$D$21,2,FALSE())","v":"Tercera Corazón"},{"$f":"VLOOKUP(I3711,Referencias!$B$24:$C$41,2,FALSE())","v":"CANAR "},{"$f":"VLOOKUP(C3711,Referencias!$C$4:$E$21,3,FALSE())","v":3},"Competición","Canaria"]
["3552035","Seljeset , Olav","3P","C",{"$f":"VLOOKUP(C3712,Referencias!$C$4:$D$21,2,FALSE())","v":"Tercera Picas"},{"$f":"VLOOKUP(I3712,Referencias!$B$24:$C$41,2,FALSE())","v":"CANAR "},{"$f":"VLOOKUP(C3712,Referencias!$C$4:$E$21,3,FALSE())","v":3},"Competición","Canaria"]
["3552036","Raines, Marjukka","3C","D",{"$f":"VLOOKUP(C3713,Referencias!$C$4:$D$21,2,FALSE())","v":"Tercera Corazón"},{"$f":"VLOOKUP(I3713,Referencias!$B$24:$C$41,2,FALSE())","v":"CANAR "},{"$f":"VLOOKUP(C3713,Referencias!$C$4:$E$21,3,FALSE())","v":3},"Competición","Canaria"]
["3552038","Maltoni, Gianfranco","3D","C",{"$f":"VLOOKUP(C3714,Referencias!$C$4:$D$21,2,FALSE())","v":"Tercera Diamante"},{"$f":"VLOOKUP(I3714,Referencias!$B$24:$C$41,2,FALSE())","v":"CANAR "},{"$f":"VLOOKUP(C3714,Referencias!$C$4:$E$21,3,FALSE())","v":3},"Competición","Canaria"]
["3552048","Nilsson, Eva","3D","C",{"$f":"VLOOKUP(C3715,Referencias!$C$4:$D$21,2,FALSE())","v":"Tercera Diamante"},{"$f":"VLOOKUP(I3715,Referencias!$B$24:$C$41,2,FALSE())","v":"CANAR "},{"$f":"VLOOKUP(C3715,Referencias!$C$4:$E$21,3,FALSE())","v":3},"Competición","Canaria"]
["3552054","Cuadrado Menéndez, María Belén","3D","D",{"$f":"VLOOKUP(C3716,Referencias!$C$4:$D$21,2,FALSE())","v":"Tercera Diamante"},{"$f":"VLOOKUP(I3716,Referencias!$B$24:$C$41,2,FALSE())","v":"CANAR "},{"$f":"VLOOKUP(C3716,Referencias!$C$4:$E$21,3,FALSE())","v":3},"Competición","Canaria"]
["3552066","Schaeffer, Ana María","3D","D",{"$f":"VLOOKUP(C3717,Referencias!$C$4:$D$21,2,FALSE())","v":"Tercera Diamante"},{"$f":"VLOOKUP(I3717,Referencias!$B$24:$C$41,2,FALSE())","v":"CANAR "},{"$f":"VLOOKUP(C3717,Referencias!$C$4:$E$21,3,FALSE())","v":3},"Competición","Canaria"]
["3552067","Auz Castro, Victor","3D","C",{"$f":"VLOOKUP(C3718,Referencias!$C$4:$D$21,2,FALSE())","v":"Tercera Diamante"},{"$f":"VLOOKUP(I3718,Referencias!$B$24:$C$41,2,FALSE())","v":"CANAR "},{"$f":"VLOOKUP(C3718,Referencias!$C$4:$E$21,3,FALSE())","v":3},"Competición","Canaria"]
["3552074","Soutullo Domínguez, Paula","3D","D",{"$f":"VLOOKUP(C3719,Referencias!$C$4:$D$21,2,FALSE())","v":"Tercera Diamante"},{"$f":"VLOOKUP(I3719,Referencias!$B$24:$C$41,2,FALSE())","v":"CANAR "},{"$f":"VLOOKUP(C3719,Referencias!$C$4:$E$21,3,FALSE())","v":3},"Competición","Canaria"]
["3552075","Benítez Rosario, Luis","3D","C",{"$f":"VLOOKUP(C3720,Referencias!$C$4:$D$21,2,FALSE())","v":"Tercera Diamante"},{"$f":"VLOOKUP(I3720,Referencias!$B$24:$C$41,2,FALSE())","v":"CANAR "},{"$f":"VLOOKUP(C3720,Referencias!$C$4:$E$21,3,FALSE())","v":3},"Competición","Canaria"]
["3552076","Fernández Otero, María Mercedes","3D","D",{"$f":"VLOOKUP(C3721,Referencias!$C$4:$D$21,2,FALSE())","v":"Tercera Diamante"},{"$f":"VLOOKUP(I3721,Referencias!$B$24:$C$41,2,FALSE())","v":"CANAR "},{"$f":"VLOOKUP(C3721,Referencias!$C$4:$E$21,3,FALSE())","v":3},"Competición","Canaria"]
["3552078","Duque de Lara, Ana Victoria","3D","D",{"$f":"VLOOKUP(C3722,Referencias!$C$4:$D$21,2,FALSE())","v":"Tercera Diamante"},{"$f":"VLOOKUP(I3722,Referencias!$B$24:$C$41,2,FALSE())","v":"CANAR "},{"$f":"VLOOKUP(C3722,Referencias!$C$4:$E$21,3,FALSE())","v":3},"Competición","Canaria"]
["3552079","Soutullo Domínguez, Mónica","3D","D",{"$f":"VLOOKUP(C3723,Referencias!$C$4:$D$21,2,FALSE())","v":"Tercera Diamante"},{"$f":"VLOOKUP(I3723,Referencias!$B$24:$C$41,2,FALSE())","v":"CANAR "},{"$f":"VLOOKUP(C3723,Referencias!$C$4:$E$21,3,FALSE())","v":3},"Competición","Canaria"]
["3552081","Per-Olot , Larsson","3D","C",{"$f":"VLOOKUP(C3724,Referencias!$C$4:$D$21,2,FALSE())","v":"Tercera Diamante"},{"$f":"VLOOKUP(I3724,Referencias!$B$24:$C$41,2,FALSE())","v":"CANAR "},{"$f":"VLOOKUP(C3724,Referencias!$C$4:$E$21,3,FALSE())","v":3},"Competición","Canaria"]
["3552083","León Robaina, Carmen","3D","D",{"$f":"VLOOKUP(C3725,Referencias!$C$4:$D$21,2,FALSE())","v":"Tercera Diamante"},{"$f":"VLOOKUP(I3725,Referencias!$B$24:$C$41,2,FALSE())","v":"CANAR "},{"$f":"VLOOKUP(C3725,Referencias!$C$4:$E$21,3,FALSE())","v":3},"Competición","Canaria"]
["3552088","Poch Sosa, Inés","3D","D",{"$f":"VLOOKUP(C3726,Referencias!$C$4:$D$21,2,FALSE())","v":"Tercera Diamante"},{"$f":"VLOOKUP(I3726,Referencias!$B$24:$C$41,2,FALSE())","v":"CANAR "},{"$f":"VLOOKUP(C3726,Referencias!$C$4:$E$21,3,FALSE())","v":3},"Competición","Canaria"]
["3552089","Blancas Suárez, Agustín","3D","C",{"$f":"VLOOKUP(C3727,Referencias!$C$4:$D$21,2,FALSE())","v":"Tercera Diamante"},{"$f":"VLOOKUP(I3727,Referencias!$B$24:$C$41,2,FALSE())","v":"CANAR "},{"$f":"VLOOKUP(C3727,Referencias!$C$4:$E$21,3,FALSE())","v":3},"Competición","Canaria"]
["3552090","Prats Melero, Juan","3D","C",{"$f":"VLOOKUP(C3728,Referencias!$C$4:$D$21,2,FALSE())","v":"Tercera Diamante"},{"$f":"VLOOKUP(I3728,Referencias!$B$24:$C$41,2,FALSE())","v":"CANAR "},{"$f":"VLOOKUP(C3728,Referencias!$C$4:$E$21,3,FALSE())","v":3},"Competición","Canaria"]
["3552091","Hernández Brito, Juana","3D","D",{"$f":"VLOOKUP(C3729,Referencias!$C$4:$D$21,2,FALSE())","v":"Tercera Diamante"},{"$f":"VLOOKUP(I3729,Referencias!$B$24:$C$41,2,FALSE())","v":"CANAR "},{"$f":"VLOOKUP(C3729,Referencias!$C$4:$E$21,3,FALSE())","v":3},"Competición","Canaria"]
["3552101","Robredo López de Maturana, Beatriz","3D","D",{"$f":"VLOOKUP(C3730,Referencias!$C$4:$D$21,2,FALSE())","v":"Tercera Diamante"},{"$f":"VLOOKUP(I3730,Referencias!$B$24:$C$41,2,FALSE())","v":"CANAR "},{"$f":"VLOOKUP(C3730,Referencias!$C$4:$E$21,3,FALSE())","v":3},"Competición","Canaria"]
["3552102","Romero Mur, Pablo Francisco","3D","C",{"$f":"VLOOKUP(C3731,Referencias!$C$4:$D$21,2,FALSE())","v":"Tercera Diamante"},{"$f":"VLOOKUP(I3731,Referencias!$B$24:$C$41,2,FALSE())","v":"CANAR "},{"$f":"VLOOKUP(C3731,Referencias!$C$4:$E$21,3,FALSE())","v":3},"Competición","Canaria"]
["3552103","Hernández Ryan, Tania","3D","D",{"$f":"VLOOKUP(C3732,Referencias!$C$4:$D$21,2,FALSE())","v":"Tercera Diamante"},{"$f":"VLOOKUP(I3732,Referencias!$B$24:$C$41,2,FALSE())","v":"CANAR "},{"$f":"VLOOKUP(C3732,Referencias!$C$4:$E$21,3,FALSE())","v":3},"Competición","Canaria"]
["3552104","Gutiérrez Ramírez, Daniela","3D","D",{"$f":"VLOOKUP(C3733,Referencias!$C$4:$D$21,2,FALSE())","v":"Tercera Diamante"},{"$f":"VLOOKUP(I3733,Referencias!$B$24:$C$41,2,FALSE())","v":"CANAR "},{"$f":"VLOOKUP(C3733,Referencias!$C$4:$E$21,3,FALSE())","v":3},"Junior","Canaria"]
["3552105","Gutiérrez García, Marina","3D","D",{"$f":"VLOOKUP(C3734,Referencias!$C$4:$D$21,2,FALSE())","v":"Tercera Diamante"},{"$f":"VLOOKUP(I3734,Referencias!$B$24:$C$41,2,FALSE())","v":"CANAR "},{"$f":"VLOOKUP(C3734,Referencias!$C$4:$E$21,3,FALSE())","v":3},"Junior","Canaria"]
["3552106","López Torné, Ángel","3D","C",{"$f":"VLOOKUP(C3735,Referencias!$C$4:$D$21,2,FALSE())","v":"Tercera Diamante"},{"$f":"VLOOKUP(I3735,Referencias!$B$24:$C$41,2,FALSE())","v":"CANAR "},{"$f":"VLOOKUP(C3735,Referencias!$C$4:$E$21,3,FALSE())","v":3},"Competición","Canaria"]
["3552107","Moulet García, David","3D","C",{"$f":"VLOOKUP(C3736,Referencias!$C$4:$D$21,2,FALSE())","v":"Tercera Diamante"},{"$f":"VLOOKUP(I3736,Referencias!$B$24:$C$41,2,FALSE())","v":"CANAR "},{"$f":"VLOOKUP(C3736,Referencias!$C$4:$E$21,3,FALSE())","v":3},"Competición","Canaria"]
["3552120","Martínez-Arroyo Beautell, Remy","3D","D",{"$f":"VLOOKUP(C3737,Referencias!$C$4:$D$21,2,FALSE())","v":"Tercera Diamante"},{"$f":"VLOOKUP(I3737,Referencias!$B$24:$C$41,2,FALSE())","v":"CANAR "},{"$f":"VLOOKUP(C3737,Referencias!$C$4:$E$21,3,FALSE())","v":3},"Competición","Canaria"]
["3554002","Moragas de Sánchez, Montserrat","2C","D",{"$f":"VLOOKUP(C3738,Referencias!$C$4:$D$21,2,FALSE())","v":"Segunda Corazón"},{"$f":"VLOOKUP(I3738,Referencias!$B$24:$C$41,2,FALSE())","v":"CANAR "},{"$f":"VLOOKUP(C3738,Referencias!$C$4:$E$21,3,FALSE())","v":2},"Competición","Canaria"]
["3554032","Bosch Caballero, Juan Fco.","2C","C",{"$f":"VLOOKUP(C3739,Referencias!$C$4:$D$21,2,FALSE())","v":"Segunda Corazón"},{"$f":"VLOOKUP(I3739,Referencias!$B$24:$C$41,2,FALSE())","v":"CANAR "},{"$f":"VLOOKUP(C3739,Referencias!$C$4:$E$21,3,FALSE())","v":2},"Competición","Canaria"]
["3554051","Bonny Miranda, Rosa","2C","D",{"$f":"VLOOKUP(C3740,Referencias!$C$4:$D$21,2,FALSE())","v":"Segunda Corazón"},{"$f":"VLOOKUP(I3740,Referencias!$B$24:$C$41,2,FALSE())","v":"CANAR "},{"$f":"VLOOKUP(C3740,Referencias!$C$4:$E$21,3,FALSE())","v":2},"Competición","Canaria"]
["3554057","Martínez-Arroyo Bautell, Cristina","1D","D",{"$f":"VLOOKUP(C3741,Referencias!$C$4:$D$21,2,FALSE())","v":"Primera Diamante"},{"$f":"VLOOKUP(I3741,Referencias!$B$24:$C$41,2,FALSE())","v":"CANAR "},{"$f":"VLOOKUP(C3741,Referencias!$C$4:$E$21,3,FALSE())","v":1},"Competición","Canaria"]
["3631033","Rodríguez Pereira, María Luisa","2P","D",{"$f":"VLOOKUP(C3742,Referencias!$C$4:$D$21,2,FALSE())","v":"Segunda Picas"},{"$f":"VLOOKUP(I3742,Referencias!$B$24:$C$41,2,FALSE())","v":"GAL"},{"$f":"VLOOKUP(C3742,Referencias!$C$4:$E$21,3,FALSE())","v":2},"Competición","Gallega"]
["3631055","Pérez Rodríguez, Mª Luisa","3C","D",{"$f":"VLOOKUP(C3743,Referencias!$C$4:$D$21,2,FALSE())","v":"Tercera Corazón"},{"$f":"VLOOKUP(I3743,Referencias!$B$24:$C$41,2,FALSE())","v":"GAL"},{"$f":"VLOOKUP(C3743,Referencias!$C$4:$E$21,3,FALSE())","v":3},"Competición","Gallega"]
["3631065","Parapar Fernández, Amparo","2D","D",{"$f":"VLOOKUP(C3744,Referencias!$C$4:$D$21,2,FALSE())","v":"Segunda Diamante"},{"$f":"VLOOKUP(I3744,Referencias!$B$24:$C$41,2,FALSE())","v":"GAL"},{"$f":"VLOOKUP(C3744,Referencias!$C$4:$E$21,3,FALSE())","v":2},"Competición","Gallega"]
["3631110","López Gutierrez, María Soledad","3P","D",{"$f":"VLOOKUP(C3745,Referencias!$C$4:$D$21,2,FALSE())","v":"Tercera Picas"},{"$f":"VLOOKUP(I3745,Referencias!$B$24:$C$41,2,FALSE())","v":"GAL"},{"$f":"VLOOKUP(C3745,Referencias!$C$4:$E$21,3,FALSE())","v":3},"Competición","Gallega"]
["3631111","González Fernández, María del Olvido","3C","D",{"$f":"VLOOKUP(C3746,Referencias!$C$4:$D$21,2,FALSE())","v":"Tercera Corazón"},{"$f":"VLOOKUP(I3746,Referencias!$B$24:$C$41,2,FALSE())","v":"GAL"},{"$f":"VLOOKUP(C3746,Referencias!$C$4:$E$21,3,FALSE())","v":3},"Competición","Gallega"]
["3631115","Aparicio, Beatriz G.","3P","D",{"$f":"VLOOKUP(C3747,Referencias!$C$4:$D$21,2,FALSE())","v":"Tercera Picas"},{"$f":"VLOOKUP(I3747,Referencias!$B$24:$C$41,2,FALSE())","v":"GAL"},{"$f":"VLOOKUP(C3747,Referencias!$C$4:$E$21,3,FALSE())","v":3},"Competición","Gallega"]
["3631116","Díaz del Río, Ana","3C","D",{"$f":"VLOOKUP(C3748,Referencias!$C$4:$D$21,2,FALSE())","v":"Tercera Corazón"},{"$f":"VLOOKUP(I3748,Referencias!$B$24:$C$41,2,FALSE())","v":"GAL"},{"$f":"VLOOKUP(C3748,Referencias!$C$4:$E$21,3,FALSE())","v":3},"Competición","Gallega"]
["3631134","Sánchez-Monge Morante, Alvaro","1P","C",{"$f":"VLOOKUP(C3749,Referencias!$C$4:$D$21,2,FALSE())","v":"Primera Picas"},{"$f":"VLOOKUP(I3749,Referencias!$B$24:$C$41,2,FALSE())","v":"GAL"},{"$f":"VLOOKUP(C3749,Referencias!$C$4:$E$21,3,FALSE())","v":1},"Competición","Gallega"]
["3631142","Riveiro Ferreiro, Susana","1D","D",{"$f":"VLOOKUP(C3750,Referencias!$C$4:$D$21,2,FALSE())","v":"Primera Diamante"},{"$f":"VLOOKUP(I3750,Referencias!$B$24:$C$41,2,FALSE())","v":"GAL"},{"$f":"VLOOKUP(C3750,Referencias!$C$4:$E$21,3,FALSE())","v":1},"Competición","Gallega"]
["3631150","Estrada Ibars, Marta","3D","D",{"$f":"VLOOKUP(C3751,Referencias!$C$4:$D$21,2,FALSE())","v":"Tercera Diamante"},{"$f":"VLOOKUP(I3751,Referencias!$B$24:$C$41,2,FALSE())","v":"GAL"},{"$f":"VLOOKUP(C3751,Referencias!$C$4:$E$21,3,FALSE())","v":3},"Competición","Gallega"]
["3631214","Carracedo Martín, Pilar","1D","D",{"$f":"VLOOKUP(C3752,Referencias!$C$4:$D$21,2,FALSE())","v":"Primera Diamante"},{"$f":"VLOOKUP(I3752,Referencias!$B$24:$C$41,2,FALSE())","v":"GAL"},{"$f":"VLOOKUP(C3752,Referencias!$C$4:$E$21,3,FALSE())","v":1},"Competición","Gallega"]
["3631220","Vázquez Alvarez, Marisol","3P","D",{"$f":"VLOOKUP(C3753,Referencias!$C$4:$D$21,2,FALSE())","v":"Tercera Picas"},{"$f":"VLOOKUP(I3753,Referencias!$B$24:$C$41,2,FALSE())","v":"GAL"},{"$f":"VLOOKUP(C3753,Referencias!$C$4:$E$21,3,FALSE())","v":3},"Competición","Gallega"]
["3631240","Rodríguez de Cameans, Gely","1D","D",{"$f":"VLOOKUP(C3754,Referencias!$C$4:$D$21,2,FALSE())","v":"Primera Diamante"},{"$f":"VLOOKUP(I3754,Referencias!$B$24:$C$41,2,FALSE())","v":"GAL"},{"$f":"VLOOKUP(C3754,Referencias!$C$4:$E$21,3,FALSE())","v":1},"Competición","Gallega"]
["3631270","Frade Prado, Adela","3P","D",{"$f":"VLOOKUP(C3755,Referencias!$C$4:$D$21,2,FALSE())","v":"Tercera Picas"},{"$f":"VLOOKUP(I3755,Referencias!$B$24:$C$41,2,FALSE())","v":"GAL"},{"$f":"VLOOKUP(C3755,Referencias!$C$4:$E$21,3,FALSE())","v":3},"Competición","Gallega"]
["3631271","Guerra Arroyo, Justino","1C","C",{"$f":"VLOOKUP(C3756,Referencias!$C$4:$D$21,2,FALSE())","v":"Primera Corazón"},{"$f":"VLOOKUP(I3756,Referencias!$B$24:$C$41,2,FALSE())","v":"GAL"},{"$f":"VLOOKUP(C3756,Referencias!$C$4:$E$21,3,FALSE())","v":1},"Competición","Gallega"]
["3631275","Quirós García, Ramón","1D","C",{"$f":"VLOOKUP(C3757,Referencias!$C$4:$D$21,2,FALSE())","v":"Primera Diamante"},{"$f":"VLOOKUP(I3757,Referencias!$B$24:$C$41,2,FALSE())","v":"C.MAD"},{"$f":"VLOOKUP(C3757,Referencias!$C$4:$E$21,3,FALSE())","v":1},"Competición","Madrileña"]
["3631290","Marcide Castroman, María Ángeles","3C","D",{"$f":"VLOOKUP(C3758,Referencias!$C$4:$D$21,2,FALSE())","v":"Tercera Corazón"},{"$f":"VLOOKUP(I3758,Referencias!$B$24:$C$41,2,FALSE())","v":"GAL"},{"$f":"VLOOKUP(C3758,Referencias!$C$4:$E$21,3,FALSE())","v":3},"Competición","Gallega"]
["3631342","Ferradas, Mª del Carmen","1P","D",{"$f":"VLOOKUP(C3759,Referencias!$C$4:$D$21,2,FALSE())","v":"Primera Picas"},{"$f":"VLOOKUP(I3759,Referencias!$B$24:$C$41,2,FALSE())","v":"GAL"},{"$f":"VLOOKUP(C3759,Referencias!$C$4:$E$21,3,FALSE())","v":1},"Competición","Gallega"]
["3631345","Rodríguez Duran, Fernanda","3P","D",{"$f":"VLOOKUP(C3760,Referencias!$C$4:$D$21,2,FALSE())","v":"Tercera Picas"},{"$f":"VLOOKUP(I3760,Referencias!$B$24:$C$41,2,FALSE())","v":"GAL"},{"$f":"VLOOKUP(C3760,Referencias!$C$4:$E$21,3,FALSE())","v":3},"Competición","Gallega"]
["3631346","Domínguez Vaz, Sabela","1D","D",{"$f":"VLOOKUP(C3761,Referencias!$C$4:$D$21,2,FALSE())","v":"Primera Diamante"},{"$f":"VLOOKUP(I3761,Referencias!$B$24:$C$41,2,FALSE())","v":"GAL"},{"$f":"VLOOKUP(C3761,Referencias!$C$4:$E$21,3,FALSE())","v":1},"Competición","Gallega"]
["3631347","Vizcaino Victoria, Victoria","2D","D",{"$f":"VLOOKUP(C3762,Referencias!$C$4:$D$21,2,FALSE())","v":"Segunda Diamante"},{"$f":"VLOOKUP(I3762,Referencias!$B$24:$C$41,2,FALSE())","v":"GAL"},{"$f":"VLOOKUP(C3762,Referencias!$C$4:$E$21,3,FALSE())","v":2},"Competición","Gallega"]
["3631350","Carrera Covelo, Aurora","1D","D",{"$f":"VLOOKUP(C3763,Referencias!$C$4:$D$21,2,FALSE())","v":"Primera Diamante"},{"$f":"VLOOKUP(I3763,Referencias!$B$24:$C$41,2,FALSE())","v":"GAL"},{"$f":"VLOOKUP(C3763,Referencias!$C$4:$E$21,3,FALSE())","v":1},"Competición","Gallega"]
["3631351","Pérez Fernández, Flor","3P","D",{"$f":"VLOOKUP(C3764,Referencias!$C$4:$D$21,2,FALSE())","v":"Tercera Picas"},{"$f":"VLOOKUP(I3764,Referencias!$B$24:$C$41,2,FALSE())","v":"GAL"},{"$f":"VLOOKUP(C3764,Referencias!$C$4:$E$21,3,FALSE())","v":3},"Competición","Gallega"]
["3631352","Vázquez Zárate, Carmen","1D","D",{"$f":"VLOOKUP(C3765,Referencias!$C$4:$D$21,2,FALSE())","v":"Primera Diamante"},{"$f":"VLOOKUP(I3765,Referencias!$B$24:$C$41,2,FALSE())","v":"GAL"},{"$f":"VLOOKUP(C3765,Referencias!$C$4:$E$21,3,FALSE())","v":1},"Competición","Gallega"]
["3631353","Calvo Vilanova, Noemi","2D","D",{"$f":"VLOOKUP(C3766,Referencias!$C$4:$D$21,2,FALSE())","v":"Segunda Diamante"},{"$f":"VLOOKUP(I3766,Referencias!$B$24:$C$41,2,FALSE())","v":"GAL"},{"$f":"VLOOKUP(C3766,Referencias!$C$4:$E$21,3,FALSE())","v":2},"Competición","Gallega"]
["3631365","Vallejo Cobo, Francisco","3P","C",{"$f":"VLOOKUP(C3767,Referencias!$C$4:$D$21,2,FALSE())","v":"Tercera Picas"},{"$f":"VLOOKUP(I3767,Referencias!$B$24:$C$41,2,FALSE())","v":"GAL"},{"$f":"VLOOKUP(C3767,Referencias!$C$4:$E$21,3,FALSE())","v":3},"Competición","Gallega"]
["3631375","Menéndez Sandoval, María Dolores","3C","D",{"$f":"VLOOKUP(C3768,Referencias!$C$4:$D$21,2,FALSE())","v":"Tercera Corazón"},{"$f":"VLOOKUP(I3768,Referencias!$B$24:$C$41,2,FALSE())","v":"GAL"},{"$f":"VLOOKUP(C3768,Referencias!$C$4:$E$21,3,FALSE())","v":3},"Competición","Gallega"]
["3631380","García Olivares, José","1P","C",{"$f":"VLOOKUP(C3769,Referencias!$C$4:$D$21,2,FALSE())","v":"Primera Picas"},{"$f":"VLOOKUP(I3769,Referencias!$B$24:$C$41,2,FALSE())","v":"GAL"},{"$f":"VLOOKUP(C3769,Referencias!$C$4:$E$21,3,FALSE())","v":1},"Competición","Gallega"]
["3631381","Calviño Casado, María José","1C","D",{"$f":"VLOOKUP(C3770,Referencias!$C$4:$D$21,2,FALSE())","v":"Primera Corazón"},{"$f":"VLOOKUP(I3770,Referencias!$B$24:$C$41,2,FALSE())","v":"GAL"},{"$f":"VLOOKUP(C3770,Referencias!$C$4:$E$21,3,FALSE())","v":1},"Competición","Gallega"]
["3631387","Fernández Rey, Julio José","1P","C",{"$f":"VLOOKUP(C3771,Referencias!$C$4:$D$21,2,FALSE())","v":"Primera Picas"},{"$f":"VLOOKUP(I3771,Referencias!$B$24:$C$41,2,FALSE())","v":"GAL"},{"$f":"VLOOKUP(C3771,Referencias!$C$4:$E$21,3,FALSE())","v":1},"Competición","Gallega"]
["3631390","Estévez Márquez, María del Pilar","3P","D",{"$f":"VLOOKUP(C3772,Referencias!$C$4:$D$21,2,FALSE())","v":"Tercera Picas"},{"$f":"VLOOKUP(I3772,Referencias!$B$24:$C$41,2,FALSE())","v":"GAL"},{"$f":"VLOOKUP(C3772,Referencias!$C$4:$E$21,3,FALSE())","v":3},"Competición","Gallega"]
["3631391","Estevez Marquez, Elisa","3D","D",{"$f":"VLOOKUP(C3773,Referencias!$C$4:$D$21,2,FALSE())","v":"Tercera Diamante"},{"$f":"VLOOKUP(I3773,Referencias!$B$24:$C$41,2,FALSE())","v":"GAL"},{"$f":"VLOOKUP(C3773,Referencias!$C$4:$E$21,3,FALSE())","v":3},"Competición","Gallega"]
["3631407","De la Peña Díez de Vizurrun, Milagro","1D","D",{"$f":"VLOOKUP(C3774,Referencias!$C$4:$D$21,2,FALSE())","v":"Primera Diamante"},{"$f":"VLOOKUP(I3774,Referencias!$B$24:$C$41,2,FALSE())","v":"GAL"},{"$f":"VLOOKUP(C3774,Referencias!$C$4:$E$21,3,FALSE())","v":1},"Competición","Gallega"]
["3631418","Rivas Souto, Aida","2P","D",{"$f":"VLOOKUP(C3775,Referencias!$C$4:$D$21,2,FALSE())","v":"Segunda Picas"},{"$f":"VLOOKUP(I3775,Referencias!$B$24:$C$41,2,FALSE())","v":"GAL"},{"$f":"VLOOKUP(C3775,Referencias!$C$4:$E$21,3,FALSE())","v":2},"Competición","Gallega"]
["3631422","Millana Solórzano, Mariasun","2P","D",{"$f":"VLOOKUP(C3776,Referencias!$C$4:$D$21,2,FALSE())","v":"Segunda Picas"},{"$f":"VLOOKUP(I3776,Referencias!$B$24:$C$41,2,FALSE())","v":"GAL"},{"$f":"VLOOKUP(C3776,Referencias!$C$4:$E$21,3,FALSE())","v":2},"Competición","Gallega"]
["3631423","Martínez de la Escalera Llorca, Isidoro","3C","C",{"$f":"VLOOKUP(C3777,Referencias!$C$4:$D$21,2,FALSE())","v":"Tercera Corazón"},{"$f":"VLOOKUP(I3777,Referencias!$B$24:$C$41,2,FALSE())","v":"GAL"},{"$f":"VLOOKUP(C3777,Referencias!$C$4:$E$21,3,FALSE())","v":3},"Competición","Gallega"]
["3631427","Lafuente Leston, Rosa","3C","D",{"$f":"VLOOKUP(C3778,Referencias!$C$4:$D$21,2,FALSE())","v":"Tercera Corazón"},{"$f":"VLOOKUP(I3778,Referencias!$B$24:$C$41,2,FALSE())","v":"GAL"},{"$f":"VLOOKUP(C3778,Referencias!$C$4:$E$21,3,FALSE())","v":3},"Competición","Gallega"]
["3631440","Barros Parra, Conchi","2C","D",{"$f":"VLOOKUP(C3779,Referencias!$C$4:$D$21,2,FALSE())","v":"Segunda Corazón"},{"$f":"VLOOKUP(I3779,Referencias!$B$24:$C$41,2,FALSE())","v":"GAL"},{"$f":"VLOOKUP(C3779,Referencias!$C$4:$E$21,3,FALSE())","v":2},"Competición","Gallega"]
["3631441","Ramos Lista, Fernando","3D","C",{"$f":"VLOOKUP(C3780,Referencias!$C$4:$D$21,2,FALSE())","v":"Tercera Diamante"},{"$f":"VLOOKUP(I3780,Referencias!$B$24:$C$41,2,FALSE())","v":"GAL"},{"$f":"VLOOKUP(C3780,Referencias!$C$4:$E$21,3,FALSE())","v":3},"Competición","Gallega"]
["3631469","Touza López, Ana","2D","D",{"$f":"VLOOKUP(C3781,Referencias!$C$4:$D$21,2,FALSE())","v":"Segunda Diamante"},{"$f":"VLOOKUP(I3781,Referencias!$B$24:$C$41,2,FALSE())","v":"GAL"},{"$f":"VLOOKUP(C3781,Referencias!$C$4:$E$21,3,FALSE())","v":2},"Competición","Gallega"]
["3631477","Nieto Urrabieta, Mª de las Mercedes","3D","D",{"$f":"VLOOKUP(C3782,Referencias!$C$4:$D$21,2,FALSE())","v":"Tercera Diamante"},{"$f":"VLOOKUP(I3782,Referencias!$B$24:$C$41,2,FALSE())","v":"GAL"},{"$f":"VLOOKUP(C3782,Referencias!$C$4:$E$21,3,FALSE())","v":3},"Competición","Gallega"]
["3631486","Fernández Sánchez, Maria Teresa","3C","D",{"$f":"VLOOKUP(C3783,Referencias!$C$4:$D$21,2,FALSE())","v":"Tercera Corazón"},{"$f":"VLOOKUP(I3783,Referencias!$B$24:$C$41,2,FALSE())","v":"GAL"},{"$f":"VLOOKUP(C3783,Referencias!$C$4:$E$21,3,FALSE())","v":3},"Competición","Gallega"]
["3631487","González Viñas, Mª del Carmen","3C","D",{"$f":"VLOOKUP(C3784,Referencias!$C$4:$D$21,2,FALSE())","v":"Tercera Corazón"},{"$f":"VLOOKUP(I3784,Referencias!$B$24:$C$41,2,FALSE())","v":"GAL"},{"$f":"VLOOKUP(C3784,Referencias!$C$4:$E$21,3,FALSE())","v":3},"Competición","Gallega"]
["3631488","da Silva Pereira de Sousa, José Antonio","1P","C",{"$f":"VLOOKUP(C3785,Referencias!$C$4:$D$21,2,FALSE())","v":"Primera Picas"},{"$f":"VLOOKUP(I3785,Referencias!$B$24:$C$41,2,FALSE())","v":"GAL"},{"$f":"VLOOKUP(C3785,Referencias!$C$4:$E$21,3,FALSE())","v":1},"Competición","Gallega"]
["3631546","Quintanilla Buceta, Mª Victoria","3C","D",{"$f":"VLOOKUP(C3786,Referencias!$C$4:$D$21,2,FALSE())","v":"Tercera Corazón"},{"$f":"VLOOKUP(I3786,Referencias!$B$24:$C$41,2,FALSE())","v":"GAL"},{"$f":"VLOOKUP(C3786,Referencias!$C$4:$E$21,3,FALSE())","v":3},"Competición","Gallega"]
["3631579","Estrada Ibars, Rosa María","2P","D",{"$f":"VLOOKUP(C3787,Referencias!$C$4:$D$21,2,FALSE())","v":"Segunda Picas"},{"$f":"VLOOKUP(I3787,Referencias!$B$24:$C$41,2,FALSE())","v":"GAL"},{"$f":"VLOOKUP(C3787,Referencias!$C$4:$E$21,3,FALSE())","v":2},"Competición","Gallega"]
["3631628","Gil Somorostro, Araceli","1D","D",{"$f":"VLOOKUP(C3788,Referencias!$C$4:$D$21,2,FALSE())","v":"Primera Diamante"},{"$f":"VLOOKUP(I3788,Referencias!$B$24:$C$41,2,FALSE())","v":"GAL"},{"$f":"VLOOKUP(C3788,Referencias!$C$4:$E$21,3,FALSE())","v":1},"Competición","Gallega"]
["3631634","Torres Matos, Enrique","3C","C",{"$f":"VLOOKUP(C3789,Referencias!$C$4:$D$21,2,FALSE())","v":"Tercera Corazón"},{"$f":"VLOOKUP(I3789,Referencias!$B$24:$C$41,2,FALSE())","v":"GAL"},{"$f":"VLOOKUP(C3789,Referencias!$C$4:$E$21,3,FALSE())","v":3},"Competición","Gallega"]
["3631635","Pérez Amaro, Ana","1D","D",{"$f":"VLOOKUP(C3790,Referencias!$C$4:$D$21,2,FALSE())","v":"Primera Diamante"},{"$f":"VLOOKUP(I3790,Referencias!$B$24:$C$41,2,FALSE())","v":"GAL"},{"$f":"VLOOKUP(C3790,Referencias!$C$4:$E$21,3,FALSE())","v":1},"Competición","Gallega"]
["3631637","Noves Sánchez, María Montserrat","3D","D",{"$f":"VLOOKUP(C3791,Referencias!$C$4:$D$21,2,FALSE())","v":"Tercera Diamante"},{"$f":"VLOOKUP(I3791,Referencias!$B$24:$C$41,2,FALSE())","v":"GAL"},{"$f":"VLOOKUP(C3791,Referencias!$C$4:$E$21,3,FALSE())","v":3},"Competición","Gallega"]
["3631644","Eiroa Guillen, Mª Antonia","2C","D",{"$f":"VLOOKUP(C3792,Referencias!$C$4:$D$21,2,FALSE())","v":"Segunda Corazón"},{"$f":"VLOOKUP(I3792,Referencias!$B$24:$C$41,2,FALSE())","v":"GAL"},{"$f":"VLOOKUP(C3792,Referencias!$C$4:$E$21,3,FALSE())","v":2},"Competición","Gallega"]
["3631647","González-Méndez Brandón, Carlos","3C","C",{"$f":"VLOOKUP(C3793,Referencias!$C$4:$D$21,2,FALSE())","v":"Tercera Corazón"},{"$f":"VLOOKUP(I3793,Referencias!$B$24:$C$41,2,FALSE())","v":"GAL"},{"$f":"VLOOKUP(C3793,Referencias!$C$4:$E$21,3,FALSE())","v":3},"Competición","Gallega"]
["3631648","Mariñas Martínez, Reyes","3C","D",{"$f":"VLOOKUP(C3794,Referencias!$C$4:$D$21,2,FALSE())","v":"Tercera Corazón"},{"$f":"VLOOKUP(I3794,Referencias!$B$24:$C$41,2,FALSE())","v":"GAL"},{"$f":"VLOOKUP(C3794,Referencias!$C$4:$E$21,3,FALSE())","v":3},"Competición","Gallega"]
["3631649","Calderón Alcocer, María Teresa","3C","D",{"$f":"VLOOKUP(C3795,Referencias!$C$4:$D$21,2,FALSE())","v":"Tercera Corazón"},{"$f":"VLOOKUP(I3795,Referencias!$B$24:$C$41,2,FALSE())","v":"GAL"},{"$f":"VLOOKUP(C3795,Referencias!$C$4:$E$21,3,FALSE())","v":3},"Competición","Gallega"]
["3631650","Outon Soto, Alicia","3C","D",{"$f":"VLOOKUP(C3796,Referencias!$C$4:$D$21,2,FALSE())","v":"Tercera Corazón"},{"$f":"VLOOKUP(I3796,Referencias!$B$24:$C$41,2,FALSE())","v":"GAL"},{"$f":"VLOOKUP(C3796,Referencias!$C$4:$E$21,3,FALSE())","v":3},"Competición","Gallega"]
["3631652","Silva Guisasola, María José","3C","D",{"$f":"VLOOKUP(C3797,Referencias!$C$4:$D$21,2,FALSE())","v":"Tercera Corazón"},{"$f":"VLOOKUP(I3797,Referencias!$B$24:$C$41,2,FALSE())","v":"GAL"},{"$f":"VLOOKUP(C3797,Referencias!$C$4:$E$21,3,FALSE())","v":3},"Competición","Gallega"]
["3631653","Iribarren Fernández-Rogina, Begoña","3D","D",{"$f":"VLOOKUP(C3798,Referencias!$C$4:$D$21,2,FALSE())","v":"Tercera Diamante"},{"$f":"VLOOKUP(I3798,Referencias!$B$24:$C$41,2,FALSE())","v":"GAL"},{"$f":"VLOOKUP(C3798,Referencias!$C$4:$E$21,3,FALSE())","v":3},"Competición","Gallega"]
["3631659","Iribarren Fernández - Rogina, Carmen","3D","D",{"$f":"VLOOKUP(C3799,Referencias!$C$4:$D$21,2,FALSE())","v":"Tercera Diamante"},{"$f":"VLOOKUP(I3799,Referencias!$B$24:$C$41,2,FALSE())","v":"GAL"},{"$f":"VLOOKUP(C3799,Referencias!$C$4:$E$21,3,FALSE())","v":3},"Competición","Gallega"]
["3631661","Valeiro Mallo, Mª Dolores","2C","D",{"$f":"VLOOKUP(C3800,Referencias!$C$4:$D$21,2,FALSE())","v":"Segunda Corazón"},{"$f":"VLOOKUP(I3800,Referencias!$B$24:$C$41,2,FALSE())","v":"GAL"},{"$f":"VLOOKUP(C3800,Referencias!$C$4:$E$21,3,FALSE())","v":2},"Competición","Gallega"]
["3631662","Vela Nieto, Pikika","3C","D",{"$f":"VLOOKUP(C3801,Referencias!$C$4:$D$21,2,FALSE())","v":"Tercera Corazón"},{"$f":"VLOOKUP(I3801,Referencias!$B$24:$C$41,2,FALSE())","v":"GAL"},{"$f":"VLOOKUP(C3801,Referencias!$C$4:$E$21,3,FALSE())","v":3},"Competición","Gallega"]
["3631663","Dias Silva, Armando","2C","C",{"$f":"VLOOKUP(C3802,Referencias!$C$4:$D$21,2,FALSE())","v":"Segunda Corazón"},{"$f":"VLOOKUP(I3802,Referencias!$B$24:$C$41,2,FALSE())","v":"GAL"},{"$f":"VLOOKUP(C3802,Referencias!$C$4:$E$21,3,FALSE())","v":2},"Competición","Gallega"]
["3631664","Mencía Castro, Julia","2D","D",{"$f":"VLOOKUP(C3803,Referencias!$C$4:$D$21,2,FALSE())","v":"Segunda Diamante"},{"$f":"VLOOKUP(I3803,Referencias!$B$24:$C$41,2,FALSE())","v":"GAL"},{"$f":"VLOOKUP(C3803,Referencias!$C$4:$E$21,3,FALSE())","v":2},"Competición","Gallega"]
["3631665","Herrero Padín, Mercedes","3C","D",{"$f":"VLOOKUP(C3804,Referencias!$C$4:$D$21,2,FALSE())","v":"Tercera Corazón"},{"$f":"VLOOKUP(I3804,Referencias!$B$24:$C$41,2,FALSE())","v":"GAL"},{"$f":"VLOOKUP(C3804,Referencias!$C$4:$E$21,3,FALSE())","v":3},"Competición","Gallega"]
["3631666","Martínez Barros, Mary Luz","1C","D",{"$f":"VLOOKUP(C3805,Referencias!$C$4:$D$21,2,FALSE())","v":"Primera Corazón"},{"$f":"VLOOKUP(I3805,Referencias!$B$24:$C$41,2,FALSE())","v":"GAL"},{"$f":"VLOOKUP(C3805,Referencias!$C$4:$E$21,3,FALSE())","v":1},"Competición","Gallega"]
["3631667","Vila Rodríguez, Inés","3D","D",{"$f":"VLOOKUP(C3806,Referencias!$C$4:$D$21,2,FALSE())","v":"Tercera Diamante"},{"$f":"VLOOKUP(I3806,Referencias!$B$24:$C$41,2,FALSE())","v":"GAL"},{"$f":"VLOOKUP(C3806,Referencias!$C$4:$E$21,3,FALSE())","v":3},"Competición","Gallega"]
["3631672","Pérez Arlucea, Marta","3P","D",{"$f":"VLOOKUP(C3807,Referencias!$C$4:$D$21,2,FALSE())","v":"Tercera Picas"},{"$f":"VLOOKUP(I3807,Referencias!$B$24:$C$41,2,FALSE())","v":"GAL"},{"$f":"VLOOKUP(C3807,Referencias!$C$4:$E$21,3,FALSE())","v":3},"Competición","Gallega"]
["3631680","Martínez Martín, Margarita Iris","2D","D",{"$f":"VLOOKUP(C3808,Referencias!$C$4:$D$21,2,FALSE())","v":"Segunda Diamante"},{"$f":"VLOOKUP(I3808,Referencias!$B$24:$C$41,2,FALSE())","v":"GAL"},{"$f":"VLOOKUP(C3808,Referencias!$C$4:$E$21,3,FALSE())","v":2},"Competición","Gallega"]
["3631682","Sarmento, Paulo","1P","C",{"$f":"VLOOKUP(C3809,Referencias!$C$4:$D$21,2,FALSE())","v":"Primera Picas"},{"$f":"VLOOKUP(I3809,Referencias!$B$24:$C$41,2,FALSE())","v":"AEB"},{"$f":"VLOOKUP(C3809,Referencias!$C$4:$E$21,3,FALSE())","v":1},"Competición","AEB"]
["3631703","Nogueira Fernández, Marta","1P","D",{"$f":"VLOOKUP(C3810,Referencias!$C$4:$D$21,2,FALSE())","v":"Primera Picas"},{"$f":"VLOOKUP(I3810,Referencias!$B$24:$C$41,2,FALSE())","v":"GAL"},{"$f":"VLOOKUP(C3810,Referencias!$C$4:$E$21,3,FALSE())","v":1},"Competición","Gallega"]
["3631708","Román Estévez, María Jesús","2D","D",{"$f":"VLOOKUP(C3811,Referencias!$C$4:$D$21,2,FALSE())","v":"Segunda Diamante"},{"$f":"VLOOKUP(I3811,Referencias!$B$24:$C$41,2,FALSE())","v":"GAL"},{"$f":"VLOOKUP(C3811,Referencias!$C$4:$E$21,3,FALSE())","v":2},"Competición","Gallega"]
["3631710","Malpica Saleta, Manuela","2C","D",{"$f":"VLOOKUP(C3812,Referencias!$C$4:$D$21,2,FALSE())","v":"Segunda Corazón"},{"$f":"VLOOKUP(I3812,Referencias!$B$24:$C$41,2,FALSE())","v":"GAL"},{"$f":"VLOOKUP(C3812,Referencias!$C$4:$E$21,3,FALSE())","v":2},"Competición","Gallega"]
["3631711","Santamaría de Anta, Isabel","3P","D",{"$f":"VLOOKUP(C3813,Referencias!$C$4:$D$21,2,FALSE())","v":"Tercera Picas"},{"$f":"VLOOKUP(I3813,Referencias!$B$24:$C$41,2,FALSE())","v":"GAL"},{"$f":"VLOOKUP(C3813,Referencias!$C$4:$E$21,3,FALSE())","v":3},"Competición","Gallega"]
["3631712","Legorburu Juaristi, M. Aranzazu","2C","D",{"$f":"VLOOKUP(C3814,Referencias!$C$4:$D$21,2,FALSE())","v":"Segunda Corazón"},{"$f":"VLOOKUP(I3814,Referencias!$B$24:$C$41,2,FALSE())","v":"GAL"},{"$f":"VLOOKUP(C3814,Referencias!$C$4:$E$21,3,FALSE())","v":2},"Competición","Gallega"]
["3631714","Moreno García, Alberto","1C","C",{"$f":"VLOOKUP(C3815,Referencias!$C$4:$D$21,2,FALSE())","v":"Primera Corazón"},{"$f":"VLOOKUP(I3815,Referencias!$B$24:$C$41,2,FALSE())","v":"GAL"},{"$f":"VLOOKUP(C3815,Referencias!$C$4:$E$21,3,FALSE())","v":1},"Competición","Gallega"]
["3631715","Bermúdez de la Puente Glz. Del Valle, María Teresa","2C","D",{"$f":"VLOOKUP(C3816,Referencias!$C$4:$D$21,2,FALSE())","v":"Segunda Corazón"},{"$f":"VLOOKUP(I3816,Referencias!$B$24:$C$41,2,FALSE())","v":"GAL"},{"$f":"VLOOKUP(C3816,Referencias!$C$4:$E$21,3,FALSE())","v":2},"Competición","Gallega"]
["3631716","Fortes Gago, Mª Nela","2D","D",{"$f":"VLOOKUP(C3817,Referencias!$C$4:$D$21,2,FALSE())","v":"Segunda Diamante"},{"$f":"VLOOKUP(I3817,Referencias!$B$24:$C$41,2,FALSE())","v":"GAL"},{"$f":"VLOOKUP(C3817,Referencias!$C$4:$E$21,3,FALSE())","v":2},"Competición","Gallega"]
["3631725","Atienza Mena, Maria Luisa","3D","D",{"$f":"VLOOKUP(C3818,Referencias!$C$4:$D$21,2,FALSE())","v":"Tercera Diamante"},{"$f":"VLOOKUP(I3818,Referencias!$B$24:$C$41,2,FALSE())","v":"GAL"},{"$f":"VLOOKUP(C3818,Referencias!$C$4:$E$21,3,FALSE())","v":3},"Competición","Gallega"]
["3631726","Gesteiro Conde, Adoración","3D","D",{"$f":"VLOOKUP(C3819,Referencias!$C$4:$D$21,2,FALSE())","v":"Tercera Diamante"},{"$f":"VLOOKUP(I3819,Referencias!$B$24:$C$41,2,FALSE())","v":"GAL"},{"$f":"VLOOKUP(C3819,Referencias!$C$4:$E$21,3,FALSE())","v":3},"Competición","Gallega"]
["3631727","Villamarín del Pozo, Mªaría del Rosario","3C","D",{"$f":"VLOOKUP(C3820,Referencias!$C$4:$D$21,2,FALSE())","v":"Tercera Corazón"},{"$f":"VLOOKUP(I3820,Referencias!$B$24:$C$41,2,FALSE())","v":"GAL"},{"$f":"VLOOKUP(C3820,Referencias!$C$4:$E$21,3,FALSE())","v":3},"Competición","Gallega"]
["3631729","Ibars Barrera, María Rosa","3P","D",{"$f":"VLOOKUP(C3821,Referencias!$C$4:$D$21,2,FALSE())","v":"Tercera Picas"},{"$f":"VLOOKUP(I3821,Referencias!$B$24:$C$41,2,FALSE())","v":"GAL"},{"$f":"VLOOKUP(C3821,Referencias!$C$4:$E$21,3,FALSE())","v":3},"Competición","Gallega"]
["3631745","Carreira Díaz, María José","3D","D",{"$f":"VLOOKUP(C3822,Referencias!$C$4:$D$21,2,FALSE())","v":"Tercera Diamante"},{"$f":"VLOOKUP(I3822,Referencias!$B$24:$C$41,2,FALSE())","v":"GAL"},{"$f":"VLOOKUP(C3822,Referencias!$C$4:$E$21,3,FALSE())","v":3},"Competición","Gallega"]
["3631789","Fernández Brión, Olga","3D","D",{"$f":"VLOOKUP(C3823,Referencias!$C$4:$D$21,2,FALSE())","v":"Tercera Diamante"},{"$f":"VLOOKUP(I3823,Referencias!$B$24:$C$41,2,FALSE())","v":"GAL"},{"$f":"VLOOKUP(C3823,Referencias!$C$4:$E$21,3,FALSE())","v":3},"Competición","Gallega"]
["3631790","Curbera Bandin, Enrique","2D","C",{"$f":"VLOOKUP(C3824,Referencias!$C$4:$D$21,2,FALSE())","v":"Segunda Diamante"},{"$f":"VLOOKUP(I3824,Referencias!$B$24:$C$41,2,FALSE())","v":"GAL"},{"$f":"VLOOKUP(C3824,Referencias!$C$4:$E$21,3,FALSE())","v":2},"Competición","Gallega"]
["3631791","García Senra, Cristina","1D","D",{"$f":"VLOOKUP(C3825,Referencias!$C$4:$D$21,2,FALSE())","v":"Primera Diamante"},{"$f":"VLOOKUP(I3825,Referencias!$B$24:$C$41,2,FALSE())","v":"GAL"},{"$f":"VLOOKUP(C3825,Referencias!$C$4:$E$21,3,FALSE())","v":1},"Competición","Gallega"]
["3631792","Martínez Varela, María Gloria","1D","D",{"$f":"VLOOKUP(C3826,Referencias!$C$4:$D$21,2,FALSE())","v":"Primera Diamante"},{"$f":"VLOOKUP(I3826,Referencias!$B$24:$C$41,2,FALSE())","v":"GAL"},{"$f":"VLOOKUP(C3826,Referencias!$C$4:$E$21,3,FALSE())","v":1},"Competición","Gallega"]
["3631800","Rivas Rodríguez, María Teresa","2D","D",{"$f":"VLOOKUP(C3827,Referencias!$C$4:$D$21,2,FALSE())","v":"Segunda Diamante"},{"$f":"VLOOKUP(I3827,Referencias!$B$24:$C$41,2,FALSE())","v":"GAL"},{"$f":"VLOOKUP(C3827,Referencias!$C$4:$E$21,3,FALSE())","v":2},"Competición","Gallega"]
["3631801","García-Durán Gárate, Leopoldo","1P","C",{"$f":"VLOOKUP(C3828,Referencias!$C$4:$D$21,2,FALSE())","v":"Primera Picas"},{"$f":"VLOOKUP(I3828,Referencias!$B$24:$C$41,2,FALSE())","v":"GAL"},{"$f":"VLOOKUP(C3828,Referencias!$C$4:$E$21,3,FALSE())","v":1},"Competición","Gallega"]
["3631802","Tornos Martín-Fernández, Macarena","3C","D",{"$f":"VLOOKUP(C3829,Referencias!$C$4:$D$21,2,FALSE())","v":"Tercera Corazón"},{"$f":"VLOOKUP(I3829,Referencias!$B$24:$C$41,2,FALSE())","v":"GAL"},{"$f":"VLOOKUP(C3829,Referencias!$C$4:$E$21,3,FALSE())","v":3},"Competición","Gallega"]
["3631822","Fokker De Baer, Helen-Joan","3D","D",{"$f":"VLOOKUP(C3830,Referencias!$C$4:$D$21,2,FALSE())","v":"Tercera Diamante"},{"$f":"VLOOKUP(I3830,Referencias!$B$24:$C$41,2,FALSE())","v":"GAL"},{"$f":"VLOOKUP(C3830,Referencias!$C$4:$E$21,3,FALSE())","v":3},"Competición","Gallega"]
["3631823","Dávila Millán, Ángeles","3D","D",{"$f":"VLOOKUP(C3831,Referencias!$C$4:$D$21,2,FALSE())","v":"Tercera Diamante"},{"$f":"VLOOKUP(I3831,Referencias!$B$24:$C$41,2,FALSE())","v":"GAL"},{"$f":"VLOOKUP(C3831,Referencias!$C$4:$E$21,3,FALSE())","v":3},"Competición","Gallega"]
["3631824","Jiménez Prieto, José Carlos","3C","C",{"$f":"VLOOKUP(C3832,Referencias!$C$4:$D$21,2,FALSE())","v":"Tercera Corazón"},{"$f":"VLOOKUP(I3832,Referencias!$B$24:$C$41,2,FALSE())","v":"GAL"},{"$f":"VLOOKUP(C3832,Referencias!$C$4:$E$21,3,FALSE())","v":3},"Competición","Gallega"]
["3631933","Campos, Pedro","1P","C",{"$f":"VLOOKUP(C3833,Referencias!$C$4:$D$21,2,FALSE())","v":"Primera Picas"},{"$f":"VLOOKUP(I3833,Referencias!$B$24:$C$41,2,FALSE())","v":"GAL"},{"$f":"VLOOKUP(C3833,Referencias!$C$4:$E$21,3,FALSE())","v":1},"Competición","Gallega"]
["3631935","Sandar Nuñez, José","3P","C",{"$f":"VLOOKUP(C3834,Referencias!$C$4:$D$21,2,FALSE())","v":"Tercera Picas"},{"$f":"VLOOKUP(I3834,Referencias!$B$24:$C$41,2,FALSE())","v":"GAL"},{"$f":"VLOOKUP(C3834,Referencias!$C$4:$E$21,3,FALSE())","v":3},"Competición","Gallega"]
["3631937","De Agustin Vázquez, Alvaro","3C","C",{"$f":"VLOOKUP(C3835,Referencias!$C$4:$D$21,2,FALSE())","v":"Tercera Corazón"},{"$f":"VLOOKUP(I3835,Referencias!$B$24:$C$41,2,FALSE())","v":"GAL"},{"$f":"VLOOKUP(C3835,Referencias!$C$4:$E$21,3,FALSE())","v":3},"Competición","Gallega"]
["3631938","Fernandes Matos Da Costa, Francisco Jose","2C","C",{"$f":"VLOOKUP(C3836,Referencias!$C$4:$D$21,2,FALSE())","v":"Segunda Corazón"},{"$f":"VLOOKUP(I3836,Referencias!$B$24:$C$41,2,FALSE())","v":"GAL"},{"$f":"VLOOKUP(C3836,Referencias!$C$4:$E$21,3,FALSE())","v":2},"Competición","Gallega"]
["3631940","Jaudenes , María Ascensión","3D","D",{"$f":"VLOOKUP(C3837,Referencias!$C$4:$D$21,2,FALSE())","v":"Tercera Diamante"},{"$f":"VLOOKUP(I3837,Referencias!$B$24:$C$41,2,FALSE())","v":"GAL"},{"$f":"VLOOKUP(C3837,Referencias!$C$4:$E$21,3,FALSE())","v":3},"Competición","Gallega"]
["3631944","Palmeiro Díaz, José","3P","C",{"$f":"VLOOKUP(C3838,Referencias!$C$4:$D$21,2,FALSE())","v":"Tercera Picas"},{"$f":"VLOOKUP(I3838,Referencias!$B$24:$C$41,2,FALSE())","v":"GAL"},{"$f":"VLOOKUP(C3838,Referencias!$C$4:$E$21,3,FALSE())","v":3},"Competición","Gallega"]
["3631952","Lozoya Fernández, José María","3D","C",{"$f":"VLOOKUP(C3839,Referencias!$C$4:$D$21,2,FALSE())","v":"Tercera Diamante"},{"$f":"VLOOKUP(I3839,Referencias!$B$24:$C$41,2,FALSE())","v":"GAL"},{"$f":"VLOOKUP(C3839,Referencias!$C$4:$E$21,3,FALSE())","v":3},"Competición","Gallega"]
["3631953","García Fernández, Ana","3D","D",{"$f":"VLOOKUP(C3840,Referencias!$C$4:$D$21,2,FALSE())","v":"Tercera Diamante"},{"$f":"VLOOKUP(I3840,Referencias!$B$24:$C$41,2,FALSE())","v":"GAL"},{"$f":"VLOOKUP(C3840,Referencias!$C$4:$E$21,3,FALSE())","v":3},"Competición","Gallega"]
["3631954","Otero Aldereguía, Luis","3D","C",{"$f":"VLOOKUP(C3841,Referencias!$C$4:$D$21,2,FALSE())","v":"Tercera Diamante"},{"$f":"VLOOKUP(I3841,Referencias!$B$24:$C$41,2,FALSE())","v":"GAL"},{"$f":"VLOOKUP(C3841,Referencias!$C$4:$E$21,3,FALSE())","v":3},"Competición","Gallega"]
["3631955","Pascual Calvo, Noemi","3D","D",{"$f":"VLOOKUP(C3842,Referencias!$C$4:$D$21,2,FALSE())","v":"Tercera Diamante"},{"$f":"VLOOKUP(I3842,Referencias!$B$24:$C$41,2,FALSE())","v":"GAL"},{"$f":"VLOOKUP(C3842,Referencias!$C$4:$E$21,3,FALSE())","v":3},"Competición","Gallega"]
["3631956","Ezquieta Llamas, Santiago","3D","C",{"$f":"VLOOKUP(C3843,Referencias!$C$4:$D$21,2,FALSE())","v":"Tercera Diamante"},{"$f":"VLOOKUP(I3843,Referencias!$B$24:$C$41,2,FALSE())","v":"GAL"},{"$f":"VLOOKUP(C3843,Referencias!$C$4:$E$21,3,FALSE())","v":3},"Competición","Gallega"]
["3631957","González Taboada, Francisco Javier","3D","C",{"$f":"VLOOKUP(C3844,Referencias!$C$4:$D$21,2,FALSE())","v":"Tercera Diamante"},{"$f":"VLOOKUP(I3844,Referencias!$B$24:$C$41,2,FALSE())","v":"GAL"},{"$f":"VLOOKUP(C3844,Referencias!$C$4:$E$21,3,FALSE())","v":3},"Competición","Gallega"]
["3631958","Moldes García, Angel","3P","C",{"$f":"VLOOKUP(C3845,Referencias!$C$4:$D$21,2,FALSE())","v":"Tercera Picas"},{"$f":"VLOOKUP(I3845,Referencias!$B$24:$C$41,2,FALSE())","v":"GAL"},{"$f":"VLOOKUP(C3845,Referencias!$C$4:$E$21,3,FALSE())","v":3},"Competición","Gallega"]
["3631959","Araujo Pazos, Patricia","3D","D",{"$f":"VLOOKUP(C3846,Referencias!$C$4:$D$21,2,FALSE())","v":"Tercera Diamante"},{"$f":"VLOOKUP(I3846,Referencias!$B$24:$C$41,2,FALSE())","v":"GAL"},{"$f":"VLOOKUP(C3846,Referencias!$C$4:$E$21,3,FALSE())","v":3},"Competición","Gallega"]
["3631960","Bellido Fonseca, Lourdes","3D","D",{"$f":"VLOOKUP(C3847,Referencias!$C$4:$D$21,2,FALSE())","v":"Tercera Diamante"},{"$f":"VLOOKUP(I3847,Referencias!$B$24:$C$41,2,FALSE())","v":"GAL"},{"$f":"VLOOKUP(C3847,Referencias!$C$4:$E$21,3,FALSE())","v":3},"Competición","Gallega"]
["3631961","González Ordoñez, Maria Teresa","3D","D",{"$f":"VLOOKUP(C3848,Referencias!$C$4:$D$21,2,FALSE())","v":"Tercera Diamante"},{"$f":"VLOOKUP(I3848,Referencias!$B$24:$C$41,2,FALSE())","v":"GAL"},{"$f":"VLOOKUP(C3848,Referencias!$C$4:$E$21,3,FALSE())","v":3},"Competición","Gallega"]
["3631963","Fariña Lopez, Blanca","3D","D",{"$f":"VLOOKUP(C3849,Referencias!$C$4:$D$21,2,FALSE())","v":"Tercera Diamante"},{"$f":"VLOOKUP(I3849,Referencias!$B$24:$C$41,2,FALSE())","v":"GAL"},{"$f":"VLOOKUP(C3849,Referencias!$C$4:$E$21,3,FALSE())","v":3},"Competición","Gallega"]
["3631964","Gomá Matilla, Ramón","3D","C",{"$f":"VLOOKUP(C3850,Referencias!$C$4:$D$21,2,FALSE())","v":"Tercera Diamante"},{"$f":"VLOOKUP(I3850,Referencias!$B$24:$C$41,2,FALSE())","v":"GAL"},{"$f":"VLOOKUP(C3850,Referencias!$C$4:$E$21,3,FALSE())","v":3},"Competición","Gallega"]
["3631967","Valcarcel Pedreda, Carlos","3P","C",{"$f":"VLOOKUP(C3851,Referencias!$C$4:$D$21,2,FALSE())","v":"Tercera Picas"},{"$f":"VLOOKUP(I3851,Referencias!$B$24:$C$41,2,FALSE())","v":"GAL"},{"$f":"VLOOKUP(C3851,Referencias!$C$4:$E$21,3,FALSE())","v":3},"Competición","Gallega"]
["3631969","Ferro Román, Paula","3D","D",{"$f":"VLOOKUP(C3852,Referencias!$C$4:$D$21,2,FALSE())","v":"Tercera Diamante"},{"$f":"VLOOKUP(I3852,Referencias!$B$24:$C$41,2,FALSE())","v":"GAL"},{"$f":"VLOOKUP(C3852,Referencias!$C$4:$E$21,3,FALSE())","v":3},"Competición","Gallega"]
["3631972","Simón Piñeiro Oitaven, Mario","2D","C",{"$f":"VLOOKUP(C3853,Referencias!$C$4:$D$21,2,FALSE())","v":"Segunda Diamante"},{"$f":"VLOOKUP(I3853,Referencias!$B$24:$C$41,2,FALSE())","v":"GAL"},{"$f":"VLOOKUP(C3853,Referencias!$C$4:$E$21,3,FALSE())","v":2},"Competición","Gallega"]
["3631973","Del Olmo Casalderrey, María Cristina","3D","D",{"$f":"VLOOKUP(C3854,Referencias!$C$4:$D$21,2,FALSE())","v":"Tercera Diamante"},{"$f":"VLOOKUP(I3854,Referencias!$B$24:$C$41,2,FALSE())","v":"GAL"},{"$f":"VLOOKUP(C3854,Referencias!$C$4:$E$21,3,FALSE())","v":3},"Competición","Gallega"]
["3631975","Corujo Castro, Manuel","3D","C",{"$f":"VLOOKUP(C3855,Referencias!$C$4:$D$21,2,FALSE())","v":"Tercera Diamante"},{"$f":"VLOOKUP(I3855,Referencias!$B$24:$C$41,2,FALSE())","v":"GAL"},{"$f":"VLOOKUP(C3855,Referencias!$C$4:$E$21,3,FALSE())","v":3},"Competición","Gallega"]
["3631976","Fernández-Barja García, Pilar","3D","D",{"$f":"VLOOKUP(C3856,Referencias!$C$4:$D$21,2,FALSE())","v":"Tercera Diamante"},{"$f":"VLOOKUP(I3856,Referencias!$B$24:$C$41,2,FALSE())","v":"GAL"},{"$f":"VLOOKUP(C3856,Referencias!$C$4:$E$21,3,FALSE())","v":3},"Competición","Gallega"]
["3631977","Baltar San Martin, Cristina","3D","D",{"$f":"VLOOKUP(C3857,Referencias!$C$4:$D$21,2,FALSE())","v":"Tercera Diamante"},{"$f":"VLOOKUP(I3857,Referencias!$B$24:$C$41,2,FALSE())","v":"GAL"},{"$f":"VLOOKUP(C3857,Referencias!$C$4:$E$21,3,FALSE())","v":3},"Competición","Gallega"]
["3631979","Lista Alfonso, Elena","3D","D",{"$f":"VLOOKUP(C3858,Referencias!$C$4:$D$21,2,FALSE())","v":"Tercera Diamante"},{"$f":"VLOOKUP(I3858,Referencias!$B$24:$C$41,2,FALSE())","v":"GAL"},{"$f":"VLOOKUP(C3858,Referencias!$C$4:$E$21,3,FALSE())","v":3},"Competición","Gallega"]
["3631980","Lage Bouzamayor, María Belén","3D","D",{"$f":"VLOOKUP(C3859,Referencias!$C$4:$D$21,2,FALSE())","v":"Tercera Diamante"},{"$f":"VLOOKUP(I3859,Referencias!$B$24:$C$41,2,FALSE())","v":"GAL"},{"$f":"VLOOKUP(C3859,Referencias!$C$4:$E$21,3,FALSE())","v":3},"Competición","Gallega"]
["3631981","Garnelo Fernández, María José","3D","D",{"$f":"VLOOKUP(C3860,Referencias!$C$4:$D$21,2,FALSE())","v":"Tercera Diamante"},{"$f":"VLOOKUP(I3860,Referencias!$B$24:$C$41,2,FALSE())","v":"GAL"},{"$f":"VLOOKUP(C3860,Referencias!$C$4:$E$21,3,FALSE())","v":3},"Competición","Gallega"]
["3631982","Sancho Sánchez, Teresa","3D","D",{"$f":"VLOOKUP(C3861,Referencias!$C$4:$D$21,2,FALSE())","v":"Tercera Diamante"},{"$f":"VLOOKUP(I3861,Referencias!$B$24:$C$41,2,FALSE())","v":"GAL"},{"$f":"VLOOKUP(C3861,Referencias!$C$4:$E$21,3,FALSE())","v":3},"Competición","Gallega"]
["3631984","Ariza López, Julia","3D","D",{"$f":"VLOOKUP(C3862,Referencias!$C$4:$D$21,2,FALSE())","v":"Tercera Diamante"},{"$f":"VLOOKUP(I3862,Referencias!$B$24:$C$41,2,FALSE())","v":"GAL"},{"$f":"VLOOKUP(C3862,Referencias!$C$4:$E$21,3,FALSE())","v":3},"Competición","Gallega"]
["3631990","Romero Bandeira, Miguel","3C","C",{"$f":"VLOOKUP(C3863,Referencias!$C$4:$D$21,2,FALSE())","v":"Tercera Corazón"},{"$f":"VLOOKUP(I3863,Referencias!$B$24:$C$41,2,FALSE())","v":"GAL"},{"$f":"VLOOKUP(C3863,Referencias!$C$4:$E$21,3,FALSE())","v":3},"Competición","Gallega"]
["3631991","Romero Bandeira, Paz","3C","D",{"$f":"VLOOKUP(C3864,Referencias!$C$4:$D$21,2,FALSE())","v":"Tercera Corazón"},{"$f":"VLOOKUP(I3864,Referencias!$B$24:$C$41,2,FALSE())","v":"GAL"},{"$f":"VLOOKUP(C3864,Referencias!$C$4:$E$21,3,FALSE())","v":3},"Competición","Gallega"]
["3631992","Riestra Rivas, Sofía","3C","D",{"$f":"VLOOKUP(C3865,Referencias!$C$4:$D$21,2,FALSE())","v":"Tercera Corazón"},{"$f":"VLOOKUP(I3865,Referencias!$B$24:$C$41,2,FALSE())","v":"GAL"},{"$f":"VLOOKUP(C3865,Referencias!$C$4:$E$21,3,FALSE())","v":3},"Competición","Gallega"]
["3631995","Comesaña Arribas, María del Carmen","3D","D",{"$f":"VLOOKUP(C3866,Referencias!$C$4:$D$21,2,FALSE())","v":"Tercera Diamante"},{"$f":"VLOOKUP(I3866,Referencias!$B$24:$C$41,2,FALSE())","v":"GAL"},{"$f":"VLOOKUP(C3866,Referencias!$C$4:$E$21,3,FALSE())","v":3},"Competición","Gallega"]
["3631997","Cristobal Ortega, María Julia","3D","D",{"$f":"VLOOKUP(C3867,Referencias!$C$4:$D$21,2,FALSE())","v":"Tercera Diamante"},{"$f":"VLOOKUP(I3867,Referencias!$B$24:$C$41,2,FALSE())","v":"GAL"},{"$f":"VLOOKUP(C3867,Referencias!$C$4:$E$21,3,FALSE())","v":3},"Competición","Gallega"]
["3632002","González de Vega Pomar, Ramón","1D","C",{"$f":"VLOOKUP(C3868,Referencias!$C$4:$D$21,2,FALSE())","v":"Primera Diamante"},{"$f":"VLOOKUP(I3868,Referencias!$B$24:$C$41,2,FALSE())","v":"GAL"},{"$f":"VLOOKUP(C3868,Referencias!$C$4:$E$21,3,FALSE())","v":1},"Competición","Gallega"]
["3632004","Tkacz, Adam","3D","C",{"$f":"VLOOKUP(C3869,Referencias!$C$4:$D$21,2,FALSE())","v":"Tercera Diamante"},{"$f":"VLOOKUP(I3869,Referencias!$B$24:$C$41,2,FALSE())","v":"GAL"},{"$f":"VLOOKUP(C3869,Referencias!$C$4:$E$21,3,FALSE())","v":3},"Competición","Gallega"]
["3632009","Delgado Díaz, Patricia","3D","D",{"$f":"VLOOKUP(C3870,Referencias!$C$4:$D$21,2,FALSE())","v":"Tercera Diamante"},{"$f":"VLOOKUP(I3870,Referencias!$B$24:$C$41,2,FALSE())","v":"GAL"},{"$f":"VLOOKUP(C3870,Referencias!$C$4:$E$21,3,FALSE())","v":3},"Competición","Gallega"]
["3635065","Fernández Tapias, José Luis","2P","C",{"$f":"VLOOKUP(C3871,Referencias!$C$4:$D$21,2,FALSE())","v":"Segunda Picas"},{"$f":"VLOOKUP(I3871,Referencias!$B$24:$C$41,2,FALSE())","v":"GAL"},{"$f":"VLOOKUP(C3871,Referencias!$C$4:$E$21,3,FALSE())","v":2},"Competición","Gallega"]
["3635142","Rodríguez de Lago, M. Carmen","2D","D",{"$f":"VLOOKUP(C3872,Referencias!$C$4:$D$21,2,FALSE())","v":"Segunda Diamante"},{"$f":"VLOOKUP(I3872,Referencias!$B$24:$C$41,2,FALSE())","v":"GAL"},{"$f":"VLOOKUP(C3872,Referencias!$C$4:$E$21,3,FALSE())","v":2},"Competición","Gallega"]
["3635750","Abeledo Maristany, Manuel","3C","C",{"$f":"VLOOKUP(C3873,Referencias!$C$4:$D$21,2,FALSE())","v":"Tercera Corazón"},{"$f":"VLOOKUP(I3873,Referencias!$B$24:$C$41,2,FALSE())","v":"GAL"},{"$f":"VLOOKUP(C3873,Referencias!$C$4:$E$21,3,FALSE())","v":3},"Competición","Gallega"]
["3635861","Alonso Ferrer, Matilde","1D","D",{"$f":"VLOOKUP(C3874,Referencias!$C$4:$D$21,2,FALSE())","v":"Primera Diamante"},{"$f":"VLOOKUP(I3874,Referencias!$B$24:$C$41,2,FALSE())","v":"GAL"},{"$f":"VLOOKUP(C3874,Referencias!$C$4:$E$21,3,FALSE())","v":1},"Competición","Gallega"]
["3635882","Ruiz de Alda, Mónica","1D","D",{"$f":"VLOOKUP(C3875,Referencias!$C$4:$D$21,2,FALSE())","v":"Primera Diamante"},{"$f":"VLOOKUP(I3875,Referencias!$B$24:$C$41,2,FALSE())","v":"GAL"},{"$f":"VLOOKUP(C3875,Referencias!$C$4:$E$21,3,FALSE())","v":1},"Competición","Gallega"]
["3635885","Iglesias Paul, Angeles","1D","D",{"$f":"VLOOKUP(C3876,Referencias!$C$4:$D$21,2,FALSE())","v":"Primera Diamante"},{"$f":"VLOOKUP(I3876,Referencias!$B$24:$C$41,2,FALSE())","v":"GAL"},{"$f":"VLOOKUP(C3876,Referencias!$C$4:$E$21,3,FALSE())","v":1},"Competición","Gallega"]
["3635886","Blanco Pero-Sanz, Alfonso","1C","C",{"$f":"VLOOKUP(C3877,Referencias!$C$4:$D$21,2,FALSE())","v":"Primera Corazón"},{"$f":"VLOOKUP(I3877,Referencias!$B$24:$C$41,2,FALSE())","v":"GAL"},{"$f":"VLOOKUP(C3877,Referencias!$C$4:$E$21,3,FALSE())","v":1},"Competición","Gallega"]
["3635887","Valenzuela Fernández, Margarita","2P","D",{"$f":"VLOOKUP(C3878,Referencias!$C$4:$D$21,2,FALSE())","v":"Segunda Picas"},{"$f":"VLOOKUP(I3878,Referencias!$B$24:$C$41,2,FALSE())","v":"GAL"},{"$f":"VLOOKUP(C3878,Referencias!$C$4:$E$21,3,FALSE())","v":2},"Competición","Gallega"]
["3635892","Juega Puig, Carmela","3P","D",{"$f":"VLOOKUP(C3879,Referencias!$C$4:$D$21,2,FALSE())","v":"Tercera Picas"},{"$f":"VLOOKUP(I3879,Referencias!$B$24:$C$41,2,FALSE())","v":"GAL"},{"$f":"VLOOKUP(C3879,Referencias!$C$4:$E$21,3,FALSE())","v":3},"Competición","Gallega"]
["3635897","García Rodríguez, Ana","1P","D",{"$f":"VLOOKUP(C3880,Referencias!$C$4:$D$21,2,FALSE())","v":"Primera Picas"},{"$f":"VLOOKUP(I3880,Referencias!$B$24:$C$41,2,FALSE())","v":"GAL"},{"$f":"VLOOKUP(C3880,Referencias!$C$4:$E$21,3,FALSE())","v":1},"Competición","Gallega"]
["3635898","Latorre Moraga, Rafael","1P","C",{"$f":"VLOOKUP(C3881,Referencias!$C$4:$D$21,2,FALSE())","v":"Primera Picas"},{"$f":"VLOOKUP(I3881,Referencias!$B$24:$C$41,2,FALSE())","v":"GAL"},{"$f":"VLOOKUP(C3881,Referencias!$C$4:$E$21,3,FALSE())","v":1},"Competición","Gallega"]
["3771422","Madrazo Arranz, Angel","3P","C",{"$f":"VLOOKUP(C3882,Referencias!$C$4:$D$21,2,FALSE())","v":"Tercera Picas"},{"$f":"VLOOKUP(I3882,Referencias!$B$24:$C$41,2,FALSE())","v":"CYL"},{"$f":"VLOOKUP(C3882,Referencias!$C$4:$E$21,3,FALSE())","v":3},"Competición","Castilla y León"]
["3771526","Rodilla Sanchéz, Concepción","3P","D",{"$f":"VLOOKUP(C3883,Referencias!$C$4:$D$21,2,FALSE())","v":"Tercera Picas"},{"$f":"VLOOKUP(I3883,Referencias!$B$24:$C$41,2,FALSE())","v":"CYL"},{"$f":"VLOOKUP(C3883,Referencias!$C$4:$E$21,3,FALSE())","v":3},"Competición","Castilla y León"]
["3771528","Minguez Goñi, Ana","3D","D",{"$f":"VLOOKUP(C3884,Referencias!$C$4:$D$21,2,FALSE())","v":"Tercera Diamante"},{"$f":"VLOOKUP(I3884,Referencias!$B$24:$C$41,2,FALSE())","v":"CYL"},{"$f":"VLOOKUP(C3884,Referencias!$C$4:$E$21,3,FALSE())","v":3},"Competición","Castilla y León"]
["3771529","Fernández Escoda, Agustín","3C","C",{"$f":"VLOOKUP(C3885,Referencias!$C$4:$D$21,2,FALSE())","v":"Tercera Corazón"},{"$f":"VLOOKUP(I3885,Referencias!$B$24:$C$41,2,FALSE())","v":"CYL"},{"$f":"VLOOKUP(C3885,Referencias!$C$4:$E$21,3,FALSE())","v":3},"Competición","Castilla y León"]
["3771534","Ardura Suárez, Trinidad","3P","D",{"$f":"VLOOKUP(C3886,Referencias!$C$4:$D$21,2,FALSE())","v":"Tercera Picas"},{"$f":"VLOOKUP(I3886,Referencias!$B$24:$C$41,2,FALSE())","v":"CYL"},{"$f":"VLOOKUP(C3886,Referencias!$C$4:$E$21,3,FALSE())","v":3},"Competición","Castilla y León"]
["3851006","De la Fe Almeida, Carmen","1P","D",{"$f":"VLOOKUP(C3887,Referencias!$C$4:$D$21,2,FALSE())","v":"Primera Picas"},{"$f":"VLOOKUP(I3887,Referencias!$B$24:$C$41,2,FALSE())","v":"CANAR "},{"$f":"VLOOKUP(C3887,Referencias!$C$4:$E$21,3,FALSE())","v":1},"Competición","Canaria"]
["3851049","Mendoza Contreras, Lucas","1P","C",{"$f":"VLOOKUP(C3888,Referencias!$C$4:$D$21,2,FALSE())","v":"Primera Picas"},{"$f":"VLOOKUP(I3888,Referencias!$B$24:$C$41,2,FALSE())","v":"CANAR "},{"$f":"VLOOKUP(C3888,Referencias!$C$4:$E$21,3,FALSE())","v":1},"Competición","Canaria"]
["3851050","Laynez Cerdeña, Fernando","3D","C",{"$f":"VLOOKUP(C3889,Referencias!$C$4:$D$21,2,FALSE())","v":"Tercera Diamante"},{"$f":"VLOOKUP(I3889,Referencias!$B$24:$C$41,2,FALSE())","v":"CANAR "},{"$f":"VLOOKUP(C3889,Referencias!$C$4:$E$21,3,FALSE())","v":3},"Competición","Canaria"]
["3851059","Negrín Fernández, Manuel","1P","C",{"$f":"VLOOKUP(C3890,Referencias!$C$4:$D$21,2,FALSE())","v":"Primera Picas"},{"$f":"VLOOKUP(I3890,Referencias!$B$24:$C$41,2,FALSE())","v":"CANAR "},{"$f":"VLOOKUP(C3890,Referencias!$C$4:$E$21,3,FALSE())","v":1},"Competición","Canaria"]
["3851092","Durango Ballester, Mercedes","2C","D",{"$f":"VLOOKUP(C3891,Referencias!$C$4:$D$21,2,FALSE())","v":"Segunda Corazón"},{"$f":"VLOOKUP(I3891,Referencias!$B$24:$C$41,2,FALSE())","v":"CANAR "},{"$f":"VLOOKUP(C3891,Referencias!$C$4:$E$21,3,FALSE())","v":2},"Competición","Canaria"]
["3851118","Tellado Alfonso, Esther","3P","D",{"$f":"VLOOKUP(C3892,Referencias!$C$4:$D$21,2,FALSE())","v":"Tercera Picas"},{"$f":"VLOOKUP(I3892,Referencias!$B$24:$C$41,2,FALSE())","v":"CANAR "},{"$f":"VLOOKUP(C3892,Referencias!$C$4:$E$21,3,FALSE())","v":3},"Competición","Canaria"]
["3851271","Sarasola Herrero, Juan","1P","C",{"$f":"VLOOKUP(C3893,Referencias!$C$4:$D$21,2,FALSE())","v":"Primera Picas"},{"$f":"VLOOKUP(I3893,Referencias!$B$24:$C$41,2,FALSE())","v":"CANAR "},{"$f":"VLOOKUP(C3893,Referencias!$C$4:$E$21,3,FALSE())","v":1},"Competición","Canaria"]
["3851283","Cabrera Pérez-Lecuona, María del Pino","3D","D",{"$f":"VLOOKUP(C3894,Referencias!$C$4:$D$21,2,FALSE())","v":"Tercera Diamante"},{"$f":"VLOOKUP(I3894,Referencias!$B$24:$C$41,2,FALSE())","v":"CANAR "},{"$f":"VLOOKUP(C3894,Referencias!$C$4:$E$21,3,FALSE())","v":3},"Competición","Canaria"]
["3851285","Lorenzo Perera, M. Luisa","2P","D",{"$f":"VLOOKUP(C3895,Referencias!$C$4:$D$21,2,FALSE())","v":"Segunda Picas"},{"$f":"VLOOKUP(I3895,Referencias!$B$24:$C$41,2,FALSE())","v":"CANAR "},{"$f":"VLOOKUP(C3895,Referencias!$C$4:$E$21,3,FALSE())","v":2},"Competición","Canaria"]
["3851286","Acevedo García, Mercedes","2C","D",{"$f":"VLOOKUP(C3896,Referencias!$C$4:$D$21,2,FALSE())","v":"Segunda Corazón"},{"$f":"VLOOKUP(I3896,Referencias!$B$24:$C$41,2,FALSE())","v":"CANAR "},{"$f":"VLOOKUP(C3896,Referencias!$C$4:$E$21,3,FALSE())","v":2},"Competición","Canaria"]
["3851316","Aranaz Rodríguez, Margarita","1C","D",{"$f":"VLOOKUP(C3897,Referencias!$C$4:$D$21,2,FALSE())","v":"Primera Corazón"},{"$f":"VLOOKUP(I3897,Referencias!$B$24:$C$41,2,FALSE())","v":"CANAR "},{"$f":"VLOOKUP(C3897,Referencias!$C$4:$E$21,3,FALSE())","v":1},"Competición","Canaria"]
["3851319","Ybarra Martínez-Barona, María Lourdes","2C","D",{"$f":"VLOOKUP(C3898,Referencias!$C$4:$D$21,2,FALSE())","v":"Segunda Corazón"},{"$f":"VLOOKUP(I3898,Referencias!$B$24:$C$41,2,FALSE())","v":"CANAR "},{"$f":"VLOOKUP(C3898,Referencias!$C$4:$E$21,3,FALSE())","v":2},"Competición","Canaria"]
["3851348","Aznarez Gómez, Natalia","1D","D",{"$f":"VLOOKUP(C3899,Referencias!$C$4:$D$21,2,FALSE())","v":"Primera Diamante"},{"$f":"VLOOKUP(I3899,Referencias!$B$24:$C$41,2,FALSE())","v":"CANAR "},{"$f":"VLOOKUP(C3899,Referencias!$C$4:$E$21,3,FALSE())","v":1},"Competición","Canaria"]
["3851366","Muñoz Campos, Rosa Nieves","1D","D",{"$f":"VLOOKUP(C3900,Referencias!$C$4:$D$21,2,FALSE())","v":"Primera Diamante"},{"$f":"VLOOKUP(I3900,Referencias!$B$24:$C$41,2,FALSE())","v":"CANAR "},{"$f":"VLOOKUP(C3900,Referencias!$C$4:$E$21,3,FALSE())","v":1},"Competición","Canaria"]
["3851379","Aranaz Rodríguez, Amelia","2P","D",{"$f":"VLOOKUP(C3901,Referencias!$C$4:$D$21,2,FALSE())","v":"Segunda Picas"},{"$f":"VLOOKUP(I3901,Referencias!$B$24:$C$41,2,FALSE())","v":"CANAR "},{"$f":"VLOOKUP(C3901,Referencias!$C$4:$E$21,3,FALSE())","v":2},"Competición","Canaria"]
["3851380","Sopranis O´Donnell, María de la Concepción","2P","D",{"$f":"VLOOKUP(C3902,Referencias!$C$4:$D$21,2,FALSE())","v":"Segunda Picas"},{"$f":"VLOOKUP(I3902,Referencias!$B$24:$C$41,2,FALSE())","v":"CANAR "},{"$f":"VLOOKUP(C3902,Referencias!$C$4:$E$21,3,FALSE())","v":2},"Competición","Canaria"]
["3851386","Vidarte, María Rosa","3D","D",{"$f":"VLOOKUP(C3903,Referencias!$C$4:$D$21,2,FALSE())","v":"Tercera Diamante"},{"$f":"VLOOKUP(I3903,Referencias!$B$24:$C$41,2,FALSE())","v":"CANAR "},{"$f":"VLOOKUP(C3903,Referencias!$C$4:$E$21,3,FALSE())","v":3},"Competición","Canaria"]
["3851444","López de Alda Infante, Cristina","3C","D",{"$f":"VLOOKUP(C3904,Referencias!$C$4:$D$21,2,FALSE())","v":"Tercera Corazón"},{"$f":"VLOOKUP(I3904,Referencias!$B$24:$C$41,2,FALSE())","v":"CANAR "},{"$f":"VLOOKUP(C3904,Referencias!$C$4:$E$21,3,FALSE())","v":3},"Competición","Canaria"]
["3851445","Reyes Herrera, Vicente","1P","C",{"$f":"VLOOKUP(C3905,Referencias!$C$4:$D$21,2,FALSE())","v":"Primera Picas"},{"$f":"VLOOKUP(I3905,Referencias!$B$24:$C$41,2,FALSE())","v":"CANAR "},{"$f":"VLOOKUP(C3905,Referencias!$C$4:$E$21,3,FALSE())","v":1},"Competición","Canaria"]
["3851463","Jorge González, Olga","3C","D",{"$f":"VLOOKUP(C3906,Referencias!$C$4:$D$21,2,FALSE())","v":"Tercera Corazón"},{"$f":"VLOOKUP(I3906,Referencias!$B$24:$C$41,2,FALSE())","v":"CANAR "},{"$f":"VLOOKUP(C3906,Referencias!$C$4:$E$21,3,FALSE())","v":3},"Competición","Canaria"]
["3851467","Vera López, Lidia","3D","D",{"$f":"VLOOKUP(C3907,Referencias!$C$4:$D$21,2,FALSE())","v":"Tercera Diamante"},{"$f":"VLOOKUP(I3907,Referencias!$B$24:$C$41,2,FALSE())","v":"CANAR "},{"$f":"VLOOKUP(C3907,Referencias!$C$4:$E$21,3,FALSE())","v":3},"Competición","Canaria"]
["3851468","Rosado Verde, Manuel","2C","C",{"$f":"VLOOKUP(C3908,Referencias!$C$4:$D$21,2,FALSE())","v":"Segunda Corazón"},{"$f":"VLOOKUP(I3908,Referencias!$B$24:$C$41,2,FALSE())","v":"CANAR "},{"$f":"VLOOKUP(C3908,Referencias!$C$4:$E$21,3,FALSE())","v":2},"Competición","Canaria"]
["3851469","Pérez Aranaz, Elena","1C","D",{"$f":"VLOOKUP(C3909,Referencias!$C$4:$D$21,2,FALSE())","v":"Primera Corazón"},{"$f":"VLOOKUP(I3909,Referencias!$B$24:$C$41,2,FALSE())","v":"CANAR "},{"$f":"VLOOKUP(C3909,Referencias!$C$4:$E$21,3,FALSE())","v":1},"Competición","Canaria"]
["3851470","Paredes Roncero, María","2D","D",{"$f":"VLOOKUP(C3910,Referencias!$C$4:$D$21,2,FALSE())","v":"Segunda Diamante"},{"$f":"VLOOKUP(I3910,Referencias!$B$24:$C$41,2,FALSE())","v":"CANAR "},{"$f":"VLOOKUP(C3910,Referencias!$C$4:$E$21,3,FALSE())","v":2},"Competición","Canaria"]
["3851471","Torres Domínguez, Amelia Teresa","2D","D",{"$f":"VLOOKUP(C3911,Referencias!$C$4:$D$21,2,FALSE())","v":"Segunda Diamante"},{"$f":"VLOOKUP(I3911,Referencias!$B$24:$C$41,2,FALSE())","v":"CANAR "},{"$f":"VLOOKUP(C3911,Referencias!$C$4:$E$21,3,FALSE())","v":2},"Competición","Canaria"]
["3851472","Escolar Elguezabal, Antonio","3P","C",{"$f":"VLOOKUP(C3912,Referencias!$C$4:$D$21,2,FALSE())","v":"Tercera Picas"},{"$f":"VLOOKUP(I3912,Referencias!$B$24:$C$41,2,FALSE())","v":"CANAR "},{"$f":"VLOOKUP(C3912,Referencias!$C$4:$E$21,3,FALSE())","v":3},"Competición","Canaria"]
["3851491","Perdomo Ramos, María Adela","2P","D",{"$f":"VLOOKUP(C3913,Referencias!$C$4:$D$21,2,FALSE())","v":"Segunda Picas"},{"$f":"VLOOKUP(I3913,Referencias!$B$24:$C$41,2,FALSE())","v":"CANAR "},{"$f":"VLOOKUP(C3913,Referencias!$C$4:$E$21,3,FALSE())","v":2},"Competición","Canaria"]
["3851497","Carreras y Fontseré, Antonio","3P","C",{"$f":"VLOOKUP(C3914,Referencias!$C$4:$D$21,2,FALSE())","v":"Tercera Picas"},{"$f":"VLOOKUP(I3914,Referencias!$B$24:$C$41,2,FALSE())","v":"CANAR "},{"$f":"VLOOKUP(C3914,Referencias!$C$4:$E$21,3,FALSE())","v":3},"Competición","Canaria"]
["3851511","Gaioni, Angelo","1C","C",{"$f":"VLOOKUP(C3915,Referencias!$C$4:$D$21,2,FALSE())","v":"Primera Corazón"},{"$f":"VLOOKUP(I3915,Referencias!$B$24:$C$41,2,FALSE())","v":"CANAR "},{"$f":"VLOOKUP(C3915,Referencias!$C$4:$E$21,3,FALSE())","v":1},"Competición","Canaria"]
["3851521","Magdalena Darias, Migdalia","3D","D",{"$f":"VLOOKUP(C3916,Referencias!$C$4:$D$21,2,FALSE())","v":"Tercera Diamante"},{"$f":"VLOOKUP(I3916,Referencias!$B$24:$C$41,2,FALSE())","v":"CANAR "},{"$f":"VLOOKUP(C3916,Referencias!$C$4:$E$21,3,FALSE())","v":3},"Competición","Canaria"]
["3851541","Romeu Ramos, Adela","3D","D",{"$f":"VLOOKUP(C3917,Referencias!$C$4:$D$21,2,FALSE())","v":"Tercera Diamante"},{"$f":"VLOOKUP(I3917,Referencias!$B$24:$C$41,2,FALSE())","v":"CANAR "},{"$f":"VLOOKUP(C3917,Referencias!$C$4:$E$21,3,FALSE())","v":3},"Competición","Canaria"]
["3851551","García de la Banda García, Juan Francisco","1D","C",{"$f":"VLOOKUP(C3918,Referencias!$C$4:$D$21,2,FALSE())","v":"Primera Diamante"},{"$f":"VLOOKUP(I3918,Referencias!$B$24:$C$41,2,FALSE())","v":"CANAR "},{"$f":"VLOOKUP(C3918,Referencias!$C$4:$E$21,3,FALSE())","v":1},"Competición","Canaria"]
["3851621","Cretti, Elisa","3D","D",{"$f":"VLOOKUP(C3919,Referencias!$C$4:$D$21,2,FALSE())","v":"Tercera Diamante"},{"$f":"VLOOKUP(I3919,Referencias!$B$24:$C$41,2,FALSE())","v":"CANAR "},{"$f":"VLOOKUP(C3919,Referencias!$C$4:$E$21,3,FALSE())","v":3},"Competición","Canaria"]
["3851622","Filosi, Remo","3D","C",{"$f":"VLOOKUP(C3920,Referencias!$C$4:$D$21,2,FALSE())","v":"Tercera Diamante"},{"$f":"VLOOKUP(I3920,Referencias!$B$24:$C$41,2,FALSE())","v":"CANAR "},{"$f":"VLOOKUP(C3920,Referencias!$C$4:$E$21,3,FALSE())","v":3},"Competición","Canaria"]
["3851640","Martínez Latorre, Maria Antonia","2C","D",{"$f":"VLOOKUP(C3921,Referencias!$C$4:$D$21,2,FALSE())","v":"Segunda Corazón"},{"$f":"VLOOKUP(I3921,Referencias!$B$24:$C$41,2,FALSE())","v":"CANAR "},{"$f":"VLOOKUP(C3921,Referencias!$C$4:$E$21,3,FALSE())","v":2},"Competición","Canaria"]
["3851641","Ruiz Ruiz, Ana","3D","D",{"$f":"VLOOKUP(C3922,Referencias!$C$4:$D$21,2,FALSE())","v":"Tercera Diamante"},{"$f":"VLOOKUP(I3922,Referencias!$B$24:$C$41,2,FALSE())","v":"CANAR "},{"$f":"VLOOKUP(C3922,Referencias!$C$4:$E$21,3,FALSE())","v":3},"Competición","Canaria"]
["3851642","Nacher Hernández, María Mercedes","3D","D",{"$f":"VLOOKUP(C3923,Referencias!$C$4:$D$21,2,FALSE())","v":"Tercera Diamante"},{"$f":"VLOOKUP(I3923,Referencias!$B$24:$C$41,2,FALSE())","v":"CANAR "},{"$f":"VLOOKUP(C3923,Referencias!$C$4:$E$21,3,FALSE())","v":3},"Competición","Canaria"]
["3851650","Vilate Padrón, Manuela","3D","D",{"$f":"VLOOKUP(C3924,Referencias!$C$4:$D$21,2,FALSE())","v":"Tercera Diamante"},{"$f":"VLOOKUP(I3924,Referencias!$B$24:$C$41,2,FALSE())","v":"CANAR "},{"$f":"VLOOKUP(C3924,Referencias!$C$4:$E$21,3,FALSE())","v":3},"Competición","Canaria"]
["3851667","Yanes Roca, Luis","2C","C",{"$f":"VLOOKUP(C3925,Referencias!$C$4:$D$21,2,FALSE())","v":"Segunda Corazón"},{"$f":"VLOOKUP(I3925,Referencias!$B$24:$C$41,2,FALSE())","v":"CANAR "},{"$f":"VLOOKUP(C3925,Referencias!$C$4:$E$21,3,FALSE())","v":2},"Competición","Canaria"]
["3851671","López Pavía, Mercedes","3D","D",{"$f":"VLOOKUP(C3926,Referencias!$C$4:$D$21,2,FALSE())","v":"Tercera Diamante"},{"$f":"VLOOKUP(I3926,Referencias!$B$24:$C$41,2,FALSE())","v":"CANAR "},{"$f":"VLOOKUP(C3926,Referencias!$C$4:$E$21,3,FALSE())","v":3},"Competición","Canaria"]
["3851687","Lupano, Anna","2C","D",{"$f":"VLOOKUP(C3927,Referencias!$C$4:$D$21,2,FALSE())","v":"Segunda Corazón"},{"$f":"VLOOKUP(I3927,Referencias!$B$24:$C$41,2,FALSE())","v":"CANAR "},{"$f":"VLOOKUP(C3927,Referencias!$C$4:$E$21,3,FALSE())","v":2},"Competición","Canaria"]
["3851690","Alvarez Lavers, Ana María","3P","D",{"$f":"VLOOKUP(C3928,Referencias!$C$4:$D$21,2,FALSE())","v":"Tercera Picas"},{"$f":"VLOOKUP(I3928,Referencias!$B$24:$C$41,2,FALSE())","v":"CANAR "},{"$f":"VLOOKUP(C3928,Referencias!$C$4:$E$21,3,FALSE())","v":3},"Competición","Canaria"]
["3851695","García Miranda, José Luis","3P","C",{"$f":"VLOOKUP(C3929,Referencias!$C$4:$D$21,2,FALSE())","v":"Tercera Picas"},{"$f":"VLOOKUP(I3929,Referencias!$B$24:$C$41,2,FALSE())","v":"CANAR "},{"$f":"VLOOKUP(C3929,Referencias!$C$4:$E$21,3,FALSE())","v":3},"Competición","Canaria"]
["3851713","Fernández López, María Isabel","3D","D",{"$f":"VLOOKUP(C3930,Referencias!$C$4:$D$21,2,FALSE())","v":"Tercera Diamante"},{"$f":"VLOOKUP(I3930,Referencias!$B$24:$C$41,2,FALSE())","v":"CANAR "},{"$f":"VLOOKUP(C3930,Referencias!$C$4:$E$21,3,FALSE())","v":3},"Competición","Canaria"]
["3851724","Saavedra Pérez, Cristina","3D","D",{"$f":"VLOOKUP(C3931,Referencias!$C$4:$D$21,2,FALSE())","v":"Tercera Diamante"},{"$f":"VLOOKUP(I3931,Referencias!$B$24:$C$41,2,FALSE())","v":"CANAR "},{"$f":"VLOOKUP(C3931,Referencias!$C$4:$E$21,3,FALSE())","v":3},"Competición","Canaria"]
["3851726","Carnero Acosta, Mónica","3D","D",{"$f":"VLOOKUP(C3932,Referencias!$C$4:$D$21,2,FALSE())","v":"Tercera Diamante"},{"$f":"VLOOKUP(I3932,Referencias!$B$24:$C$41,2,FALSE())","v":"CANAR "},{"$f":"VLOOKUP(C3932,Referencias!$C$4:$E$21,3,FALSE())","v":3},"Competición","Canaria"]
["3851727","Bosch Cambreleng, María","2P","D",{"$f":"VLOOKUP(C3933,Referencias!$C$4:$D$21,2,FALSE())","v":"Segunda Picas"},{"$f":"VLOOKUP(I3933,Referencias!$B$24:$C$41,2,FALSE())","v":"CANAR "},{"$f":"VLOOKUP(C3933,Referencias!$C$4:$E$21,3,FALSE())","v":2},"Competición","Canaria"]
["3851741","Pedreira Calamita, Jesús","3D","C",{"$f":"VLOOKUP(C3934,Referencias!$C$4:$D$21,2,FALSE())","v":"Tercera Diamante"},{"$f":"VLOOKUP(I3934,Referencias!$B$24:$C$41,2,FALSE())","v":"CANAR "},{"$f":"VLOOKUP(C3934,Referencias!$C$4:$E$21,3,FALSE())","v":3},"Competición","Canaria"]
["3851744","Schneider, Elke","1P","D",{"$f":"VLOOKUP(C3935,Referencias!$C$4:$D$21,2,FALSE())","v":"Primera Picas"},{"$f":"VLOOKUP(I3935,Referencias!$B$24:$C$41,2,FALSE())","v":"CANAR "},{"$f":"VLOOKUP(C3935,Referencias!$C$4:$E$21,3,FALSE())","v":1},"Competición","Canaria"]
["3851745","Wiese, Dietrich","1P","C",{"$f":"VLOOKUP(C3936,Referencias!$C$4:$D$21,2,FALSE())","v":"Primera Picas"},{"$f":"VLOOKUP(I3936,Referencias!$B$24:$C$41,2,FALSE())","v":"CANAR "},{"$f":"VLOOKUP(C3936,Referencias!$C$4:$E$21,3,FALSE())","v":1},"Competición","Canaria"]
["3851749","Menéndez García-Talavera, Maria del Pino","3D","D",{"$f":"VLOOKUP(C3937,Referencias!$C$4:$D$21,2,FALSE())","v":"Tercera Diamante"},{"$f":"VLOOKUP(I3937,Referencias!$B$24:$C$41,2,FALSE())","v":"CANAR "},{"$f":"VLOOKUP(C3937,Referencias!$C$4:$E$21,3,FALSE())","v":3},"Competición","Canaria"]
["3851750","Naranjo González- Coviella, Elena","3C","D",{"$f":"VLOOKUP(C3938,Referencias!$C$4:$D$21,2,FALSE())","v":"Tercera Corazón"},{"$f":"VLOOKUP(I3938,Referencias!$B$24:$C$41,2,FALSE())","v":"CANAR "},{"$f":"VLOOKUP(C3938,Referencias!$C$4:$E$21,3,FALSE())","v":3},"Competición","Canaria"]
["3851751","Maluenda Cervantes, Felipa","3D","D",{"$f":"VLOOKUP(C3939,Referencias!$C$4:$D$21,2,FALSE())","v":"Tercera Diamante"},{"$f":"VLOOKUP(I3939,Referencias!$B$24:$C$41,2,FALSE())","v":"CANAR "},{"$f":"VLOOKUP(C3939,Referencias!$C$4:$E$21,3,FALSE())","v":3},"Competición","Canaria"]
["3851753","Mesa Hernández, María Jesús","3D","D",{"$f":"VLOOKUP(C3940,Referencias!$C$4:$D$21,2,FALSE())","v":"Tercera Diamante"},{"$f":"VLOOKUP(I3940,Referencias!$B$24:$C$41,2,FALSE())","v":"CANAR "},{"$f":"VLOOKUP(C3940,Referencias!$C$4:$E$21,3,FALSE())","v":3},"Competición","Canaria"]
["3851755","Jiménez Florez, Ana","3D","D",{"$f":"VLOOKUP(C3941,Referencias!$C$4:$D$21,2,FALSE())","v":"Tercera Diamante"},{"$f":"VLOOKUP(I3941,Referencias!$B$24:$C$41,2,FALSE())","v":"CANAR "},{"$f":"VLOOKUP(C3941,Referencias!$C$4:$E$21,3,FALSE())","v":3},"Competición","Canaria"]
["3851769","Benito Fernández, Sofía","3C","D",{"$f":"VLOOKUP(C3942,Referencias!$C$4:$D$21,2,FALSE())","v":"Tercera Corazón"},{"$f":"VLOOKUP(I3942,Referencias!$B$24:$C$41,2,FALSE())","v":"CANAR "},{"$f":"VLOOKUP(C3942,Referencias!$C$4:$E$21,3,FALSE())","v":3},"Competición","Canaria"]
["3851770","Pujol Niubó, Mª Pepa","3D","D",{"$f":"VLOOKUP(C3943,Referencias!$C$4:$D$21,2,FALSE())","v":"Tercera Diamante"},{"$f":"VLOOKUP(I3943,Referencias!$B$24:$C$41,2,FALSE())","v":"CANAR "},{"$f":"VLOOKUP(C3943,Referencias!$C$4:$E$21,3,FALSE())","v":3},"Competición","Canaria"]
["3851775","Elejabeitia Velu, Natalia Beatriz","3C","D",{"$f":"VLOOKUP(C3944,Referencias!$C$4:$D$21,2,FALSE())","v":"Tercera Corazón"},{"$f":"VLOOKUP(I3944,Referencias!$B$24:$C$41,2,FALSE())","v":"CANAR "},{"$f":"VLOOKUP(C3944,Referencias!$C$4:$E$21,3,FALSE())","v":3},"Competición","Canaria"]
["3851776","Sitjar Togores Alvarez, Mercedes","3P","D",{"$f":"VLOOKUP(C3945,Referencias!$C$4:$D$21,2,FALSE())","v":"Tercera Picas"},{"$f":"VLOOKUP(I3945,Referencias!$B$24:$C$41,2,FALSE())","v":"CANAR "},{"$f":"VLOOKUP(C3945,Referencias!$C$4:$E$21,3,FALSE())","v":3},"Competición","Canaria"]
["3851778","Perera González, Pablo","2C","C",{"$f":"VLOOKUP(C3946,Referencias!$C$4:$D$21,2,FALSE())","v":"Segunda Corazón"},{"$f":"VLOOKUP(I3946,Referencias!$B$24:$C$41,2,FALSE())","v":"CANAR "},{"$f":"VLOOKUP(C3946,Referencias!$C$4:$E$21,3,FALSE())","v":2},"Competición","Canaria"]
["3851779","Charles, Darrell","2D","C",{"$f":"VLOOKUP(C3947,Referencias!$C$4:$D$21,2,FALSE())","v":"Segunda Diamante"},{"$f":"VLOOKUP(I3947,Referencias!$B$24:$C$41,2,FALSE())","v":"CANAR "},{"$f":"VLOOKUP(C3947,Referencias!$C$4:$E$21,3,FALSE())","v":2},"Competición","Canaria"]
["3851780","Charles, Irmgard","2D","D",{"$f":"VLOOKUP(C3948,Referencias!$C$4:$D$21,2,FALSE())","v":"Segunda Diamante"},{"$f":"VLOOKUP(I3948,Referencias!$B$24:$C$41,2,FALSE())","v":"CANAR "},{"$f":"VLOOKUP(C3948,Referencias!$C$4:$E$21,3,FALSE())","v":2},"Competición","Canaria"]
["3851792","León Russo, Joseffa","3D","D",{"$f":"VLOOKUP(C3949,Referencias!$C$4:$D$21,2,FALSE())","v":"Tercera Diamante"},{"$f":"VLOOKUP(I3949,Referencias!$B$24:$C$41,2,FALSE())","v":"CANAR "},{"$f":"VLOOKUP(C3949,Referencias!$C$4:$E$21,3,FALSE())","v":3},"Competición","Canaria"]
["3851795","Caballero Rubiato, Amparo","3P","D",{"$f":"VLOOKUP(C3950,Referencias!$C$4:$D$21,2,FALSE())","v":"Tercera Picas"},{"$f":"VLOOKUP(I3950,Referencias!$B$24:$C$41,2,FALSE())","v":"CANAR "},{"$f":"VLOOKUP(C3950,Referencias!$C$4:$E$21,3,FALSE())","v":3},"Competición","Canaria"]
["3851796","Aymerich Rodríguez, Lorenzo","3D","C",{"$f":"VLOOKUP(C3951,Referencias!$C$4:$D$21,2,FALSE())","v":"Tercera Diamante"},{"$f":"VLOOKUP(I3951,Referencias!$B$24:$C$41,2,FALSE())","v":"CANAR "},{"$f":"VLOOKUP(C3951,Referencias!$C$4:$E$21,3,FALSE())","v":3},"Competición","Canaria"]
["3851813","Pettene, Alessandro","3D","C",{"$f":"VLOOKUP(C3952,Referencias!$C$4:$D$21,2,FALSE())","v":"Tercera Diamante"},{"$f":"VLOOKUP(I3952,Referencias!$B$24:$C$41,2,FALSE())","v":"CANAR "},{"$f":"VLOOKUP(C3952,Referencias!$C$4:$E$21,3,FALSE())","v":3},"Competición","Canaria"]
["3851815","Sparer, Guenther Franz","3D","C",{"$f":"VLOOKUP(C3953,Referencias!$C$4:$D$21,2,FALSE())","v":"Tercera Diamante"},{"$f":"VLOOKUP(I3953,Referencias!$B$24:$C$41,2,FALSE())","v":"CANAR "},{"$f":"VLOOKUP(C3953,Referencias!$C$4:$E$21,3,FALSE())","v":3},"Competición","Canaria"]
["3851818","Carretti, Cristina","3D","D",{"$f":"VLOOKUP(C3954,Referencias!$C$4:$D$21,2,FALSE())","v":"Tercera Diamante"},{"$f":"VLOOKUP(I3954,Referencias!$B$24:$C$41,2,FALSE())","v":"CANAR "},{"$f":"VLOOKUP(C3954,Referencias!$C$4:$E$21,3,FALSE())","v":3},"Competición","Canaria"]
["3851836","Laynez Cerdeña, María Eugenia","3D","D",{"$f":"VLOOKUP(C3955,Referencias!$C$4:$D$21,2,FALSE())","v":"Tercera Diamante"},{"$f":"VLOOKUP(I3955,Referencias!$B$24:$C$41,2,FALSE())","v":"CANAR "},{"$f":"VLOOKUP(C3955,Referencias!$C$4:$E$21,3,FALSE())","v":3},"Competición","Canaria"]
["3851837","Dobarro Ramos, Eugenio- Santiago","3D","D",{"$f":"VLOOKUP(C3956,Referencias!$C$4:$D$21,2,FALSE())","v":"Tercera Diamante"},{"$f":"VLOOKUP(I3956,Referencias!$B$24:$C$41,2,FALSE())","v":"CANAR "},{"$f":"VLOOKUP(C3956,Referencias!$C$4:$E$21,3,FALSE())","v":3},"Competición","Canaria"]
["3851839","Díaz-Llanos La Roche, María Concepción","3D","D",{"$f":"VLOOKUP(C3957,Referencias!$C$4:$D$21,2,FALSE())","v":"Tercera Diamante"},{"$f":"VLOOKUP(I3957,Referencias!$B$24:$C$41,2,FALSE())","v":"CANAR "},{"$f":"VLOOKUP(C3957,Referencias!$C$4:$E$21,3,FALSE())","v":3},"Competición","Canaria"]
["3851840","Díaz-Llanos La Roche, María Josefa","3D","D",{"$f":"VLOOKUP(C3958,Referencias!$C$4:$D$21,2,FALSE())","v":"Tercera Diamante"},{"$f":"VLOOKUP(I3958,Referencias!$B$24:$C$41,2,FALSE())","v":"CANAR "},{"$f":"VLOOKUP(C3958,Referencias!$C$4:$E$21,3,FALSE())","v":3},"Competición","Canaria"]
["3851841","Ponte Cullen, Cristina","3D","D",{"$f":"VLOOKUP(C3959,Referencias!$C$4:$D$21,2,FALSE())","v":"Tercera Diamante"},{"$f":"VLOOKUP(I3959,Referencias!$B$24:$C$41,2,FALSE())","v":"CANAR "},{"$f":"VLOOKUP(C3959,Referencias!$C$4:$E$21,3,FALSE())","v":3},"Competición","Canaria"]
["3851846","Rosales Alonso, María Pilar","3D","D",{"$f":"VLOOKUP(C3960,Referencias!$C$4:$D$21,2,FALSE())","v":"Tercera Diamante"},{"$f":"VLOOKUP(I3960,Referencias!$B$24:$C$41,2,FALSE())","v":"CANAR "},{"$f":"VLOOKUP(C3960,Referencias!$C$4:$E$21,3,FALSE())","v":3},"Competición","Canaria"]
["3851851","López-Peñalver González, María Teresa","3D","D",{"$f":"VLOOKUP(C3961,Referencias!$C$4:$D$21,2,FALSE())","v":"Tercera Diamante"},{"$f":"VLOOKUP(I3961,Referencias!$B$24:$C$41,2,FALSE())","v":"CANAR "},{"$f":"VLOOKUP(C3961,Referencias!$C$4:$E$21,3,FALSE())","v":3},"Competición","Canaria"]
["3851854","Toledo Díaz-Llanos, Mª Concepción","3D","D",{"$f":"VLOOKUP(C3962,Referencias!$C$4:$D$21,2,FALSE())","v":"Tercera Diamante"},{"$f":"VLOOKUP(I3962,Referencias!$B$24:$C$41,2,FALSE())","v":"CANAR "},{"$f":"VLOOKUP(C3962,Referencias!$C$4:$E$21,3,FALSE())","v":3},"Competición","Canaria"]
["3851857","Trujillo Hernández, María Mercedes","3D","D",{"$f":"VLOOKUP(C3963,Referencias!$C$4:$D$21,2,FALSE())","v":"Tercera Diamante"},{"$f":"VLOOKUP(I3963,Referencias!$B$24:$C$41,2,FALSE())","v":"CANAR "},{"$f":"VLOOKUP(C3963,Referencias!$C$4:$E$21,3,FALSE())","v":3},"Competición","Canaria"]
["3851858","Sánchez Triviño, Pedro Andrés","3C","C",{"$f":"VLOOKUP(C3964,Referencias!$C$4:$D$21,2,FALSE())","v":"Tercera Corazón"},{"$f":"VLOOKUP(I3964,Referencias!$B$24:$C$41,2,FALSE())","v":"CANAR "},{"$f":"VLOOKUP(C3964,Referencias!$C$4:$E$21,3,FALSE())","v":3},"Competición","Canaria"]
["3851862","Hardisson Rumen, María África","3D","C",{"$f":"VLOOKUP(C3965,Referencias!$C$4:$D$21,2,FALSE())","v":"Tercera Diamante"},{"$f":"VLOOKUP(I3965,Referencias!$B$24:$C$41,2,FALSE())","v":"CANAR "},{"$f":"VLOOKUP(C3965,Referencias!$C$4:$E$21,3,FALSE())","v":3},"Competición","Canaria"]
["3851863","Sánchez Pérez, Amalia","3D","D",{"$f":"VLOOKUP(C3966,Referencias!$C$4:$D$21,2,FALSE())","v":"Tercera Diamante"},{"$f":"VLOOKUP(I3966,Referencias!$B$24:$C$41,2,FALSE())","v":"CANAR "},{"$f":"VLOOKUP(C3966,Referencias!$C$4:$E$21,3,FALSE())","v":3},"Competición","Canaria"]
["3851865","Golding Ballester, Francisca","3D","D",{"$f":"VLOOKUP(C3967,Referencias!$C$4:$D$21,2,FALSE())","v":"Tercera Diamante"},{"$f":"VLOOKUP(I3967,Referencias!$B$24:$C$41,2,FALSE())","v":"CANAR "},{"$f":"VLOOKUP(C3967,Referencias!$C$4:$E$21,3,FALSE())","v":3},"Competición","Canaria"]
["3851906","Rodríguez Martín, Ramón","3D","C",{"$f":"VLOOKUP(C3968,Referencias!$C$4:$D$21,2,FALSE())","v":"Tercera Diamante"},{"$f":"VLOOKUP(I3968,Referencias!$B$24:$C$41,2,FALSE())","v":"CANAR "},{"$f":"VLOOKUP(C3968,Referencias!$C$4:$E$21,3,FALSE())","v":3},"Competición","Canaria"]
["3851915","Royo Iranzo, Patricia","3D","D",{"$f":"VLOOKUP(C3969,Referencias!$C$4:$D$21,2,FALSE())","v":"Tercera Diamante"},{"$f":"VLOOKUP(I3969,Referencias!$B$24:$C$41,2,FALSE())","v":"CANAR "},{"$f":"VLOOKUP(C3969,Referencias!$C$4:$E$21,3,FALSE())","v":3},"Competición","Canaria"]
["3851918","Pizzarro Hernández, Dolores","3D","D",{"$f":"VLOOKUP(C3970,Referencias!$C$4:$D$21,2,FALSE())","v":"Tercera Diamante"},{"$f":"VLOOKUP(I3970,Referencias!$B$24:$C$41,2,FALSE())","v":"CANAR "},{"$f":"VLOOKUP(C3970,Referencias!$C$4:$E$21,3,FALSE())","v":3},"Competición","Canaria"]
["3851943","Rodriguez Valerón, Carmen Gloria","3C","D",{"$f":"VLOOKUP(C3971,Referencias!$C$4:$D$21,2,FALSE())","v":"Tercera Corazón"},{"$f":"VLOOKUP(I3971,Referencias!$B$24:$C$41,2,FALSE())","v":"CANAR "},{"$f":"VLOOKUP(C3971,Referencias!$C$4:$E$21,3,FALSE())","v":3},"Competición","Canaria"]
["3851945","Elejabeitia Spacek-Streer, Mónica","3C","D",{"$f":"VLOOKUP(C3972,Referencias!$C$4:$D$21,2,FALSE())","v":"Tercera Corazón"},{"$f":"VLOOKUP(I3972,Referencias!$B$24:$C$41,2,FALSE())","v":"CANAR "},{"$f":"VLOOKUP(C3972,Referencias!$C$4:$E$21,3,FALSE())","v":3},"Competición","Canaria"]
["3851946","Rodríguez Rodríguez, Mª José","3D","D",{"$f":"VLOOKUP(C3973,Referencias!$C$4:$D$21,2,FALSE())","v":"Tercera Diamante"},{"$f":"VLOOKUP(I3973,Referencias!$B$24:$C$41,2,FALSE())","v":"CANAR "},{"$f":"VLOOKUP(C3973,Referencias!$C$4:$E$21,3,FALSE())","v":3},"Competición","Canaria"]
["3851956","Machado Trujillo, Rosario","3D","D",{"$f":"VLOOKUP(C3974,Referencias!$C$4:$D$21,2,FALSE())","v":"Tercera Diamante"},{"$f":"VLOOKUP(I3974,Referencias!$B$24:$C$41,2,FALSE())","v":"CANAR "},{"$f":"VLOOKUP(C3974,Referencias!$C$4:$E$21,3,FALSE())","v":3},"Competición","Canaria"]
["3851988","Lewis King, Brian","3P","C",{"$f":"VLOOKUP(C3975,Referencias!$C$4:$D$21,2,FALSE())","v":"Tercera Picas"},{"$f":"VLOOKUP(I3975,Referencias!$B$24:$C$41,2,FALSE())","v":"CANAR "},{"$f":"VLOOKUP(C3975,Referencias!$C$4:$E$21,3,FALSE())","v":3},"Competición","Canaria"]
["3852013","Donato, Donato","3D","C",{"$f":"VLOOKUP(C3976,Referencias!$C$4:$D$21,2,FALSE())","v":"Tercera Diamante"},{"$f":"VLOOKUP(I3976,Referencias!$B$24:$C$41,2,FALSE())","v":"CANAR "},{"$f":"VLOOKUP(C3976,Referencias!$C$4:$E$21,3,FALSE())","v":3},"Competición","Canaria"]
["3852031","Escudero Verdugo, Juana","3C","D",{"$f":"VLOOKUP(C3977,Referencias!$C$4:$D$21,2,FALSE())","v":"Tercera Corazón"},{"$f":"VLOOKUP(I3977,Referencias!$B$24:$C$41,2,FALSE())","v":"CANAR "},{"$f":"VLOOKUP(C3977,Referencias!$C$4:$E$21,3,FALSE())","v":3},"Competición","Canaria"]
["3852032","Bordón Sigú, Cristina","3D","D",{"$f":"VLOOKUP(C3978,Referencias!$C$4:$D$21,2,FALSE())","v":"Tercera Diamante"},{"$f":"VLOOKUP(I3978,Referencias!$B$24:$C$41,2,FALSE())","v":"CANAR "},{"$f":"VLOOKUP(C3978,Referencias!$C$4:$E$21,3,FALSE())","v":3},"Competición","Canaria"]
["3852034","Nerci, Elio","3D","C",{"$f":"VLOOKUP(C3979,Referencias!$C$4:$D$21,2,FALSE())","v":"Tercera Diamante"},{"$f":"VLOOKUP(I3979,Referencias!$B$24:$C$41,2,FALSE())","v":"CANAR "},{"$f":"VLOOKUP(C3979,Referencias!$C$4:$E$21,3,FALSE())","v":3},"Competición","Canaria"]
["3852039","Sánchez-Gijón González-Moro, Isabel Carlota","3D","D",{"$f":"VLOOKUP(C3980,Referencias!$C$4:$D$21,2,FALSE())","v":"Tercera Diamante"},{"$f":"VLOOKUP(I3980,Referencias!$B$24:$C$41,2,FALSE())","v":"CANAR "},{"$f":"VLOOKUP(C3980,Referencias!$C$4:$E$21,3,FALSE())","v":3},"Competición","Canaria"]
["3852042","Conejo de la Roca, José Miguel","3D","C",{"$f":"VLOOKUP(C3981,Referencias!$C$4:$D$21,2,FALSE())","v":"Tercera Diamante"},{"$f":"VLOOKUP(I3981,Referencias!$B$24:$C$41,2,FALSE())","v":"CANAR "},{"$f":"VLOOKUP(C3981,Referencias!$C$4:$E$21,3,FALSE())","v":3},"Competición","Canaria"]
["3852043","de Bonis Redondo, Mario","3C","C",{"$f":"VLOOKUP(C3982,Referencias!$C$4:$D$21,2,FALSE())","v":"Tercera Corazón"},{"$f":"VLOOKUP(I3982,Referencias!$B$24:$C$41,2,FALSE())","v":"CANAR "},{"$f":"VLOOKUP(C3982,Referencias!$C$4:$E$21,3,FALSE())","v":3},"Competición","Canaria"]
["3852049","Barajas De Prat, José Juan","3D","C",{"$f":"VLOOKUP(C3983,Referencias!$C$4:$D$21,2,FALSE())","v":"Tercera Diamante"},{"$f":"VLOOKUP(I3983,Referencias!$B$24:$C$41,2,FALSE())","v":"CANAR "},{"$f":"VLOOKUP(C3983,Referencias!$C$4:$E$21,3,FALSE())","v":3},"Competición","Canaria"]
["3852050","Martorell Rodríguez, Graciela","3D","D",{"$f":"VLOOKUP(C3984,Referencias!$C$4:$D$21,2,FALSE())","v":"Tercera Diamante"},{"$f":"VLOOKUP(I3984,Referencias!$B$24:$C$41,2,FALSE())","v":"CANAR "},{"$f":"VLOOKUP(C3984,Referencias!$C$4:$E$21,3,FALSE())","v":3},"Competición","Canaria"]
["3852051","Ostroman, Silvia Anna Giovanna","3C","D",{"$f":"VLOOKUP(C3985,Referencias!$C$4:$D$21,2,FALSE())","v":"Tercera Corazón"},{"$f":"VLOOKUP(I3985,Referencias!$B$24:$C$41,2,FALSE())","v":"CANAR "},{"$f":"VLOOKUP(C3985,Referencias!$C$4:$E$21,3,FALSE())","v":3},"Competición","Canaria"]
["3852052","Guy, Loraine","3D","C",{"$f":"VLOOKUP(C3986,Referencias!$C$4:$D$21,2,FALSE())","v":"Tercera Diamante"},{"$f":"VLOOKUP(I3986,Referencias!$B$24:$C$41,2,FALSE())","v":"CANAR "},{"$f":"VLOOKUP(C3986,Referencias!$C$4:$E$21,3,FALSE())","v":3},"Competición","Canaria"]
["3852053","Selles, Suzie Elizabeth","3D","D",{"$f":"VLOOKUP(C3987,Referencias!$C$4:$D$21,2,FALSE())","v":"Tercera Diamante"},{"$f":"VLOOKUP(I3987,Referencias!$B$24:$C$41,2,FALSE())","v":"CANAR "},{"$f":"VLOOKUP(C3987,Referencias!$C$4:$E$21,3,FALSE())","v":3},"Competición","Canaria"]
["3852054","Wilson, Trevor","3D","C",{"$f":"VLOOKUP(C3988,Referencias!$C$4:$D$21,2,FALSE())","v":"Tercera Diamante"},{"$f":"VLOOKUP(I3988,Referencias!$B$24:$C$41,2,FALSE())","v":"CANAR "},{"$f":"VLOOKUP(C3988,Referencias!$C$4:$E$21,3,FALSE())","v":3},"Competición","Canaria"]
["3852056","Miranda Palomino, Ricardo","3D","C",{"$f":"VLOOKUP(C3989,Referencias!$C$4:$D$21,2,FALSE())","v":"Tercera Diamante"},{"$f":"VLOOKUP(I3989,Referencias!$B$24:$C$41,2,FALSE())","v":"CANAR "},{"$f":"VLOOKUP(C3989,Referencias!$C$4:$E$21,3,FALSE())","v":3},"Competición","Canaria"]
["3852057","Solís García-Talavera, Eduardo","3D","C",{"$f":"VLOOKUP(C3990,Referencias!$C$4:$D$21,2,FALSE())","v":"Tercera Diamante"},{"$f":"VLOOKUP(I3990,Referencias!$B$24:$C$41,2,FALSE())","v":"CANAR "},{"$f":"VLOOKUP(C3990,Referencias!$C$4:$E$21,3,FALSE())","v":3},"Competición","Canaria"]
["3852058","Guimerá Ravina, María Asunción","3D","D",{"$f":"VLOOKUP(C3991,Referencias!$C$4:$D$21,2,FALSE())","v":"Tercera Diamante"},{"$f":"VLOOKUP(I3991,Referencias!$B$24:$C$41,2,FALSE())","v":"CANAR "},{"$f":"VLOOKUP(C3991,Referencias!$C$4:$E$21,3,FALSE())","v":3},"Competición","Canaria"]
["3852059","Mandillo Blanquez, María Milagros","3D","D",{"$f":"VLOOKUP(C3992,Referencias!$C$4:$D$21,2,FALSE())","v":"Tercera Diamante"},{"$f":"VLOOKUP(I3992,Referencias!$B$24:$C$41,2,FALSE())","v":"CANAR "},{"$f":"VLOOKUP(C3992,Referencias!$C$4:$E$21,3,FALSE())","v":3},"Competición","Canaria"]
["3852061","Azcarate Bang, María del Carmen","3D","D",{"$f":"VLOOKUP(C3993,Referencias!$C$4:$D$21,2,FALSE())","v":"Tercera Diamante"},{"$f":"VLOOKUP(I3993,Referencias!$B$24:$C$41,2,FALSE())","v":"CANAR "},{"$f":"VLOOKUP(C3993,Referencias!$C$4:$E$21,3,FALSE())","v":3},"Competición","Canaria"]
["3852062","Sansón Rodríguez, María Victoria","3D","D",{"$f":"VLOOKUP(C3994,Referencias!$C$4:$D$21,2,FALSE())","v":"Tercera Diamante"},{"$f":"VLOOKUP(I3994,Referencias!$B$24:$C$41,2,FALSE())","v":"CANAR "},{"$f":"VLOOKUP(C3994,Referencias!$C$4:$E$21,3,FALSE())","v":3},"Competición","Canaria"]
["3852064","Gil Alemany, Leonor","3D","D",{"$f":"VLOOKUP(C3995,Referencias!$C$4:$D$21,2,FALSE())","v":"Tercera Diamante"},{"$f":"VLOOKUP(I3995,Referencias!$B$24:$C$41,2,FALSE())","v":"CANAR "},{"$f":"VLOOKUP(C3995,Referencias!$C$4:$E$21,3,FALSE())","v":3},"Competición","Canaria"]
["3852065","Ravina Cortés, Beatriz","3D","D",{"$f":"VLOOKUP(C3996,Referencias!$C$4:$D$21,2,FALSE())","v":"Tercera Diamante"},{"$f":"VLOOKUP(I3996,Referencias!$B$24:$C$41,2,FALSE())","v":"CANAR "},{"$f":"VLOOKUP(C3996,Referencias!$C$4:$E$21,3,FALSE())","v":3},"Competición","Canaria"]
["3852069","Wilson, Keith","3D","C",{"$f":"VLOOKUP(C3997,Referencias!$C$4:$D$21,2,FALSE())","v":"Tercera Diamante"},{"$f":"VLOOKUP(I3997,Referencias!$B$24:$C$41,2,FALSE())","v":"CANAR "},{"$f":"VLOOKUP(C3997,Referencias!$C$4:$E$21,3,FALSE())","v":3},"Competición","Canaria"]
["3852070","Ruzo Gómez, Rafael","3D","C",{"$f":"VLOOKUP(C3998,Referencias!$C$4:$D$21,2,FALSE())","v":"Tercera Diamante"},{"$f":"VLOOKUP(I3998,Referencias!$B$24:$C$41,2,FALSE())","v":"CANAR "},{"$f":"VLOOKUP(C3998,Referencias!$C$4:$E$21,3,FALSE())","v":3},"Competición","Canaria"]
["3852071","de Lojendio Pérez-Braun, María Jesús","3D","D",{"$f":"VLOOKUP(C3999,Referencias!$C$4:$D$21,2,FALSE())","v":"Tercera Diamante"},{"$f":"VLOOKUP(I3999,Referencias!$B$24:$C$41,2,FALSE())","v":"CANAR "},{"$f":"VLOOKUP(C3999,Referencias!$C$4:$E$21,3,FALSE())","v":3},"Competición","Canaria"]
["3852072","Brackx, Fred","3D","C",{"$f":"VLOOKUP(C4000,Referencias!$C$4:$D$21,2,FALSE())","v":"Tercera Diamante"},{"$f":"VLOOKUP(I4000,Referencias!$B$24:$C$41,2,FALSE())","v":"CANAR "},{"$f":"VLOOKUP(C4000,Referencias!$C$4:$E$21,3,FALSE())","v":3},"Competición","Canaria"]
["3852080","Galán Sauco, José Antonio","3D","C",{"$f":"VLOOKUP(C4001,Referencias!$C$4:$D$21,2,FALSE())","v":"Tercera Diamante"},{"$f":"VLOOKUP(I4001,Referencias!$B$24:$C$41,2,FALSE())","v":"CANAR "},{"$f":"VLOOKUP(C4001,Referencias!$C$4:$E$21,3,FALSE())","v":3},"Competición","Canaria"]
["3852082","Suárez Padrón, Francisco Javier","3D","C",{"$f":"VLOOKUP(C4002,Referencias!$C$4:$D$21,2,FALSE())","v":"Tercera Diamante"},{"$f":"VLOOKUP(I4002,Referencias!$B$24:$C$41,2,FALSE())","v":"CANAR "},{"$f":"VLOOKUP(C4002,Referencias!$C$4:$E$21,3,FALSE())","v":3},"Competición","Canaria"]
["3852084","Bichara García, María Victoria","3D","D",{"$f":"VLOOKUP(C4003,Referencias!$C$4:$D$21,2,FALSE())","v":"Tercera Diamante"},{"$f":"VLOOKUP(I4003,Referencias!$B$24:$C$41,2,FALSE())","v":"CANAR "},{"$f":"VLOOKUP(C4003,Referencias!$C$4:$E$21,3,FALSE())","v":3},"Competición","Canaria"]
["3852085","Hernández Muñoz, María del Carmen","3D","D",{"$f":"VLOOKUP(C4004,Referencias!$C$4:$D$21,2,FALSE())","v":"Tercera Diamante"},{"$f":"VLOOKUP(I4004,Referencias!$B$24:$C$41,2,FALSE())","v":"CANAR "},{"$f":"VLOOKUP(C4004,Referencias!$C$4:$E$21,3,FALSE())","v":3},"Competición","Canaria"]
["3852086","García Trujillo, María Reyes","3D","D",{"$f":"VLOOKUP(C4005,Referencias!$C$4:$D$21,2,FALSE())","v":"Tercera Diamante"},{"$f":"VLOOKUP(I4005,Referencias!$B$24:$C$41,2,FALSE())","v":"CANAR "},{"$f":"VLOOKUP(C4005,Referencias!$C$4:$E$21,3,FALSE())","v":3},"Competición","Canaria"]
["3852087","Torres Lana, Enrique","3D","C",{"$f":"VLOOKUP(C4006,Referencias!$C$4:$D$21,2,FALSE())","v":"Tercera Diamante"},{"$f":"VLOOKUP(I4006,Referencias!$B$24:$C$41,2,FALSE())","v":"CANAR "},{"$f":"VLOOKUP(C4006,Referencias!$C$4:$E$21,3,FALSE())","v":3},"Competición","Canaria"]
["3852092","Cruz Capote, María Elena","3D","D",{"$f":"VLOOKUP(C4007,Referencias!$C$4:$D$21,2,FALSE())","v":"Tercera Diamante"},{"$f":"VLOOKUP(I4007,Referencias!$B$24:$C$41,2,FALSE())","v":"CANAR "},{"$f":"VLOOKUP(C4007,Referencias!$C$4:$E$21,3,FALSE())","v":3},"Competición","Canaria"]
["3852093","Méndez Mora, María Haydée","3D","D",{"$f":"VLOOKUP(C4008,Referencias!$C$4:$D$21,2,FALSE())","v":"Tercera Diamante"},{"$f":"VLOOKUP(I4008,Referencias!$B$24:$C$41,2,FALSE())","v":"CANAR "},{"$f":"VLOOKUP(C4008,Referencias!$C$4:$E$21,3,FALSE())","v":3},"Competición","Canaria"]
["3852094","Prytz Pérez, María Ángeles","3D","D",{"$f":"VLOOKUP(C4009,Referencias!$C$4:$D$21,2,FALSE())","v":"Tercera Diamante"},{"$f":"VLOOKUP(I4009,Referencias!$B$24:$C$41,2,FALSE())","v":"CANAR "},{"$f":"VLOOKUP(C4009,Referencias!$C$4:$E$21,3,FALSE())","v":3},"Competición","Canaria"]
["3852095","Modino García, María Araceli","3D","D",{"$f":"VLOOKUP(C4010,Referencias!$C$4:$D$21,2,FALSE())","v":"Tercera Diamante"},{"$f":"VLOOKUP(I4010,Referencias!$B$24:$C$41,2,FALSE())","v":"CANAR "},{"$f":"VLOOKUP(C4010,Referencias!$C$4:$E$21,3,FALSE())","v":3},"Competición","Canaria"]
["3852096","Soza Valencia, Rossana","3D","D",{"$f":"VLOOKUP(C4011,Referencias!$C$4:$D$21,2,FALSE())","v":"Tercera Diamante"},{"$f":"VLOOKUP(I4011,Referencias!$B$24:$C$41,2,FALSE())","v":"CANAR "},{"$f":"VLOOKUP(C4011,Referencias!$C$4:$E$21,3,FALSE())","v":3},"Competición","Canaria"]
["3852097","Hernández García, María Jesús","3D","D",{"$f":"VLOOKUP(C4012,Referencias!$C$4:$D$21,2,FALSE())","v":"Tercera Diamante"},{"$f":"VLOOKUP(I4012,Referencias!$B$24:$C$41,2,FALSE())","v":"CANAR "},{"$f":"VLOOKUP(C4012,Referencias!$C$4:$E$21,3,FALSE())","v":3},"Competición","Canaria"]
["3852098","González Brito, Gloria","3D","D",{"$f":"VLOOKUP(C4013,Referencias!$C$4:$D$21,2,FALSE())","v":"Tercera Diamante"},{"$f":"VLOOKUP(I4013,Referencias!$B$24:$C$41,2,FALSE())","v":"CANAR "},{"$f":"VLOOKUP(C4013,Referencias!$C$4:$E$21,3,FALSE())","v":3},"Competición","Canaria"]
["3852099","Torné Noya, Juan Manuel","3D","C",{"$f":"VLOOKUP(C4014,Referencias!$C$4:$D$21,2,FALSE())","v":"Tercera Diamante"},{"$f":"VLOOKUP(I4014,Referencias!$B$24:$C$41,2,FALSE())","v":"CANAR "},{"$f":"VLOOKUP(C4014,Referencias!$C$4:$E$21,3,FALSE())","v":3},"Competición","Canaria"]
["3852100","Méndez Febles, Ramón Juan","3D","C",{"$f":"VLOOKUP(C4015,Referencias!$C$4:$D$21,2,FALSE())","v":"Tercera Diamante"},{"$f":"VLOOKUP(I4015,Referencias!$B$24:$C$41,2,FALSE())","v":"CANAR "},{"$f":"VLOOKUP(C4015,Referencias!$C$4:$E$21,3,FALSE())","v":3},"Competición","Canaria"]
["3852108","Rivera Saaco, Martha Azucena","3D","D",{"$f":"VLOOKUP(C4016,Referencias!$C$4:$D$21,2,FALSE())","v":"Tercera Diamante"},{"$f":"VLOOKUP(I4016,Referencias!$B$24:$C$41,2,FALSE())","v":"CANAR "},{"$f":"VLOOKUP(C4016,Referencias!$C$4:$E$21,3,FALSE())","v":3},"Competición","Canaria"]
["3852109","Badt Blanchard, Verónica","3D","D",{"$f":"VLOOKUP(C4017,Referencias!$C$4:$D$21,2,FALSE())","v":"Tercera Diamante"},{"$f":"VLOOKUP(I4017,Referencias!$B$24:$C$41,2,FALSE())","v":"CANAR "},{"$f":"VLOOKUP(C4017,Referencias!$C$4:$E$21,3,FALSE())","v":3},"Competición","Canaria"]
["3852110","García Pérez, Yaiza Nieves","3D","D",{"$f":"VLOOKUP(C4018,Referencias!$C$4:$D$21,2,FALSE())","v":"Tercera Diamante"},{"$f":"VLOOKUP(I4018,Referencias!$B$24:$C$41,2,FALSE())","v":"CANAR "},{"$f":"VLOOKUP(C4018,Referencias!$C$4:$E$21,3,FALSE())","v":3},"Competición","Canaria"]
["3852111","Hyman Schneider, Larry","3D","C",{"$f":"VLOOKUP(C4019,Referencias!$C$4:$D$21,2,FALSE())","v":"Tercera Diamante"},{"$f":"VLOOKUP(I4019,Referencias!$B$24:$C$41,2,FALSE())","v":"CANAR "},{"$f":"VLOOKUP(C4019,Referencias!$C$4:$E$21,3,FALSE())","v":3},"Competición","Canaria"]
["3852112","Tendillo Cortijo, Ana Isabel","3D","D",{"$f":"VLOOKUP(C4020,Referencias!$C$4:$D$21,2,FALSE())","v":"Tercera Diamante"},{"$f":"VLOOKUP(I4020,Referencias!$B$24:$C$41,2,FALSE())","v":"CANAR "},{"$f":"VLOOKUP(C4020,Referencias!$C$4:$E$21,3,FALSE())","v":3},"Competición","Canaria"]
["3852113","Castro Penedo, Juan Antonio","3D","C",{"$f":"VLOOKUP(C4021,Referencias!$C$4:$D$21,2,FALSE())","v":"Tercera Diamante"},{"$f":"VLOOKUP(I4021,Referencias!$B$24:$C$41,2,FALSE())","v":"CANAR "},{"$f":"VLOOKUP(C4021,Referencias!$C$4:$E$21,3,FALSE())","v":3},"Competición","Canaria"]
["3852114","Curbelo Gallo, María de los Reyes","3D","D",{"$f":"VLOOKUP(C4022,Referencias!$C$4:$D$21,2,FALSE())","v":"Tercera Diamante"},{"$f":"VLOOKUP(I4022,Referencias!$B$24:$C$41,2,FALSE())","v":"CANAR "},{"$f":"VLOOKUP(C4022,Referencias!$C$4:$E$21,3,FALSE())","v":3},"Competición","Canaria"]
["3852115","Herreros Linares, María Asunción","3D","D",{"$f":"VLOOKUP(C4023,Referencias!$C$4:$D$21,2,FALSE())","v":"Tercera Diamante"},{"$f":"VLOOKUP(I4023,Referencias!$B$24:$C$41,2,FALSE())","v":"CANAR "},{"$f":"VLOOKUP(C4023,Referencias!$C$4:$E$21,3,FALSE())","v":3},"Competición","Canaria"]
["3852116","Cortés Jaubert, Cristina","3D","D",{"$f":"VLOOKUP(C4024,Referencias!$C$4:$D$21,2,FALSE())","v":"Tercera Diamante"},{"$f":"VLOOKUP(I4024,Referencias!$B$24:$C$41,2,FALSE())","v":"CANAR "},{"$f":"VLOOKUP(C4024,Referencias!$C$4:$E$21,3,FALSE())","v":3},"Competición","Canaria"]
["3852117","de Olano de Lorenzo-Cáceres, María Soledad","3D","D",{"$f":"VLOOKUP(C4025,Referencias!$C$4:$D$21,2,FALSE())","v":"Tercera Diamante"},{"$f":"VLOOKUP(I4025,Referencias!$B$24:$C$41,2,FALSE())","v":"CANAR "},{"$f":"VLOOKUP(C4025,Referencias!$C$4:$E$21,3,FALSE())","v":3},"Competición","Canaria"]
["3852118","Ucelay Ucelay, María Concepción","3D","D",{"$f":"VLOOKUP(C4026,Referencias!$C$4:$D$21,2,FALSE())","v":"Tercera Diamante"},{"$f":"VLOOKUP(I4026,Referencias!$B$24:$C$41,2,FALSE())","v":"CANAR "},{"$f":"VLOOKUP(C4026,Referencias!$C$4:$E$21,3,FALSE())","v":3},"Competición","Canaria"]
["3852119","Kitcher, Geoffrey Edward","3D","C",{"$f":"VLOOKUP(C4027,Referencias!$C$4:$D$21,2,FALSE())","v":"Tercera Diamante"},{"$f":"VLOOKUP(I4027,Referencias!$B$24:$C$41,2,FALSE())","v":"CANAR "},{"$f":"VLOOKUP(C4027,Referencias!$C$4:$E$21,3,FALSE())","v":3},"Competición","Canaria"]
["3852121","Sánchez Campos, Isabel","3D","D",{"$f":"VLOOKUP(C4028,Referencias!$C$4:$D$21,2,FALSE())","v":"Tercera Diamante"},{"$f":"VLOOKUP(I4028,Referencias!$B$24:$C$41,2,FALSE())","v":"CANAR "},{"$f":"VLOOKUP(C4028,Referencias!$C$4:$E$21,3,FALSE())","v":3},"Competición","Canaria"]
["3852122","Ortiz Cruz, Manuel","3D","C",{"$f":"VLOOKUP(C4029,Referencias!$C$4:$D$21,2,FALSE())","v":"Tercera Diamante"},{"$f":"VLOOKUP(I4029,Referencias!$B$24:$C$41,2,FALSE())","v":"CANAR "},{"$f":"VLOOKUP(C4029,Referencias!$C$4:$E$21,3,FALSE())","v":3},"Competición","Canaria"]
["3852123","Díaz Rey, Clara Eugenia","3D","D",{"$f":"VLOOKUP(C4030,Referencias!$C$4:$D$21,2,FALSE())","v":"Tercera Diamante"},{"$f":"VLOOKUP(I4030,Referencias!$B$24:$C$41,2,FALSE())","v":"CANAR "},{"$f":"VLOOKUP(C4030,Referencias!$C$4:$E$21,3,FALSE())","v":3},"Competición","Canaria"]
["3854425","López Izquierdo, Antonio","1P","C",{"$f":"VLOOKUP(C4031,Referencias!$C$4:$D$21,2,FALSE())","v":"Primera Picas"},{"$f":"VLOOKUP(I4031,Referencias!$B$24:$C$41,2,FALSE())","v":"CANAR "},{"$f":"VLOOKUP(C4031,Referencias!$C$4:$E$21,3,FALSE())","v":1},"Competición","Canaria"]
["3854450","Marrero Fernández, Maria del Pilar","2P","D",{"$f":"VLOOKUP(C4032,Referencias!$C$4:$D$21,2,FALSE())","v":"Segunda Picas"},{"$f":"VLOOKUP(I4032,Referencias!$B$24:$C$41,2,FALSE())","v":"CANAR "},{"$f":"VLOOKUP(C4032,Referencias!$C$4:$E$21,3,FALSE())","v":2},"Competición","Canaria"]
["3854464","Yanes Herreros, Aureliano","3D","C",{"$f":"VLOOKUP(C4033,Referencias!$C$4:$D$21,2,FALSE())","v":"Tercera Diamante"},{"$f":"VLOOKUP(I4033,Referencias!$B$24:$C$41,2,FALSE())","v":"CANAR "},{"$f":"VLOOKUP(C4033,Referencias!$C$4:$E$21,3,FALSE())","v":3},"Competición","Canaria"]
["3854466","Elejabeitia Acevedo, Pedro María","3D","C",{"$f":"VLOOKUP(C4034,Referencias!$C$4:$D$21,2,FALSE())","v":"Tercera Diamante"},{"$f":"VLOOKUP(I4034,Referencias!$B$24:$C$41,2,FALSE())","v":"CANAR "},{"$f":"VLOOKUP(C4034,Referencias!$C$4:$E$21,3,FALSE())","v":3},"Competición","Canaria"]
["3854467","Velu Junquil, Liliane","3D","D",{"$f":"VLOOKUP(C4035,Referencias!$C$4:$D$21,2,FALSE())","v":"Tercera Diamante"},{"$f":"VLOOKUP(I4035,Referencias!$B$24:$C$41,2,FALSE())","v":"CANAR "},{"$f":"VLOOKUP(C4035,Referencias!$C$4:$E$21,3,FALSE())","v":3},"Competición","Canaria"]
["3854481","Otero Gómez, Ana","3C","D",{"$f":"VLOOKUP(C4036,Referencias!$C$4:$D$21,2,FALSE())","v":"Tercera Corazón"},{"$f":"VLOOKUP(I4036,Referencias!$B$24:$C$41,2,FALSE())","v":"CANAR "},{"$f":"VLOOKUP(C4036,Referencias!$C$4:$E$21,3,FALSE())","v":3},"Competición","Canaria"]
["3857047","Pérez Lecuona de Segovia, María José","2P","D",{"$f":"VLOOKUP(C4037,Referencias!$C$4:$D$21,2,FALSE())","v":"Segunda Picas"},{"$f":"VLOOKUP(I4037,Referencias!$B$24:$C$41,2,FALSE())","v":"CANAR "},{"$f":"VLOOKUP(C4037,Referencias!$C$4:$E$21,3,FALSE())","v":2},"Competición","Canaria"]
["3857052","Segovia Cabrera, Rafael","3P","C",{"$f":"VLOOKUP(C4038,Referencias!$C$4:$D$21,2,FALSE())","v":"Tercera Picas"},{"$f":"VLOOKUP(I4038,Referencias!$B$24:$C$41,2,FALSE())","v":"CANAR "},{"$f":"VLOOKUP(C4038,Referencias!$C$4:$E$21,3,FALSE())","v":3},"Competición","Canaria"]
["3991002","Ramírez Carballedo, Esther","2C","D",{"$f":"VLOOKUP(C4039,Referencias!$C$4:$D$21,2,FALSE())","v":"Segunda Corazón"},{"$f":"VLOOKUP(I4039,Referencias!$B$24:$C$41,2,FALSE())","v":"CANT"},{"$f":"VLOOKUP(C4039,Referencias!$C$4:$E$21,3,FALSE())","v":2},"Competición","Cántabra"]
["3991017","Ribalaygua García, María José","1D","D",{"$f":"VLOOKUP(C4040,Referencias!$C$4:$D$21,2,FALSE())","v":"Primera Diamante"},{"$f":"VLOOKUP(I4040,Referencias!$B$24:$C$41,2,FALSE())","v":"PV"},{"$f":"VLOOKUP(C4040,Referencias!$C$4:$E$21,3,FALSE())","v":1},"Competición","Vasca"]
["3991018","Capa Domecq, Luisa Fernanda","3D","D",{"$f":"VLOOKUP(C4041,Referencias!$C$4:$D$21,2,FALSE())","v":"Tercera Diamante"},{"$f":"VLOOKUP(I4041,Referencias!$B$24:$C$41,2,FALSE())","v":"CANT"},{"$f":"VLOOKUP(C4041,Referencias!$C$4:$E$21,3,FALSE())","v":3},"Competición","Cántabra"]
["3991020","Milicua Salamero, Consuelo","1C","D",{"$f":"VLOOKUP(C4042,Referencias!$C$4:$D$21,2,FALSE())","v":"Primera Corazón"},{"$f":"VLOOKUP(I4042,Referencias!$B$24:$C$41,2,FALSE())","v":"CANT"},{"$f":"VLOOKUP(C4042,Referencias!$C$4:$E$21,3,FALSE())","v":1},"Competición","Cántabra"]
["3991021","García López, Anunciación Teresa","2D","D",{"$f":"VLOOKUP(C4043,Referencias!$C$4:$D$21,2,FALSE())","v":"Segunda Diamante"},{"$f":"VLOOKUP(I4043,Referencias!$B$24:$C$41,2,FALSE())","v":"CANT"},{"$f":"VLOOKUP(C4043,Referencias!$C$4:$E$21,3,FALSE())","v":2},"Competición","Cántabra"]
["3991026","Castillo Alonso, María del Carmen","3P","D",{"$f":"VLOOKUP(C4044,Referencias!$C$4:$D$21,2,FALSE())","v":"Tercera Picas"},{"$f":"VLOOKUP(I4044,Referencias!$B$24:$C$41,2,FALSE())","v":"CANT"},{"$f":"VLOOKUP(C4044,Referencias!$C$4:$E$21,3,FALSE())","v":3},"Competición","Cántabra"]
["3991036","Mantecón Artasanchez, Pilar","3C","D",{"$f":"VLOOKUP(C4045,Referencias!$C$4:$D$21,2,FALSE())","v":"Tercera Corazón"},{"$f":"VLOOKUP(I4045,Referencias!$B$24:$C$41,2,FALSE())","v":"CANT"},{"$f":"VLOOKUP(C4045,Referencias!$C$4:$E$21,3,FALSE())","v":3},"Competición","Cántabra"]
["3991038","Elices González, Rosa Mª","2C","D",{"$f":"VLOOKUP(C4046,Referencias!$C$4:$D$21,2,FALSE())","v":"Segunda Corazón"},{"$f":"VLOOKUP(I4046,Referencias!$B$24:$C$41,2,FALSE())","v":"CANT"},{"$f":"VLOOKUP(C4046,Referencias!$C$4:$E$21,3,FALSE())","v":2},"Competición","Cántabra"]
["3991040","García Sarmiento, María Teresa","1C","D",{"$f":"VLOOKUP(C4047,Referencias!$C$4:$D$21,2,FALSE())","v":"Primera Corazón"},{"$f":"VLOOKUP(I4047,Referencias!$B$24:$C$41,2,FALSE())","v":"CANT"},{"$f":"VLOOKUP(C4047,Referencias!$C$4:$E$21,3,FALSE())","v":1},"Competición","Cántabra"]
["3991045","Viejo García, Rita","1P","D",{"$f":"VLOOKUP(C4048,Referencias!$C$4:$D$21,2,FALSE())","v":"Primera Picas"},{"$f":"VLOOKUP(I4048,Referencias!$B$24:$C$41,2,FALSE())","v":"CANT"},{"$f":"VLOOKUP(C4048,Referencias!$C$4:$E$21,3,FALSE())","v":1},"Competición","Cántabra"]
["3991048","de la Maza Huidobro, Manuel","1P","C",{"$f":"VLOOKUP(C4049,Referencias!$C$4:$D$21,2,FALSE())","v":"Primera Picas"},{"$f":"VLOOKUP(I4049,Referencias!$B$24:$C$41,2,FALSE())","v":"CANT"},{"$f":"VLOOKUP(C4049,Referencias!$C$4:$E$21,3,FALSE())","v":1},"Competición","Cántabra"]
["3991052","Garmendia, Esperanza","2D","D",{"$f":"VLOOKUP(C4050,Referencias!$C$4:$D$21,2,FALSE())","v":"Segunda Diamante"},{"$f":"VLOOKUP(I4050,Referencias!$B$24:$C$41,2,FALSE())","v":"CANT"},{"$f":"VLOOKUP(C4050,Referencias!$C$4:$E$21,3,FALSE())","v":2},"Competición","Cántabra"]
["3991063","Rivas Lera, Paquita","3P","D",{"$f":"VLOOKUP(C4051,Referencias!$C$4:$D$21,2,FALSE())","v":"Tercera Picas"},{"$f":"VLOOKUP(I4051,Referencias!$B$24:$C$41,2,FALSE())","v":"CANT"},{"$f":"VLOOKUP(C4051,Referencias!$C$4:$E$21,3,FALSE())","v":3},"Competición","Cántabra"]
["3991065","Zatón Gómez, María Teresa","1D","D",{"$f":"VLOOKUP(C4052,Referencias!$C$4:$D$21,2,FALSE())","v":"Primera Diamante"},{"$f":"VLOOKUP(I4052,Referencias!$B$24:$C$41,2,FALSE())","v":"CANT"},{"$f":"VLOOKUP(C4052,Referencias!$C$4:$E$21,3,FALSE())","v":1},"Competición","Cántabra"]
["3991067","Barrutieta Pérez, Carmela","1D","D",{"$f":"VLOOKUP(C4053,Referencias!$C$4:$D$21,2,FALSE())","v":"Primera Diamante"},{"$f":"VLOOKUP(I4053,Referencias!$B$24:$C$41,2,FALSE())","v":"CANT"},{"$f":"VLOOKUP(C4053,Referencias!$C$4:$E$21,3,FALSE())","v":1},"Competición","Cántabra"]
["3991069","Sierra Presmanes, Josefina","2D","D",{"$f":"VLOOKUP(C4054,Referencias!$C$4:$D$21,2,FALSE())","v":"Segunda Diamante"},{"$f":"VLOOKUP(I4054,Referencias!$B$24:$C$41,2,FALSE())","v":"CANT"},{"$f":"VLOOKUP(C4054,Referencias!$C$4:$E$21,3,FALSE())","v":2},"Competición","Cántabra"]
["3991076","del Río Seoane, María Esther","3C","D",{"$f":"VLOOKUP(C4055,Referencias!$C$4:$D$21,2,FALSE())","v":"Tercera Corazón"},{"$f":"VLOOKUP(I4055,Referencias!$B$24:$C$41,2,FALSE())","v":"CANT"},{"$f":"VLOOKUP(C4055,Referencias!$C$4:$E$21,3,FALSE())","v":3},"Competición","Cántabra"]
["3991078","Navarro Concha, Isabel","3P","D",{"$f":"VLOOKUP(C4056,Referencias!$C$4:$D$21,2,FALSE())","v":"Tercera Picas"},{"$f":"VLOOKUP(I4056,Referencias!$B$24:$C$41,2,FALSE())","v":"CANT"},{"$f":"VLOOKUP(C4056,Referencias!$C$4:$E$21,3,FALSE())","v":3},"Competición","Cántabra"]
["3991079","Arroyo Cruz, Concepción","3P","D",{"$f":"VLOOKUP(C4057,Referencias!$C$4:$D$21,2,FALSE())","v":"Tercera Picas"},{"$f":"VLOOKUP(I4057,Referencias!$B$24:$C$41,2,FALSE())","v":"CANT"},{"$f":"VLOOKUP(C4057,Referencias!$C$4:$E$21,3,FALSE())","v":3},"Competición","Cántabra"]
["3991080","Falcones González, Mercedes","3P","D",{"$f":"VLOOKUP(C4058,Referencias!$C$4:$D$21,2,FALSE())","v":"Tercera Picas"},{"$f":"VLOOKUP(I4058,Referencias!$B$24:$C$41,2,FALSE())","v":"CANT"},{"$f":"VLOOKUP(C4058,Referencias!$C$4:$E$21,3,FALSE())","v":3},"Competición","Cántabra"]
["3991084","Martín Malo, María Isabel","2C","D",{"$f":"VLOOKUP(C4059,Referencias!$C$4:$D$21,2,FALSE())","v":"Segunda Corazón"},{"$f":"VLOOKUP(I4059,Referencias!$B$24:$C$41,2,FALSE())","v":"CANT"},{"$f":"VLOOKUP(C4059,Referencias!$C$4:$E$21,3,FALSE())","v":2},"Competición","Cántabra"]
["3991086","Quintana Serrano, Luisa María","3C","D",{"$f":"VLOOKUP(C4060,Referencias!$C$4:$D$21,2,FALSE())","v":"Tercera Corazón"},{"$f":"VLOOKUP(I4060,Referencias!$B$24:$C$41,2,FALSE())","v":"CANT"},{"$f":"VLOOKUP(C4060,Referencias!$C$4:$E$21,3,FALSE())","v":3},"Competición","Cántabra"]
["3991088","Valero San Emeterio, José Ignacio","1D","C",{"$f":"VLOOKUP(C4061,Referencias!$C$4:$D$21,2,FALSE())","v":"Primera Diamante"},{"$f":"VLOOKUP(I4061,Referencias!$B$24:$C$41,2,FALSE())","v":"CANT"},{"$f":"VLOOKUP(C4061,Referencias!$C$4:$E$21,3,FALSE())","v":1},"Competición","Cántabra"]
["3991092","Casuso Tapia, Isabel","3P","D",{"$f":"VLOOKUP(C4062,Referencias!$C$4:$D$21,2,FALSE())","v":"Tercera Picas"},{"$f":"VLOOKUP(I4062,Referencias!$B$24:$C$41,2,FALSE())","v":"CANT"},{"$f":"VLOOKUP(C4062,Referencias!$C$4:$E$21,3,FALSE())","v":3},"Competición","Cántabra"]
["3991093","Agudo Castanedo, Raquel","2D","D",{"$f":"VLOOKUP(C4063,Referencias!$C$4:$D$21,2,FALSE())","v":"Segunda Diamante"},{"$f":"VLOOKUP(I4063,Referencias!$B$24:$C$41,2,FALSE())","v":"CANT"},{"$f":"VLOOKUP(C4063,Referencias!$C$4:$E$21,3,FALSE())","v":2},"Competición","Cántabra"]
["3991098","García Bardón, Teresa","1P","D",{"$f":"VLOOKUP(C4064,Referencias!$C$4:$D$21,2,FALSE())","v":"Primera Picas"},{"$f":"VLOOKUP(I4064,Referencias!$B$24:$C$41,2,FALSE())","v":"CANT"},{"$f":"VLOOKUP(C4064,Referencias!$C$4:$E$21,3,FALSE())","v":1},"Competición","Cántabra"]
["3991100","Catalá Fernández, Carmen","3P","D",{"$f":"VLOOKUP(C4065,Referencias!$C$4:$D$21,2,FALSE())","v":"Tercera Picas"},{"$f":"VLOOKUP(I4065,Referencias!$B$24:$C$41,2,FALSE())","v":"CANT"},{"$f":"VLOOKUP(C4065,Referencias!$C$4:$E$21,3,FALSE())","v":3},"Competición","Cántabra"]
["3991101","Rodríguez Freire, Marisa","3P","D",{"$f":"VLOOKUP(C4066,Referencias!$C$4:$D$21,2,FALSE())","v":"Tercera Picas"},{"$f":"VLOOKUP(I4066,Referencias!$B$24:$C$41,2,FALSE())","v":"GAL"},{"$f":"VLOOKUP(C4066,Referencias!$C$4:$E$21,3,FALSE())","v":3},"Competición","Gallega"]
["3991102","Fano Casielles, Ana","3C","D",{"$f":"VLOOKUP(C4067,Referencias!$C$4:$D$21,2,FALSE())","v":"Tercera Corazón"},{"$f":"VLOOKUP(I4067,Referencias!$B$24:$C$41,2,FALSE())","v":"CANT"},{"$f":"VLOOKUP(C4067,Referencias!$C$4:$E$21,3,FALSE())","v":3},"Competición","Cántabra"]
["3991125","Vaquer Beltran, Celia","3D","D",{"$f":"VLOOKUP(C4068,Referencias!$C$4:$D$21,2,FALSE())","v":"Tercera Diamante"},{"$f":"VLOOKUP(I4068,Referencias!$B$24:$C$41,2,FALSE())","v":"CANT"},{"$f":"VLOOKUP(C4068,Referencias!$C$4:$E$21,3,FALSE())","v":3},"Competición","Cántabra"]
["3991126","Velasco Fierro, Mª Pilar","3C","D",{"$f":"VLOOKUP(C4069,Referencias!$C$4:$D$21,2,FALSE())","v":"Tercera Corazón"},{"$f":"VLOOKUP(I4069,Referencias!$B$24:$C$41,2,FALSE())","v":"CANT"},{"$f":"VLOOKUP(C4069,Referencias!$C$4:$E$21,3,FALSE())","v":3},"Competición","Cántabra"]
["3991136","Peña González, Susana","3D","D",{"$f":"VLOOKUP(C4070,Referencias!$C$4:$D$21,2,FALSE())","v":"Tercera Diamante"},{"$f":"VLOOKUP(I4070,Referencias!$B$24:$C$41,2,FALSE())","v":"CANT"},{"$f":"VLOOKUP(C4070,Referencias!$C$4:$E$21,3,FALSE())","v":3},"Competición","Cántabra"]
["3991141","Ribas Barceló, Catalina","2D","D",{"$f":"VLOOKUP(C4071,Referencias!$C$4:$D$21,2,FALSE())","v":"Segunda Diamante"},{"$f":"VLOOKUP(I4071,Referencias!$B$24:$C$41,2,FALSE())","v":"CANT"},{"$f":"VLOOKUP(C4071,Referencias!$C$4:$E$21,3,FALSE())","v":2},"Competición","Cántabra"]
["3991146","Saiz Gómez, Elena","2D","D",{"$f":"VLOOKUP(C4072,Referencias!$C$4:$D$21,2,FALSE())","v":"Segunda Diamante"},{"$f":"VLOOKUP(I4072,Referencias!$B$24:$C$41,2,FALSE())","v":"CANT"},{"$f":"VLOOKUP(C4072,Referencias!$C$4:$E$21,3,FALSE())","v":2},"Competición","Cántabra"]
["3991155","Fernández Baldor Salomón, María Pilar","3D","D",{"$f":"VLOOKUP(C4073,Referencias!$C$4:$D$21,2,FALSE())","v":"Tercera Diamante"},{"$f":"VLOOKUP(I4073,Referencias!$B$24:$C$41,2,FALSE())","v":"CANT"},{"$f":"VLOOKUP(C4073,Referencias!$C$4:$E$21,3,FALSE())","v":3},"Competición","Cántabra"]
["3991162","Mancebo, Purificación","1D","D",{"$f":"VLOOKUP(C4074,Referencias!$C$4:$D$21,2,FALSE())","v":"Primera Diamante"},{"$f":"VLOOKUP(I4074,Referencias!$B$24:$C$41,2,FALSE())","v":"CANT"},{"$f":"VLOOKUP(C4074,Referencias!$C$4:$E$21,3,FALSE())","v":1},"Competición","Cántabra"]
["3991168","Fernández Gutiérrez, Olga","3D","D",{"$f":"VLOOKUP(C4075,Referencias!$C$4:$D$21,2,FALSE())","v":"Tercera Diamante"},{"$f":"VLOOKUP(I4075,Referencias!$B$24:$C$41,2,FALSE())","v":"CANT"},{"$f":"VLOOKUP(C4075,Referencias!$C$4:$E$21,3,FALSE())","v":3},"Competición","Cántabra"]
["3991184","Piñero Domecq, Rosa Ana","3D","D",{"$f":"VLOOKUP(C4076,Referencias!$C$4:$D$21,2,FALSE())","v":"Tercera Diamante"},{"$f":"VLOOKUP(I4076,Referencias!$B$24:$C$41,2,FALSE())","v":"CANT"},{"$f":"VLOOKUP(C4076,Referencias!$C$4:$E$21,3,FALSE())","v":3},"Competición","Cántabra"]
["3991191","Fernández Herrero, Elena","3C","D",{"$f":"VLOOKUP(C4077,Referencias!$C$4:$D$21,2,FALSE())","v":"Tercera Corazón"},{"$f":"VLOOKUP(I4077,Referencias!$B$24:$C$41,2,FALSE())","v":"CANT"},{"$f":"VLOOKUP(C4077,Referencias!$C$4:$E$21,3,FALSE())","v":3},"Competición","Cántabra"]
["3991192","Escallada Haya, Angela","1D","D",{"$f":"VLOOKUP(C4078,Referencias!$C$4:$D$21,2,FALSE())","v":"Primera Diamante"},{"$f":"VLOOKUP(I4078,Referencias!$B$24:$C$41,2,FALSE())","v":"CANT"},{"$f":"VLOOKUP(C4078,Referencias!$C$4:$E$21,3,FALSE())","v":1},"Competición","Cántabra"]
["3991193","Pellón Vela, Milagros","2C","D",{"$f":"VLOOKUP(C4079,Referencias!$C$4:$D$21,2,FALSE())","v":"Segunda Corazón"},{"$f":"VLOOKUP(I4079,Referencias!$B$24:$C$41,2,FALSE())","v":"CANT"},{"$f":"VLOOKUP(C4079,Referencias!$C$4:$E$21,3,FALSE())","v":2},"Competición","Cántabra"]
["3991194","Arroyo Valiente, Eva","3P","D",{"$f":"VLOOKUP(C4080,Referencias!$C$4:$D$21,2,FALSE())","v":"Tercera Picas"},{"$f":"VLOOKUP(I4080,Referencias!$B$24:$C$41,2,FALSE())","v":"CANT"},{"$f":"VLOOKUP(C4080,Referencias!$C$4:$E$21,3,FALSE())","v":3},"Competición","Cántabra"]
["3991199","Ansorena Rivas, Begoña","3D","D",{"$f":"VLOOKUP(C4081,Referencias!$C$4:$D$21,2,FALSE())","v":"Tercera Diamante"},{"$f":"VLOOKUP(I4081,Referencias!$B$24:$C$41,2,FALSE())","v":"CANT"},{"$f":"VLOOKUP(C4081,Referencias!$C$4:$E$21,3,FALSE())","v":3},"Competición","Cántabra"]
["3991200","Sobrino Olazarán, Celia","2D","D",{"$f":"VLOOKUP(C4082,Referencias!$C$4:$D$21,2,FALSE())","v":"Segunda Diamante"},{"$f":"VLOOKUP(I4082,Referencias!$B$24:$C$41,2,FALSE())","v":"CANT"},{"$f":"VLOOKUP(C4082,Referencias!$C$4:$E$21,3,FALSE())","v":2},"Competición","Cántabra"]
["3991203","Díaz Macías, Paloma","3P","D",{"$f":"VLOOKUP(C4083,Referencias!$C$4:$D$21,2,FALSE())","v":"Tercera Picas"},{"$f":"VLOOKUP(I4083,Referencias!$B$24:$C$41,2,FALSE())","v":"CANT"},{"$f":"VLOOKUP(C4083,Referencias!$C$4:$E$21,3,FALSE())","v":3},"Competición","Cántabra"]
["3991208","Sánchez Ortega, Julia","3D","D",{"$f":"VLOOKUP(C4084,Referencias!$C$4:$D$21,2,FALSE())","v":"Tercera Diamante"},{"$f":"VLOOKUP(I4084,Referencias!$B$24:$C$41,2,FALSE())","v":"CANT"},{"$f":"VLOOKUP(C4084,Referencias!$C$4:$E$21,3,FALSE())","v":3},"Competición","Cántabra"]
["3991209","Echeandia Mota, Pilar","1P","D",{"$f":"VLOOKUP(C4085,Referencias!$C$4:$D$21,2,FALSE())","v":"Primera Picas"},{"$f":"VLOOKUP(I4085,Referencias!$B$24:$C$41,2,FALSE())","v":"CANT"},{"$f":"VLOOKUP(C4085,Referencias!$C$4:$E$21,3,FALSE())","v":1},"Competición","Cántabra"]
["3991210","Ajo González, María José","2D","D",{"$f":"VLOOKUP(C4086,Referencias!$C$4:$D$21,2,FALSE())","v":"Segunda Diamante"},{"$f":"VLOOKUP(I4086,Referencias!$B$24:$C$41,2,FALSE())","v":"CANT"},{"$f":"VLOOKUP(C4086,Referencias!$C$4:$E$21,3,FALSE())","v":2},"Competición","Cántabra"]
["3991211","García Amalric, María Anunciación","3C","D",{"$f":"VLOOKUP(C4087,Referencias!$C$4:$D$21,2,FALSE())","v":"Tercera Corazón"},{"$f":"VLOOKUP(I4087,Referencias!$B$24:$C$41,2,FALSE())","v":"CANT"},{"$f":"VLOOKUP(C4087,Referencias!$C$4:$E$21,3,FALSE())","v":3},"Competición","Cántabra"]
["3991212","Calzada García, Margarita","3D","D",{"$f":"VLOOKUP(C4088,Referencias!$C$4:$D$21,2,FALSE())","v":"Tercera Diamante"},{"$f":"VLOOKUP(I4088,Referencias!$B$24:$C$41,2,FALSE())","v":"CANT"},{"$f":"VLOOKUP(C4088,Referencias!$C$4:$E$21,3,FALSE())","v":3},"Competición","Cántabra"]
["3991215","Pérez Meliz, Lourdes","2C","D",{"$f":"VLOOKUP(C4089,Referencias!$C$4:$D$21,2,FALSE())","v":"Segunda Corazón"},{"$f":"VLOOKUP(I4089,Referencias!$B$24:$C$41,2,FALSE())","v":"CANT"},{"$f":"VLOOKUP(C4089,Referencias!$C$4:$E$21,3,FALSE())","v":2},"Competición","Cántabra"]
["3991216","Grassi Riccio, Magdalena","3D","D",{"$f":"VLOOKUP(C4090,Referencias!$C$4:$D$21,2,FALSE())","v":"Tercera Diamante"},{"$f":"VLOOKUP(I4090,Referencias!$B$24:$C$41,2,FALSE())","v":"CANT"},{"$f":"VLOOKUP(C4090,Referencias!$C$4:$E$21,3,FALSE())","v":3},"Competición","Cántabra"]
["3991217","Lamadrid, Laura Marie","3D","D",{"$f":"VLOOKUP(C4091,Referencias!$C$4:$D$21,2,FALSE())","v":"Tercera Diamante"},{"$f":"VLOOKUP(I4091,Referencias!$B$24:$C$41,2,FALSE())","v":"CANT"},{"$f":"VLOOKUP(C4091,Referencias!$C$4:$E$21,3,FALSE())","v":3},"Competición","Cántabra"]
["3991219","Aguiar Rodríguez, Aurora","2D","D",{"$f":"VLOOKUP(C4092,Referencias!$C$4:$D$21,2,FALSE())","v":"Segunda Diamante"},{"$f":"VLOOKUP(I4092,Referencias!$B$24:$C$41,2,FALSE())","v":"CANT"},{"$f":"VLOOKUP(C4092,Referencias!$C$4:$E$21,3,FALSE())","v":2},"Competición","Cántabra"]
["3991221","Loriente Zamora, Teresa","3C","D",{"$f":"VLOOKUP(C4093,Referencias!$C$4:$D$21,2,FALSE())","v":"Tercera Corazón"},{"$f":"VLOOKUP(I4093,Referencias!$B$24:$C$41,2,FALSE())","v":"CANT"},{"$f":"VLOOKUP(C4093,Referencias!$C$4:$E$21,3,FALSE())","v":3},"Competición","Cántabra"]
["3991222","Alonso de la Gala, Ana María","3D","D",{"$f":"VLOOKUP(C4094,Referencias!$C$4:$D$21,2,FALSE())","v":"Tercera Diamante"},{"$f":"VLOOKUP(I4094,Referencias!$B$24:$C$41,2,FALSE())","v":"CANT"},{"$f":"VLOOKUP(C4094,Referencias!$C$4:$E$21,3,FALSE())","v":3},"Competición","Cántabra"]
["3991232","Alonso García, Mª Luisa","1C","D",{"$f":"VLOOKUP(C4095,Referencias!$C$4:$D$21,2,FALSE())","v":"Primera Corazón"},{"$f":"VLOOKUP(I4095,Referencias!$B$24:$C$41,2,FALSE())","v":"CANT"},{"$f":"VLOOKUP(C4095,Referencias!$C$4:$E$21,3,FALSE())","v":1},"Competición","Cántabra"]
["3991236","Sáenz de Miera Gutiérrez, María Luisa","2C","D",{"$f":"VLOOKUP(C4096,Referencias!$C$4:$D$21,2,FALSE())","v":"Segunda Corazón"},{"$f":"VLOOKUP(I4096,Referencias!$B$24:$C$41,2,FALSE())","v":"CANT"},{"$f":"VLOOKUP(C4096,Referencias!$C$4:$E$21,3,FALSE())","v":2},"Competición","Cántabra"]
["3991239","Mirapeix Sobron, Carolina","3D","D",{"$f":"VLOOKUP(C4097,Referencias!$C$4:$D$21,2,FALSE())","v":"Tercera Diamante"},{"$f":"VLOOKUP(I4097,Referencias!$B$24:$C$41,2,FALSE())","v":"CANT"},{"$f":"VLOOKUP(C4097,Referencias!$C$4:$E$21,3,FALSE())","v":3},"Competición","Cántabra"]
["3991241","Alonso García, María Elena","3P","D",{"$f":"VLOOKUP(C4098,Referencias!$C$4:$D$21,2,FALSE())","v":"Tercera Picas"},{"$f":"VLOOKUP(I4098,Referencias!$B$24:$C$41,2,FALSE())","v":"CANT"},{"$f":"VLOOKUP(C4098,Referencias!$C$4:$E$21,3,FALSE())","v":3},"Competición","Cántabra"]
["3991243","Valencia Ulloa, María Dolores","3D","D",{"$f":"VLOOKUP(C4099,Referencias!$C$4:$D$21,2,FALSE())","v":"Tercera Diamante"},{"$f":"VLOOKUP(I4099,Referencias!$B$24:$C$41,2,FALSE())","v":"CANT"},{"$f":"VLOOKUP(C4099,Referencias!$C$4:$E$21,3,FALSE())","v":3},"Competición","Cántabra"]
["3991247","del Campo Blanco, Mª Dolores","2D","D",{"$f":"VLOOKUP(C4100,Referencias!$C$4:$D$21,2,FALSE())","v":"Segunda Diamante"},{"$f":"VLOOKUP(I4100,Referencias!$B$24:$C$41,2,FALSE())","v":"CANT"},{"$f":"VLOOKUP(C4100,Referencias!$C$4:$E$21,3,FALSE())","v":2},"Competición","Cántabra"]
["3991251","Albo Prieto, Mª Luisa","3C","D",{"$f":"VLOOKUP(C4101,Referencias!$C$4:$D$21,2,FALSE())","v":"Tercera Corazón"},{"$f":"VLOOKUP(I4101,Referencias!$B$24:$C$41,2,FALSE())","v":"CANT"},{"$f":"VLOOKUP(C4101,Referencias!$C$4:$E$21,3,FALSE())","v":3},"Competición","Cántabra"]
["3991253","Fernández Martínez, Beatriz","3D","D",{"$f":"VLOOKUP(C4102,Referencias!$C$4:$D$21,2,FALSE())","v":"Tercera Diamante"},{"$f":"VLOOKUP(I4102,Referencias!$B$24:$C$41,2,FALSE())","v":"CANT"},{"$f":"VLOOKUP(C4102,Referencias!$C$4:$E$21,3,FALSE())","v":3},"Competición","Cántabra"]
["3991255","Ayestarán de la Lama, Begoña","3C","D",{"$f":"VLOOKUP(C4103,Referencias!$C$4:$D$21,2,FALSE())","v":"Tercera Corazón"},{"$f":"VLOOKUP(I4103,Referencias!$B$24:$C$41,2,FALSE())","v":"CANT"},{"$f":"VLOOKUP(C4103,Referencias!$C$4:$E$21,3,FALSE())","v":3},"Competición","Cántabra"]
["3991256","Ruiloba Calzada, María Luz","3C","D",{"$f":"VLOOKUP(C4104,Referencias!$C$4:$D$21,2,FALSE())","v":"Tercera Corazón"},{"$f":"VLOOKUP(I4104,Referencias!$B$24:$C$41,2,FALSE())","v":"CANT"},{"$f":"VLOOKUP(C4104,Referencias!$C$4:$E$21,3,FALSE())","v":3},"Competición","Cántabra"]
["3991257","Fernández Maza, Ana Isabel","3D","D",{"$f":"VLOOKUP(C4105,Referencias!$C$4:$D$21,2,FALSE())","v":"Tercera Diamante"},{"$f":"VLOOKUP(I4105,Referencias!$B$24:$C$41,2,FALSE())","v":"CANT"},{"$f":"VLOOKUP(C4105,Referencias!$C$4:$E$21,3,FALSE())","v":3},"Competición","Cántabra"]
["3991259","Martínez Cortina, Begoña","3D","D",{"$f":"VLOOKUP(C4106,Referencias!$C$4:$D$21,2,FALSE())","v":"Tercera Diamante"},{"$f":"VLOOKUP(I4106,Referencias!$B$24:$C$41,2,FALSE())","v":"CANT"},{"$f":"VLOOKUP(C4106,Referencias!$C$4:$E$21,3,FALSE())","v":3},"Competición","Cántabra"]
["3991260","Guitián Rivas, Luisa","3C","D",{"$f":"VLOOKUP(C4107,Referencias!$C$4:$D$21,2,FALSE())","v":"Tercera Corazón"},{"$f":"VLOOKUP(I4107,Referencias!$B$24:$C$41,2,FALSE())","v":"CANT"},{"$f":"VLOOKUP(C4107,Referencias!$C$4:$E$21,3,FALSE())","v":3},"Competición","Cántabra"]
["3991266","Rebanal Vellido, Elisa","3P","D",{"$f":"VLOOKUP(C4108,Referencias!$C$4:$D$21,2,FALSE())","v":"Tercera Picas"},{"$f":"VLOOKUP(I4108,Referencias!$B$24:$C$41,2,FALSE())","v":"CANT"},{"$f":"VLOOKUP(C4108,Referencias!$C$4:$E$21,3,FALSE())","v":3},"Competición","Cántabra"]
["3991268","Guri Bormann, Elisabeth","3P","D",{"$f":"VLOOKUP(C4109,Referencias!$C$4:$D$21,2,FALSE())","v":"Tercera Picas"},{"$f":"VLOOKUP(I4109,Referencias!$B$24:$C$41,2,FALSE())","v":"CANT"},{"$f":"VLOOKUP(C4109,Referencias!$C$4:$E$21,3,FALSE())","v":3},"Competición","Cántabra"]
["3991270","Guri Bormann, Sylvia","3D","D",{"$f":"VLOOKUP(C4110,Referencias!$C$4:$D$21,2,FALSE())","v":"Tercera Diamante"},{"$f":"VLOOKUP(I4110,Referencias!$B$24:$C$41,2,FALSE())","v":"CANT"},{"$f":"VLOOKUP(C4110,Referencias!$C$4:$E$21,3,FALSE())","v":3},"Competición","Cántabra"]
["3991272","JuncoTorme, Dolores","1D","D",{"$f":"VLOOKUP(C4111,Referencias!$C$4:$D$21,2,FALSE())","v":"Primera Diamante"},{"$f":"VLOOKUP(I4111,Referencias!$B$24:$C$41,2,FALSE())","v":"CANT"},{"$f":"VLOOKUP(C4111,Referencias!$C$4:$E$21,3,FALSE())","v":1},"Competición","Cántabra"]
["3991274","Basoa Huidobro, Carmen","2D","D",{"$f":"VLOOKUP(C4112,Referencias!$C$4:$D$21,2,FALSE())","v":"Segunda Diamante"},{"$f":"VLOOKUP(I4112,Referencias!$B$24:$C$41,2,FALSE())","v":"CANT"},{"$f":"VLOOKUP(C4112,Referencias!$C$4:$E$21,3,FALSE())","v":2},"Competición","Cántabra"]
["3991276","Alonso Sánchez, Marta","2D","D",{"$f":"VLOOKUP(C4113,Referencias!$C$4:$D$21,2,FALSE())","v":"Segunda Diamante"},{"$f":"VLOOKUP(I4113,Referencias!$B$24:$C$41,2,FALSE())","v":"CANT"},{"$f":"VLOOKUP(C4113,Referencias!$C$4:$E$21,3,FALSE())","v":2},"Competición","Cántabra"]
["3991279","Rodriguez Escudero, Juan Carlos","2D","C",{"$f":"VLOOKUP(C4114,Referencias!$C$4:$D$21,2,FALSE())","v":"Segunda Diamante"},{"$f":"VLOOKUP(I4114,Referencias!$B$24:$C$41,2,FALSE())","v":"CANT"},{"$f":"VLOOKUP(C4114,Referencias!$C$4:$E$21,3,FALSE())","v":2},"Competición","Cántabra"]
["3991280","de la Torriente Ruigomez, Pilar","3D","D",{"$f":"VLOOKUP(C4115,Referencias!$C$4:$D$21,2,FALSE())","v":"Tercera Diamante"},{"$f":"VLOOKUP(I4115,Referencias!$B$24:$C$41,2,FALSE())","v":"CANT"},{"$f":"VLOOKUP(C4115,Referencias!$C$4:$E$21,3,FALSE())","v":3},"Competición","Cántabra"]
["3991281","de Torres-Solanot del Pino, María","3D","D",{"$f":"VLOOKUP(C4116,Referencias!$C$4:$D$21,2,FALSE())","v":"Tercera Diamante"},{"$f":"VLOOKUP(I4116,Referencias!$B$24:$C$41,2,FALSE())","v":"CANT"},{"$f":"VLOOKUP(C4116,Referencias!$C$4:$E$21,3,FALSE())","v":3},"Competición","Cántabra"]
["3991284","Gamo Macaya, Lourdes","3D","D",{"$f":"VLOOKUP(C4117,Referencias!$C$4:$D$21,2,FALSE())","v":"Tercera Diamante"},{"$f":"VLOOKUP(I4117,Referencias!$B$24:$C$41,2,FALSE())","v":"CANT"},{"$f":"VLOOKUP(C4117,Referencias!$C$4:$E$21,3,FALSE())","v":3},"Competición","Cántabra"]
["3991285","Miranda Díaz, Isabel","3P","D",{"$f":"VLOOKUP(C4118,Referencias!$C$4:$D$21,2,FALSE())","v":"Tercera Picas"},{"$f":"VLOOKUP(I4118,Referencias!$B$24:$C$41,2,FALSE())","v":"CANT"},{"$f":"VLOOKUP(C4118,Referencias!$C$4:$E$21,3,FALSE())","v":3},"Competición","Cántabra"]
["3991294","Martinez Galdos, Maria Teresa","3D","D",{"$f":"VLOOKUP(C4119,Referencias!$C$4:$D$21,2,FALSE())","v":"Tercera Diamante"},{"$f":"VLOOKUP(I4119,Referencias!$B$24:$C$41,2,FALSE())","v":"CANT"},{"$f":"VLOOKUP(C4119,Referencias!$C$4:$E$21,3,FALSE())","v":3},"Competición","Cántabra"]
["3991296","Garrido García, Pedro Pablo","3D","C",{"$f":"VLOOKUP(C4120,Referencias!$C$4:$D$21,2,FALSE())","v":"Tercera Diamante"},{"$f":"VLOOKUP(I4120,Referencias!$B$24:$C$41,2,FALSE())","v":"CANT"},{"$f":"VLOOKUP(C4120,Referencias!$C$4:$E$21,3,FALSE())","v":3},"Competición","Cántabra"]
["3991298","González de Riancho, María Rosa","3D","D",{"$f":"VLOOKUP(C4121,Referencias!$C$4:$D$21,2,FALSE())","v":"Tercera Diamante"},{"$f":"VLOOKUP(I4121,Referencias!$B$24:$C$41,2,FALSE())","v":"CANT"},{"$f":"VLOOKUP(C4121,Referencias!$C$4:$E$21,3,FALSE())","v":3},"Competición","Cántabra"]
["3991302","Cavero Usabel, Nieves","3D","D",{"$f":"VLOOKUP(C4122,Referencias!$C$4:$D$21,2,FALSE())","v":"Tercera Diamante"},{"$f":"VLOOKUP(I4122,Referencias!$B$24:$C$41,2,FALSE())","v":"CANT"},{"$f":"VLOOKUP(C4122,Referencias!$C$4:$E$21,3,FALSE())","v":3},"Competición","Cántabra"]
["3991304","de Pellón Pérez-Gallé, Maribel","2C","D",{"$f":"VLOOKUP(C4123,Referencias!$C$4:$D$21,2,FALSE())","v":"Segunda Corazón"},{"$f":"VLOOKUP(I4123,Referencias!$B$24:$C$41,2,FALSE())","v":"CANT"},{"$f":"VLOOKUP(C4123,Referencias!$C$4:$E$21,3,FALSE())","v":2},"Competición","Cántabra"]
["3991305","Arche Pajares, Beatriz","3D","D",{"$f":"VLOOKUP(C4124,Referencias!$C$4:$D$21,2,FALSE())","v":"Tercera Diamante"},{"$f":"VLOOKUP(I4124,Referencias!$B$24:$C$41,2,FALSE())","v":"CANT"},{"$f":"VLOOKUP(C4124,Referencias!$C$4:$E$21,3,FALSE())","v":3},"Competición","Cántabra"]
["3991306","Barez Gómez, Pilar","3D","D",{"$f":"VLOOKUP(C4125,Referencias!$C$4:$D$21,2,FALSE())","v":"Tercera Diamante"},{"$f":"VLOOKUP(I4125,Referencias!$B$24:$C$41,2,FALSE())","v":"CANT"},{"$f":"VLOOKUP(C4125,Referencias!$C$4:$E$21,3,FALSE())","v":3},"Competición","Cántabra"]
["3991307","Blanco Jiménez, Marisol","3D","D",{"$f":"VLOOKUP(C4126,Referencias!$C$4:$D$21,2,FALSE())","v":"Tercera Diamante"},{"$f":"VLOOKUP(I4126,Referencias!$B$24:$C$41,2,FALSE())","v":"CANT"},{"$f":"VLOOKUP(C4126,Referencias!$C$4:$E$21,3,FALSE())","v":3},"Competición","Cántabra"]
["3991309","Gómez Correa, Marta","3D","D",{"$f":"VLOOKUP(C4127,Referencias!$C$4:$D$21,2,FALSE())","v":"Tercera Diamante"},{"$f":"VLOOKUP(I4127,Referencias!$B$24:$C$41,2,FALSE())","v":"CANT"},{"$f":"VLOOKUP(C4127,Referencias!$C$4:$E$21,3,FALSE())","v":3},"Competición","Cántabra"]
["3991311","Herrán Pérez, María Dolores","3D","D",{"$f":"VLOOKUP(C4128,Referencias!$C$4:$D$21,2,FALSE())","v":"Tercera Diamante"},{"$f":"VLOOKUP(I4128,Referencias!$B$24:$C$41,2,FALSE())","v":"CANT"},{"$f":"VLOOKUP(C4128,Referencias!$C$4:$E$21,3,FALSE())","v":3},"Competición","Cántabra"]
["3991314","Toural Méndez, Elvira","3D","D",{"$f":"VLOOKUP(C4129,Referencias!$C$4:$D$21,2,FALSE())","v":"Tercera Diamante"},{"$f":"VLOOKUP(I4129,Referencias!$B$24:$C$41,2,FALSE())","v":"CANT"},{"$f":"VLOOKUP(C4129,Referencias!$C$4:$E$21,3,FALSE())","v":3},"Competición","Cántabra"]
["3991316","Arranz Carrillo de Albornoz, Leopoldo","3D","C",{"$f":"VLOOKUP(C4130,Referencias!$C$4:$D$21,2,FALSE())","v":"Tercera Diamante"},{"$f":"VLOOKUP(I4130,Referencias!$B$24:$C$41,2,FALSE())","v":"CANT"},{"$f":"VLOOKUP(C4130,Referencias!$C$4:$E$21,3,FALSE())","v":3},"Competición","Cántabra"]
["3991317","Navarro Guerecaechevarría, Emma","2D","D",{"$f":"VLOOKUP(C4131,Referencias!$C$4:$D$21,2,FALSE())","v":"Segunda Diamante"},{"$f":"VLOOKUP(I4131,Referencias!$B$24:$C$41,2,FALSE())","v":"CANT"},{"$f":"VLOOKUP(C4131,Referencias!$C$4:$E$21,3,FALSE())","v":2},"Competición","Cántabra"]
["3991318","Allende Landa, Kety","1C","D",{"$f":"VLOOKUP(C4132,Referencias!$C$4:$D$21,2,FALSE())","v":"Primera Corazón"},{"$f":"VLOOKUP(I4132,Referencias!$B$24:$C$41,2,FALSE())","v":"CANT"},{"$f":"VLOOKUP(C4132,Referencias!$C$4:$E$21,3,FALSE())","v":1},"Competición","Cántabra"]
["3991319","Hornedo Iñigo, Susana","3D","D",{"$f":"VLOOKUP(C4133,Referencias!$C$4:$D$21,2,FALSE())","v":"Tercera Diamante"},{"$f":"VLOOKUP(I4133,Referencias!$B$24:$C$41,2,FALSE())","v":"CANT"},{"$f":"VLOOKUP(C4133,Referencias!$C$4:$E$21,3,FALSE())","v":3},"Competición","Cántabra"]
["3991320","González Setien, María Leticia","3C","D",{"$f":"VLOOKUP(C4134,Referencias!$C$4:$D$21,2,FALSE())","v":"Tercera Corazón"},{"$f":"VLOOKUP(I4134,Referencias!$B$24:$C$41,2,FALSE())","v":"CANT"},{"$f":"VLOOKUP(C4134,Referencias!$C$4:$E$21,3,FALSE())","v":3},"Competición","Cántabra"]
["3991323","Madariaga Casuso, Angel","2C","C",{"$f":"VLOOKUP(C4135,Referencias!$C$4:$D$21,2,FALSE())","v":"Segunda Corazón"},{"$f":"VLOOKUP(I4135,Referencias!$B$24:$C$41,2,FALSE())","v":"CANT"},{"$f":"VLOOKUP(C4135,Referencias!$C$4:$E$21,3,FALSE())","v":2},"Competición","Cántabra"]
["3991324","Díaz de Terán Mira, María del Carmen","3D","D",{"$f":"VLOOKUP(C4136,Referencias!$C$4:$D$21,2,FALSE())","v":"Tercera Diamante"},{"$f":"VLOOKUP(I4136,Referencias!$B$24:$C$41,2,FALSE())","v":"CANT"},{"$f":"VLOOKUP(C4136,Referencias!$C$4:$E$21,3,FALSE())","v":3},"Competición","Cántabra"]
["3991325","Mazo Perez, María Belén","3D","D",{"$f":"VLOOKUP(C4137,Referencias!$C$4:$D$21,2,FALSE())","v":"Tercera Diamante"},{"$f":"VLOOKUP(I4137,Referencias!$B$24:$C$41,2,FALSE())","v":"CANT"},{"$f":"VLOOKUP(C4137,Referencias!$C$4:$E$21,3,FALSE())","v":3},"Competición","Cántabra"]
["3991327","Gómez-Barreda García, Chabela","3D","D",{"$f":"VLOOKUP(C4138,Referencias!$C$4:$D$21,2,FALSE())","v":"Tercera Diamante"},{"$f":"VLOOKUP(I4138,Referencias!$B$24:$C$41,2,FALSE())","v":"CANT"},{"$f":"VLOOKUP(C4138,Referencias!$C$4:$E$21,3,FALSE())","v":3},"Competición","Cántabra"]
["3991329","Villafañe Martinez, Silvia","3D","D",{"$f":"VLOOKUP(C4139,Referencias!$C$4:$D$21,2,FALSE())","v":"Tercera Diamante"},{"$f":"VLOOKUP(I4139,Referencias!$B$24:$C$41,2,FALSE())","v":"CANT"},{"$f":"VLOOKUP(C4139,Referencias!$C$4:$E$21,3,FALSE())","v":3},"Competición","Cántabra"]
["3991330","Mariño Canchal, Mª Consuelo","3D","D",{"$f":"VLOOKUP(C4140,Referencias!$C$4:$D$21,2,FALSE())","v":"Tercera Diamante"},{"$f":"VLOOKUP(I4140,Referencias!$B$24:$C$41,2,FALSE())","v":"CANT"},{"$f":"VLOOKUP(C4140,Referencias!$C$4:$E$21,3,FALSE())","v":3},"Competición","Cántabra"]
["3991331","Campos Alonso, Victoria","3D","D",{"$f":"VLOOKUP(C4141,Referencias!$C$4:$D$21,2,FALSE())","v":"Tercera Diamante"},{"$f":"VLOOKUP(I4141,Referencias!$B$24:$C$41,2,FALSE())","v":"CANT"},{"$f":"VLOOKUP(C4141,Referencias!$C$4:$E$21,3,FALSE())","v":3},"Competición","Cántabra"]
["3991332","Malo Mateo, Mónica","3D","D",{"$f":"VLOOKUP(C4142,Referencias!$C$4:$D$21,2,FALSE())","v":"Tercera Diamante"},{"$f":"VLOOKUP(I4142,Referencias!$B$24:$C$41,2,FALSE())","v":"CANT"},{"$f":"VLOOKUP(C4142,Referencias!$C$4:$E$21,3,FALSE())","v":3},"Competición","Cántabra"]
["3991333","Verdeja Lizama, Virginia","3D","D",{"$f":"VLOOKUP(C4143,Referencias!$C$4:$D$21,2,FALSE())","v":"Tercera Diamante"},{"$f":"VLOOKUP(I4143,Referencias!$B$24:$C$41,2,FALSE())","v":"CANT"},{"$f":"VLOOKUP(C4143,Referencias!$C$4:$E$21,3,FALSE())","v":3},"Competición","Cántabra"]
["3991334","González López, Luz","3D","D",{"$f":"VLOOKUP(C4144,Referencias!$C$4:$D$21,2,FALSE())","v":"Tercera Diamante"},{"$f":"VLOOKUP(I4144,Referencias!$B$24:$C$41,2,FALSE())","v":"CANT"},{"$f":"VLOOKUP(C4144,Referencias!$C$4:$E$21,3,FALSE())","v":3},"Competición","Cántabra"]
["3991335","Rezola Palacios, Mª Valvanera","3D","D",{"$f":"VLOOKUP(C4145,Referencias!$C$4:$D$21,2,FALSE())","v":"Tercera Diamante"},{"$f":"VLOOKUP(I4145,Referencias!$B$24:$C$41,2,FALSE())","v":"CANT"},{"$f":"VLOOKUP(C4145,Referencias!$C$4:$E$21,3,FALSE())","v":3},"Competición","Cántabra"]
["3991336","Alonso Garcia, José Ramón","2D","C",{"$f":"VLOOKUP(C4146,Referencias!$C$4:$D$21,2,FALSE())","v":"Segunda Diamante"},{"$f":"VLOOKUP(I4146,Referencias!$B$24:$C$41,2,FALSE())","v":"CANT"},{"$f":"VLOOKUP(C4146,Referencias!$C$4:$E$21,3,FALSE())","v":2},"Competición","Cántabra"]
["3991337","Martín Malo, Mª Pilar","3D","D",{"$f":"VLOOKUP(C4147,Referencias!$C$4:$D$21,2,FALSE())","v":"Tercera Diamante"},{"$f":"VLOOKUP(I4147,Referencias!$B$24:$C$41,2,FALSE())","v":"CANT"},{"$f":"VLOOKUP(C4147,Referencias!$C$4:$E$21,3,FALSE())","v":3},"Competición","Cántabra"]
["3991339","Sangrador Rasero, Ana María","3D","D",{"$f":"VLOOKUP(C4148,Referencias!$C$4:$D$21,2,FALSE())","v":"Tercera Diamante"},{"$f":"VLOOKUP(I4148,Referencias!$B$24:$C$41,2,FALSE())","v":"CANT"},{"$f":"VLOOKUP(C4148,Referencias!$C$4:$E$21,3,FALSE())","v":3},"Competición","Cántabra"]
["3991340","Sotres Rodriguez, Mª Esther","3D","D",{"$f":"VLOOKUP(C4149,Referencias!$C$4:$D$21,2,FALSE())","v":"Tercera Diamante"},{"$f":"VLOOKUP(I4149,Referencias!$B$24:$C$41,2,FALSE())","v":"CANT"},{"$f":"VLOOKUP(C4149,Referencias!$C$4:$E$21,3,FALSE())","v":3},"Competición","Cántabra"]
["3991341","Sánchez Bustamante, Mercedes","3D","D",{"$f":"VLOOKUP(C4150,Referencias!$C$4:$D$21,2,FALSE())","v":"Tercera Diamante"},{"$f":"VLOOKUP(I4150,Referencias!$B$24:$C$41,2,FALSE())","v":"CANT"},{"$f":"VLOOKUP(C4150,Referencias!$C$4:$E$21,3,FALSE())","v":3},"Competición","Cántabra"]
["3991342","Suárez Fernández, Lydia","3D","D",{"$f":"VLOOKUP(C4151,Referencias!$C$4:$D$21,2,FALSE())","v":"Tercera Diamante"},{"$f":"VLOOKUP(I4151,Referencias!$B$24:$C$41,2,FALSE())","v":"CANT"},{"$f":"VLOOKUP(C4151,Referencias!$C$4:$E$21,3,FALSE())","v":3},"Competición","Cántabra"]
["3991344","Revuelta de Arana, Carmen","3P","D",{"$f":"VLOOKUP(C4152,Referencias!$C$4:$D$21,2,FALSE())","v":"Tercera Picas"},{"$f":"VLOOKUP(I4152,Referencias!$B$24:$C$41,2,FALSE())","v":"CANT"},{"$f":"VLOOKUP(C4152,Referencias!$C$4:$E$21,3,FALSE())","v":3},"Competición","Cántabra"]
["3991346","Martinez Moro, Margarita","3D","D",{"$f":"VLOOKUP(C4153,Referencias!$C$4:$D$21,2,FALSE())","v":"Tercera Diamante"},{"$f":"VLOOKUP(I4153,Referencias!$B$24:$C$41,2,FALSE())","v":"CANT"},{"$f":"VLOOKUP(C4153,Referencias!$C$4:$E$21,3,FALSE())","v":3},"Competición","Cántabra"]
["3991347","Gutierrez Turrión, Mª Isabel","3D","D",{"$f":"VLOOKUP(C4154,Referencias!$C$4:$D$21,2,FALSE())","v":"Tercera Diamante"},{"$f":"VLOOKUP(I4154,Referencias!$B$24:$C$41,2,FALSE())","v":"CANT"},{"$f":"VLOOKUP(C4154,Referencias!$C$4:$E$21,3,FALSE())","v":3},"Competición","Cántabra"]
["3991348","Tellez García, Nieves","2D","D",{"$f":"VLOOKUP(C4155,Referencias!$C$4:$D$21,2,FALSE())","v":"Segunda Diamante"},{"$f":"VLOOKUP(I4155,Referencias!$B$24:$C$41,2,FALSE())","v":"CANT"},{"$f":"VLOOKUP(C4155,Referencias!$C$4:$E$21,3,FALSE())","v":2},"Competición","Cántabra"]
["3991349","Sicilia, Miguel","1D","C",{"$f":"VLOOKUP(C4156,Referencias!$C$4:$D$21,2,FALSE())","v":"Primera Diamante"},{"$f":"VLOOKUP(I4156,Referencias!$B$24:$C$41,2,FALSE())","v":"CANT"},{"$f":"VLOOKUP(C4156,Referencias!$C$4:$E$21,3,FALSE())","v":1},"Competición","Cántabra"]
["3991351","Sánchez Pérez, Ángeles","3D","D",{"$f":"VLOOKUP(C4157,Referencias!$C$4:$D$21,2,FALSE())","v":"Tercera Diamante"},{"$f":"VLOOKUP(I4157,Referencias!$B$24:$C$41,2,FALSE())","v":"CANT"},{"$f":"VLOOKUP(C4157,Referencias!$C$4:$E$21,3,FALSE())","v":3},"Competición","Cántabra"]
["3991352","Sierra García, María del Mar","3D","D",{"$f":"VLOOKUP(C4158,Referencias!$C$4:$D$21,2,FALSE())","v":"Tercera Diamante"},{"$f":"VLOOKUP(I4158,Referencias!$B$24:$C$41,2,FALSE())","v":"CANT"},{"$f":"VLOOKUP(C4158,Referencias!$C$4:$E$21,3,FALSE())","v":3},"Competición","Cántabra"]
["3991353","Casanueva Gónzalez, María José","3D","D",{"$f":"VLOOKUP(C4159,Referencias!$C$4:$D$21,2,FALSE())","v":"Tercera Diamante"},{"$f":"VLOOKUP(I4159,Referencias!$B$24:$C$41,2,FALSE())","v":"CANT"},{"$f":"VLOOKUP(C4159,Referencias!$C$4:$E$21,3,FALSE())","v":3},"Competición","Cántabra"]
["3991355","Benito Fernández, Pilar","3D","D",{"$f":"VLOOKUP(C4160,Referencias!$C$4:$D$21,2,FALSE())","v":"Tercera Diamante"},{"$f":"VLOOKUP(I4160,Referencias!$B$24:$C$41,2,FALSE())","v":"CANT"},{"$f":"VLOOKUP(C4160,Referencias!$C$4:$E$21,3,FALSE())","v":3},"Competición","Cántabra"]
["3991357","Hernáiz García, Carolina","3D","D",{"$f":"VLOOKUP(C4161,Referencias!$C$4:$D$21,2,FALSE())","v":"Tercera Diamante"},{"$f":"VLOOKUP(I4161,Referencias!$B$24:$C$41,2,FALSE())","v":"CANT"},{"$f":"VLOOKUP(C4161,Referencias!$C$4:$E$21,3,FALSE())","v":3},"Competición","Cántabra"]
["3991359","Estanillo Raba, M. Nieves","3D","D",{"$f":"VLOOKUP(C4162,Referencias!$C$4:$D$21,2,FALSE())","v":"Tercera Diamante"},{"$f":"VLOOKUP(I4162,Referencias!$B$24:$C$41,2,FALSE())","v":"CANT"},{"$f":"VLOOKUP(C4162,Referencias!$C$4:$E$21,3,FALSE())","v":3},"Competición","Cántabra"]
["3991360","De la Gandara Porres,  Lucrecia","3D","D",{"$f":"VLOOKUP(C4163,Referencias!$C$4:$D$21,2,FALSE())","v":"Tercera Diamante"},{"$f":"VLOOKUP(I4163,Referencias!$B$24:$C$41,2,FALSE())","v":"CANT"},{"$f":"VLOOKUP(C4163,Referencias!$C$4:$E$21,3,FALSE())","v":3},"Competición","Cántabra"]
["3991361","García-Barredo Campo, José Mª","3C","C",{"$f":"VLOOKUP(C4164,Referencias!$C$4:$D$21,2,FALSE())","v":"Tercera Corazón"},{"$f":"VLOOKUP(I4164,Referencias!$B$24:$C$41,2,FALSE())","v":"CANT"},{"$f":"VLOOKUP(C4164,Referencias!$C$4:$E$21,3,FALSE())","v":3},"Competición","Cántabra"]
["3991362","Sánchez Merino, Mª Angeles","3D","D",{"$f":"VLOOKUP(C4165,Referencias!$C$4:$D$21,2,FALSE())","v":"Tercera Diamante"},{"$f":"VLOOKUP(I4165,Referencias!$B$24:$C$41,2,FALSE())","v":"CANT"},{"$f":"VLOOKUP(C4165,Referencias!$C$4:$E$21,3,FALSE())","v":3},"Competición","Cántabra"]
["3991363","Andrés Puerto, Felicidad","3D","D",{"$f":"VLOOKUP(C4166,Referencias!$C$4:$D$21,2,FALSE())","v":"Tercera Diamante"},{"$f":"VLOOKUP(I4166,Referencias!$B$24:$C$41,2,FALSE())","v":"CANT"},{"$f":"VLOOKUP(C4166,Referencias!$C$4:$E$21,3,FALSE())","v":3},"Competición","Cántabra"]
["3991364","Morales Galindo  , Adela","3D","D",{"$f":"VLOOKUP(C4167,Referencias!$C$4:$D$21,2,FALSE())","v":"Tercera Diamante"},{"$f":"VLOOKUP(I4167,Referencias!$B$24:$C$41,2,FALSE())","v":"CANT"},{"$f":"VLOOKUP(C4167,Referencias!$C$4:$E$21,3,FALSE())","v":3},"Competición","Cántabra"]
["3991365","Andres Roiz, Mª Isabel","3D","D",{"$f":"VLOOKUP(C4168,Referencias!$C$4:$D$21,2,FALSE())","v":"Tercera Diamante"},{"$f":"VLOOKUP(I4168,Referencias!$B$24:$C$41,2,FALSE())","v":"CANT"},{"$f":"VLOOKUP(C4168,Referencias!$C$4:$E$21,3,FALSE())","v":3},"Competición","Cántabra"]
["3991366","Revuelta Castanedo , Carmen","3D","D",{"$f":"VLOOKUP(C4169,Referencias!$C$4:$D$21,2,FALSE())","v":"Tercera Diamante"},{"$f":"VLOOKUP(I4169,Referencias!$B$24:$C$41,2,FALSE())","v":"CANT"},{"$f":"VLOOKUP(C4169,Referencias!$C$4:$E$21,3,FALSE())","v":3},"Competición","Cántabra"]
["3991368","Vila Gómez, Rafael","3C","C",{"$f":"VLOOKUP(C4170,Referencias!$C$4:$D$21,2,FALSE())","v":"Tercera Corazón"},{"$f":"VLOOKUP(I4170,Referencias!$B$24:$C$41,2,FALSE())","v":"CANT"},{"$f":"VLOOKUP(C4170,Referencias!$C$4:$E$21,3,FALSE())","v":3},"Competición","Cántabra"]
["3991369","González Maza, Luz","3D","D",{"$f":"VLOOKUP(C4171,Referencias!$C$4:$D$21,2,FALSE())","v":"Tercera Diamante"},{"$f":"VLOOKUP(I4171,Referencias!$B$24:$C$41,2,FALSE())","v":"CANT"},{"$f":"VLOOKUP(C4171,Referencias!$C$4:$E$21,3,FALSE())","v":3},"Competición","Cántabra"]
["3991370","Hidalgo Villaescusa, Araceli","3D","D",{"$f":"VLOOKUP(C4172,Referencias!$C$4:$D$21,2,FALSE())","v":"Tercera Diamante"},{"$f":"VLOOKUP(I4172,Referencias!$B$24:$C$41,2,FALSE())","v":"CANT"},{"$f":"VLOOKUP(C4172,Referencias!$C$4:$E$21,3,FALSE())","v":3},"Competición","Cántabra"]
["3991371","Palacio Ortega, Patricia","3D","D",{"$f":"VLOOKUP(C4173,Referencias!$C$4:$D$21,2,FALSE())","v":"Tercera Diamante"},{"$f":"VLOOKUP(I4173,Referencias!$B$24:$C$41,2,FALSE())","v":"CANT"},{"$f":"VLOOKUP(C4173,Referencias!$C$4:$E$21,3,FALSE())","v":3},"Competición","Cántabra"]
["3991372","Asensio Martin, Maria Luisa","3D","D",{"$f":"VLOOKUP(C4174,Referencias!$C$4:$D$21,2,FALSE())","v":"Tercera Diamante"},{"$f":"VLOOKUP(I4174,Referencias!$B$24:$C$41,2,FALSE())","v":"CANT"},{"$f":"VLOOKUP(C4174,Referencias!$C$4:$E$21,3,FALSE())","v":3},"Competición","Cántabra"]
["3991373","Gutiérrez Díaz de Velarde, María Eugenia","3D","D",{"$f":"VLOOKUP(C4175,Referencias!$C$4:$D$21,2,FALSE())","v":"Tercera Diamante"},{"$f":"VLOOKUP(I4175,Referencias!$B$24:$C$41,2,FALSE())","v":"CANT"},{"$f":"VLOOKUP(C4175,Referencias!$C$4:$E$21,3,FALSE())","v":3},"Competición","Cántabra"]
["3991374","Aguirre Pagazaorturtundua, Gloria","3C","D",{"$f":"VLOOKUP(C4176,Referencias!$C$4:$D$21,2,FALSE())","v":"Tercera Corazón"},{"$f":"VLOOKUP(I4176,Referencias!$B$24:$C$41,2,FALSE())","v":"CANT"},{"$f":"VLOOKUP(C4176,Referencias!$C$4:$E$21,3,FALSE())","v":3},"Competición","Cántabra"]
["3991375","Ortega Gomez, Eduardo","3D","C",{"$f":"VLOOKUP(C4177,Referencias!$C$4:$D$21,2,FALSE())","v":"Tercera Diamante"},{"$f":"VLOOKUP(I4177,Referencias!$B$24:$C$41,2,FALSE())","v":"CANT"},{"$f":"VLOOKUP(C4177,Referencias!$C$4:$E$21,3,FALSE())","v":3},"Competición","Cántabra"]
["3991376","López Rodríguez, Juan Antonio","3D","C",{"$f":"VLOOKUP(C4178,Referencias!$C$4:$D$21,2,FALSE())","v":"Tercera Diamante"},{"$f":"VLOOKUP(I4178,Referencias!$B$24:$C$41,2,FALSE())","v":"CANT"},{"$f":"VLOOKUP(C4178,Referencias!$C$4:$E$21,3,FALSE())","v":3},"Competición","Cántabra"]
["3991377","Delgado Macias, Maria Teresa","3D","D",{"$f":"VLOOKUP(C4179,Referencias!$C$4:$D$21,2,FALSE())","v":"Tercera Diamante"},{"$f":"VLOOKUP(I4179,Referencias!$B$24:$C$41,2,FALSE())","v":"CANT"},{"$f":"VLOOKUP(C4179,Referencias!$C$4:$E$21,3,FALSE())","v":3},"Competición","Cántabra"]
["3991378","Peña de Berrazueta, Luis","3D","C",{"$f":"VLOOKUP(C4180,Referencias!$C$4:$D$21,2,FALSE())","v":"Tercera Diamante"},{"$f":"VLOOKUP(I4180,Referencias!$B$24:$C$41,2,FALSE())","v":"CANT"},{"$f":"VLOOKUP(C4180,Referencias!$C$4:$E$21,3,FALSE())","v":3},"Competición","Cántabra"]
["3991379","Abascal Gómez, María del Pilar","3D","D",{"$f":"VLOOKUP(C4181,Referencias!$C$4:$D$21,2,FALSE())","v":"Tercera Diamante"},{"$f":"VLOOKUP(I4181,Referencias!$B$24:$C$41,2,FALSE())","v":"CANT"},{"$f":"VLOOKUP(C4181,Referencias!$C$4:$E$21,3,FALSE())","v":3},"Competición","Cántabra"]
["3991380","Marcos Lanas, María Luisa","3D","D",{"$f":"VLOOKUP(C4182,Referencias!$C$4:$D$21,2,FALSE())","v":"Tercera Diamante"},{"$f":"VLOOKUP(I4182,Referencias!$B$24:$C$41,2,FALSE())","v":"CANT"},{"$f":"VLOOKUP(C4182,Referencias!$C$4:$E$21,3,FALSE())","v":3},"Competición","Cántabra"]
["3991381","Martónez Valle, Fernando","3D","C",{"$f":"VLOOKUP(C4183,Referencias!$C$4:$D$21,2,FALSE())","v":"Tercera Diamante"},{"$f":"VLOOKUP(I4183,Referencias!$B$24:$C$41,2,FALSE())","v":"CANT"},{"$f":"VLOOKUP(C4183,Referencias!$C$4:$E$21,3,FALSE())","v":3},"Competición","Cántabra"]
["3991382","Ceruti Esperanza, Mercedes","3D","D",{"$f":"VLOOKUP(C4184,Referencias!$C$4:$D$21,2,FALSE())","v":"Tercera Diamante"},{"$f":"VLOOKUP(I4184,Referencias!$B$24:$C$41,2,FALSE())","v":"CANT"},{"$f":"VLOOKUP(C4184,Referencias!$C$4:$E$21,3,FALSE())","v":3},"Competición","Cántabra"]
["3991383","Carranceja Diez, Teresa","3D","D",{"$f":"VLOOKUP(C4185,Referencias!$C$4:$D$21,2,FALSE())","v":"Tercera Diamante"},{"$f":"VLOOKUP(I4185,Referencias!$B$24:$C$41,2,FALSE())","v":"CANT"},{"$f":"VLOOKUP(C4185,Referencias!$C$4:$E$21,3,FALSE())","v":3},"Competición","Cántabra"]
["3991384","Rubira Cagiga, Rosa","3D","D",{"$f":"VLOOKUP(C4186,Referencias!$C$4:$D$21,2,FALSE())","v":"Tercera Diamante"},{"$f":"VLOOKUP(I4186,Referencias!$B$24:$C$41,2,FALSE())","v":"CANT"},{"$f":"VLOOKUP(C4186,Referencias!$C$4:$E$21,3,FALSE())","v":3},"Competición","Cántabra"]
["3991385","Gándara Tejera, María Angeles","3D","D",{"$f":"VLOOKUP(C4187,Referencias!$C$4:$D$21,2,FALSE())","v":"Tercera Diamante"},{"$f":"VLOOKUP(I4187,Referencias!$B$24:$C$41,2,FALSE())","v":"CANT"},{"$f":"VLOOKUP(C4187,Referencias!$C$4:$E$21,3,FALSE())","v":3},"Competición","Cántabra"]
["3991386","Zamora Gómez, Agustin","3D","C",{"$f":"VLOOKUP(C4188,Referencias!$C$4:$D$21,2,FALSE())","v":"Tercera Diamante"},{"$f":"VLOOKUP(I4188,Referencias!$B$24:$C$41,2,FALSE())","v":"CANT"},{"$f":"VLOOKUP(C4188,Referencias!$C$4:$E$21,3,FALSE())","v":3},"Competición","Cántabra"]
["3991387","García-Barredo Campo, María Teresa","3D","D",{"$f":"VLOOKUP(C4189,Referencias!$C$4:$D$21,2,FALSE())","v":"Tercera Diamante"},{"$f":"VLOOKUP(I4189,Referencias!$B$24:$C$41,2,FALSE())","v":"CANT"},{"$f":"VLOOKUP(C4189,Referencias!$C$4:$E$21,3,FALSE())","v":3},"Competición","Cántabra"]
["3992385","Capa Domecq, Ana Rosa","3D","D",{"$f":"VLOOKUP(C4190,Referencias!$C$4:$D$21,2,FALSE())","v":"Tercera Diamante"},{"$f":"VLOOKUP(I4190,Referencias!$B$24:$C$41,2,FALSE())","v":"CANT"},{"$f":"VLOOKUP(C4190,Referencias!$C$4:$E$21,3,FALSE())","v":3},"Competición","Cántabra"]
["3995614","Campo Roiz, M. del Carmen","3C","D",{"$f":"VLOOKUP(C4191,Referencias!$C$4:$D$21,2,FALSE())","v":"Tercera Corazón"},{"$f":"VLOOKUP(I4191,Referencias!$B$24:$C$41,2,FALSE())","v":"CANT"},{"$f":"VLOOKUP(C4191,Referencias!$C$4:$E$21,3,FALSE())","v":3},"Competición","Cántabra"]
["3995615","Suárez Martínez, Emma","2P","D",{"$f":"VLOOKUP(C4192,Referencias!$C$4:$D$21,2,FALSE())","v":"Segunda Picas"},{"$f":"VLOOKUP(I4192,Referencias!$B$24:$C$41,2,FALSE())","v":"CANT"},{"$f":"VLOOKUP(C4192,Referencias!$C$4:$E$21,3,FALSE())","v":2},"Competición","Cántabra"]
["3995619","Obregón López-Alonso, Esther","1D","D",{"$f":"VLOOKUP(C4193,Referencias!$C$4:$D$21,2,FALSE())","v":"Primera Diamante"},{"$f":"VLOOKUP(I4193,Referencias!$B$24:$C$41,2,FALSE())","v":"CANT"},{"$f":"VLOOKUP(C4193,Referencias!$C$4:$E$21,3,FALSE())","v":1},"Competición","Cántabra"]
["3995620","Berdia Palazuelos, María Jesús","3C","D",{"$f":"VLOOKUP(C4194,Referencias!$C$4:$D$21,2,FALSE())","v":"Tercera Corazón"},{"$f":"VLOOKUP(I4194,Referencias!$B$24:$C$41,2,FALSE())","v":"CANT"},{"$f":"VLOOKUP(C4194,Referencias!$C$4:$E$21,3,FALSE())","v":3},"Competición","Cántabra"]
["3995627","Fernández Elguero, Mayca","1P","D",{"$f":"VLOOKUP(C4195,Referencias!$C$4:$D$21,2,FALSE())","v":"Primera Picas"},{"$f":"VLOOKUP(I4195,Referencias!$B$24:$C$41,2,FALSE())","v":"CANT"},{"$f":"VLOOKUP(C4195,Referencias!$C$4:$E$21,3,FALSE())","v":1},"Competición","Cántabra"]
["3995644","Peredo Barquín, María Cruz","1P","D",{"$f":"VLOOKUP(C4196,Referencias!$C$4:$D$21,2,FALSE())","v":"Primera Picas"},{"$f":"VLOOKUP(I4196,Referencias!$B$24:$C$41,2,FALSE())","v":"CANT"},{"$f":"VLOOKUP(C4196,Referencias!$C$4:$E$21,3,FALSE())","v":1},"Competición","Cántabra"]
["3995651","Sánchez Díaz, M. Angeles","3C","D",{"$f":"VLOOKUP(C4197,Referencias!$C$4:$D$21,2,FALSE())","v":"Tercera Corazón"},{"$f":"VLOOKUP(I4197,Referencias!$B$24:$C$41,2,FALSE())","v":"CANT"},{"$f":"VLOOKUP(C4197,Referencias!$C$4:$E$21,3,FALSE())","v":3},"Competición","Cántabra"]
["3995663","González Marlasca, Blanca","3D","D",{"$f":"VLOOKUP(C4198,Referencias!$C$4:$D$21,2,FALSE())","v":"Tercera Diamante"},{"$f":"VLOOKUP(I4198,Referencias!$B$24:$C$41,2,FALSE())","v":"CANT"},{"$f":"VLOOKUP(C4198,Referencias!$C$4:$E$21,3,FALSE())","v":3},"Competición","Cántabra"]
["4071256","Fenor Luque, Josefina","3C","D",{"$f":"VLOOKUP(C4199,Referencias!$C$4:$D$21,2,FALSE())","v":"Tercera Corazón"},{"$f":"VLOOKUP(I4199,Referencias!$B$24:$C$41,2,FALSE())","v":"CYL"},{"$f":"VLOOKUP(C4199,Referencias!$C$4:$E$21,3,FALSE())","v":3},"Competición","Castilla y León"]
["4161010","Lobo Ruano, Felipe","1P","C",{"$f":"VLOOKUP(C4200,Referencias!$C$4:$D$21,2,FALSE())","v":"Primera Picas"},{"$f":"VLOOKUP(I4200,Referencias!$B$24:$C$41,2,FALSE())","v":"AND"},{"$f":"VLOOKUP(C4200,Referencias!$C$4:$E$21,3,FALSE())","v":1},"Competición","Andaluza"]
["4161011","Nieto Martínez, Lola","1P","D",{"$f":"VLOOKUP(C4201,Referencias!$C$4:$D$21,2,FALSE())","v":"Primera Picas"},{"$f":"VLOOKUP(I4201,Referencias!$B$24:$C$41,2,FALSE())","v":"AND"},{"$f":"VLOOKUP(C4201,Referencias!$C$4:$E$21,3,FALSE())","v":1},"Competición","Andaluza"]
["4161021","Sánchez-Moliní Montes, Antonio","1P","C",{"$f":"VLOOKUP(C4202,Referencias!$C$4:$D$21,2,FALSE())","v":"Primera Picas"},{"$f":"VLOOKUP(I4202,Referencias!$B$24:$C$41,2,FALSE())","v":"AND"},{"$f":"VLOOKUP(C4202,Referencias!$C$4:$E$21,3,FALSE())","v":1},"Competición","Andaluza"]
["4161069","Fernández-Palacios Melgarejo, Manuel","2C","C",{"$f":"VLOOKUP(C4203,Referencias!$C$4:$D$21,2,FALSE())","v":"Segunda Corazón"},{"$f":"VLOOKUP(I4203,Referencias!$B$24:$C$41,2,FALSE())","v":"AND"},{"$f":"VLOOKUP(C4203,Referencias!$C$4:$E$21,3,FALSE())","v":2},"Competición","Andaluza"]
["4161109","Barbadillo Mateos, Pilar","3P","D",{"$f":"VLOOKUP(C4204,Referencias!$C$4:$D$21,2,FALSE())","v":"Tercera Picas"},{"$f":"VLOOKUP(I4204,Referencias!$B$24:$C$41,2,FALSE())","v":"AND"},{"$f":"VLOOKUP(C4204,Referencias!$C$4:$E$21,3,FALSE())","v":3},"Competición","Andaluza"]
["4161121","Corot, Thierry","1P","C",{"$f":"VLOOKUP(C4205,Referencias!$C$4:$D$21,2,FALSE())","v":"Primera Picas"},{"$f":"VLOOKUP(I4205,Referencias!$B$24:$C$41,2,FALSE())","v":"AND"},{"$f":"VLOOKUP(C4205,Referencias!$C$4:$E$21,3,FALSE())","v":1},"Competición","Andaluza"]
["4161128","Moreno del Camino, Mercedes","1D","D",{"$f":"VLOOKUP(C4206,Referencias!$C$4:$D$21,2,FALSE())","v":"Primera Diamante"},{"$f":"VLOOKUP(I4206,Referencias!$B$24:$C$41,2,FALSE())","v":"AND"},{"$f":"VLOOKUP(C4206,Referencias!$C$4:$E$21,3,FALSE())","v":1},"Competición","Andaluza"]
["4161173","Palancar Sánchez, Emma","3D","D",{"$f":"VLOOKUP(C4207,Referencias!$C$4:$D$21,2,FALSE())","v":"Tercera Diamante"},{"$f":"VLOOKUP(I4207,Referencias!$B$24:$C$41,2,FALSE())","v":"AND"},{"$f":"VLOOKUP(C4207,Referencias!$C$4:$E$21,3,FALSE())","v":3},"Competición","Andaluza"]
["4161195","Toro Fdez. Peñaranda, Felipe","1C","C",{"$f":"VLOOKUP(C4208,Referencias!$C$4:$D$21,2,FALSE())","v":"Primera Corazón"},{"$f":"VLOOKUP(I4208,Referencias!$B$24:$C$41,2,FALSE())","v":"AND"},{"$f":"VLOOKUP(C4208,Referencias!$C$4:$E$21,3,FALSE())","v":1},"Competición","Andaluza"]
["4161239","Gamonal Campos, Pilar","3P","D",{"$f":"VLOOKUP(C4209,Referencias!$C$4:$D$21,2,FALSE())","v":"Tercera Picas"},{"$f":"VLOOKUP(I4209,Referencias!$B$24:$C$41,2,FALSE())","v":"AND"},{"$f":"VLOOKUP(C4209,Referencias!$C$4:$E$21,3,FALSE())","v":3},"Competición","Andaluza"]
["4161286","Fleming Torres, Jorge","3D","C",{"$f":"VLOOKUP(C4210,Referencias!$C$4:$D$21,2,FALSE())","v":"Tercera Diamante"},{"$f":"VLOOKUP(I4210,Referencias!$B$24:$C$41,2,FALSE())","v":"AND"},{"$f":"VLOOKUP(C4210,Referencias!$C$4:$E$21,3,FALSE())","v":3},"Competición","Andaluza"]
["4161287","Miret Borja, Elisa","3C","D",{"$f":"VLOOKUP(C4211,Referencias!$C$4:$D$21,2,FALSE())","v":"Tercera Corazón"},{"$f":"VLOOKUP(I4211,Referencias!$B$24:$C$41,2,FALSE())","v":"AND"},{"$f":"VLOOKUP(C4211,Referencias!$C$4:$E$21,3,FALSE())","v":3},"Competición","Andaluza"]
["4161368","Loring Lasarte, María","3C","D",{"$f":"VLOOKUP(C4212,Referencias!$C$4:$D$21,2,FALSE())","v":"Tercera Corazón"},{"$f":"VLOOKUP(I4212,Referencias!$B$24:$C$41,2,FALSE())","v":"AND"},{"$f":"VLOOKUP(C4212,Referencias!$C$4:$E$21,3,FALSE())","v":3},"Competición","Andaluza"]
["4161420","Rodríguez Gutíerrez, Ana María","3D","D",{"$f":"VLOOKUP(C4213,Referencias!$C$4:$D$21,2,FALSE())","v":"Tercera Diamante"},{"$f":"VLOOKUP(I4213,Referencias!$B$24:$C$41,2,FALSE())","v":"AND"},{"$f":"VLOOKUP(C4213,Referencias!$C$4:$E$21,3,FALSE())","v":3},"Competición","Andaluza"]
["4161434","García Fernández, Sebastián","3P","C",{"$f":"VLOOKUP(C4214,Referencias!$C$4:$D$21,2,FALSE())","v":"Tercera Picas"},{"$f":"VLOOKUP(I4214,Referencias!$B$24:$C$41,2,FALSE())","v":"AND"},{"$f":"VLOOKUP(C4214,Referencias!$C$4:$E$21,3,FALSE())","v":3},"Competición","Andaluza"]
["4161435","García Palomero, Félix","2D","C",{"$f":"VLOOKUP(C4215,Referencias!$C$4:$D$21,2,FALSE())","v":"Segunda Diamante"},{"$f":"VLOOKUP(I4215,Referencias!$B$24:$C$41,2,FALSE())","v":"AND"},{"$f":"VLOOKUP(C4215,Referencias!$C$4:$E$21,3,FALSE())","v":2},"Competición","Andaluza"]
["4161436","Benjumea de la Cova, Rocío","3C","D",{"$f":"VLOOKUP(C4216,Referencias!$C$4:$D$21,2,FALSE())","v":"Tercera Corazón"},{"$f":"VLOOKUP(I4216,Referencias!$B$24:$C$41,2,FALSE())","v":"AND"},{"$f":"VLOOKUP(C4216,Referencias!$C$4:$E$21,3,FALSE())","v":3},"Competición","Andaluza"]
["4161440","Valenzuela Etayo, Ana","3C","D",{"$f":"VLOOKUP(C4217,Referencias!$C$4:$D$21,2,FALSE())","v":"Tercera Corazón"},{"$f":"VLOOKUP(I4217,Referencias!$B$24:$C$41,2,FALSE())","v":"AND"},{"$f":"VLOOKUP(C4217,Referencias!$C$4:$E$21,3,FALSE())","v":3},"Competición","Andaluza"]
["4161441","Algarin Mallol, María Teresa","3D","D",{"$f":"VLOOKUP(C4218,Referencias!$C$4:$D$21,2,FALSE())","v":"Tercera Diamante"},{"$f":"VLOOKUP(I4218,Referencias!$B$24:$C$41,2,FALSE())","v":"AND"},{"$f":"VLOOKUP(C4218,Referencias!$C$4:$E$21,3,FALSE())","v":3},"Competición","Andaluza"]
["4161442","Nuñez Rodríguez Armijo, Angeli","3P","D",{"$f":"VLOOKUP(C4219,Referencias!$C$4:$D$21,2,FALSE())","v":"Tercera Picas"},{"$f":"VLOOKUP(I4219,Referencias!$B$24:$C$41,2,FALSE())","v":"AND"},{"$f":"VLOOKUP(C4219,Referencias!$C$4:$E$21,3,FALSE())","v":3},"Competición","Andaluza"]
["4161445","Campos Ramos, Matilde","3C","D",{"$f":"VLOOKUP(C4220,Referencias!$C$4:$D$21,2,FALSE())","v":"Tercera Corazón"},{"$f":"VLOOKUP(I4220,Referencias!$B$24:$C$41,2,FALSE())","v":"AND"},{"$f":"VLOOKUP(C4220,Referencias!$C$4:$E$21,3,FALSE())","v":3},"Competición","Andaluza"]
["4161498","Castillo Martínez, Mª Eulalia","3D","D",{"$f":"VLOOKUP(C4221,Referencias!$C$4:$D$21,2,FALSE())","v":"Tercera Diamante"},{"$f":"VLOOKUP(I4221,Referencias!$B$24:$C$41,2,FALSE())","v":"AND"},{"$f":"VLOOKUP(C4221,Referencias!$C$4:$E$21,3,FALSE())","v":3},"Competición","Andaluza"]
["4161499","Nadal Uriguen, María Concepción","3D","D",{"$f":"VLOOKUP(C4222,Referencias!$C$4:$D$21,2,FALSE())","v":"Tercera Diamante"},{"$f":"VLOOKUP(I4222,Referencias!$B$24:$C$41,2,FALSE())","v":"AND"},{"$f":"VLOOKUP(C4222,Referencias!$C$4:$E$21,3,FALSE())","v":3},"Competición","Andaluza"]
["4161502","Tejera Plasencia, Mª Concepción","3D","D",{"$f":"VLOOKUP(C4223,Referencias!$C$4:$D$21,2,FALSE())","v":"Tercera Diamante"},{"$f":"VLOOKUP(I4223,Referencias!$B$24:$C$41,2,FALSE())","v":"AND"},{"$f":"VLOOKUP(C4223,Referencias!$C$4:$E$21,3,FALSE())","v":3},"Competición","Andaluza"]
["4161517","Ferraro Manzano, Macarena","3D","D",{"$f":"VLOOKUP(C4224,Referencias!$C$4:$D$21,2,FALSE())","v":"Tercera Diamante"},{"$f":"VLOOKUP(I4224,Referencias!$B$24:$C$41,2,FALSE())","v":"AND"},{"$f":"VLOOKUP(C4224,Referencias!$C$4:$E$21,3,FALSE())","v":3},"Competición","Andaluza"]
["4161518","Osborne Sanz-Magallón, Rocío","2D","D",{"$f":"VLOOKUP(C4225,Referencias!$C$4:$D$21,2,FALSE())","v":"Segunda Diamante"},{"$f":"VLOOKUP(I4225,Referencias!$B$24:$C$41,2,FALSE())","v":"AND"},{"$f":"VLOOKUP(C4225,Referencias!$C$4:$E$21,3,FALSE())","v":2},"Competición","Andaluza"]
["4161519","Torres-Quevedo González, Isabel","2D","D",{"$f":"VLOOKUP(C4226,Referencias!$C$4:$D$21,2,FALSE())","v":"Segunda Diamante"},{"$f":"VLOOKUP(I4226,Referencias!$B$24:$C$41,2,FALSE())","v":"AND"},{"$f":"VLOOKUP(C4226,Referencias!$C$4:$E$21,3,FALSE())","v":2},"Competición","Andaluza"]
["4161524","Arbona Prini, Joaquín","3D","C",{"$f":"VLOOKUP(C4227,Referencias!$C$4:$D$21,2,FALSE())","v":"Tercera Diamante"},{"$f":"VLOOKUP(I4227,Referencias!$B$24:$C$41,2,FALSE())","v":"AND"},{"$f":"VLOOKUP(C4227,Referencias!$C$4:$E$21,3,FALSE())","v":3},"Competición","Andaluza"]
["4161543","Sanz Cepeda, Mercedes","1C","D",{"$f":"VLOOKUP(C4228,Referencias!$C$4:$D$21,2,FALSE())","v":"Primera Corazón"},{"$f":"VLOOKUP(I4228,Referencias!$B$24:$C$41,2,FALSE())","v":"AND"},{"$f":"VLOOKUP(C4228,Referencias!$C$4:$E$21,3,FALSE())","v":1},"Competición","Andaluza"]
["4161544","Neches Olaso, Begoña","3C","D",{"$f":"VLOOKUP(C4229,Referencias!$C$4:$D$21,2,FALSE())","v":"Tercera Corazón"},{"$f":"VLOOKUP(I4229,Referencias!$B$24:$C$41,2,FALSE())","v":"AND"},{"$f":"VLOOKUP(C4229,Referencias!$C$4:$E$21,3,FALSE())","v":3},"Competición","Andaluza"]
["4161545","De Bonilla Blanes, Antonio","2D","C",{"$f":"VLOOKUP(C4230,Referencias!$C$4:$D$21,2,FALSE())","v":"Segunda Diamante"},{"$f":"VLOOKUP(I4230,Referencias!$B$24:$C$41,2,FALSE())","v":"AND"},{"$f":"VLOOKUP(C4230,Referencias!$C$4:$E$21,3,FALSE())","v":2},"Competición","Andaluza"]
["4161548","López Ruibal, Margarita","3C","D",{"$f":"VLOOKUP(C4231,Referencias!$C$4:$D$21,2,FALSE())","v":"Tercera Corazón"},{"$f":"VLOOKUP(I4231,Referencias!$B$24:$C$41,2,FALSE())","v":"AND"},{"$f":"VLOOKUP(C4231,Referencias!$C$4:$E$21,3,FALSE())","v":3},"Competición","Andaluza"]
["4161552","Dávila García de Sola, Africa","3D","D",{"$f":"VLOOKUP(C4232,Referencias!$C$4:$D$21,2,FALSE())","v":"Tercera Diamante"},{"$f":"VLOOKUP(I4232,Referencias!$B$24:$C$41,2,FALSE())","v":"AND"},{"$f":"VLOOKUP(C4232,Referencias!$C$4:$E$21,3,FALSE())","v":3},"Competición","Andaluza"]
["4161553","Izquierdo Moya, Pilar","2D","D",{"$f":"VLOOKUP(C4233,Referencias!$C$4:$D$21,2,FALSE())","v":"Segunda Diamante"},{"$f":"VLOOKUP(I4233,Referencias!$B$24:$C$41,2,FALSE())","v":"AND"},{"$f":"VLOOKUP(C4233,Referencias!$C$4:$E$21,3,FALSE())","v":2},"Competición","Andaluza"]
["4161555","Fernández-Galiano, María Pepa","3C","D",{"$f":"VLOOKUP(C4234,Referencias!$C$4:$D$21,2,FALSE())","v":"Tercera Corazón"},{"$f":"VLOOKUP(I4234,Referencias!$B$24:$C$41,2,FALSE())","v":"AND"},{"$f":"VLOOKUP(C4234,Referencias!$C$4:$E$21,3,FALSE())","v":3},"Competición","Andaluza"]
["4161560","Roca de Togores Pérez de Guzman, Felipe","3C","C",{"$f":"VLOOKUP(C4235,Referencias!$C$4:$D$21,2,FALSE())","v":"Tercera Corazón"},{"$f":"VLOOKUP(I4235,Referencias!$B$24:$C$41,2,FALSE())","v":"AND"},{"$f":"VLOOKUP(C4235,Referencias!$C$4:$E$21,3,FALSE())","v":3},"Competición","Andaluza"]
["4161564","Alvarez Monsa, María del Carmen","3C","D",{"$f":"VLOOKUP(C4236,Referencias!$C$4:$D$21,2,FALSE())","v":"Tercera Corazón"},{"$f":"VLOOKUP(I4236,Referencias!$B$24:$C$41,2,FALSE())","v":"AND"},{"$f":"VLOOKUP(C4236,Referencias!$C$4:$E$21,3,FALSE())","v":3},"Competición","Andaluza"]
["4161593","Freitag Voelsing, Regina","3P","D",{"$f":"VLOOKUP(C4237,Referencias!$C$4:$D$21,2,FALSE())","v":"Tercera Picas"},{"$f":"VLOOKUP(I4237,Referencias!$B$24:$C$41,2,FALSE())","v":"AND"},{"$f":"VLOOKUP(C4237,Referencias!$C$4:$E$21,3,FALSE())","v":3},"Competición","Andaluza"]
["4161623","Colletti, Bruno Raffaele Maria","1P","C",{"$f":"VLOOKUP(C4238,Referencias!$C$4:$D$21,2,FALSE())","v":"Primera Picas"},{"$f":"VLOOKUP(I4238,Referencias!$B$24:$C$41,2,FALSE())","v":"AND"},{"$f":"VLOOKUP(C4238,Referencias!$C$4:$E$21,3,FALSE())","v":1},"Competición","Andaluza"]
["4161644","Morenes Giles, María José","3D","D",{"$f":"VLOOKUP(C4239,Referencias!$C$4:$D$21,2,FALSE())","v":"Tercera Diamante"},{"$f":"VLOOKUP(I4239,Referencias!$B$24:$C$41,2,FALSE())","v":"AND"},{"$f":"VLOOKUP(C4239,Referencias!$C$4:$E$21,3,FALSE())","v":3},"Competición","Andaluza"]
["4161646","Navarro Carrión, Mª del Pilar","3D","D",{"$f":"VLOOKUP(C4240,Referencias!$C$4:$D$21,2,FALSE())","v":"Tercera Diamante"},{"$f":"VLOOKUP(I4240,Referencias!$B$24:$C$41,2,FALSE())","v":"AND"},{"$f":"VLOOKUP(C4240,Referencias!$C$4:$E$21,3,FALSE())","v":3},"Competición","Andaluza"]
["4161654","Sebastian Bueno, Javier","2P","C",{"$f":"VLOOKUP(C4241,Referencias!$C$4:$D$21,2,FALSE())","v":"Segunda Picas"},{"$f":"VLOOKUP(I4241,Referencias!$B$24:$C$41,2,FALSE())","v":"AND"},{"$f":"VLOOKUP(C4241,Referencias!$C$4:$E$21,3,FALSE())","v":2},"Competición","Andaluza"]
["4161656","Muñoz Ybarra, Iñigo de Loyola","3C","C",{"$f":"VLOOKUP(C4242,Referencias!$C$4:$D$21,2,FALSE())","v":"Tercera Corazón"},{"$f":"VLOOKUP(I4242,Referencias!$B$24:$C$41,2,FALSE())","v":"AND"},{"$f":"VLOOKUP(C4242,Referencias!$C$4:$E$21,3,FALSE())","v":3},"Competición","Andaluza"]
["4161657","Rousseau Vincente, Cecile","1P","D",{"$f":"VLOOKUP(C4243,Referencias!$C$4:$D$21,2,FALSE())","v":"Primera Picas"},{"$f":"VLOOKUP(I4243,Referencias!$B$24:$C$41,2,FALSE())","v":"AND"},{"$f":"VLOOKUP(C4243,Referencias!$C$4:$E$21,3,FALSE())","v":1},"Competición","Andaluza"]
["4161682","Molina Segovia, Carmen","3D","D",{"$f":"VLOOKUP(C4244,Referencias!$C$4:$D$21,2,FALSE())","v":"Tercera Diamante"},{"$f":"VLOOKUP(I4244,Referencias!$B$24:$C$41,2,FALSE())","v":"AND"},{"$f":"VLOOKUP(C4244,Referencias!$C$4:$E$21,3,FALSE())","v":3},"Competición","Andaluza"]
["4161689","Portellano Caballero, Mercedes","3C","D",{"$f":"VLOOKUP(C4245,Referencias!$C$4:$D$21,2,FALSE())","v":"Tercera Corazón"},{"$f":"VLOOKUP(I4245,Referencias!$B$24:$C$41,2,FALSE())","v":"AND"},{"$f":"VLOOKUP(C4245,Referencias!$C$4:$E$21,3,FALSE())","v":3},"Competición","Andaluza"]
["4161693","Fernández-Castaño Merediz, Brezo","3D","C",{"$f":"VLOOKUP(C4246,Referencias!$C$4:$D$21,2,FALSE())","v":"Tercera Diamante"},{"$f":"VLOOKUP(I4246,Referencias!$B$24:$C$41,2,FALSE())","v":"AND"},{"$f":"VLOOKUP(C4246,Referencias!$C$4:$E$21,3,FALSE())","v":3},"Competición","Andaluza"]
["4161695","Barragan White, Carmen","3D","D",{"$f":"VLOOKUP(C4247,Referencias!$C$4:$D$21,2,FALSE())","v":"Tercera Diamante"},{"$f":"VLOOKUP(I4247,Referencias!$B$24:$C$41,2,FALSE())","v":"AND"},{"$f":"VLOOKUP(C4247,Referencias!$C$4:$E$21,3,FALSE())","v":3},"Competición","Andaluza"]
["4161700","Gortazar Fita, Iñigo","2D","C",{"$f":"VLOOKUP(C4248,Referencias!$C$4:$D$21,2,FALSE())","v":"Segunda Diamante"},{"$f":"VLOOKUP(I4248,Referencias!$B$24:$C$41,2,FALSE())","v":"AND"},{"$f":"VLOOKUP(C4248,Referencias!$C$4:$E$21,3,FALSE())","v":2},"Competición","Andaluza"]
["4161703","Sánz Fernández, Marta","3D","D",{"$f":"VLOOKUP(C4249,Referencias!$C$4:$D$21,2,FALSE())","v":"Tercera Diamante"},{"$f":"VLOOKUP(I4249,Referencias!$B$24:$C$41,2,FALSE())","v":"AND"},{"$f":"VLOOKUP(C4249,Referencias!$C$4:$E$21,3,FALSE())","v":3},"Competición","Andaluza"]
["4161704","Patterson, Leslie","3D","D",{"$f":"VLOOKUP(C4250,Referencias!$C$4:$D$21,2,FALSE())","v":"Tercera Diamante"},{"$f":"VLOOKUP(I4250,Referencias!$B$24:$C$41,2,FALSE())","v":"AND"},{"$f":"VLOOKUP(C4250,Referencias!$C$4:$E$21,3,FALSE())","v":3},"Competición","Andaluza"]
["4161706","Alonso González, Yolanda","3D","D",{"$f":"VLOOKUP(C4251,Referencias!$C$4:$D$21,2,FALSE())","v":"Tercera Diamante"},{"$f":"VLOOKUP(I4251,Referencias!$B$24:$C$41,2,FALSE())","v":"AND"},{"$f":"VLOOKUP(C4251,Referencias!$C$4:$E$21,3,FALSE())","v":3},"Competición","Andaluza"]
["4161722","Romero Fernández, Inmaculada","3D","D",{"$f":"VLOOKUP(C4252,Referencias!$C$4:$D$21,2,FALSE())","v":"Tercera Diamante"},{"$f":"VLOOKUP(I4252,Referencias!$B$24:$C$41,2,FALSE())","v":"AND"},{"$f":"VLOOKUP(C4252,Referencias!$C$4:$E$21,3,FALSE())","v":3},"Competición","Andaluza"]
["4161728","Gil-Delgado Andrada, Antonia","3D","C",{"$f":"VLOOKUP(C4253,Referencias!$C$4:$D$21,2,FALSE())","v":"Tercera Diamante"},{"$f":"VLOOKUP(I4253,Referencias!$B$24:$C$41,2,FALSE())","v":"AND"},{"$f":"VLOOKUP(C4253,Referencias!$C$4:$E$21,3,FALSE())","v":3},"Competición","Andaluza"]
["4161733","Arteaga Alarcón, Francisco","3C","C",{"$f":"VLOOKUP(C4254,Referencias!$C$4:$D$21,2,FALSE())","v":"Tercera Corazón"},{"$f":"VLOOKUP(I4254,Referencias!$B$24:$C$41,2,FALSE())","v":"AND"},{"$f":"VLOOKUP(C4254,Referencias!$C$4:$E$21,3,FALSE())","v":3},"Competición","Andaluza"]
["4161734","Vázquez Valenzuela, Rafael","1D","C",{"$f":"VLOOKUP(C4255,Referencias!$C$4:$D$21,2,FALSE())","v":"Primera Diamante"},{"$f":"VLOOKUP(I4255,Referencias!$B$24:$C$41,2,FALSE())","v":"AND"},{"$f":"VLOOKUP(C4255,Referencias!$C$4:$E$21,3,FALSE())","v":1},"Competición","Andaluza"]
["4161735","Alcañiz García, Miguel","1D","C",{"$f":"VLOOKUP(C4256,Referencias!$C$4:$D$21,2,FALSE())","v":"Primera Diamante"},{"$f":"VLOOKUP(I4256,Referencias!$B$24:$C$41,2,FALSE())","v":"AND"},{"$f":"VLOOKUP(C4256,Referencias!$C$4:$E$21,3,FALSE())","v":1},"Competición","Andaluza"]
["4161736","Gonzalo de Bustos, Fernando","3D","C",{"$f":"VLOOKUP(C4257,Referencias!$C$4:$D$21,2,FALSE())","v":"Tercera Diamante"},{"$f":"VLOOKUP(I4257,Referencias!$B$24:$C$41,2,FALSE())","v":"AND"},{"$f":"VLOOKUP(C4257,Referencias!$C$4:$E$21,3,FALSE())","v":3},"Competición","Andaluza"]
["4161782","Pérez de Guzmán Albarracín, Alvaro","3D","C",{"$f":"VLOOKUP(C4258,Referencias!$C$4:$D$21,2,FALSE())","v":"Tercera Diamante"},{"$f":"VLOOKUP(I4258,Referencias!$B$24:$C$41,2,FALSE())","v":"AND"},{"$f":"VLOOKUP(C4258,Referencias!$C$4:$E$21,3,FALSE())","v":3},"Competición","Andaluza"]
["4161783","Alvarez Carmona, Isabel","3D","D",{"$f":"VLOOKUP(C4259,Referencias!$C$4:$D$21,2,FALSE())","v":"Tercera Diamante"},{"$f":"VLOOKUP(I4259,Referencias!$B$24:$C$41,2,FALSE())","v":"AND"},{"$f":"VLOOKUP(C4259,Referencias!$C$4:$E$21,3,FALSE())","v":3},"Competición","Andaluza"]
["4161784","López  López , Manuel","3D","C",{"$f":"VLOOKUP(C4260,Referencias!$C$4:$D$21,2,FALSE())","v":"Tercera Diamante"},{"$f":"VLOOKUP(I4260,Referencias!$B$24:$C$41,2,FALSE())","v":"AND"},{"$f":"VLOOKUP(C4260,Referencias!$C$4:$E$21,3,FALSE())","v":3},"Competición","Andaluza"]
["4161786","Lage Gallé, Roque","3D","C",{"$f":"VLOOKUP(C4261,Referencias!$C$4:$D$21,2,FALSE())","v":"Tercera Diamante"},{"$f":"VLOOKUP(I4261,Referencias!$B$24:$C$41,2,FALSE())","v":"AND"},{"$f":"VLOOKUP(C4261,Referencias!$C$4:$E$21,3,FALSE())","v":3},"Competición","Andaluza"]
["4161787","González-Meneses Calvo, Luisa","3D","D",{"$f":"VLOOKUP(C4262,Referencias!$C$4:$D$21,2,FALSE())","v":"Tercera Diamante"},{"$f":"VLOOKUP(I4262,Referencias!$B$24:$C$41,2,FALSE())","v":"AND"},{"$f":"VLOOKUP(C4262,Referencias!$C$4:$E$21,3,FALSE())","v":3},"Competición","Andaluza"]
["4161788","Alvear Garijo, Antonia","3D","D",{"$f":"VLOOKUP(C4263,Referencias!$C$4:$D$21,2,FALSE())","v":"Tercera Diamante"},{"$f":"VLOOKUP(I4263,Referencias!$B$24:$C$41,2,FALSE())","v":"AND"},{"$f":"VLOOKUP(C4263,Referencias!$C$4:$E$21,3,FALSE())","v":3},"Competición","Andaluza"]
["4161789","Galnales Fernández, Lupe","3D","D",{"$f":"VLOOKUP(C4264,Referencias!$C$4:$D$21,2,FALSE())","v":"Tercera Diamante"},{"$f":"VLOOKUP(I4264,Referencias!$B$24:$C$41,2,FALSE())","v":"AND"},{"$f":"VLOOKUP(C4264,Referencias!$C$4:$E$21,3,FALSE())","v":3},"Competición","Andaluza"]
["4161790","Recasens Luca de Tena, Luis","3D","C",{"$f":"VLOOKUP(C4265,Referencias!$C$4:$D$21,2,FALSE())","v":"Tercera Diamante"},{"$f":"VLOOKUP(I4265,Referencias!$B$24:$C$41,2,FALSE())","v":"AND"},{"$f":"VLOOKUP(C4265,Referencias!$C$4:$E$21,3,FALSE())","v":3},"Competición","Andaluza"]
["4161791","Andrada-Vanderwilde Quadras, Ana","3D","D",{"$f":"VLOOKUP(C4266,Referencias!$C$4:$D$21,2,FALSE())","v":"Tercera Diamante"},{"$f":"VLOOKUP(I4266,Referencias!$B$24:$C$41,2,FALSE())","v":"AND"},{"$f":"VLOOKUP(C4266,Referencias!$C$4:$E$21,3,FALSE())","v":3},"Competición","Andaluza"]
["4161792","Lester, Peter","3D","C",{"$f":"VLOOKUP(C4267,Referencias!$C$4:$D$21,2,FALSE())","v":"Tercera Diamante"},{"$f":"VLOOKUP(I4267,Referencias!$B$24:$C$41,2,FALSE())","v":"AND"},{"$f":"VLOOKUP(C4267,Referencias!$C$4:$E$21,3,FALSE())","v":3},"Competición","Andaluza"]
["4161794","Lage de Llera, Ignacio","3D","C",{"$f":"VLOOKUP(C4268,Referencias!$C$4:$D$21,2,FALSE())","v":"Tercera Diamante"},{"$f":"VLOOKUP(I4268,Referencias!$B$24:$C$41,2,FALSE())","v":"AND"},{"$f":"VLOOKUP(C4268,Referencias!$C$4:$E$21,3,FALSE())","v":3},"Competición","Andaluza"]
["4161796","Andrada-Vanderwilde Quadras, Teresa","3D","C",{"$f":"VLOOKUP(C4269,Referencias!$C$4:$D$21,2,FALSE())","v":"Tercera Diamante"},{"$f":"VLOOKUP(I4269,Referencias!$B$24:$C$41,2,FALSE())","v":"AND"},{"$f":"VLOOKUP(C4269,Referencias!$C$4:$E$21,3,FALSE())","v":3},"Competición","Andaluza"]
["4161802","del Valle Tauste, Ana","3D","D",{"$f":"VLOOKUP(C4270,Referencias!$C$4:$D$21,2,FALSE())","v":"Tercera Diamante"},{"$f":"VLOOKUP(I4270,Referencias!$B$24:$C$41,2,FALSE())","v":"AND"},{"$f":"VLOOKUP(C4270,Referencias!$C$4:$E$21,3,FALSE())","v":3},"Competición","Andaluza"]
["4161804","Andrada-Vanderwilde Quadras, Cristina","3D","D",{"$f":"VLOOKUP(C4271,Referencias!$C$4:$D$21,2,FALSE())","v":"Tercera Diamante"},{"$f":"VLOOKUP(I4271,Referencias!$B$24:$C$41,2,FALSE())","v":"AND"},{"$f":"VLOOKUP(C4271,Referencias!$C$4:$E$21,3,FALSE())","v":3},"Competición","Andaluza"]
["4161805","Rodríguez Moreno, Elena","3D","D",{"$f":"VLOOKUP(C4272,Referencias!$C$4:$D$21,2,FALSE())","v":"Tercera Diamante"},{"$f":"VLOOKUP(I4272,Referencias!$B$24:$C$41,2,FALSE())","v":"AND"},{"$f":"VLOOKUP(C4272,Referencias!$C$4:$E$21,3,FALSE())","v":3},"Competición","Andaluza"]
["4161808","Botija Montes, Eduardo","3D","C",{"$f":"VLOOKUP(C4273,Referencias!$C$4:$D$21,2,FALSE())","v":"Tercera Diamante"},{"$f":"VLOOKUP(I4273,Referencias!$B$24:$C$41,2,FALSE())","v":"AND"},{"$f":"VLOOKUP(C4273,Referencias!$C$4:$E$21,3,FALSE())","v":3},"Competición","Andaluza"]
["4161809","Obando Carrasco, Joaquin","3D","C",{"$f":"VLOOKUP(C4274,Referencias!$C$4:$D$21,2,FALSE())","v":"Tercera Diamante"},{"$f":"VLOOKUP(I4274,Referencias!$B$24:$C$41,2,FALSE())","v":"AND"},{"$f":"VLOOKUP(C4274,Referencias!$C$4:$E$21,3,FALSE())","v":3},"Competición","Andaluza"]
["4161811","Mañas Canuto, Vanessa","3D","D",{"$f":"VLOOKUP(C4275,Referencias!$C$4:$D$21,2,FALSE())","v":"Tercera Diamante"},{"$f":"VLOOKUP(I4275,Referencias!$B$24:$C$41,2,FALSE())","v":"AND"},{"$f":"VLOOKUP(C4275,Referencias!$C$4:$E$21,3,FALSE())","v":3},"Competición","Andaluza"]
["4161814","Gómez Sánchez, Guillermo","3D","C",{"$f":"VLOOKUP(C4276,Referencias!$C$4:$D$21,2,FALSE())","v":"Tercera Diamante"},{"$f":"VLOOKUP(I4276,Referencias!$B$24:$C$41,2,FALSE())","v":"AND"},{"$f":"VLOOKUP(C4276,Referencias!$C$4:$E$21,3,FALSE())","v":3},"Competición","Andaluza"]
["4161815","Santamaria Mifsut, José Luis","3D","C",{"$f":"VLOOKUP(C4277,Referencias!$C$4:$D$21,2,FALSE())","v":"Tercera Diamante"},{"$f":"VLOOKUP(I4277,Referencias!$B$24:$C$41,2,FALSE())","v":"AND"},{"$f":"VLOOKUP(C4277,Referencias!$C$4:$E$21,3,FALSE())","v":3},"Competición","Andaluza"]
["4161816","Yñiguez Ovando, Fernando","3D","C",{"$f":"VLOOKUP(C4278,Referencias!$C$4:$D$21,2,FALSE())","v":"Tercera Diamante"},{"$f":"VLOOKUP(I4278,Referencias!$B$24:$C$41,2,FALSE())","v":"AND"},{"$f":"VLOOKUP(C4278,Referencias!$C$4:$E$21,3,FALSE())","v":3},"Competición","Andaluza"]
["4161817","Rodríguez-Millán Oliveres, José Daniel","3D","C",{"$f":"VLOOKUP(C4279,Referencias!$C$4:$D$21,2,FALSE())","v":"Tercera Diamante"},{"$f":"VLOOKUP(I4279,Referencias!$B$24:$C$41,2,FALSE())","v":"AND"},{"$f":"VLOOKUP(C4279,Referencias!$C$4:$E$21,3,FALSE())","v":3},"Competición","Andaluza"]
["4161819","Jiménez Ramos, María Isabel","3D","D",{"$f":"VLOOKUP(C4280,Referencias!$C$4:$D$21,2,FALSE())","v":"Tercera Diamante"},{"$f":"VLOOKUP(I4280,Referencias!$B$24:$C$41,2,FALSE())","v":"AND"},{"$f":"VLOOKUP(C4280,Referencias!$C$4:$E$21,3,FALSE())","v":3},"Competición","Andaluza"]
["4161820","Echeverria Fernández, Milagros","3D","D",{"$f":"VLOOKUP(C4281,Referencias!$C$4:$D$21,2,FALSE())","v":"Tercera Diamante"},{"$f":"VLOOKUP(I4281,Referencias!$B$24:$C$41,2,FALSE())","v":"AND"},{"$f":"VLOOKUP(C4281,Referencias!$C$4:$E$21,3,FALSE())","v":3},"Competición","Andaluza"]
["4161821","Rich Delgado, Josie","3D","D",{"$f":"VLOOKUP(C4282,Referencias!$C$4:$D$21,2,FALSE())","v":"Tercera Diamante"},{"$f":"VLOOKUP(I4282,Referencias!$B$24:$C$41,2,FALSE())","v":"AND"},{"$f":"VLOOKUP(C4282,Referencias!$C$4:$E$21,3,FALSE())","v":3},"Competición","Andaluza"]
["4161823","Guerrero Hernández, Gema","3D","D",{"$f":"VLOOKUP(C4283,Referencias!$C$4:$D$21,2,FALSE())","v":"Tercera Diamante"},{"$f":"VLOOKUP(I4283,Referencias!$B$24:$C$41,2,FALSE())","v":"AND"},{"$f":"VLOOKUP(C4283,Referencias!$C$4:$E$21,3,FALSE())","v":3},"Competición","Andaluza"]
["4161824","Ruiz Millan, Maria Dolores","3D","D",{"$f":"VLOOKUP(C4284,Referencias!$C$4:$D$21,2,FALSE())","v":"Tercera Diamante"},{"$f":"VLOOKUP(I4284,Referencias!$B$24:$C$41,2,FALSE())","v":"AND"},{"$f":"VLOOKUP(C4284,Referencias!$C$4:$E$21,3,FALSE())","v":3},"Competición","Andaluza"]
["4161826","Orero Clavero, Cristina","3D","D",{"$f":"VLOOKUP(C4285,Referencias!$C$4:$D$21,2,FALSE())","v":"Tercera Diamante"},{"$f":"VLOOKUP(I4285,Referencias!$B$24:$C$41,2,FALSE())","v":"AND"},{"$f":"VLOOKUP(C4285,Referencias!$C$4:$E$21,3,FALSE())","v":3},"Competición","Andaluza"]
["4161827","Bernal Ruiz, Alicia","3D","D",{"$f":"VLOOKUP(C4286,Referencias!$C$4:$D$21,2,FALSE())","v":"Tercera Diamante"},{"$f":"VLOOKUP(I4286,Referencias!$B$24:$C$41,2,FALSE())","v":"AND"},{"$f":"VLOOKUP(C4286,Referencias!$C$4:$E$21,3,FALSE())","v":3},"Competición","Andaluza"]
["4161831","Torres Peral, María del Carmen","3D","D",{"$f":"VLOOKUP(C4287,Referencias!$C$4:$D$21,2,FALSE())","v":"Tercera Diamante"},{"$f":"VLOOKUP(I4287,Referencias!$B$24:$C$41,2,FALSE())","v":"AND"},{"$f":"VLOOKUP(C4287,Referencias!$C$4:$E$21,3,FALSE())","v":3},"Competición","Andaluza"]
["4167420","Charlo Ortiz-Repiso, Ramón","2D","C",{"$f":"VLOOKUP(C4288,Referencias!$C$4:$D$21,2,FALSE())","v":"Segunda Diamante"},{"$f":"VLOOKUP(I4288,Referencias!$B$24:$C$41,2,FALSE())","v":"AND"},{"$f":"VLOOKUP(C4288,Referencias!$C$4:$E$21,3,FALSE())","v":2},"Competición","Andaluza"]
["4167421","De Bonilla de Charlo, María","1C","D",{"$f":"VLOOKUP(C4289,Referencias!$C$4:$D$21,2,FALSE())","v":"Primera Corazón"},{"$f":"VLOOKUP(I4289,Referencias!$B$24:$C$41,2,FALSE())","v":"AND"},{"$f":"VLOOKUP(C4289,Referencias!$C$4:$E$21,3,FALSE())","v":1},"Competición","Andaluza"]
["4167444","Maza Burgos, Javier","1P","C",{"$f":"VLOOKUP(C4290,Referencias!$C$4:$D$21,2,FALSE())","v":"Primera Picas"},{"$f":"VLOOKUP(I4290,Referencias!$B$24:$C$41,2,FALSE())","v":"AND"},{"$f":"VLOOKUP(C4290,Referencias!$C$4:$E$21,3,FALSE())","v":1},"Competición","Andaluza"]
["4167460","Barón Rivero, Luis","1P","C",{"$f":"VLOOKUP(C4291,Referencias!$C$4:$D$21,2,FALSE())","v":"Primera Picas"},{"$f":"VLOOKUP(I4291,Referencias!$B$24:$C$41,2,FALSE())","v":"AND"},{"$f":"VLOOKUP(C4291,Referencias!$C$4:$E$21,3,FALSE())","v":1},"Competición","Andaluza"]
["4167468","Solari Caballer, Dora","2D","D",{"$f":"VLOOKUP(C4292,Referencias!$C$4:$D$21,2,FALSE())","v":"Segunda Diamante"},{"$f":"VLOOKUP(I4292,Referencias!$B$24:$C$41,2,FALSE())","v":"AND"},{"$f":"VLOOKUP(C4292,Referencias!$C$4:$E$21,3,FALSE())","v":2},"Competición","Andaluza"]
["4167488","Salinas Mila, Alvaro","1P","C",{"$f":"VLOOKUP(C4293,Referencias!$C$4:$D$21,2,FALSE())","v":"Primera Picas"},{"$f":"VLOOKUP(I4293,Referencias!$B$24:$C$41,2,FALSE())","v":"AND"},{"$f":"VLOOKUP(C4293,Referencias!$C$4:$E$21,3,FALSE())","v":1},"Competición","Andaluza"]
["4167494","Crespo de Gómez Uribarri, Benjamina","1D","D",{"$f":"VLOOKUP(C4294,Referencias!$C$4:$D$21,2,FALSE())","v":"Primera Diamante"},{"$f":"VLOOKUP(I4294,Referencias!$B$24:$C$41,2,FALSE())","v":"AND"},{"$f":"VLOOKUP(C4294,Referencias!$C$4:$E$21,3,FALSE())","v":1},"Competición","Andaluza"]
["4167503","Toro Fernández de Peñaranda, José María","1P","C",{"$f":"VLOOKUP(C4295,Referencias!$C$4:$D$21,2,FALSE())","v":"Primera Picas"},{"$f":"VLOOKUP(I4295,Referencias!$B$24:$C$41,2,FALSE())","v":"AND"},{"$f":"VLOOKUP(C4295,Referencias!$C$4:$E$21,3,FALSE())","v":1},"Competición","Andaluza"]
["4320031","Cavalle Vallverdu, Jordi","1C","C",{"$f":"VLOOKUP(C4296,Referencias!$C$4:$D$21,2,FALSE())","v":"Primera Corazón"},{"$f":"VLOOKUP(I4296,Referencias!$B$24:$C$41,2,FALSE())","v":"CAT"},{"$f":"VLOOKUP(C4296,Referencias!$C$4:$E$21,3,FALSE())","v":1},"Competición","Catalana"]
["4322015","Plaza Bustos, Josefa","2P","D",{"$f":"VLOOKUP(C4297,Referencias!$C$4:$D$21,2,FALSE())","v":"Segunda Picas"},{"$f":"VLOOKUP(I4297,Referencias!$B$24:$C$41,2,FALSE())","v":"C.VAL"},{"$f":"VLOOKUP(C4297,Referencias!$C$4:$E$21,3,FALSE())","v":2},"Competición","C. Valenciana"]
["4322524","Maduell Canals, Antoni","3D","C",{"$f":"VLOOKUP(C4298,Referencias!$C$4:$D$21,2,FALSE())","v":"Tercera Diamante"},{"$f":"VLOOKUP(I4298,Referencias!$B$24:$C$41,2,FALSE())","v":"CAT"},{"$f":"VLOOKUP(C4298,Referencias!$C$4:$E$21,3,FALSE())","v":3},"Competición","Catalana"]
["4322549","Hugas Segarra, May","3C","D",{"$f":"VLOOKUP(C4299,Referencias!$C$4:$D$21,2,FALSE())","v":"Tercera Corazón"},{"$f":"VLOOKUP(I4299,Referencias!$B$24:$C$41,2,FALSE())","v":"CAT"},{"$f":"VLOOKUP(C4299,Referencias!$C$4:$E$21,3,FALSE())","v":3},"Competición","Catalana"]
["4322550","Pujol Niubo, Agustin","3P","C",{"$f":"VLOOKUP(C4300,Referencias!$C$4:$D$21,2,FALSE())","v":"Tercera Picas"},{"$f":"VLOOKUP(I4300,Referencias!$B$24:$C$41,2,FALSE())","v":"CAT"},{"$f":"VLOOKUP(C4300,Referencias!$C$4:$E$21,3,FALSE())","v":3},"Competición","Catalana"]
["4323408","Barth, Karl","3D","C",{"$f":"VLOOKUP(C4301,Referencias!$C$4:$D$21,2,FALSE())","v":"Tercera Diamante"},{"$f":"VLOOKUP(I4301,Referencias!$B$24:$C$41,2,FALSE())","v":"CAT"},{"$f":"VLOOKUP(C4301,Referencias!$C$4:$E$21,3,FALSE())","v":3},"Competición","Catalana"]
["4323410","Pàmies Salvat, Xavier","3D","C",{"$f":"VLOOKUP(C4302,Referencias!$C$4:$D$21,2,FALSE())","v":"Tercera Diamante"},{"$f":"VLOOKUP(I4302,Referencias!$B$24:$C$41,2,FALSE())","v":"CAT"},{"$f":"VLOOKUP(C4302,Referencias!$C$4:$E$21,3,FALSE())","v":3},"Competición","Catalana"]
["4323411","Grande Rodriguez, Pilar","3D","D",{"$f":"VLOOKUP(C4303,Referencias!$C$4:$D$21,2,FALSE())","v":"Tercera Diamante"},{"$f":"VLOOKUP(I4303,Referencias!$B$24:$C$41,2,FALSE())","v":"CAT"},{"$f":"VLOOKUP(C4303,Referencias!$C$4:$E$21,3,FALSE())","v":3},"Competición","Catalana"]
["4323412","Nolla Cerdan, Adela","3D","D",{"$f":"VLOOKUP(C4304,Referencias!$C$4:$D$21,2,FALSE())","v":"Tercera Diamante"},{"$f":"VLOOKUP(I4304,Referencias!$B$24:$C$41,2,FALSE())","v":"CAT"},{"$f":"VLOOKUP(C4304,Referencias!$C$4:$E$21,3,FALSE())","v":3},"Competición","Catalana"]
["4323413","Padrell Baiges, Hildo","3D","D",{"$f":"VLOOKUP(C4305,Referencias!$C$4:$D$21,2,FALSE())","v":"Tercera Diamante"},{"$f":"VLOOKUP(I4305,Referencias!$B$24:$C$41,2,FALSE())","v":"CAT"},{"$f":"VLOOKUP(C4305,Referencias!$C$4:$E$21,3,FALSE())","v":3},"Competición","Catalana"]
["4323425","Estradera Teixidó, María Angeles","3D","D",{"$f":"VLOOKUP(C4306,Referencias!$C$4:$D$21,2,FALSE())","v":"Tercera Diamante"},{"$f":"VLOOKUP(I4306,Referencias!$B$24:$C$41,2,FALSE())","v":"CAT"},{"$f":"VLOOKUP(C4306,Referencias!$C$4:$E$21,3,FALSE())","v":3},"Competición","Catalana"]
["4323426","Pamies Fuster, Márius","3D","C",{"$f":"VLOOKUP(C4307,Referencias!$C$4:$D$21,2,FALSE())","v":"Tercera Diamante"},{"$f":"VLOOKUP(I4307,Referencias!$B$24:$C$41,2,FALSE())","v":"CAT"},{"$f":"VLOOKUP(C4307,Referencias!$C$4:$E$21,3,FALSE())","v":3},"Competición","Catalana"]
["4323431","Grau Badet, José María","3D","C",{"$f":"VLOOKUP(C4308,Referencias!$C$4:$D$21,2,FALSE())","v":"Tercera Diamante"},{"$f":"VLOOKUP(I4308,Referencias!$B$24:$C$41,2,FALSE())","v":"CAT"},{"$f":"VLOOKUP(C4308,Referencias!$C$4:$E$21,3,FALSE())","v":3},"Competición","Catalana"]
["4323432","Vidal Pintalubia, Cori","3D","D",{"$f":"VLOOKUP(C4309,Referencias!$C$4:$D$21,2,FALSE())","v":"Tercera Diamante"},{"$f":"VLOOKUP(I4309,Referencias!$B$24:$C$41,2,FALSE())","v":"CAT"},{"$f":"VLOOKUP(C4309,Referencias!$C$4:$E$21,3,FALSE())","v":3},"Competición","Catalana"]
["4323433","Casajuana Briansó, María Carmen","3D","D",{"$f":"VLOOKUP(C4310,Referencias!$C$4:$D$21,2,FALSE())","v":"Tercera Diamante"},{"$f":"VLOOKUP(I4310,Referencias!$B$24:$C$41,2,FALSE())","v":"CAT"},{"$f":"VLOOKUP(C4310,Referencias!$C$4:$E$21,3,FALSE())","v":3},"Competición","Catalana"]
["4323434","Romero Farré, Kika","3D","D",{"$f":"VLOOKUP(C4311,Referencias!$C$4:$D$21,2,FALSE())","v":"Tercera Diamante"},{"$f":"VLOOKUP(I4311,Referencias!$B$24:$C$41,2,FALSE())","v":"CAT"},{"$f":"VLOOKUP(C4311,Referencias!$C$4:$E$21,3,FALSE())","v":3},"Competición","Catalana"]
["4323435","Gavaldà Cruset, Tutó","3D","D",{"$f":"VLOOKUP(C4312,Referencias!$C$4:$D$21,2,FALSE())","v":"Tercera Diamante"},{"$f":"VLOOKUP(I4312,Referencias!$B$24:$C$41,2,FALSE())","v":"CAT"},{"$f":"VLOOKUP(C4312,Referencias!$C$4:$E$21,3,FALSE())","v":3},"Competición","Catalana"]
["4323436","Urgellès Homdedeu, Natàlia","3D","D",{"$f":"VLOOKUP(C4313,Referencias!$C$4:$D$21,2,FALSE())","v":"Tercera Diamante"},{"$f":"VLOOKUP(I4313,Referencias!$B$24:$C$41,2,FALSE())","v":"CAT"},{"$f":"VLOOKUP(C4313,Referencias!$C$4:$E$21,3,FALSE())","v":3},"Competición","Catalana"]
["4323437","Degieux Tetefort, Brigitte","3D","D",{"$f":"VLOOKUP(C4314,Referencias!$C$4:$D$21,2,FALSE())","v":"Tercera Diamante"},{"$f":"VLOOKUP(I4314,Referencias!$B$24:$C$41,2,FALSE())","v":"CAT"},{"$f":"VLOOKUP(C4314,Referencias!$C$4:$E$21,3,FALSE())","v":3},"Competición","Catalana"]
["4323438","Tetefort, Jean Louis","3D","C",{"$f":"VLOOKUP(C4315,Referencias!$C$4:$D$21,2,FALSE())","v":"Tercera Diamante"},{"$f":"VLOOKUP(I4315,Referencias!$B$24:$C$41,2,FALSE())","v":"CAT"},{"$f":"VLOOKUP(C4315,Referencias!$C$4:$E$21,3,FALSE())","v":3},"Competición","Catalana"]
["4323439","Santana, Javier","3D","C",{"$f":"VLOOKUP(C4316,Referencias!$C$4:$D$21,2,FALSE())","v":"Tercera Diamante"},{"$f":"VLOOKUP(I4316,Referencias!$B$24:$C$41,2,FALSE())","v":"CAT"},{"$f":"VLOOKUP(C4316,Referencias!$C$4:$E$21,3,FALSE())","v":3},"Competición","Catalana"]
["4323440","Karpowicz, Teresa","3D","D",{"$f":"VLOOKUP(C4317,Referencias!$C$4:$D$21,2,FALSE())","v":"Tercera Diamante"},{"$f":"VLOOKUP(I4317,Referencias!$B$24:$C$41,2,FALSE())","v":"CAT"},{"$f":"VLOOKUP(C4317,Referencias!$C$4:$E$21,3,FALSE())","v":3},"Competición","Catalana"]
["4323441","Palau Alberich, Cori","3D","D",{"$f":"VLOOKUP(C4318,Referencias!$C$4:$D$21,2,FALSE())","v":"Tercera Diamante"},{"$f":"VLOOKUP(I4318,Referencias!$B$24:$C$41,2,FALSE())","v":"CAT"},{"$f":"VLOOKUP(C4318,Referencias!$C$4:$E$21,3,FALSE())","v":3},"Competición","Catalana"]
["4323442","Cuadrado Carrero, Concepción","3D","D",{"$f":"VLOOKUP(C4319,Referencias!$C$4:$D$21,2,FALSE())","v":"Tercera Diamante"},{"$f":"VLOOKUP(I4319,Referencias!$B$24:$C$41,2,FALSE())","v":"CAT"},{"$f":"VLOOKUP(C4319,Referencias!$C$4:$E$21,3,FALSE())","v":3},"Competición","Catalana"]
["4323443","Ornosa Capnopoulos, Joan","3D","C",{"$f":"VLOOKUP(C4320,Referencias!$C$4:$D$21,2,FALSE())","v":"Tercera Diamante"},{"$f":"VLOOKUP(I4320,Referencias!$B$24:$C$41,2,FALSE())","v":"CAT"},{"$f":"VLOOKUP(C4320,Referencias!$C$4:$E$21,3,FALSE())","v":3},"Competición","Catalana"]
["4323444","Turull March, Maria","3D","D",{"$f":"VLOOKUP(C4321,Referencias!$C$4:$D$21,2,FALSE())","v":"Tercera Diamante"},{"$f":"VLOOKUP(I4321,Referencias!$B$24:$C$41,2,FALSE())","v":"CAT"},{"$f":"VLOOKUP(C4321,Referencias!$C$4:$E$21,3,FALSE())","v":3},"Competición","Catalana"]
["4323445","Cámara Ocaña, Josep María","3D","C",{"$f":"VLOOKUP(C4322,Referencias!$C$4:$D$21,2,FALSE())","v":"Tercera Diamante"},{"$f":"VLOOKUP(I4322,Referencias!$B$24:$C$41,2,FALSE())","v":"CAT"},{"$f":"VLOOKUP(C4322,Referencias!$C$4:$E$21,3,FALSE())","v":3},"Competición","Catalana"]
["4323446","Sentís LLavoré, Coia","3D","D",{"$f":"VLOOKUP(C4323,Referencias!$C$4:$D$21,2,FALSE())","v":"Tercera Diamante"},{"$f":"VLOOKUP(I4323,Referencias!$B$24:$C$41,2,FALSE())","v":"CAT"},{"$f":"VLOOKUP(C4323,Referencias!$C$4:$E$21,3,FALSE())","v":3},"Competición","Catalana"]
["4323447","Sentís Llavoré, Joaquim","3D","C",{"$f":"VLOOKUP(C4324,Referencias!$C$4:$D$21,2,FALSE())","v":"Tercera Diamante"},{"$f":"VLOOKUP(I4324,Referencias!$B$24:$C$41,2,FALSE())","v":"CAT"},{"$f":"VLOOKUP(C4324,Referencias!$C$4:$E$21,3,FALSE())","v":3},"Competición","Catalana"]
["4323448","Roca Pallejà, Josep María","3D","C",{"$f":"VLOOKUP(C4325,Referencias!$C$4:$D$21,2,FALSE())","v":"Tercera Diamante"},{"$f":"VLOOKUP(I4325,Referencias!$B$24:$C$41,2,FALSE())","v":"CAT"},{"$f":"VLOOKUP(C4325,Referencias!$C$4:$E$21,3,FALSE())","v":3},"Competición","Catalana"]
["4323449","Crusat Moles, Teresa","3D","D",{"$f":"VLOOKUP(C4326,Referencias!$C$4:$D$21,2,FALSE())","v":"Tercera Diamante"},{"$f":"VLOOKUP(I4326,Referencias!$B$24:$C$41,2,FALSE())","v":"CAT"},{"$f":"VLOOKUP(C4326,Referencias!$C$4:$E$21,3,FALSE())","v":3},"Competición","Catalana"]
["4323450","Sugrañes Anglès, María Mar","3D","D",{"$f":"VLOOKUP(C4327,Referencias!$C$4:$D$21,2,FALSE())","v":"Tercera Diamante"},{"$f":"VLOOKUP(I4327,Referencias!$B$24:$C$41,2,FALSE())","v":"CAT"},{"$f":"VLOOKUP(C4327,Referencias!$C$4:$E$21,3,FALSE())","v":3},"Competición","Catalana"]
["4323451","Rovira Juan, Antón","3D","C",{"$f":"VLOOKUP(C4328,Referencias!$C$4:$D$21,2,FALSE())","v":"Tercera Diamante"},{"$f":"VLOOKUP(I4328,Referencias!$B$24:$C$41,2,FALSE())","v":"CAT"},{"$f":"VLOOKUP(C4328,Referencias!$C$4:$E$21,3,FALSE())","v":3},"Competición","Catalana"]
["4323455","Pellicer Vendrell, Nuria","3D","D",{"$f":"VLOOKUP(C4329,Referencias!$C$4:$D$21,2,FALSE())","v":"Tercera Diamante"},{"$f":"VLOOKUP(I4329,Referencias!$B$24:$C$41,2,FALSE())","v":"CAT"},{"$f":"VLOOKUP(C4329,Referencias!$C$4:$E$21,3,FALSE())","v":3},"Competición","Catalana"]
["4323456","Marzo Martínez , Julia","3D","D",{"$f":"VLOOKUP(C4330,Referencias!$C$4:$D$21,2,FALSE())","v":"Tercera Diamante"},{"$f":"VLOOKUP(I4330,Referencias!$B$24:$C$41,2,FALSE())","v":"CAT"},{"$f":"VLOOKUP(C4330,Referencias!$C$4:$E$21,3,FALSE())","v":3},"Competición","Catalana"]
["4323476","Domenech Sevil, Agustin","3D","C",{"$f":"VLOOKUP(C4331,Referencias!$C$4:$D$21,2,FALSE())","v":"Tercera Diamante"},{"$f":"VLOOKUP(I4331,Referencias!$B$24:$C$41,2,FALSE())","v":"CAT"},{"$f":"VLOOKUP(C4331,Referencias!$C$4:$E$21,3,FALSE())","v":3},"Competición","Catalana"]
["4323477","Alonso de Corcuera, Maria del Carmen","3D","D",{"$f":"VLOOKUP(C4332,Referencias!$C$4:$D$21,2,FALSE())","v":"Tercera Diamante"},{"$f":"VLOOKUP(I4332,Referencias!$B$24:$C$41,2,FALSE())","v":"CAT"},{"$f":"VLOOKUP(C4332,Referencias!$C$4:$E$21,3,FALSE())","v":3},"Competición","Catalana"]
["4323478","Roig\tSegimón, Magdalena","3D","D",{"$f":"VLOOKUP(C4333,Referencias!$C$4:$D$21,2,FALSE())","v":"Tercera Diamante"},{"$f":"VLOOKUP(I4333,Referencias!$B$24:$C$41,2,FALSE())","v":"CAT"},{"$f":"VLOOKUP(C4333,Referencias!$C$4:$E$21,3,FALSE())","v":3},"Competición","Catalana"]
["4323479","Hidalgo Membiela, Carmen","3D","D",{"$f":"VLOOKUP(C4334,Referencias!$C$4:$D$21,2,FALSE())","v":"Tercera Diamante"},{"$f":"VLOOKUP(I4334,Referencias!$B$24:$C$41,2,FALSE())","v":"CAT"},{"$f":"VLOOKUP(C4334,Referencias!$C$4:$E$21,3,FALSE())","v":3},"Competición","Catalana"]
["4323480","Llort\tMarti, Maria Lluisa","3D","D",{"$f":"VLOOKUP(C4335,Referencias!$C$4:$D$21,2,FALSE())","v":"Tercera Diamante"},{"$f":"VLOOKUP(I4335,Referencias!$B$24:$C$41,2,FALSE())","v":"CAT"},{"$f":"VLOOKUP(C4335,Referencias!$C$4:$E$21,3,FALSE())","v":3},"Competición","Catalana"]
["4323481","Salguero de la Lastra, Rosa","3D","D",{"$f":"VLOOKUP(C4336,Referencias!$C$4:$D$21,2,FALSE())","v":"Tercera Diamante"},{"$f":"VLOOKUP(I4336,Referencias!$B$24:$C$41,2,FALSE())","v":"CAT"},{"$f":"VLOOKUP(C4336,Referencias!$C$4:$E$21,3,FALSE())","v":3},"Competición","Catalana"]
["4323482","Ramírez Bort , Josefina","3D","D",{"$f":"VLOOKUP(C4337,Referencias!$C$4:$D$21,2,FALSE())","v":"Tercera Diamante"},{"$f":"VLOOKUP(I4337,Referencias!$B$24:$C$41,2,FALSE())","v":"CAT"},{"$f":"VLOOKUP(C4337,Referencias!$C$4:$E$21,3,FALSE())","v":3},"Competición","Catalana"]
["4323483","Galarza Arrazola, Maria Isabel","3D","D",{"$f":"VLOOKUP(C4338,Referencias!$C$4:$D$21,2,FALSE())","v":"Tercera Diamante"},{"$f":"VLOOKUP(I4338,Referencias!$B$24:$C$41,2,FALSE())","v":"CAT"},{"$f":"VLOOKUP(C4338,Referencias!$C$4:$E$21,3,FALSE())","v":3},"Competición","Catalana"]
["4323484","Rosello Cavallé, Asuncion","3D","D",{"$f":"VLOOKUP(C4339,Referencias!$C$4:$D$21,2,FALSE())","v":"Tercera Diamante"},{"$f":"VLOOKUP(I4339,Referencias!$B$24:$C$41,2,FALSE())","v":"CAT"},{"$f":"VLOOKUP(C4339,Referencias!$C$4:$E$21,3,FALSE())","v":3},"Competición","Catalana"]
["4323485","Gari\tAnguera, Josep Maria","3D","C",{"$f":"VLOOKUP(C4340,Referencias!$C$4:$D$21,2,FALSE())","v":"Tercera Diamante"},{"$f":"VLOOKUP(I4340,Referencias!$B$24:$C$41,2,FALSE())","v":"CAT"},{"$f":"VLOOKUP(C4340,Referencias!$C$4:$E$21,3,FALSE())","v":3},"Competición","Catalana"]
["4323486","Bueno Arilla, Simeón","3D","C",{"$f":"VLOOKUP(C4341,Referencias!$C$4:$D$21,2,FALSE())","v":"Tercera Diamante"},{"$f":"VLOOKUP(I4341,Referencias!$B$24:$C$41,2,FALSE())","v":"CAT"},{"$f":"VLOOKUP(C4341,Referencias!$C$4:$E$21,3,FALSE())","v":3},"Competición","Catalana"]
["4323487","Subi\tAlejandre, Analia","3D","D",{"$f":"VLOOKUP(C4342,Referencias!$C$4:$D$21,2,FALSE())","v":"Tercera Diamante"},{"$f":"VLOOKUP(I4342,Referencias!$B$24:$C$41,2,FALSE())","v":"CAT"},{"$f":"VLOOKUP(C4342,Referencias!$C$4:$E$21,3,FALSE())","v":3},"Competición","Catalana"]
["4323488","Ricoma de Castellarnau, Maria del Claustro","3D","D",{"$f":"VLOOKUP(C4343,Referencias!$C$4:$D$21,2,FALSE())","v":"Tercera Diamante"},{"$f":"VLOOKUP(I4343,Referencias!$B$24:$C$41,2,FALSE())","v":"CAT"},{"$f":"VLOOKUP(C4343,Referencias!$C$4:$E$21,3,FALSE())","v":3},"Competición","Catalana"]
["4323489","Wheelwright, Nellida","3D","D",{"$f":"VLOOKUP(C4344,Referencias!$C$4:$D$21,2,FALSE())","v":"Tercera Diamante"},{"$f":"VLOOKUP(I4344,Referencias!$B$24:$C$41,2,FALSE())","v":"CAT"},{"$f":"VLOOKUP(C4344,Referencias!$C$4:$E$21,3,FALSE())","v":3},"Competición","Catalana"]
["4323490","Segura Garcia, Pilar","3D","D",{"$f":"VLOOKUP(C4345,Referencias!$C$4:$D$21,2,FALSE())","v":"Tercera Diamante"},{"$f":"VLOOKUP(I4345,Referencias!$B$24:$C$41,2,FALSE())","v":"CAT"},{"$f":"VLOOKUP(C4345,Referencias!$C$4:$E$21,3,FALSE())","v":3},"Competición","Catalana"]
["4323491","Rovira Planas, Pilar","3D","D",{"$f":"VLOOKUP(C4346,Referencias!$C$4:$D$21,2,FALSE())","v":"Tercera Diamante"},{"$f":"VLOOKUP(I4346,Referencias!$B$24:$C$41,2,FALSE())","v":"CAT"},{"$f":"VLOOKUP(C4346,Referencias!$C$4:$E$21,3,FALSE())","v":3},"Competición","Catalana"]
["4323501","Ramos Prieto, Milagros","3D","D",{"$f":"VLOOKUP(C4347,Referencias!$C$4:$D$21,2,FALSE())","v":"Tercera Diamante"},{"$f":"VLOOKUP(I4347,Referencias!$B$24:$C$41,2,FALSE())","v":"CAT"},{"$f":"VLOOKUP(C4347,Referencias!$C$4:$E$21,3,FALSE())","v":3},"Competición","Catalana"]
["4323504","Solé\tPuigfel, Ramón","3D","C",{"$f":"VLOOKUP(C4348,Referencias!$C$4:$D$21,2,FALSE())","v":"Tercera Diamante"},{"$f":"VLOOKUP(I4348,Referencias!$B$24:$C$41,2,FALSE())","v":"CAT"},{"$f":"VLOOKUP(C4348,Referencias!$C$4:$E$21,3,FALSE())","v":3},"Competición","Catalana"]
["4641007","Gardner , Tim","2C","C",{"$f":"VLOOKUP(C4349,Referencias!$C$4:$D$21,2,FALSE())","v":"Segunda Corazón"},{"$f":"VLOOKUP(I4349,Referencias!$B$24:$C$41,2,FALSE())","v":"C.VAL"},{"$f":"VLOOKUP(C4349,Referencias!$C$4:$E$21,3,FALSE())","v":2},"Competición","C. Valenciana"]
["4641051","Azpitarte Camy, Antonio","2P","C",{"$f":"VLOOKUP(C4350,Referencias!$C$4:$D$21,2,FALSE())","v":"Segunda Picas"},{"$f":"VLOOKUP(I4350,Referencias!$B$24:$C$41,2,FALSE())","v":"C.VAL"},{"$f":"VLOOKUP(C4350,Referencias!$C$4:$E$21,3,FALSE())","v":2},"Competición","C. Valenciana"]
["4641053","San Andrés Martín, José","1C","C",{"$f":"VLOOKUP(C4351,Referencias!$C$4:$D$21,2,FALSE())","v":"Primera Corazón"},{"$f":"VLOOKUP(I4351,Referencias!$B$24:$C$41,2,FALSE())","v":"C.VAL"},{"$f":"VLOOKUP(C4351,Referencias!$C$4:$E$21,3,FALSE())","v":1},"Competición","C. Valenciana"]
["4641054","Martínez Berges, Abraham","3D","C",{"$f":"VLOOKUP(C4352,Referencias!$C$4:$D$21,2,FALSE())","v":"Tercera Diamante"},{"$f":"VLOOKUP(I4352,Referencias!$B$24:$C$41,2,FALSE())","v":"C.VAL"},{"$f":"VLOOKUP(C4352,Referencias!$C$4:$E$21,3,FALSE())","v":3},"Competición","C. Valenciana"]
["4641064","Caffarena Raggio, José M.","1C","C",{"$f":"VLOOKUP(C4353,Referencias!$C$4:$D$21,2,FALSE())","v":"Primera Corazón"},{"$f":"VLOOKUP(I4353,Referencias!$B$24:$C$41,2,FALSE())","v":"C.VAL"},{"$f":"VLOOKUP(C4353,Referencias!$C$4:$E$21,3,FALSE())","v":1},"Competición","C. Valenciana"]
["4641065","Beltran Serrano, María Luisa","1P","D",{"$f":"VLOOKUP(C4354,Referencias!$C$4:$D$21,2,FALSE())","v":"Primera Picas"},{"$f":"VLOOKUP(I4354,Referencias!$B$24:$C$41,2,FALSE())","v":"C.VAL"},{"$f":"VLOOKUP(C4354,Referencias!$C$4:$E$21,3,FALSE())","v":1},"Competición","C. Valenciana"]
["4641066","Arcos Sundberg, Isabel","2C","D",{"$f":"VLOOKUP(C4355,Referencias!$C$4:$D$21,2,FALSE())","v":"Segunda Corazón"},{"$f":"VLOOKUP(I4355,Referencias!$B$24:$C$41,2,FALSE())","v":"C.VAL"},{"$f":"VLOOKUP(C4355,Referencias!$C$4:$E$21,3,FALSE())","v":2},"Competición","C. Valenciana"]
["4641096","León Ramo, María Antonia","2D","D",{"$f":"VLOOKUP(C4356,Referencias!$C$4:$D$21,2,FALSE())","v":"Segunda Diamante"},{"$f":"VLOOKUP(I4356,Referencias!$B$24:$C$41,2,FALSE())","v":"C.VAL"},{"$f":"VLOOKUP(C4356,Referencias!$C$4:$E$21,3,FALSE())","v":2},"Competición","C. Valenciana"]
["4641097","Deusa Escriva, Carmen","3P","D",{"$f":"VLOOKUP(C4357,Referencias!$C$4:$D$21,2,FALSE())","v":"Tercera Picas"},{"$f":"VLOOKUP(I4357,Referencias!$B$24:$C$41,2,FALSE())","v":"C.VAL"},{"$f":"VLOOKUP(C4357,Referencias!$C$4:$E$21,3,FALSE())","v":3},"Competición","C. Valenciana"]
["4641103","Igual Aguirre, Mercedes","3D","D",{"$f":"VLOOKUP(C4358,Referencias!$C$4:$D$21,2,FALSE())","v":"Tercera Diamante"},{"$f":"VLOOKUP(I4358,Referencias!$B$24:$C$41,2,FALSE())","v":"C.VAL"},{"$f":"VLOOKUP(C4358,Referencias!$C$4:$E$21,3,FALSE())","v":3},"Competición","C. Valenciana"]
["4641115","Utrilla Suárez, Amparo","2C","D",{"$f":"VLOOKUP(C4359,Referencias!$C$4:$D$21,2,FALSE())","v":"Segunda Corazón"},{"$f":"VLOOKUP(I4359,Referencias!$B$24:$C$41,2,FALSE())","v":"C.VAL"},{"$f":"VLOOKUP(C4359,Referencias!$C$4:$E$21,3,FALSE())","v":2},"Competición","C. Valenciana"]
["4641122","Ortiz Piles, María Dolores","1P","D",{"$f":"VLOOKUP(C4360,Referencias!$C$4:$D$21,2,FALSE())","v":"Primera Picas"},{"$f":"VLOOKUP(I4360,Referencias!$B$24:$C$41,2,FALSE())","v":"C.VAL"},{"$f":"VLOOKUP(C4360,Referencias!$C$4:$E$21,3,FALSE())","v":1},"Competición","C. Valenciana"]
["4641123","Soriano López, María Isabel","3D","D",{"$f":"VLOOKUP(C4361,Referencias!$C$4:$D$21,2,FALSE())","v":"Tercera Diamante"},{"$f":"VLOOKUP(I4361,Referencias!$B$24:$C$41,2,FALSE())","v":"C.VAL"},{"$f":"VLOOKUP(C4361,Referencias!$C$4:$E$21,3,FALSE())","v":3},"Competición","C. Valenciana"]
["4641128","Sopena Dasi, Gloria","1P","D",{"$f":"VLOOKUP(C4362,Referencias!$C$4:$D$21,2,FALSE())","v":"Primera Picas"},{"$f":"VLOOKUP(I4362,Referencias!$B$24:$C$41,2,FALSE())","v":"C.VAL"},{"$f":"VLOOKUP(C4362,Referencias!$C$4:$E$21,3,FALSE())","v":1},"Competición","C. Valenciana"]
["4641130","Beneyto Moreno, María José","3C","D",{"$f":"VLOOKUP(C4363,Referencias!$C$4:$D$21,2,FALSE())","v":"Tercera Corazón"},{"$f":"VLOOKUP(I4363,Referencias!$B$24:$C$41,2,FALSE())","v":"C.VAL"},{"$f":"VLOOKUP(C4363,Referencias!$C$4:$E$21,3,FALSE())","v":3},"Competición","C. Valenciana"]
["4641136","Daroz Casamayor, Carmen","2D","D",{"$f":"VLOOKUP(C4364,Referencias!$C$4:$D$21,2,FALSE())","v":"Segunda Diamante"},{"$f":"VLOOKUP(I4364,Referencias!$B$24:$C$41,2,FALSE())","v":"C.VAL"},{"$f":"VLOOKUP(C4364,Referencias!$C$4:$E$21,3,FALSE())","v":2},"Competición","C. Valenciana"]
["4641141","Montero Fraile, María Angeles","3D","D",{"$f":"VLOOKUP(C4365,Referencias!$C$4:$D$21,2,FALSE())","v":"Tercera Diamante"},{"$f":"VLOOKUP(I4365,Referencias!$B$24:$C$41,2,FALSE())","v":"C.VAL"},{"$f":"VLOOKUP(C4365,Referencias!$C$4:$E$21,3,FALSE())","v":3},"Competición","C. Valenciana"]
["4641142","Saez Pérez, Pepa","2P","D",{"$f":"VLOOKUP(C4366,Referencias!$C$4:$D$21,2,FALSE())","v":"Segunda Picas"},{"$f":"VLOOKUP(I4366,Referencias!$B$24:$C$41,2,FALSE())","v":"C.VAL"},{"$f":"VLOOKUP(C4366,Referencias!$C$4:$E$21,3,FALSE())","v":2},"Competición","C. Valenciana"]
["4641144","Muñoz y Muñoz, Ana María","2C","D",{"$f":"VLOOKUP(C4367,Referencias!$C$4:$D$21,2,FALSE())","v":"Segunda Corazón"},{"$f":"VLOOKUP(I4367,Referencias!$B$24:$C$41,2,FALSE())","v":"C.VAL"},{"$f":"VLOOKUP(C4367,Referencias!$C$4:$E$21,3,FALSE())","v":2},"Competición","C. Valenciana"]
["4641146","Olano Moliner, Ana","1P","D",{"$f":"VLOOKUP(C4368,Referencias!$C$4:$D$21,2,FALSE())","v":"Primera Picas"},{"$f":"VLOOKUP(I4368,Referencias!$B$24:$C$41,2,FALSE())","v":"C.VAL"},{"$f":"VLOOKUP(C4368,Referencias!$C$4:$E$21,3,FALSE())","v":1},"Competición","C. Valenciana"]
["4641147","Burriel de Orueta, Elvira","1C","D",{"$f":"VLOOKUP(C4369,Referencias!$C$4:$D$21,2,FALSE())","v":"Primera Corazón"},{"$f":"VLOOKUP(I4369,Referencias!$B$24:$C$41,2,FALSE())","v":"C.VAL"},{"$f":"VLOOKUP(C4369,Referencias!$C$4:$E$21,3,FALSE())","v":1},"Competición","C. Valenciana"]
["4641161","Liddy, Brian","1P","C",{"$f":"VLOOKUP(C4370,Referencias!$C$4:$D$21,2,FALSE())","v":"Primera Picas"},{"$f":"VLOOKUP(I4370,Referencias!$B$24:$C$41,2,FALSE())","v":"C.VAL"},{"$f":"VLOOKUP(C4370,Referencias!$C$4:$E$21,3,FALSE())","v":1},"Competición","C. Valenciana"]
["4641171","Manglano Trenor, Pilar","3P","D",{"$f":"VLOOKUP(C4371,Referencias!$C$4:$D$21,2,FALSE())","v":"Tercera Picas"},{"$f":"VLOOKUP(I4371,Referencias!$B$24:$C$41,2,FALSE())","v":"C.VAL"},{"$f":"VLOOKUP(C4371,Referencias!$C$4:$E$21,3,FALSE())","v":3},"Competición","C. Valenciana"]
["4641175","Ballester Ríos, Andrés","3P","C",{"$f":"VLOOKUP(C4372,Referencias!$C$4:$D$21,2,FALSE())","v":"Tercera Picas"},{"$f":"VLOOKUP(I4372,Referencias!$B$24:$C$41,2,FALSE())","v":"C.VAL"},{"$f":"VLOOKUP(C4372,Referencias!$C$4:$E$21,3,FALSE())","v":3},"Competición","C. Valenciana"]
["4641177","Borso di Carminati, Consuelo","3P","D",{"$f":"VLOOKUP(C4373,Referencias!$C$4:$D$21,2,FALSE())","v":"Tercera Picas"},{"$f":"VLOOKUP(I4373,Referencias!$B$24:$C$41,2,FALSE())","v":"C.VAL"},{"$f":"VLOOKUP(C4373,Referencias!$C$4:$E$21,3,FALSE())","v":3},"Competición","C. Valenciana"]
["4641204","Aquilino Mira, Ana María","1P","D",{"$f":"VLOOKUP(C4374,Referencias!$C$4:$D$21,2,FALSE())","v":"Primera Picas"},{"$f":"VLOOKUP(I4374,Referencias!$B$24:$C$41,2,FALSE())","v":"C.VAL"},{"$f":"VLOOKUP(C4374,Referencias!$C$4:$E$21,3,FALSE())","v":1},"Competición","C. Valenciana"]
["4641225","Grima Vadillo, Angela","3C","D",{"$f":"VLOOKUP(C4375,Referencias!$C$4:$D$21,2,FALSE())","v":"Tercera Corazón"},{"$f":"VLOOKUP(I4375,Referencias!$B$24:$C$41,2,FALSE())","v":"C.VAL"},{"$f":"VLOOKUP(C4375,Referencias!$C$4:$E$21,3,FALSE())","v":3},"Competición","C. Valenciana"]
["4641228","García Ruiz, Rosa Alicia","2D","D",{"$f":"VLOOKUP(C4376,Referencias!$C$4:$D$21,2,FALSE())","v":"Segunda Diamante"},{"$f":"VLOOKUP(I4376,Referencias!$B$24:$C$41,2,FALSE())","v":"C.VAL"},{"$f":"VLOOKUP(C4376,Referencias!$C$4:$E$21,3,FALSE())","v":2},"Competición","C. Valenciana"]
["4641230","Donat Amoros, Teresa","3C","D",{"$f":"VLOOKUP(C4377,Referencias!$C$4:$D$21,2,FALSE())","v":"Tercera Corazón"},{"$f":"VLOOKUP(I4377,Referencias!$B$24:$C$41,2,FALSE())","v":"C.VAL"},{"$f":"VLOOKUP(C4377,Referencias!$C$4:$E$21,3,FALSE())","v":3},"Competición","C. Valenciana"]
["4641299","Plana Estruch, Francisco J.","1C","C",{"$f":"VLOOKUP(C4378,Referencias!$C$4:$D$21,2,FALSE())","v":"Primera Corazón"},{"$f":"VLOOKUP(I4378,Referencias!$B$24:$C$41,2,FALSE())","v":"C.VAL"},{"$f":"VLOOKUP(C4378,Referencias!$C$4:$E$21,3,FALSE())","v":1},"Competición","C. Valenciana"]
["4641304","Pinto Poch, Enrique","1C","C",{"$f":"VLOOKUP(C4379,Referencias!$C$4:$D$21,2,FALSE())","v":"Primera Corazón"},{"$f":"VLOOKUP(I4379,Referencias!$B$24:$C$41,2,FALSE())","v":"C.VAL"},{"$f":"VLOOKUP(C4379,Referencias!$C$4:$E$21,3,FALSE())","v":1},"Competición","C. Valenciana"]
["4641308","Villora Nicolau, María Josefa","2D","D",{"$f":"VLOOKUP(C4380,Referencias!$C$4:$D$21,2,FALSE())","v":"Segunda Diamante"},{"$f":"VLOOKUP(I4380,Referencias!$B$24:$C$41,2,FALSE())","v":"C.VAL"},{"$f":"VLOOKUP(C4380,Referencias!$C$4:$E$21,3,FALSE())","v":2},"Competición","C. Valenciana"]
["4641310","Calvar, Ana María","2D","D",{"$f":"VLOOKUP(C4381,Referencias!$C$4:$D$21,2,FALSE())","v":"Segunda Diamante"},{"$f":"VLOOKUP(I4381,Referencias!$B$24:$C$41,2,FALSE())","v":"C.VAL"},{"$f":"VLOOKUP(C4381,Referencias!$C$4:$E$21,3,FALSE())","v":2},"Competición","C. Valenciana"]
["4641314","Ferrer Guerrero, Fina","3P","D",{"$f":"VLOOKUP(C4382,Referencias!$C$4:$D$21,2,FALSE())","v":"Tercera Picas"},{"$f":"VLOOKUP(I4382,Referencias!$B$24:$C$41,2,FALSE())","v":"C.VAL"},{"$f":"VLOOKUP(C4382,Referencias!$C$4:$E$21,3,FALSE())","v":3},"Competición","C. Valenciana"]
["4641339","LLombart Rosa, María Cruz","2D","D",{"$f":"VLOOKUP(C4383,Referencias!$C$4:$D$21,2,FALSE())","v":"Segunda Diamante"},{"$f":"VLOOKUP(I4383,Referencias!$B$24:$C$41,2,FALSE())","v":"C.VAL"},{"$f":"VLOOKUP(C4383,Referencias!$C$4:$E$21,3,FALSE())","v":2},"Competición","C. Valenciana"]
["4641340","de Diego Micola, María Dolores","3D","D",{"$f":"VLOOKUP(C4384,Referencias!$C$4:$D$21,2,FALSE())","v":"Tercera Diamante"},{"$f":"VLOOKUP(I4384,Referencias!$B$24:$C$41,2,FALSE())","v":"C.VAL"},{"$f":"VLOOKUP(C4384,Referencias!$C$4:$E$21,3,FALSE())","v":3},"Competición","C. Valenciana"]
["4641348","Castaño Casanova, Gloria","3D","D",{"$f":"VLOOKUP(C4385,Referencias!$C$4:$D$21,2,FALSE())","v":"Tercera Diamante"},{"$f":"VLOOKUP(I4385,Referencias!$B$24:$C$41,2,FALSE())","v":"C.VAL"},{"$f":"VLOOKUP(C4385,Referencias!$C$4:$E$21,3,FALSE())","v":3},"Competición","C. Valenciana"]
["4641358","García Bernia, Ana","2P","D",{"$f":"VLOOKUP(C4386,Referencias!$C$4:$D$21,2,FALSE())","v":"Segunda Picas"},{"$f":"VLOOKUP(I4386,Referencias!$B$24:$C$41,2,FALSE())","v":"C.VAL"},{"$f":"VLOOKUP(C4386,Referencias!$C$4:$E$21,3,FALSE())","v":2},"Competición","C. Valenciana"]
["4641363","Barnes Fernández, Marta","1P","D",{"$f":"VLOOKUP(C4387,Referencias!$C$4:$D$21,2,FALSE())","v":"Primera Picas"},{"$f":"VLOOKUP(I4387,Referencias!$B$24:$C$41,2,FALSE())","v":"C.VAL"},{"$f":"VLOOKUP(C4387,Referencias!$C$4:$E$21,3,FALSE())","v":1},"Competición","C. Valenciana"]
["4641369","Roca Tudela, María Paz","2C","D",{"$f":"VLOOKUP(C4388,Referencias!$C$4:$D$21,2,FALSE())","v":"Segunda Corazón"},{"$f":"VLOOKUP(I4388,Referencias!$B$24:$C$41,2,FALSE())","v":"C.VAL"},{"$f":"VLOOKUP(C4388,Referencias!$C$4:$E$21,3,FALSE())","v":2},"Competición","C. Valenciana"]
["4641380","Chulia Tamarit, Concha","2C","D",{"$f":"VLOOKUP(C4389,Referencias!$C$4:$D$21,2,FALSE())","v":"Segunda Corazón"},{"$f":"VLOOKUP(I4389,Referencias!$B$24:$C$41,2,FALSE())","v":"C.VAL"},{"$f":"VLOOKUP(C4389,Referencias!$C$4:$E$21,3,FALSE())","v":2},"Competición","C. Valenciana"]
["4641388","Granell Hernández, Fina","3P","D",{"$f":"VLOOKUP(C4390,Referencias!$C$4:$D$21,2,FALSE())","v":"Tercera Picas"},{"$f":"VLOOKUP(I4390,Referencias!$B$24:$C$41,2,FALSE())","v":"C.VAL"},{"$f":"VLOOKUP(C4390,Referencias!$C$4:$E$21,3,FALSE())","v":3},"Competición","C. Valenciana"]
["4641398","Gómez-Ferrer Bonet, Mónica","3D","D",{"$f":"VLOOKUP(C4391,Referencias!$C$4:$D$21,2,FALSE())","v":"Tercera Diamante"},{"$f":"VLOOKUP(I4391,Referencias!$B$24:$C$41,2,FALSE())","v":"C.VAL"},{"$f":"VLOOKUP(C4391,Referencias!$C$4:$E$21,3,FALSE())","v":3},"Competición","C. Valenciana"]
["4641414","Marín Pérez, María Victoria","2D","D",{"$f":"VLOOKUP(C4392,Referencias!$C$4:$D$21,2,FALSE())","v":"Segunda Diamante"},{"$f":"VLOOKUP(I4392,Referencias!$B$24:$C$41,2,FALSE())","v":"C.VAL"},{"$f":"VLOOKUP(C4392,Referencias!$C$4:$E$21,3,FALSE())","v":2},"Competición","C. Valenciana"]
["4641430","Franco Solano, María Isabel","3P","D",{"$f":"VLOOKUP(C4393,Referencias!$C$4:$D$21,2,FALSE())","v":"Tercera Picas"},{"$f":"VLOOKUP(I4393,Referencias!$B$24:$C$41,2,FALSE())","v":"C.VAL"},{"$f":"VLOOKUP(C4393,Referencias!$C$4:$E$21,3,FALSE())","v":3},"Competición","C. Valenciana"]
["4641440","Plasencia Martorell, María José","3P","D",{"$f":"VLOOKUP(C4394,Referencias!$C$4:$D$21,2,FALSE())","v":"Tercera Picas"},{"$f":"VLOOKUP(I4394,Referencias!$B$24:$C$41,2,FALSE())","v":"C.VAL"},{"$f":"VLOOKUP(C4394,Referencias!$C$4:$E$21,3,FALSE())","v":3},"Competición","C. Valenciana"]
["4641465","Hahn Todd, Nuala","3P","D",{"$f":"VLOOKUP(C4395,Referencias!$C$4:$D$21,2,FALSE())","v":"Tercera Picas"},{"$f":"VLOOKUP(I4395,Referencias!$B$24:$C$41,2,FALSE())","v":"C.VAL"},{"$f":"VLOOKUP(C4395,Referencias!$C$4:$E$21,3,FALSE())","v":3},"Competición","C. Valenciana"]
["4641473","García Pérez, Jesús","2D","C",{"$f":"VLOOKUP(C4396,Referencias!$C$4:$D$21,2,FALSE())","v":"Segunda Diamante"},{"$f":"VLOOKUP(I4396,Referencias!$B$24:$C$41,2,FALSE())","v":"C.VAL"},{"$f":"VLOOKUP(C4396,Referencias!$C$4:$E$21,3,FALSE())","v":2},"Competición","C. Valenciana"]
["4641500","Echazarreta Guillen, Cary","2D","D",{"$f":"VLOOKUP(C4397,Referencias!$C$4:$D$21,2,FALSE())","v":"Segunda Diamante"},{"$f":"VLOOKUP(I4397,Referencias!$B$24:$C$41,2,FALSE())","v":"C.VAL"},{"$f":"VLOOKUP(C4397,Referencias!$C$4:$E$21,3,FALSE())","v":2},"Competición","C. Valenciana"]
["4641505","Botella Arbona, Carmina","1P","D",{"$f":"VLOOKUP(C4398,Referencias!$C$4:$D$21,2,FALSE())","v":"Primera Picas"},{"$f":"VLOOKUP(I4398,Referencias!$B$24:$C$41,2,FALSE())","v":"C.VAL"},{"$f":"VLOOKUP(C4398,Referencias!$C$4:$E$21,3,FALSE())","v":1},"Competición","C. Valenciana"]
["4641509","Momparler Carrasco, María Angeles","3D","D",{"$f":"VLOOKUP(C4399,Referencias!$C$4:$D$21,2,FALSE())","v":"Tercera Diamante"},{"$f":"VLOOKUP(I4399,Referencias!$B$24:$C$41,2,FALSE())","v":"C.VAL"},{"$f":"VLOOKUP(C4399,Referencias!$C$4:$E$21,3,FALSE())","v":3},"Competición","C. Valenciana"]
["4641510","Carbonell, Ana María","2D","D",{"$f":"VLOOKUP(C4400,Referencias!$C$4:$D$21,2,FALSE())","v":"Segunda Diamante"},{"$f":"VLOOKUP(I4400,Referencias!$B$24:$C$41,2,FALSE())","v":"C.VAL"},{"$f":"VLOOKUP(C4400,Referencias!$C$4:$E$21,3,FALSE())","v":2},"Competición","C. Valenciana"]
["4641520","López Rubio, Juana","2D","D",{"$f":"VLOOKUP(C4401,Referencias!$C$4:$D$21,2,FALSE())","v":"Segunda Diamante"},{"$f":"VLOOKUP(I4401,Referencias!$B$24:$C$41,2,FALSE())","v":"C.VAL"},{"$f":"VLOOKUP(C4401,Referencias!$C$4:$E$21,3,FALSE())","v":2},"Competición","C. Valenciana"]
["4641522","Gandia Montagut, Ana María","2D","D",{"$f":"VLOOKUP(C4402,Referencias!$C$4:$D$21,2,FALSE())","v":"Segunda Diamante"},{"$f":"VLOOKUP(I4402,Referencias!$B$24:$C$41,2,FALSE())","v":"C.VAL"},{"$f":"VLOOKUP(C4402,Referencias!$C$4:$E$21,3,FALSE())","v":2},"Competición","C. Valenciana"]
["4641541","Gonçalves Caballer, Pedro","MM-O","C",{"$f":"VLOOKUP(C4403,Referencias!$C$4:$D$21,2,FALSE())","v":"Maestro Mundial Open"},{"$f":"VLOOKUP(I4403,Referencias!$B$24:$C$41,2,FALSE())","v":"C.VAL"},{"$f":"VLOOKUP(C4403,Referencias!$C$4:$E$21,3,FALSE())","v":0},"Competición","C. Valenciana"]
["4641546","Ros Anoll, María Dolores","2C","D",{"$f":"VLOOKUP(C4404,Referencias!$C$4:$D$21,2,FALSE())","v":"Segunda Corazón"},{"$f":"VLOOKUP(I4404,Referencias!$B$24:$C$41,2,FALSE())","v":"C.VAL"},{"$f":"VLOOKUP(C4404,Referencias!$C$4:$E$21,3,FALSE())","v":2},"Competición","C. Valenciana"]
["4641576","Gil García, Olga","2P","D",{"$f":"VLOOKUP(C4405,Referencias!$C$4:$D$21,2,FALSE())","v":"Segunda Picas"},{"$f":"VLOOKUP(I4405,Referencias!$B$24:$C$41,2,FALSE())","v":"C.VAL"},{"$f":"VLOOKUP(C4405,Referencias!$C$4:$E$21,3,FALSE())","v":2},"Competición","C. Valenciana"]
["4641579","Donat Doménech, Julia","3C","D",{"$f":"VLOOKUP(C4406,Referencias!$C$4:$D$21,2,FALSE())","v":"Tercera Corazón"},{"$f":"VLOOKUP(I4406,Referencias!$B$24:$C$41,2,FALSE())","v":"C.VAL"},{"$f":"VLOOKUP(C4406,Referencias!$C$4:$E$21,3,FALSE())","v":3},"Competición","C. Valenciana"]
["4641588","Alcocer Turégano, Juan","3D","C",{"$f":"VLOOKUP(C4407,Referencias!$C$4:$D$21,2,FALSE())","v":"Tercera Diamante"},{"$f":"VLOOKUP(I4407,Referencias!$B$24:$C$41,2,FALSE())","v":"C.VAL"},{"$f":"VLOOKUP(C4407,Referencias!$C$4:$E$21,3,FALSE())","v":3},"Competición","C. Valenciana"]
["4641589","Yuste Lis, María del Carmen","2D","D",{"$f":"VLOOKUP(C4408,Referencias!$C$4:$D$21,2,FALSE())","v":"Segunda Diamante"},{"$f":"VLOOKUP(I4408,Referencias!$B$24:$C$41,2,FALSE())","v":"C.VAL"},{"$f":"VLOOKUP(C4408,Referencias!$C$4:$E$21,3,FALSE())","v":2},"Competición","C. Valenciana"]
["4641596","Lanza Pérez, María Antonia","3D","D",{"$f":"VLOOKUP(C4409,Referencias!$C$4:$D$21,2,FALSE())","v":"Tercera Diamante"},{"$f":"VLOOKUP(I4409,Referencias!$B$24:$C$41,2,FALSE())","v":"C.VAL"},{"$f":"VLOOKUP(C4409,Referencias!$C$4:$E$21,3,FALSE())","v":3},"Competición","C. Valenciana"]
["4641601","Salvador Dart, José","2C","C",{"$f":"VLOOKUP(C4410,Referencias!$C$4:$D$21,2,FALSE())","v":"Segunda Corazón"},{"$f":"VLOOKUP(I4410,Referencias!$B$24:$C$41,2,FALSE())","v":"C.VAL"},{"$f":"VLOOKUP(C4410,Referencias!$C$4:$E$21,3,FALSE())","v":2},"Competición","C. Valenciana"]
["4641607","Orozco Díaz, Eduardo","3C","C",{"$f":"VLOOKUP(C4411,Referencias!$C$4:$D$21,2,FALSE())","v":"Tercera Corazón"},{"$f":"VLOOKUP(I4411,Referencias!$B$24:$C$41,2,FALSE())","v":"C.VAL"},{"$f":"VLOOKUP(C4411,Referencias!$C$4:$E$21,3,FALSE())","v":3},"Competición","C. Valenciana"]
["4641609","Abia Sarmentero, María Eva","3D","D",{"$f":"VLOOKUP(C4412,Referencias!$C$4:$D$21,2,FALSE())","v":"Tercera Diamante"},{"$f":"VLOOKUP(I4412,Referencias!$B$24:$C$41,2,FALSE())","v":"C.VAL"},{"$f":"VLOOKUP(C4412,Referencias!$C$4:$E$21,3,FALSE())","v":3},"Competición","C. Valenciana"]
["4641613","Soriano Domínguez, Amparo","1D","D",{"$f":"VLOOKUP(C4413,Referencias!$C$4:$D$21,2,FALSE())","v":"Primera Diamante"},{"$f":"VLOOKUP(I4413,Referencias!$B$24:$C$41,2,FALSE())","v":"C.VAL"},{"$f":"VLOOKUP(C4413,Referencias!$C$4:$E$21,3,FALSE())","v":1},"Competición","C. Valenciana"]
["4641619","Guimera O´Dogherty, Matilde","1D","D",{"$f":"VLOOKUP(C4414,Referencias!$C$4:$D$21,2,FALSE())","v":"Primera Diamante"},{"$f":"VLOOKUP(I4414,Referencias!$B$24:$C$41,2,FALSE())","v":"AND"},{"$f":"VLOOKUP(C4414,Referencias!$C$4:$E$21,3,FALSE())","v":1},"Competición","Andaluza"]
["4641624","Llobell Martínez, Cristina","3D","D",{"$f":"VLOOKUP(C4415,Referencias!$C$4:$D$21,2,FALSE())","v":"Tercera Diamante"},{"$f":"VLOOKUP(I4415,Referencias!$B$24:$C$41,2,FALSE())","v":"C.VAL"},{"$f":"VLOOKUP(C4415,Referencias!$C$4:$E$21,3,FALSE())","v":3},"Competición","C. Valenciana"]
["4641627","Sanchis Monserrat, María Amparo","3D","D",{"$f":"VLOOKUP(C4416,Referencias!$C$4:$D$21,2,FALSE())","v":"Tercera Diamante"},{"$f":"VLOOKUP(I4416,Referencias!$B$24:$C$41,2,FALSE())","v":"C.VAL"},{"$f":"VLOOKUP(C4416,Referencias!$C$4:$E$21,3,FALSE())","v":3},"Competición","C. Valenciana"]
["4641628","Albert Tomás, Emilia","2P","D",{"$f":"VLOOKUP(C4417,Referencias!$C$4:$D$21,2,FALSE())","v":"Segunda Picas"},{"$f":"VLOOKUP(I4417,Referencias!$B$24:$C$41,2,FALSE())","v":"C.VAL"},{"$f":"VLOOKUP(C4417,Referencias!$C$4:$E$21,3,FALSE())","v":2},"Competición","C. Valenciana"]
["4641643","Masip Campos, Teresa","3D","D",{"$f":"VLOOKUP(C4418,Referencias!$C$4:$D$21,2,FALSE())","v":"Tercera Diamante"},{"$f":"VLOOKUP(I4418,Referencias!$B$24:$C$41,2,FALSE())","v":"C.VAL"},{"$f":"VLOOKUP(C4418,Referencias!$C$4:$E$21,3,FALSE())","v":3},"Competición","C. Valenciana"]
["4641647","Lucena Tirado, Manuel","2D","C",{"$f":"VLOOKUP(C4419,Referencias!$C$4:$D$21,2,FALSE())","v":"Segunda Diamante"},{"$f":"VLOOKUP(I4419,Referencias!$B$24:$C$41,2,FALSE())","v":"C.VAL"},{"$f":"VLOOKUP(C4419,Referencias!$C$4:$E$21,3,FALSE())","v":2},"Competición","C. Valenciana"]
["4641648","Medina Arevalo, María del Carmen","3C","D",{"$f":"VLOOKUP(C4420,Referencias!$C$4:$D$21,2,FALSE())","v":"Tercera Corazón"},{"$f":"VLOOKUP(I4420,Referencias!$B$24:$C$41,2,FALSE())","v":"C.VAL"},{"$f":"VLOOKUP(C4420,Referencias!$C$4:$E$21,3,FALSE())","v":3},"Competición","C. Valenciana"]
["4641652","Alonso Segura, María del Carmen","2P","D",{"$f":"VLOOKUP(C4421,Referencias!$C$4:$D$21,2,FALSE())","v":"Segunda Picas"},{"$f":"VLOOKUP(I4421,Referencias!$B$24:$C$41,2,FALSE())","v":"C.VAL"},{"$f":"VLOOKUP(C4421,Referencias!$C$4:$E$21,3,FALSE())","v":2},"Competición","C. Valenciana"]
["4641669","Moreno Torres, Purificación","3P","D",{"$f":"VLOOKUP(C4422,Referencias!$C$4:$D$21,2,FALSE())","v":"Tercera Picas"},{"$f":"VLOOKUP(I4422,Referencias!$B$24:$C$41,2,FALSE())","v":"C.VAL"},{"$f":"VLOOKUP(C4422,Referencias!$C$4:$E$21,3,FALSE())","v":3},"Competición","C. Valenciana"]
["4641674","Samaniego Masip, Teresa","3D","D",{"$f":"VLOOKUP(C4423,Referencias!$C$4:$D$21,2,FALSE())","v":"Tercera Diamante"},{"$f":"VLOOKUP(I4423,Referencias!$B$24:$C$41,2,FALSE())","v":"C.VAL"},{"$f":"VLOOKUP(C4423,Referencias!$C$4:$E$21,3,FALSE())","v":3},"Competición","C. Valenciana"]
["4641681","Cantó Esteve, Evaristo","3D","C",{"$f":"VLOOKUP(C4424,Referencias!$C$4:$D$21,2,FALSE())","v":"Tercera Diamante"},{"$f":"VLOOKUP(I4424,Referencias!$B$24:$C$41,2,FALSE())","v":"C.VAL"},{"$f":"VLOOKUP(C4424,Referencias!$C$4:$E$21,3,FALSE())","v":3},"Competición","C. Valenciana"]
["4641684","Moreno Bolaños, María Angeles","3D","D",{"$f":"VLOOKUP(C4425,Referencias!$C$4:$D$21,2,FALSE())","v":"Tercera Diamante"},{"$f":"VLOOKUP(I4425,Referencias!$B$24:$C$41,2,FALSE())","v":"C.VAL"},{"$f":"VLOOKUP(C4425,Referencias!$C$4:$E$21,3,FALSE())","v":3},"Competición","C. Valenciana"]
["4641686","Martin Sanchis, María Amparo","3C","D",{"$f":"VLOOKUP(C4426,Referencias!$C$4:$D$21,2,FALSE())","v":"Tercera Corazón"},{"$f":"VLOOKUP(I4426,Referencias!$B$24:$C$41,2,FALSE())","v":"C.VAL"},{"$f":"VLOOKUP(C4426,Referencias!$C$4:$E$21,3,FALSE())","v":3},"Competición","C. Valenciana"]
["4641689","Herrera Coyradas, Carmen","2C","D",{"$f":"VLOOKUP(C4427,Referencias!$C$4:$D$21,2,FALSE())","v":"Segunda Corazón"},{"$f":"VLOOKUP(I4427,Referencias!$B$24:$C$41,2,FALSE())","v":"C.VAL"},{"$f":"VLOOKUP(C4427,Referencias!$C$4:$E$21,3,FALSE())","v":2},"Competición","C. Valenciana"]
["4641692","Molina Estela, Josefina","3D","D",{"$f":"VLOOKUP(C4428,Referencias!$C$4:$D$21,2,FALSE())","v":"Tercera Diamante"},{"$f":"VLOOKUP(I4428,Referencias!$B$24:$C$41,2,FALSE())","v":"C.VAL"},{"$f":"VLOOKUP(C4428,Referencias!$C$4:$E$21,3,FALSE())","v":3},"Competición","C. Valenciana"]
["4641694","Martí Viaño, María Pilar","3D","D",{"$f":"VLOOKUP(C4429,Referencias!$C$4:$D$21,2,FALSE())","v":"Tercera Diamante"},{"$f":"VLOOKUP(I4429,Referencias!$B$24:$C$41,2,FALSE())","v":"C.VAL"},{"$f":"VLOOKUP(C4429,Referencias!$C$4:$E$21,3,FALSE())","v":3},"Competición","C. Valenciana"]
["4641695","Vicente Collados, Matilde","3D","D",{"$f":"VLOOKUP(C4430,Referencias!$C$4:$D$21,2,FALSE())","v":"Tercera Diamante"},{"$f":"VLOOKUP(I4430,Referencias!$B$24:$C$41,2,FALSE())","v":"C.VAL"},{"$f":"VLOOKUP(C4430,Referencias!$C$4:$E$21,3,FALSE())","v":3},"Competición","C. Valenciana"]
["4641696","Garcés Pérez, José Luis","2C","C",{"$f":"VLOOKUP(C4431,Referencias!$C$4:$D$21,2,FALSE())","v":"Segunda Corazón"},{"$f":"VLOOKUP(I4431,Referencias!$B$24:$C$41,2,FALSE())","v":"C.VAL"},{"$f":"VLOOKUP(C4431,Referencias!$C$4:$E$21,3,FALSE())","v":2},"Competición","C. Valenciana"]
["4641697","Legorburo Miñano, Belen","2C","D",{"$f":"VLOOKUP(C4432,Referencias!$C$4:$D$21,2,FALSE())","v":"Segunda Corazón"},{"$f":"VLOOKUP(I4432,Referencias!$B$24:$C$41,2,FALSE())","v":"C.VAL"},{"$f":"VLOOKUP(C4432,Referencias!$C$4:$E$21,3,FALSE())","v":2},"Competición","C. Valenciana"]
["4641702","Miragall Escolano, María Emilia","3C","D",{"$f":"VLOOKUP(C4433,Referencias!$C$4:$D$21,2,FALSE())","v":"Tercera Corazón"},{"$f":"VLOOKUP(I4433,Referencias!$B$24:$C$41,2,FALSE())","v":"C.VAL"},{"$f":"VLOOKUP(C4433,Referencias!$C$4:$E$21,3,FALSE())","v":3},"Competición","C. Valenciana"]
["4641710","Herreria de la Lastra, Vicente","2P","C",{"$f":"VLOOKUP(C4434,Referencias!$C$4:$D$21,2,FALSE())","v":"Segunda Picas"},{"$f":"VLOOKUP(I4434,Referencias!$B$24:$C$41,2,FALSE())","v":"C.VAL"},{"$f":"VLOOKUP(C4434,Referencias!$C$4:$E$21,3,FALSE())","v":2},"Competición","C. Valenciana"]
["4641716","Barbero Cámara, Mª Isabel","2D","D",{"$f":"VLOOKUP(C4435,Referencias!$C$4:$D$21,2,FALSE())","v":"Segunda Diamante"},{"$f":"VLOOKUP(I4435,Referencias!$B$24:$C$41,2,FALSE())","v":"C.VAL"},{"$f":"VLOOKUP(C4435,Referencias!$C$4:$E$21,3,FALSE())","v":2},"Competición","C. Valenciana"]
["4641728","McCabe McCully, Joanne","3D","D",{"$f":"VLOOKUP(C4436,Referencias!$C$4:$D$21,2,FALSE())","v":"Tercera Diamante"},{"$f":"VLOOKUP(I4436,Referencias!$B$24:$C$41,2,FALSE())","v":"C.VAL"},{"$f":"VLOOKUP(C4436,Referencias!$C$4:$E$21,3,FALSE())","v":3},"Competición","C. Valenciana"]
["4641739","Hernández Marco, José Luis","3P","C",{"$f":"VLOOKUP(C4437,Referencias!$C$4:$D$21,2,FALSE())","v":"Tercera Picas"},{"$f":"VLOOKUP(I4437,Referencias!$B$24:$C$41,2,FALSE())","v":"C.VAL"},{"$f":"VLOOKUP(C4437,Referencias!$C$4:$E$21,3,FALSE())","v":3},"Competición","C. Valenciana"]
["4641744","Kociolek Montesinos, Kristine Barbara","2D","D",{"$f":"VLOOKUP(C4438,Referencias!$C$4:$D$21,2,FALSE())","v":"Segunda Diamante"},{"$f":"VLOOKUP(I4438,Referencias!$B$24:$C$41,2,FALSE())","v":"C.VAL"},{"$f":"VLOOKUP(C4438,Referencias!$C$4:$E$21,3,FALSE())","v":2},"Competición","C. Valenciana"]
["4641752","Pastor Seligra, Rosa","3D","D",{"$f":"VLOOKUP(C4439,Referencias!$C$4:$D$21,2,FALSE())","v":"Tercera Diamante"},{"$f":"VLOOKUP(I4439,Referencias!$B$24:$C$41,2,FALSE())","v":"C.VAL"},{"$f":"VLOOKUP(C4439,Referencias!$C$4:$E$21,3,FALSE())","v":3},"Competición","C. Valenciana"]
["4641775","Carbonell, Elvira","3P","D",{"$f":"VLOOKUP(C4440,Referencias!$C$4:$D$21,2,FALSE())","v":"Tercera Picas"},{"$f":"VLOOKUP(I4440,Referencias!$B$24:$C$41,2,FALSE())","v":"C.VAL"},{"$f":"VLOOKUP(C4440,Referencias!$C$4:$E$21,3,FALSE())","v":3},"Competición","C. Valenciana"]
["4641778","Caffarena Calvar, Ana","3P","D",{"$f":"VLOOKUP(C4441,Referencias!$C$4:$D$21,2,FALSE())","v":"Tercera Picas"},{"$f":"VLOOKUP(I4441,Referencias!$B$24:$C$41,2,FALSE())","v":"C.VAL"},{"$f":"VLOOKUP(C4441,Referencias!$C$4:$E$21,3,FALSE())","v":3},"Competición","C. Valenciana"]
["4641779","Palop Cardona, Amparo","3D","D",{"$f":"VLOOKUP(C4442,Referencias!$C$4:$D$21,2,FALSE())","v":"Tercera Diamante"},{"$f":"VLOOKUP(I4442,Referencias!$B$24:$C$41,2,FALSE())","v":"C.VAL"},{"$f":"VLOOKUP(C4442,Referencias!$C$4:$E$21,3,FALSE())","v":3},"Competición","C. Valenciana"]
["4641780","Sustaeta Gómez, Marichu","3D","D",{"$f":"VLOOKUP(C4443,Referencias!$C$4:$D$21,2,FALSE())","v":"Tercera Diamante"},{"$f":"VLOOKUP(I4443,Referencias!$B$24:$C$41,2,FALSE())","v":"C.VAL"},{"$f":"VLOOKUP(C4443,Referencias!$C$4:$E$21,3,FALSE())","v":3},"Competición","C. Valenciana"]
["4641781","Ustero Ares, Carmiña","3D","D",{"$f":"VLOOKUP(C4444,Referencias!$C$4:$D$21,2,FALSE())","v":"Tercera Diamante"},{"$f":"VLOOKUP(I4444,Referencias!$B$24:$C$41,2,FALSE())","v":"C.VAL"},{"$f":"VLOOKUP(C4444,Referencias!$C$4:$E$21,3,FALSE())","v":3},"Competición","C. Valenciana"]
["4641782","Estellés Zanón, Loli","3D","C",{"$f":"VLOOKUP(C4445,Referencias!$C$4:$D$21,2,FALSE())","v":"Tercera Diamante"},{"$f":"VLOOKUP(I4445,Referencias!$B$24:$C$41,2,FALSE())","v":"C.VAL"},{"$f":"VLOOKUP(C4445,Referencias!$C$4:$E$21,3,FALSE())","v":3},"Competición","C. Valenciana"]
["4641784","Espinosa Torres, Carmen","3C","D",{"$f":"VLOOKUP(C4446,Referencias!$C$4:$D$21,2,FALSE())","v":"Tercera Corazón"},{"$f":"VLOOKUP(I4446,Referencias!$B$24:$C$41,2,FALSE())","v":"C.VAL"},{"$f":"VLOOKUP(C4446,Referencias!$C$4:$E$21,3,FALSE())","v":3},"Competición","C. Valenciana"]
["4641788","Suau Barceló, Silvia","3C","D",{"$f":"VLOOKUP(C4447,Referencias!$C$4:$D$21,2,FALSE())","v":"Tercera Corazón"},{"$f":"VLOOKUP(I4447,Referencias!$B$24:$C$41,2,FALSE())","v":"C.VAL"},{"$f":"VLOOKUP(C4447,Referencias!$C$4:$E$21,3,FALSE())","v":3},"Competición","C. Valenciana"]
["4641792","Candela Sospedra, Margarita","2D","D",{"$f":"VLOOKUP(C4448,Referencias!$C$4:$D$21,2,FALSE())","v":"Segunda Diamante"},{"$f":"VLOOKUP(I4448,Referencias!$B$24:$C$41,2,FALSE())","v":"C.VAL"},{"$f":"VLOOKUP(C4448,Referencias!$C$4:$E$21,3,FALSE())","v":2},"Competición","C. Valenciana"]
["4641807","Albi Ibañez, Rafael","3P","C",{"$f":"VLOOKUP(C4449,Referencias!$C$4:$D$21,2,FALSE())","v":"Tercera Picas"},{"$f":"VLOOKUP(I4449,Referencias!$B$24:$C$41,2,FALSE())","v":"C.VAL"},{"$f":"VLOOKUP(C4449,Referencias!$C$4:$E$21,3,FALSE())","v":3},"Competición","C. Valenciana"]
["4641808","de Coca Vivancos, María Teresa","3D","D",{"$f":"VLOOKUP(C4450,Referencias!$C$4:$D$21,2,FALSE())","v":"Tercera Diamante"},{"$f":"VLOOKUP(I4450,Referencias!$B$24:$C$41,2,FALSE())","v":"C.VAL"},{"$f":"VLOOKUP(C4450,Referencias!$C$4:$E$21,3,FALSE())","v":3},"Competición","C. Valenciana"]
["4641809","de Mateo Salcines, Pilar","3D","D",{"$f":"VLOOKUP(C4451,Referencias!$C$4:$D$21,2,FALSE())","v":"Tercera Diamante"},{"$f":"VLOOKUP(I4451,Referencias!$B$24:$C$41,2,FALSE())","v":"C.VAL"},{"$f":"VLOOKUP(C4451,Referencias!$C$4:$E$21,3,FALSE())","v":3},"Competición","C. Valenciana"]
["4641812","Ferrer Valls, Lourdes","3D","D",{"$f":"VLOOKUP(C4452,Referencias!$C$4:$D$21,2,FALSE())","v":"Tercera Diamante"},{"$f":"VLOOKUP(I4452,Referencias!$B$24:$C$41,2,FALSE())","v":"C.VAL"},{"$f":"VLOOKUP(C4452,Referencias!$C$4:$E$21,3,FALSE())","v":3},"Competición","C. Valenciana"]
["4641815","Hurtado Ros, Nora","3D","D",{"$f":"VLOOKUP(C4453,Referencias!$C$4:$D$21,2,FALSE())","v":"Tercera Diamante"},{"$f":"VLOOKUP(I4453,Referencias!$B$24:$C$41,2,FALSE())","v":"C.VAL"},{"$f":"VLOOKUP(C4453,Referencias!$C$4:$E$21,3,FALSE())","v":3},"Competición","C. Valenciana"]
["4641818","Murcia García, Francisca","3D","D",{"$f":"VLOOKUP(C4454,Referencias!$C$4:$D$21,2,FALSE())","v":"Tercera Diamante"},{"$f":"VLOOKUP(I4454,Referencias!$B$24:$C$41,2,FALSE())","v":"C.VAL"},{"$f":"VLOOKUP(C4454,Referencias!$C$4:$E$21,3,FALSE())","v":3},"Competición","C. Valenciana"]
["4641819","Llobet González-Mataix, Mercedes","3D","D",{"$f":"VLOOKUP(C4455,Referencias!$C$4:$D$21,2,FALSE())","v":"Tercera Diamante"},{"$f":"VLOOKUP(I4455,Referencias!$B$24:$C$41,2,FALSE())","v":"C.VAL"},{"$f":"VLOOKUP(C4455,Referencias!$C$4:$E$21,3,FALSE())","v":3},"Competición","C. Valenciana"]
["4641821","Sevilla Merino, Teresa","3P","D",{"$f":"VLOOKUP(C4456,Referencias!$C$4:$D$21,2,FALSE())","v":"Tercera Picas"},{"$f":"VLOOKUP(I4456,Referencias!$B$24:$C$41,2,FALSE())","v":"C.VAL"},{"$f":"VLOOKUP(C4456,Referencias!$C$4:$E$21,3,FALSE())","v":3},"Competición","C. Valenciana"]
["4641824","Juan Eced, Laura","2D","D",{"$f":"VLOOKUP(C4457,Referencias!$C$4:$D$21,2,FALSE())","v":"Segunda Diamante"},{"$f":"VLOOKUP(I4457,Referencias!$B$24:$C$41,2,FALSE())","v":"C.VAL"},{"$f":"VLOOKUP(C4457,Referencias!$C$4:$E$21,3,FALSE())","v":2},"Competición","C. Valenciana"]
["4641826","Corominas Navarro, Julia","3D","D",{"$f":"VLOOKUP(C4458,Referencias!$C$4:$D$21,2,FALSE())","v":"Tercera Diamante"},{"$f":"VLOOKUP(I4458,Referencias!$B$24:$C$41,2,FALSE())","v":"C.VAL"},{"$f":"VLOOKUP(C4458,Referencias!$C$4:$E$21,3,FALSE())","v":3},"Competición","C. Valenciana"]
["4641827","Micallef, Diamantine","2D","D",{"$f":"VLOOKUP(C4459,Referencias!$C$4:$D$21,2,FALSE())","v":"Segunda Diamante"},{"$f":"VLOOKUP(I4459,Referencias!$B$24:$C$41,2,FALSE())","v":"C.VAL"},{"$f":"VLOOKUP(C4459,Referencias!$C$4:$E$21,3,FALSE())","v":2},"Competición","C. Valenciana"]
["4641828","Perales Luis, Pepa","2D","D",{"$f":"VLOOKUP(C4460,Referencias!$C$4:$D$21,2,FALSE())","v":"Segunda Diamante"},{"$f":"VLOOKUP(I4460,Referencias!$B$24:$C$41,2,FALSE())","v":"C.VAL"},{"$f":"VLOOKUP(C4460,Referencias!$C$4:$E$21,3,FALSE())","v":2},"Competición","C. Valenciana"]
["4641830","Montaner Ribes, Carmen","3C","D",{"$f":"VLOOKUP(C4461,Referencias!$C$4:$D$21,2,FALSE())","v":"Tercera Corazón"},{"$f":"VLOOKUP(I4461,Referencias!$B$24:$C$41,2,FALSE())","v":"C.VAL"},{"$f":"VLOOKUP(C4461,Referencias!$C$4:$E$21,3,FALSE())","v":3},"Competición","C. Valenciana"]
["4641833","Espuig Bru, Alberto","2D","C",{"$f":"VLOOKUP(C4462,Referencias!$C$4:$D$21,2,FALSE())","v":"Segunda Diamante"},{"$f":"VLOOKUP(I4462,Referencias!$B$24:$C$41,2,FALSE())","v":"C.VAL"},{"$f":"VLOOKUP(C4462,Referencias!$C$4:$E$21,3,FALSE())","v":2},"Competición","C. Valenciana"]
["4641834","Zamorano Corral, Rosa","3D","D",{"$f":"VLOOKUP(C4463,Referencias!$C$4:$D$21,2,FALSE())","v":"Tercera Diamante"},{"$f":"VLOOKUP(I4463,Referencias!$B$24:$C$41,2,FALSE())","v":"C.VAL"},{"$f":"VLOOKUP(C4463,Referencias!$C$4:$E$21,3,FALSE())","v":3},"Competición","C. Valenciana"]
["4641835","Raga Raga, Mª José","2C","D",{"$f":"VLOOKUP(C4464,Referencias!$C$4:$D$21,2,FALSE())","v":"Segunda Corazón"},{"$f":"VLOOKUP(I4464,Referencias!$B$24:$C$41,2,FALSE())","v":"C.VAL"},{"$f":"VLOOKUP(C4464,Referencias!$C$4:$E$21,3,FALSE())","v":2},"Competición","C. Valenciana"]
["4641837","Tellols Pons, Carmen","2P","D",{"$f":"VLOOKUP(C4465,Referencias!$C$4:$D$21,2,FALSE())","v":"Segunda Picas"},{"$f":"VLOOKUP(I4465,Referencias!$B$24:$C$41,2,FALSE())","v":"C.VAL"},{"$f":"VLOOKUP(C4465,Referencias!$C$4:$E$21,3,FALSE())","v":2},"Competición","C. Valenciana"]
["4641838","Ordiñaga Hernández, Rosario","3P","D",{"$f":"VLOOKUP(C4466,Referencias!$C$4:$D$21,2,FALSE())","v":"Tercera Picas"},{"$f":"VLOOKUP(I4466,Referencias!$B$24:$C$41,2,FALSE())","v":"C.VAL"},{"$f":"VLOOKUP(C4466,Referencias!$C$4:$E$21,3,FALSE())","v":3},"Competición","C. Valenciana"]
["4641843","Orihuela Estevez, Rosario","3D","D",{"$f":"VLOOKUP(C4467,Referencias!$C$4:$D$21,2,FALSE())","v":"Tercera Diamante"},{"$f":"VLOOKUP(I4467,Referencias!$B$24:$C$41,2,FALSE())","v":"C.VAL"},{"$f":"VLOOKUP(C4467,Referencias!$C$4:$E$21,3,FALSE())","v":3},"Competición","C. Valenciana"]
["4641845","García Bonfill, Regina","3D","D",{"$f":"VLOOKUP(C4468,Referencias!$C$4:$D$21,2,FALSE())","v":"Tercera Diamante"},{"$f":"VLOOKUP(I4468,Referencias!$B$24:$C$41,2,FALSE())","v":"C.VAL"},{"$f":"VLOOKUP(C4468,Referencias!$C$4:$E$21,3,FALSE())","v":3},"Competición","C. Valenciana"]
["4641857","Bayo Gonzalo, Conchin","3D","D",{"$f":"VLOOKUP(C4469,Referencias!$C$4:$D$21,2,FALSE())","v":"Tercera Diamante"},{"$f":"VLOOKUP(I4469,Referencias!$B$24:$C$41,2,FALSE())","v":"C.VAL"},{"$f":"VLOOKUP(C4469,Referencias!$C$4:$E$21,3,FALSE())","v":3},"Competición","C. Valenciana"]
["4641858","Cortes Guillén, Maribel","3D","D",{"$f":"VLOOKUP(C4470,Referencias!$C$4:$D$21,2,FALSE())","v":"Tercera Diamante"},{"$f":"VLOOKUP(I4470,Referencias!$B$24:$C$41,2,FALSE())","v":"C.VAL"},{"$f":"VLOOKUP(C4470,Referencias!$C$4:$E$21,3,FALSE())","v":3},"Competición","C. Valenciana"]
["4641879","Espejo Martínez, Luis","3C","C",{"$f":"VLOOKUP(C4471,Referencias!$C$4:$D$21,2,FALSE())","v":"Tercera Corazón"},{"$f":"VLOOKUP(I4471,Referencias!$B$24:$C$41,2,FALSE())","v":"C.VAL"},{"$f":"VLOOKUP(C4471,Referencias!$C$4:$E$21,3,FALSE())","v":3},"Competición","C. Valenciana"]
["4641885","Feltrer Polo, María del Carmen","3D","D",{"$f":"VLOOKUP(C4472,Referencias!$C$4:$D$21,2,FALSE())","v":"Tercera Diamante"},{"$f":"VLOOKUP(I4472,Referencias!$B$24:$C$41,2,FALSE())","v":"C.VAL"},{"$f":"VLOOKUP(C4472,Referencias!$C$4:$E$21,3,FALSE())","v":3},"Competición","C. Valenciana"]
["4641886","Barnes Fernández, Beatríz","3D","D",{"$f":"VLOOKUP(C4473,Referencias!$C$4:$D$21,2,FALSE())","v":"Tercera Diamante"},{"$f":"VLOOKUP(I4473,Referencias!$B$24:$C$41,2,FALSE())","v":"C.VAL"},{"$f":"VLOOKUP(C4473,Referencias!$C$4:$E$21,3,FALSE())","v":3},"Competición","C. Valenciana"]
["4641890","Fornas Sorli, Rosa María","3D","D",{"$f":"VLOOKUP(C4474,Referencias!$C$4:$D$21,2,FALSE())","v":"Tercera Diamante"},{"$f":"VLOOKUP(I4474,Referencias!$B$24:$C$41,2,FALSE())","v":"C.VAL"},{"$f":"VLOOKUP(C4474,Referencias!$C$4:$E$21,3,FALSE())","v":3},"Competición","C. Valenciana"]
["4641894","Vielba García, Felipe","3P","C",{"$f":"VLOOKUP(C4475,Referencias!$C$4:$D$21,2,FALSE())","v":"Tercera Picas"},{"$f":"VLOOKUP(I4475,Referencias!$B$24:$C$41,2,FALSE())","v":"C.VAL"},{"$f":"VLOOKUP(C4475,Referencias!$C$4:$E$21,3,FALSE())","v":3},"Competición","C. Valenciana"]
["4641896","Merino Vélez, Ana","3P","D",{"$f":"VLOOKUP(C4476,Referencias!$C$4:$D$21,2,FALSE())","v":"Tercera Picas"},{"$f":"VLOOKUP(I4476,Referencias!$B$24:$C$41,2,FALSE())","v":"C.VAL"},{"$f":"VLOOKUP(C4476,Referencias!$C$4:$E$21,3,FALSE())","v":3},"Competición","C. Valenciana"]
["4641897","Benais Gaines, Leila","2C","D",{"$f":"VLOOKUP(C4477,Referencias!$C$4:$D$21,2,FALSE())","v":"Segunda Corazón"},{"$f":"VLOOKUP(I4477,Referencias!$B$24:$C$41,2,FALSE())","v":"C.VAL"},{"$f":"VLOOKUP(C4477,Referencias!$C$4:$E$21,3,FALSE())","v":2},"Competición","C. Valenciana"]
["4641910","LLombart Rosa, Carmen","3D","D",{"$f":"VLOOKUP(C4478,Referencias!$C$4:$D$21,2,FALSE())","v":"Tercera Diamante"},{"$f":"VLOOKUP(I4478,Referencias!$B$24:$C$41,2,FALSE())","v":"C.VAL"},{"$f":"VLOOKUP(C4478,Referencias!$C$4:$E$21,3,FALSE())","v":3},"Competición","C. Valenciana"]
["4641911","Llombart Rosa, Paz","3D","D",{"$f":"VLOOKUP(C4479,Referencias!$C$4:$D$21,2,FALSE())","v":"Tercera Diamante"},{"$f":"VLOOKUP(I4479,Referencias!$B$24:$C$41,2,FALSE())","v":"C.VAL"},{"$f":"VLOOKUP(C4479,Referencias!$C$4:$E$21,3,FALSE())","v":3},"Competición","C. Valenciana"]
["4641912","Fornás Sorli, Carmen","3D","D",{"$f":"VLOOKUP(C4480,Referencias!$C$4:$D$21,2,FALSE())","v":"Tercera Diamante"},{"$f":"VLOOKUP(I4480,Referencias!$B$24:$C$41,2,FALSE())","v":"C.VAL"},{"$f":"VLOOKUP(C4480,Referencias!$C$4:$E$21,3,FALSE())","v":3},"Competición","C. Valenciana"]
["4641915","García Carcelle, Carmen","3D","D",{"$f":"VLOOKUP(C4481,Referencias!$C$4:$D$21,2,FALSE())","v":"Tercera Diamante"},{"$f":"VLOOKUP(I4481,Referencias!$B$24:$C$41,2,FALSE())","v":"C.VAL"},{"$f":"VLOOKUP(C4481,Referencias!$C$4:$E$21,3,FALSE())","v":3},"Competición","C. Valenciana"]
["4641916","Bejarano Cuesta, Blanca Elena","3D","D",{"$f":"VLOOKUP(C4482,Referencias!$C$4:$D$21,2,FALSE())","v":"Tercera Diamante"},{"$f":"VLOOKUP(I4482,Referencias!$B$24:$C$41,2,FALSE())","v":"C.VAL"},{"$f":"VLOOKUP(C4482,Referencias!$C$4:$E$21,3,FALSE())","v":3},"Competición","C. Valenciana"]
["4641920","Sánz Villalba, María Dolores","3D","D",{"$f":"VLOOKUP(C4483,Referencias!$C$4:$D$21,2,FALSE())","v":"Tercera Diamante"},{"$f":"VLOOKUP(I4483,Referencias!$B$24:$C$41,2,FALSE())","v":"C.VAL"},{"$f":"VLOOKUP(C4483,Referencias!$C$4:$E$21,3,FALSE())","v":3},"Competición","C. Valenciana"]
["4641921","Sánchez Martínez, Mª Isabel","3D","D",{"$f":"VLOOKUP(C4484,Referencias!$C$4:$D$21,2,FALSE())","v":"Tercera Diamante"},{"$f":"VLOOKUP(I4484,Referencias!$B$24:$C$41,2,FALSE())","v":"C.VAL"},{"$f":"VLOOKUP(C4484,Referencias!$C$4:$E$21,3,FALSE())","v":3},"Competición","C. Valenciana"]
["4641922","Miragall Escolano, Mª Teresa","3D","D",{"$f":"VLOOKUP(C4485,Referencias!$C$4:$D$21,2,FALSE())","v":"Tercera Diamante"},{"$f":"VLOOKUP(I4485,Referencias!$B$24:$C$41,2,FALSE())","v":"C.VAL"},{"$f":"VLOOKUP(C4485,Referencias!$C$4:$E$21,3,FALSE())","v":3},"Competición","C. Valenciana"]
["4641926","Sancho Pérez, Francisca","3D","D",{"$f":"VLOOKUP(C4486,Referencias!$C$4:$D$21,2,FALSE())","v":"Tercera Diamante"},{"$f":"VLOOKUP(I4486,Referencias!$B$24:$C$41,2,FALSE())","v":"C.VAL"},{"$f":"VLOOKUP(C4486,Referencias!$C$4:$E$21,3,FALSE())","v":3},"Competición","C. Valenciana"]
["4641927","Ruiz Vera, Fernanda Carmen","3D","D",{"$f":"VLOOKUP(C4487,Referencias!$C$4:$D$21,2,FALSE())","v":"Tercera Diamante"},{"$f":"VLOOKUP(I4487,Referencias!$B$24:$C$41,2,FALSE())","v":"C.VAL"},{"$f":"VLOOKUP(C4487,Referencias!$C$4:$E$21,3,FALSE())","v":3},"Competición","C. Valenciana"]
["4641928","Kempe, Toby Nicholas","2C","C",{"$f":"VLOOKUP(C4488,Referencias!$C$4:$D$21,2,FALSE())","v":"Segunda Corazón"},{"$f":"VLOOKUP(I4488,Referencias!$B$24:$C$41,2,FALSE())","v":"C.VAL"},{"$f":"VLOOKUP(C4488,Referencias!$C$4:$E$21,3,FALSE())","v":2},"Competición","C. Valenciana"]
["4641932","Aparicio Cercos, Cristina","3D","D",{"$f":"VLOOKUP(C4489,Referencias!$C$4:$D$21,2,FALSE())","v":"Tercera Diamante"},{"$f":"VLOOKUP(I4489,Referencias!$B$24:$C$41,2,FALSE())","v":"C.VAL"},{"$f":"VLOOKUP(C4489,Referencias!$C$4:$E$21,3,FALSE())","v":3},"Competición","C. Valenciana"]
["4641943","Pin Arboledas, Nuria","3D","D",{"$f":"VLOOKUP(C4490,Referencias!$C$4:$D$21,2,FALSE())","v":"Tercera Diamante"},{"$f":"VLOOKUP(I4490,Referencias!$B$24:$C$41,2,FALSE())","v":"C.VAL"},{"$f":"VLOOKUP(C4490,Referencias!$C$4:$E$21,3,FALSE())","v":3},"Competición","C. Valenciana"]
["4641944","Sempere Palacios, Gemma","3C","D",{"$f":"VLOOKUP(C4491,Referencias!$C$4:$D$21,2,FALSE())","v":"Tercera Corazón"},{"$f":"VLOOKUP(I4491,Referencias!$B$24:$C$41,2,FALSE())","v":"C.VAL"},{"$f":"VLOOKUP(C4491,Referencias!$C$4:$E$21,3,FALSE())","v":3},"Competición","C. Valenciana"]
["4641945","Azpilicueta Arraiza, Guadalupe","3D","D",{"$f":"VLOOKUP(C4492,Referencias!$C$4:$D$21,2,FALSE())","v":"Tercera Diamante"},{"$f":"VLOOKUP(I4492,Referencias!$B$24:$C$41,2,FALSE())","v":"C.VAL"},{"$f":"VLOOKUP(C4492,Referencias!$C$4:$E$21,3,FALSE())","v":3},"Competición","C. Valenciana"]
["4641946","Ribes Alamar, Luisa","3D","D",{"$f":"VLOOKUP(C4493,Referencias!$C$4:$D$21,2,FALSE())","v":"Tercera Diamante"},{"$f":"VLOOKUP(I4493,Referencias!$B$24:$C$41,2,FALSE())","v":"C.VAL"},{"$f":"VLOOKUP(C4493,Referencias!$C$4:$E$21,3,FALSE())","v":3},"Competición","C. Valenciana"]
["4641947","Pavlushko, Olga","MM-D","D",{"$f":"VLOOKUP(C4494,Referencias!$C$4:$D$21,2,FALSE())","v":"Maestro Mundial Damas"},{"$f":"VLOOKUP(I4494,Referencias!$B$24:$C$41,2,FALSE())","v":"C.VAL"},{"$f":"VLOOKUP(C4494,Referencias!$C$4:$E$21,3,FALSE())","v":0},"Competición","C. Valenciana"]
["4641948","Ivanov, Anatolii","1P","C",{"$f":"VLOOKUP(C4495,Referencias!$C$4:$D$21,2,FALSE())","v":"Primera Picas"},{"$f":"VLOOKUP(I4495,Referencias!$B$24:$C$41,2,FALSE())","v":"C.VAL"},{"$f":"VLOOKUP(C4495,Referencias!$C$4:$E$21,3,FALSE())","v":1},"Competición","C. Valenciana"]
["4641954","Noyes Brown, Marilyn Renee","3D","D",{"$f":"VLOOKUP(C4496,Referencias!$C$4:$D$21,2,FALSE())","v":"Tercera Diamante"},{"$f":"VLOOKUP(I4496,Referencias!$B$24:$C$41,2,FALSE())","v":"C.VAL"},{"$f":"VLOOKUP(C4496,Referencias!$C$4:$E$21,3,FALSE())","v":3},"Competición","C. Valenciana"]
["4641957","San Juan Pedraza, Susana","3D","D",{"$f":"VLOOKUP(C4497,Referencias!$C$4:$D$21,2,FALSE())","v":"Tercera Diamante"},{"$f":"VLOOKUP(I4497,Referencias!$B$24:$C$41,2,FALSE())","v":"C.VAL"},{"$f":"VLOOKUP(C4497,Referencias!$C$4:$E$21,3,FALSE())","v":3},"Competición","C. Valenciana"]
["4641959","Pérez-Sala Valls-Taberner, Marta","2C","D",{"$f":"VLOOKUP(C4498,Referencias!$C$4:$D$21,2,FALSE())","v":"Segunda Corazón"},{"$f":"VLOOKUP(I4498,Referencias!$B$24:$C$41,2,FALSE())","v":"C.VAL"},{"$f":"VLOOKUP(C4498,Referencias!$C$4:$E$21,3,FALSE())","v":2},"Competición","C. Valenciana"]
["4641966","Breva Iscla, Carmen","3D","D",{"$f":"VLOOKUP(C4499,Referencias!$C$4:$D$21,2,FALSE())","v":"Tercera Diamante"},{"$f":"VLOOKUP(I4499,Referencias!$B$24:$C$41,2,FALSE())","v":"C.VAL"},{"$f":"VLOOKUP(C4499,Referencias!$C$4:$E$21,3,FALSE())","v":3},"Competición","C. Valenciana"]
["4641967","Botella Arbona, Cristina","3D","D",{"$f":"VLOOKUP(C4500,Referencias!$C$4:$D$21,2,FALSE())","v":"Tercera Diamante"},{"$f":"VLOOKUP(I4500,Referencias!$B$24:$C$41,2,FALSE())","v":"C.VAL"},{"$f":"VLOOKUP(C4500,Referencias!$C$4:$E$21,3,FALSE())","v":3},"Competición","C. Valenciana"]
["4641968","Carrascosa Valles, María José","3D","D",{"$f":"VLOOKUP(C4501,Referencias!$C$4:$D$21,2,FALSE())","v":"Tercera Diamante"},{"$f":"VLOOKUP(I4501,Referencias!$B$24:$C$41,2,FALSE())","v":"C.VAL"},{"$f":"VLOOKUP(C4501,Referencias!$C$4:$E$21,3,FALSE())","v":3},"Competición","C. Valenciana"]
["4641969","Loira Pérez, Carmen","3D","D",{"$f":"VLOOKUP(C4502,Referencias!$C$4:$D$21,2,FALSE())","v":"Tercera Diamante"},{"$f":"VLOOKUP(I4502,Referencias!$B$24:$C$41,2,FALSE())","v":"C.VAL"},{"$f":"VLOOKUP(C4502,Referencias!$C$4:$E$21,3,FALSE())","v":3},"Competición","C. Valenciana"]
["4641970","Lemhenyi Hanko, Constance","3D","D",{"$f":"VLOOKUP(C4503,Referencias!$C$4:$D$21,2,FALSE())","v":"Tercera Diamante"},{"$f":"VLOOKUP(I4503,Referencias!$B$24:$C$41,2,FALSE())","v":"C.VAL"},{"$f":"VLOOKUP(C4503,Referencias!$C$4:$E$21,3,FALSE())","v":3},"Competición","C. Valenciana"]
["4641974","Pernot, Philippe","3D","C",{"$f":"VLOOKUP(C4504,Referencias!$C$4:$D$21,2,FALSE())","v":"Tercera Diamante"},{"$f":"VLOOKUP(I4504,Referencias!$B$24:$C$41,2,FALSE())","v":"C.VAL"},{"$f":"VLOOKUP(C4504,Referencias!$C$4:$E$21,3,FALSE())","v":3},"Competición","C. Valenciana"]
["4641975","Lansky, David","3D","C",{"$f":"VLOOKUP(C4505,Referencias!$C$4:$D$21,2,FALSE())","v":"Tercera Diamante"},{"$f":"VLOOKUP(I4505,Referencias!$B$24:$C$41,2,FALSE())","v":"C.VAL"},{"$f":"VLOOKUP(C4505,Referencias!$C$4:$E$21,3,FALSE())","v":3},"Competición","C. Valenciana"]
["4641976","Cericola, Patricia","3D","D",{"$f":"VLOOKUP(C4506,Referencias!$C$4:$D$21,2,FALSE())","v":"Tercera Diamante"},{"$f":"VLOOKUP(I4506,Referencias!$B$24:$C$41,2,FALSE())","v":"C.VAL"},{"$f":"VLOOKUP(C4506,Referencias!$C$4:$E$21,3,FALSE())","v":3},"Competición","C. Valenciana"]
["4641977","Martínez Morales, María Luisa","3D","D",{"$f":"VLOOKUP(C4507,Referencias!$C$4:$D$21,2,FALSE())","v":"Tercera Diamante"},{"$f":"VLOOKUP(I4507,Referencias!$B$24:$C$41,2,FALSE())","v":"C.VAL"},{"$f":"VLOOKUP(C4507,Referencias!$C$4:$E$21,3,FALSE())","v":3},"Competición","C. Valenciana"]
["4641978","Lu Lee, Antonio","3D","C",{"$f":"VLOOKUP(C4508,Referencias!$C$4:$D$21,2,FALSE())","v":"Tercera Diamante"},{"$f":"VLOOKUP(I4508,Referencias!$B$24:$C$41,2,FALSE())","v":"C.VAL"},{"$f":"VLOOKUP(C4508,Referencias!$C$4:$E$21,3,FALSE())","v":3},"Competición","C. Valenciana"]
["4641984","Silva, Héctor Jesús","3D","C",{"$f":"VLOOKUP(C4509,Referencias!$C$4:$D$21,2,FALSE())","v":"Tercera Diamante"},{"$f":"VLOOKUP(I4509,Referencias!$B$24:$C$41,2,FALSE())","v":"C.VAL"},{"$f":"VLOOKUP(C4509,Referencias!$C$4:$E$21,3,FALSE())","v":3},"Competición","C. Valenciana"]
["4646202","Santos Pelegrín, María del Carmen","MN-D","D",{"$f":"VLOOKUP(C4510,Referencias!$C$4:$D$21,2,FALSE())","v":"Maestro Nacional Damas"},{"$f":"VLOOKUP(I4510,Referencias!$B$24:$C$41,2,FALSE())","v":"C.VAL"},{"$f":"VLOOKUP(C4510,Referencias!$C$4:$E$21,3,FALSE())","v":0},"Competición","C. Valenciana"]
["4646204","Rubio Vázquez, Carmen","1D","D",{"$f":"VLOOKUP(C4511,Referencias!$C$4:$D$21,2,FALSE())","v":"Primera Diamante"},{"$f":"VLOOKUP(I4511,Referencias!$B$24:$C$41,2,FALSE())","v":"C.VAL"},{"$f":"VLOOKUP(C4511,Referencias!$C$4:$E$21,3,FALSE())","v":1},"Competición","C. Valenciana"]
["4646217","Matut Cubillo, M. Luisa","MN-D","D",{"$f":"VLOOKUP(C4512,Referencias!$C$4:$D$21,2,FALSE())","v":"Maestro Nacional Damas"},{"$f":"VLOOKUP(I4512,Referencias!$B$24:$C$41,2,FALSE())","v":"C.VAL"},{"$f":"VLOOKUP(C4512,Referencias!$C$4:$E$21,3,FALSE())","v":0},"Competición","C. Valenciana"]
["4646228","Barona Fleta, José Ignacio","3C","C",{"$f":"VLOOKUP(C4513,Referencias!$C$4:$D$21,2,FALSE())","v":"Tercera Corazón"},{"$f":"VLOOKUP(I4513,Referencias!$B$24:$C$41,2,FALSE())","v":"C.VAL"},{"$f":"VLOOKUP(C4513,Referencias!$C$4:$E$21,3,FALSE())","v":3},"Competición","C. Valenciana"]
["4646244","Reig Boix, Juan Carlos","1C","C",{"$f":"VLOOKUP(C4514,Referencias!$C$4:$D$21,2,FALSE())","v":"Primera Corazón"},{"$f":"VLOOKUP(I4514,Referencias!$B$24:$C$41,2,FALSE())","v":"C.VAL"},{"$f":"VLOOKUP(C4514,Referencias!$C$4:$E$21,3,FALSE())","v":1},"Competición","C. Valenciana"]
["4646254","Gabernet Martí, M. Luisa","2C","D",{"$f":"VLOOKUP(C4515,Referencias!$C$4:$D$21,2,FALSE())","v":"Segunda Corazón"},{"$f":"VLOOKUP(I4515,Referencias!$B$24:$C$41,2,FALSE())","v":"C.VAL"},{"$f":"VLOOKUP(C4515,Referencias!$C$4:$E$21,3,FALSE())","v":2},"Competición","C. Valenciana"]
["4646264","Archer  Gimeno, Ana","1D","D",{"$f":"VLOOKUP(C4516,Referencias!$C$4:$D$21,2,FALSE())","v":"Primera Diamante"},{"$f":"VLOOKUP(I4516,Referencias!$B$24:$C$41,2,FALSE())","v":"C.VAL"},{"$f":"VLOOKUP(C4516,Referencias!$C$4:$E$21,3,FALSE())","v":1},"Competición","C. Valenciana"]
["4646299","Pérez-Victoria Arberola, Amalia","3D","D",{"$f":"VLOOKUP(C4517,Referencias!$C$4:$D$21,2,FALSE())","v":"Tercera Diamante"},{"$f":"VLOOKUP(I4517,Referencias!$B$24:$C$41,2,FALSE())","v":"C.VAL"},{"$f":"VLOOKUP(C4517,Referencias!$C$4:$E$21,3,FALSE())","v":3},"Competición","C. Valenciana"]
["4646301","Termens Gamarra, José Luis","2D","C",{"$f":"VLOOKUP(C4518,Referencias!$C$4:$D$21,2,FALSE())","v":"Segunda Diamante"},{"$f":"VLOOKUP(I4518,Referencias!$B$24:$C$41,2,FALSE())","v":"C.VAL"},{"$f":"VLOOKUP(C4518,Referencias!$C$4:$E$21,3,FALSE())","v":2},"Competición","C. Valenciana"]
["4646302","Mas de Termens, M. Dolores","1D","D",{"$f":"VLOOKUP(C4519,Referencias!$C$4:$D$21,2,FALSE())","v":"Primera Diamante"},{"$f":"VLOOKUP(I4519,Referencias!$B$24:$C$41,2,FALSE())","v":"C.VAL"},{"$f":"VLOOKUP(C4519,Referencias!$C$4:$E$21,3,FALSE())","v":1},"Competición","C. Valenciana"]
["4646310","Archer Gimeno, Aurora","1D","D",{"$f":"VLOOKUP(C4520,Referencias!$C$4:$D$21,2,FALSE())","v":"Primera Diamante"},{"$f":"VLOOKUP(I4520,Referencias!$B$24:$C$41,2,FALSE())","v":"C.VAL"},{"$f":"VLOOKUP(C4520,Referencias!$C$4:$E$21,3,FALSE())","v":1},"Competición","C. Valenciana"]
["4646312","Baeza Casado, Eugenia","1P","D",{"$f":"VLOOKUP(C4521,Referencias!$C$4:$D$21,2,FALSE())","v":"Primera Picas"},{"$f":"VLOOKUP(I4521,Referencias!$B$24:$C$41,2,FALSE())","v":"C.VAL"},{"$f":"VLOOKUP(C4521,Referencias!$C$4:$E$21,3,FALSE())","v":1},"Competición","C. Valenciana"]
["4646314","Caballer Lliso, Matilde","2P","D",{"$f":"VLOOKUP(C4522,Referencias!$C$4:$D$21,2,FALSE())","v":"Segunda Picas"},{"$f":"VLOOKUP(I4522,Referencias!$B$24:$C$41,2,FALSE())","v":"C.VAL"},{"$f":"VLOOKUP(C4522,Referencias!$C$4:$E$21,3,FALSE())","v":2},"Competición","C. Valenciana"]
["4646331","Caballer Lliso, Elena","1D","D",{"$f":"VLOOKUP(C4523,Referencias!$C$4:$D$21,2,FALSE())","v":"Primera Diamante"},{"$f":"VLOOKUP(I4523,Referencias!$B$24:$C$41,2,FALSE())","v":"C.VAL"},{"$f":"VLOOKUP(C4523,Referencias!$C$4:$E$21,3,FALSE())","v":1},"Competición","C. Valenciana"]
["4646333","Pardo Alonso, Teresa","1C","D",{"$f":"VLOOKUP(C4524,Referencias!$C$4:$D$21,2,FALSE())","v":"Primera Corazón"},{"$f":"VLOOKUP(I4524,Referencias!$B$24:$C$41,2,FALSE())","v":"C.VAL"},{"$f":"VLOOKUP(C4524,Referencias!$C$4:$E$21,3,FALSE())","v":1},"Competición","C. Valenciana"]
["4771003","Pastor, Tita","1C","D",{"$f":"VLOOKUP(C4525,Referencias!$C$4:$D$21,2,FALSE())","v":"Primera Corazón"},{"$f":"VLOOKUP(I4525,Referencias!$B$24:$C$41,2,FALSE())","v":"CYL"},{"$f":"VLOOKUP(C4525,Referencias!$C$4:$E$21,3,FALSE())","v":1},"Competición","Castilla y León"]
["4771031","Mazariegos de la Maza, Mª Victoria","2C","D",{"$f":"VLOOKUP(C4526,Referencias!$C$4:$D$21,2,FALSE())","v":"Segunda Corazón"},{"$f":"VLOOKUP(I4526,Referencias!$B$24:$C$41,2,FALSE())","v":"CYL"},{"$f":"VLOOKUP(C4526,Referencias!$C$4:$E$21,3,FALSE())","v":2},"Competición","Castilla y León"]
["4771032","Tremiño Alonso, Paula","2P","D",{"$f":"VLOOKUP(C4527,Referencias!$C$4:$D$21,2,FALSE())","v":"Segunda Picas"},{"$f":"VLOOKUP(I4527,Referencias!$B$24:$C$41,2,FALSE())","v":"CYL"},{"$f":"VLOOKUP(C4527,Referencias!$C$4:$E$21,3,FALSE())","v":2},"Competición","Castilla y León"]
["4771045","Ruiz de la Red, Ana","2D","D",{"$f":"VLOOKUP(C4528,Referencias!$C$4:$D$21,2,FALSE())","v":"Segunda Diamante"},{"$f":"VLOOKUP(I4528,Referencias!$B$24:$C$41,2,FALSE())","v":"CYL"},{"$f":"VLOOKUP(C4528,Referencias!$C$4:$E$21,3,FALSE())","v":2},"Competición","Castilla y León"]
["4771082","Herrero Izquierdo, Belén","1P","D",{"$f":"VLOOKUP(C4529,Referencias!$C$4:$D$21,2,FALSE())","v":"Primera Picas"},{"$f":"VLOOKUP(I4529,Referencias!$B$24:$C$41,2,FALSE())","v":"CYL"},{"$f":"VLOOKUP(C4529,Referencias!$C$4:$E$21,3,FALSE())","v":1},"Competición","Castilla y León"]
["4771104","Vallejo Poussint, Aurora","2P","D",{"$f":"VLOOKUP(C4530,Referencias!$C$4:$D$21,2,FALSE())","v":"Segunda Picas"},{"$f":"VLOOKUP(I4530,Referencias!$B$24:$C$41,2,FALSE())","v":"CYL"},{"$f":"VLOOKUP(C4530,Referencias!$C$4:$E$21,3,FALSE())","v":2},"Competición","Castilla y León"]
["4771137","Belloso Fernández, María Victoria","3D","D",{"$f":"VLOOKUP(C4531,Referencias!$C$4:$D$21,2,FALSE())","v":"Tercera Diamante"},{"$f":"VLOOKUP(I4531,Referencias!$B$24:$C$41,2,FALSE())","v":"CYL"},{"$f":"VLOOKUP(C4531,Referencias!$C$4:$E$21,3,FALSE())","v":3},"Competición","Castilla y León"]
["4771162","Díaz Arribas, M. Teresa","3P","D",{"$f":"VLOOKUP(C4532,Referencias!$C$4:$D$21,2,FALSE())","v":"Tercera Picas"},{"$f":"VLOOKUP(I4532,Referencias!$B$24:$C$41,2,FALSE())","v":"CYL"},{"$f":"VLOOKUP(C4532,Referencias!$C$4:$E$21,3,FALSE())","v":3},"Competición","Castilla y León"]
["4771175","de Ugarte Lozano, Yolanda","1P","D",{"$f":"VLOOKUP(C4533,Referencias!$C$4:$D$21,2,FALSE())","v":"Primera Picas"},{"$f":"VLOOKUP(I4533,Referencias!$B$24:$C$41,2,FALSE())","v":"CYL"},{"$f":"VLOOKUP(C4533,Referencias!$C$4:$E$21,3,FALSE())","v":1},"Competición","Castilla y León"]
["4771203","Rodríguez Asensio, Mª Jesús","1P","D",{"$f":"VLOOKUP(C4534,Referencias!$C$4:$D$21,2,FALSE())","v":"Primera Picas"},{"$f":"VLOOKUP(I4534,Referencias!$B$24:$C$41,2,FALSE())","v":"CYL"},{"$f":"VLOOKUP(C4534,Referencias!$C$4:$E$21,3,FALSE())","v":1},"Competición","Castilla y León"]
["4771221","De la Cruz Revesado, Mª Socorro","1C","D",{"$f":"VLOOKUP(C4535,Referencias!$C$4:$D$21,2,FALSE())","v":"Primera Corazón"},{"$f":"VLOOKUP(I4535,Referencias!$B$24:$C$41,2,FALSE())","v":"CYL"},{"$f":"VLOOKUP(C4535,Referencias!$C$4:$E$21,3,FALSE())","v":1},"Competición","Castilla y León"]
["4771222","Alonso Pérez, José Andrés","3D","C",{"$f":"VLOOKUP(C4536,Referencias!$C$4:$D$21,2,FALSE())","v":"Tercera Diamante"},{"$f":"VLOOKUP(I4536,Referencias!$B$24:$C$41,2,FALSE())","v":"CYL"},{"$f":"VLOOKUP(C4536,Referencias!$C$4:$E$21,3,FALSE())","v":3},"Competición","Castilla y León"]
["4771234","Escudero Díez, Maribel","2C","D",{"$f":"VLOOKUP(C4537,Referencias!$C$4:$D$21,2,FALSE())","v":"Segunda Corazón"},{"$f":"VLOOKUP(I4537,Referencias!$B$24:$C$41,2,FALSE())","v":"CYL"},{"$f":"VLOOKUP(C4537,Referencias!$C$4:$E$21,3,FALSE())","v":2},"Competición","Castilla y León"]
["4771239","Nieto Fernández, Milu","1D","D",{"$f":"VLOOKUP(C4538,Referencias!$C$4:$D$21,2,FALSE())","v":"Primera Diamante"},{"$f":"VLOOKUP(I4538,Referencias!$B$24:$C$41,2,FALSE())","v":"CYL"},{"$f":"VLOOKUP(C4538,Referencias!$C$4:$E$21,3,FALSE())","v":1},"Competición","Castilla y León"]
["4771241","Burgoa Arribas, Mª Carmen","3D","D",{"$f":"VLOOKUP(C4539,Referencias!$C$4:$D$21,2,FALSE())","v":"Tercera Diamante"},{"$f":"VLOOKUP(I4539,Referencias!$B$24:$C$41,2,FALSE())","v":"CYL"},{"$f":"VLOOKUP(C4539,Referencias!$C$4:$E$21,3,FALSE())","v":3},"Competición","Castilla y León"]
["4771250","Martínez Castrillo, Maru","3D","D",{"$f":"VLOOKUP(C4540,Referencias!$C$4:$D$21,2,FALSE())","v":"Tercera Diamante"},{"$f":"VLOOKUP(I4540,Referencias!$B$24:$C$41,2,FALSE())","v":"CYL"},{"$f":"VLOOKUP(C4540,Referencias!$C$4:$E$21,3,FALSE())","v":3},"Competición","Castilla y León"]
["4771251","Martínez Nogueras, Luisa","3D","D",{"$f":"VLOOKUP(C4541,Referencias!$C$4:$D$21,2,FALSE())","v":"Tercera Diamante"},{"$f":"VLOOKUP(I4541,Referencias!$B$24:$C$41,2,FALSE())","v":"CYL"},{"$f":"VLOOKUP(C4541,Referencias!$C$4:$E$21,3,FALSE())","v":3},"Competición","Castilla y León"]
["4771253","Paja del Río, José Antonio","3D","C",{"$f":"VLOOKUP(C4542,Referencias!$C$4:$D$21,2,FALSE())","v":"Tercera Diamante"},{"$f":"VLOOKUP(I4542,Referencias!$B$24:$C$41,2,FALSE())","v":"CYL"},{"$f":"VLOOKUP(C4542,Referencias!$C$4:$E$21,3,FALSE())","v":3},"Competición","Castilla y León"]
["4771261","Fernández Castañón, Mª Isabel","2D","D",{"$f":"VLOOKUP(C4543,Referencias!$C$4:$D$21,2,FALSE())","v":"Segunda Diamante"},{"$f":"VLOOKUP(I4543,Referencias!$B$24:$C$41,2,FALSE())","v":"CYL"},{"$f":"VLOOKUP(C4543,Referencias!$C$4:$E$21,3,FALSE())","v":2},"Competición","Castilla y León"]
["4771265","Ortiz Baños, Begoña","1P","D",{"$f":"VLOOKUP(C4544,Referencias!$C$4:$D$21,2,FALSE())","v":"Primera Picas"},{"$f":"VLOOKUP(I4544,Referencias!$B$24:$C$41,2,FALSE())","v":"CYL"},{"$f":"VLOOKUP(C4544,Referencias!$C$4:$E$21,3,FALSE())","v":1},"Competición","Castilla y León"]
["4771279","De Lozoya Rey, Mª Jesús","2P","D",{"$f":"VLOOKUP(C4545,Referencias!$C$4:$D$21,2,FALSE())","v":"Segunda Picas"},{"$f":"VLOOKUP(I4545,Referencias!$B$24:$C$41,2,FALSE())","v":"CYL"},{"$f":"VLOOKUP(C4545,Referencias!$C$4:$E$21,3,FALSE())","v":2},"Competición","Castilla y León"]
["4771280","Elorza González, Carmen","2P","D",{"$f":"VLOOKUP(C4546,Referencias!$C$4:$D$21,2,FALSE())","v":"Segunda Picas"},{"$f":"VLOOKUP(I4546,Referencias!$B$24:$C$41,2,FALSE())","v":"CYL"},{"$f":"VLOOKUP(C4546,Referencias!$C$4:$E$21,3,FALSE())","v":2},"Competición","Castilla y León"]
["4771283","Barrio Castellanos, Rosalia","2D","D",{"$f":"VLOOKUP(C4547,Referencias!$C$4:$D$21,2,FALSE())","v":"Segunda Diamante"},{"$f":"VLOOKUP(I4547,Referencias!$B$24:$C$41,2,FALSE())","v":"CYL"},{"$f":"VLOOKUP(C4547,Referencias!$C$4:$E$21,3,FALSE())","v":2},"Competición","Castilla y León"]
["4771284","Carril Rodríguez, Marisa","3D","D",{"$f":"VLOOKUP(C4548,Referencias!$C$4:$D$21,2,FALSE())","v":"Tercera Diamante"},{"$f":"VLOOKUP(I4548,Referencias!$B$24:$C$41,2,FALSE())","v":"CYL"},{"$f":"VLOOKUP(C4548,Referencias!$C$4:$E$21,3,FALSE())","v":3},"Competición","Castilla y León"]
["4771285","Ferreiro Chao, María Luisa","3D","D",{"$f":"VLOOKUP(C4549,Referencias!$C$4:$D$21,2,FALSE())","v":"Tercera Diamante"},{"$f":"VLOOKUP(I4549,Referencias!$B$24:$C$41,2,FALSE())","v":"CYL"},{"$f":"VLOOKUP(C4549,Referencias!$C$4:$E$21,3,FALSE())","v":3},"Competición","Castilla y León"]
["4771290","Ramos Valero, Esperanza","3D","D",{"$f":"VLOOKUP(C4550,Referencias!$C$4:$D$21,2,FALSE())","v":"Tercera Diamante"},{"$f":"VLOOKUP(I4550,Referencias!$B$24:$C$41,2,FALSE())","v":"CYL"},{"$f":"VLOOKUP(C4550,Referencias!$C$4:$E$21,3,FALSE())","v":3},"Competición","Castilla y León"]
["4771291","Ruiz de la Riva, María Luz","3D","D",{"$f":"VLOOKUP(C4551,Referencias!$C$4:$D$21,2,FALSE())","v":"Tercera Diamante"},{"$f":"VLOOKUP(I4551,Referencias!$B$24:$C$41,2,FALSE())","v":"CYL"},{"$f":"VLOOKUP(C4551,Referencias!$C$4:$E$21,3,FALSE())","v":3},"Competición","Castilla y León"]
["4771293","Vicente Carrión, María Asún","2C","D",{"$f":"VLOOKUP(C4552,Referencias!$C$4:$D$21,2,FALSE())","v":"Segunda Corazón"},{"$f":"VLOOKUP(I4552,Referencias!$B$24:$C$41,2,FALSE())","v":"CYL"},{"$f":"VLOOKUP(C4552,Referencias!$C$4:$E$21,3,FALSE())","v":2},"Competición","Castilla y León"]
["4771299","Díez González, Carmen","3C","D",{"$f":"VLOOKUP(C4553,Referencias!$C$4:$D$21,2,FALSE())","v":"Tercera Corazón"},{"$f":"VLOOKUP(I4553,Referencias!$B$24:$C$41,2,FALSE())","v":"CYL"},{"$f":"VLOOKUP(C4553,Referencias!$C$4:$E$21,3,FALSE())","v":3},"Competición","Castilla y León"]
["4771319","Morilla Díez, Mª Pilar","2D","D",{"$f":"VLOOKUP(C4554,Referencias!$C$4:$D$21,2,FALSE())","v":"Segunda Diamante"},{"$f":"VLOOKUP(I4554,Referencias!$B$24:$C$41,2,FALSE())","v":"CYL"},{"$f":"VLOOKUP(C4554,Referencias!$C$4:$E$21,3,FALSE())","v":2},"Competición","Castilla y León"]
["4771343","Morate D'Alton, Isabel","2D","D",{"$f":"VLOOKUP(C4555,Referencias!$C$4:$D$21,2,FALSE())","v":"Segunda Diamante"},{"$f":"VLOOKUP(I4555,Referencias!$B$24:$C$41,2,FALSE())","v":"CYL"},{"$f":"VLOOKUP(C4555,Referencias!$C$4:$E$21,3,FALSE())","v":2},"Competición","Castilla y León"]
["4771344","Huerga Rodríguez, Francisca","2D","D",{"$f":"VLOOKUP(C4556,Referencias!$C$4:$D$21,2,FALSE())","v":"Segunda Diamante"},{"$f":"VLOOKUP(I4556,Referencias!$B$24:$C$41,2,FALSE())","v":"CYL"},{"$f":"VLOOKUP(C4556,Referencias!$C$4:$E$21,3,FALSE())","v":2},"Competición","Castilla y León"]
["4771346","Gil Rodríguez, Esteban","2D","C",{"$f":"VLOOKUP(C4557,Referencias!$C$4:$D$21,2,FALSE())","v":"Segunda Diamante"},{"$f":"VLOOKUP(I4557,Referencias!$B$24:$C$41,2,FALSE())","v":"CYL"},{"$f":"VLOOKUP(C4557,Referencias!$C$4:$E$21,3,FALSE())","v":2},"Competición","Castilla y León"]
["4771350","García Manso, María del Pilar","3C","D",{"$f":"VLOOKUP(C4558,Referencias!$C$4:$D$21,2,FALSE())","v":"Tercera Corazón"},{"$f":"VLOOKUP(I4558,Referencias!$B$24:$C$41,2,FALSE())","v":"CYL"},{"$f":"VLOOKUP(C4558,Referencias!$C$4:$E$21,3,FALSE())","v":3},"Competición","Castilla y León"]
["4771355","Concellón Muñoz, Inmaculada","3D","D",{"$f":"VLOOKUP(C4559,Referencias!$C$4:$D$21,2,FALSE())","v":"Tercera Diamante"},{"$f":"VLOOKUP(I4559,Referencias!$B$24:$C$41,2,FALSE())","v":"CYL"},{"$f":"VLOOKUP(C4559,Referencias!$C$4:$E$21,3,FALSE())","v":3},"Competición","Castilla y León"]
["4771358","Aparicio Verge, Ana María","3C","D",{"$f":"VLOOKUP(C4560,Referencias!$C$4:$D$21,2,FALSE())","v":"Tercera Corazón"},{"$f":"VLOOKUP(I4560,Referencias!$B$24:$C$41,2,FALSE())","v":"CYL"},{"$f":"VLOOKUP(C4560,Referencias!$C$4:$E$21,3,FALSE())","v":3},"Competición","Castilla y León"]
["4771359","Tomillo, María del Prado","1P","D",{"$f":"VLOOKUP(C4561,Referencias!$C$4:$D$21,2,FALSE())","v":"Primera Picas"},{"$f":"VLOOKUP(I4561,Referencias!$B$24:$C$41,2,FALSE())","v":"CYL"},{"$f":"VLOOKUP(C4561,Referencias!$C$4:$E$21,3,FALSE())","v":1},"Competición","Castilla y León"]
["4771360","Pinto Rico, María Cruz","2D","D",{"$f":"VLOOKUP(C4562,Referencias!$C$4:$D$21,2,FALSE())","v":"Segunda Diamante"},{"$f":"VLOOKUP(I4562,Referencias!$B$24:$C$41,2,FALSE())","v":"CYL"},{"$f":"VLOOKUP(C4562,Referencias!$C$4:$E$21,3,FALSE())","v":2},"Competición","Castilla y León"]
["4771362","Manteca Gómez Pallete, Julian","2D","C",{"$f":"VLOOKUP(C4563,Referencias!$C$4:$D$21,2,FALSE())","v":"Segunda Diamante"},{"$f":"VLOOKUP(I4563,Referencias!$B$24:$C$41,2,FALSE())","v":"CYL"},{"$f":"VLOOKUP(C4563,Referencias!$C$4:$E$21,3,FALSE())","v":2},"Competición","Castilla y León"]
["4771368","Ruiz González, María Esther","3D","D",{"$f":"VLOOKUP(C4564,Referencias!$C$4:$D$21,2,FALSE())","v":"Tercera Diamante"},{"$f":"VLOOKUP(I4564,Referencias!$B$24:$C$41,2,FALSE())","v":"CYL"},{"$f":"VLOOKUP(C4564,Referencias!$C$4:$E$21,3,FALSE())","v":3},"Competición","Castilla y León"]
["4771371","Fontanillas Fernández, Carmen","3D","D",{"$f":"VLOOKUP(C4565,Referencias!$C$4:$D$21,2,FALSE())","v":"Tercera Diamante"},{"$f":"VLOOKUP(I4565,Referencias!$B$24:$C$41,2,FALSE())","v":"CYL"},{"$f":"VLOOKUP(C4565,Referencias!$C$4:$E$21,3,FALSE())","v":3},"Competición","Castilla y León"]
["4771372","Alonso Diez, Carmen","3D","D",{"$f":"VLOOKUP(C4566,Referencias!$C$4:$D$21,2,FALSE())","v":"Tercera Diamante"},{"$f":"VLOOKUP(I4566,Referencias!$B$24:$C$41,2,FALSE())","v":"CYL"},{"$f":"VLOOKUP(C4566,Referencias!$C$4:$E$21,3,FALSE())","v":3},"Competición","Castilla y León"]
["4771374","Padró Sánchez, Ramón","2P","C",{"$f":"VLOOKUP(C4567,Referencias!$C$4:$D$21,2,FALSE())","v":"Segunda Picas"},{"$f":"VLOOKUP(I4567,Referencias!$B$24:$C$41,2,FALSE())","v":"CYL"},{"$f":"VLOOKUP(C4567,Referencias!$C$4:$E$21,3,FALSE())","v":2},"Competición","Castilla y León"]
["4771377","Padró Sánchez, Rosa","3P","D",{"$f":"VLOOKUP(C4568,Referencias!$C$4:$D$21,2,FALSE())","v":"Tercera Picas"},{"$f":"VLOOKUP(I4568,Referencias!$B$24:$C$41,2,FALSE())","v":"CYL"},{"$f":"VLOOKUP(C4568,Referencias!$C$4:$E$21,3,FALSE())","v":3},"Competición","Castilla y León"]
["4771378","Madrigal Llamas, Mª Ines","2D","D",{"$f":"VLOOKUP(C4569,Referencias!$C$4:$D$21,2,FALSE())","v":"Segunda Diamante"},{"$f":"VLOOKUP(I4569,Referencias!$B$24:$C$41,2,FALSE())","v":"CYL"},{"$f":"VLOOKUP(C4569,Referencias!$C$4:$E$21,3,FALSE())","v":2},"Competición","Castilla y León"]
["4771379","Martín Casas, Mª José","3P","D",{"$f":"VLOOKUP(C4570,Referencias!$C$4:$D$21,2,FALSE())","v":"Tercera Picas"},{"$f":"VLOOKUP(I4570,Referencias!$B$24:$C$41,2,FALSE())","v":"CYL"},{"$f":"VLOOKUP(C4570,Referencias!$C$4:$E$21,3,FALSE())","v":3},"Competición","Castilla y León"]
["4771380","Alcalde Martín-Calero, Reyes","1P","D",{"$f":"VLOOKUP(C4571,Referencias!$C$4:$D$21,2,FALSE())","v":"Primera Picas"},{"$f":"VLOOKUP(I4571,Referencias!$B$24:$C$41,2,FALSE())","v":"CYL"},{"$f":"VLOOKUP(C4571,Referencias!$C$4:$E$21,3,FALSE())","v":1},"Competición","Castilla y León"]
["4771384","Gómez López, Isabel","3D","D",{"$f":"VLOOKUP(C4572,Referencias!$C$4:$D$21,2,FALSE())","v":"Tercera Diamante"},{"$f":"VLOOKUP(I4572,Referencias!$B$24:$C$41,2,FALSE())","v":"CYL"},{"$f":"VLOOKUP(C4572,Referencias!$C$4:$E$21,3,FALSE())","v":3},"Competición","Castilla y León"]
["4771387","Bravo Lara, Marupe","3P","D",{"$f":"VLOOKUP(C4573,Referencias!$C$4:$D$21,2,FALSE())","v":"Tercera Picas"},{"$f":"VLOOKUP(I4573,Referencias!$B$24:$C$41,2,FALSE())","v":"CYL"},{"$f":"VLOOKUP(C4573,Referencias!$C$4:$E$21,3,FALSE())","v":3},"Competición","Castilla y León"]
["4771394","Escudero Bores, Ana","3D","D",{"$f":"VLOOKUP(C4574,Referencias!$C$4:$D$21,2,FALSE())","v":"Tercera Diamante"},{"$f":"VLOOKUP(I4574,Referencias!$B$24:$C$41,2,FALSE())","v":"CYL"},{"$f":"VLOOKUP(C4574,Referencias!$C$4:$E$21,3,FALSE())","v":3},"Competición","Castilla y León"]
["4771396","Pino Homedes, Montserrat","3P","D",{"$f":"VLOOKUP(C4575,Referencias!$C$4:$D$21,2,FALSE())","v":"Tercera Picas"},{"$f":"VLOOKUP(I4575,Referencias!$B$24:$C$41,2,FALSE())","v":"CYL"},{"$f":"VLOOKUP(C4575,Referencias!$C$4:$E$21,3,FALSE())","v":3},"Competición","Castilla y León"]
["4771406","San José Alonso, María Luisa","3P","D",{"$f":"VLOOKUP(C4576,Referencias!$C$4:$D$21,2,FALSE())","v":"Tercera Picas"},{"$f":"VLOOKUP(I4576,Referencias!$B$24:$C$41,2,FALSE())","v":"CYL"},{"$f":"VLOOKUP(C4576,Referencias!$C$4:$E$21,3,FALSE())","v":3},"Competición","Castilla y León"]
["4771414","Díez García, Susana","2C","D",{"$f":"VLOOKUP(C4577,Referencias!$C$4:$D$21,2,FALSE())","v":"Segunda Corazón"},{"$f":"VLOOKUP(I4577,Referencias!$B$24:$C$41,2,FALSE())","v":"CYL"},{"$f":"VLOOKUP(C4577,Referencias!$C$4:$E$21,3,FALSE())","v":2},"Competición","Castilla y León"]
["4771415","Santos Bobillo, Rosa","2C","D",{"$f":"VLOOKUP(C4578,Referencias!$C$4:$D$21,2,FALSE())","v":"Segunda Corazón"},{"$f":"VLOOKUP(I4578,Referencias!$B$24:$C$41,2,FALSE())","v":"CYL"},{"$f":"VLOOKUP(C4578,Referencias!$C$4:$E$21,3,FALSE())","v":2},"Competición","Castilla y León"]
["4771418","Salgado Gimeno, Soledad","2D","D",{"$f":"VLOOKUP(C4579,Referencias!$C$4:$D$21,2,FALSE())","v":"Segunda Diamante"},{"$f":"VLOOKUP(I4579,Referencias!$B$24:$C$41,2,FALSE())","v":"CYL"},{"$f":"VLOOKUP(C4579,Referencias!$C$4:$E$21,3,FALSE())","v":2},"Competición","Castilla y León"]
["4771440","Velasco Fernández, Nani","3D","D",{"$f":"VLOOKUP(C4580,Referencias!$C$4:$D$21,2,FALSE())","v":"Tercera Diamante"},{"$f":"VLOOKUP(I4580,Referencias!$B$24:$C$41,2,FALSE())","v":"CYL"},{"$f":"VLOOKUP(C4580,Referencias!$C$4:$E$21,3,FALSE())","v":3},"Competición","Castilla y León"]
["4771441","Martínez Sánchez, Memi","3D","D",{"$f":"VLOOKUP(C4581,Referencias!$C$4:$D$21,2,FALSE())","v":"Tercera Diamante"},{"$f":"VLOOKUP(I4581,Referencias!$B$24:$C$41,2,FALSE())","v":"CYL"},{"$f":"VLOOKUP(C4581,Referencias!$C$4:$E$21,3,FALSE())","v":3},"Competición","Castilla y León"]
["4771442","Barrio Castellano, Isabel","3D","D",{"$f":"VLOOKUP(C4582,Referencias!$C$4:$D$21,2,FALSE())","v":"Tercera Diamante"},{"$f":"VLOOKUP(I4582,Referencias!$B$24:$C$41,2,FALSE())","v":"CYL"},{"$f":"VLOOKUP(C4582,Referencias!$C$4:$E$21,3,FALSE())","v":3},"Competición","Castilla y León"]
["4771446","Postigo Mantecón, Gloria","3D","D",{"$f":"VLOOKUP(C4583,Referencias!$C$4:$D$21,2,FALSE())","v":"Tercera Diamante"},{"$f":"VLOOKUP(I4583,Referencias!$B$24:$C$41,2,FALSE())","v":"CYL"},{"$f":"VLOOKUP(C4583,Referencias!$C$4:$E$21,3,FALSE())","v":3},"Competición","Castilla y León"]
["4771447","Castro de la Fuente, Inmaculada","3P","D",{"$f":"VLOOKUP(C4584,Referencias!$C$4:$D$21,2,FALSE())","v":"Tercera Picas"},{"$f":"VLOOKUP(I4584,Referencias!$B$24:$C$41,2,FALSE())","v":"CYL"},{"$f":"VLOOKUP(C4584,Referencias!$C$4:$E$21,3,FALSE())","v":3},"Competición","Castilla y León"]
["4771450","Alvarez Perez, Lola","2C","D",{"$f":"VLOOKUP(C4585,Referencias!$C$4:$D$21,2,FALSE())","v":"Segunda Corazón"},{"$f":"VLOOKUP(I4585,Referencias!$B$24:$C$41,2,FALSE())","v":"CYL"},{"$f":"VLOOKUP(C4585,Referencias!$C$4:$E$21,3,FALSE())","v":2},"Competición","Castilla y León"]
["4771460","Castro de la Fuente, Gemma","3C","D",{"$f":"VLOOKUP(C4586,Referencias!$C$4:$D$21,2,FALSE())","v":"Tercera Corazón"},{"$f":"VLOOKUP(I4586,Referencias!$B$24:$C$41,2,FALSE())","v":"CYL"},{"$f":"VLOOKUP(C4586,Referencias!$C$4:$E$21,3,FALSE())","v":3},"Competición","Castilla y León"]
["4771464","Villaverde Arcos, Helena","3C","D",{"$f":"VLOOKUP(C4587,Referencias!$C$4:$D$21,2,FALSE())","v":"Tercera Corazón"},{"$f":"VLOOKUP(I4587,Referencias!$B$24:$C$41,2,FALSE())","v":"CYL"},{"$f":"VLOOKUP(C4587,Referencias!$C$4:$E$21,3,FALSE())","v":3},"Competición","Castilla y León"]
["4771465","Rodríguez Mateos, Marcela","3C","D",{"$f":"VLOOKUP(C4588,Referencias!$C$4:$D$21,2,FALSE())","v":"Tercera Corazón"},{"$f":"VLOOKUP(I4588,Referencias!$B$24:$C$41,2,FALSE())","v":"CYL"},{"$f":"VLOOKUP(C4588,Referencias!$C$4:$E$21,3,FALSE())","v":3},"Competición","Castilla y León"]
["4771467","del Palacio, Isabel","3D","D",{"$f":"VLOOKUP(C4589,Referencias!$C$4:$D$21,2,FALSE())","v":"Tercera Diamante"},{"$f":"VLOOKUP(I4589,Referencias!$B$24:$C$41,2,FALSE())","v":"CYL"},{"$f":"VLOOKUP(C4589,Referencias!$C$4:$E$21,3,FALSE())","v":3},"Competición","Castilla y León"]
["4771469","Lorente Moore, Marta","3C","D",{"$f":"VLOOKUP(C4590,Referencias!$C$4:$D$21,2,FALSE())","v":"Tercera Corazón"},{"$f":"VLOOKUP(I4590,Referencias!$B$24:$C$41,2,FALSE())","v":"CYL"},{"$f":"VLOOKUP(C4590,Referencias!$C$4:$E$21,3,FALSE())","v":3},"Competición","Castilla y León"]
["4771470","Velasco Domínguez, Pilar","2C","D",{"$f":"VLOOKUP(C4591,Referencias!$C$4:$D$21,2,FALSE())","v":"Segunda Corazón"},{"$f":"VLOOKUP(I4591,Referencias!$B$24:$C$41,2,FALSE())","v":"CYL"},{"$f":"VLOOKUP(C4591,Referencias!$C$4:$E$21,3,FALSE())","v":2},"Competición","Castilla y León"]
["4771471","Van Camp Meir, Viviane","3P","D",{"$f":"VLOOKUP(C4592,Referencias!$C$4:$D$21,2,FALSE())","v":"Tercera Picas"},{"$f":"VLOOKUP(I4592,Referencias!$B$24:$C$41,2,FALSE())","v":"CYL"},{"$f":"VLOOKUP(C4592,Referencias!$C$4:$E$21,3,FALSE())","v":3},"Competición","Castilla y León"]
["4771472","De Miguel Simón, María Luisa- Mónica","2D","D",{"$f":"VLOOKUP(C4593,Referencias!$C$4:$D$21,2,FALSE())","v":"Segunda Diamante"},{"$f":"VLOOKUP(I4593,Referencias!$B$24:$C$41,2,FALSE())","v":"CYL"},{"$f":"VLOOKUP(C4593,Referencias!$C$4:$E$21,3,FALSE())","v":2},"Competición","Castilla y León"]
["4771473","Aragoneses Fraile, Henar","3D","C",{"$f":"VLOOKUP(C4594,Referencias!$C$4:$D$21,2,FALSE())","v":"Tercera Diamante"},{"$f":"VLOOKUP(I4594,Referencias!$B$24:$C$41,2,FALSE())","v":"CYL"},{"$f":"VLOOKUP(C4594,Referencias!$C$4:$E$21,3,FALSE())","v":3},"Competición","Castilla y León"]
["4771474","Lozano del Moral, Julian","3D","C",{"$f":"VLOOKUP(C4595,Referencias!$C$4:$D$21,2,FALSE())","v":"Tercera Diamante"},{"$f":"VLOOKUP(I4595,Referencias!$B$24:$C$41,2,FALSE())","v":"CYL"},{"$f":"VLOOKUP(C4595,Referencias!$C$4:$E$21,3,FALSE())","v":3},"Competición","Castilla y León"]
["4771475","Pardo Almudi, Margarita","3D","D",{"$f":"VLOOKUP(C4596,Referencias!$C$4:$D$21,2,FALSE())","v":"Tercera Diamante"},{"$f":"VLOOKUP(I4596,Referencias!$B$24:$C$41,2,FALSE())","v":"CYL"},{"$f":"VLOOKUP(C4596,Referencias!$C$4:$E$21,3,FALSE())","v":3},"Competición","Castilla y León"]
["4771476","Pardo Almudi, María Luisa","3D","D",{"$f":"VLOOKUP(C4597,Referencias!$C$4:$D$21,2,FALSE())","v":"Tercera Diamante"},{"$f":"VLOOKUP(I4597,Referencias!$B$24:$C$41,2,FALSE())","v":"CYL"},{"$f":"VLOOKUP(C4597,Referencias!$C$4:$E$21,3,FALSE())","v":3},"Competición","Castilla y León"]
["4771479","Morilla Díez, Mª Teresa","2C","D",{"$f":"VLOOKUP(C4598,Referencias!$C$4:$D$21,2,FALSE())","v":"Segunda Corazón"},{"$f":"VLOOKUP(I4598,Referencias!$B$24:$C$41,2,FALSE())","v":"CYL"},{"$f":"VLOOKUP(C4598,Referencias!$C$4:$E$21,3,FALSE())","v":2},"Competición","Castilla y León"]
["4771481","Llorente Martín, Cayetano","1D","C",{"$f":"VLOOKUP(C4599,Referencias!$C$4:$D$21,2,FALSE())","v":"Primera Diamante"},{"$f":"VLOOKUP(I4599,Referencias!$B$24:$C$41,2,FALSE())","v":"CYL"},{"$f":"VLOOKUP(C4599,Referencias!$C$4:$E$21,3,FALSE())","v":1},"Competición","Castilla y León"]
["4771482","Bartolome Calvo, M. Pilar","3D","D",{"$f":"VLOOKUP(C4600,Referencias!$C$4:$D$21,2,FALSE())","v":"Tercera Diamante"},{"$f":"VLOOKUP(I4600,Referencias!$B$24:$C$41,2,FALSE())","v":"CYL"},{"$f":"VLOOKUP(C4600,Referencias!$C$4:$E$21,3,FALSE())","v":3},"Competición","Castilla y León"]
["4771483","Minguez Bellosta, María Cándida","2D","D",{"$f":"VLOOKUP(C4601,Referencias!$C$4:$D$21,2,FALSE())","v":"Segunda Diamante"},{"$f":"VLOOKUP(I4601,Referencias!$B$24:$C$41,2,FALSE())","v":"CYL"},{"$f":"VLOOKUP(C4601,Referencias!$C$4:$E$21,3,FALSE())","v":2},"Competición","Castilla y León"]
["4771484","Alonso López, Pilar","3D","D",{"$f":"VLOOKUP(C4602,Referencias!$C$4:$D$21,2,FALSE())","v":"Tercera Diamante"},{"$f":"VLOOKUP(I4602,Referencias!$B$24:$C$41,2,FALSE())","v":"CYL"},{"$f":"VLOOKUP(C4602,Referencias!$C$4:$E$21,3,FALSE())","v":3},"Competición","Castilla y León"]
["4771487","Valderrama Guerra, Raquel","3D","D",{"$f":"VLOOKUP(C4603,Referencias!$C$4:$D$21,2,FALSE())","v":"Tercera Diamante"},{"$f":"VLOOKUP(I4603,Referencias!$B$24:$C$41,2,FALSE())","v":"CYL"},{"$f":"VLOOKUP(C4603,Referencias!$C$4:$E$21,3,FALSE())","v":3},"Competición","Castilla y León"]
["4771488","Piera Beltrán, Carmen","3D","D",{"$f":"VLOOKUP(C4604,Referencias!$C$4:$D$21,2,FALSE())","v":"Tercera Diamante"},{"$f":"VLOOKUP(I4604,Referencias!$B$24:$C$41,2,FALSE())","v":"CYL"},{"$f":"VLOOKUP(C4604,Referencias!$C$4:$E$21,3,FALSE())","v":3},"Competición","Castilla y León"]
["4771490","González Martín, Mª Mar","3D","D",{"$f":"VLOOKUP(C4605,Referencias!$C$4:$D$21,2,FALSE())","v":"Tercera Diamante"},{"$f":"VLOOKUP(I4605,Referencias!$B$24:$C$41,2,FALSE())","v":"CYL"},{"$f":"VLOOKUP(C4605,Referencias!$C$4:$E$21,3,FALSE())","v":3},"Competición","Castilla y León"]
["4771491","Galván Fraile, Alicia","3P","D",{"$f":"VLOOKUP(C4606,Referencias!$C$4:$D$21,2,FALSE())","v":"Tercera Picas"},{"$f":"VLOOKUP(I4606,Referencias!$B$24:$C$41,2,FALSE())","v":"CYL"},{"$f":"VLOOKUP(C4606,Referencias!$C$4:$E$21,3,FALSE())","v":3},"Competición","Castilla y León"]
["4771492","Gavilán Domínguez, Carolina","3P","D",{"$f":"VLOOKUP(C4607,Referencias!$C$4:$D$21,2,FALSE())","v":"Tercera Picas"},{"$f":"VLOOKUP(I4607,Referencias!$B$24:$C$41,2,FALSE())","v":"CYL"},{"$f":"VLOOKUP(C4607,Referencias!$C$4:$E$21,3,FALSE())","v":3},"Competición","Castilla y León"]
["4771493","Fernandez-Laguilhoat, Begoña","2C","D",{"$f":"VLOOKUP(C4608,Referencias!$C$4:$D$21,2,FALSE())","v":"Segunda Corazón"},{"$f":"VLOOKUP(I4608,Referencias!$B$24:$C$41,2,FALSE())","v":"CYL"},{"$f":"VLOOKUP(C4608,Referencias!$C$4:$E$21,3,FALSE())","v":2},"Competición","Castilla y León"]
["4771494","Martínez González, Laura","3D","D",{"$f":"VLOOKUP(C4609,Referencias!$C$4:$D$21,2,FALSE())","v":"Tercera Diamante"},{"$f":"VLOOKUP(I4609,Referencias!$B$24:$C$41,2,FALSE())","v":"CYL"},{"$f":"VLOOKUP(C4609,Referencias!$C$4:$E$21,3,FALSE())","v":3},"Competición","Castilla y León"]
["4771496","Sánz Labajo, Celina","3C","D",{"$f":"VLOOKUP(C4610,Referencias!$C$4:$D$21,2,FALSE())","v":"Tercera Corazón"},{"$f":"VLOOKUP(I4610,Referencias!$B$24:$C$41,2,FALSE())","v":"CYL"},{"$f":"VLOOKUP(C4610,Referencias!$C$4:$E$21,3,FALSE())","v":3},"Competición","Castilla y León"]
["4771497","Criado González, Isabel","3C","D",{"$f":"VLOOKUP(C4611,Referencias!$C$4:$D$21,2,FALSE())","v":"Tercera Corazón"},{"$f":"VLOOKUP(I4611,Referencias!$B$24:$C$41,2,FALSE())","v":"CYL"},{"$f":"VLOOKUP(C4611,Referencias!$C$4:$E$21,3,FALSE())","v":3},"Competición","Castilla y León"]
["4771498","Alcalde García, Nieves","2C","D",{"$f":"VLOOKUP(C4612,Referencias!$C$4:$D$21,2,FALSE())","v":"Segunda Corazón"},{"$f":"VLOOKUP(I4612,Referencias!$B$24:$C$41,2,FALSE())","v":"CYL"},{"$f":"VLOOKUP(C4612,Referencias!$C$4:$E$21,3,FALSE())","v":2},"Competición","Castilla y León"]
["4771499","Romero Gómez, Mercedes","3C","D",{"$f":"VLOOKUP(C4613,Referencias!$C$4:$D$21,2,FALSE())","v":"Tercera Corazón"},{"$f":"VLOOKUP(I4613,Referencias!$B$24:$C$41,2,FALSE())","v":"CYL"},{"$f":"VLOOKUP(C4613,Referencias!$C$4:$E$21,3,FALSE())","v":3},"Competición","Castilla y León"]
["4771502","García Reglero, María del Carmen","3D","D",{"$f":"VLOOKUP(C4614,Referencias!$C$4:$D$21,2,FALSE())","v":"Tercera Diamante"},{"$f":"VLOOKUP(I4614,Referencias!$B$24:$C$41,2,FALSE())","v":"CYL"},{"$f":"VLOOKUP(C4614,Referencias!$C$4:$E$21,3,FALSE())","v":3},"Competición","Castilla y León"]
["4771503","Valbuena Rodrigo, María Yolanda","2C","D",{"$f":"VLOOKUP(C4615,Referencias!$C$4:$D$21,2,FALSE())","v":"Segunda Corazón"},{"$f":"VLOOKUP(I4615,Referencias!$B$24:$C$41,2,FALSE())","v":"CYL"},{"$f":"VLOOKUP(C4615,Referencias!$C$4:$E$21,3,FALSE())","v":2},"Competición","Castilla y León"]
["4771506","De Barbachano Plaza, Rosa Marta","2D","D",{"$f":"VLOOKUP(C4616,Referencias!$C$4:$D$21,2,FALSE())","v":"Segunda Diamante"},{"$f":"VLOOKUP(I4616,Referencias!$B$24:$C$41,2,FALSE())","v":"CYL"},{"$f":"VLOOKUP(C4616,Referencias!$C$4:$E$21,3,FALSE())","v":2},"Competición","Castilla y León"]
["4771509","Ramos Polo, Margarita","3D","D",{"$f":"VLOOKUP(C4617,Referencias!$C$4:$D$21,2,FALSE())","v":"Tercera Diamante"},{"$f":"VLOOKUP(I4617,Referencias!$B$24:$C$41,2,FALSE())","v":"CYL"},{"$f":"VLOOKUP(C4617,Referencias!$C$4:$E$21,3,FALSE())","v":3},"Competición","Castilla y León"]
["4771510","Gavilán Domínguez, María Zarza","2D","D",{"$f":"VLOOKUP(C4618,Referencias!$C$4:$D$21,2,FALSE())","v":"Segunda Diamante"},{"$f":"VLOOKUP(I4618,Referencias!$B$24:$C$41,2,FALSE())","v":"CYL"},{"$f":"VLOOKUP(C4618,Referencias!$C$4:$E$21,3,FALSE())","v":2},"Competición","Castilla y León"]
["4771511","Fernández Pires, Covadonga","3D","D",{"$f":"VLOOKUP(C4619,Referencias!$C$4:$D$21,2,FALSE())","v":"Tercera Diamante"},{"$f":"VLOOKUP(I4619,Referencias!$B$24:$C$41,2,FALSE())","v":"CYL"},{"$f":"VLOOKUP(C4619,Referencias!$C$4:$E$21,3,FALSE())","v":3},"Competición","Castilla y León"]
["4771512","Abad Pérez, Adela","3D","D",{"$f":"VLOOKUP(C4620,Referencias!$C$4:$D$21,2,FALSE())","v":"Tercera Diamante"},{"$f":"VLOOKUP(I4620,Referencias!$B$24:$C$41,2,FALSE())","v":"CYL"},{"$f":"VLOOKUP(C4620,Referencias!$C$4:$E$21,3,FALSE())","v":3},"Competición","Castilla y León"]
["4771513","Caballero Conde, Pilar","3D","D",{"$f":"VLOOKUP(C4621,Referencias!$C$4:$D$21,2,FALSE())","v":"Tercera Diamante"},{"$f":"VLOOKUP(I4621,Referencias!$B$24:$C$41,2,FALSE())","v":"CYL"},{"$f":"VLOOKUP(C4621,Referencias!$C$4:$E$21,3,FALSE())","v":3},"Competición","Castilla y León"]
["4771515","Salaverri Fernández de la Puente, María Dolores","3D","D",{"$f":"VLOOKUP(C4622,Referencias!$C$4:$D$21,2,FALSE())","v":"Tercera Diamante"},{"$f":"VLOOKUP(I4622,Referencias!$B$24:$C$41,2,FALSE())","v":"CYL"},{"$f":"VLOOKUP(C4622,Referencias!$C$4:$E$21,3,FALSE())","v":3},"Competición","Castilla y León"]
["4771516","Finat Gómez, Berta","2C","D",{"$f":"VLOOKUP(C4623,Referencias!$C$4:$D$21,2,FALSE())","v":"Segunda Corazón"},{"$f":"VLOOKUP(I4623,Referencias!$B$24:$C$41,2,FALSE())","v":"CYL"},{"$f":"VLOOKUP(C4623,Referencias!$C$4:$E$21,3,FALSE())","v":2},"Competición","Castilla y León"]
["4771517","Valverde Bellido, Mª Paz","3D","D",{"$f":"VLOOKUP(C4624,Referencias!$C$4:$D$21,2,FALSE())","v":"Tercera Diamante"},{"$f":"VLOOKUP(I4624,Referencias!$B$24:$C$41,2,FALSE())","v":"CYL"},{"$f":"VLOOKUP(C4624,Referencias!$C$4:$E$21,3,FALSE())","v":3},"Competición","Castilla y León"]
["4771520","Merino Andrés, María Piedad","3C","D",{"$f":"VLOOKUP(C4625,Referencias!$C$4:$D$21,2,FALSE())","v":"Tercera Corazón"},{"$f":"VLOOKUP(I4625,Referencias!$B$24:$C$41,2,FALSE())","v":"CYL"},{"$f":"VLOOKUP(C4625,Referencias!$C$4:$E$21,3,FALSE())","v":3},"Competición","Castilla y León"]
["4771521","Liebana Pérez, Elisa","3D","D",{"$f":"VLOOKUP(C4626,Referencias!$C$4:$D$21,2,FALSE())","v":"Tercera Diamante"},{"$f":"VLOOKUP(I4626,Referencias!$B$24:$C$41,2,FALSE())","v":"CYL"},{"$f":"VLOOKUP(C4626,Referencias!$C$4:$E$21,3,FALSE())","v":3},"Competición","Castilla y León"]
["4771522","Rueda Sabater, Cristina","2C","D",{"$f":"VLOOKUP(C4627,Referencias!$C$4:$D$21,2,FALSE())","v":"Segunda Corazón"},{"$f":"VLOOKUP(I4627,Referencias!$B$24:$C$41,2,FALSE())","v":"CYL"},{"$f":"VLOOKUP(C4627,Referencias!$C$4:$E$21,3,FALSE())","v":2},"Competición","Castilla y León"]
["4771523","López de Arbina Rodríguez, María Victoría","3P","D",{"$f":"VLOOKUP(C4628,Referencias!$C$4:$D$21,2,FALSE())","v":"Tercera Picas"},{"$f":"VLOOKUP(I4628,Referencias!$B$24:$C$41,2,FALSE())","v":"CYL"},{"$f":"VLOOKUP(C4628,Referencias!$C$4:$E$21,3,FALSE())","v":3},"Competición","Castilla y León"]
["4771524","Sánchez Cuesta, Marina","2D","D",{"$f":"VLOOKUP(C4629,Referencias!$C$4:$D$21,2,FALSE())","v":"Segunda Diamante"},{"$f":"VLOOKUP(I4629,Referencias!$B$24:$C$41,2,FALSE())","v":"CYL"},{"$f":"VLOOKUP(C4629,Referencias!$C$4:$E$21,3,FALSE())","v":2},"Competición","Castilla y León"]
["4771525","Alonso Marinero, Esther","3D","D",{"$f":"VLOOKUP(C4630,Referencias!$C$4:$D$21,2,FALSE())","v":"Tercera Diamante"},{"$f":"VLOOKUP(I4630,Referencias!$B$24:$C$41,2,FALSE())","v":"CYL"},{"$f":"VLOOKUP(C4630,Referencias!$C$4:$E$21,3,FALSE())","v":3},"Competición","Castilla y León"]
["4771535","Martín Gutiérrez, Magdalena","3D","D",{"$f":"VLOOKUP(C4631,Referencias!$C$4:$D$21,2,FALSE())","v":"Tercera Diamante"},{"$f":"VLOOKUP(I4631,Referencias!$B$24:$C$41,2,FALSE())","v":"CYL"},{"$f":"VLOOKUP(C4631,Referencias!$C$4:$E$21,3,FALSE())","v":3},"Competición","Castilla y León"]
["4771538","Menéndez Sánchez, Adela","2D","D",{"$f":"VLOOKUP(C4632,Referencias!$C$4:$D$21,2,FALSE())","v":"Segunda Diamante"},{"$f":"VLOOKUP(I4632,Referencias!$B$24:$C$41,2,FALSE())","v":"CYL"},{"$f":"VLOOKUP(C4632,Referencias!$C$4:$E$21,3,FALSE())","v":2},"Competición","Castilla y León"]
["4771539","González-Calvo Baeza, Sara","3D","",{"$f":"VLOOKUP(C4633,Referencias!$C$4:$D$21,2,FALSE())","v":"Tercera Diamante"},{"$f":"VLOOKUP(I4633,Referencias!$B$24:$C$41,2,FALSE())","v":"CYL"},{"$f":"VLOOKUP(C4633,Referencias!$C$4:$E$21,3,FALSE())","v":3},"Competición","Castilla y León"]
["4771540","de Miguel Gómez, Margarita","3D","D",{"$f":"VLOOKUP(C4634,Referencias!$C$4:$D$21,2,FALSE())","v":"Tercera Diamante"},{"$f":"VLOOKUP(I4634,Referencias!$B$24:$C$41,2,FALSE())","v":"CYL"},{"$f":"VLOOKUP(C4634,Referencias!$C$4:$E$21,3,FALSE())","v":3},"Competición","Castilla y León"]
["4771541","Lanza Suárez, María Nuria","3D","D",{"$f":"VLOOKUP(C4635,Referencias!$C$4:$D$21,2,FALSE())","v":"Tercera Diamante"},{"$f":"VLOOKUP(I4635,Referencias!$B$24:$C$41,2,FALSE())","v":"CYL"},{"$f":"VLOOKUP(C4635,Referencias!$C$4:$E$21,3,FALSE())","v":3},"Competición","Castilla y León"]
["4771542","Pascual Fuente, María José","3D","D",{"$f":"VLOOKUP(C4636,Referencias!$C$4:$D$21,2,FALSE())","v":"Tercera Diamante"},{"$f":"VLOOKUP(I4636,Referencias!$B$24:$C$41,2,FALSE())","v":"CYL"},{"$f":"VLOOKUP(C4636,Referencias!$C$4:$E$21,3,FALSE())","v":3},"Competición","Castilla y León"]
["4771543","Pinedo Calvo, María Luisa","3D","D",{"$f":"VLOOKUP(C4637,Referencias!$C$4:$D$21,2,FALSE())","v":"Tercera Diamante"},{"$f":"VLOOKUP(I4637,Referencias!$B$24:$C$41,2,FALSE())","v":"CYL"},{"$f":"VLOOKUP(C4637,Referencias!$C$4:$E$21,3,FALSE())","v":3},"Competición","Castilla y León"]
["4771544","Ortiz de Zárate Torre, Nerea","3D","D",{"$f":"VLOOKUP(C4638,Referencias!$C$4:$D$21,2,FALSE())","v":"Tercera Diamante"},{"$f":"VLOOKUP(I4638,Referencias!$B$24:$C$41,2,FALSE())","v":"CYL"},{"$f":"VLOOKUP(C4638,Referencias!$C$4:$E$21,3,FALSE())","v":3},"Competición","Castilla y León"]
["4771545","Pinedo Calvo, Lourdes","3D","D",{"$f":"VLOOKUP(C4639,Referencias!$C$4:$D$21,2,FALSE())","v":"Tercera Diamante"},{"$f":"VLOOKUP(I4639,Referencias!$B$24:$C$41,2,FALSE())","v":"CYL"},{"$f":"VLOOKUP(C4639,Referencias!$C$4:$E$21,3,FALSE())","v":3},"Competición","Castilla y León"]
["4771546","Calvin Velasco, Helena","3D","D",{"$f":"VLOOKUP(C4640,Referencias!$C$4:$D$21,2,FALSE())","v":"Tercera Diamante"},{"$f":"VLOOKUP(I4640,Referencias!$B$24:$C$41,2,FALSE())","v":"CYL"},{"$f":"VLOOKUP(C4640,Referencias!$C$4:$E$21,3,FALSE())","v":3},"Competición","Castilla y León"]
["4771547","Liebana Pérez, Inmaculada","3D","D",{"$f":"VLOOKUP(C4641,Referencias!$C$4:$D$21,2,FALSE())","v":"Tercera Diamante"},{"$f":"VLOOKUP(I4641,Referencias!$B$24:$C$41,2,FALSE())","v":"CYL"},{"$f":"VLOOKUP(C4641,Referencias!$C$4:$E$21,3,FALSE())","v":3},"Competición","Castilla y León"]
["4771548","Lozano Muñoz, Mila","3D","D",{"$f":"VLOOKUP(C4642,Referencias!$C$4:$D$21,2,FALSE())","v":"Tercera Diamante"},{"$f":"VLOOKUP(I4642,Referencias!$B$24:$C$41,2,FALSE())","v":"CYL"},{"$f":"VLOOKUP(C4642,Referencias!$C$4:$E$21,3,FALSE())","v":3},"Competición","Castilla y León"]
["4771549","Milano Manso, Lourdes","3D","D",{"$f":"VLOOKUP(C4643,Referencias!$C$4:$D$21,2,FALSE())","v":"Tercera Diamante"},{"$f":"VLOOKUP(I4643,Referencias!$B$24:$C$41,2,FALSE())","v":"CYL"},{"$f":"VLOOKUP(C4643,Referencias!$C$4:$E$21,3,FALSE())","v":3},"Competición","Castilla y León"]
["4771550","Romero Gómez, María Rosa","3D","D",{"$f":"VLOOKUP(C4644,Referencias!$C$4:$D$21,2,FALSE())","v":"Tercera Diamante"},{"$f":"VLOOKUP(I4644,Referencias!$B$24:$C$41,2,FALSE())","v":"CYL"},{"$f":"VLOOKUP(C4644,Referencias!$C$4:$E$21,3,FALSE())","v":3},"Competición","Castilla y León"]
["4771551","Finat Codes, María José","3D","D",{"$f":"VLOOKUP(C4645,Referencias!$C$4:$D$21,2,FALSE())","v":"Tercera Diamante"},{"$f":"VLOOKUP(I4645,Referencias!$B$24:$C$41,2,FALSE())","v":"CYL"},{"$f":"VLOOKUP(C4645,Referencias!$C$4:$E$21,3,FALSE())","v":3},"Competición","Castilla y León"]
["4771552","Gil Gutiérrez , Montserrat","3D","D",{"$f":"VLOOKUP(C4646,Referencias!$C$4:$D$21,2,FALSE())","v":"Tercera Diamante"},{"$f":"VLOOKUP(I4646,Referencias!$B$24:$C$41,2,FALSE())","v":"CYL"},{"$f":"VLOOKUP(C4646,Referencias!$C$4:$E$21,3,FALSE())","v":3},"Competición","Castilla y León"]
["4771553","Simón Benito, Pilar","3D","D",{"$f":"VLOOKUP(C4647,Referencias!$C$4:$D$21,2,FALSE())","v":"Tercera Diamante"},{"$f":"VLOOKUP(I4647,Referencias!$B$24:$C$41,2,FALSE())","v":"CYL"},{"$f":"VLOOKUP(C4647,Referencias!$C$4:$E$21,3,FALSE())","v":3},"Competición","Castilla y León"]
["4771557","Arranz de Pablos, María Magdalena","3D","D",{"$f":"VLOOKUP(C4648,Referencias!$C$4:$D$21,2,FALSE())","v":"Tercera Diamante"},{"$f":"VLOOKUP(I4648,Referencias!$B$24:$C$41,2,FALSE())","v":"CYL"},{"$f":"VLOOKUP(C4648,Referencias!$C$4:$E$21,3,FALSE())","v":3},"Competición","Castilla y León"]
["4775902","Manteca, Julian","1C","C",{"$f":"VLOOKUP(C4649,Referencias!$C$4:$D$21,2,FALSE())","v":"Primera Corazón"},{"$f":"VLOOKUP(I4649,Referencias!$B$24:$C$41,2,FALSE())","v":"CYL"},{"$f":"VLOOKUP(C4649,Referencias!$C$4:$E$21,3,FALSE())","v":1},"Competición","Castilla y León"]
["4775903","Gómez Pallete de Manteca, Mar","1P","D",{"$f":"VLOOKUP(C4650,Referencias!$C$4:$D$21,2,FALSE())","v":"Primera Picas"},{"$f":"VLOOKUP(I4650,Referencias!$B$24:$C$41,2,FALSE())","v":"CYL"},{"$f":"VLOOKUP(C4650,Referencias!$C$4:$E$21,3,FALSE())","v":1},"Competición","Castilla y León"]
["4775907","García Espino, Teresa","3D","D",{"$f":"VLOOKUP(C4651,Referencias!$C$4:$D$21,2,FALSE())","v":"Tercera Diamante"},{"$f":"VLOOKUP(I4651,Referencias!$B$24:$C$41,2,FALSE())","v":"CYL"},{"$f":"VLOOKUP(C4651,Referencias!$C$4:$E$21,3,FALSE())","v":3},"Competición","Castilla y León"]
["4775917","Sagarra Rodríguez, Alicia","3D","D",{"$f":"VLOOKUP(C4652,Referencias!$C$4:$D$21,2,FALSE())","v":"Tercera Diamante"},{"$f":"VLOOKUP(I4652,Referencias!$B$24:$C$41,2,FALSE())","v":"CYL"},{"$f":"VLOOKUP(C4652,Referencias!$C$4:$E$21,3,FALSE())","v":3},"Competición","Castilla y León"]
["4775923","Puras Ripollés, Fernando","1P","C",{"$f":"VLOOKUP(C4653,Referencias!$C$4:$D$21,2,FALSE())","v":"Primera Picas"},{"$f":"VLOOKUP(I4653,Referencias!$B$24:$C$41,2,FALSE())","v":"CYL"},{"$f":"VLOOKUP(C4653,Referencias!$C$4:$E$21,3,FALSE())","v":1},"Competición","Castilla y León"]
["4775926","Sanz Sanantonio, M. del Carmen","3P","D",{"$f":"VLOOKUP(C4654,Referencias!$C$4:$D$21,2,FALSE())","v":"Tercera Picas"},{"$f":"VLOOKUP(I4654,Referencias!$B$24:$C$41,2,FALSE())","v":"CYL"},{"$f":"VLOOKUP(C4654,Referencias!$C$4:$E$21,3,FALSE())","v":3},"Competición","Castilla y León"]
["4775938","García Gallego, María Jesús","2P","D",{"$f":"VLOOKUP(C4655,Referencias!$C$4:$D$21,2,FALSE())","v":"Segunda Picas"},{"$f":"VLOOKUP(I4655,Referencias!$B$24:$C$41,2,FALSE())","v":"CYL"},{"$f":"VLOOKUP(C4655,Referencias!$C$4:$E$21,3,FALSE())","v":2},"Competición","Castilla y León"]
["4775944","Serrano Márquez, María Victoria","3D","D",{"$f":"VLOOKUP(C4656,Referencias!$C$4:$D$21,2,FALSE())","v":"Tercera Diamante"},{"$f":"VLOOKUP(I4656,Referencias!$B$24:$C$41,2,FALSE())","v":"CYL"},{"$f":"VLOOKUP(C4656,Referencias!$C$4:$E$21,3,FALSE())","v":3},"Competición","Castilla y León"]
["4775954","Gómez-Pallete Moliner, Alfonso","1P","C",{"$f":"VLOOKUP(C4657,Referencias!$C$4:$D$21,2,FALSE())","v":"Primera Picas"},{"$f":"VLOOKUP(I4657,Referencias!$B$24:$C$41,2,FALSE())","v":"CYL"},{"$f":"VLOOKUP(C4657,Referencias!$C$4:$E$21,3,FALSE())","v":1},"Competición","Castilla y León"]
["4775962","Martín Torres Pardo, Consuelo","2D","D",{"$f":"VLOOKUP(C4658,Referencias!$C$4:$D$21,2,FALSE())","v":"Segunda Diamante"},{"$f":"VLOOKUP(I4658,Referencias!$B$24:$C$41,2,FALSE())","v":"CYL"},{"$f":"VLOOKUP(C4658,Referencias!$C$4:$E$21,3,FALSE())","v":2},"Competición","Castilla y León"]
["4775966","Martín Torres Pardo, María Ángeles","1D","D",{"$f":"VLOOKUP(C4659,Referencias!$C$4:$D$21,2,FALSE())","v":"Primera Diamante"},{"$f":"VLOOKUP(I4659,Referencias!$B$24:$C$41,2,FALSE())","v":"CYL"},{"$f":"VLOOKUP(C4659,Referencias!$C$4:$E$21,3,FALSE())","v":1},"Competición","Castilla y León"]
["4775967","Mediante Blázquez, María Antonia","1P","D",{"$f":"VLOOKUP(C4660,Referencias!$C$4:$D$21,2,FALSE())","v":"Primera Picas"},{"$f":"VLOOKUP(I4660,Referencias!$B$24:$C$41,2,FALSE())","v":"CYL"},{"$f":"VLOOKUP(C4660,Referencias!$C$4:$E$21,3,FALSE())","v":1},"Competición","Castilla y León"]
["4775981","Gómez Heredia, Irene","2D","D",{"$f":"VLOOKUP(C4661,Referencias!$C$4:$D$21,2,FALSE())","v":"Segunda Diamante"},{"$f":"VLOOKUP(I4661,Referencias!$B$24:$C$41,2,FALSE())","v":"CYL"},{"$f":"VLOOKUP(C4661,Referencias!$C$4:$E$21,3,FALSE())","v":2},"Competición","Castilla y León"]
["4775982","Sandoval, María Teresa","2C","D",{"$f":"VLOOKUP(C4662,Referencias!$C$4:$D$21,2,FALSE())","v":"Segunda Corazón"},{"$f":"VLOOKUP(I4662,Referencias!$B$24:$C$41,2,FALSE())","v":"CYL"},{"$f":"VLOOKUP(C4662,Referencias!$C$4:$E$21,3,FALSE())","v":2},"Competición","Castilla y León"]
["4775990","Camiruaga, María Concepción","2P","D",{"$f":"VLOOKUP(C4663,Referencias!$C$4:$D$21,2,FALSE())","v":"Segunda Picas"},{"$f":"VLOOKUP(I4663,Referencias!$B$24:$C$41,2,FALSE())","v":"CYL"},{"$f":"VLOOKUP(C4663,Referencias!$C$4:$E$21,3,FALSE())","v":2},"Competición","Castilla y León"]
["4775992","Marín, Josefa","2P","D",{"$f":"VLOOKUP(C4664,Referencias!$C$4:$D$21,2,FALSE())","v":"Segunda Picas"},{"$f":"VLOOKUP(I4664,Referencias!$B$24:$C$41,2,FALSE())","v":"CYL"},{"$f":"VLOOKUP(C4664,Referencias!$C$4:$E$21,3,FALSE())","v":2},"Competición","Castilla y León"]
["4881008","Garrote, María Luisa","3C","D",{"$f":"VLOOKUP(C4665,Referencias!$C$4:$D$21,2,FALSE())","v":"Tercera Corazón"},{"$f":"VLOOKUP(I4665,Referencias!$B$24:$C$41,2,FALSE())","v":"PV"},{"$f":"VLOOKUP(C4665,Referencias!$C$4:$E$21,3,FALSE())","v":3},"Competición","Vasca"]
["4881019","Cadiñanos Díaz Tejeiro, Eugenia","2C","D",{"$f":"VLOOKUP(C4666,Referencias!$C$4:$D$21,2,FALSE())","v":"Segunda Corazón"},{"$f":"VLOOKUP(I4666,Referencias!$B$24:$C$41,2,FALSE())","v":"PV"},{"$f":"VLOOKUP(C4666,Referencias!$C$4:$E$21,3,FALSE())","v":2},"Competición","Vasca"]
["4881022","Marcos, Igone","3C","D",{"$f":"VLOOKUP(C4667,Referencias!$C$4:$D$21,2,FALSE())","v":"Tercera Corazón"},{"$f":"VLOOKUP(I4667,Referencias!$B$24:$C$41,2,FALSE())","v":"PV"},{"$f":"VLOOKUP(C4667,Referencias!$C$4:$E$21,3,FALSE())","v":3},"Competición","Vasca"]
["4881060","Cuesta Pedraz, Elena","3D","D",{"$f":"VLOOKUP(C4668,Referencias!$C$4:$D$21,2,FALSE())","v":"Tercera Diamante"},{"$f":"VLOOKUP(I4668,Referencias!$B$24:$C$41,2,FALSE())","v":"PV"},{"$f":"VLOOKUP(C4668,Referencias!$C$4:$E$21,3,FALSE())","v":3},"Competición","Vasca"]
["4881061","Beraza López Jacoisti, Mercedes","3C","D",{"$f":"VLOOKUP(C4669,Referencias!$C$4:$D$21,2,FALSE())","v":"Tercera Corazón"},{"$f":"VLOOKUP(I4669,Referencias!$B$24:$C$41,2,FALSE())","v":"PV"},{"$f":"VLOOKUP(C4669,Referencias!$C$4:$E$21,3,FALSE())","v":3},"Competición","Vasca"]
["4881062","Beraza López Jacoisti, Eugenia","3C","D",{"$f":"VLOOKUP(C4670,Referencias!$C$4:$D$21,2,FALSE())","v":"Tercera Corazón"},{"$f":"VLOOKUP(I4670,Referencias!$B$24:$C$41,2,FALSE())","v":"PV"},{"$f":"VLOOKUP(C4670,Referencias!$C$4:$E$21,3,FALSE())","v":3},"Competición","Vasca"]
["4881063","Castellanos Borrego, Anni","2P","D",{"$f":"VLOOKUP(C4671,Referencias!$C$4:$D$21,2,FALSE())","v":"Segunda Picas"},{"$f":"VLOOKUP(I4671,Referencias!$B$24:$C$41,2,FALSE())","v":"PV"},{"$f":"VLOOKUP(C4671,Referencias!$C$4:$E$21,3,FALSE())","v":2},"Competición","Vasca"]
["4881064","Garteiz Iguain, Inmaculada","2P","D",{"$f":"VLOOKUP(C4672,Referencias!$C$4:$D$21,2,FALSE())","v":"Segunda Picas"},{"$f":"VLOOKUP(I4672,Referencias!$B$24:$C$41,2,FALSE())","v":"PV"},{"$f":"VLOOKUP(C4672,Referencias!$C$4:$E$21,3,FALSE())","v":2},"Competición","Vasca"]
["4881083","Sainz de Aja Nieto, Mari Paz","2P","D",{"$f":"VLOOKUP(C4673,Referencias!$C$4:$D$21,2,FALSE())","v":"Segunda Picas"},{"$f":"VLOOKUP(I4673,Referencias!$B$24:$C$41,2,FALSE())","v":"PV"},{"$f":"VLOOKUP(C4673,Referencias!$C$4:$E$21,3,FALSE())","v":2},"Competición","Vasca"]
["4881106","Cavestany, María Salud","3C","D",{"$f":"VLOOKUP(C4674,Referencias!$C$4:$D$21,2,FALSE())","v":"Tercera Corazón"},{"$f":"VLOOKUP(I4674,Referencias!$B$24:$C$41,2,FALSE())","v":"PV"},{"$f":"VLOOKUP(C4674,Referencias!$C$4:$E$21,3,FALSE())","v":3},"Competición","Vasca"]
["4881111","Peña Sánchez, María Asunción","2P","D",{"$f":"VLOOKUP(C4675,Referencias!$C$4:$D$21,2,FALSE())","v":"Segunda Picas"},{"$f":"VLOOKUP(I4675,Referencias!$B$24:$C$41,2,FALSE())","v":"PV"},{"$f":"VLOOKUP(C4675,Referencias!$C$4:$E$21,3,FALSE())","v":2},"Competición","Vasca"]
["4881121","Barandiaran Benito del Valle, Mercedes","3C","D",{"$f":"VLOOKUP(C4676,Referencias!$C$4:$D$21,2,FALSE())","v":"Tercera Corazón"},{"$f":"VLOOKUP(I4676,Referencias!$B$24:$C$41,2,FALSE())","v":"PV"},{"$f":"VLOOKUP(C4676,Referencias!$C$4:$E$21,3,FALSE())","v":3},"Competición","Vasca"]
["4881123","Muguruza Garteiz, Eugenia","3C","D",{"$f":"VLOOKUP(C4677,Referencias!$C$4:$D$21,2,FALSE())","v":"Tercera Corazón"},{"$f":"VLOOKUP(I4677,Referencias!$B$24:$C$41,2,FALSE())","v":"PV"},{"$f":"VLOOKUP(C4677,Referencias!$C$4:$E$21,3,FALSE())","v":3},"Competición","Vasca"]
["4881124","Ruiz Alvárez, Estrella","3C","D",{"$f":"VLOOKUP(C4678,Referencias!$C$4:$D$21,2,FALSE())","v":"Tercera Corazón"},{"$f":"VLOOKUP(I4678,Referencias!$B$24:$C$41,2,FALSE())","v":"PV"},{"$f":"VLOOKUP(C4678,Referencias!$C$4:$E$21,3,FALSE())","v":3},"Competición","Vasca"]
["4881145","Eguillor Gutiérrez, María José","3D","D",{"$f":"VLOOKUP(C4679,Referencias!$C$4:$D$21,2,FALSE())","v":"Tercera Diamante"},{"$f":"VLOOKUP(I4679,Referencias!$B$24:$C$41,2,FALSE())","v":"PV"},{"$f":"VLOOKUP(C4679,Referencias!$C$4:$E$21,3,FALSE())","v":3},"Competición","Vasca"]
["4881147","Amiano Montserrat, Isabel","3P","D",{"$f":"VLOOKUP(C4680,Referencias!$C$4:$D$21,2,FALSE())","v":"Tercera Picas"},{"$f":"VLOOKUP(I4680,Referencias!$B$24:$C$41,2,FALSE())","v":"PV"},{"$f":"VLOOKUP(C4680,Referencias!$C$4:$E$21,3,FALSE())","v":3},"Competición","Vasca"]
["4881151","Urieta Arbaizagoitia, María Mercedes","2D","D",{"$f":"VLOOKUP(C4681,Referencias!$C$4:$D$21,2,FALSE())","v":"Segunda Diamante"},{"$f":"VLOOKUP(I4681,Referencias!$B$24:$C$41,2,FALSE())","v":"PV"},{"$f":"VLOOKUP(C4681,Referencias!$C$4:$E$21,3,FALSE())","v":2},"Competición","Vasca"]
["4881163","Darriba, María Cruz","3P","D",{"$f":"VLOOKUP(C4682,Referencias!$C$4:$D$21,2,FALSE())","v":"Tercera Picas"},{"$f":"VLOOKUP(I4682,Referencias!$B$24:$C$41,2,FALSE())","v":"PV"},{"$f":"VLOOKUP(C4682,Referencias!$C$4:$E$21,3,FALSE())","v":3},"Competición","Vasca"]
["4881164","Arenaza Castellanos, Jesús","1P","C",{"$f":"VLOOKUP(C4683,Referencias!$C$4:$D$21,2,FALSE())","v":"Primera Picas"},{"$f":"VLOOKUP(I4683,Referencias!$B$24:$C$41,2,FALSE())","v":"PV"},{"$f":"VLOOKUP(C4683,Referencias!$C$4:$E$21,3,FALSE())","v":1},"Competición","Vasca"]
["4881166","Zumárraga Ortiz, Mercedes","1D","D",{"$f":"VLOOKUP(C4684,Referencias!$C$4:$D$21,2,FALSE())","v":"Primera Diamante"},{"$f":"VLOOKUP(I4684,Referencias!$B$24:$C$41,2,FALSE())","v":"PV"},{"$f":"VLOOKUP(C4684,Referencias!$C$4:$E$21,3,FALSE())","v":1},"Competición","Vasca"]
["4881179","Puerta Díez, Pilar","3D","D",{"$f":"VLOOKUP(C4685,Referencias!$C$4:$D$21,2,FALSE())","v":"Tercera Diamante"},{"$f":"VLOOKUP(I4685,Referencias!$B$24:$C$41,2,FALSE())","v":"PV"},{"$f":"VLOOKUP(C4685,Referencias!$C$4:$E$21,3,FALSE())","v":3},"Competición","Vasca"]
["4881180","Ramírez Oyanguren, Gemma","3C","D",{"$f":"VLOOKUP(C4686,Referencias!$C$4:$D$21,2,FALSE())","v":"Tercera Corazón"},{"$f":"VLOOKUP(I4686,Referencias!$B$24:$C$41,2,FALSE())","v":"PV"},{"$f":"VLOOKUP(C4686,Referencias!$C$4:$E$21,3,FALSE())","v":3},"Competición","Vasca"]
["4881181","Pellón Ureta, Esther","3P","D",{"$f":"VLOOKUP(C4687,Referencias!$C$4:$D$21,2,FALSE())","v":"Tercera Picas"},{"$f":"VLOOKUP(I4687,Referencias!$B$24:$C$41,2,FALSE())","v":"PV"},{"$f":"VLOOKUP(C4687,Referencias!$C$4:$E$21,3,FALSE())","v":3},"Competición","Vasca"]
["4881182","Lejarraga Lejarraga, Felicidad","3D","D",{"$f":"VLOOKUP(C4688,Referencias!$C$4:$D$21,2,FALSE())","v":"Tercera Diamante"},{"$f":"VLOOKUP(I4688,Referencias!$B$24:$C$41,2,FALSE())","v":"PV"},{"$f":"VLOOKUP(C4688,Referencias!$C$4:$E$21,3,FALSE())","v":3},"Competición","Vasca"]
["4881189","Mancisidor Iturregui, Belen","3C","D",{"$f":"VLOOKUP(C4689,Referencias!$C$4:$D$21,2,FALSE())","v":"Tercera Corazón"},{"$f":"VLOOKUP(I4689,Referencias!$B$24:$C$41,2,FALSE())","v":"PV"},{"$f":"VLOOKUP(C4689,Referencias!$C$4:$E$21,3,FALSE())","v":3},"Competición","Vasca"]
["4881193","Sánchez Movilla, Pilar","3D","D",{"$f":"VLOOKUP(C4690,Referencias!$C$4:$D$21,2,FALSE())","v":"Tercera Diamante"},{"$f":"VLOOKUP(I4690,Referencias!$B$24:$C$41,2,FALSE())","v":"PV"},{"$f":"VLOOKUP(C4690,Referencias!$C$4:$E$21,3,FALSE())","v":3},"Competición","Vasca"]
["4881199","Jado Mazas, María Ángeles","3C","D",{"$f":"VLOOKUP(C4691,Referencias!$C$4:$D$21,2,FALSE())","v":"Tercera Corazón"},{"$f":"VLOOKUP(I4691,Referencias!$B$24:$C$41,2,FALSE())","v":"PV"},{"$f":"VLOOKUP(C4691,Referencias!$C$4:$E$21,3,FALSE())","v":3},"Competición","Vasca"]
["4881200","Serna Cuevas, María Sol","3P","D",{"$f":"VLOOKUP(C4692,Referencias!$C$4:$D$21,2,FALSE())","v":"Tercera Picas"},{"$f":"VLOOKUP(I4692,Referencias!$B$24:$C$41,2,FALSE())","v":"PV"},{"$f":"VLOOKUP(C4692,Referencias!$C$4:$E$21,3,FALSE())","v":3},"Competición","Vasca"]
["4881201","Telleria Altuna, Amaya","3D","D",{"$f":"VLOOKUP(C4693,Referencias!$C$4:$D$21,2,FALSE())","v":"Tercera Diamante"},{"$f":"VLOOKUP(I4693,Referencias!$B$24:$C$41,2,FALSE())","v":"PV"},{"$f":"VLOOKUP(C4693,Referencias!$C$4:$E$21,3,FALSE())","v":3},"Competición","Vasca"]
["4881203","Elguezabal, Begoña","3P","D",{"$f":"VLOOKUP(C4694,Referencias!$C$4:$D$21,2,FALSE())","v":"Tercera Picas"},{"$f":"VLOOKUP(I4694,Referencias!$B$24:$C$41,2,FALSE())","v":"PV"},{"$f":"VLOOKUP(C4694,Referencias!$C$4:$E$21,3,FALSE())","v":3},"Competición","Vasca"]
["4881204","Aldazabal García, Pilar","3C","D",{"$f":"VLOOKUP(C4695,Referencias!$C$4:$D$21,2,FALSE())","v":"Tercera Corazón"},{"$f":"VLOOKUP(I4695,Referencias!$B$24:$C$41,2,FALSE())","v":"PV"},{"$f":"VLOOKUP(C4695,Referencias!$C$4:$E$21,3,FALSE())","v":3},"Competición","Vasca"]
["4881211","Basterra Gallano, Pepa","3D","D",{"$f":"VLOOKUP(C4696,Referencias!$C$4:$D$21,2,FALSE())","v":"Tercera Diamante"},{"$f":"VLOOKUP(I4696,Referencias!$B$24:$C$41,2,FALSE())","v":"PV"},{"$f":"VLOOKUP(C4696,Referencias!$C$4:$E$21,3,FALSE())","v":3},"Competición","Vasca"]
["4881212","Eguzquiaguirre, Lori","2D","D",{"$f":"VLOOKUP(C4697,Referencias!$C$4:$D$21,2,FALSE())","v":"Segunda Diamante"},{"$f":"VLOOKUP(I4697,Referencias!$B$24:$C$41,2,FALSE())","v":"PV"},{"$f":"VLOOKUP(C4697,Referencias!$C$4:$E$21,3,FALSE())","v":2},"Competición","Vasca"]
["4881218","de Diego Zuazo, Mabe","3D","C",{"$f":"VLOOKUP(C4698,Referencias!$C$4:$D$21,2,FALSE())","v":"Tercera Diamante"},{"$f":"VLOOKUP(I4698,Referencias!$B$24:$C$41,2,FALSE())","v":"PV"},{"$f":"VLOOKUP(C4698,Referencias!$C$4:$E$21,3,FALSE())","v":3},"Competición","Vasca"]
["4881219","Gorostiza, Carmen","3D","D",{"$f":"VLOOKUP(C4699,Referencias!$C$4:$D$21,2,FALSE())","v":"Tercera Diamante"},{"$f":"VLOOKUP(I4699,Referencias!$B$24:$C$41,2,FALSE())","v":"PV"},{"$f":"VLOOKUP(C4699,Referencias!$C$4:$E$21,3,FALSE())","v":3},"Competición","Vasca"]
["4881223","Hurtado de Saracho, María","3D","D",{"$f":"VLOOKUP(C4700,Referencias!$C$4:$D$21,2,FALSE())","v":"Tercera Diamante"},{"$f":"VLOOKUP(I4700,Referencias!$B$24:$C$41,2,FALSE())","v":"PV"},{"$f":"VLOOKUP(C4700,Referencias!$C$4:$E$21,3,FALSE())","v":3},"Competición","Vasca"]
["4881224","Echevarría de Rada, Maria","3D","D",{"$f":"VLOOKUP(C4701,Referencias!$C$4:$D$21,2,FALSE())","v":"Tercera Diamante"},{"$f":"VLOOKUP(I4701,Referencias!$B$24:$C$41,2,FALSE())","v":"PV"},{"$f":"VLOOKUP(C4701,Referencias!$C$4:$E$21,3,FALSE())","v":3},"Competición","Vasca"]
["4881233","Santiago Ortúzar, Concepción","2D","D",{"$f":"VLOOKUP(C4702,Referencias!$C$4:$D$21,2,FALSE())","v":"Segunda Diamante"},{"$f":"VLOOKUP(I4702,Referencias!$B$24:$C$41,2,FALSE())","v":"PV"},{"$f":"VLOOKUP(C4702,Referencias!$C$4:$E$21,3,FALSE())","v":2},"Competición","Vasca"]
["4881235","Gaytan de Ayala, Alejandro","2P","C",{"$f":"VLOOKUP(C4703,Referencias!$C$4:$D$21,2,FALSE())","v":"Segunda Picas"},{"$f":"VLOOKUP(I4703,Referencias!$B$24:$C$41,2,FALSE())","v":"PV"},{"$f":"VLOOKUP(C4703,Referencias!$C$4:$E$21,3,FALSE())","v":2},"Competición","Vasca"]
["4881236","Martínez Martínez, Pilar","3C","D",{"$f":"VLOOKUP(C4704,Referencias!$C$4:$D$21,2,FALSE())","v":"Tercera Corazón"},{"$f":"VLOOKUP(I4704,Referencias!$B$24:$C$41,2,FALSE())","v":"PV"},{"$f":"VLOOKUP(C4704,Referencias!$C$4:$E$21,3,FALSE())","v":3},"Competición","Vasca"]
["4881237","Regalado Marichalar, Francisco","3C","C",{"$f":"VLOOKUP(C4705,Referencias!$C$4:$D$21,2,FALSE())","v":"Tercera Corazón"},{"$f":"VLOOKUP(I4705,Referencias!$B$24:$C$41,2,FALSE())","v":"PV"},{"$f":"VLOOKUP(C4705,Referencias!$C$4:$E$21,3,FALSE())","v":3},"Competición","Vasca"]
["4881238","Carranza Irusta, María Jesús","3P","D",{"$f":"VLOOKUP(C4706,Referencias!$C$4:$D$21,2,FALSE())","v":"Tercera Picas"},{"$f":"VLOOKUP(I4706,Referencias!$B$24:$C$41,2,FALSE())","v":"PV"},{"$f":"VLOOKUP(C4706,Referencias!$C$4:$E$21,3,FALSE())","v":3},"Competición","Vasca"]
["4881240","Cadarso Manzanares, María","2D","D",{"$f":"VLOOKUP(C4707,Referencias!$C$4:$D$21,2,FALSE())","v":"Segunda Diamante"},{"$f":"VLOOKUP(I4707,Referencias!$B$24:$C$41,2,FALSE())","v":"PV"},{"$f":"VLOOKUP(C4707,Referencias!$C$4:$E$21,3,FALSE())","v":2},"Competición","Vasca"]
["4881251","Salazar, Mercedes","3C","D",{"$f":"VLOOKUP(C4708,Referencias!$C$4:$D$21,2,FALSE())","v":"Tercera Corazón"},{"$f":"VLOOKUP(I4708,Referencias!$B$24:$C$41,2,FALSE())","v":"PV"},{"$f":"VLOOKUP(C4708,Referencias!$C$4:$E$21,3,FALSE())","v":3},"Competición","Vasca"]
["4881252","Salazar, Marta","2D","D",{"$f":"VLOOKUP(C4709,Referencias!$C$4:$D$21,2,FALSE())","v":"Segunda Diamante"},{"$f":"VLOOKUP(I4709,Referencias!$B$24:$C$41,2,FALSE())","v":"PV"},{"$f":"VLOOKUP(C4709,Referencias!$C$4:$E$21,3,FALSE())","v":2},"Competición","Vasca"]
["4881256","Fabregas, Ana","3D","D",{"$f":"VLOOKUP(C4710,Referencias!$C$4:$D$21,2,FALSE())","v":"Tercera Diamante"},{"$f":"VLOOKUP(I4710,Referencias!$B$24:$C$41,2,FALSE())","v":"PV"},{"$f":"VLOOKUP(C4710,Referencias!$C$4:$E$21,3,FALSE())","v":3},"Competición","Vasca"]
["4881260","Arbaiza, Lourdes","3D","D",{"$f":"VLOOKUP(C4711,Referencias!$C$4:$D$21,2,FALSE())","v":"Tercera Diamante"},{"$f":"VLOOKUP(I4711,Referencias!$B$24:$C$41,2,FALSE())","v":"PV"},{"$f":"VLOOKUP(C4711,Referencias!$C$4:$E$21,3,FALSE())","v":3},"Competición","Vasca"]
["4881263","López Gónzalez, Dolores","3C","D",{"$f":"VLOOKUP(C4712,Referencias!$C$4:$D$21,2,FALSE())","v":"Tercera Corazón"},{"$f":"VLOOKUP(I4712,Referencias!$B$24:$C$41,2,FALSE())","v":"PV"},{"$f":"VLOOKUP(C4712,Referencias!$C$4:$E$21,3,FALSE())","v":3},"Competición","Vasca"]
["4881267","Trevijano Arístegui, María Jesús","3D","D",{"$f":"VLOOKUP(C4713,Referencias!$C$4:$D$21,2,FALSE())","v":"Tercera Diamante"},{"$f":"VLOOKUP(I4713,Referencias!$B$24:$C$41,2,FALSE())","v":"PV"},{"$f":"VLOOKUP(C4713,Referencias!$C$4:$E$21,3,FALSE())","v":3},"Competición","Vasca"]
["4881268","García Zalbidea, María Luisa","3P","D",{"$f":"VLOOKUP(C4714,Referencias!$C$4:$D$21,2,FALSE())","v":"Tercera Picas"},{"$f":"VLOOKUP(I4714,Referencias!$B$24:$C$41,2,FALSE())","v":"PV"},{"$f":"VLOOKUP(C4714,Referencias!$C$4:$E$21,3,FALSE())","v":3},"Competición","Vasca"]
["4881269","Estella Escudero, Enrique","3D","C",{"$f":"VLOOKUP(C4715,Referencias!$C$4:$D$21,2,FALSE())","v":"Tercera Diamante"},{"$f":"VLOOKUP(I4715,Referencias!$B$24:$C$41,2,FALSE())","v":"PV"},{"$f":"VLOOKUP(C4715,Referencias!$C$4:$E$21,3,FALSE())","v":3},"Competición","Vasca"]
["4881272","Uruñuela del Rio, Cristina","3D","D",{"$f":"VLOOKUP(C4716,Referencias!$C$4:$D$21,2,FALSE())","v":"Tercera Diamante"},{"$f":"VLOOKUP(I4716,Referencias!$B$24:$C$41,2,FALSE())","v":"PV"},{"$f":"VLOOKUP(C4716,Referencias!$C$4:$E$21,3,FALSE())","v":3},"Competición","Vasca"]
["4881273","Landin, Teresa","3D","D",{"$f":"VLOOKUP(C4717,Referencias!$C$4:$D$21,2,FALSE())","v":"Tercera Diamante"},{"$f":"VLOOKUP(I4717,Referencias!$B$24:$C$41,2,FALSE())","v":"PV"},{"$f":"VLOOKUP(C4717,Referencias!$C$4:$E$21,3,FALSE())","v":3},"Competición","Vasca"]
["4881274","Franks, Jeffrey Roy","3P","C",{"$f":"VLOOKUP(C4718,Referencias!$C$4:$D$21,2,FALSE())","v":"Tercera Picas"},{"$f":"VLOOKUP(I4718,Referencias!$B$24:$C$41,2,FALSE())","v":"PV"},{"$f":"VLOOKUP(C4718,Referencias!$C$4:$E$21,3,FALSE())","v":3},"Competición","Vasca"]
["4881283","Oliva Albalate, María","3D","D",{"$f":"VLOOKUP(C4719,Referencias!$C$4:$D$21,2,FALSE())","v":"Tercera Diamante"},{"$f":"VLOOKUP(I4719,Referencias!$B$24:$C$41,2,FALSE())","v":"PV"},{"$f":"VLOOKUP(C4719,Referencias!$C$4:$E$21,3,FALSE())","v":3},"Competición","Vasca"]
["4881284","Urra Zalvidegoitia, Teresa","3D","D",{"$f":"VLOOKUP(C4720,Referencias!$C$4:$D$21,2,FALSE())","v":"Tercera Diamante"},{"$f":"VLOOKUP(I4720,Referencias!$B$24:$C$41,2,FALSE())","v":"PV"},{"$f":"VLOOKUP(C4720,Referencias!$C$4:$E$21,3,FALSE())","v":3},"Competición","Vasca"]
["4881285","Lejarreta San Miguel, Pilar","3D","D",{"$f":"VLOOKUP(C4721,Referencias!$C$4:$D$21,2,FALSE())","v":"Tercera Diamante"},{"$f":"VLOOKUP(I4721,Referencias!$B$24:$C$41,2,FALSE())","v":"PV"},{"$f":"VLOOKUP(C4721,Referencias!$C$4:$E$21,3,FALSE())","v":3},"Competición","Vasca"]
["4881286","Ugarte Balles, María","3D","C",{"$f":"VLOOKUP(C4722,Referencias!$C$4:$D$21,2,FALSE())","v":"Tercera Diamante"},{"$f":"VLOOKUP(I4722,Referencias!$B$24:$C$41,2,FALSE())","v":"PV"},{"$f":"VLOOKUP(C4722,Referencias!$C$4:$E$21,3,FALSE())","v":3},"Competición","Vasca"]
["4881287","Labrador Fernández, Elsa","3D","D",{"$f":"VLOOKUP(C4723,Referencias!$C$4:$D$21,2,FALSE())","v":"Tercera Diamante"},{"$f":"VLOOKUP(I4723,Referencias!$B$24:$C$41,2,FALSE())","v":"PV"},{"$f":"VLOOKUP(C4723,Referencias!$C$4:$E$21,3,FALSE())","v":3},"Competición","Vasca"]
["4883601","Landabaso Vergara, Nieves","1D","D",{"$f":"VLOOKUP(C4724,Referencias!$C$4:$D$21,2,FALSE())","v":"Primera Diamante"},{"$f":"VLOOKUP(I4724,Referencias!$B$24:$C$41,2,FALSE())","v":"PV"},{"$f":"VLOOKUP(C4724,Referencias!$C$4:$E$21,3,FALSE())","v":1},"Competición","Vasca"]
["4883624","Velasco de Hurtado de Mendoza, M. Gabriela","2C","D",{"$f":"VLOOKUP(C4725,Referencias!$C$4:$D$21,2,FALSE())","v":"Segunda Corazón"},{"$f":"VLOOKUP(I4725,Referencias!$B$24:$C$41,2,FALSE())","v":"PV"},{"$f":"VLOOKUP(C4725,Referencias!$C$4:$E$21,3,FALSE())","v":2},"Competición","Vasca"]
["4883630","Couceiro, María Paz","2C","D",{"$f":"VLOOKUP(C4726,Referencias!$C$4:$D$21,2,FALSE())","v":"Segunda Corazón"},{"$f":"VLOOKUP(I4726,Referencias!$B$24:$C$41,2,FALSE())","v":"PV"},{"$f":"VLOOKUP(C4726,Referencias!$C$4:$E$21,3,FALSE())","v":2},"Competición","Vasca"]
["4883641","de Collell, Mercedes","3D","D",{"$f":"VLOOKUP(C4727,Referencias!$C$4:$D$21,2,FALSE())","v":"Tercera Diamante"},{"$f":"VLOOKUP(I4727,Referencias!$B$24:$C$41,2,FALSE())","v":"PV"},{"$f":"VLOOKUP(C4727,Referencias!$C$4:$E$21,3,FALSE())","v":3},"Competición","Vasca"]
["4883650","Maeso de Acillona, Esther","3P","D",{"$f":"VLOOKUP(C4728,Referencias!$C$4:$D$21,2,FALSE())","v":"Tercera Picas"},{"$f":"VLOOKUP(I4728,Referencias!$B$24:$C$41,2,FALSE())","v":"PV"},{"$f":"VLOOKUP(C4728,Referencias!$C$4:$E$21,3,FALSE())","v":3},"Competición","Vasca"]
["4883661","Fincias, Patrice","1P","C",{"$f":"VLOOKUP(C4729,Referencias!$C$4:$D$21,2,FALSE())","v":"Primera Picas"},{"$f":"VLOOKUP(I4729,Referencias!$B$24:$C$41,2,FALSE())","v":"PV"},{"$f":"VLOOKUP(C4729,Referencias!$C$4:$E$21,3,FALSE())","v":1},"Competición","Vasca"]
["4883679","Navea, Carmen","2D","D",{"$f":"VLOOKUP(C4730,Referencias!$C$4:$D$21,2,FALSE())","v":"Segunda Diamante"},{"$f":"VLOOKUP(I4730,Referencias!$B$24:$C$41,2,FALSE())","v":"PV"},{"$f":"VLOOKUP(C4730,Referencias!$C$4:$E$21,3,FALSE())","v":2},"Competición","Vasca"]
["4883680","Abrisketa González, María Ángeles","2C","D",{"$f":"VLOOKUP(C4731,Referencias!$C$4:$D$21,2,FALSE())","v":"Segunda Corazón"},{"$f":"VLOOKUP(I4731,Referencias!$B$24:$C$41,2,FALSE())","v":"PV"},{"$f":"VLOOKUP(C4731,Referencias!$C$4:$E$21,3,FALSE())","v":2},"Competición","Vasca"]
["4883682","Zarauz Elguezabal, Francisco Javier","2D","C",{"$f":"VLOOKUP(C4732,Referencias!$C$4:$D$21,2,FALSE())","v":"Segunda Diamante"},{"$f":"VLOOKUP(I4732,Referencias!$B$24:$C$41,2,FALSE())","v":"PV"},{"$f":"VLOOKUP(C4732,Referencias!$C$4:$E$21,3,FALSE())","v":2},"Competición","Vasca"]
["4883683","Saralegui de Zarauz, M. Covadonga","2C","D",{"$f":"VLOOKUP(C4733,Referencias!$C$4:$D$21,2,FALSE())","v":"Segunda Corazón"},{"$f":"VLOOKUP(I4733,Referencias!$B$24:$C$41,2,FALSE())","v":"PV"},{"$f":"VLOOKUP(C4733,Referencias!$C$4:$E$21,3,FALSE())","v":2},"Competición","Vasca"]
["4883698","Besga, José Angel","3D","C",{"$f":"VLOOKUP(C4734,Referencias!$C$4:$D$21,2,FALSE())","v":"Tercera Diamante"},{"$f":"VLOOKUP(I4734,Referencias!$B$24:$C$41,2,FALSE())","v":"PV"},{"$f":"VLOOKUP(C4734,Referencias!$C$4:$E$21,3,FALSE())","v":3},"Competición","Vasca"]
["4883705","Moreno Rojo, Severiano","1C","C",{"$f":"VLOOKUP(C4735,Referencias!$C$4:$D$21,2,FALSE())","v":"Primera Corazón"},{"$f":"VLOOKUP(I4735,Referencias!$B$24:$C$41,2,FALSE())","v":"PV"},{"$f":"VLOOKUP(C4735,Referencias!$C$4:$E$21,3,FALSE())","v":1},"Competición","Vasca"]
["4883723","Castilla Díez, Ana","3P","D",{"$f":"VLOOKUP(C4736,Referencias!$C$4:$D$21,2,FALSE())","v":"Tercera Picas"},{"$f":"VLOOKUP(I4736,Referencias!$B$24:$C$41,2,FALSE())","v":"PV"},{"$f":"VLOOKUP(C4736,Referencias!$C$4:$E$21,3,FALSE())","v":3},"Competición","Vasca"]
["4883726","Vasquez de Wencelblat, Gladys","2D","D",{"$f":"VLOOKUP(C4737,Referencias!$C$4:$D$21,2,FALSE())","v":"Segunda Diamante"},{"$f":"VLOOKUP(I4737,Referencias!$B$24:$C$41,2,FALSE())","v":"PV"},{"$f":"VLOOKUP(C4737,Referencias!$C$4:$E$21,3,FALSE())","v":2},"Competición","Vasca"]
["4883732","Borao de la Fuente, Adela","3P","D",{"$f":"VLOOKUP(C4738,Referencias!$C$4:$D$21,2,FALSE())","v":"Tercera Picas"},{"$f":"VLOOKUP(I4738,Referencias!$B$24:$C$41,2,FALSE())","v":"PV"},{"$f":"VLOOKUP(C4738,Referencias!$C$4:$E$21,3,FALSE())","v":3},"Competición","Vasca"]
["4883733","Etxebarría Mezo, Arantxa","3P","D",{"$f":"VLOOKUP(C4739,Referencias!$C$4:$D$21,2,FALSE())","v":"Tercera Picas"},{"$f":"VLOOKUP(I4739,Referencias!$B$24:$C$41,2,FALSE())","v":"PV"},{"$f":"VLOOKUP(C4739,Referencias!$C$4:$E$21,3,FALSE())","v":3},"Competición","Vasca"]
["4883740","Ruiz de Velasco, Mónica","3C","D",{"$f":"VLOOKUP(C4740,Referencias!$C$4:$D$21,2,FALSE())","v":"Tercera Corazón"},{"$f":"VLOOKUP(I4740,Referencias!$B$24:$C$41,2,FALSE())","v":"PV"},{"$f":"VLOOKUP(C4740,Referencias!$C$4:$E$21,3,FALSE())","v":3},"Competición","Vasca"]
["4883759","Ledo Pozueta, Isabel","3D","D",{"$f":"VLOOKUP(C4741,Referencias!$C$4:$D$21,2,FALSE())","v":"Tercera Diamante"},{"$f":"VLOOKUP(I4741,Referencias!$B$24:$C$41,2,FALSE())","v":"PV"},{"$f":"VLOOKUP(C4741,Referencias!$C$4:$E$21,3,FALSE())","v":3},"Competición","Vasca"]
["4883760","Ros Eguia, Begoña","3D","D",{"$f":"VLOOKUP(C4742,Referencias!$C$4:$D$21,2,FALSE())","v":"Tercera Diamante"},{"$f":"VLOOKUP(I4742,Referencias!$B$24:$C$41,2,FALSE())","v":"PV"},{"$f":"VLOOKUP(C4742,Referencias!$C$4:$E$21,3,FALSE())","v":3},"Competición","Vasca"]
["4883761","Uriarte Martínez, Inmaculada","3D","D",{"$f":"VLOOKUP(C4743,Referencias!$C$4:$D$21,2,FALSE())","v":"Tercera Diamante"},{"$f":"VLOOKUP(I4743,Referencias!$B$24:$C$41,2,FALSE())","v":"PV"},{"$f":"VLOOKUP(C4743,Referencias!$C$4:$E$21,3,FALSE())","v":3},"Competición","Vasca"]
["5002007","Lope Dieste, Rosa","3P","D",{"$f":"VLOOKUP(C4744,Referencias!$C$4:$D$21,2,FALSE())","v":"Tercera Picas"},{"$f":"VLOOKUP(I4744,Referencias!$B$24:$C$41,2,FALSE())","v":"ARA"},{"$f":"VLOOKUP(C4744,Referencias!$C$4:$E$21,3,FALSE())","v":3},"Competición","Aragonesa"]
["5002016","Bellota Gallardo, María Rosario","3C","D",{"$f":"VLOOKUP(C4745,Referencias!$C$4:$D$21,2,FALSE())","v":"Tercera Corazón"},{"$f":"VLOOKUP(I4745,Referencias!$B$24:$C$41,2,FALSE())","v":"ARA"},{"$f":"VLOOKUP(C4745,Referencias!$C$4:$E$21,3,FALSE())","v":3},"Competición","Aragonesa"]
["5002052","Hernández Herrera, Rosa","3C","D",{"$f":"VLOOKUP(C4746,Referencias!$C$4:$D$21,2,FALSE())","v":"Tercera Corazón"},{"$f":"VLOOKUP(I4746,Referencias!$B$24:$C$41,2,FALSE())","v":"ARA"},{"$f":"VLOOKUP(C4746,Referencias!$C$4:$E$21,3,FALSE())","v":3},"Competición","Aragonesa"]
["5002053","Lete del Río, María Dolores","3D","D",{"$f":"VLOOKUP(C4747,Referencias!$C$4:$D$21,2,FALSE())","v":"Tercera Diamante"},{"$f":"VLOOKUP(I4747,Referencias!$B$24:$C$41,2,FALSE())","v":"ARA"},{"$f":"VLOOKUP(C4747,Referencias!$C$4:$E$21,3,FALSE())","v":3},"Competición","Aragonesa"]
["5002054","Embid Marco, María Teresa","3D","D",{"$f":"VLOOKUP(C4748,Referencias!$C$4:$D$21,2,FALSE())","v":"Tercera Diamante"},{"$f":"VLOOKUP(I4748,Referencias!$B$24:$C$41,2,FALSE())","v":"ARA"},{"$f":"VLOOKUP(C4748,Referencias!$C$4:$E$21,3,FALSE())","v":3},"Competición","Aragonesa"]
["5002061","Morales Hernández, María Luisa","3C","D",{"$f":"VLOOKUP(C4749,Referencias!$C$4:$D$21,2,FALSE())","v":"Tercera Corazón"},{"$f":"VLOOKUP(I4749,Referencias!$B$24:$C$41,2,FALSE())","v":"ARA"},{"$f":"VLOOKUP(C4749,Referencias!$C$4:$E$21,3,FALSE())","v":3},"Competición","Aragonesa"]
["5002062","Olivan Moliner, María Elena","3P","D",{"$f":"VLOOKUP(C4750,Referencias!$C$4:$D$21,2,FALSE())","v":"Tercera Picas"},{"$f":"VLOOKUP(I4750,Referencias!$B$24:$C$41,2,FALSE())","v":"ARA"},{"$f":"VLOOKUP(C4750,Referencias!$C$4:$E$21,3,FALSE())","v":3},"Competición","Aragonesa"]
["5002071","Gómez Prado, María del Carmen","3P","D",{"$f":"VLOOKUP(C4751,Referencias!$C$4:$D$21,2,FALSE())","v":"Tercera Picas"},{"$f":"VLOOKUP(I4751,Referencias!$B$24:$C$41,2,FALSE())","v":"ARA"},{"$f":"VLOOKUP(C4751,Referencias!$C$4:$E$21,3,FALSE())","v":3},"Competición","Aragonesa"]
["5002080","Irigoyen Jadraque, María Victoria","3D","D",{"$f":"VLOOKUP(C4752,Referencias!$C$4:$D$21,2,FALSE())","v":"Tercera Diamante"},{"$f":"VLOOKUP(I4752,Referencias!$B$24:$C$41,2,FALSE())","v":"ARA"},{"$f":"VLOOKUP(C4752,Referencias!$C$4:$E$21,3,FALSE())","v":3},"Competición","Aragonesa"]
["5002093","de Blancafort, Baronesa","3C","D",{"$f":"VLOOKUP(C4753,Referencias!$C$4:$D$21,2,FALSE())","v":"Tercera Corazón"},{"$f":"VLOOKUP(I4753,Referencias!$B$24:$C$41,2,FALSE())","v":"ARA"},{"$f":"VLOOKUP(C4753,Referencias!$C$4:$E$21,3,FALSE())","v":3},"Competición","Aragonesa"]
["5002095","Mir Borraz, María Elena","3D","D",{"$f":"VLOOKUP(C4754,Referencias!$C$4:$D$21,2,FALSE())","v":"Tercera Diamante"},{"$f":"VLOOKUP(I4754,Referencias!$B$24:$C$41,2,FALSE())","v":"ARA"},{"$f":"VLOOKUP(C4754,Referencias!$C$4:$E$21,3,FALSE())","v":3},"Competición","Aragonesa"]
["5002096","Goyanes Carnicer, Ana","3D","D",{"$f":"VLOOKUP(C4755,Referencias!$C$4:$D$21,2,FALSE())","v":"Tercera Diamante"},{"$f":"VLOOKUP(I4755,Referencias!$B$24:$C$41,2,FALSE())","v":"ARA"},{"$f":"VLOOKUP(C4755,Referencias!$C$4:$E$21,3,FALSE())","v":3},"Competición","Aragonesa"]
["5002103","Gonzaléz Usón, María Pilar","1D","D",{"$f":"VLOOKUP(C4756,Referencias!$C$4:$D$21,2,FALSE())","v":"Primera Diamante"},{"$f":"VLOOKUP(I4756,Referencias!$B$24:$C$41,2,FALSE())","v":"ARA"},{"$f":"VLOOKUP(C4756,Referencias!$C$4:$E$21,3,FALSE())","v":1},"Competición","Aragonesa"]
["5002104","Jiménez Cauhe, José María","2C","C",{"$f":"VLOOKUP(C4757,Referencias!$C$4:$D$21,2,FALSE())","v":"Segunda Corazón"},{"$f":"VLOOKUP(I4757,Referencias!$B$24:$C$41,2,FALSE())","v":"ARA"},{"$f":"VLOOKUP(C4757,Referencias!$C$4:$E$21,3,FALSE())","v":2},"Competición","Aragonesa"]
["5002105","Burgos Pérez, Rosa María","2D","D",{"$f":"VLOOKUP(C4758,Referencias!$C$4:$D$21,2,FALSE())","v":"Segunda Diamante"},{"$f":"VLOOKUP(I4758,Referencias!$B$24:$C$41,2,FALSE())","v":"ARA"},{"$f":"VLOOKUP(C4758,Referencias!$C$4:$E$21,3,FALSE())","v":2},"Competición","Aragonesa"]
["5002106","Peirote Vallino, Jose Antonio","2C","C",{"$f":"VLOOKUP(C4759,Referencias!$C$4:$D$21,2,FALSE())","v":"Segunda Corazón"},{"$f":"VLOOKUP(I4759,Referencias!$B$24:$C$41,2,FALSE())","v":"ARA"},{"$f":"VLOOKUP(C4759,Referencias!$C$4:$E$21,3,FALSE())","v":2},"Competición","Aragonesa"]
["5002107","Cauhe Polo, María Victoria","1C","D",{"$f":"VLOOKUP(C4760,Referencias!$C$4:$D$21,2,FALSE())","v":"Primera Corazón"},{"$f":"VLOOKUP(I4760,Referencias!$B$24:$C$41,2,FALSE())","v":"ARA"},{"$f":"VLOOKUP(C4760,Referencias!$C$4:$E$21,3,FALSE())","v":1},"Competición","Aragonesa"]
["5002108","Valderrábano, José","3C","C",{"$f":"VLOOKUP(C4761,Referencias!$C$4:$D$21,2,FALSE())","v":"Tercera Corazón"},{"$f":"VLOOKUP(I4761,Referencias!$B$24:$C$41,2,FALSE())","v":"ARA"},{"$f":"VLOOKUP(C4761,Referencias!$C$4:$E$21,3,FALSE())","v":3},"Competición","Aragonesa"]
["5002109","Petersen, Mitte","3D","D",{"$f":"VLOOKUP(C4762,Referencias!$C$4:$D$21,2,FALSE())","v":"Tercera Diamante"},{"$f":"VLOOKUP(I4762,Referencias!$B$24:$C$41,2,FALSE())","v":"ARA"},{"$f":"VLOOKUP(C4762,Referencias!$C$4:$E$21,3,FALSE())","v":3},"Competición","Aragonesa"]
["5002110","Hernández Marco, Victoria","3C","D",{"$f":"VLOOKUP(C4763,Referencias!$C$4:$D$21,2,FALSE())","v":"Tercera Corazón"},{"$f":"VLOOKUP(I4763,Referencias!$B$24:$C$41,2,FALSE())","v":"ARA"},{"$f":"VLOOKUP(C4763,Referencias!$C$4:$E$21,3,FALSE())","v":3},"Competición","Aragonesa"]
["5002113","González Álvarez, María Teresa","3P","D",{"$f":"VLOOKUP(C4764,Referencias!$C$4:$D$21,2,FALSE())","v":"Tercera Picas"},{"$f":"VLOOKUP(I4764,Referencias!$B$24:$C$41,2,FALSE())","v":"ARA"},{"$f":"VLOOKUP(C4764,Referencias!$C$4:$E$21,3,FALSE())","v":3},"Competición","Aragonesa"]
["5002136","Rodríguez de Pérez, Elena","2C","D",{"$f":"VLOOKUP(C4765,Referencias!$C$4:$D$21,2,FALSE())","v":"Segunda Corazón"},{"$f":"VLOOKUP(I4765,Referencias!$B$24:$C$41,2,FALSE())","v":"ARA"},{"$f":"VLOOKUP(C4765,Referencias!$C$4:$E$21,3,FALSE())","v":2},"Competición","Aragonesa"]
["5002139","Sasot Peralta, Lola","3P","D",{"$f":"VLOOKUP(C4766,Referencias!$C$4:$D$21,2,FALSE())","v":"Tercera Picas"},{"$f":"VLOOKUP(I4766,Referencias!$B$24:$C$41,2,FALSE())","v":"ARA"},{"$f":"VLOOKUP(C4766,Referencias!$C$4:$E$21,3,FALSE())","v":3},"Competición","Aragonesa"]
["5002140","Fernández de Pierola, Enriqueta","2D","D",{"$f":"VLOOKUP(C4767,Referencias!$C$4:$D$21,2,FALSE())","v":"Segunda Diamante"},{"$f":"VLOOKUP(I4767,Referencias!$B$24:$C$41,2,FALSE())","v":"ARA"},{"$f":"VLOOKUP(C4767,Referencias!$C$4:$E$21,3,FALSE())","v":2},"Competición","Aragonesa"]
["5002176","Chappell, Mark","1P","C",{"$f":"VLOOKUP(C4768,Referencias!$C$4:$D$21,2,FALSE())","v":"Primera Picas"},{"$f":"VLOOKUP(I4768,Referencias!$B$24:$C$41,2,FALSE())","v":"P.AST"},{"$f":"VLOOKUP(C4768,Referencias!$C$4:$E$21,3,FALSE())","v":1},"Competición","Asturiana"]
["5002212","García-Hegardt de Lain, M. Pilar","3C","D",{"$f":"VLOOKUP(C4769,Referencias!$C$4:$D$21,2,FALSE())","v":"Tercera Corazón"},{"$f":"VLOOKUP(I4769,Referencias!$B$24:$C$41,2,FALSE())","v":"ARA"},{"$f":"VLOOKUP(C4769,Referencias!$C$4:$E$21,3,FALSE())","v":3},"Competición","Aragonesa"]
["5002222","Díaz de Argandoña, Fernando Luis","2P","C",{"$f":"VLOOKUP(C4770,Referencias!$C$4:$D$21,2,FALSE())","v":"Segunda Picas"},{"$f":"VLOOKUP(I4770,Referencias!$B$24:$C$41,2,FALSE())","v":"ARA"},{"$f":"VLOOKUP(C4770,Referencias!$C$4:$E$21,3,FALSE())","v":2},"Competición","Aragonesa"]
["5002223","Veciana Rión, María","2P","D",{"$f":"VLOOKUP(C4771,Referencias!$C$4:$D$21,2,FALSE())","v":"Segunda Picas"},{"$f":"VLOOKUP(I4771,Referencias!$B$24:$C$41,2,FALSE())","v":"ARA"},{"$f":"VLOOKUP(C4771,Referencias!$C$4:$E$21,3,FALSE())","v":2},"Competición","Aragonesa"]
["5002228","Sau Llanas, María Carmen","3D","D",{"$f":"VLOOKUP(C4772,Referencias!$C$4:$D$21,2,FALSE())","v":"Tercera Diamante"},{"$f":"VLOOKUP(I4772,Referencias!$B$24:$C$41,2,FALSE())","v":"ARA"},{"$f":"VLOOKUP(C4772,Referencias!$C$4:$E$21,3,FALSE())","v":3},"Competición","Aragonesa"]
["5002231","Lausin Miguel, María  Rosa","3C","D",{"$f":"VLOOKUP(C4773,Referencias!$C$4:$D$21,2,FALSE())","v":"Tercera Corazón"},{"$f":"VLOOKUP(I4773,Referencias!$B$24:$C$41,2,FALSE())","v":"ARA"},{"$f":"VLOOKUP(C4773,Referencias!$C$4:$E$21,3,FALSE())","v":3},"Competición","Aragonesa"]
["5002232","Boix Pau, Gerardo","3P","C",{"$f":"VLOOKUP(C4774,Referencias!$C$4:$D$21,2,FALSE())","v":"Tercera Picas"},{"$f":"VLOOKUP(I4774,Referencias!$B$24:$C$41,2,FALSE())","v":"ARA"},{"$f":"VLOOKUP(C4774,Referencias!$C$4:$E$21,3,FALSE())","v":3},"Competición","Aragonesa"]
["5002233","Tejero Arbues, Cristina","3C","D",{"$f":"VLOOKUP(C4775,Referencias!$C$4:$D$21,2,FALSE())","v":"Tercera Corazón"},{"$f":"VLOOKUP(I4775,Referencias!$B$24:$C$41,2,FALSE())","v":"ARA"},{"$f":"VLOOKUP(C4775,Referencias!$C$4:$E$21,3,FALSE())","v":3},"Competición","Aragonesa"]
["5002234","Bailo Carrascón, María Elena","3D","D",{"$f":"VLOOKUP(C4776,Referencias!$C$4:$D$21,2,FALSE())","v":"Tercera Diamante"},{"$f":"VLOOKUP(I4776,Referencias!$B$24:$C$41,2,FALSE())","v":"ARA"},{"$f":"VLOOKUP(C4776,Referencias!$C$4:$E$21,3,FALSE())","v":3},"Competición","Aragonesa"]
["5002237","Gutierrez Laguna, María Jesús","3C","D",{"$f":"VLOOKUP(C4777,Referencias!$C$4:$D$21,2,FALSE())","v":"Tercera Corazón"},{"$f":"VLOOKUP(I4777,Referencias!$B$24:$C$41,2,FALSE())","v":"ARA"},{"$f":"VLOOKUP(C4777,Referencias!$C$4:$E$21,3,FALSE())","v":3},"Competición","Aragonesa"]
["5002238","Valenzuela García de Polavieja, Concepción","3P","D",{"$f":"VLOOKUP(C4778,Referencias!$C$4:$D$21,2,FALSE())","v":"Tercera Picas"},{"$f":"VLOOKUP(I4778,Referencias!$B$24:$C$41,2,FALSE())","v":"ARA"},{"$f":"VLOOKUP(C4778,Referencias!$C$4:$E$21,3,FALSE())","v":3},"Competición","Aragonesa"]
["5002239","Cubero Espún, María Pilar","3D","D",{"$f":"VLOOKUP(C4779,Referencias!$C$4:$D$21,2,FALSE())","v":"Tercera Diamante"},{"$f":"VLOOKUP(I4779,Referencias!$B$24:$C$41,2,FALSE())","v":"ARA"},{"$f":"VLOOKUP(C4779,Referencias!$C$4:$E$21,3,FALSE())","v":3},"Competición","Aragonesa"]
["5002240","De Luis Carnicer, María Pilar","3D","D",{"$f":"VLOOKUP(C4780,Referencias!$C$4:$D$21,2,FALSE())","v":"Tercera Diamante"},{"$f":"VLOOKUP(I4780,Referencias!$B$24:$C$41,2,FALSE())","v":"ARA"},{"$f":"VLOOKUP(C4780,Referencias!$C$4:$E$21,3,FALSE())","v":3},"Competición","Aragonesa"]
["5002241","Ramírez Ponce, Concepción","3D","D",{"$f":"VLOOKUP(C4781,Referencias!$C$4:$D$21,2,FALSE())","v":"Tercera Diamante"},{"$f":"VLOOKUP(I4781,Referencias!$B$24:$C$41,2,FALSE())","v":"ARA"},{"$f":"VLOOKUP(C4781,Referencias!$C$4:$E$21,3,FALSE())","v":3},"Competición","Aragonesa"]
["5002242","Gutiérrez de la Chica, Ramón","3D","C",{"$f":"VLOOKUP(C4782,Referencias!$C$4:$D$21,2,FALSE())","v":"Tercera Diamante"},{"$f":"VLOOKUP(I4782,Referencias!$B$24:$C$41,2,FALSE())","v":"ARA"},{"$f":"VLOOKUP(C4782,Referencias!$C$4:$E$21,3,FALSE())","v":3},"Competición","Aragonesa"]
["5002245","Abad Jaraute, Pablo","2C","C",{"$f":"VLOOKUP(C4783,Referencias!$C$4:$D$21,2,FALSE())","v":"Segunda Corazón"},{"$f":"VLOOKUP(I4783,Referencias!$B$24:$C$41,2,FALSE())","v":"ARA"},{"$f":"VLOOKUP(C4783,Referencias!$C$4:$E$21,3,FALSE())","v":2},"Competición","Aragonesa"]
["5002246","Sánchez Izquierdo , Isabel","2P","D",{"$f":"VLOOKUP(C4784,Referencias!$C$4:$D$21,2,FALSE())","v":"Segunda Picas"},{"$f":"VLOOKUP(I4784,Referencias!$B$24:$C$41,2,FALSE())","v":"ARA"},{"$f":"VLOOKUP(C4784,Referencias!$C$4:$E$21,3,FALSE())","v":2},"Competición","Aragonesa"]
["5002247","Sau LLanas, María Jesús","3C","D",{"$f":"VLOOKUP(C4785,Referencias!$C$4:$D$21,2,FALSE())","v":"Tercera Corazón"},{"$f":"VLOOKUP(I4785,Referencias!$B$24:$C$41,2,FALSE())","v":"ARA"},{"$f":"VLOOKUP(C4785,Referencias!$C$4:$E$21,3,FALSE())","v":3},"Competición","Aragonesa"]
["5002248","Pérez Lázaro, Ana","3P","D",{"$f":"VLOOKUP(C4786,Referencias!$C$4:$D$21,2,FALSE())","v":"Tercera Picas"},{"$f":"VLOOKUP(I4786,Referencias!$B$24:$C$41,2,FALSE())","v":"ARA"},{"$f":"VLOOKUP(C4786,Referencias!$C$4:$E$21,3,FALSE())","v":3},"Competición","Aragonesa"]
["5002249","Tuglaman Avat, Keti","3D","D",{"$f":"VLOOKUP(C4787,Referencias!$C$4:$D$21,2,FALSE())","v":"Tercera Diamante"},{"$f":"VLOOKUP(I4787,Referencias!$B$24:$C$41,2,FALSE())","v":"ARA"},{"$f":"VLOOKUP(C4787,Referencias!$C$4:$E$21,3,FALSE())","v":3},"Competición","Aragonesa"]
["5002250","Achkar Khoury, Fayez","3D","C",{"$f":"VLOOKUP(C4788,Referencias!$C$4:$D$21,2,FALSE())","v":"Tercera Diamante"},{"$f":"VLOOKUP(I4788,Referencias!$B$24:$C$41,2,FALSE())","v":"ARA"},{"$f":"VLOOKUP(C4788,Referencias!$C$4:$E$21,3,FALSE())","v":3},"Competición","Aragonesa"]
["5002252","Cebrián Martín, Isabel","3D","D",{"$f":"VLOOKUP(C4789,Referencias!$C$4:$D$21,2,FALSE())","v":"Tercera Diamante"},{"$f":"VLOOKUP(I4789,Referencias!$B$24:$C$41,2,FALSE())","v":"ARA"},{"$f":"VLOOKUP(C4789,Referencias!$C$4:$E$21,3,FALSE())","v":3},"Competición","Aragonesa"]
["5002253","Olmos SanJuan, José Luis","3P","C",{"$f":"VLOOKUP(C4790,Referencias!$C$4:$D$21,2,FALSE())","v":"Tercera Picas"},{"$f":"VLOOKUP(I4790,Referencias!$B$24:$C$41,2,FALSE())","v":"ARA"},{"$f":"VLOOKUP(C4790,Referencias!$C$4:$E$21,3,FALSE())","v":3},"Competición","Aragonesa"]
["5002254","Alonso Fernández-Revuelta, Rodrigo","3P","C",{"$f":"VLOOKUP(C4791,Referencias!$C$4:$D$21,2,FALSE())","v":"Tercera Picas"},{"$f":"VLOOKUP(I4791,Referencias!$B$24:$C$41,2,FALSE())","v":"ARA"},{"$f":"VLOOKUP(C4791,Referencias!$C$4:$E$21,3,FALSE())","v":3},"Competición","Aragonesa"]
["5002255","Santos Bergua, Mercedes","3D","D",{"$f":"VLOOKUP(C4792,Referencias!$C$4:$D$21,2,FALSE())","v":"Tercera Diamante"},{"$f":"VLOOKUP(I4792,Referencias!$B$24:$C$41,2,FALSE())","v":"ARA"},{"$f":"VLOOKUP(C4792,Referencias!$C$4:$E$21,3,FALSE())","v":3},"Competición","Aragonesa"]
["5002256","Torres Ramos, Nieves","3C","D",{"$f":"VLOOKUP(C4793,Referencias!$C$4:$D$21,2,FALSE())","v":"Tercera Corazón"},{"$f":"VLOOKUP(I4793,Referencias!$B$24:$C$41,2,FALSE())","v":"ARA"},{"$f":"VLOOKUP(C4793,Referencias!$C$4:$E$21,3,FALSE())","v":3},"Competición","Aragonesa"]
["5002257","Cepero Agudo, Julia","3C","D",{"$f":"VLOOKUP(C4794,Referencias!$C$4:$D$21,2,FALSE())","v":"Tercera Corazón"},{"$f":"VLOOKUP(I4794,Referencias!$B$24:$C$41,2,FALSE())","v":"ARA"},{"$f":"VLOOKUP(C4794,Referencias!$C$4:$E$21,3,FALSE())","v":3},"Competición","Aragonesa"]
["5002258","Serrano Gálvez, Javier","3P","C",{"$f":"VLOOKUP(C4795,Referencias!$C$4:$D$21,2,FALSE())","v":"Tercera Picas"},{"$f":"VLOOKUP(I4795,Referencias!$B$24:$C$41,2,FALSE())","v":"ARA"},{"$f":"VLOOKUP(C4795,Referencias!$C$4:$E$21,3,FALSE())","v":3},"Competición","Aragonesa"]
["5002259","Alonso Salas, Guillermo","3P","C",{"$f":"VLOOKUP(C4796,Referencias!$C$4:$D$21,2,FALSE())","v":"Tercera Picas"},{"$f":"VLOOKUP(I4796,Referencias!$B$24:$C$41,2,FALSE())","v":"ARA"},{"$f":"VLOOKUP(C4796,Referencias!$C$4:$E$21,3,FALSE())","v":3},"Competición","Aragonesa"]
["5002260","Díaz Sánchez, María Teresa","3C","D",{"$f":"VLOOKUP(C4797,Referencias!$C$4:$D$21,2,FALSE())","v":"Tercera Corazón"},{"$f":"VLOOKUP(I4797,Referencias!$B$24:$C$41,2,FALSE())","v":"ARA"},{"$f":"VLOOKUP(C4797,Referencias!$C$4:$E$21,3,FALSE())","v":3},"Competición","Aragonesa"]
["5002261","Cartagena Sánchez, Gloria","3D","D",{"$f":"VLOOKUP(C4798,Referencias!$C$4:$D$21,2,FALSE())","v":"Tercera Diamante"},{"$f":"VLOOKUP(I4798,Referencias!$B$24:$C$41,2,FALSE())","v":"ARA"},{"$f":"VLOOKUP(C4798,Referencias!$C$4:$E$21,3,FALSE())","v":3},"Competición","Aragonesa"]
["5002262","Gabari, Milagros","3C","D",{"$f":"VLOOKUP(C4799,Referencias!$C$4:$D$21,2,FALSE())","v":"Tercera Corazón"},{"$f":"VLOOKUP(I4799,Referencias!$B$24:$C$41,2,FALSE())","v":"ARA"},{"$f":"VLOOKUP(C4799,Referencias!$C$4:$E$21,3,FALSE())","v":3},"Competición","Aragonesa"]
["5002263","Soria Andreu , Francisca","3D","D",{"$f":"VLOOKUP(C4800,Referencias!$C$4:$D$21,2,FALSE())","v":"Tercera Diamante"},{"$f":"VLOOKUP(I4800,Referencias!$B$24:$C$41,2,FALSE())","v":"ARA"},{"$f":"VLOOKUP(C4800,Referencias!$C$4:$E$21,3,FALSE())","v":3},"Competición","Aragonesa"]
["5002264","Guallart Moreno, Rafael","3C","C",{"$f":"VLOOKUP(C4801,Referencias!$C$4:$D$21,2,FALSE())","v":"Tercera Corazón"},{"$f":"VLOOKUP(I4801,Referencias!$B$24:$C$41,2,FALSE())","v":"ARA"},{"$f":"VLOOKUP(C4801,Referencias!$C$4:$E$21,3,FALSE())","v":3},"Competición","Aragonesa"]
["5002265","Urbez Fando, Concepción","3D","D",{"$f":"VLOOKUP(C4802,Referencias!$C$4:$D$21,2,FALSE())","v":"Tercera Diamante"},{"$f":"VLOOKUP(I4802,Referencias!$B$24:$C$41,2,FALSE())","v":"ARA"},{"$f":"VLOOKUP(C4802,Referencias!$C$4:$E$21,3,FALSE())","v":3},"Competición","Aragonesa"]
["5002266","Irurita Pablos, María Luisa","3C","D",{"$f":"VLOOKUP(C4803,Referencias!$C$4:$D$21,2,FALSE())","v":"Tercera Corazón"},{"$f":"VLOOKUP(I4803,Referencias!$B$24:$C$41,2,FALSE())","v":"ARA"},{"$f":"VLOOKUP(C4803,Referencias!$C$4:$E$21,3,FALSE())","v":3},"Competición","Aragonesa"]
["5002267","Serrano Mata, Pilar","3D","D",{"$f":"VLOOKUP(C4804,Referencias!$C$4:$D$21,2,FALSE())","v":"Tercera Diamante"},{"$f":"VLOOKUP(I4804,Referencias!$B$24:$C$41,2,FALSE())","v":"ARA"},{"$f":"VLOOKUP(C4804,Referencias!$C$4:$E$21,3,FALSE())","v":3},"Competición","Aragonesa"]
["5002268","Delaloi, Josette","3D","C",{"$f":"VLOOKUP(C4805,Referencias!$C$4:$D$21,2,FALSE())","v":"Tercera Diamante"},{"$f":"VLOOKUP(I4805,Referencias!$B$24:$C$41,2,FALSE())","v":"ARA"},{"$f":"VLOOKUP(C4805,Referencias!$C$4:$E$21,3,FALSE())","v":3},"Competición","Aragonesa"]
["5002269","Albácar López, Carmen","3D","D",{"$f":"VLOOKUP(C4806,Referencias!$C$4:$D$21,2,FALSE())","v":"Tercera Diamante"},{"$f":"VLOOKUP(I4806,Referencias!$B$24:$C$41,2,FALSE())","v":"ARA"},{"$f":"VLOOKUP(C4806,Referencias!$C$4:$E$21,3,FALSE())","v":3},"Competición","Aragonesa"]
["5002270","Alegre Villariz, Alfonso","3D","C",{"$f":"VLOOKUP(C4807,Referencias!$C$4:$D$21,2,FALSE())","v":"Tercera Diamante"},{"$f":"VLOOKUP(I4807,Referencias!$B$24:$C$41,2,FALSE())","v":"ARA"},{"$f":"VLOOKUP(C4807,Referencias!$C$4:$E$21,3,FALSE())","v":3},"Competición","Aragonesa"]
["5002271","Burke Kearney, Joan","3D","D",{"$f":"VLOOKUP(C4808,Referencias!$C$4:$D$21,2,FALSE())","v":"Tercera Diamante"},{"$f":"VLOOKUP(I4808,Referencias!$B$24:$C$41,2,FALSE())","v":"ARA"},{"$f":"VLOOKUP(C4808,Referencias!$C$4:$E$21,3,FALSE())","v":3},"Competición","Aragonesa"]
["5002272","Escoriaza Valenzuela, Blanca","3P","D",{"$f":"VLOOKUP(C4809,Referencias!$C$4:$D$21,2,FALSE())","v":"Tercera Picas"},{"$f":"VLOOKUP(I4809,Referencias!$B$24:$C$41,2,FALSE())","v":"ARA"},{"$f":"VLOOKUP(C4809,Referencias!$C$4:$E$21,3,FALSE())","v":3},"Competición","Aragonesa"]
["5002273","Pardos Garcia, Nuria","3P","D",{"$f":"VLOOKUP(C4810,Referencias!$C$4:$D$21,2,FALSE())","v":"Tercera Picas"},{"$f":"VLOOKUP(I4810,Referencias!$B$24:$C$41,2,FALSE())","v":"ARA"},{"$f":"VLOOKUP(C4810,Referencias!$C$4:$E$21,3,FALSE())","v":3},"Competición","Aragonesa"]
["5002274","Vivas Paniagua, María Elena","3D","D",{"$f":"VLOOKUP(C4811,Referencias!$C$4:$D$21,2,FALSE())","v":"Tercera Diamante"},{"$f":"VLOOKUP(I4811,Referencias!$B$24:$C$41,2,FALSE())","v":"ARA"},{"$f":"VLOOKUP(C4811,Referencias!$C$4:$E$21,3,FALSE())","v":3},"Competición","Aragonesa"]
["5002275","Estop Cunchillos, María Jesús","3C","D",{"$f":"VLOOKUP(C4812,Referencias!$C$4:$D$21,2,FALSE())","v":"Tercera Corazón"},{"$f":"VLOOKUP(I4812,Referencias!$B$24:$C$41,2,FALSE())","v":"ARA"},{"$f":"VLOOKUP(C4812,Referencias!$C$4:$E$21,3,FALSE())","v":3},"Competición","Aragonesa"]
["5002276","Muñoz Gutiérrez, Amor","3D","D",{"$f":"VLOOKUP(C4813,Referencias!$C$4:$D$21,2,FALSE())","v":"Tercera Diamante"},{"$f":"VLOOKUP(I4813,Referencias!$B$24:$C$41,2,FALSE())","v":"AND"},{"$f":"VLOOKUP(C4813,Referencias!$C$4:$E$21,3,FALSE())","v":3},"Competición","Andaluza"]
["5002278","Romeo Buisán, José Manuel","3D","C",{"$f":"VLOOKUP(C4814,Referencias!$C$4:$D$21,2,FALSE())","v":"Tercera Diamante"},{"$f":"VLOOKUP(I4814,Referencias!$B$24:$C$41,2,FALSE())","v":"ARA"},{"$f":"VLOOKUP(C4814,Referencias!$C$4:$E$21,3,FALSE())","v":3},"Competición","Aragonesa"]
["5002279","Woollands San Mateo, Julio Carlos","3D","C",{"$f":"VLOOKUP(C4815,Referencias!$C$4:$D$21,2,FALSE())","v":"Tercera Diamante"},{"$f":"VLOOKUP(I4815,Referencias!$B$24:$C$41,2,FALSE())","v":"ARA"},{"$f":"VLOOKUP(C4815,Referencias!$C$4:$E$21,3,FALSE())","v":3},"Competición","Aragonesa"]
["5002280","Lope-Garnica Marin, María Teresa","3D","D",{"$f":"VLOOKUP(C4816,Referencias!$C$4:$D$21,2,FALSE())","v":"Tercera Diamante"},{"$f":"VLOOKUP(I4816,Referencias!$B$24:$C$41,2,FALSE())","v":"ARA"},{"$f":"VLOOKUP(C4816,Referencias!$C$4:$E$21,3,FALSE())","v":3},"Competición","Aragonesa"]
["5002281","García Giménez, Antonio","3C","C",{"$f":"VLOOKUP(C4817,Referencias!$C$4:$D$21,2,FALSE())","v":"Tercera Corazón"},{"$f":"VLOOKUP(I4817,Referencias!$B$24:$C$41,2,FALSE())","v":"ARA"},{"$f":"VLOOKUP(C4817,Referencias!$C$4:$E$21,3,FALSE())","v":3},"Competición","Aragonesa"]
["5002282","Gasco Montero, Maria Luisa","3C","D",{"$f":"VLOOKUP(C4818,Referencias!$C$4:$D$21,2,FALSE())","v":"Tercera Corazón"},{"$f":"VLOOKUP(I4818,Referencias!$B$24:$C$41,2,FALSE())","v":"ARA"},{"$f":"VLOOKUP(C4818,Referencias!$C$4:$E$21,3,FALSE())","v":3},"Competición","Aragonesa"]
["5002283","Barba Navarro, Jorge","3C","C",{"$f":"VLOOKUP(C4819,Referencias!$C$4:$D$21,2,FALSE())","v":"Tercera Corazón"},{"$f":"VLOOKUP(I4819,Referencias!$B$24:$C$41,2,FALSE())","v":"ARA"},{"$f":"VLOOKUP(C4819,Referencias!$C$4:$E$21,3,FALSE())","v":3},"Competición","Aragonesa"]
["5002284","Jiménez Muniesa, Lucia","3D","D",{"$f":"VLOOKUP(C4820,Referencias!$C$4:$D$21,2,FALSE())","v":"Tercera Diamante"},{"$f":"VLOOKUP(I4820,Referencias!$B$24:$C$41,2,FALSE())","v":"ARA"},{"$f":"VLOOKUP(C4820,Referencias!$C$4:$E$21,3,FALSE())","v":3},"Competición","Aragonesa"]
["5002285","Corral Alcolea, María Pilar","3D","D",{"$f":"VLOOKUP(C4821,Referencias!$C$4:$D$21,2,FALSE())","v":"Tercera Diamante"},{"$f":"VLOOKUP(I4821,Referencias!$B$24:$C$41,2,FALSE())","v":"ARA"},{"$f":"VLOOKUP(C4821,Referencias!$C$4:$E$21,3,FALSE())","v":3},"Competición","Aragonesa"]
["5002286","Bovio Nagore, Elena","3C","D",{"$f":"VLOOKUP(C4822,Referencias!$C$4:$D$21,2,FALSE())","v":"Tercera Corazón"},{"$f":"VLOOKUP(I4822,Referencias!$B$24:$C$41,2,FALSE())","v":"ARA"},{"$f":"VLOOKUP(C4822,Referencias!$C$4:$E$21,3,FALSE())","v":3},"Competición","Aragonesa"]
["5002287","Bovio Nagore, María Dolores","3C","D",{"$f":"VLOOKUP(C4823,Referencias!$C$4:$D$21,2,FALSE())","v":"Tercera Corazón"},{"$f":"VLOOKUP(I4823,Referencias!$B$24:$C$41,2,FALSE())","v":"ARA"},{"$f":"VLOOKUP(C4823,Referencias!$C$4:$E$21,3,FALSE())","v":3},"Competición","Aragonesa"]
["5002288","González Lorenzo, María Concepción","3D","D",{"$f":"VLOOKUP(C4824,Referencias!$C$4:$D$21,2,FALSE())","v":"Tercera Diamante"},{"$f":"VLOOKUP(I4824,Referencias!$B$24:$C$41,2,FALSE())","v":"ARA"},{"$f":"VLOOKUP(C4824,Referencias!$C$4:$E$21,3,FALSE())","v":3},"Competición","Aragonesa"]
["5002289","Serrano Galindo, Carmina","3D","D",{"$f":"VLOOKUP(C4825,Referencias!$C$4:$D$21,2,FALSE())","v":"Tercera Diamante"},{"$f":"VLOOKUP(I4825,Referencias!$B$24:$C$41,2,FALSE())","v":"ARA"},{"$f":"VLOOKUP(C4825,Referencias!$C$4:$E$21,3,FALSE())","v":3},"Competición","Aragonesa"]
["5002290","Vera Royo, Olga","3D","D",{"$f":"VLOOKUP(C4826,Referencias!$C$4:$D$21,2,FALSE())","v":"Tercera Diamante"},{"$f":"VLOOKUP(I4826,Referencias!$B$24:$C$41,2,FALSE())","v":"ARA"},{"$f":"VLOOKUP(C4826,Referencias!$C$4:$E$21,3,FALSE())","v":3},"Competición","Aragonesa"]
["5002291","Alierta Izuel, María Pilar","3C","D",{"$f":"VLOOKUP(C4827,Referencias!$C$4:$D$21,2,FALSE())","v":"Tercera Corazón"},{"$f":"VLOOKUP(I4827,Referencias!$B$24:$C$41,2,FALSE())","v":"ARA"},{"$f":"VLOOKUP(C4827,Referencias!$C$4:$E$21,3,FALSE())","v":3},"Competición","Aragonesa"]
["5002292","Borra Candial, Elena","3C","D",{"$f":"VLOOKUP(C4828,Referencias!$C$4:$D$21,2,FALSE())","v":"Tercera Corazón"},{"$f":"VLOOKUP(I4828,Referencias!$B$24:$C$41,2,FALSE())","v":"ARA"},{"$f":"VLOOKUP(C4828,Referencias!$C$4:$E$21,3,FALSE())","v":3},"Competición","Aragonesa"]
["5002293","Octavio Sanz, María Jesús","3C","D",{"$f":"VLOOKUP(C4829,Referencias!$C$4:$D$21,2,FALSE())","v":"Tercera Corazón"},{"$f":"VLOOKUP(I4829,Referencias!$B$24:$C$41,2,FALSE())","v":"ARA"},{"$f":"VLOOKUP(C4829,Referencias!$C$4:$E$21,3,FALSE())","v":3},"Competición","Aragonesa"]
["5002294","Albareda Díaz, Chiquín","3C","D",{"$f":"VLOOKUP(C4830,Referencias!$C$4:$D$21,2,FALSE())","v":"Tercera Corazón"},{"$f":"VLOOKUP(I4830,Referencias!$B$24:$C$41,2,FALSE())","v":"ARA"},{"$f":"VLOOKUP(C4830,Referencias!$C$4:$E$21,3,FALSE())","v":3},"Competición","Aragonesa"]
["5002295","Wildman Bean, Mary","3D","D",{"$f":"VLOOKUP(C4831,Referencias!$C$4:$D$21,2,FALSE())","v":"Tercera Diamante"},{"$f":"VLOOKUP(I4831,Referencias!$B$24:$C$41,2,FALSE())","v":"ARA"},{"$f":"VLOOKUP(C4831,Referencias!$C$4:$E$21,3,FALSE())","v":3},"Competición","Aragonesa"]
["5002296","Sanjuan Ariasa, Rosa María","3D","D",{"$f":"VLOOKUP(C4832,Referencias!$C$4:$D$21,2,FALSE())","v":"Tercera Diamante"},{"$f":"VLOOKUP(I4832,Referencias!$B$24:$C$41,2,FALSE())","v":"ARA"},{"$f":"VLOOKUP(C4832,Referencias!$C$4:$E$21,3,FALSE())","v":3},"Competición","Aragonesa"]
["5002297","Lago Serra, Pilar","3D","D",{"$f":"VLOOKUP(C4833,Referencias!$C$4:$D$21,2,FALSE())","v":"Tercera Diamante"},{"$f":"VLOOKUP(I4833,Referencias!$B$24:$C$41,2,FALSE())","v":"ARA"},{"$f":"VLOOKUP(C4833,Referencias!$C$4:$E$21,3,FALSE())","v":3},"Competición","Aragonesa"]
["5002298","Revilla de la Cal, María del Carmen","3D","D",{"$f":"VLOOKUP(C4834,Referencias!$C$4:$D$21,2,FALSE())","v":"Tercera Diamante"},{"$f":"VLOOKUP(I4834,Referencias!$B$24:$C$41,2,FALSE())","v":"ARA"},{"$f":"VLOOKUP(C4834,Referencias!$C$4:$E$21,3,FALSE())","v":3},"Competición","Aragonesa"]
["5002299","Alaminos Serrater, María del Carmen","3D","D",{"$f":"VLOOKUP(C4835,Referencias!$C$4:$D$21,2,FALSE())","v":"Tercera Diamante"},{"$f":"VLOOKUP(I4835,Referencias!$B$24:$C$41,2,FALSE())","v":"ARA"},{"$f":"VLOOKUP(C4835,Referencias!$C$4:$E$21,3,FALSE())","v":3},"Competición","Aragonesa"]
["5002300","Agut Aris, Ana","3D","D",{"$f":"VLOOKUP(C4836,Referencias!$C$4:$D$21,2,FALSE())","v":"Tercera Diamante"},{"$f":"VLOOKUP(I4836,Referencias!$B$24:$C$41,2,FALSE())","v":"ARA"},{"$f":"VLOOKUP(C4836,Referencias!$C$4:$E$21,3,FALSE())","v":3},"Competición","Aragonesa"]
["5002301","Articanaba Clavería, Mercedes","3C","D",{"$f":"VLOOKUP(C4837,Referencias!$C$4:$D$21,2,FALSE())","v":"Tercera Corazón"},{"$f":"VLOOKUP(I4837,Referencias!$B$24:$C$41,2,FALSE())","v":"ARA"},{"$f":"VLOOKUP(C4837,Referencias!$C$4:$E$21,3,FALSE())","v":3},"Competición","Aragonesa"]
["5002302","Moya, Maria Mercedes","3D","D",{"$f":"VLOOKUP(C4838,Referencias!$C$4:$D$21,2,FALSE())","v":"Tercera Diamante"},{"$f":"VLOOKUP(I4838,Referencias!$B$24:$C$41,2,FALSE())","v":"ARA"},{"$f":"VLOOKUP(C4838,Referencias!$C$4:$E$21,3,FALSE())","v":3},"Competición","Aragonesa"]
["5002303","Juste Díez de Pinos, Nerea","3D","D",{"$f":"VLOOKUP(C4839,Referencias!$C$4:$D$21,2,FALSE())","v":"Tercera Diamante"},{"$f":"VLOOKUP(I4839,Referencias!$B$24:$C$41,2,FALSE())","v":"ARA"},{"$f":"VLOOKUP(C4839,Referencias!$C$4:$E$21,3,FALSE())","v":3},"Competición","Aragonesa"]
["5002304","Salvo Samanes , Ana","3D","D",{"$f":"VLOOKUP(C4840,Referencias!$C$4:$D$21,2,FALSE())","v":"Tercera Diamante"},{"$f":"VLOOKUP(I4840,Referencias!$B$24:$C$41,2,FALSE())","v":"ARA"},{"$f":"VLOOKUP(C4840,Referencias!$C$4:$E$21,3,FALSE())","v":3},"Competición","Aragonesa"]
["5002305","Mola Diaus, María Asunción","3D","D",{"$f":"VLOOKUP(C4841,Referencias!$C$4:$D$21,2,FALSE())","v":"Tercera Diamante"},{"$f":"VLOOKUP(I4841,Referencias!$B$24:$C$41,2,FALSE())","v":"ARA"},{"$f":"VLOOKUP(C4841,Referencias!$C$4:$E$21,3,FALSE())","v":3},"Competición","Aragonesa"]
["5002306","Arnadis Comas, Eulalia","3D","D",{"$f":"VLOOKUP(C4842,Referencias!$C$4:$D$21,2,FALSE())","v":"Tercera Diamante"},{"$f":"VLOOKUP(I4842,Referencias!$B$24:$C$41,2,FALSE())","v":"ARA"},{"$f":"VLOOKUP(C4842,Referencias!$C$4:$E$21,3,FALSE())","v":3},"Competición","Aragonesa"]
["5002307","de Caralt Munne, Ana Rosa","3D","D",{"$f":"VLOOKUP(C4843,Referencias!$C$4:$D$21,2,FALSE())","v":"Tercera Diamante"},{"$f":"VLOOKUP(I4843,Referencias!$B$24:$C$41,2,FALSE())","v":"ARA"},{"$f":"VLOOKUP(C4843,Referencias!$C$4:$E$21,3,FALSE())","v":3},"Competición","Aragonesa"]
["5002308","Aliaga Valiente, José Luis","3D","C",{"$f":"VLOOKUP(C4844,Referencias!$C$4:$D$21,2,FALSE())","v":"Tercera Diamante"},{"$f":"VLOOKUP(I4844,Referencias!$B$24:$C$41,2,FALSE())","v":"ARA"},{"$f":"VLOOKUP(C4844,Referencias!$C$4:$E$21,3,FALSE())","v":3},"Competición","Aragonesa"]
["5002309","Arbonés Cunchillos, María Carmen","3D","D",{"$f":"VLOOKUP(C4845,Referencias!$C$4:$D$21,2,FALSE())","v":"Tercera Diamante"},{"$f":"VLOOKUP(I4845,Referencias!$B$24:$C$41,2,FALSE())","v":"ARA"},{"$f":"VLOOKUP(C4845,Referencias!$C$4:$E$21,3,FALSE())","v":3},"Competición","Aragonesa"]
["5002310","Durán Quintana, Carmen","3D","D",{"$f":"VLOOKUP(C4846,Referencias!$C$4:$D$21,2,FALSE())","v":"Tercera Diamante"},{"$f":"VLOOKUP(I4846,Referencias!$B$24:$C$41,2,FALSE())","v":"ARA"},{"$f":"VLOOKUP(C4846,Referencias!$C$4:$E$21,3,FALSE())","v":3},"Competición","Aragonesa"]
["5002311","González Bailo, María José","3D","D",{"$f":"VLOOKUP(C4847,Referencias!$C$4:$D$21,2,FALSE())","v":"Tercera Diamante"},{"$f":"VLOOKUP(I4847,Referencias!$B$24:$C$41,2,FALSE())","v":"ARA"},{"$f":"VLOOKUP(C4847,Referencias!$C$4:$E$21,3,FALSE())","v":3},"Competición","Aragonesa"]
["5002312","Bargalló Ferrer, María Antonia","3D","D",{"$f":"VLOOKUP(C4848,Referencias!$C$4:$D$21,2,FALSE())","v":"Tercera Diamante"},{"$f":"VLOOKUP(I4848,Referencias!$B$24:$C$41,2,FALSE())","v":"ARA"},{"$f":"VLOOKUP(C4848,Referencias!$C$4:$E$21,3,FALSE())","v":3},"Competición","Aragonesa"]
["5002313","Aguado Agelet, Ildefonso","3D","C",{"$f":"VLOOKUP(C4849,Referencias!$C$4:$D$21,2,FALSE())","v":"Tercera Diamante"},{"$f":"VLOOKUP(I4849,Referencias!$B$24:$C$41,2,FALSE())","v":"ARA"},{"$f":"VLOOKUP(C4849,Referencias!$C$4:$E$21,3,FALSE())","v":3},"Competición","Aragonesa"]
["5002314","Marqueta Lafita, Marta","3D","D",{"$f":"VLOOKUP(C4850,Referencias!$C$4:$D$21,2,FALSE())","v":"Tercera Diamante"},{"$f":"VLOOKUP(I4850,Referencias!$B$24:$C$41,2,FALSE())","v":"ARA"},{"$f":"VLOOKUP(C4850,Referencias!$C$4:$E$21,3,FALSE())","v":3},"Competición","Aragonesa"]
["5002315","Moreno Quintana, Montserrat","3D","D",{"$f":"VLOOKUP(C4851,Referencias!$C$4:$D$21,2,FALSE())","v":"Tercera Diamante"},{"$f":"VLOOKUP(I4851,Referencias!$B$24:$C$41,2,FALSE())","v":"ARA"},{"$f":"VLOOKUP(C4851,Referencias!$C$4:$E$21,3,FALSE())","v":3},"Competición","Aragonesa"]
["5002316","Lacoma Laboreo, Alfonso","3D","C",{"$f":"VLOOKUP(C4852,Referencias!$C$4:$D$21,2,FALSE())","v":"Tercera Diamante"},{"$f":"VLOOKUP(I4852,Referencias!$B$24:$C$41,2,FALSE())","v":"ARA"},{"$f":"VLOOKUP(C4852,Referencias!$C$4:$E$21,3,FALSE())","v":3},"Competición","Aragonesa"]
["5002317","Latorre Escutia, Marisa","3D","D",{"$f":"VLOOKUP(C4853,Referencias!$C$4:$D$21,2,FALSE())","v":"Tercera Diamante"},{"$f":"VLOOKUP(I4853,Referencias!$B$24:$C$41,2,FALSE())","v":"ARA"},{"$f":"VLOOKUP(C4853,Referencias!$C$4:$E$21,3,FALSE())","v":3},"Competición","Aragonesa"]
["5002318","Carvajal Pujolriu, Estrella","3D","D",{"$f":"VLOOKUP(C4854,Referencias!$C$4:$D$21,2,FALSE())","v":"Tercera Diamante"},{"$f":"VLOOKUP(I4854,Referencias!$B$24:$C$41,2,FALSE())","v":"ARA"},{"$f":"VLOOKUP(C4854,Referencias!$C$4:$E$21,3,FALSE())","v":3},"Competición","Aragonesa"]
["5002319","Arroyo Sancho, Teresa","3D","D",{"$f":"VLOOKUP(C4855,Referencias!$C$4:$D$21,2,FALSE())","v":"Tercera Diamante"},{"$f":"VLOOKUP(I4855,Referencias!$B$24:$C$41,2,FALSE())","v":"ARA"},{"$f":"VLOOKUP(C4855,Referencias!$C$4:$E$21,3,FALSE())","v":3},"Competición","Aragonesa"]
["5002320","Antolín Calvo, Fernando","3D","C",{"$f":"VLOOKUP(C4856,Referencias!$C$4:$D$21,2,FALSE())","v":"Tercera Diamante"},{"$f":"VLOOKUP(I4856,Referencias!$B$24:$C$41,2,FALSE())","v":"ARA"},null,"Competición","Aragonesa"]
["5002321","Ferrer Muñoz, Antonio","3D","C",{"$f":"VLOOKUP(C4857,Referencias!$C$4:$D$21,2,FALSE())","v":"Tercera Diamante"},{"$f":"VLOOKUP(I4857,Referencias!$B$24:$C$41,2,FALSE())","v":"ARA"},null,"Competición","Aragonesa"]
["5002322","Franco Pueyo, Pedro","3D","C",{"$f":"VLOOKUP(C4858,Referencias!$C$4:$D$21,2,FALSE())","v":"Tercera Diamante"},{"$f":"VLOOKUP(I4858,Referencias!$B$24:$C$41,2,FALSE())","v":"ARA"},null,"Competición","Aragonesa"]
["5911742","Gruening, Waltraud","1D","D",{"$f":"VLOOKUP(C4859,Referencias!$C$4:$D$21,2,FALSE())","v":"Primera Diamante"},{"$f":"VLOOKUP(I4859,Referencias!$B$24:$C$41,2,FALSE())","v":"AEB"},null,"Competición","AEB"]
["5911745","Grossi, Giuseppe","1P","C",{"$f":"VLOOKUP(C4860,Referencias!$C$4:$D$21,2,FALSE())","v":"Primera Picas"},{"$f":"VLOOKUP(I4860,Referencias!$B$24:$C$41,2,FALSE())","v":"AEB"},null,"Competición","AEB"]
["5911746","Brugnago De Grossi, Alessandra","1D","D",{"$f":"VLOOKUP(C4861,Referencias!$C$4:$D$21,2,FALSE())","v":"Primera Diamante"},{"$f":"VLOOKUP(I4861,Referencias!$B$24:$C$41,2,FALSE())","v":"AEB"},null,"Competición","AEB"]
["5911756","de Carvalho, João","1P","C",{"$f":"VLOOKUP(C4862,Referencias!$C$4:$D$21,2,FALSE())","v":"Primera Picas"},{"$f":"VLOOKUP(I4862,Referencias!$B$24:$C$41,2,FALSE())","v":"AEB"},null,"Competición","AEB"]
["5911757","Santos Silva, Rui Manuel","1P","C",{"$f":"VLOOKUP(C4863,Referencias!$C$4:$D$21,2,FALSE())","v":"Primera Picas"},{"$f":"VLOOKUP(I4863,Referencias!$B$24:$C$41,2,FALSE())","v":"AEB"},null,"Competición","AEB"]
["5911767","Costa Pessoa, Sofia","1P","D",{"$f":"VLOOKUP(C4864,Referencias!$C$4:$D$21,2,FALSE())","v":"Primera Picas"},{"$f":"VLOOKUP(I4864,Referencias!$B$24:$C$41,2,FALSE())","v":"AEB"},null,"Competición","AEB"]
["5911769","Nunes Ribeiro Cruzeiro, Jorge Manuel","2C","C",{"$f":"VLOOKUP(C4865,Referencias!$C$4:$D$21,2,FALSE())","v":"Segunda Corazón"},{"$f":"VLOOKUP(I4865,Referencias!$B$24:$C$41,2,FALSE())","v":"AEB"},null,"Competición","AEB"]
["5911770","Kampus Blanchet, Yves","2P","C",{"$f":"VLOOKUP(C4866,Referencias!$C$4:$D$21,2,FALSE())","v":"Segunda Picas"},{"$f":"VLOOKUP(I4866,Referencias!$B$24:$C$41,2,FALSE())","v":"AEB"},null,"Competición","AEB"]
["5911777","Michielsen, Marion","MM-O","D",{"$f":"VLOOKUP(C4867,Referencias!$C$4:$D$21,2,FALSE())","v":"Maestro Mundial Open"},{"$f":"VLOOKUP(I4867,Referencias!$B$24:$C$41,2,FALSE())","v":"AEB"},null,"Competición","AEB"]
["5911778","Castaño Faria de Carvalho , Luis","1P","C",{"$f":"VLOOKUP(C4868,Referencias!$C$4:$D$21,2,FALSE())","v":"Primera Picas"},{"$f":"VLOOKUP(I4868,Referencias!$B$24:$C$41,2,FALSE())","v":"AEB"},null,"Competición","AEB"]
["5911779","León Thorne, Raul","1C","C",{"$f":"VLOOKUP(C4869,Referencias!$C$4:$D$21,2,FALSE())","v":"Primera Corazón"},{"$f":"VLOOKUP(I4869,Referencias!$B$24:$C$41,2,FALSE())","v":"AEB"},null,"Competición","AEB"]
["5911780","Ivanov, Stojan","1C","C",{"$f":"VLOOKUP(C4870,Referencias!$C$4:$D$21,2,FALSE())","v":"Primera Corazón"},{"$f":"VLOOKUP(I4870,Referencias!$B$24:$C$41,2,FALSE())","v":"AEB"},null,"Competición","AEB"]
["5911781","Espinazo Figueras, María Consol","3P","D",{"$f":"VLOOKUP(C4871,Referencias!$C$4:$D$21,2,FALSE())","v":"Tercera Picas"},{"$f":"VLOOKUP(I4871,Referencias!$B$24:$C$41,2,FALSE())","v":"AEB"},null,"Competición","AEB"]
["5911782","Isella , Dario","2D","C",{"$f":"VLOOKUP(C4872,Referencias!$C$4:$D$21,2,FALSE())","v":"Segunda Diamante"},{"$f":"VLOOKUP(I4872,Referencias!$B$24:$C$41,2,FALSE())","v":"AEB"},null,"Competición","AEB"]
["5911783","Piedra, Fernando","MM-O","C",{"$f":"VLOOKUP(C4873,Referencias!$C$4:$D$21,2,FALSE())","v":"Maestro Mundial Open"},{"$f":"VLOOKUP(I4873,Referencias!$B$24:$C$41,2,FALSE())","v":"AEB"},null,"Competición","AEB"]
["5911784","Morbey, Pedro","3D","C",{"$f":"VLOOKUP(C4874,Referencias!$C$4:$D$21,2,FALSE())","v":"Tercera Diamante"},{"$f":"VLOOKUP(I4874,Referencias!$B$24:$C$41,2,FALSE())","v":"AEB"},null,"Competición","AEB"]
["5911785","Cerquinho, Miguel","1C","C",{"$f":"VLOOKUP(C4875,Referencias!$C$4:$D$21,2,FALSE())","v":"Primera Corazón"},{"$f":"VLOOKUP(I4875,Referencias!$B$24:$C$41,2,FALSE())","v":"AEB"},null,"Competición","AEB"]
["5911786","Sobral Torres, Luís","1C","C",{"$f":"VLOOKUP(C4876,Referencias!$C$4:$D$21,2,FALSE())","v":"Primera Corazón"},{"$f":"VLOOKUP(I4876,Referencias!$B$24:$C$41,2,FALSE())","v":"AEB"},null,"Competición","AEB"]
["5911787","Teixeira, Miguel","1P","C",{"$f":"VLOOKUP(C4877,Referencias!$C$4:$D$21,2,FALSE())","v":"Primera Picas"},{"$f":"VLOOKUP(I4877,Referencias!$B$24:$C$41,2,FALSE())","v":"AEB"},null,"Competición","AEB"]
["5911788","Castanheira, Jorge","3D","C",{"$f":"VLOOKUP(C4878,Referencias!$C$4:$D$21,2,FALSE())","v":"Tercera Diamante"},{"$f":"VLOOKUP(I4878,Referencias!$B$24:$C$41,2,FALSE())","v":"AEB"},null,"Competición","AEB"]
["5911789","Marqués Paz, Nuno Miguel","3D","C",{"$f":"VLOOKUP(C4879,Referencias!$C$4:$D$21,2,FALSE())","v":"Tercera Diamante"},{"$f":"VLOOKUP(I4879,Referencias!$B$24:$C$41,2,FALSE())","v":"AEB"},null,"Competición","AEB"]
["6900000","con licencia **, ** Extranjero","3D","C",{"$f":"VLOOKUP(C4880,Referencias!$C$4:$D$21,2,FALSE())","v":"Tercera Diamante"},{"$f":"VLOOKUP(I4880,Referencias!$B$24:$C$41,2,FALSE())","v":"AEB"},null,"Competición","AEB"]
["6900001","con licencia **, ** Extranjero","MM-O","C",{"$f":"VLOOKUP(C4881,Referencias!$C$4:$D$21,2,FALSE())","v":"Maestro Mundial Open"},{"$f":"VLOOKUP(I4881,Referencias!$B$24:$C$41,2,FALSE())","v":"AEB"},null,"Honorífica","AEB"]
["6900002","con licencia **\t, ** Extranjero","1P","C",{"$f":"VLOOKUP(C4882,Referencias!$C$4:$D$21,2,FALSE())","v":"Primera Picas"},{"$f":"VLOOKUP(I4882,Referencias!$B$24:$C$41,2,FALSE())","v":"AEB"},null,"Honorífica","AEB"]
["6900003","con licencia **\t, ** Extranjero","1C","C",{"$f":"VLOOKUP(C4883,Referencias!$C$4:$D$21,2,FALSE())","v":"Primera Corazón"},{"$f":"VLOOKUP(I4883,Referencias!$B$24:$C$41,2,FALSE())","v":"AEB"},null,"Honorífica","AEB"]
["6900004","con licencia **, ** Extranjero","MM-D","C",{"$f":"VLOOKUP(C4884,Referencias!$C$4:$D$21,2,FALSE())","v":"Maestro Mundial Damas"},{"$f":"VLOOKUP(I4884,Referencias!$B$24:$C$41,2,FALSE())","v":"AEB"},null,"Honorífica","AEB"]
["6900005","con licencia **, ** Extranjero","Maestro Mundial Senior","C",{"$f":"VLOOKUP(C4885,Referencias!$C$4:$D$21,2,FALSE())","v":{"$error":"#N/A"}},{"$f":"VLOOKUP(I4885,Referencias!$B$24:$C$41,2,FALSE())","v":"AEB"},null,"Honorífica","AEB"]
["9990000","Robot **, ** Robot","3D","C",{"$f":"VLOOKUP(C4886,Referencias!$C$4:$D$21,2,FALSE())","v":"Tercera Diamante"},{"$f":"VLOOKUP(I4886,Referencias!$B$24:$C$41,2,FALSE())","v":"AEB"},null,"Competición","AEB"]
[null,null,null,null,{"$f":"VLOOKUP(C4887,Referencias!$C$4:$D$21,2,FALSE())","v":{"$error":"#N/A"}},{"$f":"VLOOKUP(I4887,Referencias!$B$24:$C$41,2,FALSE())","v":{"$error":"#N/A"}}]
[null,null,null,null,{"$f":"VLOOKUP(C4888,Referencias!$C$4:$D$21,2,FALSE())","v":{"$error":"#N/A"}},{"$f":"VLOOKUP(I4888,Referencias!$B$24:$C$41,2,FALSE())","v":{"$error":"#N/A"}}]
[null,null,null,null,{"$f":"VLOOKUP(C4889,Referencias!$C$4:$D$21,2,FALSE())","v":{"$error":"#N/A"}},{"$f":"VLOOKUP(I4889,Referencias!$B$24:$C$41,2,FALSE())","v":{"$error":"#N/A"}}]
[null,null,null,null,{"$f":"VLOOKUP(C4890,Referencias!$C$4:$D$21,2,FALSE())","v":{"$error":"#N/A"}},{"$f":"VLOOKUP(I4890,Referencias!$B$24:$C$41,2,FALSE())","v":{"$error":"#N/A"}}]
[null,null,null,null,null,{"$f":"VLOOKUP(I4891,Referencias!$B$24:$C$41,2,FALSE())","v":{"$error":"#N/A"}}]

{"sheet":"Instrucciones","index":3,"n_rows":31,"n_cols":2,"rows_kept":31,"cut":false,"hidden":false,"merged":[]}
["A.- Identificación del torneo \n\n1. Introducir el nombre del torneo en la celda E1\n2. Introducir el tipo de torneo en la celda T5 (opción de desplegable)\n3. Introducir la categoría del torneo en la celda T6 (opción del desplegable)\n4. Introducir el número de participantes en el torneo en la celda T7 (número de equipos, número de parejas o número de jugadores si es individual)\n5. Introducir el número de manos jugadas por el ganador en la celda T8\n6. Introducir si el torneo es presencial o se ha jugado online en la celda T9\n7. Cerrar y/o guardar. Al estar HOCLAS en modo de solo lectura se debe renombrar el archivo. Dar un nombre que identifique el torneo, por ejemplo HoclasLaToja-Oct-2006. \n"]
["B.- Introducción de la clasificación.\n\n1. Introducir las licencias con siete dígitos. Si se introduce una licencia no válida aparecerá # N/A, (No disponible). Si un jugador carece de licencia introduzca 0, (cero). El titular aparecerá como \"Desconocido\".\n2. Al introducir el nº de licencia aparecerán los datos del jugador. Con ello comprobará que no se ha equivocado al introducir el número de licencia.\n3. Las columnas 1 y 2, (números de licencias) se cumplimentan por orden de clasificación, así como la columna del %"]
["C.- Instrucciones para cumplimentar HOCLAS en las pruebas por equipos \n\n1. Se siguen los mismos pasos que se acaban de exponer, pero con esta variación: Las columnas Licencia 2 y Jugador 2 no se utilizan, se dejan en blanco y en las sucesivas filas se introducen los jugadores de los diferentes equipos por orden de clasificación y poniendo la posición que han obtenido. \n2. Por ejemplo: si el primer clasificado lo forma un equipo de cinco jugadores las primeras cinco líneas tienen todas la posición 1 y los datos de los cinco jugadores. Si el segundo equipo lo forman seis jugadores las siguientes seis líneas tienen todas las posiciones 2 y los datos de los seis jugadores y así sucesivamente. \n"]
[]
[]
["TIPO DE TORNEO"]
["Parejas"]
["Equipos"]
["Individual"]
[]
["CATEGORÍA DE TORNEO"]
["Pool de club (o equivalente)",5]
["Torneo autonómico AEB (o eq.)",15]
["Torneo nacional AEB (o eq.)",25]
["Prueba de Selección Eq. Mixto, Damas o Senior",30]
["Prueba de Selección Eq. Open",40]
["Zonal clasificatorio Camp. España Open",30]
["Camp. España Eq. Mixto o Damas",34]
["Camp. España Parejas",40]
["Camp. España Equipos",58]
["Liga AEB",54]
[]
["PRESENCIAL / ONLINE"]
["Presencial"]
["Online con cámaras"]
["Online sin cámaras"]
[]
[]
[]
["CHANGELOG"]
["8.4 Adaptacion de orden de columnas para fichero jugadores de Magic"]

{"sheet":"Varios","index":4,"n_rows":96,"n_cols":3,"rows_kept":96,"cut":false,"hidden":true,"merged":[]}
[]
["Camp España Equipos Mixtos"]
[]
[]
[2811080,1,60]
[2811849,1,60]
[2811957,1,60]
[2811414,1,60]
[2811134,1,60]
[2811246,2,58.75]
[2811019,2,58.75]
[2813263,2,58.75]
[2814735,2,58.75]
[5911742,2,58.75]
[2812497,3,57.5]
[2812164,3,57.5]
[2811724,3,57.5]
[2811910,3,57.5]
[2811911,3,57.5]
[2812051,4,56.25]
[2815510,4,56.25]
[5911749,4,56.25]
[5911743,4,56.25]
[5911750,4,56.25]
[2812787,4,56.25]
[2811291,5,55]
[2811479,5,55]
[2811335,5,55]
[2811030,5,55]
[2814435,6,53.75]
[2814434,6,53.75]
[2812961,6,53.75]
[2811666,6,53.75]
[3991048,6,53.75]
[2812784,6,53.75]
[2812379,7,52.5]
[2812224,7,52.5]
[2811583,7,52.5]
[2813140,7,52.5]
[2811596,7,52.5]
[2812510,7,51.25]
[2811127,8,51.25]
[2811906,8,51.25]
[2811346,8,51.25]
[2812161,8,51.25]
[2811001,8,51.25]
[2811085,8,51.25]
[1161699,9,50]
[1161287,9,50]
[1161313,9,50]
[4161121,9,50]
[3635897,10,48.75]
[3631801,10,48.75]
[1535150,10,48.75]
[1535808,10,48.75]
[1531011,10,48.75]
[3635898,10,48.75]
[4641541,11,47.5]
[4646217,11,47.5]
[3551021,11,47.5]
["0821701",11,47.5]
["0821959",11,47.5]
[3551942,11,47.5]
[3631142,12,46.25]
[5911751,12,46.25]
[5911755,12,46.25]
[5911754,12,46.25]
[2811762,13,45]
[2812081,13,45]
[2813611,13,45]
[2813610,13,45]
[2814116,13,45]
[2814115,13,45]
[2811510,14,43.75]
[2811540,14,43.75]
[4641363,14,43.75]
[4641161,14,43.75]
[2811045,14,43.75]
[2811795,14,43.75]
[2731313,15,42.5]
[2813905,15,42.5]
[2814138,15,42.5]
[5911756,15,42.5]
[2812214,15,42.5]
[2812355,16,41.25]
[2812969,16,41.25]
[2812900,16,41.25]
[2812899,16,41.25]
[3995644,16,41.25]
[4881164,16,41.25]
[4641652,17,40]
[3301104,17,40]
[3991045,17,40]
[3991067,17,40]
[2813093,17,40]
[3991088,17,40]