{"text_format":"1","workbook":"xlsx","n_sheets":5,"sheets":["Hoclas 8","Referencias","Fichero de Jugadores","Instrucciones","Varios"],"not_rendered":{"charts":0,"images":3,"macros":1,"external_links":0,"defined_names":9,"comments":0,"pivot_tables":0},"unopened":[],"bounds":{"document_bytes":16777216,"sheet_cells":100000,"rows_first":2000,"rows_last":500,"rows_between":2000,"halvings":0,"cell_chars":16384,"cell_head_chars":4096},"cells_cut":0,"cells_raw":0,"read":"whole","date_system":"1900"}

{"sheet":"Hoclas 8","index":0,"n_rows":203,"n_cols":45,"rows_kept":203,"cut":false,"hidden":false,"merged":[[0,0,1,1],[0,2,1,3],[0,4,0,13],[1,4,1,13]]}
["HOCLAS 8.3",null,null,null,"<TITULO TORNEO>"]
[null,null,null,null,"FECHA",null,null,null,null,null,null,null,null,null,null,null,null,null,null,"SOLO SE PUEDEN CAMBIAR CELDAS CON FONDO CELESTE","Jugadores actualizados el: 19/07/2024"]
[null,null,"Pto.","Jugador 1","Jugador 2","% ","C1","C2","CAT","AT1","AT2","P",null,"Puntos","J1","J2","CAT1","CAT2"]
[null,null,"1",{"$f":"IF(A4=\"\",\"\",VLOOKUP(A4&\"\",'Fichero de Jugadores'!$A$2:$H$5000,2,0))","v":""},{"$f":"IF(B4=\"\",\"\",VLOOKUP(B4&\"\",'Fichero de Jugadores'!$A$2:$H$5000,2,0))","v":""},null,{"$f":"IF(A4=\"\",\"\",VLOOKUP(A4&\"\",'Fichero de Jugadores'!$A$2:$H$5000,7,0))","v":""},{"$f":"IF(B4=\"\",\"\",VLOOKUP(B4&\"\",'Fichero de Jugadores'!$A$2:$H$5000,7,0))","v":""},{"$f":"INDEX(AN$4:AS$9,(Q4)+2,(R4)+2)","v":{"$error":"#N/A"}},{"$f":"IF(A4=\"\",\"\",VLOOKUP(A4&\"\",'Fichero de Jugadores'!$A$2:$I$5000,9,0))","v":""},{"$f":"IF(B4=\"\",\"\",VLOOKUP(B4&\"\",'Fichero de Jugadores'!$A$2:$I$5000,9,0))","v":""},{"$f":"IF(AND(O4=\"D\",P4=\"D\"),\"D\",IF(AND(O4=\"D\",P4=\"C\"),\"X\",IF(AND(O4=\"C\",P4=\"D\"),\"X\",IF(AND(O4=\"C\",P4=\"C\"),\"C\",IF(OR(O4=\"\",P4=\"\"),\"\")))))","v":""},null,null,{"$f":"IF(A4=\"\",\"\",VLOOKUP(A4&\"\",'Fichero de Jugadores'!$A$2:$I$4566,4,0))","v":""},{"$f":"IF(B4=\"\",\"\",VLOOKUP(B4&\"\",'Fichero de Jugadores'!$A$2:$I$4566,4,0))","v":""},{"$f":"IF(C4=\"\",\"\",VLOOKUP(A4&\"\",'Fichero de Jugadores'!$A$2:$I$4566,7,0))","v":{"$error":"#N/A"}},{"$f":"IF(C4=\"\",\"\",VLOOKUP(B4&\"\",'Fichero de Jugadores'!$A$2:$I$4566,7,0))","v":{"$error":"#N/A"}},null,null,null,null,null,null,null,null,null,null,null,null,null,null,null,null,null,0,"MM, MM-0, MM-D ME, MN-O, MN-D",null,null,null,0,1,2,3,4]
[null,null,"2",{"$f":"IF(A5=\"\",\"\",VLOOKUP(A5&\"\",'Fichero de Jugadores'!$A$2:$H$5000,2,0))","v":""},{"$f":"IF(B5=\"\",\"\",VLOOKUP(B5&\"\",'Fichero de Jugadores'!$A$2:$H$5000,2,0))","v":""},null,{"$f":"IF(A5=\"\",\"\",VLOOKUP(A5&\"\",'Fichero de Jugadores'!$A$2:$H$5000,7,0))","v":""},{"$f":"IF(B5=\"\",\"\",VLOOKUP(B5&\"\",'Fichero de Jugadores'!$A$2:$H$5000,7,0))","v":""},{"$error":"#N/A"},{"$f":"IF(A5=\"\",\"\",VLOOKUP(A5&\"\",'Fichero de Jugadores'!$A$2:$I$5000,9,0))","v":""},{"$f":"IF(B5=\"\",\"\",VLOOKUP(B5&\"\",'Fichero de Jugadores'!$A$2:$I$5000,9,0))","v":""},{"$f":"IF(AND(O5=\"D\",P5=\"D\"),\"D\",IF(AND(O5=\"D\",P5=\"C\"),\"X\",IF(AND(O5=\"C\",P5=\"D\"),\"X\",IF(AND(O5=\"C\",P5=\"C\"),\"C\",IF(OR(O5=\"\",P5=\"\"),\"\")))))","v":""},null,null,{"$f":"IF(A5=\"\",\"\",VLOOKUP(A5&\"\",'Fichero de Jugadores'!$A$2:$I$4566,4,0))","v":""},{"$f":"IF(B5=\"\",\"\",VLOOKUP(B5&\"\",'Fichero de Jugadores'!$A$2:$I$4566,4,0))","v":""},{"$f":"IF(C5=\"\",\"\",VLOOKUP(A5&\"\",'Fichero de Jugadores'!$A$2:$I$4566,7,0))","v":{"$error":"#N/A"}},{"$f":"IF(C5=\"\",\"\",VLOOKUP(B5&\"\",'Fichero de Jugadores'!$A$2:$I$4566,7,0))","v":{"$error":"#N/A"}},null,"Tipo de torneo","Parejas",null,null,null,null,null,null,null,null,null,null,null,null,null,null,1,"1P, 1C, 1D",null,null,0,0,0,1,1,0]
[null,null,"3",{"$f":"IF(A6=\"\",\"\",VLOOKUP(A6&\"\",'Fichero de Jugadores'!$A$2:$H$5000,2,0))","v":""},{"$f":"IF(B6=\"\",\"\",VLOOKUP(B6&\"\",'Fichero de Jugadores'!$A$2:$H$5000,2,0))","v":""},null,{"$f":"IF(A6=\"\",\"\",VLOOKUP(A6&\"\",'Fichero de Jugadores'!$A$2:$H$5000,7,0))","v":""},{"$f":"IF(B6=\"\",\"\",VLOOKUP(B6&\"\",'Fichero de Jugadores'!$A$2:$H$5000,7,0))","v":""},{"$error":"#N/A"},{"$f":"IF(A6=\"\",\"\",VLOOKUP(A6&\"\",'Fichero de Jugadores'!$A$2:$I$5000,9,0))","v":""},{"$f":"IF(B6=\"\",\"\",VLOOKUP(B6&\"\",'Fichero de Jugadores'!$A$2:$I$5000,9,0))","v":""},"",null,null,{"$f":"IF(A6=\"\",\"\",VLOOKUP(A6&\"\",'Fichero de Jugadores'!$A$2:$I$4566,4,0))","v":""},{"$f":"IF(B6=\"\",\"\",VLOOKUP(B6&\"\",'Fichero de Jugadores'!$A$2:$I$4566,4,0))","v":""},{"$f":"IF(C6=\"\",\"\",VLOOKUP(A6&\"\",'Fichero de Jugadores'!$A$2:$I$4566,7,0))","v":{"$error":"#N/A"}},{"$f":"IF(C6=\"\",\"\",VLOOKUP(B6&\"\",'Fichero de Jugadores'!$A$2:$I$4566,7,0))","v":{"$error":"#N/A"}},null,"Categoría de torneo","Pool de club (o equivalente)",{"$f":"VLOOKUP(U6,Instrucciones!A12:B21,2,FALSE)","v":5},null,null,null,null,null,null,null,null,null,null,null,null,null,2,"2P, 2C, 2D",null,null,1,0,1,1,2,1]
[null,null,"4",{"$f":"IF(A7=\"\",\"\",VLOOKUP(A7&\"\",'Fichero de Jugadores'!$A$2:$H$5000,2,0))","v":""},{"$f":"IF(B7=\"\",\"\",VLOOKUP(B7&\"\",'Fichero de Jugadores'!$A$2:$H$5000,2,0))","v":""},null,{"$f":"IF(A7=\"\",\"\",VLOOKUP(A7&\"\",'Fichero de Jugadores'!$A$2:$H$5000,7,0))","v":""},{"$f":"IF(B7=\"\",\"\",VLOOKUP(B7&\"\",'Fichero de Jugadores'!$A$2:$H$5000,7,0))","v":""},{"$error":"#N/A"},{"$f":"IF(A7=\"\",\"\",VLOOKUP(A7&\"\",'Fichero de Jugadores'!$A$2:$I$5000,9,0))","v":""},{"$f":"IF(B7=\"\",\"\",VLOOKUP(B7&\"\",'Fichero de Jugadores'!$A$2:$I$5000,9,0))","v":""},"",null,null,{"$f":"IF(A7=\"\",\"\",VLOOKUP(A7&\"\",'Fichero de Jugadores'!$A$2:$I$4566,4,0))","v":""},{"$f":"IF(B7=\"\",\"\",VLOOKUP(B7&\"\",'Fichero de Jugadores'!$A$2:$I$4566,4,0))","v":""},{"$f":"IF(C7=\"\",\"\",VLOOKUP(A7&\"\",'Fichero de Jugadores'!$A$2:$I$4566,7,0))","v":{"$error":"#N/A"}},{"$f":"IF(C7=\"\",\"\",VLOOKUP(B7&\"\",'Fichero de Jugadores'!$A$2:$I$4566,7,0))","v":{"$error":"#N/A"}},null,"Número de participantes",17,{"$f":"IF(U5=\"Parejas\",\"Parejas\",IF(U5=\"Equipos\",\"Equipos\",IF(U5=\"Individual\",\"Jugadores\",\"\")))","v":"Parejas"},null,null,null,null,null,null,null,null,null,null,null,null,null,3,"3P, 3C, 3D",null,null,2,1,1,2,2,2]
[null,null,"5",{"$f":"IF(A8=\"\",\"\",VLOOKUP(A8&\"\",'Fichero de Jugadores'!$A$2:$H$5000,2,0))","v":""},{"$f":"IF(B8=\"\",\"\",VLOOKUP(B8&\"\",'Fichero de Jugadores'!$A$2:$H$5000,2,0))","v":""},null,{"$f":"IF(A8=\"\",\"\",VLOOKUP(A8&\"\",'Fichero de Jugadores'!$A$2:$H$5000,7,0))","v":""},{"$f":"IF(B8=\"\",\"\",VLOOKUP(B8&\"\",'Fichero de Jugadores'!$A$2:$H$5000,7,0))","v":""},{"$error":"#N/A"},{"$f":"IF(A8=\"\",\"\",VLOOKUP(A8&\"\",'Fichero de Jugadores'!$A$2:$I$5000,9,0))","v":""},{"$f":"IF(B8=\"\",\"\",VLOOKUP(B8&\"\",'Fichero de Jugadores'!$A$2:$I$5000,9,0))","v":""},"",null,null,{"$f":"IF(A8=\"\",\"\",VLOOKUP(A8&\"\",'Fichero de Jugadores'!$A$2:$I$4566,4,0))","v":""},{"$f":"IF(B8=\"\",\"\",VLOOKUP(B8&\"\",'Fichero de Jugadores'!$A$2:$I$4566,4,0))","v":""},{"$f":"IF(C8=\"\",\"\",VLOOKUP(A8&\"\",'Fichero de Jugadores'!$A$2:$I$4566,7,0))","v":{"$error":"#N/A"}},{"$f":"IF(C8=\"\",\"\",VLOOKUP(B8&\"\",'Fichero de Jugadores'!$A$2:$I$4566,7,0))","v":{"$error":"#N/A"}},null,"Nº de manos jugadas por el ganador",102,{"$f":"0.23*SQRT(U8)-0.035","v":2.2878861358232778},null,null,null,null,null,null,null,null,null,null,null,null,null,4,"SC",null,null,3,1,2,2,3,3]
[null,null,"6",{"$f":"IF(A9=\"\",\"\",VLOOKUP(A9&\"\",'Fichero de Jugadores'!$A$2:$H$5000,2,0))","v":""},{"$f":"IF(B9=\"\",\"\",VLOOKUP(B9&\"\",'Fichero de Jugadores'!$A$2:$H$5000,2,0))","v":""},null,{"$f":"IF(A9=\"\",\"\",VLOOKUP(A9&\"\",'Fichero de Jugadores'!$A$2:$H$5000,7,0))","v":""},{"$f":"IF(B9=\"\",\"\",VLOOKUP(B9&\"\",'Fichero de Jugadores'!$A$2:$H$5000,7,0))","v":""},{"$error":"#N/A"},{"$f":"IF(A9=\"\",\"\",VLOOKUP(A9&\"\",'Fichero de Jugadores'!$A$2:$I$5000,9,0))","v":""},{"$f":"IF(B9=\"\",\"\",VLOOKUP(B9&\"\",'Fichero de Jugadores'!$A$2:$I$5000,9,0))","v":""},"",null,null,{"$f":"IF(A9=\"\",\"\",VLOOKUP(A9&\"\",'Fichero de Jugadores'!$A$2:$I$4566,4,0))","v":""},{"$f":"IF(B9=\"\",\"\",VLOOKUP(B9&\"\",'Fichero de Jugadores'!$A$2:$I$4566,4,0))","v":""},{"$f":"IF(C9=\"\",\"\",VLOOKUP(A9&\"\",'Fichero de Jugadores'!$A$2:$I$4566,7,0))","v":{"$error":"#N/A"}},{"$f":"IF(C9=\"\",\"\",VLOOKUP(B9&\"\",'Fichero de Jugadores'!$A$2:$I$4566,7,0))","v":{"$error":"#N/A"}},null,"Presencial / Online","Online con cámaras",null,null,null,null,null,null,null,null,null,null,null,null,null,null,null,null,null,null,4,0,1,2,3,4]
[null,null,"7",{"$f":"IF(A10=\"\",\"\",VLOOKUP(A10&\"\",'Fichero de Jugadores'!$A$2:$H$5000,2,0))","v":""},{"$f":"IF(B10=\"\",\"\",VLOOKUP(B10&\"\",'Fichero de Jugadores'!$A$2:$H$5000,2,0))","v":""},null,{"$f":"IF(A10=\"\",\"\",VLOOKUP(A10&\"\",'Fichero de Jugadores'!$A$2:$H$5000,7,0))","v":""},{"$f":"IF(B10=\"\",\"\",VLOOKUP(B10&\"\",'Fichero de Jugadores'!$A$2:$H$5000,7,0))","v":""},{"$error":"#N/A"},{"$f":"IF(A10=\"\",\"\",VLOOKUP(A10&\"\",'Fichero de Jugadores'!$A$2:$I$5000,9,0))","v":""},{"$f":"IF(B10=\"\",\"\",VLOOKUP(B10&\"\",'Fichero de Jugadores'!$A$2:$I$5000,9,0))","v":""},"",null,null,{"$f":"IF(A10=\"\",\"\",VLOOKUP(A10&\"\",'Fichero de Jugadores'!$A$2:$I$4566,4,0))","v":""},{"$f":"IF(B10=\"\",\"\",VLOOKUP(B10&\"\",'Fichero de Jugadores'!$A$2:$I$4566,4,0))","v":""},{"$f":"IF(C10=\"\",\"\",VLOOKUP(A10&\"\",'Fichero de Jugadores'!$A$2:$I$4566,7,0))","v":{"$error":"#N/A"}},{"$f":"IF(C10=\"\",\"\",VLOOKUP(B10&\"\",'Fichero de Jugadores'!$A$2:$I$4566,7,0))","v":{"$error":"#N/A"}}]
[null,null,"8",{"$f":"IF(A11=\"\",\"\",VLOOKUP(A11&\"\",'Fichero de Jugadores'!$A$2:$H$5000,2,0))","v":""},{"$f":"IF(B11=\"\",\"\",VLOOKUP(B11&\"\",'Fichero de Jugadores'!$A$2:$H$5000,2,0))","v":""},null,{"$f":"IF(A11=\"\",\"\",VLOOKUP(A11&\"\",'Fichero de Jugadores'!$A$2:$H$5000,7,0))","v":""},{"$f":"IF(B11=\"\",\"\",VLOOKUP(B11&\"\",'Fichero de Jugadores'!$A$2:$H$5000,7,0))","v":""},{"$error":"#N/A"},{"$f":"IF(A11=\"\",\"\",VLOOKUP(A11&\"\",'Fichero de Jugadores'!$A$2:$I$5000,9,0))","v":""},{"$f":"IF(B11=\"\",\"\",VLOOKUP(B11&\"\",'Fichero de Jugadores'!$A$2:$I$5000,9,0))","v":""},"",null,null,{"$f":"IF(A11=\"\",\"\",VLOOKUP(A11&\"\",'Fichero de Jugadores'!$A$2:$I$4566,4,0))","v":""},{"$f":"IF(B11=\"\",\"\",VLOOKUP(B11&\"\",'Fichero de Jugadores'!$A$2:$I$4566,4,0))","v":""},{"$f":"IF(C11=\"\",\"\",VLOOKUP(A11&\"\",'Fichero de Jugadores'!$A$2:$I$4566,7,0))","v":{"$error":"#N/A"}},{"$f":"IF(C11=\"\",\"\",VLOOKUP(B11&\"\",'Fichero de Jugadores'!$A$2:$I$4566,7,0))","v":{"$error":"#N/A"}}]
[null,null,"9",{"$f":"IF(A12=\"\",\"\",VLOOKUP(A12&\"\",'Fichero de Jugadores'!$A$2:$H$5000,2,0))","v":""},{"$f":"IF(B12=\"\",\"\",VLOOKUP(B12&\"\",'Fichero de Jugadores'!$A$2:$H$5000,2,0))","v":""},null,{"$f":"IF(A12=\"\",\"\",VLOOKUP(A12&\"\",'Fichero de Jugadores'!$A$2:$H$5000,7,0))","v":""},{"$f":"IF(B12=\"\",\"\",VLOOKUP(B12&\"\",'Fichero de Jugadores'!$A$2:$H$5000,7,0))","v":""},{"$error":"#N/A"},{"$f":"IF(A12=\"\",\"\",VLOOKUP(A12&\"\",'Fichero de Jugadores'!$A$2:$I$5000,9,0))","v":""},{"$f":"IF(B12=\"\",\"\",VLOOKUP(B12&\"\",'Fichero de Jugadores'!$A$2:$I$5000,9,0))","v":""},"",null,null,{"$f":"IF(A12=\"\",\"\",VLOOKUP(A12&\"\",'Fichero de Jugadores'!$A$2:$I$4566,4,0))","v":""},{"$f":"IF(B12=\"\",\"\",VLOOKUP(B12&\"\",'Fichero de Jugadores'!$A$2:$I$4566,4,0))","v":""},{"$f":"IF(C12=\"\",\"\",VLOOKUP(A12&\"\",'Fichero de Jugadores'!$A$2:$I$4566,7,0))","v":{"$error":"#N/A"}},{"$f":"IF(C12=\"\",\"\",VLOOKUP(B12&\"\",'Fichero de Jugadores'!$A$2:$I$4566,7,0))","v":{"$error":"#N/A"}}]
[null,null,"10",{"$f":"IF(A13=\"\",\"\",VLOOKUP(A13&\"\",'Fichero de Jugadores'!$A$2:$H$5000,2,0))","v":""},{"$f":"IF(B13=\"\",\"\",VLOOKUP(B13&\"\",'Fichero de Jugadores'!$A$2:$H$5000,2,0))","v":""},null,{"$f":"IF(A13=\"\",\"\",VLOOKUP(A13&\"\",'Fichero de Jugadores'!$A$2:$H$5000,7,0))","v":""},{"$f":"IF(B13=\"\",\"\",VLOOKUP(B13&\"\",'Fichero de Jugadores'!$A$2:$H$5000,7,0))","v":""},{"$error":"#N/A"},{"$f":"IF(A13=\"\",\"\",VLOOKUP(A13&\"\",'Fichero de Jugadores'!$A$2:$I$5000,9,0))","v":""},{"$f":"IF(B13=\"\",\"\",VLOOKUP(B13&\"\",'Fichero de Jugadores'!$A$2:$I$5000,9,0))","v":""},"",null,null,{"$f":"IF(A13=\"\",\"\",VLOOKUP(A13&\"\",'Fichero de Jugadores'!$A$2:$I$4566,4,0))","v":""},{"$f":"IF(B13=\"\",\"\",VLOOKUP(B13&\"\",'Fichero de Jugadores'!$A$2:$I$4566,4,0))","v":""},{"$f":"IF(C13=\"\",\"\",VLOOKUP(A13&\"\",'Fichero de Jugadores'!$A$2:$I$4566,7,0))","v":{"$error":"#N/A"}},{"$f":"IF(C13=\"\",\"\",VLOOKUP(B13&\"\",'Fichero de Jugadores'!$A$2:$I$4566,7,0))","v":{"$error":"#N/A"}}]
[null,null,"11",{"$f":"IF(A14=\"\",\"\",VLOOKUP(A14&\"\",'Fichero de Jugadores'!$A$2:$H$5000,2,0))","v":""},{"$f":"IF(B14=\"\",\"\",VLOOKUP(B14&\"\",'Fichero de Jugadores'!$A$2:$H$5000,2,0))","v":""},null,{"$f":"IF(A14=\"\",\"\",VLOOKUP(A14&\"\",'Fichero de Jugadores'!$A$2:$H$5000,7,0))","v":""},{"$f":"IF(B14=\"\",\"\",VLOOKUP(B14&\"\",'Fichero de Jugadores'!$A$2:$H$5000,7,0))","v":""},{"$error":"#N/A"},{"$f":"IF(A14=\"\",\"\",VLOOKUP(A14&\"\",'Fichero de Jugadores'!$A$2:$I$5000,9,0))","v":""},{"$f":"IF(B14=\"\",\"\",VLOOKUP(B14&\"\",'Fichero de Jugadores'!$A$2:$I$5000,9,0))","v":""},"",null,null,{"$f":"IF(A14=\"\",\"\",VLOOKUP(A14&\"\",'Fichero de Jugadores'!$A$2:$I$4566,4,0))","v":""},{"$f":"IF(B14=\"\",\"\",VLOOKUP(B14&\"\",'Fichero de Jugadores'!$A$2:$I$4566,4,0))","v":""},{"$f":"IF(C14=\"\",\"\",VLOOKUP(A14&\"\",'Fichero de Jugadores'!$A$2:$I$4566,7,0))","v":{"$error":"#N/A"}},{"$f":"IF(C14=\"\",\"\",VLOOKUP(B14&\"\",'Fichero de Jugadores'!$A$2:$I$4566,7,0))","v":{"$error":"#N/A"}}]
[null,null,"12",{"$f":"IF(A15=\"\",\"\",VLOOKUP(A15&\"\",'Fichero de Jugadores'!$A$2:$H$5000,2,0))","v":""},{"$f":"IF(B15=\"\",\"\",VLOOKUP(B15&\"\",'Fichero de Jugadores'!$A$2:$H$5000,2,0))","v":""},null,{"$f":"IF(A15=\"\",\"\",VLOOKUP(A15&\"\",'Fichero de Jugadores'!$A$2:$H$5000,7,0))","v":""},{"$f":"IF(B15=\"\",\"\",VLOOKUP(B15&\"\",'Fichero de Jugadores'!$A$2:$H$5000,7,0))","v":""},{"$error":"#N/A"},{"$f":"IF(A15=\"\",\"\",VLOOKUP(A15&\"\",'Fichero de Jugadores'!$A$2:$I$5000,9,0))","v":""},{"$f":"IF(B15=\"\",\"\",VLOOKUP(B15&\"\",'Fichero de Jugadores'!$A$2:$I$5000,9,0))","v":""},"",null,null,{"$f":"IF(A15=\"\",\"\",VLOOKUP(A15&\"\",'Fichero de Jugadores'!$A$2:$I$4566,4,0))","v":""},{"$f":"IF(B15=\"\",\"\",VLOOKUP(B15&\"\",'Fichero de Jugadores'!$A$2:$I$4566,4,0))","v":""},{"$f":"IF(C15=\"\",\"\",VLOOKUP(A15&\"\",'Fichero de Jugadores'!$A$2:$I$4566,7,0))","v":{"$error":"#N/A"}},{"$f":"IF(C15=\"\",\"\",VLOOKUP(B15&\"\",'Fichero de Jugadores'!$A$2:$I$4566,7,0))","v":{"$error":"#N/A"}}]
[null,null,"13",{"$f":"IF(A16=\"\",\"\",VLOOKUP(A16&\"\",'Fichero de Jugadores'!$A$2:$H$5000,2,0))","v":""},{"$f":"IF(B16=\"\",\"\",VLOOKUP(B16&\"\",'Fichero de Jugadores'!$A$2:$H$5000,2,0))","v":""},null,{"$f":"IF(A16=\"\",\"\",VLOOKUP(A16&\"\",'Fichero de Jugadores'!$A$2:$H$5000,7,0))","v":""},{"$f":"IF(B16=\"\",\"\",VLOOKUP(B16&\"\",'Fichero de Jugadores'!$A$2:$H$5000,7,0))","v":""},{"$error":"#N/A"},{"$f":"IF(A16=\"\",\"\",VLOOKUP(A16&\"\",'Fichero de Jugadores'!$A$2:$I$5000,9,0))","v":""},{"$f":"IF(B16=\"\",\"\",VLOOKUP(B16&\"\",'Fichero de Jugadores'!$A$2:$I$5000,9,0))","v":""},"",null,null,{"$f":"IF(A16=\"\",\"\",VLOOKUP(A16&\"\",'Fichero de Jugadores'!$A$2:$I$4566,4,0))","v":""},{"$f":"IF(B16=\"\",\"\",VLOOKUP(B16&\"\",'Fichero de Jugadores'!$A$2:$I$4566,4,0))","v":""},{"$f":"IF(C16=\"\",\"\",VLOOKUP(A16&\"\",'Fichero de Jugadores'!$A$2:$I$4566,7,0))","v":{"$error":"#N/A"}},{"$f":"IF(C16=\"\",\"\",VLOOKUP(B16&\"\",'Fichero de Jugadores'!$A$2:$I$4566,7,0))","v":{"$error":"#N/A"}}]
[null,null,"14",{"$f":"IF(A17=\"\",\"\",VLOOKUP(A17&\"\",'Fichero de Jugadores'!$A$2:$H$5000,2,0))","v":""},{"$f":"IF(B17=\"\",\"\",VLOOKUP(B17&\"\",'Fichero de Jugadores'!$A$2:$H$5000,2,0))","v":""},null,{"$f":"IF(A17=\"\",\"\",VLOOKUP(A17&\"\",'Fichero de Jugadores'!$A$2:$H$5000,7,0))","v":""},{"$f":"IF(B17=\"\",\"\",VLOOKUP(B17&\"\",'Fichero de Jugadores'!$A$2:$H$5000,7,0))","v":""},{"$error":"#N/A"},{"$f":"IF(A17=\"\",\"\",VLOOKUP(A17&\"\",'Fichero de Jugadores'!$A$2:$I$5000,9,0))","v":""},{"$f":"IF(B17=\"\",\"\",VLOOKUP(B17&\"\",'Fichero de Jugadores'!$A$2:$I$5000,9,0))","v":""},"",null,null,{"$f":"IF(A17=\"\",\"\",VLOOKUP(A17&\"\",'Fichero de Jugadores'!$A$2:$I$4566,4,0))","v":""},{"$f":"IF(B17=\"\",\"\",VLOOKUP(B17&\"\",'Fichero de Jugadores'!$A$2:$I$4566,4,0))","v":""},{"$f":"IF(C17=\"\",\"\",VLOOKUP(A17&\"\",'Fichero de Jugadores'!$A$2:$I$4566,7,0))","v":{"$error":"#N/A"}},{"$f":"IF(C17=\"\",\"\",VLOOKUP(B17&\"\",'Fichero de Jugadores'!$A$2:$I$4566,7,0))","v":{"$error":"#N/A"}}]
[null,null,"15",{"$f":"IF(A18=\"\",\"\",VLOOKUP(A18&\"\",'Fichero de Jugadores'!$A$2:$H$5000,2,0))","v":""},{"$f":"IF(B18=\"\",\"\",VLOOKUP(B18&\"\",'Fichero de Jugadores'!$A$2:$H$5000,2,0))","v":""},null,{"$f":"IF(A18=\"\",\"\",VLOOKUP(A18&\"\",'Fichero de Jugadores'!$A$2:$H$5000,7,0))","v":""},{"$f":"IF(B18=\"\",\"\",VLOOKUP(B18&\"\",'Fichero de Jugadores'!$A$2:$H$5000,7,0))","v":""},{"$error":"#N/A"},{"$f":"IF(A18=\"\",\"\",VLOOKUP(A18&\"\",'Fichero de Jugadores'!$A$2:$I$5000,9,0))","v":""},{"$f":"IF(B18=\"\",\"\",VLOOKUP(B18&\"\",'Fichero de Jugadores'!$A$2:$I$5000,9,0))","v":""},"",null,null,{"$f":"IF(A18=\"\",\"\",VLOOKUP(A18&\"\",'Fichero de Jugadores'!$A$2:$I$4566,4,0))","v":""},{"$f":"IF(B18=\"\",\"\",VLOOKUP(B18&\"\",'Fichero de Jugadores'!$A$2:$I$4566,4,0))","v":""},{"$f":"IF(C18=\"\",\"\",VLOOKUP(A18&\"\",'Fichero de Jugadores'!$A$2:$I$4566,7,0))","v":{"$error":"#N/A"}},{"$f":"IF(C18=\"\",\"\",VLOOKUP(B18&\"\",'Fichero de Jugadores'!$A$2:$I$4566,7,0))","v":{"$error":"#N/A"}}]
[null,null,"16",{"$f":"IF(A19=\"\",\"\",VLOOKUP(A19&\"\",'Fichero de Jugadores'!$A$2:$H$5000,2,0))","v":""},{"$f":"IF(B19=\"\",\"\",VLOOKUP(B19&\"\",'Fichero de Jugadores'!$A$2:$H$5000,2,0))","v":""},null,{"$f":"IF(A19=\"\",\"\",VLOOKUP(A19&\"\",'Fichero de Jugadores'!$A$2:$H$5000,7,0))","v":""},{"$f":"IF(B19=\"\",\"\",VLOOKUP(B19&\"\",'Fichero de Jugadores'!$A$2:$H$5000,7,0))","v":""},{"$error":"#N/A"},{"$f":"IF(A19=\"\",\"\",VLOOKUP(A19&\"\",'Fichero de Jugadores'!$A$2:$I$5000,9,0))","v":""},{"$f":"IF(B19=\"\",\"\",VLOOKUP(B19&\"\",'Fichero de Jugadores'!$A$2:$I$5000,9,0))","v":""},"",null,null,{"$f":"IF(A19=\"\",\"\",VLOOKUP(A19&\"\",'Fichero de Jugadores'!$A$2:$I$4566,4,0))","v":""},{"$f":"IF(B19=\"\",\"\",VLOOKUP(B19&\"\",'Fichero de Jugadores'!$A$2:$I$4566,4,0))","v":""},{"$f":"IF(C19=\"\",\"\",VLOOKUP(A19&\"\",'Fichero de Jugadores'!$A$2:$I$4566,7,0))","v":{"$error":"#N/A"}},{"$f":"IF(C19=\"\",\"\",VLOOKUP(B19&\"\",'Fichero de Jugadores'!$A$2:$I$4566,7,0))","v":{"$error":"#N/A"}}]
[null,null,"17",{"$f":"IF(A20=\"\",\"\",VLOOKUP(A20&\"\",'Fichero de Jugadores'!$A$2:$H$5000,2,0))","v":""},{"$f":"IF(B20=\"\",\"\",VLOOKUP(B20&\"\",'Fichero de Jugadores'!$A$2:$H$5000,2,0))","v":""},null,{"$f":"IF(A20=\"\",\"\",VLOOKUP(A20&\"\",'Fichero de Jugadores'!$A$2:$H$5000,7,0))","v":""},{"$f":"IF(B20=\"\",\"\",VLOOKUP(B20&\"\",'Fichero de Jugadores'!$A$2:$H$5000,7,0))","v":""},{"$error":"#N/A"},{"$f":"IF(A20=\"\",\"\",VLOOKUP(A20&\"\",'Fichero de Jugadores'!$A$2:$I$5000,9,0))","v":""},{"$f":"IF(B20=\"\",\"\",VLOOKUP(B20&\"\",'Fichero de Jugadores'!$A$2:$I$5000,9,0))","v":""},"",null,null,{"$f":"IF(A20=\"\",\"\",VLOOKUP(A20&\"\",'Fichero de Jugadores'!$A$2:$I$4566,4,0))","v":""},{"$f":"IF(B20=\"\",\"\",VLOOKUP(B20&\"\",'Fichero de Jugadores'!$A$2:$I$4566,4,0))","v":""},{"$f":"IF(C20=\"\",\"\",VLOOKUP(A20&\"\",'Fichero de Jugadores'!$A$2:$I$4566,7,0))","v":{"$error":"#N/A"}},{"$f":"IF(C20=\"\",\"\",VLOOKUP(B20&\"\",'Fichero de Jugadores'!$A$2:$I$4566,7,0))","v":{"$error":"#N/A"}}]
[null,null,"18",{"$f":"IF(A21=\"\",\"\",VLOOKUP(A21&\"\",'Fichero de Jugadores'!$A$2:$H$5000,2,0))","v":""},{"$f":"IF(B21=\"\",\"\",VLOOKUP(B21&\"\",'Fichero de Jugadores'!$A$2:$H$5000,2,0))","v":""},null,{"$f":"IF(A21=\"\",\"\",VLOOKUP(A21&\"\",'Fichero de Jugadores'!$A$2:$H$5000,7,0))","v":""},{"$f":"IF(B21=\"\",\"\",VLOOKUP(B21&\"\",'Fichero de Jugadores'!$A$2:$H$5000,7,0))","v":""},{"$error":"#N/A"},{"$f":"IF(A21=\"\",\"\",VLOOKUP(A21&\"\",'Fichero de Jugadores'!$A$2:$I$5000,9,0))","v":""},{"$f":"IF(B21=\"\",\"\",VLOOKUP(B21&\"\",'Fichero de Jugadores'!$A$2:$I$5000,9,0))","v":""},"",null,null,{"$f":"IF(A21=\"\",\"\",VLOOKUP(A21&\"\",'Fichero de Jugadores'!$A$2:$I$4566,4,0))","v":""},{"$f":"IF(B21=\"\",\"\",VLOOKUP(B21&\"\",'Fichero de Jugadores'!$A$2:$I$4566,4,0))","v":""},{"$f":"IF(C21=\"\",\"\",VLOOKUP(A21&\"\",'Fichero de Jugadores'!$A$2:$I$4566,7,0))","v":{"$error":"#N/A"}},{"$f":"IF(C21=\"\",\"\",VLOOKUP(B21&\"\",'Fichero de Jugadores'!$A$2:$I$4566,7,0))","v":{"$error":"#N/A"}}]
[null,null,"19",{"$f":"IF(A22=\"\",\"\",VLOOKUP(A22&\"\",'Fichero de Jugadores'!$A$2:$H$5000,2,0))","v":""},{"$f":"IF(B22=\"\",\"\",VLOOKUP(B22&\"\",'Fichero de Jugadores'!$A$2:$H$5000,2,0))","v":""},null,{"$f":"IF(A22=\"\",\"\",VLOOKUP(A22&\"\",'Fichero de Jugadores'!$A$2:$H$5000,7,0))","v":""},{"$f":"IF(B22=\"\",\"\",VLOOKUP(B22&\"\",'Fichero de Jugadores'!$A$2:$H$5000,7,0))","v":""},{"$error":"#N/A"},{"$f":"IF(A22=\"\",\"\",VLOOKUP(A22&\"\",'Fichero de Jugadores'!$A$2:$I$5000,9,0))","v":""},{"$f":"IF(B22=\"\",\"\",VLOOKUP(B22&\"\",'Fichero de Jugadores'!$A$2:$I$5000,9,0))","v":""},"",null,null,{"$f":"IF(A22=\"\",\"\",VLOOKUP(A22&\"\",'Fichero de Jugadores'!$A$2:$I$4566,4,0))","v":""},{"$f":"IF(B22=\"\",\"\",VLOOKUP(B22&\"\",'Fichero de Jugadores'!$A$2:$I$4566,4,0))","v":""},{"$f":"IF(C22=\"\",\"\",VLOOKUP(A22&\"\",'Fichero de Jugadores'!$A$2:$I$4566,7,0))","v":{"$error":"#N/A"}},{"$f":"IF(C22=\"\",\"\",VLOOKUP(B22&\"\",'Fichero de Jugadores'!$A$2:$I$4566,7,0))","v":{"$error":"#N/A"}}]
[null,null,"20",{"$f":"IF(A23=\"\",\"\",VLOOKUP(A23&\"\",'Fichero de Jugadores'!$A$2:$H$5000,2,0))","v":""},{"$f":"IF(B23=\"\",\"\",VLOOKUP(B23&\"\",'Fichero de Jugadores'!$A$2:$H$5000,2,0))","v":""},null,{"$f":"IF(A23=\"\",\"\",VLOOKUP(A23&\"\",'Fichero de Jugadores'!$A$2:$H$5000,7,0))","v":""},{"$f":"IF(B23=\"\",\"\",VLOOKUP(B23&\"\",'Fichero de Jugadores'!$A$2:$H$5000,7,0))","v":""},{"$error":"#N/A"},{"$f":"IF(A23=\"\",\"\",VLOOKUP(A23&\"\",'Fichero de Jugadores'!$A$2:$I$5000,9,0))","v":""},{"$f":"IF(B23=\"\",\"\",VLOOKUP(B23&\"\",'Fichero de Jugadores'!$A$2:$I$5000,9,0))","v":""},"",null,null,{"$f":"IF(A23=\"\",\"\",VLOOKUP(A23&\"\",'Fichero de Jugadores'!$A$2:$I$4566,4,0))","v":""},{"$f":"IF(B23=\"\",\"\",VLOOKUP(B23&\"\",'Fichero de Jugadores'!$A$2:$I$4566,4,0))","v":""},{"$f":"IF(C23=\"\",\"\",VLOOKUP(A23&\"\",'Fichero de Jugadores'!$A$2:$I$4566,7,0))","v":{"$error":"#N/A"}},{"$f":"IF(C23=\"\",\"\",VLOOKUP(B23&\"\",'Fichero de Jugadores'!$A$2:$I$4566,7,0))","v":{"$error":"#N/A"}}]
[null,null,"21",{"$f":"IF(A24=\"\",\"\",VLOOKUP(A24&\"\",'Fichero de Jugadores'!$A$2:$H$5000,2,0))","v":""},{"$f":"IF(B24=\"\",\"\",VLOOKUP(B24&\"\",'Fichero de Jugadores'!$A$2:$H$5000,2,0))","v":""},null,{"$f":"IF(A24=\"\",\"\",VLOOKUP(A24&\"\",'Fichero de Jugadores'!$A$2:$H$5000,7,0))","v":""},{"$f":"IF(B24=\"\",\"\",VLOOKUP(B24&\"\",'Fichero de Jugadores'!$A$2:$H$5000,7,0))","v":""},{"$error":"#N/A"},{"$f":"IF(A24=\"\",\"\",VLOOKUP(A24&\"\",'Fichero de Jugadores'!$A$2:$I$5000,9,0))","v":""},{"$f":"IF(B24=\"\",\"\",VLOOKUP(B24&\"\",'Fichero de Jugadores'!$A$2:$I$5000,9,0))","v":""},"",null,null,{"$f":"IF(A24=\"\",\"\",VLOOKUP(A24&\"\",'Fichero de Jugadores'!$A$2:$I$4566,4,0))","v":""},{"$f":"IF(B24=\"\",\"\",VLOOKUP(B24&\"\",'Fichero de Jugadores'!$A$2:$I$4566,4,0))","v":""},{"$f":"IF(C24=\"\",\"\",VLOOKUP(A24&\"\",'Fichero de Jugadores'!$A$2:$I$4566,7,0))","v":{"$error":"#N/A"}},{"$f":"IF(C24=\"\",\"\",VLOOKUP(B24&\"\",'Fichero de Jugadores'!$A$2:$I$4566,7,0))","v":{"$error":"#N/A"}}]
[null,null,"22",{"$f":"IF(A25=\"\",\"\",VLOOKUP(A25&\"\",'Fichero de Jugadores'!$A$2:$H$5000,2,0))","v":""},{"$f":"IF(B25=\"\",\"\",VLOOKUP(B25&\"\",'Fichero de Jugadores'!$A$2:$H$5000,2,0))","v":""},null,{"$f":"IF(A25=\"\",\"\",VLOOKUP(A25&\"\",'Fichero de Jugadores'!$A$2:$H$5000,7,0))","v":""},{"$f":"IF(B25=\"\",\"\",VLOOKUP(B25&\"\",'Fichero de Jugadores'!$A$2:$H$5000,7,0))","v":""},{"$error":"#N/A"},{"$f":"IF(A25=\"\",\"\",VLOOKUP(A25&\"\",'Fichero de Jugadores'!$A$2:$I$5000,9,0))","v":""},{"$f":"IF(B25=\"\",\"\",VLOOKUP(B25&\"\",'Fichero de Jugadores'!$A$2:$I$5000,9,0))","v":""},"",null,null,{"$f":"IF(A25=\"\",\"\",VLOOKUP(A25&\"\",'Fichero de Jugadores'!$A$2:$I$4566,4,0))","v":""},{"$f":"IF(B25=\"\",\"\",VLOOKUP(B25&\"\",'Fichero de Jugadores'!$A$2:$I$4566,4,0))","v":""},{"$f":"IF(C25=\"\",\"\",VLOOKUP(A25&\"\",'Fichero de Jugadores'!$A$2:$I$4566,7,0))","v":{"$error":"#N/A"}},{"$f":"IF(C25=\"\",\"\",VLOOKUP(B25&\"\",'Fichero de Jugadores'!$A$2:$I$4566,7,0))","v":{"$error":"#N/A"}}]
[null,null,"23",{"$f":"IF(A26=\"\",\"\",VLOOKUP(A26&\"\",'Fichero de Jugadores'!$A$2:$H$5000,2,0))","v":""},{"$f":"IF(B26=\"\",\"\",VLOOKUP(B26&\"\",'Fichero de Jugadores'!$A$2:$H$5000,2,0))","v":""},null,{"$f":"IF(A26=\"\",\"\",VLOOKUP(A26&\"\",'Fichero de Jugadores'!$A$2:$H$5000,7,0))","v":""},{"$f":"IF(B26=\"\",\"\",VLOOKUP(B26&\"\",'Fichero de Jugadores'!$A$2:$H$5000,7,0))","v":""},{"$error":"#N/A"},{"$f":"IF(A26=\"\",\"\",VLOOKUP(A26&\"\",'Fichero de Jugadores'!$A$2:$I$5000,9,0))","v":""},{"$f":"IF(B26=\"\",\"\",VLOOKUP(B26&\"\",'Fichero de Jugadores'!$A$2:$I$5000,9,0))","v":""},"",null,null,{"$f":"IF(A26=\"\",\"\",VLOOKUP(A26&\"\",'Fichero de Jugadores'!$A$2:$I$4566,4,0))","v":""},{"$f":"IF(B26=\"\",\"\",VLOOKUP(B26&\"\",'Fichero de Jugadores'!$A$2:$I$4566,4,0))","v":""},{"$f":"IF(C26=\"\",\"\",VLOOKUP(A26&\"\",'Fichero de Jugadores'!$A$2:$I$4566,7,0))","v":{"$error":"#N/A"}},{"$f":"IF(C26=\"\",\"\",VLOOKUP(B26&\"\",'Fichero de Jugadores'!$A$2:$I$4566,7,0))","v":{"$error":"#N/A"}}]
[null,null,"24",{"$f":"IF(A27=\"\",\"\",VLOOKUP(A27&\"\",'Fichero de Jugadores'!$A$2:$H$5000,2,0))","v":""},{"$f":"IF(B27=\"\",\"\",VLOOKUP(B27&\"\",'Fichero de Jugadores'!$A$2:$H$5000,2,0))","v":""},null,{"$f":"IF(A27=\"\",\"\",VLOOKUP(A27&\"\",'Fichero de Jugadores'!$A$2:$H$5000,7,0))","v":""},{"$f":"IF(B27=\"\",\"\",VLOOKUP(B27&\"\",'Fichero de Jugadores'!$A$2:$H$5000,7,0))","v":""},{"$error":"#N/A"},{"$f":"IF(A27=\"\",\"\",VLOOKUP(A27&\"\",'Fichero de Jugadores'!$A$2:$I$5000,9,0))","v":""},{"$f":"IF(B27=\"\",\"\",VLOOKUP(B27&\"\",'Fichero de Jugadores'!$A$2:$I$5000,9,0))","v":""},"",null,null,{"$f":"IF(A27=\"\",\"\",VLOOKUP(A27&\"\",'Fichero de Jugadores'!$A$2:$I$4566,4,0))","v":""},{"$f":"IF(B27=\"\",\"\",VLOOKUP(B27&\"\",'Fichero de Jugadores'!$A$2:$I$4566,4,0))","v":""},{"$f":"IF(C27=\"\",\"\",VLOOKUP(A27&\"\",'Fichero de Jugadores'!$A$2:$I$4566,7,0))","v":{"$error":"#N/A"}},{"$f":"IF(C27=\"\",\"\",VLOOKUP(B27&\"\",'Fichero de Jugadores'!$A$2:$I$4566,7,0))","v":{"$error":"#N/A"}}]
[null,null,"25",{"$f":"IF(A28=\"\",\"\",VLOOKUP(A28&\"\",'Fichero de Jugadores'!$A$2:$H$5000,2,0))","v":""},{"$f":"IF(B28=\"\",\"\",VLOOKUP(B28&\"\",'Fichero de Jugadores'!$A$2:$H$5000,2,0))","v":""},null,{"$f":"IF(A28=\"\",\"\",VLOOKUP(A28&\"\",'Fichero de Jugadores'!$A$2:$H$5000,7,0))","v":""},{"$f":"IF(B28=\"\",\"\",VLOOKUP(B28&\"\",'Fichero de Jugadores'!$A$2:$H$5000,7,0))","v":""},{"$error":"#N/A"},{"$f":"IF(A28=\"\",\"\",VLOOKUP(A28&\"\",'Fichero de Jugadores'!$A$2:$I$5000,9,0))","v":""},{"$f":"IF(B28=\"\",\"\",VLOOKUP(B28&\"\",'Fichero de Jugadores'!$A$2:$I$5000,9,0))","v":""},"",null,null,{"$f":"IF(A28=\"\",\"\",VLOOKUP(A28&\"\",'Fichero de Jugadores'!$A$2:$I$4566,4,0))","v":""},{"$f":"IF(B28=\"\",\"\",VLOOKUP(B28&\"\",'Fichero de Jugadores'!$A$2:$I$4566,4,0))","v":""},{"$f":"IF(C28=\"\",\"\",VLOOKUP(A28&\"\",'Fichero de Jugadores'!$A$2:$I$4566,7,0))","v":{"$error":"#N/A"}},{"$f":"IF(C28=\"\",\"\",VLOOKUP(B28&\"\",'Fichero de Jugadores'!$A$2:$I$4566,7,0))","v":{"$error":"#N/A"}}]
[null,null,"26",{"$f":"IF(A29=\"\",\"\",VLOOKUP(A29&\"\",'Fichero de Jugadores'!$A$2:$H$5000,2,0))","v":""},{"$f":"IF(B29=\"\",\"\",VLOOKUP(B29&\"\",'Fichero de Jugadores'!$A$2:$H$5000,2,0))","v":""},null,{"$f":"IF(A29=\"\",\"\",VLOOKUP(A29&\"\",'Fichero de Jugadores'!$A$2:$H$5000,7,0))","v":""},{"$f":"IF(B29=\"\",\"\",VLOOKUP(B29&\"\",'Fichero de Jugadores'!$A$2:$H$5000,7,0))","v":""},{"$error":"#N/A"},{"$f":"IF(A29=\"\",\"\",VLOOKUP(A29&\"\",'Fichero de Jugadores'!$A$2:$I$5000,9,0))","v":""},{"$f":"IF(B29=\"\",\"\",VLOOKUP(B29&\"\",'Fichero de Jugadores'!$A$2:$I$5000,9,0))","v":""},"",null,null,{"$f":"IF(A29=\"\",\"\",VLOOKUP(A29&\"\",'Fichero de Jugadores'!$A$2:$I$4566,4,0))","v":""},{"$f":"IF(B29=\"\",\"\",VLOOKUP(B29&\"\",'Fichero de Jugadores'!$A$2:$I$4566,4,0))","v":""},{"$f":"IF(C29=\"\",\"\",VLOOKUP(A29&\"\",'Fichero de Jugadores'!$A$2:$I$4566,7,0))","v":{"$error":"#N/A"}},{"$f":"IF(C29=\"\",\"\",VLOOKUP(B29&\"\",'Fichero de Jugadores'!$A$2:$I$4566,7,0))","v":{"$error":"#N/A"}}]
[null,null,"27",{"$f":"IF(A30=\"\",\"\",VLOOKUP(A30&\"\",'Fichero de Jugadores'!$A$2:$H$5000,2,0))","v":""},{"$f":"IF(B30=\"\",\"\",VLOOKUP(B30&\"\",'Fichero de Jugadores'!$A$2:$H$5000,2,0))","v":""},null,{"$f":"IF(A30=\"\",\"\",VLOOKUP(A30&\"\",'Fichero de Jugadores'!$A$2:$H$5000,7,0))","v":""},{"$f":"IF(B30=\"\",\"\",VLOOKUP(B30&\"\",'Fichero de Jugadores'!$A$2:$H$5000,7,0))","v":""},{"$error":"#N/A"},{"$f":"IF(A30=\"\",\"\",VLOOKUP(A30&\"\",'Fichero de Jugadores'!$A$2:$I$5000,9,0))","v":""},{"$f":"IF(B30=\"\",\"\",VLOOKUP(B30&\"\",'Fichero de Jugadores'!$A$2:$I$5000,9,0))","v":""},"",null,null,{"$f":"IF(A30=\"\",\"\",VLOOKUP(A30&\"\",'Fichero de Jugadores'!$A$2:$I$4566,4,0))","v":""},{"$f":"IF(B30=\"\",\"\",VLOOKUP(B30&\"\",'Fichero de Jugadores'!$A$2:$I$4566,4,0))","v":""},{"$f":"IF(C30=\"\",\"\",VLOOKUP(A30&\"\",'Fichero de Jugadores'!$A$2:$I$4566,7,0))","v":{"$error":"#N/A"}},{"$f":"IF(C30=\"\",\"\",VLOOKUP(B30&\"\",'Fichero de Jugadores'!$A$2:$I$4566,7,0))","v":{"$error":"#N/A"}}]
[null,null,"28",{"$f":"IF(A31=\"\",\"\",VLOOKUP(A31&\"\",'Fichero de Jugadores'!$A$2:$H$5000,2,0))","v":""},{"$f":"IF(B31=\"\",\"\",VLOOKUP(B31&\"\",'Fichero de Jugadores'!$A$2:$H$5000,2,0))","v":""},null,{"$f":"IF(A31=\"\",\"\",VLOOKUP(A31&\"\",'Fichero de Jugadores'!$A$2:$H$5000,7,0))","v":""},{"$f":"IF(B31=\"\",\"\",VLOOKUP(B31&\"\",'Fichero de Jugadores'!$A$2:$H$5000,7,0))","v":""},{"$error":"#N/A"},{"$f":"IF(A31=\"\",\"\",VLOOKUP(A31&\"\",'Fichero de Jugadores'!$A$2:$I$5000,9,0))","v":""},{"$f":"IF(B31=\"\",\"\",VLOOKUP(B31&\"\",'Fichero de Jugadores'!$A$2:$I$5000,9,0))","v":""},"",null,null,{"$f":"IF(A31=\"\",\"\",VLOOKUP(A31&\"\",'Fichero de Jugadores'!$A$2:$I$4566,4,0))","v":""},{"$f":"IF(B31=\"\",\"\",VLOOKUP(B31&\"\",'Fichero de Jugadores'!$A$2:$I$4566,4,0))","v":""},{"$f":"IF(C31=\"\",\"\",VLOOKUP(A31&\"\",'Fichero de Jugadores'!$A$2:$I$4566,7,0))","v":{"$error":"#N/A"}},{"$f":"IF(C31=\"\",\"\",VLOOKUP(B31&\"\",'Fichero de Jugadores'!$A$2:$I$4566,7,0))","v":{"$error":"#N/A"}}]
[null,null,"29",{"$f":"IF(A32=\"\",\"\",VLOOKUP(A32&\"\",'Fichero de Jugadores'!$A$2:$H$5000,2,0))","v":""},{"$f":"IF(B32=\"\",\"\",VLOOKUP(B32&\"\",'Fichero de Jugadores'!$A$2:$H$5000,2,0))","v":""},null,{"$f":"IF(A32=\"\",\"\",VLOOKUP(A32&\"\",'Fichero de Jugadores'!$A$2:$H$5000,7,0))","v":""},{"$f":"IF(B32=\"\",\"\",VLOOKUP(B32&\"\",'Fichero de Jugadores'!$A$2:$H$5000,7,0))","v":""},{"$error":"#N/A"},{"$f":"IF(A32=\"\",\"\",VLOOKUP(A32&\"\",'Fichero de Jugadores'!$A$2:$I$5000,9,0))","v":""},{"$f":"IF(B32=\"\",\"\",VLOOKUP(B32&\"\",'Fichero de Jugadores'!$A$2:$I$5000,9,0))","v":""},"",null,null,{"$f":"IF(A32=\"\",\"\",VLOOKUP(A32&\"\",'Fichero de Jugadores'!$A$2:$I$4566,4,0))","v":""},{"$f":"IF(B32=\"\",\"\",VLOOKUP(B32&\"\",'Fichero de Jugadores'!$A$2:$I$4566,4,0))","v":""},{"$f":"IF(C32=\"\",\"\",VLOOKUP(A32&\"\",'Fichero de Jugadores'!$A$2:$I$4566,7,0))","v":{"$error":"#N/A"}},{"$f":"IF(C32=\"\",\"\",VLOOKUP(B32&\"\",'Fichero de Jugadores'!$A$2:$I$4566,7,0))","v":{"$error":"#N/A"}}]
[null,null,"30",{"$f":"IF(A33=\"\",\"\",VLOOKUP(A33&\"\",'Fichero de Jugadores'!$A$2:$H$5000,2,0))","v":""},{"$f":"IF(B33=\"\",\"\",VLOOKUP(B33&\"\",'Fichero de Jugadores'!$A$2:$H$5000,2,0))","v":""},null,{"$f":"IF(A33=\"\",\"\",VLOOKUP(A33&\"\",'Fichero de Jugadores'!$A$2:$H$5000,7,0))","v":""},{"$f":"IF(B33=\"\",\"\",VLOOKUP(B33&\"\",'Fichero de Jugadores'!$A$2:$H$5000,7,0))","v":""},{"$error":"#N/A"},{"$f":"IF(A33=\"\",\"\",VLOOKUP(A33&\"\",'Fichero de Jugadores'!$A$2:$I$5000,9,0))","v":""},{"$f":"IF(B33=\"\",\"\",VLOOKUP(B33&\"\",'Fichero de Jugadores'!$A$2:$I$5000,9,0))","v":""},"",null,null,{"$f":"IF(A33=\"\",\"\",VLOOKUP(A33&\"\",'Fichero de Jugadores'!$A$2:$I$4566,4,0))","v":""},{"$f":"IF(B33=\"\",\"\",VLOOKUP(B33&\"\",'Fichero de Jugadores'!$A$2:$I$4566,4,0))","v":""},{"$f":"IF(C33=\"\",\"\",VLOOKUP(A33&\"\",'Fichero de Jugadores'!$A$2:$I$4566,7,0))","v":{"$error":"#N/A"}},{"$f":"IF(C33=\"\",\"\",VLOOKUP(B33&\"\",'Fichero de Jugadores'!$A$2:$I$4566,7,0))","v":{"$error":"#N/A"}}]
[null,null,"31",{"$f":"IF(A34=\"\",\"\",VLOOKUP(A34&\"\",'Fichero de Jugadores'!$A$2:$H$5000,2,0))","v":""},{"$f":"IF(B34=\"\",\"\",VLOOKUP(B34&\"\",'Fichero de Jugadores'!$A$2:$H$5000,2,0))","v":""},null,{"$f":"IF(A34=\"\",\"\",VLOOKUP(A34&\"\",'Fichero de Jugadores'!$A$2:$H$5000,7,0))","v":""},{"$f":"IF(B34=\"\",\"\",VLOOKUP(B34&\"\",'Fichero de Jugadores'!$A$2:$H$5000,7,0))","v":""},{"$error":"#N/A"},{"$f":"IF(A34=\"\",\"\",VLOOKUP(A34&\"\",'Fichero de Jugadores'!$A$2:$I$5000,9,0))","v":""},{"$f":"IF(B34=\"\",\"\",VLOOKUP(B34&\"\",'Fichero de Jugadores'!$A$2:$I$5000,9,0))","v":""},"",null,null,{"$f":"IF(A34=\"\",\"\",VLOOKUP(A34&\"\",'Fichero de Jugadores'!$A$2:$I$4566,4,0))","v":""},{"$f":"IF(B34=\"\",\"\",VLOOKUP(B34&\"\",'Fichero de Jugadores'!$A$2:$I$4566,4,0))","v":""},{"$f":"IF(C34=\"\",\"\",VLOOKUP(A34&\"\",'Fichero de Jugadores'!$A$2:$I$4566,7,0))","v":{"$error":"#N/A"}},{"$f":"IF(C34=\"\",\"\",VLOOKUP(B34&\"\",'Fichero de Jugadores'!$A$2:$I$4566,7,0))","v":{"$error":"#N/A"}}]
[null,null,"32",{"$f":"IF(A35=\"\",\"\",VLOOKUP(A35&\"\",'Fichero de Jugadores'!$A$2:$H$5000,2,0))","v":""},{"$f":"IF(B35=\"\",\"\",VLOOKUP(B35&\"\",'Fichero de Jugadores'!$A$2:$H$5000,2,0))","v":""},null,{"$f":"IF(A35=\"\",\"\",VLOOKUP(A35&\"\",'Fichero de Jugadores'!$A$2:$H$5000,7,0))","v":""},{"$f":"IF(B35=\"\",\"\",VLOOKUP(B35&\"\",'Fichero de Jugadores'!$A$2:$H$5000,7,0))","v":""},{"$error":"#N/A"},{"$f":"IF(A35=\"\",\"\",VLOOKUP(A35&\"\",'Fichero de Jugadores'!$A$2:$I$5000,9,0))","v":""},{"$f":"IF(B35=\"\",\"\",VLOOKUP(B35&\"\",'Fichero de Jugadores'!$A$2:$I$5000,9,0))","v":""},"",null,null,{"$f":"IF(A35=\"\",\"\",VLOOKUP(A35&\"\",'Fichero de Jugadores'!$A$2:$I$4566,4,0))","v":""},{"$f":"IF(B35=\"\",\"\",VLOOKUP(B35&\"\",'Fichero de Jugadores'!$A$2:$I$4566,4,0))","v":""},{"$f":"IF(C35=\"\",\"\",VLOOKUP(A35&\"\",'Fichero de Jugadores'!$A$2:$I$4566,7,0))","v":{"$error":"#N/A"}},{"$f":"IF(C35=\"\",\"\",VLOOKUP(B35&\"\",'Fichero de Jugadores'!$A$2:$I$4566,7,0))","v":{"$error":"#N/A"}}]
[null,null,"33",{"$f":"IF(A36=\"\",\"\",VLOOKUP(A36&\"\",'Fichero de Jugadores'!$A$2:$H$5000,2,0))","v":""},{"$f":"IF(B36=\"\",\"\",VLOOKUP(B36&\"\",'Fichero de Jugadores'!$A$2:$H$5000,2,0))","v":""},null,{"$f":"IF(A36=\"\",\"\",VLOOKUP(A36&\"\",'Fichero de Jugadores'!$A$2:$H$5000,7,0))","v":""},{"$f":"IF(B36=\"\",\"\",VLOOKUP(B36&\"\",'Fichero de Jugadores'!$A$2:$H$5000,7,0))","v":""},{"$error":"#N/A"},{"$f":"IF(A36=\"\",\"\",VLOOKUP(A36&\"\",'Fichero de Jugadores'!$A$2:$I$5000,9,0))","v":""},{"$f":"IF(B36=\"\",\"\",VLOOKUP(B36&\"\",'Fichero de Jugadores'!$A$2:$I$5000,9,0))","v":""},"",null,null,{"$f":"IF(A36=\"\",\"\",VLOOKUP(A36&\"\",'Fichero de Jugadores'!$A$2:$I$4566,4,0))","v":""},{"$f":"IF(B36=\"\",\"\",VLOOKUP(B36&\"\",'Fichero de Jugadores'!$A$2:$I$4566,4,0))","v":""},{"$f":"IF(C36=\"\",\"\",VLOOKUP(A36&\"\",'Fichero de Jugadores'!$A$2:$I$4566,7,0))","v":{"$error":"#N/A"}},{"$f":"IF(C36=\"\",\"\",VLOOKUP(B36&\"\",'Fichero de Jugadores'!$A$2:$I$4566,7,0))","v":{"$error":"#N/A"}}]
[null,null,"34",{"$f":"IF(A37=\"\",\"\",VLOOKUP(A37&\"\",'Fichero de Jugadores'!$A$2:$H$5000,2,0))","v":""},{"$f":"IF(B37=\"\",\"\",VLOOKUP(B37&\"\",'Fichero de Jugadores'!$A$2:$H$5000,2,0))","v":""},null,{"$f":"IF(A37=\"\",\"\",VLOOKUP(A37&\"\",'Fichero de Jugadores'!$A$2:$H$5000,7,0))","v":""},{"$f":"IF(B37=\"\",\"\",VLOOKUP(B37&\"\",'Fichero de Jugadores'!$A$2:$H$5000,7,0))","v":""},{"$error":"#N/A"},{"$f":"IF(A37=\"\",\"\",VLOOKUP(A37&\"\",'Fichero de Jugadores'!$A$2:$I$5000,9,0))","v":""},{"$f":"IF(B37=\"\",\"\",VLOOKUP(B37&\"\",'Fichero de Jugadores'!$A$2:$I$5000,9,0))","v":""},"",null,null,{"$f":"IF(A37=\"\",\"\",VLOOKUP(A37&\"\",'Fichero de Jugadores'!$A$2:$I$4566,4,0))","v":""},{"$f":"IF(B37=\"\",\"\",VLOOKUP(B37&\"\",'Fichero de Jugadores'!$A$2:$I$4566,4,0))","v":""},{"$f":"IF(C37=\"\",\"\",VLOOKUP(A37&\"\",'Fichero de Jugadores'!$A$2:$I$4566,7,0))","v":{"$error":"#N/A"}},{"$f":"IF(C37=\"\",\"\",VLOOKUP(B37&\"\",'Fichero de Jugadores'!$A$2:$I$4566,7,0))","v":{"$error":"#N/A"}}]
[null,null,"35",{"$f":"IF(A38=\"\",\"\",VLOOKUP(A38&\"\",'Fichero de Jugadores'!$A$2:$H$5000,2,0))","v":""},{"$f":"IF(B38=\"\",\"\",VLOOKUP(B38&\"\",'Fichero de Jugadores'!$A$2:$H$5000,2,0))","v":""},null,{"$f":"IF(A38=\"\",\"\",VLOOKUP(A38&\"\",'Fichero de Jugadores'!$A$2:$H$5000,7,0))","v":""},{"$f":"IF(B38=\"\",\"\",VLOOKUP(B38&\"\",'Fichero de Jugadores'!$A$2:$H$5000,7,0))","v":""},{"$error":"#N/A"},{"$f":"IF(A38=\"\",\"\",VLOOKUP(A38&\"\",'Fichero de Jugadores'!$A$2:$I$5000,9,0))","v":""},{"$f":"IF(B38=\"\",\"\",VLOOKUP(B38&\"\",'Fichero de Jugadores'!$A$2:$I$5000,9,0))","v":""},"",null,null,{"$f":"IF(A38=\"\",\"\",VLOOKUP(A38&\"\",'Fichero de Jugadores'!$A$2:$I$4566,4,0))","v":""},{"$f":"IF(B38=\"\",\"\",VLOOKUP(B38&\"\",'Fichero de Jugadores'!$A$2:$I$4566,4,0))","v":""},{"$f":"IF(C38=\"\",\"\",VLOOKUP(A38&\"\",'Fichero de Jugadores'!$A$2:$I$4566,7,0))","v":{"$error":"#N/A"}},{"$f":"IF(C38=\"\",\"\",VLOOKUP(B38&\"\",'Fichero de Jugadores'!$A$2:$I$4566,7,0))","v":{"$error":"#N/A"}}]
[null,null,"36",{"$f":"IF(A39=\"\",\"\",VLOOKUP(A39&\"\",'Fichero de Jugadores'!$A$2:$H$5000,2,0))","v":""},{"$f":"IF(B39=\"\",\"\",VLOOKUP(B39&\"\",'Fichero de Jugadores'!$A$2:$H$5000,2,0))","v":""},null,{"$f":"IF(A39=\"\",\"\",VLOOKUP(A39&\"\",'Fichero de Jugadores'!$A$2:$H$5000,7,0))","v":""},{"$f":"IF(B39=\"\",\"\",VLOOKUP(B39&\"\",'Fichero de Jugadores'!$A$2:$H$5000,7,0))","v":""},{"$error":"#N/A"},{"$f":"IF(A39=\"\",\"\",VLOOKUP(A39&\"\",'Fichero de Jugadores'!$A$2:$I$5000,9,0))","v":""},{"$f":"IF(B39=\"\",\"\",VLOOKUP(B39&\"\",'Fichero de Jugadores'!$A$2:$I$5000,9,0))","v":""},"",null,null,{"$f":"IF(A39=\"\",\"\",VLOOKUP(A39&\"\",'Fichero de Jugadores'!$A$2:$I$4566,4,0))","v":""},{"$f":"IF(B39=\"\",\"\",VLOOKUP(B39&\"\",'Fichero de Jugadores'!$A$2:$I$4566,4,0))","v":""},{"$f":"IF(C39=\"\",\"\",VLOOKUP(A39&\"\",'Fichero de Jugadores'!$A$2:$I$4566,7,0))","v":{"$error":"#N/A"}},{"$f":"IF(C39=\"\",\"\",VLOOKUP(B39&\"\",'Fichero de Jugadores'!$A$2:$I$4566,7,0))","v":{"$error":"#N/A"}}]
[null,null,"37",{"$f":"IF(A40=\"\",\"\",VLOOKUP(A40&\"\",'Fichero de Jugadores'!$A$2:$H$5000,2,0))","v":""},{"$f":"IF(B40=\"\",\"\",VLOOKUP(B40&\"\",'Fichero de Jugadores'!$A$2:$H$5000,2,0))","v":""},null,{"$f":"IF(A40=\"\",\"\",VLOOKUP(A40&\"\",'Fichero de Jugadores'!$A$2:$H$5000,7,0))","v":""},{"$f":"IF(B40=\"\",\"\",VLOOKUP(B40&\"\",'Fichero de Jugadores'!$A$2:$H$5000,7,0))","v":""},{"$error":"#N/A"},{"$f":"IF(A40=\"\",\"\",VLOOKUP(A40&\"\",'Fichero de Jugadores'!$A$2:$I$5000,9,0))","v":""},{"$f":"IF(B40=\"\",\"\",VLOOKUP(B40&\"\",'Fichero de Jugadores'!$A$2:$I$5000,9,0))","v":""},"",null,null,{"$f":"IF(A40=\"\",\"\",VLOOKUP(A40&\"\",'Fichero de Jugadores'!$A$2:$I$4566,4,0))","v":""},{"$f":"IF(B40=\"\",\"\",VLOOKUP(B40&\"\",'Fichero de Jugadores'!$A$2:$I$4566,4,0))","v":""},{"$f":"IF(C40=\"\",\"\",VLOOKUP(A40&\"\",'Fichero de Jugadores'!$A$2:$I$4566,7,0))","v":{"$error":"#N/A"}},{"$f":"IF(C40=\"\",\"\",VLOOKUP(B40&\"\",'Fichero de Jugadores'!$A$2:$I$4566,7,0))","v":{"$error":"#N/A"}}]
[null,null,"38",{"$f":"IF(A41=\"\",\"\",VLOOKUP(A41&\"\",'Fichero de Jugadores'!$A$2:$H$5000,2,0))","v":""},{"$f":"IF(B41=\"\",\"\",VLOOKUP(B41&\"\",'Fichero de Jugadores'!$A$2:$H$5000,2,0))","v":""},null,{"$f":"IF(A41=\"\",\"\",VLOOKUP(A41&\"\",'Fichero de Jugadores'!$A$2:$H$5000,7,0))","v":""},{"$f":"IF(B41=\"\",\"\",VLOOKUP(B41&\"\",'Fichero de Jugadores'!$A$2:$H$5000,7,0))","v":""},{"$error":"#N/A"},{"$f":"IF(A41=\"\",\"\",VLOOKUP(A41&\"\",'Fichero de Jugadores'!$A$2:$I$5000,9,0))","v":""},{"$f":"IF(B41=\"\",\"\",VLOOKUP(B41&\"\",'Fichero de Jugadores'!$A$2:$I$5000,9,0))","v":""},"",null,null,{"$f":"IF(A41=\"\",\"\",VLOOKUP(A41&\"\",'Fichero de Jugadores'!$A$2:$I$4566,4,0))","v":""},{"$f":"IF(B41=\"\",\"\",VLOOKUP(B41&\"\",'Fichero de Jugadores'!$A$2:$I$4566,4,0))","v":""},{"$f":"IF(C41=\"\",\"\",VLOOKUP(A41&\"\",'Fichero de Jugadores'!$A$2:$I$4566,7,0))","v":{"$error":"#N/A"}},{"$f":"IF(C41=\"\",\"\",VLOOKUP(B41&\"\",'Fichero de Jugadores'!$A$2:$I$4566,7,0))","v":{"$error":"#N/A"}}]
[null,null,"39",{"$f":"IF(A42=\"\",\"\",VLOOKUP(A42&\"\",'Fichero de Jugadores'!$A$2:$H$5000,2,0))","v":""},{"$f":"IF(B42=\"\",\"\",VLOOKUP(B42&\"\",'Fichero de Jugadores'!$A$2:$H$5000,2,0))","v":""},null,{"$f":"IF(A42=\"\",\"\",VLOOKUP(A42&\"\",'Fichero de Jugadores'!$A$2:$H$5000,7,0))","v":""},{"$f":"IF(B42=\"\",\"\",VLOOKUP(B42&\"\",'Fichero de Jugadores'!$A$2:$H$5000,7,0))","v":""},{"$error":"#N/A"},{"$f":"IF(A42=\"\",\"\",VLOOKUP(A42&\"\",'Fichero de Jugadores'!$A$2:$I$5000,9,0))","v":""},{"$f":"IF(B42=\"\",\"\",VLOOKUP(B42&\"\",'Fichero de Jugadores'!$A$2:$I$5000,9,0))","v":""},"",null,null,{"$f":"IF(A42=\"\",\"\",VLOOKUP(A42&\"\",'Fichero de Jugadores'!$A$2:$I$4566,4,0))","v":""},{"$f":"IF(B42=\"\",\"\",VLOOKUP(B42&\"\",'Fichero de Jugadores'!$A$2:$I$4566,4,0))","v":""},{"$f":"IF(C42=\"\",\"\",VLOOKUP(A42&\"\",'Fichero de Jugadores'!$A$2:$I$4566,7,0))","v":{"$error":"#N/A"}},{"$f":"IF(C42=\"\",\"\",VLOOKUP(B42&\"\",'Fichero de Jugadores'!$A$2:$I$4566,7,0))","v":{"$error":"#N/A"}}]
[null,null,"40",{"$f":"IF(A43=\"\",\"\",VLOOKUP(A43&\"\",'Fichero de Jugadores'!$A$2:$H$5000,2,0))","v":""},{"$f":"IF(B43=\"\",\"\",VLOOKUP(B43&\"\",'Fichero de Jugadores'!$A$2:$H$5000,2,0))","v":""},null,{"$f":"IF(A43=\"\",\"\",VLOOKUP(A43&\"\",'Fichero de Jugadores'!$A$2:$H$5000,7,0))","v":""},{"$f":"IF(B43=\"\",\"\",VLOOKUP(B43&\"\",'Fichero de Jugadores'!$A$2:$H$5000,7,0))","v":""},{"$error":"#N/A"},{"$f":"IF(A43=\"\",\"\",VLOOKUP(A43&\"\",'Fichero de Jugadores'!$A$2:$I$5000,9,0))","v":""},{"$f":"IF(B43=\"\",\"\",VLOOKUP(B43&\"\",'Fichero de Jugadores'!$A$2:$I$5000,9,0))","v":""},"",null,null,{"$f":"IF(A43=\"\",\"\",VLOOKUP(A43&\"\",'Fichero de Jugadores'!$A$2:$I$4566,4,0))","v":""},{"$f":"IF(B43=\"\",\"\",VLOOKUP(B43&\"\",'Fichero de Jugadores'!$A$2:$I$4566,4,0))","v":""},{"$f":"IF(C43=\"\",\"\",VLOOKUP(A43&\"\",'Fichero de Jugadores'!$A$2:$I$4566,7,0))","v":{"$error":"#N/A"}},{"$f":"IF(C43=\"\",\"\",VLOOKUP(B43&\"\",'Fichero de Jugadores'!$A$2:$I$4566,7,0))","v":{"$error":"#N/A"}}]
[null,null,"41",{"$f":"IF(A44=\"\",\"\",VLOOKUP(A44&\"\",'Fichero de Jugadores'!$A$2:$H$5000,2,0))","v":""},{"$f":"IF(B44=\"\",\"\",VLOOKUP(B44&\"\",'Fichero de Jugadores'!$A$2:$H$5000,2,0))","v":""},null,{"$f":"IF(A44=\"\",\"\",VLOOKUP(A44&\"\",'Fichero de Jugadores'!$A$2:$H$5000,7,0))","v":""},{"$f":"IF(B44=\"\",\"\",VLOOKUP(B44&\"\",'Fichero de Jugadores'!$A$2:$H$5000,7,0))","v":""},{"$error":"#N/A"},{"$f":"IF(A44=\"\",\"\",VLOOKUP(A44&\"\",'Fichero de Jugadores'!$A$2:$I$5000,9,0))","v":""},{"$f":"IF(B44=\"\",\"\",VLOOKUP(B44&\"\",'Fichero de Jugadores'!$A$2:$I$5000,9,0))","v":""},"",null,null,{"$f":"IF(A44=\"\",\"\",VLOOKUP(A44&\"\",'Fichero de Jugadores'!$A$2:$I$4566,4,0))","v":""},{"$f":"IF(B44=\"\",\"\",VLOOKUP(B44&\"\",'Fichero de Jugadores'!$A$2:$I$4566,4,0))","v":""},{"$f":"IF(C44=\"\",\"\",VLOOKUP(A44&\"\",'Fichero de Jugadores'!$A$2:$I$4566,7,0))","v":{"$error":"#N/A"}},{"$f":"IF(C44=\"\",\"\",VLOOKUP(B44&\"\",'Fichero de Jugadores'!$A$2:$I$4566,7,0))","v":{"$error":"#N/A"}}]
[null,null,"42",{"$f":"IF(A45=\"\",\"\",VLOOKUP(A45&\"\",'Fichero de Jugadores'!$A$2:$H$5000,2,0))","v":""},{"$f":"IF(B45=\"\",\"\",VLOOKUP(B45&\"\",'Fichero de Jugadores'!$A$2:$H$5000,2,0))","v":""},null,{"$f":"IF(A45=\"\",\"\",VLOOKUP(A45&\"\",'Fichero de Jugadores'!$A$2:$H$5000,7,0))","v":""},{"$f":"IF(B45=\"\",\"\",VLOOKUP(B45&\"\",'Fichero de Jugadores'!$A$2:$H$5000,7,0))","v":""},{"$error":"#N/A"},{"$f":"IF(A45=\"\",\"\",VLOOKUP(A45&\"\",'Fichero de Jugadores'!$A$2:$I$5000,9,0))","v":""},{"$f":"IF(B45=\"\",\"\",VLOOKUP(B45&\"\",'Fichero de Jugadores'!$A$2:$I$5000,9,0))","v":""},"",null,null,{"$f":"IF(A45=\"\",\"\",VLOOKUP(A45&\"\",'Fichero de Jugadores'!$A$2:$I$4566,4,0))","v":""},{"$f":"IF(B45=\"\",\"\",VLOOKUP(B45&\"\",'Fichero de Jugadores'!$A$2:$I$4566,4,0))","v":""},{"$f":"IF(C45=\"\",\"\",VLOOKUP(A45&\"\",'Fichero de Jugadores'!$A$2:$I$4566,7,0))","v":{"$error":"#N/A"}},{"$f":"IF(C45=\"\",\"\",VLOOKUP(B45&\"\",'Fichero de Jugadores'!$A$2:$I$4566,7,0))","v":{"$error":"#N/A"}}]
[null,null,"43",{"$f":"IF(A46=\"\",\"\",VLOOKUP(A46&\"\",'Fichero de Jugadores'!$A$2:$H$5000,2,0))","v":""},{"$f":"IF(B46=\"\",\"\",VLOOKUP(B46&\"\",'Fichero de Jugadores'!$A$2:$H$5000,2,0))","v":""},null,{"$f":"IF(A46=\"\",\"\",VLOOKUP(A46&\"\",'Fichero de Jugadores'!$A$2:$H$5000,7,0))","v":""},{"$f":"IF(B46=\"\",\"\",VLOOKUP(B46&\"\",'Fichero de Jugadores'!$A$2:$H$5000,7,0))","v":""},{"$error":"#N/A"},{"$f":"IF(A46=\"\",\"\",VLOOKUP(A46&\"\",'Fichero de Jugadores'!$A$2:$I$5000,9,0))","v":""},{"$f":"IF(B46=\"\",\"\",VLOOKUP(B46&\"\",'Fichero de Jugadores'!$A$2:$I$5000,9,0))","v":""},"",null,null,{"$f":"IF(A46=\"\",\"\",VLOOKUP(A46&\"\",'Fichero de Jugadores'!$A$2:$I$4566,4,0))","v":""},{"$f":"IF(B46=\"\",\"\",VLOOKUP(B46&\"\",'Fichero de Jugadores'!$A$2:$I$4566,4,0))","v":""},{"$f":"IF(C46=\"\",\"\",VLOOKUP(A46&\"\",'Fichero de Jugadores'!$A$2:$I$4566,7,0))","v":{"$error":"#N/A"}},{"$f":"IF(C46=\"\",\"\",VLOOKUP(B46&\"\",'Fichero de Jugadores'!$A$2:$I$4566,7,0))","v":{"$error":"#N/A"}}]
[null,null,"44",{"$f":"IF(A47=\"\",\"\",VLOOKUP(A47&\"\",'Fichero de Jugadores'!$A$2:$H$5000,2,0))","v":""},{"$f":"IF(B47=\"\",\"\",VLOOKUP(B47&\"\",'Fichero de Jugadores'!$A$2:$H$5000,2,0))","v":""},null,{"$f":"IF(A47=\"\",\"\",VLOOKUP(A47&\"\",'Fichero de Jugadores'!$A$2:$H$5000,7,0))","v":""},{"$f":"IF(B47=\"\",\"\",VLOOKUP(B47&\"\",'Fichero de Jugadores'!$A$2:$H$5000,7,0))","v":""},{"$error":"#N/A"},{"$f":"IF(A47=\"\",\"\",VLOOKUP(A47&\"\",'Fichero de Jugadores'!$A$2:$I$5000,9,0))","v":""},{"$f":"IF(B47=\"\",\"\",VLOOKUP(B47&\"\",'Fichero de Jugadores'!$A$2:$I$5000,9,0))","v":""},"",null,null,{"$f":"IF(A47=\"\",\"\",VLOOKUP(A47&\"\",'Fichero de Jugadores'!$A$2:$I$4566,4,0))","v":""},{"$f":"IF(B47=\"\",\"\",VLOOKUP(B47&\"\",'Fichero de Jugadores'!$A$2:$I$4566,4,0))","v":""},{"$f":"IF(C47=\"\",\"\",VLOOKUP(A47&\"\",'Fichero de Jugadores'!$A$2:$I$4566,7,0))","v":{"$error":"#N/A"}},{"$f":"IF(C47=\"\",\"\",VLOOKUP(B47&\"\",'Fichero de Jugadores'!$A$2:$I$4566,7,0))","v":{"$error":"#N/A"}}]
[null,null,"45",{"$f":"IF(A48=\"\",\"\",VLOOKUP(A48&\"\",'Fichero de Jugadores'!$A$2:$H$5000,2,0))","v":""},{"$f":"IF(B48=\"\",\"\",VLOOKUP(B48&\"\",'Fichero de Jugadores'!$A$2:$H$5000,2,0))","v":""},null,{"$f":"IF(A48=\"\",\"\",VLOOKUP(A48&\"\",'Fichero de Jugadores'!$A$2:$H$5000,7,0))","v":""},{"$f":"IF(B48=\"\",\"\",VLOOKUP(B48&\"\",'Fichero de Jugadores'!$A$2:$H$5000,7,0))","v":""},{"$error":"#N/A"},{"$f":"IF(A48=\"\",\"\",VLOOKUP(A48&\"\",'Fichero de Jugadores'!$A$2:$I$5000,9,0))","v":""},{"$f":"IF(B48=\"\",\"\",VLOOKUP(B48&\"\",'Fichero de Jugadores'!$A$2:$I$5000,9,0))","v":""},"",null,null,{"$f":"IF(A48=\"\",\"\",VLOOKUP(A48&\"\",'Fichero de Jugadores'!$A$2:$I$4566,4,0))","v":""},{"$f":"IF(B48=\"\",\"\",VLOOKUP(B48&\"\",'Fichero de Jugadores'!$A$2:$I$4566,4,0))","v":""},{"$f":"IF(C48=\"\",\"\",VLOOKUP(A48&\"\",'Fichero de Jugadores'!$A$2:$I$4566,7,0))","v":{"$error":"#N/A"}},{"$f":"IF(C48=\"\",\"\",VLOOKUP(B48&\"\",'Fichero de Jugadores'!$A$2:$I$4566,7,0))","v":{"$error":"#N/A"}}]
[null,null,"46",{"$f":"IF(A49=\"\",\"\",VLOOKUP(A49&\"\",'Fichero de Jugadores'!$A$2:$H$5000,2,0))","v":""},{"$f":"IF(B49=\"\",\"\",VLOOKUP(B49&\"\",'Fichero de Jugadores'!$A$2:$H$5000,2,0))","v":""},null,{"$f":"IF(A49=\"\",\"\",VLOOKUP(A49&\"\",'Fichero de Jugadores'!$A$2:$H$5000,7,0))","v":""},{"$f":"IF(B49=\"\",\"\",VLOOKUP(B49&\"\",'Fichero de Jugadores'!$A$2:$H$5000,7,0))","v":""},{"$error":"#N/A"},{"$f":"IF(A49=\"\",\"\",VLOOKUP(A49&\"\",'Fichero de Jugadores'!$A$2:$I$5000,9,0))","v":""},{"$f":"IF(B49=\"\",\"\",VLOOKUP(B49&\"\",'Fichero de Jugadores'!$A$2:$I$5000,9,0))","v":""},"",null,null,{"$f":"IF(A49=\"\",\"\",VLOOKUP(A49&\"\",'Fichero de Jugadores'!$A$2:$I$4566,4,0))","v":""},{"$f":"IF(B49=\"\",\"\",VLOOKUP(B49&\"\",'Fichero de Jugadores'!$A$2:$I$4566,4,0))","v":""},{"$f":"IF(C49=\"\",\"\",VLOOKUP(A49&\"\",'Fichero de Jugadores'!$A$2:$I$4566,7,0))","v":{"$error":"#N/A"}},{"$f":"IF(C49=\"\",\"\",VLOOKUP(B49&\"\",'Fichero de Jugadores'!$A$2:$I$4566,7,0))","v":{"$error":"#N/A"}}]
[null,null,"47",{"$f":"IF(A50=\"\",\"\",VLOOKUP(A50&\"\",'Fichero de Jugadores'!$A$2:$H$5000,2,0))","v":""},{"$f":"IF(B50=\"\",\"\",VLOOKUP(B50&\"\",'Fichero de Jugadores'!$A$2:$H$5000,2,0))","v":""},null,{"$f":"IF(A50=\"\",\"\",VLOOKUP(A50&\"\",'Fichero de Jugadores'!$A$2:$H$5000,7,0))","v":""},{"$f":"IF(B50=\"\",\"\",VLOOKUP(B50&\"\",'Fichero de Jugadores'!$A$2:$H$5000,7,0))","v":""},{"$error":"#N/A"},{"$f":"IF(A50=\"\",\"\",VLOOKUP(A50&\"\",'Fichero de Jugadores'!$A$2:$I$5000,9,0))","v":""},{"$f":"IF(B50=\"\",\"\",VLOOKUP(B50&\"\",'Fichero de Jugadores'!$A$2:$I$5000,9,0))","v":""},"",null,null,{"$f":"IF(A50=\"\",\"\",VLOOKUP(A50&\"\",'Fichero de Jugadores'!$A$2:$I$4566,4,0))","v":""},{"$f":"IF(B50=\"\",\"\",VLOOKUP(B50&\"\",'Fichero de Jugadores'!$A$2:$I$4566,4,0))","v":""},{"$f":"IF(C50=\"\",\"\",VLOOKUP(A50&\"\",'Fichero de Jugadores'!$A$2:$I$4566,7,0))","v":{"$error":"#N/A"}},{"$f":"IF(C50=\"\",\"\",VLOOKUP(B50&\"\",'Fichero de Jugadores'!$A$2:$I$4566,7,0))","v":{"$error":"#N/A"}}]
[null,null,"48",{"$f":"IF(A51=\"\",\"\",VLOOKUP(A51&\"\",'Fichero de Jugadores'!$A$2:$H$5000,2,0))","v":""},{"$f":"IF(B51=\"\",\"\",VLOOKUP(B51&\"\",'Fichero de Jugadores'!$A$2:$H$5000,2,0))","v":""},null,{"$f":"IF(A51=\"\",\"\",VLOOKUP(A51&\"\",'Fichero de Jugadores'!$A$2:$H$5000,7,0))","v":""},{"$f":"IF(B51=\"\",\"\",VLOOKUP(B51&\"\",'Fichero de Jugadores'!$A$2:$H$5000,7,0))","v":""},{"$error":"#N/A"},{"$f":"IF(A51=\"\",\"\",VLOOKUP(A51&\"\",'Fichero de Jugadores'!$A$2:$I$5000,9,0))","v":""},{"$f":"IF(B51=\"\",\"\",VLOOKUP(B51&\"\",'Fichero de Jugadores'!$A$2:$I$5000,9,0))","v":""},"",null,null,{"$f":"IF(A51=\"\",\"\",VLOOKUP(A51&\"\",'Fichero de Jugadores'!$A$2:$I$4566,4,0))","v":""},{"$f":"IF(B51=\"\",\"\",VLOOKUP(B51&\"\",'Fichero de Jugadores'!$A$2:$I$4566,4,0))","v":""},{"$f":"IF(C51=\"\",\"\",VLOOKUP(A51&\"\",'Fichero de Jugadores'!$A$2:$I$4566,7,0))","v":{"$error":"#N/A"}},{"$f":"IF(C51=\"\",\"\",VLOOKUP(B51&\"\",'Fichero de Jugadores'!$A$2:$I$4566,7,0))","v":{"$error":"#N/A"}}]
[null,null,"49",{"$f":"IF(A52=\"\",\"\",VLOOKUP(A52&\"\",'Fichero de Jugadores'!$A$2:$H$5000,2,0))","v":""},{"$f":"IF(B52=\"\",\"\",VLOOKUP(B52&\"\",'Fichero de Jugadores'!$A$2:$H$5000,2,0))","v":""},null,{"$f":"IF(A52=\"\",\"\",VLOOKUP(A52&\"\",'Fichero de Jugadores'!$A$2:$H$5000,7,0))","v":""},{"$f":"IF(B52=\"\",\"\",VLOOKUP(B52&\"\",'Fichero de Jugadores'!$A$2:$H$5000,7,0))","v":""},{"$error":"#N/A"},{"$f":"IF(A52=\"\",\"\",VLOOKUP(A52&\"\",'Fichero de Jugadores'!$A$2:$I$5000,9,0))","v":""},{"$f":"IF(B52=\"\",\"\",VLOOKUP(B52&\"\",'Fichero de Jugadores'!$A$2:$I$5000,9,0))","v":""},"",null,null,{"$f":"IF(A52=\"\",\"\",VLOOKUP(A52&\"\",'Fichero de Jugadores'!$A$2:$I$4566,4,0))","v":""},{"$f":"IF(B52=\"\",\"\",VLOOKUP(B52&\"\",'Fichero de Jugadores'!$A$2:$I$4566,4,0))","v":""},{"$f":"IF(C52=\"\",\"\",VLOOKUP(A52&\"\",'Fichero de Jugadores'!$A$2:$I$4566,7,0))","v":{"$error":"#N/A"}},{"$f":"IF(C52=\"\",\"\",VLOOKUP(B52&\"\",'Fichero de Jugadores'!$A$2:$I$4566,7,0))","v":{"$error":"#N/A"}}]
[null,null,"50",{"$f":"IF(A53=\"\",\"\",VLOOKUP(A53&\"\",'Fichero de Jugadores'!$A$2:$H$5000,2,0))","v":""},{"$f":"IF(B53=\"\",\"\",VLOOKUP(B53&\"\",'Fichero de Jugadores'!$A$2:$H$5000,2,0))","v":""},null,{"$f":"IF(A53=\"\",\"\",VLOOKUP(A53&\"\",'Fichero de Jugadores'!$A$2:$H$5000,7,0))","v":""},{"$f":"IF(B53=\"\",\"\",VLOOKUP(B53&\"\",'Fichero de Jugadores'!$A$2:$H$5000,7,0))","v":""},{"$error":"#N/A"},{"$f":"IF(A53=\"\",\"\",VLOOKUP(A53&\"\",'Fichero de Jugadores'!$A$2:$I$5000,9,0))","v":""},{"$f":"IF(B53=\"\",\"\",VLOOKUP(B53&\"\",'Fichero de Jugadores'!$A$2:$I$5000,9,0))","v":""},"",null,null,{"$f":"IF(A53=\"\",\"\",VLOOKUP(A53&\"\",'Fichero de Jugadores'!$A$2:$I$4566,4,0))","v":""},{"$f":"IF(B53=\"\",\"\",VLOOKUP(B53&\"\",'Fichero de Jugadores'!$A$2:$I$4566,4,0))","v":""},{"$f":"IF(C53=\"\",\"\",VLOOKUP(A53&\"\",'Fichero de Jugadores'!$A$2:$I$4566,7,0))","v":{"$error":"#N/A"}},{"$f":"IF(C53=\"\",\"\",VLOOKUP(B53&\"\",'Fichero de Jugadores'!$A$2:$I$4566,7,0))","v":{"$error":"#N/A"}}]
[null,null,"51",{"$f":"IF(A54=\"\",\"\",VLOOKUP(A54&\"\",'Fichero de Jugadores'!$A$2:$H$5000,2,0))","v":""},{"$f":"IF(B54=\"\",\"\",VLOOKUP(B54&\"\",'Fichero de Jugadores'!$A$2:$H$5000,2,0))","v":""},null,{"$f":"IF(A54=\"\",\"\",VLOOKUP(A54&\"\",'Fichero de Jugadores'!$A$2:$H$5000,7,0))","v":""},{"$f":"IF(B54=\"\",\"\",VLOOKUP(B54&\"\",'Fichero de Jugadores'!$A$2:$H$5000,7,0))","v":""},{"$error":"#N/A"},{"$f":"IF(A54=\"\",\"\",VLOOKUP(A54&\"\",'Fichero de Jugadores'!$A$2:$I$5000,9,0))","v":""},{"$f":"IF(B54=\"\",\"\",VLOOKUP(B54&\"\",'Fichero de Jugadores'!$A$2:$I$5000,9,0))","v":""},"",null,null,{"$f":"IF(A54=\"\",\"\",VLOOKUP(A54&\"\",'Fichero de Jugadores'!$A$2:$I$4566,4,0))","v":""},{"$f":"IF(B54=\"\",\"\",VLOOKUP(B54&\"\",'Fichero de Jugadores'!$A$2:$I$4566,4,0))","v":""},{"$f":"IF(C54=\"\",\"\",VLOOKUP(A54&\"\",'Fichero de Jugadores'!$A$2:$I$4566,7,0))","v":{"$error":"#N/A"}},{"$f":"IF(C54=\"\",\"\",VLOOKUP(B54&\"\",'Fichero de Jugadores'!$A$2:$I$4566,7,0))","v":{"$error":"#N/A"}}]
[null,null,"52",{"$f":"IF(A55=\"\",\"\",VLOOKUP(A55&\"\",'Fichero de Jugadores'!$A$2:$H$5000,2,0))","v":""},{"$f":"IF(B55=\"\",\"\",VLOOKUP(B55&\"\",'Fichero de Jugadores'!$A$2:$H$5000,2,0))","v":""},null,{"$f":"IF(A55=\"\",\"\",VLOOKUP(A55&\"\",'Fichero de Jugadores'!$A$2:$H$5000,7,0))","v":""},{"$f":"IF(B55=\"\",\"\",VLOOKUP(B55&\"\",'Fichero de Jugadores'!$A$2:$H$5000,7,0))","v":""},{"$error":"#N/A"},{"$f":"IF(A55=\"\",\"\",VLOOKUP(A55&\"\",'Fichero de Jugadores'!$A$2:$I$5000,9,0))","v":""},{"$f":"IF(B55=\"\",\"\",VLOOKUP(B55&\"\",'Fichero de Jugadores'!$A$2:$I$5000,9,0))","v":""},"",null,null,{"$f":"IF(A55=\"\",\"\",VLOOKUP(A55&\"\",'Fichero de Jugadores'!$A$2:$I$4566,4,0))","v":""},{"$f":"IF(B55=\"\",\"\",VLOOKUP(B55&\"\",'Fichero de Jugadores'!$A$2:$I$4566,4,0))","v":""},{"$f":"IF(C55=\"\",\"\",VLOOKUP(A55&\"\",'Fichero de Jugadores'!$A$2:$I$4566,7,0))","v":{"$error":"#N/A"}},{"$f":"IF(C55=\"\",\"\",VLOOKUP(B55&\"\",'Fichero de Jugadores'!$A$2:$I$4566,7,0))","v":{"$error":"#N/A"}}]
[null,null,"53",{"$f":"IF(A56=\"\",\"\",VLOOKUP(A56&\"\",'Fichero de Jugadores'!$A$2:$H$5000,2,0))","v":""},{"$f":"IF(B56=\"\",\"\",VLOOKUP(B56&\"\",'Fichero de Jugadores'!$A$2:$H$5000,2,0))","v":""},null,{"$f":"IF(A56=\"\",\"\",VLOOKUP(A56&\"\",'Fichero de Jugadores'!$A$2:$H$5000,7,0))","v":""},{"$f":"IF(B56=\"\",\"\",VLOOKUP(B56&\"\",'Fichero de Jugadores'!$A$2:$H$5000,7,0))","v":""},{"$error":"#N/A"},{"$f":"IF(A56=\"\",\"\",VLOOKUP(A56&\"\",'Fichero de Jugadores'!$A$2:$I$5000,9,0))","v":""},{"$f":"IF(B56=\"\",\"\",VLOOKUP(B56&\"\",'Fichero de Jugadores'!$A$2:$I$5000,9,0))","v":""},"",null,null,{"$f":"IF(A56=\"\",\"\",VLOOKUP(A56&\"\",'Fichero de Jugadores'!$A$2:$I$4566,4,0))","v":""},{"$f":"IF(B56=\"\",\"\",VLOOKUP(B56&\"\",'Fichero de Jugadores'!$A$2:$I$4566,4,0))","v":""},{"$f":"IF(C56=\"\",\"\",VLOOKUP(A56&\"\",'Fichero de Jugadores'!$A$2:$I$4566,7,0))","v":{"$error":"#N/A"}},{"$f":"IF(C56=\"\",\"\",VLOOKUP(B56&\"\",'Fichero de Jugadores'!$A$2:$I$4566,7,0))","v":{"$error":"#N/A"}}]
[null,null,"54",{"$f":"IF(A57=\"\",\"\",VLOOKUP(A57&\"\",'Fichero de Jugadores'!$A$2:$H$5000,2,0))","v":""},{"$f":"IF(B57=\"\",\"\",VLOOKUP(B57&\"\",'Fichero de Jugadores'!$A$2:$H$5000,2,0))","v":""},null,{"$f":"IF(A57=\"\",\"\",VLOOKUP(A57&\"\",'Fichero de Jugadores'!$A$2:$H$5000,7,0))","v":""},{"$f":"IF(B57=\"\",\"\",VLOOKUP(B57&\"\",'Fichero de Jugadores'!$A$2:$H$5000,7,0))","v":""},{"$error":"#N/A"},{"$f":"IF(A57=\"\",\"\",VLOOKUP(A57&\"\",'Fichero de Jugadores'!$A$2:$I$5000,9,0))","v":""},{"$f":"IF(B57=\"\",\"\",VLOOKUP(B57&\"\",'Fichero de Jugadores'!$A$2:$I$5000,9,0))","v":""},"",null,null,{"$f":"IF(A57=\"\",\"\",VLOOKUP(A57&\"\",'Fichero de Jugadores'!$A$2:$I$4566,4,0))","v":""},{"$f":"IF(B57=\"\",\"\",VLOOKUP(B57&\"\",'Fichero de Jugadores'!$A$2:$I$4566,4,0))","v":""},{"$f":"IF(C57=\"\",\"\",VLOOKUP(A57&\"\",'Fichero de Jugadores'!$A$2:$I$4566,7,0))","v":{"$error":"#N/A"}},{"$f":"IF(C57=\"\",\"\",VLOOKUP(B57&\"\",'Fichero de Jugadores'!$A$2:$I$4566,7,0))","v":{"$error":"#N/A"}}]
[null,null,"55",{"$f":"IF(A58=\"\",\"\",VLOOKUP(A58&\"\",'Fichero de Jugadores'!$A$2:$H$5000,2,0))","v":""},{"$f":"IF(B58=\"\",\"\",VLOOKUP(B58&\"\",'Fichero de Jugadores'!$A$2:$H$5000,2,0))","v":""},null,{"$f":"IF(A58=\"\",\"\",VLOOKUP(A58&\"\",'Fichero de Jugadores'!$A$2:$H$5000,7,0))","v":""},{"$f":"IF(B58=\"\",\"\",VLOOKUP(B58&\"\",'Fichero de Jugadores'!$A$2:$H$5000,7,0))","v":""},{"$error":"#N/A"},{"$f":"IF(A58=\"\",\"\",VLOOKUP(A58&\"\",'Fichero de Jugadores'!$A$2:$I$5000,9,0))","v":""},{"$f":"IF(B58=\"\",\"\",VLOOKUP(B58&\"\",'Fichero de Jugadores'!$A$2:$I$5000,9,0))","v":""},"",null,null,{"$f":"IF(A58=\"\",\"\",VLOOKUP(A58&\"\",'Fichero de Jugadores'!$A$2:$I$4566,4,0))","v":""},{"$f":"IF(B58=\"\",\"\",VLOOKUP(B58&\"\",'Fichero de Jugadores'!$A$2:$I$4566,4,0))","v":""},{"$f":"IF(C58=\"\",\"\",VLOOKUP(A58&\"\",'Fichero de Jugadores'!$A$2:$I$4566,7,0))","v":{"$error":"#N/A"}},{"$f":"IF(C58=\"\",\"\",VLOOKUP(B58&\"\",'Fichero de Jugadores'!$A$2:$I$4566,7,0))","v":{"$error":"#N/A"}}]
[null,null,"56",{"$f":"IF(A59=\"\",\"\",VLOOKUP(A59&\"\",'Fichero de Jugadores'!$A$2:$H$5000,2,0))","v":""},{"$f":"IF(B59=\"\",\"\",VLOOKUP(B59&\"\",'Fichero de Jugadores'!$A$2:$H$5000,2,0))","v":""},null,{"$f":"IF(A59=\"\",\"\",VLOOKUP(A59&\"\",'Fichero de Jugadores'!$A$2:$H$5000,7,0))","v":""},{"$f":"IF(B59=\"\",\"\",VLOOKUP(B59&\"\",'Fichero de Jugadores'!$A$2:$H$5000,7,0))","v":""},{"$error":"#N/A"},{"$f":"IF(A59=\"\",\"\",VLOOKUP(A59&\"\",'Fichero de Jugadores'!$A$2:$I$5000,9,0))","v":""},{"$f":"IF(B59=\"\",\"\",VLOOKUP(B59&\"\",'Fichero de Jugadores'!$A$2:$I$5000,9,0))","v":""},"",null,null,{"$f":"IF(A59=\"\",\"\",VLOOKUP(A59&\"\",'Fichero de Jugadores'!$A$2:$I$4566,4,0))","v":""},{"$f":"IF(B59=\"\",\"\",VLOOKUP(B59&\"\",'Fichero de Jugadores'!$A$2:$I$4566,4,0))","v":""},{"$f":"IF(C59=\"\",\"\",VLOOKUP(A59&\"\",'Fichero de Jugadores'!$A$2:$I$4566,7,0))","v":{"$error":"#N/A"}},{"$f":"IF(C59=\"\",\"\",VLOOKUP(B59&\"\",'Fichero de Jugadores'!$A$2:$I$4566,7,0))","v":{"$error":"#N/A"}}]
[null,null,"57",{"$f":"IF(A60=\"\",\"\",VLOOKUP(A60&\"\",'Fichero de Jugadores'!$A$2:$H$5000,2,0))","v":""},{"$f":"IF(B60=\"\",\"\",VLOOKUP(B60&\"\",'Fichero de Jugadores'!$A$2:$H$5000,2,0))","v":""},null,{"$f":"IF(A60=\"\",\"\",VLOOKUP(A60&\"\",'Fichero de Jugadores'!$A$2:$H$5000,7,0))","v":""},{"$f":"IF(B60=\"\",\"\",VLOOKUP(B60&\"\",'Fichero de Jugadores'!$A$2:$H$5000,7,0))","v":""},{"$error":"#N/A"},{"$f":"IF(A60=\"\",\"\",VLOOKUP(A60&\"\",'Fichero de Jugadores'!$A$2:$I$5000,9,0))","v":""},{"$f":"IF(B60=\"\",\"\",VLOOKUP(B60&\"\",'Fichero de Jugadores'!$A$2:$I$5000,9,0))","v":""},"",null,null,{"$f":"IF(A60=\"\",\"\",VLOOKUP(A60&\"\",'Fichero de Jugadores'!$A$2:$I$4566,4,0))","v":""},{"$f":"IF(B60=\"\",\"\",VLOOKUP(B60&\"\",'Fichero de Jugadores'!$A$2:$I$4566,4,0))","v":""},{"$f":"IF(C60=\"\",\"\",VLOOKUP(A60&\"\",'Fichero de Jugadores'!$A$2:$I$4566,7,0))","v":{"$error":"#N/A"}},{"$f":"IF(C60=\"\",\"\",VLOOKUP(B60&\"\",'Fichero de Jugadores'!$A$2:$I$4566,7,0))","v":{"$error":"#N/A"}}]
[null,null,"58",{"$f":"IF(A61=\"\",\"\",VLOOKUP(A61&\"\",'Fichero de Jugadores'!$A$2:$H$5000,2,0))","v":""},{"$f":"IF(B61=\"\",\"\",VLOOKUP(B61&\"\",'Fichero de Jugadores'!$A$2:$H$5000,2,0))","v":""},null,{"$f":"IF(A61=\"\",\"\",VLOOKUP(A61&\"\",'Fichero de Jugadores'!$A$2:$H$5000,7,0))","v":""},{"$f":"IF(B61=\"\",\"\",VLOOKUP(B61&\"\",'Fichero de Jugadores'!$A$2:$H$5000,7,0))","v":""},{"$error":"#N/A"},{"$f":"IF(A61=\"\",\"\",VLOOKUP(A61&\"\",'Fichero de Jugadores'!$A$2:$I$5000,9,0))","v":""},{"$f":"IF(B61=\"\",\"\",VLOOKUP(B61&\"\",'Fichero de Jugadores'!$A$2:$I$5000,9,0))","v":""},"",null,null,{"$f":"IF(A61=\"\",\"\",VLOOKUP(A61&\"\",'Fichero de Jugadores'!$A$2:$I$4566,4,0))","v":""},{"$f":"IF(B61=\"\",\"\",VLOOKUP(B61&\"\",'Fichero de Jugadores'!$A$2:$I$4566,4,0))","v":""},{"$f":"IF(C61=\"\",\"\",VLOOKUP(A61&\"\",'Fichero de Jugadores'!$A$2:$I$4566,7,0))","v":{"$error":"#N/A"}},{"$f":"IF(C61=\"\",\"\",VLOOKUP(B61&\"\",'Fichero de Jugadores'!$A$2:$I$4566,7,0))","v":{"$error":"#N/A"}}]
[null,null,"59",{"$f":"IF(A62=\"\",\"\",VLOOKUP(A62&\"\",'Fichero de Jugadores'!$A$2:$H$5000,2,0))","v":""},{"$f":"IF(B62=\"\",\"\",VLOOKUP(B62&\"\",'Fichero de Jugadores'!$A$2:$H$5000,2,0))","v":""},null,{"$f":"IF(A62=\"\",\"\",VLOOKUP(A62&\"\",'Fichero de Jugadores'!$A$2:$H$5000,7,0))","v":""},{"$f":"IF(B62=\"\",\"\",VLOOKUP(B62&\"\",'Fichero de Jugadores'!$A$2:$H$5000,7,0))","v":""},{"$error":"#N/A"},{"$f":"IF(A62=\"\",\"\",VLOOKUP(A62&\"\",'Fichero de Jugadores'!$A$2:$I$5000,9,0))","v":""},{"$f":"IF(B62=\"\",\"\",VLOOKUP(B62&\"\",'Fichero de Jugadores'!$A$2:$I$5000,9,0))","v":""},"",null,null,{"$f":"IF(A62=\"\",\"\",VLOOKUP(A62&\"\",'Fichero de Jugadores'!$A$2:$I$4566,4,0))","v":""},{"$f":"IF(B62=\"\",\"\",VLOOKUP(B62&\"\",'Fichero de Jugadores'!$A$2:$I$4566,4,0))","v":""},{"$f":"IF(C62=\"\",\"\",VLOOKUP(A62&\"\",'Fichero de Jugadores'!$A$2:$I$4566,7,0))","v":{"$error":"#N/A"}},{"$f":"IF(C62=\"\",\"\",VLOOKUP(B62&\"\",'Fichero de Jugadores'!$A$2:$I$4566,7,0))","v":{"$error":"#N/A"}}]
[null,null,"60",{"$f":"IF(A63=\"\",\"\",VLOOKUP(A63&\"\",'Fichero de Jugadores'!$A$2:$H$5000,2,0))","v":""},{"$f":"IF(B63=\"\",\"\",VLOOKUP(B63&\"\",'Fichero de Jugadores'!$A$2:$H$5000,2,0))","v":""},null,{"$f":"IF(A63=\"\",\"\",VLOOKUP(A63&\"\",'Fichero de Jugadores'!$A$2:$H$5000,7,0))","v":""},{"$f":"IF(B63=\"\",\"\",VLOOKUP(B63&\"\",'Fichero de Jugadores'!$A$2:$H$5000,7,0))","v":""},{"$error":"#N/A"},{"$f":"IF(A63=\"\",\"\",VLOOKUP(A63&\"\",'Fichero de Jugadores'!$A$2:$I$5000,9,0))","v":""},{"$f":"IF(B63=\"\",\"\",VLOOKUP(B63&\"\",'Fichero de Jugadores'!$A$2:$I$5000,9,0))","v":""},"",null,null,{"$f":"IF(A63=\"\",\"\",VLOOKUP(A63&\"\",'Fichero de Jugadores'!$A$2:$I$4566,4,0))","v":""},{"$f":"IF(B63=\"\",\"\",VLOOKUP(B63&\"\",'Fichero de Jugadores'!$A$2:$I$4566,4,0))","v":""},{"$f":"IF(C63=\"\",\"\",VLOOKUP(A63&\"\",'Fichero de Jugadores'!$A$2:$I$4566,7,0))","v":{"$error":"#N/A"}},{"$f":"IF(C63=\"\",\"\",VLOOKUP(B63&\"\",'Fichero de Jugadores'!$A$2:$I$4566,7,0))","v":{"$error":"#N/A"}}]
[null,null,"61",{"$f":"IF(A64=\"\",\"\",VLOOKUP(A64&\"\",'Fichero de Jugadores'!$A$2:$H$5000,2,0))","v":""},{"$f":"IF(B64=\"\",\"\",VLOOKUP(B64&\"\",'Fichero de Jugadores'!$A$2:$H$5000,2,0))","v":""},null,{"$f":"IF(A64=\"\",\"\",VLOOKUP(A64&\"\",'Fichero de Jugadores'!$A$2:$H$5000,7,0))","v":""},{"$f":"IF(B64=\"\",\"\",VLOOKUP(B64&\"\",'Fichero de Jugadores'!$A$2:$H$5000,7,0))","v":""},{"$error":"#N/A"},{"$f":"IF(A64=\"\",\"\",VLOOKUP(A64&\"\",'Fichero de Jugadores'!$A$2:$I$5000,9,0))","v":""},{"$f":"IF(B64=\"\",\"\",VLOOKUP(B64&\"\",'Fichero de Jugadores'!$A$2:$I$5000,9,0))","v":""},"",null,null,{"$f":"IF(A64=\"\",\"\",VLOOKUP(A64&\"\",'Fichero de Jugadores'!$A$2:$I$4566,4,0))","v":""},{"$f":"IF(B64=\"\",\"\",VLOOKUP(B64&\"\",'Fichero de Jugadores'!$A$2:$I$4566,4,0))","v":""},{"$f":"IF(C64=\"\",\"\",VLOOKUP(A64&\"\",'Fichero de Jugadores'!$A$2:$I$4566,7,0))","v":{"$error":"#N/A"}},{"$f":"IF(C64=\"\",\"\",VLOOKUP(B64&\"\",'Fichero de Jugadores'!$A$2:$I$4566,7,0))","v":{"$error":"#N/A"}}]
[null,null,"62",{"$f":"IF(A65=\"\",\"\",VLOOKUP(A65&\"\",'Fichero de Jugadores'!$A$2:$H$5000,2,0))","v":""},{"$f":"IF(B65=\"\",\"\",VLOOKUP(B65&\"\",'Fichero de Jugadores'!$A$2:$H$5000,2,0))","v":""},null,{"$f":"IF(A65=\"\",\"\",VLOOKUP(A65&\"\",'Fichero de Jugadores'!$A$2:$H$5000,7,0))","v":""},{"$f":"IF(B65=\"\",\"\",VLOOKUP(B65&\"\",'Fichero de Jugadores'!$A$2:$H$5000,7,0))","v":""},{"$error":"#N/A"},{"$f":"IF(A65=\"\",\"\",VLOOKUP(A65&\"\",'Fichero de Jugadores'!$A$2:$I$5000,9,0))","v":""},{"$f":"IF(B65=\"\",\"\",VLOOKUP(B65&\"\",'Fichero de Jugadores'!$A$2:$I$5000,9,0))","v":""},"",null,null,{"$f":"IF(A65=\"\",\"\",VLOOKUP(A65&\"\",'Fichero de Jugadores'!$A$2:$I$4566,4,0))","v":""},{"$f":"IF(B65=\"\",\"\",VLOOKUP(B65&\"\",'Fichero de Jugadores'!$A$2:$I$4566,4,0))","v":""},{"$f":"IF(C65=\"\",\"\",VLOOKUP(A65&\"\",'Fichero de Jugadores'!$A$2:$I$4566,7,0))","v":{"$error":"#N/A"}},{"$f":"IF(C65=\"\",\"\",VLOOKUP(B65&\"\",'Fichero de Jugadores'!$A$2:$I$4566,7,0))","v":{"$error":"#N/A"}}]
[null,null,"63",{"$f":"IF(A66=\"\",\"\",VLOOKUP(A66&\"\",'Fichero de Jugadores'!$A$2:$H$5000,2,0))","v":""},{"$f":"IF(B66=\"\",\"\",VLOOKUP(B66&\"\",'Fichero de Jugadores'!$A$2:$H$5000,2,0))","v":""},null,{"$f":"IF(A66=\"\",\"\",VLOOKUP(A66&\"\",'Fichero de Jugadores'!$A$2:$H$5000,7,0))","v":""},{"$f":"IF(B66=\"\",\"\",VLOOKUP(B66&\"\",'Fichero de Jugadores'!$A$2:$H$5000,7,0))","v":""},{"$error":"#N/A"},{"$f":"IF(A66=\"\",\"\",VLOOKUP(A66&\"\",'Fichero de Jugadores'!$A$2:$I$5000,9,0))","v":""},{"$f":"IF(B66=\"\",\"\",VLOOKUP(B66&\"\",'Fichero de Jugadores'!$A$2:$I$5000,9,0))","v":""},"",null,null,{"$f":"IF(A66=\"\",\"\",VLOOKUP(A66&\"\",'Fichero de Jugadores'!$A$2:$I$4566,4,0))","v":""},{"$f":"IF(B66=\"\",\"\",VLOOKUP(B66&\"\",'Fichero de Jugadores'!$A$2:$I$4566,4,0))","v":""},{"$f":"IF(C66=\"\",\"\",VLOOKUP(A66&\"\",'Fichero de Jugadores'!$A$2:$I$4566,7,0))","v":{"$error":"#N/A"}},{"$f":"IF(C66=\"\",\"\",VLOOKUP(B66&\"\",'Fichero de Jugadores'!$A$2:$I$4566,7,0))","v":{"$error":"#N/A"}}]
[null,null,"64",{"$f":"IF(A67=\"\",\"\",VLOOKUP(A67&\"\",'Fichero de Jugadores'!$A$2:$H$5000,2,0))","v":""},{"$f":"IF(B67=\"\",\"\",VLOOKUP(B67&\"\",'Fichero de Jugadores'!$A$2:$H$5000,2,0))","v":""},null,{"$f":"IF(A67=\"\",\"\",VLOOKUP(A67&\"\",'Fichero de Jugadores'!$A$2:$H$5000,7,0))","v":""},{"$f":"IF(B67=\"\",\"\",VLOOKUP(B67&\"\",'Fichero de Jugadores'!$A$2:$H$5000,7,0))","v":""},{"$error":"#N/A"},{"$f":"IF(A67=\"\",\"\",VLOOKUP(A67&\"\",'Fichero de Jugadores'!$A$2:$I$5000,9,0))","v":""},{"$f":"IF(B67=\"\",\"\",VLOOKUP(B67&\"\",'Fichero de Jugadores'!$A$2:$I$5000,9,0))","v":""},"",null,null,{"$f":"IF(A67=\"\",\"\",VLOOKUP(A67&\"\",'Fichero de Jugadores'!$A$2:$I$4566,4,0))","v":""},{"$f":"IF(B67=\"\",\"\",VLOOKUP(B67&\"\",'Fichero de Jugadores'!$A$2:$I$4566,4,0))","v":""},{"$f":"IF(C67=\"\",\"\",VLOOKUP(A67&\"\",'Fichero de Jugadores'!$A$2:$I$4566,7,0))","v":{"$error":"#N/A"}},{"$f":"IF(C67=\"\",\"\",VLOOKUP(B67&\"\",'Fichero de Jugadores'!$A$2:$I$4566,7,0))","v":{"$error":"#N/A"}}]
[null,null,"65",{"$f":"IF(A68=\"\",\"\",VLOOKUP(A68&\"\",'Fichero de Jugadores'!$A$2:$H$5000,2,0))","v":""},{"$f":"IF(B68=\"\",\"\",VLOOKUP(B68&\"\",'Fichero de Jugadores'!$A$2:$H$5000,2,0))","v":""},null,{"$f":"IF(A68=\"\",\"\",VLOOKUP(A68&\"\",'Fichero de Jugadores'!$A$2:$H$5000,7,0))","v":""},{"$f":"IF(B68=\"\",\"\",VLOOKUP(B68&\"\",'Fichero de Jugadores'!$A$2:$H$5000,7,0))","v":""},{"$f":"INDEX(AN$4:AS$9,(Q68)+2,(R68)+2)","v":{"$error":"#N/A"}},{"$f":"IF(A68=\"\",\"\",VLOOKUP(A68&\"\",'Fichero de Jugadores'!$A$2:$I$5000,9,0))","v":""},{"$f":"IF(B68=\"\",\"\",VLOOKUP(B68&\"\",'Fichero de Jugadores'!$A$2:$I$5000,9,0))","v":""},"",null,null,{"$f":"IF(A68=\"\",\"\",VLOOKUP(A68&\"\",'Fichero de Jugadores'!$A$2:$I$4566,4,0))","v":""},{"$f":"IF(B68=\"\",\"\",VLOOKUP(B68&\"\",'Fichero de Jugadores'!$A$2:$I$4566,4,0))","v":""},{"$f":"IF(C68=\"\",\"\",VLOOKUP(A68&\"\",'Fichero de Jugadores'!$A$2:$I$4566,7,0))","v":{"$error":"#N/A"}},{"$f":"IF(C68=\"\",\"\",VLOOKUP(B68&\"\",'Fichero de Jugadores'!$A$2:$I$4566,7,0))","v":{"$error":"#N/A"}}]
[null,null,"66",{"$f":"IF(A69=\"\",\"\",VLOOKUP(A69&\"\",'Fichero de Jugadores'!$A$2:$H$5000,2,0))","v":""},{"$f":"IF(B69=\"\",\"\",VLOOKUP(B69&\"\",'Fichero de Jugadores'!$A$2:$H$5000,2,0))","v":""},null,{"$f":"IF(A69=\"\",\"\",VLOOKUP(A69&\"\",'Fichero de Jugadores'!$A$2:$H$5000,7,0))","v":""},{"$f":"IF(B69=\"\",\"\",VLOOKUP(B69&\"\",'Fichero de Jugadores'!$A$2:$H$5000,7,0))","v":""},{"$error":"#N/A"},{"$f":"IF(A69=\"\",\"\",VLOOKUP(A69&\"\",'Fichero de Jugadores'!$A$2:$I$5000,9,0))","v":""},{"$f":"IF(B69=\"\",\"\",VLOOKUP(B69&\"\",'Fichero de Jugadores'!$A$2:$I$5000,9,0))","v":""},{"$f":"IF(AND(O69=\"D\",P69=\"D\"),\"D\",IF(AND(O69=\"D\",P69=\"C\"),\"X\",IF(AND(O69=\"C\",P69=\"D\"),\"X\",IF(AND(O69=\"C\",P69=\"C\"),\"C\",IF(OR(O69=\"\",P69=\"\"),\"\")))))","v":""},null,null,{"$f":"IF(A69=\"\",\"\",VLOOKUP(A69&\"\",'Fichero de Jugadores'!$A$2:$I$4566,4,0))","v":""},{"$f":"IF(B69=\"\",\"\",VLOOKUP(B69&\"\",'Fichero de Jugadores'!$A$2:$I$4566,4,0))","v":""},{"$f":"IF(C69=\"\",\"\",VLOOKUP(A69&\"\",'Fichero de Jugadores'!$A$2:$I$4566,7,0))","v":{"$error":"#N/A"}},{"$f":"IF(C69=\"\",\"\",VLOOKUP(B69&\"\",'Fichero de Jugadores'!$A$2:$I$4566,7,0))","v":{"$error":"#N/A"}}]
[null,null,"67",{"$f":"IF(A70=\"\",\"\",VLOOKUP(A70&\"\",'Fichero de Jugadores'!$A$2:$H$5000,2,0))","v":""},{"$f":"IF(B70=\"\",\"\",VLOOKUP(B70&\"\",'Fichero de Jugadores'!$A$2:$H$5000,2,0))","v":""},null,{"$f":"IF(A70=\"\",\"\",VLOOKUP(A70&\"\",'Fichero de Jugadores'!$A$2:$H$5000,7,0))","v":""},{"$f":"IF(B70=\"\",\"\",VLOOKUP(B70&\"\",'Fichero de Jugadores'!$A$2:$H$5000,7,0))","v":""},{"$error":"#N/A"},{"$f":"IF(A70=\"\",\"\",VLOOKUP(A70&\"\",'Fichero de Jugadores'!$A$2:$I$5000,9,0))","v":""},{"$f":"IF(B70=\"\",\"\",VLOOKUP(B70&\"\",'Fichero de Jugadores'!$A$2:$I$5000,9,0))","v":""},"",null,null,{"$f":"IF(A70=\"\",\"\",VLOOKUP(A70&\"\",'Fichero de Jugadores'!$A$2:$I$4566,4,0))","v":""},{"$f":"IF(B70=\"\",\"\",VLOOKUP(B70&\"\",'Fichero de Jugadores'!$A$2:$I$4566,4,0))","v":""},{"$f":"IF(C70=\"\",\"\",VLOOKUP(A70&\"\",'Fichero de Jugadores'!$A$2:$I$4566,7,0))","v":{"$error":"#N/A"}},{"$f":"IF(C70=\"\",\"\",VLOOKUP(B70&\"\",'Fichero de Jugadores'!$A$2:$I$4566,7,0))","v":{"$error":"#N/A"}}]
[null,null,"68",{"$f":"IF(A71=\"\",\"\",VLOOKUP(A71&\"\",'Fichero de Jugadores'!$A$2:$H$5000,2,0))","v":""},{"$f":"IF(B71=\"\",\"\",VLOOKUP(B71&\"\",'Fichero de Jugadores'!$A$2:$H$5000,2,0))","v":""},null,{"$f":"IF(A71=\"\",\"\",VLOOKUP(A71&\"\",'Fichero de Jugadores'!$A$2:$H$5000,7,0))","v":""},{"$f":"IF(B71=\"\",\"\",VLOOKUP(B71&\"\",'Fichero de Jugadores'!$A$2:$H$5000,7,0))","v":""},{"$error":"#N/A"},{"$f":"IF(A71=\"\",\"\",VLOOKUP(A71&\"\",'Fichero de Jugadores'!$A$2:$I$5000,9,0))","v":""},{"$f":"IF(B71=\"\",\"\",VLOOKUP(B71&\"\",'Fichero de Jugadores'!$A$2:$I$5000,9,0))","v":""},"",null,null,{"$f":"IF(A71=\"\",\"\",VLOOKUP(A71&\"\",'Fichero de Jugadores'!$A$2:$I$4566,4,0))","v":""},{"$f":"IF(B71=\"\",\"\",VLOOKUP(B71&\"\",'Fichero de Jugadores'!$A$2:$I$4566,4,0))","v":""},{"$f":"IF(C71=\"\",\"\",VLOOKUP(A71&\"\",'Fichero de Jugadores'!$A$2:$I$4566,7,0))","v":{"$error":"#N/A"}},{"$f":"IF(C71=\"\",\"\",VLOOKUP(B71&\"\",'Fichero de Jugadores'!$A$2:$I$4566,7,0))","v":{"$error":"#N/A"}}]
[null,null,"69",{"$f":"IF(A72=\"\",\"\",VLOOKUP(A72&\"\",'Fichero de Jugadores'!$A$2:$H$5000,2,0))","v":""},{"$f":"IF(B72=\"\",\"\",VLOOKUP(B72&\"\",'Fichero de Jugadores'!$A$2:$H$5000,2,0))","v":""},null,{"$f":"IF(A72=\"\",\"\",VLOOKUP(A72&\"\",'Fichero de Jugadores'!$A$2:$H$5000,7,0))","v":""},{"$f":"IF(B72=\"\",\"\",VLOOKUP(B72&\"\",'Fichero de Jugadores'!$A$2:$H$5000,7,0))","v":""},{"$error":"#N/A"},{"$f":"IF(A72=\"\",\"\",VLOOKUP(A72&\"\",'Fichero de Jugadores'!$A$2:$I$5000,9,0))","v":""},{"$f":"IF(B72=\"\",\"\",VLOOKUP(B72&\"\",'Fichero de Jugadores'!$A$2:$I$5000,9,0))","v":""},"",null,null,{"$f":"IF(A72=\"\",\"\",VLOOKUP(A72&\"\",'Fichero de Jugadores'!$A$2:$I$4566,4,0))","v":""},{"$f":"IF(B72=\"\",\"\",VLOOKUP(B72&\"\",'Fichero de Jugadores'!$A$2:$I$4566,4,0))","v":""},{"$f":"IF(C72=\"\",\"\",VLOOKUP(A72&\"\",'Fichero de Jugadores'!$A$2:$I$4566,7,0))","v":{"$error":"#N/A"}},{"$f":"IF(C72=\"\",\"\",VLOOKUP(B72&\"\",'Fichero de Jugadores'!$A$2:$I$4566,7,0))","v":{"$error":"#N/A"}}]
[null,null,"70",{"$f":"IF(A73=\"\",\"\",VLOOKUP(A73&\"\",'Fichero de Jugadores'!$A$2:$H$5000,2,0))","v":""},{"$f":"IF(B73=\"\",\"\",VLOOKUP(B73&\"\",'Fichero de Jugadores'!$A$2:$H$5000,2,0))","v":""},null,{"$f":"IF(A73=\"\",\"\",VLOOKUP(A73&\"\",'Fichero de Jugadores'!$A$2:$H$5000,7,0))","v":""},{"$f":"IF(B73=\"\",\"\",VLOOKUP(B73&\"\",'Fichero de Jugadores'!$A$2:$H$5000,7,0))","v":""},{"$error":"#N/A"},{"$f":"IF(A73=\"\",\"\",VLOOKUP(A73&\"\",'Fichero de Jugadores'!$A$2:$I$5000,9,0))","v":""},{"$f":"IF(B73=\"\",\"\",VLOOKUP(B73&\"\",'Fichero de Jugadores'!$A$2:$I$5000,9,0))","v":""},"",null,null,{"$f":"IF(A73=\"\",\"\",VLOOKUP(A73&\"\",'Fichero de Jugadores'!$A$2:$I$4566,4,0))","v":""},{"$f":"IF(B73=\"\",\"\",VLOOKUP(B73&\"\",'Fichero de Jugadores'!$A$2:$I$4566,4,0))","v":""},{"$f":"IF(C73=\"\",\"\",VLOOKUP(A73&\"\",'Fichero de Jugadores'!$A$2:$I$4566,7,0))","v":{"$error":"#N/A"}},{"$f":"IF(C73=\"\",\"\",VLOOKUP(B73&\"\",'Fichero de Jugadores'!$A$2:$I$4566,7,0))","v":{"$error":"#N/A"}}]
[null,null,"71",{"$f":"IF(A74=\"\",\"\",VLOOKUP(A74&\"\",'Fichero de Jugadores'!$A$2:$H$5000,2,0))","v":""},{"$f":"IF(B74=\"\",\"\",VLOOKUP(B74&\"\",'Fichero de Jugadores'!$A$2:$H$5000,2,0))","v":""},null,{"$f":"IF(A74=\"\",\"\",VLOOKUP(A74&\"\",'Fichero de Jugadores'!$A$2:$H$5000,7,0))","v":""},{"$f":"IF(B74=\"\",\"\",VLOOKUP(B74&\"\",'Fichero de Jugadores'!$A$2:$H$5000,7,0))","v":""},{"$error":"#N/A"},{"$f":"IF(A74=\"\",\"\",VLOOKUP(A74&\"\",'Fichero de Jugadores'!$A$2:$I$5000,9,0))","v":""},{"$f":"IF(B74=\"\",\"\",VLOOKUP(B74&\"\",'Fichero de Jugadores'!$A$2:$I$5000,9,0))","v":""},"",null,null,{"$f":"IF(A74=\"\",\"\",VLOOKUP(A74&\"\",'Fichero de Jugadores'!$A$2:$I$4566,4,0))","v":""},{"$f":"IF(B74=\"\",\"\",VLOOKUP(B74&\"\",'Fichero de Jugadores'!$A$2:$I$4566,4,0))","v":""},{"$f":"IF(C74=\"\",\"\",VLOOKUP(A74&\"\",'Fichero de Jugadores'!$A$2:$I$4566,7,0))","v":{"$error":"#N/A"}},{"$f":"IF(C74=\"\",\"\",VLOOKUP(B74&\"\",'Fichero de Jugadores'!$A$2:$I$4566,7,0))","v":{"$error":"#N/A"}}]
[null,null,"72",{"$f":"IF(A75=\"\",\"\",VLOOKUP(A75&\"\",'Fichero de Jugadores'!$A$2:$H$5000,2,0))","v":""},{"$f":"IF(B75=\"\",\"\",VLOOKUP(B75&\"\",'Fichero de Jugadores'!$A$2:$H$5000,2,0))","v":""},null,{"$f":"IF(A75=\"\",\"\",VLOOKUP(A75&\"\",'Fichero de Jugadores'!$A$2:$H$5000,7,0))","v":""},{"$f":"IF(B75=\"\",\"\",VLOOKUP(B75&\"\",'Fichero de Jugadores'!$A$2:$H$5000,7,0))","v":""},{"$error":"#N/A"},{"$f":"IF(A75=\"\",\"\",VLOOKUP(A75&\"\",'Fichero de Jugadores'!$A$2:$I$5000,9,0))","v":""},{"$f":"IF(B75=\"\",\"\",VLOOKUP(B75&\"\",'Fichero de Jugadores'!$A$2:$I$5000,9,0))","v":""},"",null,null,{"$f":"IF(A75=\"\",\"\",VLOOKUP(A75&\"\",'Fichero de Jugadores'!$A$2:$I$4566,4,0))","v":""},{"$f":"IF(B75=\"\",\"\",VLOOKUP(B75&\"\",'Fichero de Jugadores'!$A$2:$I$4566,4,0))","v":""},{"$f":"IF(C75=\"\",\"\",VLOOKUP(A75&\"\",'Fichero de Jugadores'!$A$2:$I$4566,7,0))","v":{"$error":"#N/A"}},{"$f":"IF(C75=\"\",\"\",VLOOKUP(B75&\"\",'Fichero de Jugadores'!$A$2:$I$4566,7,0))","v":{"$error":"#N/A"}}]
[null,null,"73",{"$f":"IF(A76=\"\",\"\",VLOOKUP(A76&\"\",'Fichero de Jugadores'!$A$2:$H$5000,2,0))","v":""},{"$f":"IF(B76=\"\",\"\",VLOOKUP(B76&\"\",'Fichero de Jugadores'!$A$2:$H$5000,2,0))","v":""},null,{"$f":"IF(A76=\"\",\"\",VLOOKUP(A76&\"\",'Fichero de Jugadores'!$A$2:$H$5000,7,0))","v":""},{"$f":"IF(B76=\"\",\"\",VLOOKUP(B76&\"\",'Fichero de Jugadores'!$A$2:$H$5000,7,0))","v":""},{"$error":"#N/A"},{"$f":"IF(A76=\"\",\"\",VLOOKUP(A76&\"\",'Fichero de Jugadores'!$A$2:$I$5000,9,0))","v":""},{"$f":"IF(B76=\"\",\"\",VLOOKUP(B76&\"\",'Fichero de Jugadores'!$A$2:$I$5000,9,0))","v":""},"",null,null,{"$f":"IF(A76=\"\",\"\",VLOOKUP(A76&\"\",'Fichero de Jugadores'!$A$2:$I$4566,4,0))","v":""},{"$f":"IF(B76=\"\",\"\",VLOOKUP(B76&\"\",'Fichero de Jugadores'!$A$2:$I$4566,4,0))","v":""},{"$f":"IF(C76=\"\",\"\",VLOOKUP(A76&\"\",'Fichero de Jugadores'!$A$2:$I$4566,7,0))","v":{"$error":"#N/A"}},{"$f":"IF(C76=\"\",\"\",VLOOKUP(B76&\"\",'Fichero de Jugadores'!$A$2:$I$4566,7,0))","v":{"$error":"#N/A"}}]
[null,null,"74",{"$f":"IF(A77=\"\",\"\",VLOOKUP(A77&\"\",'Fichero de Jugadores'!$A$2:$H$5000,2,0))","v":""},{"$f":"IF(B77=\"\",\"\",VLOOKUP(B77&\"\",'Fichero de Jugadores'!$A$2:$H$5000,2,0))","v":""},null,{"$f":"IF(A77=\"\",\"\",VLOOKUP(A77&\"\",'Fichero de Jugadores'!$A$2:$H$5000,7,0))","v":""},{"$f":"IF(B77=\"\",\"\",VLOOKUP(B77&\"\",'Fichero de Jugadores'!$A$2:$H$5000,7,0))","v":""},{"$error":"#N/A"},{"$f":"IF(A77=\"\",\"\",VLOOKUP(A77&\"\",'Fichero de Jugadores'!$A$2:$I$5000,9,0))","v":""},{"$f":"IF(B77=\"\",\"\",VLOOKUP(B77&\"\",'Fichero de Jugadores'!$A$2:$I$5000,9,0))","v":""},"",null,null,{"$f":"IF(A77=\"\",\"\",VLOOKUP(A77&\"\",'Fichero de Jugadores'!$A$2:$I$4566,4,0))","v":""},{"$f":"IF(B77=\"\",\"\",VLOOKUP(B77&\"\",'Fichero de Jugadores'!$A$2:$I$4566,4,0))","v":""},{"$f":"IF(C77=\"\",\"\",VLOOKUP(A77&\"\",'Fichero de Jugadores'!$A$2:$I$4566,7,0))","v":{"$error":"#N/A"}},{"$f":"IF(C77=\"\",\"\",VLOOKUP(B77&\"\",'Fichero de Jugadores'!$A$2:$I$4566,7,0))","v":{"$error":"#N/A"}}]
[null,null,"75",{"$f":"IF(A78=\"\",\"\",VLOOKUP(A78&\"\",'Fichero de Jugadores'!$A$2:$H$5000,2,0))","v":""},{"$f":"IF(B78=\"\",\"\",VLOOKUP(B78&\"\",'Fichero de Jugadores'!$A$2:$H$5000,2,0))","v":""},null,{"$f":"IF(A78=\"\",\"\",VLOOKUP(A78&\"\",'Fichero de Jugadores'!$A$2:$H$5000,7,0))","v":""},{"$f":"IF(B78=\"\",\"\",VLOOKUP(B78&\"\",'Fichero de Jugadores'!$A$2:$H$5000,7,0))","v":""},{"$error":"#N/A"},{"$f":"IF(A78=\"\",\"\",VLOOKUP(A78&\"\",'Fichero de Jugadores'!$A$2:$I$5000,9,0))","v":""},{"$f":"IF(B78=\"\",\"\",VLOOKUP(B78&\"\",'Fichero de Jugadores'!$A$2:$I$5000,9,0))","v":""},"",null,null,{"$f":"IF(A78=\"\",\"\",VLOOKUP(A78&\"\",'Fichero de Jugadores'!$A$2:$I$4566,4,0))","v":""},{"$f":"IF(B78=\"\",\"\",VLOOKUP(B78&\"\",'Fichero de Jugadores'!$A$2:$I$4566,4,0))","v":""},{"$f":"IF(C78=\"\",\"\",VLOOKUP(A78&\"\",'Fichero de Jugadores'!$A$2:$I$4566,7,0))","v":{"$error":"#N/A"}},{"$f":"IF(C78=\"\",\"\",VLOOKUP(B78&\"\",'Fichero de Jugadores'!$A$2:$I$4566,7,0))","v":{"$error":"#N/A"}}]
[null,null,"76",{"$f":"IF(A79=\"\",\"\",VLOOKUP(A79&\"\",'Fichero de Jugadores'!$A$2:$H$5000,2,0))","v":""},{"$f":"IF(B79=\"\",\"\",VLOOKUP(B79&\"\",'Fichero de Jugadores'!$A$2:$H$5000,2,0))","v":""},null,{"$f":"IF(A79=\"\",\"\",VLOOKUP(A79&\"\",'Fichero de Jugadores'!$A$2:$H$5000,7,0))","v":""},{"$f":"IF(B79=\"\",\"\",VLOOKUP(B79&\"\",'Fichero de Jugadores'!$A$2:$H$5000,7,0))","v":""},{"$error":"#N/A"},{"$f":"IF(A79=\"\",\"\",VLOOKUP(A79&\"\",'Fichero de Jugadores'!$A$2:$I$5000,9,0))","v":""},{"$f":"IF(B79=\"\",\"\",VLOOKUP(B79&\"\",'Fichero de Jugadores'!$A$2:$I$5000,9,0))","v":""},"",null,null,{"$f":"IF(A79=\"\",\"\",VLOOKUP(A79&\"\",'Fichero de Jugadores'!$A$2:$I$4566,4,0))","v":""},{"$f":"IF(B79=\"\",\"\",VLOOKUP(B79&\"\",'Fichero de Jugadores'!$A$2:$I$4566,4,0))","v":""},{"$f":"IF(C79=\"\",\"\",VLOOKUP(A79&\"\",'Fichero de Jugadores'!$A$2:$I$4566,7,0))","v":{"$error":"#N/A"}},{"$f":"IF(C79=\"\",\"\",VLOOKUP(B79&\"\",'Fichero de Jugadores'!$A$2:$I$4566,7,0))","v":{"$error":"#N/A"}}]
[null,null,"77",{"$f":"IF(A80=\"\",\"\",VLOOKUP(A80&\"\",'Fichero de Jugadores'!$A$2:$H$5000,2,0))","v":""},{"$f":"IF(B80=\"\",\"\",VLOOKUP(B80&\"\",'Fichero de Jugadores'!$A$2:$H$5000,2,0))","v":""},null,{"$f":"IF(A80=\"\",\"\",VLOOKUP(A80&\"\",'Fichero de Jugadores'!$A$2:$H$5000,7,0))","v":""},{"$f":"IF(B80=\"\",\"\",VLOOKUP(B80&\"\",'Fichero de Jugadores'!$A$2:$H$5000,7,0))","v":""},{"$error":"#N/A"},{"$f":"IF(A80=\"\",\"\",VLOOKUP(A80&\"\",'Fichero de Jugadores'!$A$2:$I$5000,9,0))","v":""},{"$f":"IF(B80=\"\",\"\",VLOOKUP(B80&\"\",'Fichero de Jugadores'!$A$2:$I$5000,9,0))","v":""},"",null,null,{"$f":"IF(A80=\"\",\"\",VLOOKUP(A80&\"\",'Fichero de Jugadores'!$A$2:$I$4566,4,0))","v":""},{"$f":"IF(B80=\"\",\"\",VLOOKUP(B80&\"\",'Fichero de Jugadores'!$A$2:$I$4566,4,0))","v":""},{"$f":"IF(C80=\"\",\"\",VLOOKUP(A80&\"\",'Fichero de Jugadores'!$A$2:$I$4566,7,0))","v":{"$error":"#N/A"}},{"$f":"IF(C80=\"\",\"\",VLOOKUP(B80&\"\",'Fichero de Jugadores'!$A$2:$I$4566,7,0))","v":{"$error":"#N/A"}}]
[null,null,"78",{"$f":"IF(A81=\"\",\"\",VLOOKUP(A81&\"\",'Fichero de Jugadores'!$A$2:$H$5000,2,0))","v":""},{"$f":"IF(B81=\"\",\"\",VLOOKUP(B81&\"\",'Fichero de Jugadores'!$A$2:$H$5000,2,0))","v":""},null,{"$f":"IF(A81=\"\",\"\",VLOOKUP(A81&\"\",'Fichero de Jugadores'!$A$2:$H$5000,7,0))","v":""},{"$f":"IF(B81=\"\",\"\",VLOOKUP(B81&\"\",'Fichero de Jugadores'!$A$2:$H$5000,7,0))","v":""},{"$error":"#N/A"},{"$f":"IF(A81=\"\",\"\",VLOOKUP(A81&\"\",'Fichero de Jugadores'!$A$2:$I$5000,9,0))","v":""},{"$f":"IF(B81=\"\",\"\",VLOOKUP(B81&\"\",'Fichero de Jugadores'!$A$2:$I$5000,9,0))","v":""},"",null,null,{"$f":"IF(A81=\"\",\"\",VLOOKUP(A81&\"\",'Fichero de Jugadores'!$A$2:$I$4566,4,0))","v":""},{"$f":"IF(B81=\"\",\"\",VLOOKUP(B81&\"\",'Fichero de Jugadores'!$A$2:$I$4566,4,0))","v":""},{"$f":"IF(C81=\"\",\"\",VLOOKUP(A81&\"\",'Fichero de Jugadores'!$A$2:$I$4566,7,0))","v":{"$error":"#N/A"}},{"$f":"IF(C81=\"\",\"\",VLOOKUP(B81&\"\",'Fichero de Jugadores'!$A$2:$I$4566,7,0))","v":{"$error":"#N/A"}}]
[null,null,"79",{"$f":"IF(A82=\"\",\"\",VLOOKUP(A82&\"\",'Fichero de Jugadores'!$A$2:$H$5000,2,0))","v":""},{"$f":"IF(B82=\"\",\"\",VLOOKUP(B82&\"\",'Fichero de Jugadores'!$A$2:$H$5000,2,0))","v":""},null,{"$f":"IF(A82=\"\",\"\",VLOOKUP(A82&\"\",'Fichero de Jugadores'!$A$2:$H$5000,7,0))","v":""},{"$f":"IF(B82=\"\",\"\",VLOOKUP(B82&\"\",'Fichero de Jugadores'!$A$2:$H$5000,7,0))","v":""},{"$error":"#N/A"},{"$f":"IF(A82=\"\",\"\",VLOOKUP(A82&\"\",'Fichero de Jugadores'!$A$2:$I$5000,9,0))","v":""},{"$f":"IF(B82=\"\",\"\",VLOOKUP(B82&\"\",'Fichero de Jugadores'!$A$2:$I$5000,9,0))","v":""},"",null,null,{"$f":"IF(A82=\"\",\"\",VLOOKUP(A82&\"\",'Fichero de Jugadores'!$A$2:$I$4566,4,0))","v":""},{"$f":"IF(B82=\"\",\"\",VLOOKUP(B82&\"\",'Fichero de Jugadores'!$A$2:$I$4566,4,0))","v":""},{"$f":"IF(C82=\"\",\"\",VLOOKUP(A82&\"\",'Fichero de Jugadores'!$A$2:$I$4566,7,0))","v":{"$error":"#N/A"}},{"$f":"IF(C82=\"\",\"\",VLOOKUP(B82&\"\",'Fichero de Jugadores'!$A$2:$I$4566,7,0))","v":{"$error":"#N/A"}}]
[null,null,"80",{"$f":"IF(A83=\"\",\"\",VLOOKUP(A83&\"\",'Fichero de Jugadores'!$A$2:$H$5000,2,0))","v":""},{"$f":"IF(B83=\"\",\"\",VLOOKUP(B83&\"\",'Fichero de Jugadores'!$A$2:$H$5000,2,0))","v":""},null,{"$f":"IF(A83=\"\",\"\",VLOOKUP(A83&\"\",'Fichero de Jugadores'!$A$2:$H$5000,7,0))","v":""},{"$f":"IF(B83=\"\",\"\",VLOOKUP(B83&\"\",'Fichero de Jugadores'!$A$2:$H$5000,7,0))","v":""},{"$error":"#N/A"},{"$f":"IF(A83=\"\",\"\",VLOOKUP(A83&\"\",'Fichero de Jugadores'!$A$2:$I$5000,9,0))","v":""},{"$f":"IF(B83=\"\",\"\",VLOOKUP(B83&\"\",'Fichero de Jugadores'!$A$2:$I$5000,9,0))","v":""},"",null,null,{"$f":"IF(A83=\"\",\"\",VLOOKUP(A83&\"\",'Fichero de Jugadores'!$A$2:$I$4566,4,0))","v":""},{"$f":"IF(B83=\"\",\"\",VLOOKUP(B83&\"\",'Fichero de Jugadores'!$A$2:$I$4566,4,0))","v":""},{"$f":"IF(C83=\"\",\"\",VLOOKUP(A83&\"\",'Fichero de Jugadores'!$A$2:$I$4566,7,0))","v":{"$error":"#N/A"}},{"$f":"IF(C83=\"\",\"\",VLOOKUP(B83&\"\",'Fichero de Jugadores'!$A$2:$I$4566,7,0))","v":{"$error":"#N/A"}}]
[null,null,"81",{"$f":"IF(A84=\"\",\"\",VLOOKUP(A84&\"\",'Fichero de Jugadores'!$A$2:$H$5000,2,0))","v":""},{"$f":"IF(B84=\"\",\"\",VLOOKUP(B84&\"\",'Fichero de Jugadores'!$A$2:$H$5000,2,0))","v":""},null,{"$f":"IF(A84=\"\",\"\",VLOOKUP(A84&\"\",'Fichero de Jugadores'!$A$2:$H$5000,7,0))","v":""},{"$f":"IF(B84=\"\",\"\",VLOOKUP(B84&\"\",'Fichero de Jugadores'!$A$2:$H$5000,7,0))","v":""},{"$error":"#N/A"},{"$f":"IF(A84=\"\",\"\",VLOOKUP(A84&\"\",'Fichero de Jugadores'!$A$2:$I$5000,9,0))","v":""},{"$f":"IF(B84=\"\",\"\",VLOOKUP(B84&\"\",'Fichero de Jugadores'!$A$2:$I$5000,9,0))","v":""},"",null,null,{"$f":"IF(A84=\"\",\"\",VLOOKUP(A84&\"\",'Fichero de Jugadores'!$A$2:$I$4566,4,0))","v":""},{"$f":"IF(B84=\"\",\"\",VLOOKUP(B84&\"\",'Fichero de Jugadores'!$A$2:$I$4566,4,0))","v":""},{"$f":"IF(C84=\"\",\"\",VLOOKUP(A84&\"\",'Fichero de Jugadores'!$A$2:$I$4566,7,0))","v":{"$error":"#N/A"}},{"$f":"IF(C84=\"\",\"\",VLOOKUP(B84&\"\",'Fichero de Jugadores'!$A$2:$I$4566,7,0))","v":{"$error":"#N/A"}}]
[null,null,"82",{"$f":"IF(A85=\"\",\"\",VLOOKUP(A85&\"\",'Fichero de Jugadores'!$A$2:$H$5000,2,0))","v":""},{"$f":"IF(B85=\"\",\"\",VLOOKUP(B85&\"\",'Fichero de Jugadores'!$A$2:$H$5000,2,0))","v":""},null,{"$f":"IF(A85=\"\",\"\",VLOOKUP(A85&\"\",'Fichero de Jugadores'!$A$2:$H$5000,7,0))","v":""},{"$f":"IF(B85=\"\",\"\",VLOOKUP(B85&\"\",'Fichero de Jugadores'!$A$2:$H$5000,7,0))","v":""},{"$error":"#N/A"},{"$f":"IF(A85=\"\",\"\",VLOOKUP(A85&\"\",'Fichero de Jugadores'!$A$2:$I$5000,9,0))","v":""},{"$f":"IF(B85=\"\",\"\",VLOOKUP(B85&\"\",'Fichero de Jugadores'!$A$2:$I$5000,9,0))","v":""},"",null,null,{"$f":"IF(A85=\"\",\"\",VLOOKUP(A85&\"\",'Fichero de Jugadores'!$A$2:$I$4566,4,0))","v":""},{"$f":"IF(B85=\"\",\"\",VLOOKUP(B85&\"\",'Fichero de Jugadores'!$A$2:$I$4566,4,0))","v":""},{"$f":"IF(C85=\"\",\"\",VLOOKUP(A85&\"\",'Fichero de Jugadores'!$A$2:$I$4566,7,0))","v":{"$error":"#N/A"}},{"$f":"IF(C85=\"\",\"\",VLOOKUP(B85&\"\",'Fichero de Jugadores'!$A$2:$I$4566,7,0))","v":{"$error":"#N/A"}}]
[null,null,"83",{"$f":"IF(A86=\"\",\"\",VLOOKUP(A86&\"\",'Fichero de Jugadores'!$A$2:$H$5000,2,0))","v":""},{"$f":"IF(B86=\"\",\"\",VLOOKUP(B86&\"\",'Fichero de Jugadores'!$A$2:$H$5000,2,0))","v":""},null,{"$f":"IF(A86=\"\",\"\",VLOOKUP(A86&\"\",'Fichero de Jugadores'!$A$2:$H$5000,7,0))","v":""},{"$f":"IF(B86=\"\",\"\",VLOOKUP(B86&\"\",'Fichero de Jugadores'!$A$2:$H$5000,7,0))","v":""},{"$error":"#N/A"},{"$f":"IF(A86=\"\",\"\",VLOOKUP(A86&\"\",'Fichero de Jugadores'!$A$2:$I$5000,9,0))","v":""},{"$f":"IF(B86=\"\",\"\",VLOOKUP(B86&\"\",'Fichero de Jugadores'!$A$2:$I$5000,9,0))","v":""},"",null,null,{"$f":"IF(A86=\"\",\"\",VLOOKUP(A86&\"\",'Fichero de Jugadores'!$A$2:$I$4566,4,0))","v":""},{"$f":"IF(B86=\"\",\"\",VLOOKUP(B86&\"\",'Fichero de Jugadores'!$A$2:$I$4566,4,0))","v":""},{"$f":"IF(C86=\"\",\"\",VLOOKUP(A86&\"\",'Fichero de Jugadores'!$A$2:$I$4566,7,0))","v":{"$error":"#N/A"}},{"$f":"IF(C86=\"\",\"\",VLOOKUP(B86&\"\",'Fichero de Jugadores'!$A$2:$I$4566,7,0))","v":{"$error":"#N/A"}}]
[null,null,"84",{"$f":"IF(A87=\"\",\"\",VLOOKUP(A87&\"\",'Fichero de Jugadores'!$A$2:$H$5000,2,0))","v":""},{"$f":"IF(B87=\"\",\"\",VLOOKUP(B87&\"\",'Fichero de Jugadores'!$A$2:$H$5000,2,0))","v":""},null,{"$f":"IF(A87=\"\",\"\",VLOOKUP(A87&\"\",'Fichero de Jugadores'!$A$2:$H$5000,7,0))","v":""},{"$f":"IF(B87=\"\",\"\",VLOOKUP(B87&\"\",'Fichero de Jugadores'!$A$2:$H$5000,7,0))","v":""},{"$error":"#N/A"},{"$f":"IF(A87=\"\",\"\",VLOOKUP(A87&\"\",'Fichero de Jugadores'!$A$2:$I$5000,9,0))","v":""},{"$f":"IF(B87=\"\",\"\",VLOOKUP(B87&\"\",'Fichero de Jugadores'!$A$2:$I$5000,9,0))","v":""},"",null,null,{"$f":"IF(A87=\"\",\"\",VLOOKUP(A87&\"\",'Fichero de Jugadores'!$A$2:$I$4566,4,0))","v":""},{"$f":"IF(B87=\"\",\"\",VLOOKUP(B87&\"\",'Fichero de Jugadores'!$A$2:$I$4566,4,0))","v":""},{"$f":"IF(C87=\"\",\"\",VLOOKUP(A87&\"\",'Fichero de Jugadores'!$A$2:$I$4566,7,0))","v":{"$error":"#N/A"}},{"$f":"IF(C87=\"\",\"\",VLOOKUP(B87&\"\",'Fichero de Jugadores'!$A$2:$I$4566,7,0))","v":{"$error":"#N/A"}}]
[null,null,"85",{"$f":"IF(A88=\"\",\"\",VLOOKUP(A88&\"\",'Fichero de Jugadores'!$A$2:$H$5000,2,0))","v":""},{"$f":"IF(B88=\"\",\"\",VLOOKUP(B88&\"\",'Fichero de Jugadores'!$A$2:$H$5000,2,0))","v":""},null,{"$f":"IF(A88=\"\",\"\",VLOOKUP(A88&\"\",'Fichero de Jugadores'!$A$2:$H$5000,7,0))","v":""},{"$f":"IF(B88=\"\",\"\",VLOOKUP(B88&\"\",'Fichero de Jugadores'!$A$2:$H$5000,7,0))","v":""},{"$error":"#N/A"},{"$f":"IF(A88=\"\",\"\",VLOOKUP(A88&\"\",'Fichero de Jugadores'!$A$2:$I$5000,9,0))","v":""},{"$f":"IF(B88=\"\",\"\",VLOOKUP(B88&\"\",'Fichero de Jugadores'!$A$2:$I$5000,9,0))","v":""},"",null,null,{"$f":"IF(A88=\"\",\"\",VLOOKUP(A88&\"\",'Fichero de Jugadores'!$A$2:$I$4566,4,0))","v":""},{"$f":"IF(B88=\"\",\"\",VLOOKUP(B88&\"\",'Fichero de Jugadores'!$A$2:$I$4566,4,0))","v":""},{"$f":"IF(C88=\"\",\"\",VLOOKUP(A88&\"\",'Fichero de Jugadores'!$A$2:$I$4566,7,0))","v":{"$error":"#N/A"}},{"$f":"IF(C88=\"\",\"\",VLOOKUP(B88&\"\",'Fichero de Jugadores'!$A$2:$I$4566,7,0))","v":{"$error":"#N/A"}}]
[null,null,"86",{"$f":"IF(A89=\"\",\"\",VLOOKUP(A89&\"\",'Fichero de Jugadores'!$A$2:$H$5000,2,0))","v":""},{"$f":"IF(B89=\"\",\"\",VLOOKUP(B89&\"\",'Fichero de Jugadores'!$A$2:$H$5000,2,0))","v":""},null,{"$f":"IF(A89=\"\",\"\",VLOOKUP(A89&\"\",'Fichero de Jugadores'!$A$2:$H$5000,7,0))","v":""},{"$f":"IF(B89=\"\",\"\",VLOOKUP(B89&\"\",'Fichero de Jugadores'!$A$2:$H$5000,7,0))","v":""},{"$error":"#N/A"},{"$f":"IF(A89=\"\",\"\",VLOOKUP(A89&\"\",'Fichero de Jugadores'!$A$2:$I$5000,9,0))","v":""},{"$f":"IF(B89=\"\",\"\",VLOOKUP(B89&\"\",'Fichero de Jugadores'!$A$2:$I$5000,9,0))","v":""},"",null,null,{"$f":"IF(A89=\"\",\"\",VLOOKUP(A89&\"\",'Fichero de Jugadores'!$A$2:$I$4566,4,0))","v":""},{"$f":"IF(B89=\"\",\"\",VLOOKUP(B89&\"\",'Fichero de Jugadores'!$A$2:$I$4566,4,0))","v":""},{"$f":"IF(C89=\"\",\"\",VLOOKUP(A89&\"\",'Fichero de Jugadores'!$A$2:$I$4566,7,0))","v":{"$error":"#N/A"}},{"$f":"IF(C89=\"\",\"\",VLOOKUP(B89&\"\",'Fichero de Jugadores'!$A$2:$I$4566,7,0))","v":{"$error":"#N/A"}}]
[null,null,"87",{"$f":"IF(A90=\"\",\"\",VLOOKUP(A90&\"\",'Fichero de Jugadores'!$A$2:$H$5000,2,0))","v":""},{"$f":"IF(B90=\"\",\"\",VLOOKUP(B90&\"\",'Fichero de Jugadores'!$A$2:$H$5000,2,0))","v":""},null,{"$f":"IF(A90=\"\",\"\",VLOOKUP(A90&\"\",'Fichero de Jugadores'!$A$2:$H$5000,7,0))","v":""},{"$f":"IF(B90=\"\",\"\",VLOOKUP(B90&\"\",'Fichero de Jugadores'!$A$2:$H$5000,7,0))","v":""},{"$error":"#N/A"},{"$f":"IF(A90=\"\",\"\",VLOOKUP(A90&\"\",'Fichero de Jugadores'!$A$2:$I$5000,9,0))","v":""},{"$f":"IF(B90=\"\",\"\",VLOOKUP(B90&\"\",'Fichero de Jugadores'!$A$2:$I$5000,9,0))","v":""},"",null,null,{"$f":"IF(A90=\"\",\"\",VLOOKUP(A90&\"\",'Fichero de Jugadores'!$A$2:$I$4566,4,0))","v":""},{"$f":"IF(B90=\"\",\"\",VLOOKUP(B90&\"\",'Fichero de Jugadores'!$A$2:$I$4566,4,0))","v":""},{"$f":"IF(C90=\"\",\"\",VLOOKUP(A90&\"\",'Fichero de Jugadores'!$A$2:$I$4566,7,0))","v":{"$error":"#N/A"}},{"$f":"IF(C90=\"\",\"\",VLOOKUP(B90&\"\",'Fichero de Jugadores'!$A$2:$I$4566,7,0))","v":{"$error":"#N/A"}}]
[null,null,"88",{"$f":"IF(A91=\"\",\"\",VLOOKUP(A91&\"\",'Fichero de Jugadores'!$A$2:$H$5000,2,0))","v":""},{"$f":"IF(B91=\"\",\"\",VLOOKUP(B91&\"\",'Fichero de Jugadores'!$A$2:$H$5000,2,0))","v":""},null,{"$f":"IF(A91=\"\",\"\",VLOOKUP(A91&\"\",'Fichero de Jugadores'!$A$2:$H$5000,7,0))","v":""},{"$f":"IF(B91=\"\",\"\",VLOOKUP(B91&\"\",'Fichero de Jugadores'!$A$2:$H$5000,7,0))","v":""},{"$error":"#N/A"},{"$f":"IF(A91=\"\",\"\",VLOOKUP(A91&\"\",'Fichero de Jugadores'!$A$2:$I$5000,9,0))","v":""},{"$f":"IF(B91=\"\",\"\",VLOOKUP(B91&\"\",'Fichero de Jugadores'!$A$2:$I$5000,9,0))","v":""},"",null,null,{"$f":"IF(A91=\"\",\"\",VLOOKUP(A91&\"\",'Fichero de Jugadores'!$A$2:$I$4566,4,0))","v":""},{"$f":"IF(B91=\"\",\"\",VLOOKUP(B91&\"\",'Fichero de Jugadores'!$A$2:$I$4566,4,0))","v":""},{"$f":"IF(C91=\"\",\"\",VLOOKUP(A91&\"\",'Fichero de Jugadores'!$A$2:$I$4566,7,0))","v":{"$error":"#N/A"}},{"$f":"IF(C91=\"\",\"\",VLOOKUP(B91&\"\",'Fichero de Jugadores'!$A$2:$I$4566,7,0))","v":{"$error":"#N/A"}}]
[null,null,"89",{"$f":"IF(A92=\"\",\"\",VLOOKUP(A92&\"\",'Fichero de Jugadores'!$A$2:$H$5000,2,0))","v":""},{"$f":"IF(B92=\"\",\"\",VLOOKUP(B92&\"\",'Fichero de Jugadores'!$A$2:$H$5000,2,0))","v":""},null,{"$f":"IF(A92=\"\",\"\",VLOOKUP(A92&\"\",'Fichero de Jugadores'!$A$2:$H$5000,7,0))","v":""},{"$f":"IF(B92=\"\",\"\",VLOOKUP(B92&\"\",'Fichero de Jugadores'!$A$2:$H$5000,7,0))","v":""},{"$error":"#N/A"},{"$f":"IF(A92=\"\",\"\",VLOOKUP(A92&\"\",'Fichero de Jugadores'!$A$2:$I$5000,9,0))","v":""},{"$f":"IF(B92=\"\",\"\",VLOOKUP(B92&\"\",'Fichero de Jugadores'!$A$2:$I$5000,9,0))","v":""},"",null,null,{"$f":"IF(A92=\"\",\"\",VLOOKUP(A92&\"\",'Fichero de Jugadores'!$A$2:$I$4566,4,0))","v":""},{"$f":"IF(B92=\"\",\"\",VLOOKUP(B92&\"\",'Fichero de Jugadores'!$A$2:$I$4566,4,0))","v":""},{"$f":"IF(C92=\"\",\"\",VLOOKUP(A92&\"\",'Fichero de Jugadores'!$A$2:$I$4566,7,0))","v":{"$error":"#N/A"}},{"$f":"IF(C92=\"\",\"\",VLOOKUP(B92&\"\",'Fichero de Jugadores'!$A$2:$I$4566,7,0))","v":{"$error":"#N/A"}}]
[null,null,"90",{"$f":"IF(A93=\"\",\"\",VLOOKUP(A93&\"\",'Fichero de Jugadores'!$A$2:$H$5000,2,0))","v":""},{"$f":"IF(B93=\"\",\"\",VLOOKUP(B93&\"\",'Fichero de Jugadores'!$A$2:$H$5000,2,0))","v":""},null,{"$f":"IF(A93=\"\",\"\",VLOOKUP(A93&\"\",'Fichero de Jugadores'!$A$2:$H$5000,7,0))","v":""},{"$f":"IF(B93=\"\",\"\",VLOOKUP(B93&\"\",'Fichero de Jugadores'!$A$2:$H$5000,7,0))","v":""},{"$error":"#N/A"},{"$f":"IF(A93=\"\",\"\",VLOOKUP(A93&\"\",'Fichero de Jugadores'!$A$2:$I$5000,9,0))","v":""},{"$f":"IF(B93=\"\",\"\",VLOOKUP(B93&\"\",'Fichero de Jugadores'!$A$2:$I$5000,9,0))","v":""},"",null,null,{"$f":"IF(A93=\"\",\"\",VLOOKUP(A93&\"\",'Fichero de Jugadores'!$A$2:$I$4566,4,0))","v":""},{"$f":"IF(B93=\"\",\"\",VLOOKUP(B93&\"\",'Fichero de Jugadores'!$A$2:$I$4566,4,0))","v":""},{"$f":"IF(C93=\"\",\"\",VLOOKUP(A93&\"\",'Fichero de Jugadores'!$A$2:$I$4566,7,0))","v":{"$error":"#N/A"}},{"$f":"IF(C93=\"\",\"\",VLOOKUP(B93&\"\",'Fichero de Jugadores'!$A$2:$I$4566,7,0))","v":{"$error":"#N/A"}}]
[null,null,"91",{"$f":"IF(A94=\"\",\"\",VLOOKUP(A94&\"\",'Fichero de Jugadores'!$A$2:$H$5000,2,0))","v":""},{"$f":"IF(B94=\"\",\"\",VLOOKUP(B94&\"\",'Fichero de Jugadores'!$A$2:$H$5000,2,0))","v":""},null,{"$f":"IF(A94=\"\",\"\",VLOOKUP(A94&\"\",'Fichero de Jugadores'!$A$2:$H$5000,7,0))","v":""},{"$f":"IF(B94=\"\",\"\",VLOOKUP(B94&\"\",'Fichero de Jugadores'!$A$2:$H$5000,7,0))","v":""},{"$error":"#N/A"},{"$f":"IF(A94=\"\",\"\",VLOOKUP(A94&\"\",'Fichero de Jugadores'!$A$2:$I$5000,9,0))","v":""},{"$f":"IF(B94=\"\",\"\",VLOOKUP(B94&\"\",'Fichero de Jugadores'!$A$2:$I$5000,9,0))","v":""},"",null,null,{"$f":"IF(A94=\"\",\"\",VLOOKUP(A94&\"\",'Fichero de Jugadores'!$A$2:$I$4566,4,0))","v":""},{"$f":"IF(B94=\"\",\"\",VLOOKUP(B94&\"\",'Fichero de Jugadores'!$A$2:$I$4566,4,0))","v":""},{"$f":"IF(C94=\"\",\"\",VLOOKUP(A94&\"\",'Fichero de Jugadores'!$A$2:$I$4566,7,0))","v":{"$error":"#N/A"}},{"$f":"IF(C94=\"\",\"\",VLOOKUP(B94&\"\",'Fichero de Jugadores'!$A$2:$I$4566,7,0))","v":{"$error":"#N/A"}}]
[null,null,"92",{"$f":"IF(A95=\"\",\"\",VLOOKUP(A95&\"\",'Fichero de Jugadores'!$A$2:$H$5000,2,0))","v":""},{"$f":"IF(B95=\"\",\"\",VLOOKUP(B95&\"\",'Fichero de Jugadores'!$A$2:$H$5000,2,0))","v":""},null,{"$f":"IF(A95=\"\",\"\",VLOOKUP(A95&\"\",'Fichero de Jugadores'!$A$2:$H$5000,7,0))","v":""},{"$f":"IF(B95=\"\",\"\",VLOOKUP(B95&\"\",'Fichero de Jugadores'!$A$2:$H$5000,7,0))","v":""},{"$error":"#N/A"},{"$f":"IF(A95=\"\",\"\",VLOOKUP(A95&\"\",'Fichero de Jugadores'!$A$2:$I$5000,9,0))","v":""},{"$f":"IF(B95=\"\",\"\",VLOOKUP(B95&\"\",'Fichero de Jugadores'!$A$2:$I$5000,9,0))","v":""},"",null,null,{"$f":"IF(A95=\"\",\"\",VLOOKUP(A95&\"\",'Fichero de Jugadores'!$A$2:$I$4566,4,0))","v":""},{"$f":"IF(B95=\"\",\"\",VLOOKUP(B95&\"\",'Fichero de Jugadores'!$A$2:$I$4566,4,0))","v":""},{"$f":"IF(C95=\"\",\"\",VLOOKUP(A95&\"\",'Fichero de Jugadores'!$A$2:$I$4566,7,0))","v":{"$error":"#N/A"}},{"$f":"IF(C95=\"\",\"\",VLOOKUP(B95&\"\",'Fichero de Jugadores'!$A$2:$I$4566,7,0))","v":{"$error":"#N/A"}}]
[null,null,"93",{"$f":"IF(A96=\"\",\"\",VLOOKUP(A96&\"\",'Fichero de Jugadores'!$A$2:$H$5000,2,0))","v":""},{"$f":"IF(B96=\"\",\"\",VLOOKUP(B96&\"\",'Fichero de Jugadores'!$A$2:$H$5000,2,0))","v":""},null,{"$f":"IF(A96=\"\",\"\",VLOOKUP(A96&\"\",'Fichero de Jugadores'!$A$2:$H$5000,7,0))","v":""},{"$f":"IF(B96=\"\",\"\",VLOOKUP(B96&\"\",'Fichero de Jugadores'!$A$2:$H$5000,7,0))","v":""},{"$error":"#N/A"},{"$f":"IF(A96=\"\",\"\",VLOOKUP(A96&\"\",'Fichero de Jugadores'!$A$2:$I$5000,9,0))","v":""},{"$f":"IF(B96=\"\",\"\",VLOOKUP(B96&\"\",'Fichero de Jugadores'!$A$2:$I$5000,9,0))","v":""},"",null,null,{"$f":"IF(A96=\"\",\"\",VLOOKUP(A96&\"\",'Fichero de Jugadores'!$A$2:$I$4566,4,0))","v":""},{"$f":"IF(B96=\"\",\"\",VLOOKUP(B96&\"\",'Fichero de Jugadores'!$A$2:$I$4566,4,0))","v":""},{"$f":"IF(C96=\"\",\"\",VLOOKUP(A96&\"\",'Fichero de Jugadores'!$A$2:$I$4566,7,0))","v":{"$error":"#N/A"}},{"$f":"IF(C96=\"\",\"\",VLOOKUP(B96&\"\",'Fichero de Jugadores'!$A$2:$I$4566,7,0))","v":{"$error":"#N/A"}}]
[null,null,"94",{"$f":"IF(A97=\"\",\"\",VLOOKUP(A97&\"\",'Fichero de Jugadores'!$A$2:$H$5000,2,0))","v":""},{"$f":"IF(B97=\"\",\"\",VLOOKUP(B97&\"\",'Fichero de Jugadores'!$A$2:$H$5000,2,0))","v":""},null,{"$f":"IF(A97=\"\",\"\",VLOOKUP(A97&\"\",'Fichero de Jugadores'!$A$2:$H$5000,7,0))","v":""},{"$f":"IF(B97=\"\",\"\",VLOOKUP(B97&\"\",'Fichero de Jugadores'!$A$2:$H$5000,7,0))","v":""},{"$error":"#N/A"},{"$f":"IF(A97=\"\",\"\",VLOOKUP(A97&\"\",'Fichero de Jugadores'!$A$2:$I$5000,9,0))","v":""},{"$f":"IF(B97=\"\",\"\",VLOOKUP(B97&\"\",'Fichero de Jugadores'!$A$2:$I$5000,9,0))","v":""},"",null,null,{"$f":"IF(A97=\"\",\"\",VLOOKUP(A97&\"\",'Fichero de Jugadores'!$A$2:$I$4566,4,0))","v":""},{"$f":"IF(B97=\"\",\"\",VLOOKUP(B97&\"\",'Fichero de Jugadores'!$A$2:$I$4566,4,0))","v":""},{"$f":"IF(C97=\"\",\"\",VLOOKUP(A97&\"\",'Fichero de Jugadores'!$A$2:$I$4566,7,0))","v":{"$error":"#N/A"}},{"$f":"IF(C97=\"\",\"\",VLOOKUP(B97&\"\",'Fichero de Jugadores'!$A$2:$I$4566,7,0))","v":{"$error":"#N/A"}}]
[null,null,"95",{"$f":"IF(A98=\"\",\"\",VLOOKUP(A98&\"\",'Fichero de Jugadores'!$A$2:$H$5000,2,0))","v":""},{"$f":"IF(B98=\"\",\"\",VLOOKUP(B98&\"\",'Fichero de Jugadores'!$A$2:$H$5000,2,0))","v":""},null,{"$f":"IF(A98=\"\",\"\",VLOOKUP(A98&\"\",'Fichero de Jugadores'!$A$2:$H$5000,7,0))","v":""},{"$f":"IF(B98=\"\",\"\",VLOOKUP(B98&\"\",'Fichero de Jugadores'!$A$2:$H$5000,7,0))","v":""},{"$error":"#N/A"},{"$f":"IF(A98=\"\",\"\",VLOOKUP(A98&\"\",'Fichero de Jugadores'!$A$2:$I$5000,9,0))","v":""},{"$f":"IF(B98=\"\",\"\",VLOOKUP(B98&\"\",'Fichero de Jugadores'!$A$2:$I$5000,9,0))","v":""},"",null,null,{"$f":"IF(A98=\"\",\"\",VLOOKUP(A98&\"\",'Fichero de Jugadores'!$A$2:$I$4566,4,0))","v":""},{"$f":"IF(B98=\"\",\"\",VLOOKUP(B98&\"\",'Fichero de Jugadores'!$A$2:$I$4566,4,0))","v":""},{"$f":"IF(C98=\"\",\"\",VLOOKUP(A98&\"\",'Fichero de Jugadores'!$A$2:$I$4566,7,0))","v":{"$error":"#N/A"}},{"$f":"IF(C98=\"\",\"\",VLOOKUP(B98&\"\",'Fichero de Jugadores'!$A$2:$I$4566,7,0))","v":{"$error":"#N/A"}}]
[null,null,"96",{"$f":"IF(A99=\"\",\"\",VLOOKUP(A99&\"\",'Fichero de Jugadores'!$A$2:$H$5000,2,0))","v":""},{"$f":"IF(B99=\"\",\"\",VLOOKUP(B99&\"\",'Fichero de Jugadores'!$A$2:$H$5000,2,0))","v":""},null,{"$f":"IF(A99=\"\",\"\",VLOOKUP(A99&\"\",'Fichero de Jugadores'!$A$2:$H$5000,7,0))","v":""},{"$f":"IF(B99=\"\",\"\",VLOOKUP(B99&\"\",'Fichero de Jugadores'!$A$2:$H$5000,7,0))","v":""},{"$error":"#N/A"},{"$f":"IF(A99=\"\",\"\",VLOOKUP(A99&\"\",'Fichero de Jugadores'!$A$2:$I$5000,9,0))","v":""},{"$f":"IF(B99=\"\",\"\",VLOOKUP(B99&\"\",'Fichero de Jugadores'!$A$2:$I$5000,9,0))","v":""},"",null,null,{"$f":"IF(A99=\"\",\"\",VLOOKUP(A99&\"\",'Fichero de Jugadores'!$A$2:$I$4566,4,0))","v":""},{"$f":"IF(B99=\"\",\"\",VLOOKUP(B99&\"\",'Fichero de Jugadores'!$A$2:$I$4566,4,0))","v":""},{"$f":"IF(C99=\"\",\"\",VLOOKUP(A99&\"\",'Fichero de Jugadores'!$A$2:$I$4566,7,0))","v":{"$error":"#N/A"}},{"$f":"IF(C99=\"\",\"\",VLOOKUP(B99&\"\",'Fichero de Jugadores'!$A$2:$I$4566,7,0))","v":{"$error":"#N/A"}}]
[null,null,"97",{"$f":"IF(A100=\"\",\"\",VLOOKUP(A100&\"\",'Fichero de Jugadores'!$A$2:$H$5000,2,0))","v":""},{"$f":"IF(B100=\"\",\"\",VLOOKUP(B100&\"\",'Fichero de Jugadores'!$A$2:$H$5000,2,0))","v":""},null,{"$f":"IF(A100=\"\",\"\",VLOOKUP(A100&\"\",'Fichero de Jugadores'!$A$2:$H$5000,7,0))","v":""},{"$f":"IF(B100=\"\",\"\",VLOOKUP(B100&\"\",'Fichero de Jugadores'!$A$2:$H$5000,7,0))","v":""},{"$error":"#N/A"},{"$f":"IF(A100=\"\",\"\",VLOOKUP(A100&\"\",'Fichero de Jugadores'!$A$2:$I$5000,9,0))","v":""},{"$f":"IF(B100=\"\",\"\",VLOOKUP(B100&\"\",'Fichero de Jugadores'!$A$2:$I$5000,9,0))","v":""},"",null,null,{"$f":"IF(A100=\"\",\"\",VLOOKUP(A100&\"\",'Fichero de Jugadores'!$A$2:$I$4566,4,0))","v":""},{"$f":"IF(B100=\"\",\"\",VLOOKUP(B100&\"\",'Fichero de Jugadores'!$A$2:$I$4566,4,0))","v":""},{"$f":"IF(C100=\"\",\"\",VLOOKUP(A100&\"\",'Fichero de Jugadores'!$A$2:$I$4566,7,0))","v":{"$error":"#N/A"}},{"$f":"IF(C100=\"\",\"\",VLOOKUP(B100&\"\",'Fichero de Jugadores'!$A$2:$I$4566,7,0))","v":{"$error":"#N/A"}}]
[null,null,98,{"$f":"IF(A101=\"\",\"\",VLOOKUP(A101&\"\",'Fichero de Jugadores'!$A$2:$H$5000,2,0))","v":""},{"$f":"IF(B101=\"\",\"\",VLOOKUP(B101&\"\",'Fichero de Jugadores'!$A$2:$H$5000,2,0))","v":""},null,{"$f":"IF(A101=\"\",\"\",VLOOKUP(A101&\"\",'Fichero de Jugadores'!$A$2:$H$5000,7,0))","v":""},{"$f":"IF(B101=\"\",\"\",VLOOKUP(B101&\"\",'Fichero de Jugadores'!$A$2:$H$5000,7,0))","v":""},{"$error":"#N/A"},{"$f":"IF(A101=\"\",\"\",VLOOKUP(A101&\"\",'Fichero de Jugadores'!$A$2:$I$5000,9,0))","v":""},{"$f":"IF(B101=\"\",\"\",VLOOKUP(B101&\"\",'Fichero de Jugadores'!$A$2:$I$5000,9,0))","v":""},"",null,null,{"$f":"IF(A101=\"\",\"\",VLOOKUP(A101&\"\",'Fichero de Jugadores'!$A$2:$I$4566,4,0))","v":""},{"$f":"IF(B101=\"\",\"\",VLOOKUP(B101&\"\",'Fichero de Jugadores'!$A$2:$I$4566,4,0))","v":""},{"$f":"IF(C101=\"\",\"\",VLOOKUP(A101&\"\",'Fichero de Jugadores'!$A$2:$I$4566,7,0))","v":{"$error":"#N/A"}},{"$f":"IF(C101=\"\",\"\",VLOOKUP(B101&\"\",'Fichero de Jugadores'!$A$2:$I$4566,7,0))","v":{"$error":"#N/A"}}]
[null,null,99,{"$f":"IF(A102=\"\",\"\",VLOOKUP(A102&\"\",'Fichero de Jugadores'!$A$2:$H$5000,2,0))","v":""},{"$f":"IF(B102=\"\",\"\",VLOOKUP(B102&\"\",'Fichero de Jugadores'!$A$2:$H$5000,2,0))","v":""},null,{"$f":"IF(A102=\"\",\"\",VLOOKUP(A102&\"\",'Fichero de Jugadores'!$A$2:$H$5000,7,0))","v":""},{"$f":"IF(B102=\"\",\"\",VLOOKUP(B102&\"\",'Fichero de Jugadores'!$A$2:$H$5000,7,0))","v":""},{"$error":"#N/A"},{"$f":"IF(A102=\"\",\"\",VLOOKUP(A102&\"\",'Fichero de Jugadores'!$A$2:$I$5000,9,0))","v":""},{"$f":"IF(B102=\"\",\"\",VLOOKUP(B102&\"\",'Fichero de Jugadores'!$A$2:$I$5000,9,0))","v":""},"",null,null,{"$f":"IF(A102=\"\",\"\",VLOOKUP(A102&\"\",'Fichero de Jugadores'!$A$2:$I$4566,4,0))","v":""},{"$f":"IF(B102=\"\",\"\",VLOOKUP(B102&\"\",'Fichero de Jugadores'!$A$2:$I$4566,4,0))","v":""},{"$f":"IF(C102=\"\",\"\",VLOOKUP(A102&\"\",'Fichero de Jugadores'!$A$2:$I$4566,7,0))","v":{"$error":"#N/A"}},{"$f":"IF(C102=\"\",\"\",VLOOKUP(B102&\"\",'Fichero de Jugadores'!$A$2:$I$4566,7,0))","v":{"$error":"#N/A"}}]
[null,null,100,{"$f":"IF(A103=\"\",\"\",VLOOKUP(A103&\"\",'Fichero de Jugadores'!$A$2:$H$5000,2,0))","v":""},{"$f":"IF(B103=\"\",\"\",VLOOKUP(B103&\"\",'Fichero de Jugadores'!$A$2:$H$5000,2,0))","v":""},null,{"$f":"IF(A103=\"\",\"\",VLOOKUP(A103&\"\",'Fichero de Jugadores'!$A$2:$H$5000,7,0))","v":""},{"$f":"IF(B103=\"\",\"\",VLOOKUP(B103&\"\",'Fichero de Jugadores'!$A$2:$H$5000,7,0))","v":""},{"$error":"#N/A"},{"$f":"IF(A103=\"\",\"\",VLOOKUP(A103&\"\",'Fichero de Jugadores'!$A$2:$I$5000,9,0))","v":""},{"$f":"IF(B103=\"\",\"\",VLOOKUP(B103&\"\",'Fichero de Jugadores'!$A$2:$I$5000,9,0))","v":""},"",null,null,{"$f":"IF(A103=\"\",\"\",VLOOKUP(A103&\"\",'Fichero de Jugadores'!$A$2:$I$4566,4,0))","v":""},{"$f":"IF(B103=\"\",\"\",VLOOKUP(B103&\"\",'Fichero de Jugadores'!$A$2:$I$4566,4,0))","v":""},{"$f":"IF(C103=\"\",\"\",VLOOKUP(A103&\"\",'Fichero de Jugadores'!$A$2:$I$4566,7,0))","v":{"$error":"#N/A"}},{"$f":"IF(C103=\"\",\"\",VLOOKUP(B103&\"\",'Fichero de Jugadores'!$A$2:$I$4566,7,0))","v":{"$error":"#N/A"}}]
[null,null,101,{"$f":"IF(A104=\"\",\"\",VLOOKUP(A104&\"\",'Fichero de Jugadores'!$A$2:$H$5000,2,0))","v":""},{"$f":"IF(B104=\"\",\"\",VLOOKUP(B104&\"\",'Fichero de Jugadores'!$A$2:$H$5000,2,0))","v":""},null,{"$f":"IF(A104=\"\",\"\",VLOOKUP(A104&\"\",'Fichero de Jugadores'!$A$2:$H$5000,7,0))","v":""},{"$f":"IF(B104=\"\",\"\",VLOOKUP(B104&\"\",'Fichero de Jugadores'!$A$2:$H$5000,7,0))","v":""},{"$error":"#N/A"},{"$f":"IF(A104=\"\",\"\",VLOOKUP(A104&\"\",'Fichero de Jugadores'!$A$2:$I$5000,9,0))","v":""},{"$f":"IF(B104=\"\",\"\",VLOOKUP(B104&\"\",'Fichero de Jugadores'!$A$2:$I$5000,9,0))","v":""},"",null,null,{"$f":"IF(A104=\"\",\"\",VLOOKUP(A104&\"\",'Fichero de Jugadores'!$A$2:$I$4566,4,0))","v":""},{"$f":"IF(B104=\"\",\"\",VLOOKUP(B104&\"\",'Fichero de Jugadores'!$A$2:$I$4566,4,0))","v":""},{"$f":"IF(C104=\"\",\"\",VLOOKUP(A104&\"\",'Fichero de Jugadores'!$A$2:$I$4566,7,0))","v":{"$error":"#N/A"}},{"$f":"IF(C104=\"\",\"\",VLOOKUP(B104&\"\",'Fichero de Jugadores'!$A$2:$I$4566,7,0))","v":{"$error":"#N/A"}}]
[null,null,102,{"$f":"IF(A105=\"\",\"\",VLOOKUP(A105&\"\",'Fichero de Jugadores'!$A$2:$H$5000,2,0))","v":""},{"$f":"IF(B105=\"\",\"\",VLOOKUP(B105&\"\",'Fichero de Jugadores'!$A$2:$H$5000,2,0))","v":""},null,{"$f":"IF(A105=\"\",\"\",VLOOKUP(A105&\"\",'Fichero de Jugadores'!$A$2:$H$5000,7,0))","v":""},{"$f":"IF(B105=\"\",\"\",VLOOKUP(B105&\"\",'Fichero de Jugadores'!$A$2:$H$5000,7,0))","v":""},{"$error":"#N/A"},{"$f":"IF(A105=\"\",\"\",VLOOKUP(A105&\"\",'Fichero de Jugadores'!$A$2:$I$5000,9,0))","v":""},{"$f":"IF(B105=\"\",\"\",VLOOKUP(B105&\"\",'Fichero de Jugadores'!$A$2:$I$5000,9,0))","v":""},"",null,null,{"$f":"IF(A105=\"\",\"\",VLOOKUP(A105&\"\",'Fichero de Jugadores'!$A$2:$I$4566,4,0))","v":""},{"$f":"IF(B105=\"\",\"\",VLOOKUP(B105&\"\",'Fichero de Jugadores'!$A$2:$I$4566,4,0))","v":""},{"$f":"IF(C105=\"\",\"\",VLOOKUP(A105&\"\",'Fichero de Jugadores'!$A$2:$I$4566,7,0))","v":{"$error":"#N/A"}},{"$f":"IF(C105=\"\",\"\",VLOOKUP(B105&\"\",'Fichero de Jugadores'!$A$2:$I$4566,7,0))","v":{"$error":"#N/A"}}]
[null,null,103,{"$f":"IF(A106=\"\",\"\",VLOOKUP(A106&\"\",'Fichero de Jugadores'!$A$2:$H$5000,2,0))","v":""},{"$f":"IF(B106=\"\",\"\",VLOOKUP(B106&\"\",'Fichero de Jugadores'!$A$2:$H$5000,2,0))","v":""},null,{"$f":"IF(A106=\"\",\"\",VLOOKUP(A106&\"\",'Fichero de Jugadores'!$A$2:$H$5000,7,0))","v":""},{"$f":"IF(B106=\"\",\"\",VLOOKUP(B106&\"\",'Fichero de Jugadores'!$A$2:$H$5000,7,0))","v":""},{"$error":"#N/A"},{"$f":"IF(A106=\"\",\"\",VLOOKUP(A106&\"\",'Fichero de Jugadores'!$A$2:$I$5000,9,0))","v":""},{"$f":"IF(B106=\"\",\"\",VLOOKUP(B106&\"\",'Fichero de Jugadores'!$A$2:$I$5000,9,0))","v":""},"",null,null,{"$f":"IF(A106=\"\",\"\",VLOOKUP(A106&\"\",'Fichero de Jugadores'!$A$2:$I$4566,4,0))","v":""},{"$f":"IF(B106=\"\",\"\",VLOOKUP(B106&\"\",'Fichero de Jugadores'!$A$2:$I$4566,4,0))","v":""},{"$f":"IF(C106=\"\",\"\",VLOOKUP(A106&\"\",'Fichero de Jugadores'!$A$2:$I$4566,7,0))","v":{"$error":"#N/A"}},{"$f":"IF(C106=\"\",\"\",VLOOKUP(B106&\"\",'Fichero de Jugadores'!$A$2:$I$4566,7,0))","v":{"$error":"#N/A"}}]
[null,null,104,{"$f":"IF(A107=\"\",\"\",VLOOKUP(A107&\"\",'Fichero de Jugadores'!$A$2:$H$5000,2,0))","v":""},{"$f":"IF(B107=\"\",\"\",VLOOKUP(B107&\"\",'Fichero de Jugadores'!$A$2:$H$5000,2,0))","v":""},null,{"$f":"IF(A107=\"\",\"\",VLOOKUP(A107&\"\",'Fichero de Jugadores'!$A$2:$H$5000,7,0))","v":""},{"$f":"IF(B107=\"\",\"\",VLOOKUP(B107&\"\",'Fichero de Jugadores'!$A$2:$H$5000,7,0))","v":""},{"$error":"#N/A"},{"$f":"IF(A107=\"\",\"\",VLOOKUP(A107&\"\",'Fichero de Jugadores'!$A$2:$I$5000,9,0))","v":""},{"$f":"IF(B107=\"\",\"\",VLOOKUP(B107&\"\",'Fichero de Jugadores'!$A$2:$I$5000,9,0))","v":""},"",null,null,{"$f":"IF(A107=\"\",\"\",VLOOKUP(A107&\"\",'Fichero de Jugadores'!$A$2:$I$4566,4,0))","v":""},{"$f":"IF(B107=\"\",\"\",VLOOKUP(B107&\"\",'Fichero de Jugadores'!$A$2:$I$4566,4,0))","v":""},{"$f":"IF(C107=\"\",\"\",VLOOKUP(A107&\"\",'Fichero de Jugadores'!$A$2:$I$4566,7,0))","v":{"$error":"#N/A"}},{"$f":"IF(C107=\"\",\"\",VLOOKUP(B107&\"\",'Fichero de Jugadores'!$A$2:$I$4566,7,0))","v":{"$error":"#N/A"}}]
[null,null,105,{"$f":"IF(A108=\"\",\"\",VLOOKUP(A108&\"\",'Fichero de Jugadores'!$A$2:$H$5000,2,0))","v":""},{"$f":"IF(B108=\"\",\"\",VLOOKUP(B108&\"\",'Fichero de Jugadores'!$A$2:$H$5000,2,0))","v":""},null,{"$f":"IF(A108=\"\",\"\",VLOOKUP(A108&\"\",'Fichero de Jugadores'!$A$2:$H$5000,7,0))","v":""},{"$f":"IF(B108=\"\",\"\",VLOOKUP(B108&\"\",'Fichero de Jugadores'!$A$2:$H$5000,7,0))","v":""},{"$error":"#N/A"},{"$f":"IF(A108=\"\",\"\",VLOOKUP(A108&\"\",'Fichero de Jugadores'!$A$2:$I$5000,9,0))","v":""},{"$f":"IF(B108=\"\",\"\",VLOOKUP(B108&\"\",'Fichero de Jugadores'!$A$2:$I$5000,9,0))","v":""},"",null,null,{"$f":"IF(A108=\"\",\"\",VLOOKUP(A108&\"\",'Fichero de Jugadores'!$A$2:$I$4566,4,0))","v":""},{"$f":"IF(B108=\"\",\"\",VLOOKUP(B108&\"\",'Fichero de Jugadores'!$A$2:$I$4566,4,0))","v":""},{"$f":"IF(C108=\"\",\"\",VLOOKUP(A108&\"\",'Fichero de Jugadores'!$A$2:$I$4566,7,0))","v":{"$error":"#N/A"}},{"$f":"IF(C108=\"\",\"\",VLOOKUP(B108&\"\",'Fichero de Jugadores'!$A$2:$I$4566,7,0))","v":{"$error":"#N/A"}}]
[null,null,106,{"$f":"IF(A109=\"\",\"\",VLOOKUP(A109&\"\",'Fichero de Jugadores'!$A$2:$H$5000,2,0))","v":""},{"$f":"IF(B109=\"\",\"\",VLOOKUP(B109&\"\",'Fichero de Jugadores'!$A$2:$H$5000,2,0))","v":""},null,{"$f":"IF(A109=\"\",\"\",VLOOKUP(A109&\"\",'Fichero de Jugadores'!$A$2:$H$5000,7,0))","v":""},{"$f":"IF(B109=\"\",\"\",VLOOKUP(B109&\"\",'Fichero de Jugadores'!$A$2:$H$5000,7,0))","v":""},{"$error":"#N/A"},{"$f":"IF(A109=\"\",\"\",VLOOKUP(A109&\"\",'Fichero de Jugadores'!$A$2:$I$5000,9,0))","v":""},{"$f":"IF(B109=\"\",\"\",VLOOKUP(B109&\"\",'Fichero de Jugadores'!$A$2:$I$5000,9,0))","v":""},"",null,null,{"$f":"IF(A109=\"\",\"\",VLOOKUP(A109&\"\",'Fichero de Jugadores'!$A$2:$I$4566,4,0))","v":""},{"$f":"IF(B109=\"\",\"\",VLOOKUP(B109&\"\",'Fichero de Jugadores'!$A$2:$I$4566,4,0))","v":""},{"$f":"IF(C109=\"\",\"\",VLOOKUP(A109&\"\",'Fichero de Jugadores'!$A$2:$I$4566,7,0))","v":{"$error":"#N/A"}},{"$f":"IF(C109=\"\",\"\",VLOOKUP(B109&\"\",'Fichero de Jugadores'!$A$2:$I$4566,7,0))","v":{"$error":"#N/A"}}]
[null,null,107,{"$f":"IF(A110=\"\",\"\",VLOOKUP(A110&\"\",'Fichero de Jugadores'!$A$2:$H$5000,2,0))","v":""},{"$f":"IF(B110=\"\",\"\",VLOOKUP(B110&\"\",'Fichero de Jugadores'!$A$2:$H$5000,2,0))","v":""},null,{"$f":"IF(A110=\"\",\"\",VLOOKUP(A110&\"\",'Fichero de Jugadores'!$A$2:$H$5000,7,0))","v":""},{"$f":"IF(B110=\"\",\"\",VLOOKUP(B110&\"\",'Fichero de Jugadores'!$A$2:$H$5000,7,0))","v":""},{"$error":"#N/A"},{"$f":"IF(A110=\"\",\"\",VLOOKUP(A110&\"\",'Fichero de Jugadores'!$A$2:$I$5000,9,0))","v":""},{"$f":"IF(B110=\"\",\"\",VLOOKUP(B110&\"\",'Fichero de Jugadores'!$A$2:$I$5000,9,0))","v":""},"",null,null,{"$f":"IF(A110=\"\",\"\",VLOOKUP(A110&\"\",'Fichero de Jugadores'!$A$2:$I$4566,4,0))","v":""},{"$f":"IF(B110=\"\",\"\",VLOOKUP(B110&\"\",'Fichero de Jugadores'!$A$2:$I$4566,4,0))","v":""},{"$f":"IF(C110=\"\",\"\",VLOOKUP(A110&\"\",'Fichero de Jugadores'!$A$2:$I$4566,7,0))","v":{"$error":"#N/A"}},{"$f":"IF(C110=\"\",\"\",VLOOKUP(B110&\"\",'Fichero de Jugadores'!$A$2:$I$4566,7,0))","v":{"$error":"#N/A"}}]
[null,null,108,{"$f":"IF(A111=\"\",\"\",VLOOKUP(A111&\"\",'Fichero de Jugadores'!$A$2:$H$5000,2,0))","v":""},{"$f":"IF(B111=\"\",\"\",VLOOKUP(B111&\"\",'Fichero de Jugadores'!$A$2:$H$5000,2,0))","v":""},null,{"$f":"IF(A111=\"\",\"\",VLOOKUP(A111&\"\",'Fichero de Jugadores'!$A$2:$H$5000,7,0))","v":""},{"$f":"IF(B111=\"\",\"\",VLOOKUP(B111&\"\",'Fichero de Jugadores'!$A$2:$H$5000,7,0))","v":""},{"$error":"#N/A"},{"$f":"IF(A111=\"\",\"\",VLOOKUP(A111&\"\",'Fichero de Jugadores'!$A$2:$I$5000,9,0))","v":""},{"$f":"IF(B111=\"\",\"\",VLOOKUP(B111&\"\",'Fichero de Jugadores'!$A$2:$I$5000,9,0))","v":""},"",null,null,{"$f":"IF(A111=\"\",\"\",VLOOKUP(A111&\"\",'Fichero de Jugadores'!$A$2:$I$4566,4,0))","v":""},{"$f":"IF(B111=\"\",\"\",VLOOKUP(B111&\"\",'Fichero de Jugadores'!$A$2:$I$4566,4,0))","v":""},{"$f":"IF(C111=\"\",\"\",VLOOKUP(A111&\"\",'Fichero de Jugadores'!$A$2:$I$4566,7,0))","v":{"$error":"#N/A"}},{"$f":"IF(C111=\"\",\"\",VLOOKUP(B111&\"\",'Fichero de Jugadores'!$A$2:$I$4566,7,0))","v":{"$error":"#N/A"}}]
[null,null,109,{"$f":"IF(A112=\"\",\"\",VLOOKUP(A112&\"\",'Fichero de Jugadores'!$A$2:$H$5000,2,0))","v":""},{"$f":"IF(B112=\"\",\"\",VLOOKUP(B112&\"\",'Fichero de Jugadores'!$A$2:$H$5000,2,0))","v":""},null,{"$f":"IF(A112=\"\",\"\",VLOOKUP(A112&\"\",'Fichero de Jugadores'!$A$2:$H$5000,7,0))","v":""},{"$f":"IF(B112=\"\",\"\",VLOOKUP(B112&\"\",'Fichero de Jugadores'!$A$2:$H$5000,7,0))","v":""},{"$error":"#N/A"},{"$f":"IF(A112=\"\",\"\",VLOOKUP(A112&\"\",'Fichero de Jugadores'!$A$2:$I$5000,9,0))","v":""},{"$f":"IF(B112=\"\",\"\",VLOOKUP(B112&\"\",'Fichero de Jugadores'!$A$2:$I$5000,9,0))","v":""},"",null,null,{"$f":"IF(A112=\"\",\"\",VLOOKUP(A112&\"\",'Fichero de Jugadores'!$A$2:$I$4566,4,0))","v":""},{"$f":"IF(B112=\"\",\"\",VLOOKUP(B112&\"\",'Fichero de Jugadores'!$A$2:$I$4566,4,0))","v":""},{"$f":"IF(C112=\"\",\"\",VLOOKUP(A112&\"\",'Fichero de Jugadores'!$A$2:$I$4566,7,0))","v":{"$error":"#N/A"}},{"$f":"IF(C112=\"\",\"\",VLOOKUP(B112&\"\",'Fichero de Jugadores'!$A$2:$I$4566,7,0))","v":{"$error":"#N/A"}}]
[null,null,110,{"$f":"IF(A113=\"\",\"\",VLOOKUP(A113&\"\",'Fichero de Jugadores'!$A$2:$H$5000,2,0))","v":""},{"$f":"IF(B113=\"\",\"\",VLOOKUP(B113&\"\",'Fichero de Jugadores'!$A$2:$H$5000,2,0))","v":""},null,{"$f":"IF(A113=\"\",\"\",VLOOKUP(A113&\"\",'Fichero de Jugadores'!$A$2:$H$5000,7,0))","v":""},{"$f":"IF(B113=\"\",\"\",VLOOKUP(B113&\"\",'Fichero de Jugadores'!$A$2:$H$5000,7,0))","v":""},{"$error":"#N/A"},{"$f":"IF(A113=\"\",\"\",VLOOKUP(A113&\"\",'Fichero de Jugadores'!$A$2:$I$5000,9,0))","v":""},{"$f":"IF(B113=\"\",\"\",VLOOKUP(B113&\"\",'Fichero de Jugadores'!$A$2:$I$5000,9,0))","v":""},"",null,null,{"$f":"IF(A113=\"\",\"\",VLOOKUP(A113&\"\",'Fichero de Jugadores'!$A$2:$I$4566,4,0))","v":""},{"$f":"IF(B113=\"\",\"\",VLOOKUP(B113&\"\",'Fichero de Jugadores'!$A$2:$I$4566,4,0))","v":""},{"$f":"IF(C113=\"\",\"\",VLOOKUP(A113&\"\",'Fichero de Jugadores'!$A$2:$I$4566,7,0))","v":{"$error":"#N/A"}},{"$f":"IF(C113=\"\",\"\",VLOOKUP(B113&\"\",'Fichero de Jugadores'!$A$2:$I$4566,7,0))","v":{"$error":"#N/A"}}]
[null,null,111,{"$f":"IF(A114=\"\",\"\",VLOOKUP(A114&\"\",'Fichero de Jugadores'!$A$2:$H$5000,2,0))","v":""},{"$f":"IF(B114=\"\",\"\",VLOOKUP(B114&\"\",'Fichero de Jugadores'!$A$2:$H$5000,2,0))","v":""},null,{"$f":"IF(A114=\"\",\"\",VLOOKUP(A114&\"\",'Fichero de Jugadores'!$A$2:$H$5000,7,0))","v":""},{"$f":"IF(B114=\"\",\"\",VLOOKUP(B114&\"\",'Fichero de Jugadores'!$A$2:$H$5000,7,0))","v":""},{"$error":"#N/A"},{"$f":"IF(A114=\"\",\"\",VLOOKUP(A114&\"\",'Fichero de Jugadores'!$A$2:$I$5000,9,0))","v":""},{"$f":"IF(B114=\"\",\"\",VLOOKUP(B114&\"\",'Fichero de Jugadores'!$A$2:$I$5000,9,0))","v":""},"",null,null,{"$f":"IF(A114=\"\",\"\",VLOOKUP(A114&\"\",'Fichero de Jugadores'!$A$2:$I$4566,4,0))","v":""},{"$f":"IF(B114=\"\",\"\",VLOOKUP(B114&\"\",'Fichero de Jugadores'!$A$2:$I$4566,4,0))","v":""},{"$f":"IF(C114=\"\",\"\",VLOOKUP(A114&\"\",'Fichero de Jugadores'!$A$2:$I$4566,7,0))","v":{"$error":"#N/A"}},{"$f":"IF(C114=\"\",\"\",VLOOKUP(B114&\"\",'Fichero de Jugadores'!$A$2:$I$4566,7,0))","v":{"$error":"#N/A"}}]
[null,null,112,{"$f":"IF(A115=\"\",\"\",VLOOKUP(A115&\"\",'Fichero de Jugadores'!$A$2:$H$5000,2,0))","v":""},{"$f":"IF(B115=\"\",\"\",VLOOKUP(B115&\"\",'Fichero de Jugadores'!$A$2:$H$5000,2,0))","v":""},null,{"$f":"IF(A115=\"\",\"\",VLOOKUP(A115&\"\",'Fichero de Jugadores'!$A$2:$H$5000,7,0))","v":""},{"$f":"IF(B115=\"\",\"\",VLOOKUP(B115&\"\",'Fichero de Jugadores'!$A$2:$H$5000,7,0))","v":""},{"$error":"#N/A"},{"$f":"IF(A115=\"\",\"\",VLOOKUP(A115&\"\",'Fichero de Jugadores'!$A$2:$I$5000,9,0))","v":""},{"$f":"IF(B115=\"\",\"\",VLOOKUP(B115&\"\",'Fichero de Jugadores'!$A$2:$I$5000,9,0))","v":""},"",null,null,{"$f":"IF(A115=\"\",\"\",VLOOKUP(A115&\"\",'Fichero de Jugadores'!$A$2:$I$4566,4,0))","v":""},{"$f":"IF(B115=\"\",\"\",VLOOKUP(B115&\"\",'Fichero de Jugadores'!$A$2:$I$4566,4,0))","v":""},{"$f":"IF(C115=\"\",\"\",VLOOKUP(A115&\"\",'Fichero de Jugadores'!$A$2:$I$4566,7,0))","v":{"$error":"#N/A"}},{"$f":"IF(C115=\"\",\"\",VLOOKUP(B115&\"\",'Fichero de Jugadores'!$A$2:$I$4566,7,0))","v":{"$error":"#N/A"}}]
[null,null,113,{"$f":"IF(A116=\"\",\"\",VLOOKUP(A116&\"\",'Fichero de Jugadores'!$A$2:$H$5000,2,0))","v":""},{"$f":"IF(B116=\"\",\"\",VLOOKUP(B116&\"\",'Fichero de Jugadores'!$A$2:$H$5000,2,0))","v":""},null,{"$f":"IF(A116=\"\",\"\",VLOOKUP(A116&\"\",'Fichero de Jugadores'!$A$2:$H$5000,7,0))","v":""},{"$f":"IF(B116=\"\",\"\",VLOOKUP(B116&\"\",'Fichero de Jugadores'!$A$2:$H$5000,7,0))","v":""},{"$error":"#N/A"},{"$f":"IF(A116=\"\",\"\",VLOOKUP(A116&\"\",'Fichero de Jugadores'!$A$2:$I$5000,9,0))","v":""},{"$f":"IF(B116=\"\",\"\",VLOOKUP(B116&\"\",'Fichero de Jugadores'!$A$2:$I$5000,9,0))","v":""},"",null,null,{"$f":"IF(A116=\"\",\"\",VLOOKUP(A116&\"\",'Fichero de Jugadores'!$A$2:$I$4566,4,0))","v":""},{"$f":"IF(B116=\"\",\"\",VLOOKUP(B116&\"\",'Fichero de Jugadores'!$A$2:$I$4566,4,0))","v":""},{"$f":"IF(C116=\"\",\"\",VLOOKUP(A116&\"\",'Fichero de Jugadores'!$A$2:$I$4566,7,0))","v":{"$error":"#N/A"}},{"$f":"IF(C116=\"\",\"\",VLOOKUP(B116&\"\",'Fichero de Jugadores'!$A$2:$I$4566,7,0))","v":{"$error":"#N/A"}}]
[null,null,114,{"$f":"IF(A117=\"\",\"\",VLOOKUP(A117&\"\",'Fichero de Jugadores'!$A$2:$H$5000,2,0))","v":""},{"$f":"IF(B117=\"\",\"\",VLOOKUP(B117&\"\",'Fichero de Jugadores'!$A$2:$H$5000,2,0))","v":""},null,{"$f":"IF(A117=\"\",\"\",VLOOKUP(A117&\"\",'Fichero de Jugadores'!$A$2:$H$5000,7,0))","v":""},{"$f":"IF(B117=\"\",\"\",VLOOKUP(B117&\"\",'Fichero de Jugadores'!$A$2:$H$5000,7,0))","v":""},{"$error":"#N/A"},{"$f":"IF(A117=\"\",\"\",VLOOKUP(A117&\"\",'Fichero de Jugadores'!$A$2:$I$5000,9,0))","v":""},{"$f":"IF(B117=\"\",\"\",VLOOKUP(B117&\"\",'Fichero de Jugadores'!$A$2:$I$5000,9,0))","v":""},"",null,null,{"$f":"IF(A117=\"\",\"\",VLOOKUP(A117&\"\",'Fichero de Jugadores'!$A$2:$I$4566,4,0))","v":""},{"$f":"IF(B117=\"\",\"\",VLOOKUP(B117&\"\",'Fichero de Jugadores'!$A$2:$I$4566,4,0))","v":""},{"$f":"IF(C117=\"\",\"\",VLOOKUP(A117&\"\",'Fichero de Jugadores'!$A$2:$I$4566,7,0))","v":{"$error":"#N/A"}},{"$f":"IF(C117=\"\",\"\",VLOOKUP(B117&\"\",'Fichero de Jugadores'!$A$2:$I$4566,7,0))","v":{"$error":"#N/A"}}]
[null,null,115,{"$f":"IF(A118=\"\",\"\",VLOOKUP(A118&\"\",'Fichero de Jugadores'!$A$2:$H$5000,2,0))","v":""},{"$f":"IF(B118=\"\",\"\",VLOOKUP(B118&\"\",'Fichero de Jugadores'!$A$2:$H$5000,2,0))","v":""},null,{"$f":"IF(A118=\"\",\"\",VLOOKUP(A118&\"\",'Fichero de Jugadores'!$A$2:$H$5000,7,0))","v":""},{"$f":"IF(B118=\"\",\"\",VLOOKUP(B118&\"\",'Fichero de Jugadores'!$A$2:$H$5000,7,0))","v":""},{"$error":"#N/A"},{"$f":"IF(A118=\"\",\"\",VLOOKUP(A118&\"\",'Fichero de Jugadores'!$A$2:$I$5000,9,0))","v":""},{"$f":"IF(B118=\"\",\"\",VLOOKUP(B118&\"\",'Fichero de Jugadores'!$A$2:$I$5000,9,0))","v":""},"",null,null,{"$f":"IF(A118=\"\",\"\",VLOOKUP(A118&\"\",'Fichero de Jugadores'!$A$2:$I$4566,4,0))","v":""},{"$f":"IF(B118=\"\",\"\",VLOOKUP(B118&\"\",'Fichero de Jugadores'!$A$2:$I$4566,4,0))","v":""},{"$f":"IF(C118=\"\",\"\",VLOOKUP(A118&\"\",'Fichero de Jugadores'!$A$2:$I$4566,7,0))","v":{"$error":"#N/A"}},{"$f":"IF(C118=\"\",\"\",VLOOKUP(B118&\"\",'Fichero de Jugadores'!$A$2:$I$4566,7,0))","v":{"$error":"#N/A"}}]
[null,null,116,{"$f":"IF(A119=\"\",\"\",VLOOKUP(A119&\"\",'Fichero de Jugadores'!$A$2:$H$5000,2,0))","v":""},{"$f":"IF(B119=\"\",\"\",VLOOKUP(B119&\"\",'Fichero de Jugadores'!$A$2:$H$5000,2,0))","v":""},null,{"$f":"IF(A119=\"\",\"\",VLOOKUP(A119&\"\",'Fichero de Jugadores'!$A$2:$H$5000,7,0))","v":""},{"$f":"IF(B119=\"\",\"\",VLOOKUP(B119&\"\",'Fichero de Jugadores'!$A$2:$H$5000,7,0))","v":""},{"$error":"#N/A"},{"$f":"IF(A119=\"\",\"\",VLOOKUP(A119&\"\",'Fichero de Jugadores'!$A$2:$I$5000,9,0))","v":""},{"$f":"IF(B119=\"\",\"\",VLOOKUP(B119&\"\",'Fichero de Jugadores'!$A$2:$I$5000,9,0))","v":""},"",null,null,{"$f":"IF(A119=\"\",\"\",VLOOKUP(A119&\"\",'Fichero de Jugadores'!$A$2:$I$4566,4,0))","v":""},{"$f":"IF(B119=\"\",\"\",VLOOKUP(B119&\"\",'Fichero de Jugadores'!$A$2:$I$4566,4,0))","v":""},{"$f":"IF(C119=\"\",\"\",VLOOKUP(A119&\"\",'Fichero de Jugadores'!$A$2:$I$4566,7,0))","v":{"$error":"#N/A"}},{"$f":"IF(C119=\"\",\"\",VLOOKUP(B119&\"\",'Fichero de Jugadores'!$A$2:$I$4566,7,0))","v":{"$error":"#N/A"}}]
[null,null,117,{"$f":"IF(A120=\"\",\"\",VLOOKUP(A120&\"\",'Fichero de Jugadores'!$A$2:$H$5000,2,0))","v":""},{"$f":"IF(B120=\"\",\"\",VLOOKUP(B120&\"\",'Fichero de Jugadores'!$A$2:$H$5000,2,0))","v":""},null,{"$f":"IF(A120=\"\",\"\",VLOOKUP(A120&\"\",'Fichero de Jugadores'!$A$2:$H$5000,7,0))","v":""},{"$f":"IF(B120=\"\",\"\",VLOOKUP(B120&\"\",'Fichero de Jugadores'!$A$2:$H$5000,7,0))","v":""},{"$error":"#N/A"},{"$f":"IF(A120=\"\",\"\",VLOOKUP(A120&\"\",'Fichero de Jugadores'!$A$2:$I$5000,9,0))","v":""},{"$f":"IF(B120=\"\",\"\",VLOOKUP(B120&\"\",'Fichero de Jugadores'!$A$2:$I$5000,9,0))","v":""},"",null,null,{"$f":"IF(A120=\"\",\"\",VLOOKUP(A120&\"\",'Fichero de Jugadores'!$A$2:$I$4566,4,0))","v":""},{"$f":"IF(B120=\"\",\"\",VLOOKUP(B120&\"\",'Fichero de Jugadores'!$A$2:$I$4566,4,0))","v":""},{"$f":"IF(C120=\"\",\"\",VLOOKUP(A120&\"\",'Fichero de Jugadores'!$A$2:$I$4566,7,0))","v":{"$error":"#N/A"}},{"$f":"IF(C120=\"\",\"\",VLOOKUP(B120&\"\",'Fichero de Jugadores'!$A$2:$I$4566,7,0))","v":{"$error":"#N/A"}}]
[null,null,118,{"$f":"IF(A121=\"\",\"\",VLOOKUP(A121&\"\",'Fichero de Jugadores'!$A$2:$H$5000,2,0))","v":""},{"$f":"IF(B121=\"\",\"\",VLOOKUP(B121&\"\",'Fichero de Jugadores'!$A$2:$H$5000,2,0))","v":""},null,{"$f":"IF(A121=\"\",\"\",VLOOKUP(A121&\"\",'Fichero de Jugadores'!$A$2:$H$5000,7,0))","v":""},{"$f":"IF(B121=\"\",\"\",VLOOKUP(B121&\"\",'Fichero de Jugadores'!$A$2:$H$5000,7,0))","v":""},{"$error":"#N/A"},{"$f":"IF(A121=\"\",\"\",VLOOKUP(A121&\"\",'Fichero de Jugadores'!$A$2:$I$5000,9,0))","v":""},{"$f":"IF(B121=\"\",\"\",VLOOKUP(B121&\"\",'Fichero de Jugadores'!$A$2:$I$5000,9,0))","v":""},"",null,null,{"$f":"IF(A121=\"\",\"\",VLOOKUP(A121&\"\",'Fichero de Jugadores'!$A$2:$I$4566,4,0))","v":""},{"$f":"IF(B121=\"\",\"\",VLOOKUP(B121&\"\",'Fichero de Jugadores'!$A$2:$I$4566,4,0))","v":""},{"$f":"IF(C121=\"\",\"\",VLOOKUP(A121&\"\",'Fichero de Jugadores'!$A$2:$I$4566,7,0))","v":{"$error":"#N/A"}},{"$f":"IF(C121=\"\",\"\",VLOOKUP(B121&\"\",'Fichero de Jugadores'!$A$2:$I$4566,7,0))","v":{"$error":"#N/A"}}]
[null,null,119,{"$f":"IF(A122=\"\",\"\",VLOOKUP(A122&\"\",'Fichero de Jugadores'!$A$2:$H$5000,2,0))","v":""},{"$f":"IF(B122=\"\",\"\",VLOOKUP(B122&\"\",'Fichero de Jugadores'!$A$2:$H$5000,2,0))","v":""},null,{"$f":"IF(A122=\"\",\"\",VLOOKUP(A122&\"\",'Fichero de Jugadores'!$A$2:$H$5000,7,0))","v":""},{"$f":"IF(B122=\"\",\"\",VLOOKUP(B122&\"\",'Fichero de Jugadores'!$A$2:$H$5000,7,0))","v":""},{"$error":"#N/A"},{"$f":"IF(A122=\"\",\"\",VLOOKUP(A122&\"\",'Fichero de Jugadores'!$A$2:$I$5000,9,0))","v":""},{"$f":"IF(B122=\"\",\"\",VLOOKUP(B122&\"\",'Fichero de Jugadores'!$A$2:$I$5000,9,0))","v":""},"",null,null,{"$f":"IF(A122=\"\",\"\",VLOOKUP(A122&\"\",'Fichero de Jugadores'!$A$2:$I$4566,4,0))","v":""},{"$f":"IF(B122=\"\",\"\",VLOOKUP(B122&\"\",'Fichero de Jugadores'!$A$2:$I$4566,4,0))","v":""},{"$f":"IF(C122=\"\",\"\",VLOOKUP(A122&\"\",'Fichero de Jugadores'!$A$2:$I$4566,7,0))","v":{"$error":"#N/A"}},{"$f":"IF(C122=\"\",\"\",VLOOKUP(B122&\"\",'Fichero de Jugadores'!$A$2:$I$4566,7,0))","v":{"$error":"#N/A"}}]
[null,null,120,{"$f":"IF(A123=\"\",\"\",VLOOKUP(A123&\"\",'Fichero de Jugadores'!$A$2:$H$5000,2,0))","v":""},{"$f":"IF(B123=\"\",\"\",VLOOKUP(B123&\"\",'Fichero de Jugadores'!$A$2:$H$5000,2,0))","v":""},null,{"$f":"IF(A123=\"\",\"\",VLOOKUP(A123&\"\",'Fichero de Jugadores'!$A$2:$H$5000,7,0))","v":""},{"$f":"IF(B123=\"\",\"\",VLOOKUP(B123&\"\",'Fichero de Jugadores'!$A$2:$H$5000,7,0))","v":""},{"$error":"#N/A"},{"$f":"IF(A123=\"\",\"\",VLOOKUP(A123&\"\",'Fichero de Jugadores'!$A$2:$I$5000,9,0))","v":""},{"$f":"IF(B123=\"\",\"\",VLOOKUP(B123&\"\",'Fichero de Jugadores'!$A$2:$I$5000,9,0))","v":""},"",null,null,{"$f":"IF(A123=\"\",\"\",VLOOKUP(A123&\"\",'Fichero de Jugadores'!$A$2:$I$4566,4,0))","v":""},{"$f":"IF(B123=\"\",\"\",VLOOKUP(B123&\"\",'Fichero de Jugadores'!$A$2:$I$4566,4,0))","v":""},{"$f":"IF(C123=\"\",\"\",VLOOKUP(A123&\"\",'Fichero de Jugadores'!$A$2:$I$4566,7,0))","v":{"$error":"#N/A"}},{"$f":"IF(C123=\"\",\"\",VLOOKUP(B123&\"\",'Fichero de Jugadores'!$A$2:$I$4566,7,0))","v":{"$error":"#N/A"}}]
[null,null,121,{"$f":"IF(A124=\"\",\"\",VLOOKUP(A124&\"\",'Fichero de Jugadores'!$A$2:$H$5000,2,0))","v":""},{"$f":"IF(B124=\"\",\"\",VLOOKUP(B124&\"\",'Fichero de Jugadores'!$A$2:$H$5000,2,0))","v":""},null,{"$f":"IF(A124=\"\",\"\",VLOOKUP(A124&\"\",'Fichero de Jugadores'!$A$2:$H$5000,7,0))","v":""},{"$f":"IF(B124=\"\",\"\",VLOOKUP(B124&\"\",'Fichero de Jugadores'!$A$2:$H$5000,7,0))","v":""},{"$error":"#N/A"},{"$f":"IF(A124=\"\",\"\",VLOOKUP(A124&\"\",'Fichero de Jugadores'!$A$2:$I$5000,9,0))","v":""},{"$f":"IF(B124=\"\",\"\",VLOOKUP(B124&\"\",'Fichero de Jugadores'!$A$2:$I$5000,9,0))","v":""},"",null,null,{"$f":"IF(A124=\"\",\"\",VLOOKUP(A124&\"\",'Fichero de Jugadores'!$A$2:$I$4566,4,0))","v":""},{"$f":"IF(B124=\"\",\"\",VLOOKUP(B124&\"\",'Fichero de Jugadores'!$A$2:$I$4566,4,0))","v":""},{"$f":"IF(C124=\"\",\"\",VLOOKUP(A124&\"\",'Fichero de Jugadores'!$A$2:$I$4566,7,0))","v":{"$error":"#N/A"}},{"$f":"IF(C124=\"\",\"\",VLOOKUP(B124&\"\",'Fichero de Jugadores'!$A$2:$I$4566,7,0))","v":{"$error":"#N/A"}}]
[null,null,122,{"$f":"IF(A125=\"\",\"\",VLOOKUP(A125&\"\",'Fichero de Jugadores'!$A$2:$H$5000,2,0))","v":""},{"$f":"IF(B125=\"\",\"\",VLOOKUP(B125&\"\",'Fichero de Jugadores'!$A$2:$H$5000,2,0))","v":""},null,{"$f":"IF(A125=\"\",\"\",VLOOKUP(A125&\"\",'Fichero de Jugadores'!$A$2:$H$5000,7,0))","v":""},{"$f":"IF(B125=\"\",\"\",VLOOKUP(B125&\"\",'Fichero de Jugadores'!$A$2:$H$5000,7,0))","v":""},{"$error":"#N/A"},{"$f":"IF(A125=\"\",\"\",VLOOKUP(A125&\"\",'Fichero de Jugadores'!$A$2:$I$5000,9,0))","v":""},{"$f":"IF(B125=\"\",\"\",VLOOKUP(B125&\"\",'Fichero de Jugadores'!$A$2:$I$5000,9,0))","v":""},"",null,null,{"$f":"IF(A125=\"\",\"\",VLOOKUP(A125&\"\",'Fichero de Jugadores'!$A$2:$I$4566,4,0))","v":""},{"$f":"IF(B125=\"\",\"\",VLOOKUP(B125&\"\",'Fichero de Jugadores'!$A$2:$I$4566,4,0))","v":""},{"$f":"IF(C125=\"\",\"\",VLOOKUP(A125&\"\",'Fichero de Jugadores'!$A$2:$I$4566,7,0))","v":{"$error":"#N/A"}},{"$f":"IF(C125=\"\",\"\",VLOOKUP(B125&\"\",'Fichero de Jugadores'!$A$2:$I$4566,7,0))","v":{"$error":"#N/A"}}]
[null,null,123,{"$f":"IF(A126=\"\",\"\",VLOOKUP(A126&\"\",'Fichero de Jugadores'!$A$2:$H$5000,2,0))","v":""},{"$f":"IF(B126=\"\",\"\",VLOOKUP(B126&\"\",'Fichero de Jugadores'!$A$2:$H$5000,2,0))","v":""},null,{"$f":"IF(A126=\"\",\"\",VLOOKUP(A126&\"\",'Fichero de Jugadores'!$A$2:$H$5000,7,0))","v":""},{"$f":"IF(B126=\"\",\"\",VLOOKUP(B126&\"\",'Fichero de Jugadores'!$A$2:$H$5000,7,0))","v":""},{"$error":"#N/A"},{"$f":"IF(A126=\"\",\"\",VLOOKUP(A126&\"\",'Fichero de Jugadores'!$A$2:$I$5000,9,0))","v":""},{"$f":"IF(B126=\"\",\"\",VLOOKUP(B126&\"\",'Fichero de Jugadores'!$A$2:$I$5000,9,0))","v":""},"",null,null,{"$f":"IF(A126=\"\",\"\",VLOOKUP(A126&\"\",'Fichero de Jugadores'!$A$2:$I$4566,4,0))","v":""},{"$f":"IF(B126=\"\",\"\",VLOOKUP(B126&\"\",'Fichero de Jugadores'!$A$2:$I$4566,4,0))","v":""},{"$f":"IF(C126=\"\",\"\",VLOOKUP(A126&\"\",'Fichero de Jugadores'!$A$2:$I$4566,7,0))","v":{"$error":"#N/A"}},{"$f":"IF(C126=\"\",\"\",VLOOKUP(B126&\"\",'Fichero de Jugadores'!$A$2:$I$4566,7,0))","v":{"$error":"#N/A"}}]
[null,null,124,{"$f":"IF(A127=\"\",\"\",VLOOKUP(A127&\"\",'Fichero de Jugadores'!$A$2:$H$5000,2,0))","v":""},{"$f":"IF(B127=\"\",\"\",VLOOKUP(B127&\"\",'Fichero de Jugadores'!$A$2:$H$5000,2,0))","v":""},null,{"$f":"IF(A127=\"\",\"\",VLOOKUP(A127&\"\",'Fichero de Jugadores'!$A$2:$H$5000,7,0))","v":""},{"$f":"IF(B127=\"\",\"\",VLOOKUP(B127&\"\",'Fichero de Jugadores'!$A$2:$H$5000,7,0))","v":""},{"$error":"#N/A"},{"$f":"IF(A127=\"\",\"\",VLOOKUP(A127&\"\",'Fichero de Jugadores'!$A$2:$I$5000,9,0))","v":""},{"$f":"IF(B127=\"\",\"\",VLOOKUP(B127&\"\",'Fichero de Jugadores'!$A$2:$I$5000,9,0))","v":""},"",null,null,{"$f":"IF(A127=\"\",\"\",VLOOKUP(A127&\"\",'Fichero de Jugadores'!$A$2:$I$4566,4,0))","v":""},{"$f":"IF(B127=\"\",\"\",VLOOKUP(B127&\"\",'Fichero de Jugadores'!$A$2:$I$4566,4,0))","v":""},{"$f":"IF(C127=\"\",\"\",VLOOKUP(A127&\"\",'Fichero de Jugadores'!$A$2:$I$4566,7,0))","v":{"$error":"#N/A"}},{"$f":"IF(C127=\"\",\"\",VLOOKUP(B127&\"\",'Fichero de Jugadores'!$A$2:$I$4566,7,0))","v":{"$error":"#N/A"}}]
[null,null,125,{"$f":"IF(A128=\"\",\"\",VLOOKUP(A128&\"\",'Fichero de Jugadores'!$A$2:$H$5000,2,0))","v":""},{"$f":"IF(B128=\"\",\"\",VLOOKUP(B128&\"\",'Fichero de Jugadores'!$A$2:$H$5000,2,0))","v":""},null,{"$f":"IF(A128=\"\",\"\",VLOOKUP(A128&\"\",'Fichero de Jugadores'!$A$2:$H$5000,7,0))","v":""},{"$f":"IF(B128=\"\",\"\",VLOOKUP(B128&\"\",'Fichero de Jugadores'!$A$2:$H$5000,7,0))","v":""},{"$error":"#N/A"},{"$f":"IF(A128=\"\",\"\",VLOOKUP(A128&\"\",'Fichero de Jugadores'!$A$2:$I$5000,9,0))","v":""},{"$f":"IF(B128=\"\",\"\",VLOOKUP(B128&\"\",'Fichero de Jugadores'!$A$2:$I$5000,9,0))","v":""},"",null,null,{"$f":"IF(A128=\"\",\"\",VLOOKUP(A128&\"\",'Fichero de Jugadores'!$A$2:$I$4566,4,0))","v":""},{"$f":"IF(B128=\"\",\"\",VLOOKUP(B128&\"\",'Fichero de Jugadores'!$A$2:$I$4566,4,0))","v":""},{"$f":"IF(C128=\"\",\"\",VLOOKUP(A128&\"\",'Fichero de Jugadores'!$A$2:$I$4566,7,0))","v":{"$error":"#N/A"}},{"$f":"IF(C128=\"\",\"\",VLOOKUP(B128&\"\",'Fichero de Jugadores'!$A$2:$I$4566,7,0))","v":{"$error":"#N/A"}}]
[null,null,126,{"$f":"IF(A129=\"\",\"\",VLOOKUP(A129&\"\",'Fichero de Jugadores'!$A$2:$H$5000,2,0))","v":""},{"$f":"IF(B129=\"\",\"\",VLOOKUP(B129&\"\",'Fichero de Jugadores'!$A$2:$H$5000,2,0))","v":""},null,{"$f":"IF(A129=\"\",\"\",VLOOKUP(A129&\"\",'Fichero de Jugadores'!$A$2:$H$5000,7,0))","v":""},{"$f":"IF(B129=\"\",\"\",VLOOKUP(B129&\"\",'Fichero de Jugadores'!$A$2:$H$5000,7,0))","v":""},{"$error":"#N/A"},{"$f":"IF(A129=\"\",\"\",VLOOKUP(A129&\"\",'Fichero de Jugadores'!$A$2:$I$5000,9,0))","v":""},{"$f":"IF(B129=\"\",\"\",VLOOKUP(B129&\"\",'Fichero de Jugadores'!$A$2:$I$5000,9,0))","v":""},"",null,null,{"$f":"IF(A129=\"\",\"\",VLOOKUP(A129&\"\",'Fichero de Jugadores'!$A$2:$I$4566,4,0))","v":""},{"$f":"IF(B129=\"\",\"\",VLOOKUP(B129&\"\",'Fichero de Jugadores'!$A$2:$I$4566,4,0))","v":""},{"$f":"IF(C129=\"\",\"\",VLOOKUP(A129&\"\",'Fichero de Jugadores'!$A$2:$I$4566,7,0))","v":{"$error":"#N/A"}},{"$f":"IF(C129=\"\",\"\",VLOOKUP(B129&\"\",'Fichero de Jugadores'!$A$2:$I$4566,7,0))","v":{"$error":"#N/A"}}]
[null,null,127,{"$f":"IF(A130=\"\",\"\",VLOOKUP(A130&\"\",'Fichero de Jugadores'!$A$2:$H$5000,2,0))","v":""},{"$f":"IF(B130=\"\",\"\",VLOOKUP(B130&\"\",'Fichero de Jugadores'!$A$2:$H$5000,2,0))","v":""},null,{"$f":"IF(A130=\"\",\"\",VLOOKUP(A130&\"\",'Fichero de Jugadores'!$A$2:$H$5000,7,0))","v":""},{"$f":"IF(B130=\"\",\"\",VLOOKUP(B130&\"\",'Fichero de Jugadores'!$A$2:$H$5000,7,0))","v":""},{"$error":"#N/A"},{"$f":"IF(A130=\"\",\"\",VLOOKUP(A130&\"\",'Fichero de Jugadores'!$A$2:$I$5000,9,0))","v":""},{"$f":"IF(B130=\"\",\"\",VLOOKUP(B130&\"\",'Fichero de Jugadores'!$A$2:$I$5000,9,0))","v":""},"",null,null,{"$f":"IF(A130=\"\",\"\",VLOOKUP(A130&\"\",'Fichero de Jugadores'!$A$2:$I$4566,4,0))","v":""},{"$f":"IF(B130=\"\",\"\",VLOOKUP(B130&\"\",'Fichero de Jugadores'!$A$2:$I$4566,4,0))","v":""},{"$f":"IF(C130=\"\",\"\",VLOOKUP(A130&\"\",'Fichero de Jugadores'!$A$2:$I$4566,7,0))","v":{"$error":"#N/A"}},{"$f":"IF(C130=\"\",\"\",VLOOKUP(B130&\"\",'Fichero de Jugadores'!$A$2:$I$4566,7,0))","v":{"$error":"#N/A"}}]
[null,null,128,{"$f":"IF(A131=\"\",\"\",VLOOKUP(A131&\"\",'Fichero de Jugadores'!$A$2:$H$5000,2,0))","v":""},{"$f":"IF(B131=\"\",\"\",VLOOKUP(B131&\"\",'Fichero de Jugadores'!$A$2:$H$5000,2,0))","v":""},null,{"$f":"IF(A131=\"\",\"\",VLOOKUP(A131&\"\",'Fichero de Jugadores'!$A$2:$H$5000,7,0))","v":""},{"$f":"IF(B131=\"\",\"\",VLOOKUP(B131&\"\",'Fichero de Jugadores'!$A$2:$H$5000,7,0))","v":""},{"$error":"#N/A"},{"$f":"IF(A131=\"\",\"\",VLOOKUP(A131&\"\",'Fichero de Jugadores'!$A$2:$I$5000,9,0))","v":""},{"$f":"IF(B131=\"\",\"\",VLOOKUP(B131&\"\",'Fichero de Jugadores'!$A$2:$I$5000,9,0))","v":""},"",null,null,{"$f":"IF(A131=\"\",\"\",VLOOKUP(A131&\"\",'Fichero de Jugadores'!$A$2:$I$4566,4,0))","v":""},{"$f":"IF(B131=\"\",\"\",VLOOKUP(B131&\"\",'Fichero de Jugadores'!$A$2:$I$4566,4,0))","v":""},{"$f":"IF(C131=\"\",\"\",VLOOKUP(A131&\"\",'Fichero de Jugadores'!$A$2:$I$4566,7,0))","v":{"$error":"#N/A"}},{"$f":"IF(C131=\"\",\"\",VLOOKUP(B131&\"\",'Fichero de Jugadores'!$A$2:$I$4566,7,0))","v":{"$error":"#N/A"}}]
[null,null,129,{"$f":"IF(A132=\"\",\"\",VLOOKUP(A132&\"\",'Fichero de Jugadores'!$A$2:$H$5000,2,0))","v":""},{"$f":"IF(B132=\"\",\"\",VLOOKUP(B132&\"\",'Fichero de Jugadores'!$A$2:$H$5000,2,0))","v":""},null,{"$f":"IF(A132=\"\",\"\",VLOOKUP(A132&\"\",'Fichero de Jugadores'!$A$2:$H$5000,7,0))","v":""},{"$f":"IF(B132=\"\",\"\",VLOOKUP(B132&\"\",'Fichero de Jugadores'!$A$2:$H$5000,7,0))","v":""},{"$f":"INDEX(AN$4:AS$9,(Q132)+2,(R132)+2)","v":{"$error":"#N/A"}},{"$f":"IF(A132=\"\",\"\",VLOOKUP(A132&\"\",'Fichero de Jugadores'!$A$2:$I$5000,9,0))","v":""},{"$f":"IF(B132=\"\",\"\",VLOOKUP(B132&\"\",'Fichero de Jugadores'!$A$2:$I$5000,9,0))","v":""},"",null,null,{"$f":"IF(A132=\"\",\"\",VLOOKUP(A132&\"\",'Fichero de Jugadores'!$A$2:$I$4566,4,0))","v":""},{"$f":"IF(B132=\"\",\"\",VLOOKUP(B132&\"\",'Fichero de Jugadores'!$A$2:$I$4566,4,0))","v":""},{"$f":"IF(C132=\"\",\"\",VLOOKUP(A132&\"\",'Fichero de Jugadores'!$A$2:$I$4566,7,0))","v":{"$error":"#N/A"}},{"$f":"IF(C132=\"\",\"\",VLOOKUP(B132&\"\",'Fichero de Jugadores'!$A$2:$I$4566,7,0))","v":{"$error":"#N/A"}}]
[null,null,130,{"$f":"IF(A133=\"\",\"\",VLOOKUP(A133&\"\",'Fichero de Jugadores'!$A$2:$H$5000,2,0))","v":""},{"$f":"IF(B133=\"\",\"\",VLOOKUP(B133&\"\",'Fichero de Jugadores'!$A$2:$H$5000,2,0))","v":""},null,{"$f":"IF(A133=\"\",\"\",VLOOKUP(A133&\"\",'Fichero de Jugadores'!$A$2:$H$5000,7,0))","v":""},{"$f":"IF(B133=\"\",\"\",VLOOKUP(B133&\"\",'Fichero de Jugadores'!$A$2:$H$5000,7,0))","v":""},{"$error":"#N/A"},{"$f":"IF(A133=\"\",\"\",VLOOKUP(A133&\"\",'Fichero de Jugadores'!$A$2:$I$5000,9,0))","v":""},{"$f":"IF(B133=\"\",\"\",VLOOKUP(B133&\"\",'Fichero de Jugadores'!$A$2:$I$5000,9,0))","v":""},{"$f":"IF(AND(O133=\"D\",P133=\"D\"),\"D\",IF(AND(O133=\"D\",P133=\"C\"),\"X\",IF(AND(O133=\"C\",P133=\"D\"),\"X\",IF(AND(O133=\"C\",P133=\"C\"),\"C\",IF(OR(O133=\"\",P133=\"\"),\"\")))))","v":""},null,null,{"$f":"IF(A133=\"\",\"\",VLOOKUP(A133&\"\",'Fichero de Jugadores'!$A$2:$I$4566,4,0))","v":""},{"$f":"IF(B133=\"\",\"\",VLOOKUP(B133&\"\",'Fichero de Jugadores'!$A$2:$I$4566,4,0))","v":""},{"$f":"IF(C133=\"\",\"\",VLOOKUP(A133&\"\",'Fichero de Jugadores'!$A$2:$I$4566,7,0))","v":{"$error":"#N/A"}},{"$f":"IF(C133=\"\",\"\",VLOOKUP(B133&\"\",'Fichero de Jugadores'!$A$2:$I$4566,7,0))","v":{"$error":"#N/A"}}]
[null,null,131,{"$f":"IF(A134=\"\",\"\",VLOOKUP(A134&\"\",'Fichero de Jugadores'!$A$2:$H$5000,2,0))","v":""},{"$f":"IF(B134=\"\",\"\",VLOOKUP(B134&\"\",'Fichero de Jugadores'!$A$2:$H$5000,2,0))","v":""},null,{"$f":"IF(A134=\"\",\"\",VLOOKUP(A134&\"\",'Fichero de Jugadores'!$A$2:$H$5000,7,0))","v":""},{"$f":"IF(B134=\"\",\"\",VLOOKUP(B134&\"\",'Fichero de Jugadores'!$A$2:$H$5000,7,0))","v":""},{"$error":"#N/A"},{"$f":"IF(A134=\"\",\"\",VLOOKUP(A134&\"\",'Fichero de Jugadores'!$A$2:$I$5000,9,0))","v":""},{"$f":"IF(B134=\"\",\"\",VLOOKUP(B134&\"\",'Fichero de Jugadores'!$A$2:$I$5000,9,0))","v":""},"",null,null,{"$f":"IF(A134=\"\",\"\",VLOOKUP(A134&\"\",'Fichero de Jugadores'!$A$2:$I$4566,4,0))","v":""},{"$f":"IF(B134=\"\",\"\",VLOOKUP(B134&\"\",'Fichero de Jugadores'!$A$2:$I$4566,4,0))","v":""},{"$f":"IF(C134=\"\",\"\",VLOOKUP(A134&\"\",'Fichero de Jugadores'!$A$2:$I$4566,7,0))","v":{"$error":"#N/A"}},{"$f":"IF(C134=\"\",\"\",VLOOKUP(B134&\"\",'Fichero de Jugadores'!$A$2:$I$4566,7,0))","v":{"$error":"#N/A"}}]
[null,null,132,{"$f":"IF(A135=\"\",\"\",VLOOKUP(A135&\"\",'Fichero de Jugadores'!$A$2:$H$5000,2,0))","v":""},{"$f":"IF(B135=\"\",\"\",VLOOKUP(B135&\"\",'Fichero de Jugadores'!$A$2:$H$5000,2,0))","v":""},null,{"$f":"IF(A135=\"\",\"\",VLOOKUP(A135&\"\",'Fichero de Jugadores'!$A$2:$H$5000,7,0))","v":""},{"$f":"IF(B135=\"\",\"\",VLOOKUP(B135&\"\",'Fichero de Jugadores'!$A$2:$H$5000,7,0))","v":""},{"$error":"#N/A"},{"$f":"IF(A135=\"\",\"\",VLOOKUP(A135&\"\",'Fichero de Jugadores'!$A$2:$I$5000,9,0))","v":""},{"$f":"IF(B135=\"\",\"\",VLOOKUP(B135&\"\",'Fichero de Jugadores'!$A$2:$I$5000,9,0))","v":""},"",null,null,{"$f":"IF(A135=\"\",\"\",VLOOKUP(A135&\"\",'Fichero de Jugadores'!$A$2:$I$4566,4,0))","v":""},{"$f":"IF(B135=\"\",\"\",VLOOKUP(B135&\"\",'Fichero de Jugadores'!$A$2:$I$4566,4,0))","v":""},{"$f":"IF(C135=\"\",\"\",VLOOKUP(A135&\"\",'Fichero de Jugadores'!$A$2:$I$4566,7,0))","v":{"$error":"#N/A"}},{"$f":"IF(C135=\"\",\"\",VLOOKUP(B135&\"\",'Fichero de Jugadores'!$A$2:$I$4566,7,0))","v":{"$error":"#N/A"}}]
[null,null,133,{"$f":"IF(A136=\"\",\"\",VLOOKUP(A136&\"\",'Fichero de Jugadores'!$A$2:$H$5000,2,0))","v":""},{"$f":"IF(B136=\"\",\"\",VLOOKUP(B136&\"\",'Fichero de Jugadores'!$A$2:$H$5000,2,0))","v":""},null,{"$f":"IF(A136=\"\",\"\",VLOOKUP(A136&\"\",'Fichero de Jugadores'!$A$2:$H$5000,7,0))","v":""},{"$f":"IF(B136=\"\",\"\",VLOOKUP(B136&\"\",'Fichero de Jugadores'!$A$2:$H$5000,7,0))","v":""},{"$error":"#N/A"},{"$f":"IF(A136=\"\",\"\",VLOOKUP(A136&\"\",'Fichero de Jugadores'!$A$2:$I$5000,9,0))","v":""},{"$f":"IF(B136=\"\",\"\",VLOOKUP(B136&\"\",'Fichero de Jugadores'!$A$2:$I$5000,9,0))","v":""},"",null,null,{"$f":"IF(A136=\"\",\"\",VLOOKUP(A136&\"\",'Fichero de Jugadores'!$A$2:$I$4566,4,0))","v":""},{"$f":"IF(B136=\"\",\"\",VLOOKUP(B136&\"\",'Fichero de Jugadores'!$A$2:$I$4566,4,0))","v":""},{"$f":"IF(C136=\"\",\"\",VLOOKUP(A136&\"\",'Fichero de Jugadores'!$A$2:$I$4566,7,0))","v":{"$error":"#N/A"}},{"$f":"IF(C136=\"\",\"\",VLOOKUP(B136&\"\",'Fichero de Jugadores'!$A$2:$I$4566,7,0))","v":{"$error":"#N/A"}}]
[null,null,134,{"$f":"IF(A137=\"\",\"\",VLOOKUP(A137&\"\",'Fichero de Jugadores'!$A$2:$H$5000,2,0))","v":""},{"$f":"IF(B137=\"\",\"\",VLOOKUP(B137&\"\",'Fichero de Jugadores'!$A$2:$H$5000,2,0))","v":""},null,{"$f":"IF(A137=\"\",\"\",VLOOKUP(A137&\"\",'Fichero de Jugadores'!$A$2:$H$5000,7,0))","v":""},{"$f":"IF(B137=\"\",\"\",VLOOKUP(B137&\"\",'Fichero de Jugadores'!$A$2:$H$5000,7,0))","v":""},{"$error":"#N/A"},{"$f":"IF(A137=\"\",\"\",VLOOKUP(A137&\"\",'Fichero de Jugadores'!$A$2:$I$5000,9,0))","v":""},{"$f":"IF(B137=\"\",\"\",VLOOKUP(B137&\"\",'Fichero de Jugadores'!$A$2:$I$5000,9,0))","v":""},"",null,null,{"$f":"IF(A137=\"\",\"\",VLOOKUP(A137&\"\",'Fichero de Jugadores'!$A$2:$I$4566,4,0))","v":""},{"$f":"IF(B137=\"\",\"\",VLOOKUP(B137&\"\",'Fichero de Jugadores'!$A$2:$I$4566,4,0))","v":""},{"$f":"IF(C137=\"\",\"\",VLOOKUP(A137&\"\",'Fichero de Jugadores'!$A$2:$I$4566,7,0))","v":{"$error":"#N/A"}},{"$f":"IF(C137=\"\",\"\",VLOOKUP(B137&\"\",'Fichero de Jugadores'!$A$2:$I$4566,7,0))","v":{"$error":"#N/A"}}]
[null,null,135,{"$f":"IF(A138=\"\",\"\",VLOOKUP(A138&\"\",'Fichero de Jugadores'!$A$2:$H$5000,2,0))","v":""},{"$f":"IF(B138=\"\",\"\",VLOOKUP(B138&\"\",'Fichero de Jugadores'!$A$2:$H$5000,2,0))","v":""},null,{"$f":"IF(A138=\"\",\"\",VLOOKUP(A138&\"\",'Fichero de Jugadores'!$A$2:$H$5000,7,0))","v":""},{"$f":"IF(B138=\"\",\"\",VLOOKUP(B138&\"\",'Fichero de Jugadores'!$A$2:$H$5000,7,0))","v":""},{"$error":"#N/A"},{"$f":"IF(A138=\"\",\"\",VLOOKUP(A138&\"\",'Fichero de Jugadores'!$A$2:$I$5000,9,0))","v":""},{"$f":"IF(B138=\"\",\"\",VLOOKUP(B138&\"\",'Fichero de Jugadores'!$A$2:$I$5000,9,0))","v":""},"",null,null,{"$f":"IF(A138=\"\",\"\",VLOOKUP(A138&\"\",'Fichero de Jugadores'!$A$2:$I$4566,4,0))","v":""},{"$f":"IF(B138=\"\",\"\",VLOOKUP(B138&\"\",'Fichero de Jugadores'!$A$2:$I$4566,4,0))","v":""},{"$f":"IF(C138=\"\",\"\",VLOOKUP(A138&\"\",'Fichero de Jugadores'!$A$2:$I$4566,7,0))","v":{"$error":"#N/A"}},{"$f":"IF(C138=\"\",\"\",VLOOKUP(B138&\"\",'Fichero de Jugadores'!$A$2:$I$4566,7,0))","v":{"$error":"#N/A"}}]
[null,null,136,{"$f":"IF(A139=\"\",\"\",VLOOKUP(A139&\"\",'Fichero de Jugadores'!$A$2:$H$5000,2,0))","v":""},{"$f":"IF(B139=\"\",\"\",VLOOKUP(B139&\"\",'Fichero de Jugadores'!$A$2:$H$5000,2,0))","v":""},null,{"$f":"IF(A139=\"\",\"\",VLOOKUP(A139&\"\",'Fichero de Jugadores'!$A$2:$H$5000,7,0))","v":""},{"$f":"IF(B139=\"\",\"\",VLOOKUP(B139&\"\",'Fichero de Jugadores'!$A$2:$H$5000,7,0))","v":""},{"$error":"#N/A"},{"$f":"IF(A139=\"\",\"\",VLOOKUP(A139&\"\",'Fichero de Jugadores'!$A$2:$I$5000,9,0))","v":""},{"$f":"IF(B139=\"\",\"\",VLOOKUP(B139&\"\",'Fichero de Jugadores'!$A$2:$I$5000,9,0))","v":""},"",null,null,{"$f":"IF(A139=\"\",\"\",VLOOKUP(A139&\"\",'Fichero de Jugadores'!$A$2:$I$4566,4,0))","v":""},{"$f":"IF(B139=\"\",\"\",VLOOKUP(B139&\"\",'Fichero de Jugadores'!$A$2:$I$4566,4,0))","v":""},{"$f":"IF(C139=\"\",\"\",VLOOKUP(A139&\"\",'Fichero de Jugadores'!$A$2:$I$4566,7,0))","v":{"$error":"#N/A"}},{"$f":"IF(C139=\"\",\"\",VLOOKUP(B139&\"\",'Fichero de Jugadores'!$A$2:$I$4566,7,0))","v":{"$error":"#N/A"}}]
[null,null,137,{"$f":"IF(A140=\"\",\"\",VLOOKUP(A140&\"\",'Fichero de Jugadores'!$A$2:$H$5000,2,0))","v":""},{"$f":"IF(B140=\"\",\"\",VLOOKUP(B140&\"\",'Fichero de Jugadores'!$A$2:$H$5000,2,0))","v":""},null,{"$f":"IF(A140=\"\",\"\",VLOOKUP(A140&\"\",'Fichero de Jugadores'!$A$2:$H$5000,7,0))","v":""},{"$f":"IF(B140=\"\",\"\",VLOOKUP(B140&\"\",'Fichero de Jugadores'!$A$2:$H$5000,7,0))","v":""},{"$error":"#N/A"},{"$f":"IF(A140=\"\",\"\",VLOOKUP(A140&\"\",'Fichero de Jugadores'!$A$2:$I$5000,9,0))","v":""},{"$f":"IF(B140=\"\",\"\",VLOOKUP(B140&\"\",'Fichero de Jugadores'!$A$2:$I$5000,9,0))","v":""},"",null,null,{"$f":"IF(A140=\"\",\"\",VLOOKUP(A140&\"\",'Fichero de Jugadores'!$A$2:$I$4566,4,0))","v":""},{"$f":"IF(B140=\"\",\"\",VLOOKUP(B140&\"\",'Fichero de Jugadores'!$A$2:$I$4566,4,0))","v":""},{"$f":"IF(C140=\"\",\"\",VLOOKUP(A140&\"\",'Fichero de Jugadores'!$A$2:$I$4566,7,0))","v":{"$error":"#N/A"}},{"$f":"IF(C140=\"\",\"\",VLOOKUP(B140&\"\",'Fichero de Jugadores'!$A$2:$I$4566,7,0))","v":{"$error":"#N/A"}}]
[null,null,138,{"$f":"IF(A141=\"\",\"\",VLOOKUP(A141&\"\",'Fichero de Jugadores'!$A$2:$H$5000,2,0))","v":""},{"$f":"IF(B141=\"\",\"\",VLOOKUP(B141&\"\",'Fichero de Jugadores'!$A$2:$H$5000,2,0))","v":""},null,{"$f":"IF(A141=\"\",\"\",VLOOKUP(A141&\"\",'Fichero de Jugadores'!$A$2:$H$5000,7,0))","v":""},{"$f":"IF(B141=\"\",\"\",VLOOKUP(B141&\"\",'Fichero de Jugadores'!$A$2:$H$5000,7,0))","v":""},{"$error":"#N/A"},{"$f":"IF(A141=\"\",\"\",VLOOKUP(A141&\"\",'Fichero de Jugadores'!$A$2:$I$5000,9,0))","v":""},{"$f":"IF(B141=\"\",\"\",VLOOKUP(B141&\"\",'Fichero de Jugadores'!$A$2:$I$5000,9,0))","v":""},"",null,null,{"$f":"IF(A141=\"\",\"\",VLOOKUP(A141&\"\",'Fichero de Jugadores'!$A$2:$I$4566,4,0))","v":""},{"$f":"IF(B141=\"\",\"\",VLOOKUP(B141&\"\",'Fichero de Jugadores'!$A$2:$I$4566,4,0))","v":""},{"$f":"IF(C141=\"\",\"\",VLOOKUP(A141&\"\",'Fichero de Jugadores'!$A$2:$I$4566,7,0))","v":{"$error":"#N/A"}},{"$f":"IF(C141=\"\",\"\",VLOOKUP(B141&\"\",'Fichero de Jugadores'!$A$2:$I$4566,7,0))","v":{"$error":"#N/A"}}]
[null,null,139,{"$f":"IF(A142=\"\",\"\",VLOOKUP(A142&\"\",'Fichero de Jugadores'!$A$2:$H$5000,2,0))","v":""},{"$f":"IF(B142=\"\",\"\",VLOOKUP(B142&\"\",'Fichero de Jugadores'!$A$2:$H$5000,2,0))","v":""},null,{"$f":"IF(A142=\"\",\"\",VLOOKUP(A142&\"\",'Fichero de Jugadores'!$A$2:$H$5000,7,0))","v":""},{"$f":"IF(B142=\"\",\"\",VLOOKUP(B142&\"\",'Fichero de Jugadores'!$A$2:$H$5000,7,0))","v":""},{"$error":"#N/A"},{"$f":"IF(A142=\"\",\"\",VLOOKUP(A142&\"\",'Fichero de Jugadores'!$A$2:$I$5000,9,0))","v":""},{"$f":"IF(B142=\"\",\"\",VLOOKUP(B142&\"\",'Fichero de Jugadores'!$A$2:$I$5000,9,0))","v":""},"",null,null,{"$f":"IF(A142=\"\",\"\",VLOOKUP(A142&\"\",'Fichero de Jugadores'!$A$2:$I$4566,4,0))","v":""},{"$f":"IF(B142=\"\",\"\",VLOOKUP(B142&\"\",'Fichero de Jugadores'!$A$2:$I$4566,4,0))","v":""},{"$f":"IF(C142=\"\",\"\",VLOOKUP(A142&\"\",'Fichero de Jugadores'!$A$2:$I$4566,7,0))","v":{"$error":"#N/A"}},{"$f":"IF(C142=\"\",\"\",VLOOKUP(B142&\"\",'Fichero de Jugadores'!$A$2:$I$4566,7,0))","v":{"$error":"#N/A"}}]
[null,null,140,{"$f":"IF(A143=\"\",\"\",VLOOKUP(A143&\"\",'Fichero de Jugadores'!$A$2:$H$5000,2,0))","v":""},{"$f":"IF(B143=\"\",\"\",VLOOKUP(B143&\"\",'Fichero de Jugadores'!$A$2:$H$5000,2,0))","v":""},null,{"$f":"IF(A143=\"\",\"\",VLOOKUP(A143&\"\",'Fichero de Jugadores'!$A$2:$H$5000,7,0))","v":""},{"$f":"IF(B143=\"\",\"\",VLOOKUP(B143&\"\",'Fichero de Jugadores'!$A$2:$H$5000,7,0))","v":""},{"$error":"#N/A"},{"$f":"IF(A143=\"\",\"\",VLOOKUP(A143&\"\",'Fichero de Jugadores'!$A$2:$I$5000,9,0))","v":""},{"$f":"IF(B143=\"\",\"\",VLOOKUP(B143&\"\",'Fichero de Jugadores'!$A$2:$I$5000,9,0))","v":""},"",null,null,{"$f":"IF(A143=\"\",\"\",VLOOKUP(A143&\"\",'Fichero de Jugadores'!$A$2:$I$4566,4,0))","v":""},{"$f":"IF(B143=\"\",\"\",VLOOKUP(B143&\"\",'Fichero de Jugadores'!$A$2:$I$4566,4,0))","v":""},{"$f":"IF(C143=\"\",\"\",VLOOKUP(A143&\"\",'Fichero de Jugadores'!$A$2:$I$4566,7,0))","v":{"$error":"#N/A"}},{"$f":"IF(C143=\"\",\"\",VLOOKUP(B143&\"\",'Fichero de Jugadores'!$A$2:$I$4566,7,0))","v":{"$error":"#N/A"}}]
[null,null,141,{"$f":"IF(A144=\"\",\"\",VLOOKUP(A144&\"\",'Fichero de Jugadores'!$A$2:$H$5000,2,0))","v":""},{"$f":"IF(B144=\"\",\"\",VLOOKUP(B144&\"\",'Fichero de Jugadores'!$A$2:$H$5000,2,0))","v":""},null,{"$f":"IF(A144=\"\",\"\",VLOOKUP(A144&\"\",'Fichero de Jugadores'!$A$2:$H$5000,7,0))","v":""},{"$f":"IF(B144=\"\",\"\",VLOOKUP(B144&\"\",'Fichero de Jugadores'!$A$2:$H$5000,7,0))","v":""},{"$error":"#N/A"},{"$f":"IF(A144=\"\",\"\",VLOOKUP(A144&\"\",'Fichero de Jugadores'!$A$2:$I$5000,9,0))","v":""},{"$f":"IF(B144=\"\",\"\",VLOOKUP(B144&\"\",'Fichero de Jugadores'!$A$2:$I$5000,9,0))","v":""},"",null,null,{"$f":"IF(A144=\"\",\"\",VLOOKUP(A144&\"\",'Fichero de Jugadores'!$A$2:$I$4566,4,0))","v":""},{"$f":"IF(B144=\"\",\"\",VLOOKUP(B144&\"\",'Fichero de Jugadores'!$A$2:$I$4566,4,0))","v":""},{"$f":"IF(C144=\"\",\"\",VLOOKUP(A144&\"\",'Fichero de Jugadores'!$A$2:$I$4566,7,0))","v":{"$error":"#N/A"}},{"$f":"IF(C144=\"\",\"\",VLOOKUP(B144&\"\",'Fichero de Jugadores'!$A$2:$I$4566,7,0))","v":{"$error":"#N/A"}}]
[null,null,142,{"$f":"IF(A145=\"\",\"\",VLOOKUP(A145&\"\",'Fichero de Jugadores'!$A$2:$H$5000,2,0))","v":""},{"$f":"IF(B145=\"\",\"\",VLOOKUP(B145&\"\",'Fichero de Jugadores'!$A$2:$H$5000,2,0))","v":""},null,{"$f":"IF(A145=\"\",\"\",VLOOKUP(A145&\"\",'Fichero de Jugadores'!$A$2:$H$5000,7,0))","v":""},{"$f":"IF(B145=\"\",\"\",VLOOKUP(B145&\"\",'Fichero de Jugadores'!$A$2:$H$5000,7,0))","v":""},{"$error":"#N/A"},{"$f":"IF(A145=\"\",\"\",VLOOKUP(A145&\"\",'Fichero de Jugadores'!$A$2:$I$5000,9,0))","v":""},{"$f":"IF(B145=\"\",\"\",VLOOKUP(B145&\"\",'Fichero de Jugadores'!$A$2:$I$5000,9,0))","v":""},"",null,null,{"$f":"IF(A145=\"\",\"\",VLOOKUP(A145&\"\",'Fichero de Jugadores'!$A$2:$I$4566,4,0))","v":""},{"$f":"IF(B145=\"\",\"\",VLOOKUP(B145&\"\",'Fichero de Jugadores'!$A$2:$I$4566,4,0))","v":""},{"$f":"IF(C145=\"\",\"\",VLOOKUP(A145&\"\",'Fichero de Jugadores'!$A$2:$I$4566,7,0))","v":{"$error":"#N/A"}},{"$f":"IF(C145=\"\",\"\",VLOOKUP(B145&\"\",'Fichero de Jugadores'!$A$2:$I$4566,7,0))","v":{"$error":"#N/A"}}]
[null,null,143,{"$f":"IF(A146=\"\",\"\",VLOOKUP(A146&\"\",'Fichero de Jugadores'!$A$2:$H$5000,2,0))","v":""},{"$f":"IF(B146=\"\",\"\",VLOOKUP(B146&\"\",'Fichero de Jugadores'!$A$2:$H$5000,2,0))","v":""},null,{"$f":"IF(A146=\"\",\"\",VLOOKUP(A146&\"\",'Fichero de Jugadores'!$A$2:$H$5000,7,0))","v":""},{"$f":"IF(B146=\"\",\"\",VLOOKUP(B146&\"\",'Fichero de Jugadores'!$A$2:$H$5000,7,0))","v":""},{"$error":"#N/A"},{"$f":"IF(A146=\"\",\"\",VLOOKUP(A146&\"\",'Fichero de Jugadores'!$A$2:$I$5000,9,0))","v":""},{"$f":"IF(B146=\"\",\"\",VLOOKUP(B146&\"\",'Fichero de Jugadores'!$A$2:$I$5000,9,0))","v":""},"",null,null,{"$f":"IF(A146=\"\",\"\",VLOOKUP(A146&\"\",'Fichero de Jugadores'!$A$2:$I$4566,4,0))","v":""},{"$f":"IF(B146=\"\",\"\",VLOOKUP(B146&\"\",'Fichero de Jugadores'!$A$2:$I$4566,4,0))","v":""},{"$f":"IF(C146=\"\",\"\",VLOOKUP(A146&\"\",'Fichero de Jugadores'!$A$2:$I$4566,7,0))","v":{"$error":"#N/A"}},{"$f":"IF(C146=\"\",\"\",VLOOKUP(B146&\"\",'Fichero de Jugadores'!$A$2:$I$4566,7,0))","v":{"$error":"#N/A"}}]
[null,null,144,{"$f":"IF(A147=\"\",\"\",VLOOKUP(A147&\"\",'Fichero de Jugadores'!$A$2:$H$5000,2,0))","v":""},{"$f":"IF(B147=\"\",\"\",VLOOKUP(B147&\"\",'Fichero de Jugadores'!$A$2:$H$5000,2,0))","v":""},null,{"$f":"IF(A147=\"\",\"\",VLOOKUP(A147&\"\",'Fichero de Jugadores'!$A$2:$H$5000,7,0))","v":""},{"$f":"IF(B147=\"\",\"\",VLOOKUP(B147&\"\",'Fichero de Jugadores'!$A$2:$H$5000,7,0))","v":""},{"$error":"#N/A"},{"$f":"IF(A147=\"\",\"\",VLOOKUP(A147&\"\",'Fichero de Jugadores'!$A$2:$I$5000,9,0))","v":""},{"$f":"IF(B147=\"\",\"\",VLOOKUP(B147&\"\",'Fichero de Jugadores'!$A$2:$I$5000,9,0))","v":""},"",null,null,{"$f":"IF(A147=\"\",\"\",VLOOKUP(A147&\"\",'Fichero de Jugadores'!$A$2:$I$4566,4,0))","v":""},{"$f":"IF(B147=\"\",\"\",VLOOKUP(B147&\"\",'Fichero de Jugadores'!$A$2:$I$4566,4,0))","v":""},{"$f":"IF(C147=\"\",\"\",VLOOKUP(A147&\"\",'Fichero de Jugadores'!$A$2:$I$4566,7,0))","v":{"$error":"#N/A"}},{"$f":"IF(C147=\"\",\"\",VLOOKUP(B147&\"\",'Fichero de Jugadores'!$A$2:$I$4566,7,0))","v":{"$error":"#N/A"}}]
[null,null,145,{"$f":"IF(A148=\"\",\"\",VLOOKUP(A148&\"\",'Fichero de Jugadores'!$A$2:$H$5000,2,0))","v":""},{"$f":"IF(B148=\"\",\"\",VLOOKUP(B148&\"\",'Fichero de Jugadores'!$A$2:$H$5000,2,0))","v":""},null,{"$f":"IF(A148=\"\",\"\",VLOOKUP(A148&\"\",'Fichero de Jugadores'!$A$2:$H$5000,7,0))","v":""},{"$f":"IF(B148=\"\",\"\",VLOOKUP(B148&\"\",'Fichero de Jugadores'!$A$2:$H$5000,7,0))","v":""},{"$error":"#N/A"},{"$f":"IF(A148=\"\",\"\",VLOOKUP(A148&\"\",'Fichero de Jugadores'!$A$2:$I$5000,9,0))","v":""},{"$f":"IF(B148=\"\",\"\",VLOOKUP(B148&\"\",'Fichero de Jugadores'!$A$2:$I$5000,9,0))","v":""},"",null,null,{"$f":"IF(A148=\"\",\"\",VLOOKUP(A148&\"\",'Fichero de Jugadores'!$A$2:$I$4566,4,0))","v":""},{"$f":"IF(B148=\"\",\"\",VLOOKUP(B148&\"\",'Fichero de Jugadores'!$A$2:$I$4566,4,0))","v":""},{"$f":"IF(C148=\"\",\"\",VLOOKUP(A148&\"\",'Fichero de Jugadores'!$A$2:$I$4566,7,0))","v":{"$error":"#N/A"}},{"$f":"IF(C148=\"\",\"\",VLOOKUP(B148&\"\",'Fichero de Jugadores'!$A$2:$I$4566,7,0))","v":{"$error":"#N/A"}}]
[null,null,146,{"$f":"IF(A149=\"\",\"\",VLOOKUP(A149&\"\",'Fichero de Jugadores'!$A$2:$H$5000,2,0))","v":""},{"$f":"IF(B149=\"\",\"\",VLOOKUP(B149&\"\",'Fichero de Jugadores'!$A$2:$H$5000,2,0))","v":""},null,{"$f":"IF(A149=\"\",\"\",VLOOKUP(A149&\"\",'Fichero de Jugadores'!$A$2:$H$5000,7,0))","v":""},{"$f":"IF(B149=\"\",\"\",VLOOKUP(B149&\"\",'Fichero de Jugadores'!$A$2:$H$5000,7,0))","v":""},{"$error":"#N/A"},{"$f":"IF(A149=\"\",\"\",VLOOKUP(A149&\"\",'Fichero de Jugadores'!$A$2:$I$5000,9,0))","v":""},{"$f":"IF(B149=\"\",\"\",VLOOKUP(B149&\"\",'Fichero de Jugadores'!$A$2:$I$5000,9,0))","v":""},"",null,null,{"$f":"IF(A149=\"\",\"\",VLOOKUP(A149&\"\",'Fichero de Jugadores'!$A$2:$I$4566,4,0))","v":""},{"$f":"IF(B149=\"\",\"\",VLOOKUP(B149&\"\",'Fichero de Jugadores'!$A$2:$I$4566,4,0))","v":""},{"$f":"IF(C149=\"\",\"\",VLOOKUP(A149&\"\",'Fichero de Jugadores'!$A$2:$I$4566,7,0))","v":{"$error":"#N/A"}},{"$f":"IF(C149=\"\",\"\",VLOOKUP(B149&\"\",'Fichero de Jugadores'!$A$2:$I$4566,7,0))","v":{"$error":"#N/A"}}]
[null,null,147,{"$f":"IF(A150=\"\",\"\",VLOOKUP(A150&\"\",'Fichero de Jugadores'!$A$2:$H$5000,2,0))","v":""},{"$f":"IF(B150=\"\",\"\",VLOOKUP(B150&\"\",'Fichero de Jugadores'!$A$2:$H$5000,2,0))","v":""},null,{"$f":"IF(A150=\"\",\"\",VLOOKUP(A150&\"\",'Fichero de Jugadores'!$A$2:$H$5000,7,0))","v":""},{"$f":"IF(B150=\"\",\"\",VLOOKUP(B150&\"\",'Fichero de Jugadores'!$A$2:$H$5000,7,0))","v":""},{"$error":"#N/A"},{"$f":"IF(A150=\"\",\"\",VLOOKUP(A150&\"\",'Fichero de Jugadores'!$A$2:$I$5000,9,0))","v":""},{"$f":"IF(B150=\"\",\"\",VLOOKUP(B150&\"\",'Fichero de Jugadores'!$A$2:$I$5000,9,0))","v":""},"",null,null,{"$f":"IF(A150=\"\",\"\",VLOOKUP(A150&\"\",'Fichero de Jugadores'!$A$2:$I$4566,4,0))","v":""},{"$f":"IF(B150=\"\",\"\",VLOOKUP(B150&\"\",'Fichero de Jugadores'!$A$2:$I$4566,4,0))","v":""},{"$f":"IF(C150=\"\",\"\",VLOOKUP(A150&\"\",'Fichero de Jugadores'!$A$2:$I$4566,7,0))","v":{"$error":"#N/A"}},{"$f":"IF(C150=\"\",\"\",VLOOKUP(B150&\"\",'Fichero de Jugadores'!$A$2:$I$4566,7,0))","v":{"$error":"#N/A"}}]
[null,null,148,{"$f":"IF(A151=\"\",\"\",VLOOKUP(A151&\"\",'Fichero de Jugadores'!$A$2:$H$5000,2,0))","v":""},{"$f":"IF(B151=\"\",\"\",VLOOKUP(B151&\"\",'Fichero de Jugadores'!$A$2:$H$5000,2,0))","v":""},null,{"$f":"IF(A151=\"\",\"\",VLOOKUP(A151&\"\",'Fichero de Jugadores'!$A$2:$H$5000,7,0))","v":""},{"$f":"IF(B151=\"\",\"\",VLOOKUP(B151&\"\",'Fichero de Jugadores'!$A$2:$H$5000,7,0))","v":""},{"$error":"#N/A"},{"$f":"IF(A151=\"\",\"\",VLOOKUP(A151&\"\",'Fichero de Jugadores'!$A$2:$I$5000,9,0))","v":""},{"$f":"IF(B151=\"\",\"\",VLOOKUP(B151&\"\",'Fichero de Jugadores'!$A$2:$I$5000,9,0))","v":""},"",null,null,{"$f":"IF(A151=\"\",\"\",VLOOKUP(A151&\"\",'Fichero de Jugadores'!$A$2:$I$4566,4,0))","v":""},{"$f":"IF(B151=\"\",\"\",VLOOKUP(B151&\"\",'Fichero de Jugadores'!$A$2:$I$4566,4,0))","v":""},{"$f":"IF(C151=\"\",\"\",VLOOKUP(A151&\"\",'Fichero de Jugadores'!$A$2:$I$4566,7,0))","v":{"$error":"#N/A"}},{"$f":"IF(C151=\"\",\"\",VLOOKUP(B151&\"\",'Fichero de Jugadores'!$A$2:$I$4566,7,0))","v":{"$error":"#N/A"}}]
[null,null,149,{"$f":"IF(A152=\"\",\"\",VLOOKUP(A152&\"\",'Fichero de Jugadores'!$A$2:$H$5000,2,0))","v":""},{"$f":"IF(B152=\"\",\"\",VLOOKUP(B152&\"\",'Fichero de Jugadores'!$A$2:$H$5000,2,0))","v":""},null,{"$f":"IF(A152=\"\",\"\",VLOOKUP(A152&\"\",'Fichero de Jugadores'!$A$2:$H$5000,7,0))","v":""},{"$f":"IF(B152=\"\",\"\",VLOOKUP(B152&\"\",'Fichero de Jugadores'!$A$2:$H$5000,7,0))","v":""},{"$error":"#N/A"},{"$f":"IF(A152=\"\",\"\",VLOOKUP(A152&\"\",'Fichero de Jugadores'!$A$2:$I$5000,9,0))","v":""},{"$f":"IF(B152=\"\",\"\",VLOOKUP(B152&\"\",'Fichero de Jugadores'!$A$2:$I$5000,9,0))","v":""},"",null,null,{"$f":"IF(A152=\"\",\"\",VLOOKUP(A152&\"\",'Fichero de Jugadores'!$A$2:$I$4566,4,0))","v":""},{"$f":"IF(B152=\"\",\"\",VLOOKUP(B152&\"\",'Fichero de Jugadores'!$A$2:$I$4566,4,0))","v":""},{"$f":"IF(C152=\"\",\"\",VLOOKUP(A152&\"\",'Fichero de Jugadores'!$A$2:$I$4566,7,0))","v":{"$error":"#N/A"}},{"$f":"IF(C152=\"\",\"\",VLOOKUP(B152&\"\",'Fichero de Jugadores'!$A$2:$I$4566,7,0))","v":{"$error":"#N/A"}}]
[null,null,150,{"$f":"IF(A153=\"\",\"\",VLOOKUP(A153&\"\",'Fichero de Jugadores'!$A$2:$H$5000,2,0))","v":""},{"$f":"IF(B153=\"\",\"\",VLOOKUP(B153&\"\",'Fichero de Jugadores'!$A$2:$H$5000,2,0))","v":""},null,{"$f":"IF(A153=\"\",\"\",VLOOKUP(A153&\"\",'Fichero de Jugadores'!$A$2:$H$5000,7,0))","v":""},{"$f":"IF(B153=\"\",\"\",VLOOKUP(B153&\"\",'Fichero de Jugadores'!$A$2:$H$5000,7,0))","v":""},{"$error":"#N/A"},{"$f":"IF(A153=\"\",\"\",VLOOKUP(A153&\"\",'Fichero de Jugadores'!$A$2:$I$5000,9,0))","v":""},{"$f":"IF(B153=\"\",\"\",VLOOKUP(B153&\"\",'Fichero de Jugadores'!$A$2:$I$5000,9,0))","v":""},"",null,null,{"$f":"IF(A153=\"\",\"\",VLOOKUP(A153&\"\",'Fichero de Jugadores'!$A$2:$I$4566,4,0))","v":""},{"$f":"IF(B153=\"\",\"\",VLOOKUP(B153&\"\",'Fichero de Jugadores'!$A$2:$I$4566,4,0))","v":""},{"$f":"IF(C153=\"\",\"\",VLOOKUP(A153&\"\",'Fichero de Jugadores'!$A$2:$I$4566,7,0))","v":{"$error":"#N/A"}},{"$f":"IF(C153=\"\",\"\",VLOOKUP(B153&\"\",'Fichero de Jugadores'!$A$2:$I$4566,7,0))","v":{"$error":"#N/A"}}]
[null,null,151,{"$f":"IF(A154=\"\",\"\",VLOOKUP(A154&\"\",'Fichero de Jugadores'!$A$2:$H$5000,2,0))","v":""},{"$f":"IF(B154=\"\",\"\",VLOOKUP(B154&\"\",'Fichero de Jugadores'!$A$2:$H$5000,2,0))","v":""},null,{"$f":"IF(A154=\"\",\"\",VLOOKUP(A154&\"\",'Fichero de Jugadores'!$A$2:$H$5000,7,0))","v":""},{"$f":"IF(B154=\"\",\"\",VLOOKUP(B154&\"\",'Fichero de Jugadores'!$A$2:$H$5000,7,0))","v":""},{"$error":"#N/A"},{"$f":"IF(A154=\"\",\"\",VLOOKUP(A154&\"\",'Fichero de Jugadores'!$A$2:$I$5000,9,0))","v":""},{"$f":"IF(B154=\"\",\"\",VLOOKUP(B154&\"\",'Fichero de Jugadores'!$A$2:$I$5000,9,0))","v":""},"",null,null,{"$f":"IF(A154=\"\",\"\",VLOOKUP(A154&\"\",'Fichero de Jugadores'!$A$2:$I$4566,4,0))","v":""},{"$f":"IF(B154=\"\",\"\",VLOOKUP(B154&\"\",'Fichero de Jugadores'!$A$2:$I$4566,4,0))","v":""},{"$f":"IF(C154=\"\",\"\",VLOOKUP(A154&\"\",'Fichero de Jugadores'!$A$2:$I$4566,7,0))","v":{"$error":"#N/A"}},{"$f":"IF(C154=\"\",\"\",VLOOKUP(B154&\"\",'Fichero de Jugadores'!$A$2:$I$4566,7,0))","v":{"$error":"#N/A"}}]
[null,null,152,{"$f":"IF(A155=\"\",\"\",VLOOKUP(A155&\"\",'Fichero de Jugadores'!$A$2:$H$5000,2,0))","v":""},{"$f":"IF(B155=\"\",\"\",VLOOKUP(B155&\"\",'Fichero de Jugadores'!$A$2:$H$5000,2,0))","v":""},null,{"$f":"IF(A155=\"\",\"\",VLOOKUP(A155&\"\",'Fichero de Jugadores'!$A$2:$H$5000,7,0))","v":""},{"$f":"IF(B155=\"\",\"\",VLOOKUP(B155&\"\",'Fichero de Jugadores'!$A$2:$H$5000,7,0))","v":""},{"$error":"#N/A"},{"$f":"IF(A155=\"\",\"\",VLOOKUP(A155&\"\",'Fichero de Jugadores'!$A$2:$I$5000,9,0))","v":""},{"$f":"IF(B155=\"\",\"\",VLOOKUP(B155&\"\",'Fichero de Jugadores'!$A$2:$I$5000,9,0))","v":""},"",null,null,{"$f":"IF(A155=\"\",\"\",VLOOKUP(A155&\"\",'Fichero de Jugadores'!$A$2:$I$4566,4,0))","v":""},{"$f":"IF(B155=\"\",\"\",VLOOKUP(B155&\"\",'Fichero de Jugadores'!$A$2:$I$4566,4,0))","v":""},{"$f":"IF(C155=\"\",\"\",VLOOKUP(A155&\"\",'Fichero de Jugadores'!$A$2:$I$4566,7,0))","v":{"$error":"#N/A"}},{"$f":"IF(C155=\"\",\"\",VLOOKUP(B155&\"\",'Fichero de Jugadores'!$A$2:$I$4566,7,0))","v":{"$error":"#N/A"}}]
[null,null,153,{"$f":"IF(A156=\"\",\"\",VLOOKUP(A156&\"\",'Fichero de Jugadores'!$A$2:$H$5000,2,0))","v":""},{"$f":"IF(B156=\"\",\"\",VLOOKUP(B156&\"\",'Fichero de Jugadores'!$A$2:$H$5000,2,0))","v":""},null,{"$f":"IF(A156=\"\",\"\",VLOOKUP(A156&\"\",'Fichero de Jugadores'!$A$2:$H$5000,7,0))","v":""},{"$f":"IF(B156=\"\",\"\",VLOOKUP(B156&\"\",'Fichero de Jugadores'!$A$2:$H$5000,7,0))","v":""},{"$error":"#N/A"},{"$f":"IF(A156=\"\",\"\",VLOOKUP(A156&\"\",'Fichero de Jugadores'!$A$2:$I$5000,9,0))","v":""},{"$f":"IF(B156=\"\",\"\",VLOOKUP(B156&\"\",'Fichero de Jugadores'!$A$2:$I$5000,9,0))","v":""},"",null,null,{"$f":"IF(A156=\"\",\"\",VLOOKUP(A156&\"\",'Fichero de Jugadores'!$A$2:$I$4566,4,0))","v":""},{"$f":"IF(B156=\"\",\"\",VLOOKUP(B156&\"\",'Fichero de Jugadores'!$A$2:$I$4566,4,0))","v":""},{"$f":"IF(C156=\"\",\"\",VLOOKUP(A156&\"\",'Fichero de Jugadores'!$A$2:$I$4566,7,0))","v":{"$error":"#N/A"}},{"$f":"IF(C156=\"\",\"\",VLOOKUP(B156&\"\",'Fichero de Jugadores'!$A$2:$I$4566,7,0))","v":{"$error":"#N/A"}}]
[null,null,154,{"$f":"IF(A157=\"\",\"\",VLOOKUP(A157&\"\",'Fichero de Jugadores'!$A$2:$H$5000,2,0))","v":""},{"$f":"IF(B157=\"\",\"\",VLOOKUP(B157&\"\",'Fichero de Jugadores'!$A$2:$H$5000,2,0))","v":""},null,{"$f":"IF(A157=\"\",\"\",VLOOKUP(A157&\"\",'Fichero de Jugadores'!$A$2:$H$5000,7,0))","v":""},{"$f":"IF(B157=\"\",\"\",VLOOKUP(B157&\"\",'Fichero de Jugadores'!$A$2:$H$5000,7,0))","v":""},{"$error":"#N/A"},{"$f":"IF(A157=\"\",\"\",VLOOKUP(A157&\"\",'Fichero de Jugadores'!$A$2:$I$5000,9,0))","v":""},{"$f":"IF(B157=\"\",\"\",VLOOKUP(B157&\"\",'Fichero de Jugadores'!$A$2:$I$5000,9,0))","v":""},"",null,null,{"$f":"IF(A157=\"\",\"\",VLOOKUP(A157&\"\",'Fichero de Jugadores'!$A$2:$I$4566,4,0))","v":""},{"$f":"IF(B157=\"\",\"\",VLOOKUP(B157&\"\",'Fichero de Jugadores'!$A$2:$I$4566,4,0))","v":""},{"$f":"IF(C157=\"\",\"\",VLOOKUP(A157&\"\",'Fichero de Jugadores'!$A$2:$I$4566,7,0))","v":{"$error":"#N/A"}},{"$f":"IF(C157=\"\",\"\",VLOOKUP(B157&\"\",'Fichero de Jugadores'!$A$2:$I$4566,7,0))","v":{"$error":"#N/A"}}]
[null,null,155,{"$f":"IF(A158=\"\",\"\",VLOOKUP(A158&\"\",'Fichero de Jugadores'!$A$2:$H$5000,2,0))","v":""},{"$f":"IF(B158=\"\",\"\",VLOOKUP(B158&\"\",'Fichero de Jugadores'!$A$2:$H$5000,2,0))","v":""},null,{"$f":"IF(A158=\"\",\"\",VLOOKUP(A158&\"\",'Fichero de Jugadores'!$A$2:$H$5000,7,0))","v":""},{"$f":"IF(B158=\"\",\"\",VLOOKUP(B158&\"\",'Fichero de Jugadores'!$A$2:$H$5000,7,0))","v":""},{"$error":"#N/A"},{"$f":"IF(A158=\"\",\"\",VLOOKUP(A158&\"\",'Fichero de Jugadores'!$A$2:$I$5000,9,0))","v":""},{"$f":"IF(B158=\"\",\"\",VLOOKUP(B158&\"\",'Fichero de Jugadores'!$A$2:$I$5000,9,0))","v":""},"",null,null,{"$f":"IF(A158=\"\",\"\",VLOOKUP(A158&\"\",'Fichero de Jugadores'!$A$2:$I$4566,4,0))","v":""},{"$f":"IF(B158=\"\",\"\",VLOOKUP(B158&\"\",'Fichero de Jugadores'!$A$2:$I$4566,4,0))","v":""},{"$f":"IF(C158=\"\",\"\",VLOOKUP(A158&\"\",'Fichero de Jugadores'!$A$2:$I$4566,7,0))","v":{"$error":"#N/A"}},{"$f":"IF(C158=\"\",\"\",VLOOKUP(B158&\"\",'Fichero de Jugadores'!$A$2:$I$4566,7,0))","v":{"$error":"#N/A"}}]
[null,null,156,{"$f":"IF(A159=\"\",\"\",VLOOKUP(A159&\"\",'Fichero de Jugadores'!$A$2:$H$5000,2,0))","v":""},{"$f":"IF(B159=\"\",\"\",VLOOKUP(B159&\"\",'Fichero de Jugadores'!$A$2:$H$5000,2,0))","v":""},null,{"$f":"IF(A159=\"\",\"\",VLOOKUP(A159&\"\",'Fichero de Jugadores'!$A$2:$H$5000,7,0))","v":""},{"$f":"IF(B159=\"\",\"\",VLOOKUP(B159&\"\",'Fichero de Jugadores'!$A$2:$H$5000,7,0))","v":""},{"$error":"#N/A"},{"$f":"IF(A159=\"\",\"\",VLOOKUP(A159&\"\",'Fichero de Jugadores'!$A$2:$I$5000,9,0))","v":""},{"$f":"IF(B159=\"\",\"\",VLOOKUP(B159&\"\",'Fichero de Jugadores'!$A$2:$I$5000,9,0))","v":""},"",null,null,{"$f":"IF(A159=\"\",\"\",VLOOKUP(A159&\"\",'Fichero de Jugadores'!$A$2:$I$4566,4,0))","v":""},{"$f":"IF(B159=\"\",\"\",VLOOKUP(B159&\"\",'Fichero de Jugadores'!$A$2:$I$4566,4,0))","v":""},{"$f":"IF(C159=\"\",\"\",VLOOKUP(A159&\"\",'Fichero de Jugadores'!$A$2:$I$4566,7,0))","v":{"$error":"#N/A"}},{"$f":"IF(C159=\"\",\"\",VLOOKUP(B159&\"\",'Fichero de Jugadores'!$A$2:$I$4566,7,0))","v":{"$error":"#N/A"}}]
[null,null,157,{"$f":"IF(A160=\"\",\"\",VLOOKUP(A160&\"\",'Fichero de Jugadores'!$A$2:$H$5000,2,0))","v":""},{"$f":"IF(B160=\"\",\"\",VLOOKUP(B160&\"\",'Fichero de Jugadores'!$A$2:$H$5000,2,0))","v":""},null,{"$f":"IF(A160=\"\",\"\",VLOOKUP(A160&\"\",'Fichero de Jugadores'!$A$2:$H$5000,7,0))","v":""},{"$f":"IF(B160=\"\",\"\",VLOOKUP(B160&\"\",'Fichero de Jugadores'!$A$2:$H$5000,7,0))","v":""},{"$error":"#N/A"},{"$f":"IF(A160=\"\",\"\",VLOOKUP(A160&\"\",'Fichero de Jugadores'!$A$2:$I$5000,9,0))","v":""},{"$f":"IF(B160=\"\",\"\",VLOOKUP(B160&\"\",'Fichero de Jugadores'!$A$2:$I$5000,9,0))","v":""},"",null,null,{"$f":"IF(A160=\"\",\"\",VLOOKUP(A160&\"\",'Fichero de Jugadores'!$A$2:$I$4566,4,0))","v":""},{"$f":"IF(B160=\"\",\"\",VLOOKUP(B160&\"\",'Fichero de Jugadores'!$A$2:$I$4566,4,0))","v":""},{"$f":"IF(C160=\"\",\"\",VLOOKUP(A160&\"\",'Fichero de Jugadores'!$A$2:$I$4566,7,0))","v":{"$error":"#N/A"}},{"$f":"IF(C160=\"\",\"\",VLOOKUP(B160&\"\",'Fichero de Jugadores'!$A$2:$I$4566,7,0))","v":{"$error":"#N/A"}}]
[null,null,158,{"$f":"IF(A161=\"\",\"\",VLOOKUP(A161&\"\",'Fichero de Jugadores'!$A$2:$H$5000,2,0))","v":""},{"$f":"IF(B161=\"\",\"\",VLOOKUP(B161&\"\",'Fichero de Jugadores'!$A$2:$H$5000,2,0))","v":""},null,{"$f":"IF(A161=\"\",\"\",VLOOKUP(A161&\"\",'Fichero de Jugadores'!$A$2:$H$5000,7,0))","v":""},{"$f":"IF(B161=\"\",\"\",VLOOKUP(B161&\"\",'Fichero de Jugadores'!$A$2:$H$5000,7,0))","v":""},{"$error":"#N/A"},{"$f":"IF(A161=\"\",\"\",VLOOKUP(A161&\"\",'Fichero de Jugadores'!$A$2:$I$5000,9,0))","v":""},{"$f":"IF(B161=\"\",\"\",VLOOKUP(B161&\"\",'Fichero de Jugadores'!$A$2:$I$5000,9,0))","v":""},"",null,null,{"$f":"IF(A161=\"\",\"\",VLOOKUP(A161&\"\",'Fichero de Jugadores'!$A$2:$I$4566,4,0))","v":""},{"$f":"IF(B161=\"\",\"\",VLOOKUP(B161&\"\",'Fichero de Jugadores'!$A$2:$I$4566,4,0))","v":""},{"$f":"IF(C161=\"\",\"\",VLOOKUP(A161&\"\",'Fichero de Jugadores'!$A$2:$I$4566,7,0))","v":{"$error":"#N/A"}},{"$f":"IF(C161=\"\",\"\",VLOOKUP(B161&\"\",'Fichero de Jugadores'!$A$2:$I$4566,7,0))","v":{"$error":"#N/A"}}]
[null,null,159,{"$f":"IF(A162=\"\",\"\",VLOOKUP(A162&\"\",'Fichero de Jugadores'!$A$2:$H$5000,2,0))","v":""},{"$f":"IF(B162=\"\",\"\",VLOOKUP(B162&\"\",'Fichero de Jugadores'!$A$2:$H$5000,2,0))","v":""},null,{"$f":"IF(A162=\"\",\"\",VLOOKUP(A162&\"\",'Fichero de Jugadores'!$A$2:$H$5000,7,0))","v":""},{"$f":"IF(B162=\"\",\"\",VLOOKUP(B162&\"\",'Fichero de Jugadores'!$A$2:$H$5000,7,0))","v":""},{"$error":"#N/A"},{"$f":"IF(A162=\"\",\"\",VLOOKUP(A162&\"\",'Fichero de Jugadores'!$A$2:$I$5000,9,0))","v":""},{"$f":"IF(B162=\"\",\"\",VLOOKUP(B162&\"\",'Fichero de Jugadores'!$A$2:$I$5000,9,0))","v":""},"",null,null,{"$f":"IF(A162=\"\",\"\",VLOOKUP(A162&\"\",'Fichero de Jugadores'!$A$2:$I$4566,4,0))","v":""},{"$f":"IF(B162=\"\",\"\",VLOOKUP(B162&\"\",'Fichero de Jugadores'!$A$2:$I$4566,4,0))","v":""},{"$f":"IF(C162=\"\",\"\",VLOOKUP(A162&\"\",'Fichero de Jugadores'!$A$2:$I$4566,7,0))","v":{"$error":"#N/A"}},{"$f":"IF(C162=\"\",\"\",VLOOKUP(B162&\"\",'Fichero de Jugadores'!$A$2:$I$4566,7,0))","v":{"$error":"#N/A"}}]
[null,null,160,{"$f":"IF(A163=\"\",\"\",VLOOKUP(A163&\"\",'Fichero de Jugadores'!$A$2:$H$5000,2,0))","v":""},{"$f":"IF(B163=\"\",\"\",VLOOKUP(B163&\"\",'Fichero de Jugadores'!$A$2:$H$5000,2,0))","v":""},null,{"$f":"IF(A163=\"\",\"\",VLOOKUP(A163&\"\",'Fichero de Jugadores'!$A$2:$H$5000,7,0))","v":""},{"$f":"IF(B163=\"\",\"\",VLOOKUP(B163&\"\",'Fichero de Jugadores'!$A$2:$H$5000,7,0))","v":""},{"$error":"#N/A"},{"$f":"IF(A163=\"\",\"\",VLOOKUP(A163&\"\",'Fichero de Jugadores'!$A$2:$I$5000,9,0))","v":""},{"$f":"IF(B163=\"\",\"\",VLOOKUP(B163&\"\",'Fichero de Jugadores'!$A$2:$I$5000,9,0))","v":""},"",null,null,{"$f":"IF(A163=\"\",\"\",VLOOKUP(A163&\"\",'Fichero de Jugadores'!$A$2:$I$4566,4,0))","v":""},{"$f":"IF(B163=\"\",\"\",VLOOKUP(B163&\"\",'Fichero de Jugadores'!$A$2:$I$4566,4,0))","v":""},{"$f":"IF(C163=\"\",\"\",VLOOKUP(A163&\"\",'Fichero de Jugadores'!$A$2:$I$4566,7,0))","v":{"$error":"#N/A"}},{"$f":"IF(C163=\"\",\"\",VLOOKUP(B163&\"\",'Fichero de Jugadores'!$A$2:$I$4566,7,0))","v":{"$error":"#N/A"}}]
[null,null,161,{"$f":"IF(A164=\"\",\"\",VLOOKUP(A164&\"\",'Fichero de Jugadores'!$A$2:$H$5000,2,0))","v":""},{"$f":"IF(B164=\"\",\"\",VLOOKUP(B164&\"\",'Fichero de Jugadores'!$A$2:$H$5000,2,0))","v":""},null,{"$f":"IF(A164=\"\",\"\",VLOOKUP(A164&\"\",'Fichero de Jugadores'!$A$2:$H$5000,7,0))","v":""},{"$f":"IF(B164=\"\",\"\",VLOOKUP(B164&\"\",'Fichero de Jugadores'!$A$2:$H$5000,7,0))","v":""},{"$error":"#N/A"},{"$f":"IF(A164=\"\",\"\",VLOOKUP(A164&\"\",'Fichero de Jugadores'!$A$2:$I$5000,9,0))","v":""},{"$f":"IF(B164=\"\",\"\",VLOOKUP(B164&\"\",'Fichero de Jugadores'!$A$2:$I$5000,9,0))","v":""},"",null,null,{"$f":"IF(A164=\"\",\"\",VLOOKUP(A164&\"\",'Fichero de Jugadores'!$A$2:$I$4566,4,0))","v":""},{"$f":"IF(B164=\"\",\"\",VLOOKUP(B164&\"\",'Fichero de Jugadores'!$A$2:$I$4566,4,0))","v":""},{"$f":"IF(C164=\"\",\"\",VLOOKUP(A164&\"\",'Fichero de Jugadores'!$A$2:$I$4566,7,0))","v":{"$error":"#N/A"}},{"$f":"IF(C164=\"\",\"\",VLOOKUP(B164&\"\",'Fichero de Jugadores'!$A$2:$I$4566,7,0))","v":{"$error":"#N/A"}}]
[null,null,162,{"$f":"IF(A165=\"\",\"\",VLOOKUP(A165&\"\",'Fichero de Jugadores'!$A$2:$H$5000,2,0))","v":""},{"$f":"IF(B165=\"\",\"\",VLOOKUP(B165&\"\",'Fichero de Jugadores'!$A$2:$H$5000,2,0))","v":""},null,{"$f":"IF(A165=\"\",\"\",VLOOKUP(A165&\"\",'Fichero de Jugadores'!$A$2:$H$5000,7,0))","v":""},{"$f":"IF(B165=\"\",\"\",VLOOKUP(B165&\"\",'Fichero de Jugadores'!$A$2:$H$5000,7,0))","v":""},{"$error":"#N/A"},{"$f":"IF(A165=\"\",\"\",VLOOKUP(A165&\"\",'Fichero de Jugadores'!$A$2:$I$5000,9,0))","v":""},{"$f":"IF(B165=\"\",\"\",VLOOKUP(B165&\"\",'Fichero de Jugadores'!$A$2:$I$5000,9,0))","v":""},"",null,null,{"$f":"IF(A165=\"\",\"\",VLOOKUP(A165&\"\",'Fichero de Jugadores'!$A$2:$I$4566,4,0))","v":""},{"$f":"IF(B165=\"\",\"\",VLOOKUP(B165&\"\",'Fichero de Jugadores'!$A$2:$I$4566,4,0))","v":""},{"$f":"IF(C165=\"\",\"\",VLOOKUP(A165&\"\",'Fichero de Jugadores'!$A$2:$I$4566,7,0))","v":{"$error":"#N/A"}},{"$f":"IF(C165=\"\",\"\",VLOOKUP(B165&\"\",'Fichero de Jugadores'!$A$2:$I$4566,7,0))","v":{"$error":"#N/A"}}]
[null,null,163,{"$f":"IF(A166=\"\",\"\",VLOOKUP(A166&\"\",'Fichero de Jugadores'!$A$2:$H$5000,2,0))","v":""},{"$f":"IF(B166=\"\",\"\",VLOOKUP(B166&\"\",'Fichero de Jugadores'!$A$2:$H$5000,2,0))","v":""},null,{"$f":"IF(A166=\"\",\"\",VLOOKUP(A166&\"\",'Fichero de Jugadores'!$A$2:$H$5000,7,0))","v":""},{"$f":"IF(B166=\"\",\"\",VLOOKUP(B166&\"\",'Fichero de Jugadores'!$A$2:$H$5000,7,0))","v":""},{"$error":"#N/A"},{"$f":"IF(A166=\"\",\"\",VLOOKUP(A166&\"\",'Fichero de Jugadores'!$A$2:$I$5000,9,0))","v":""},{"$f":"IF(B166=\"\",\"\",VLOOKUP(B166&\"\",'Fichero de Jugadores'!$A$2:$I$5000,9,0))","v":""},"",null,null,{"$f":"IF(A166=\"\",\"\",VLOOKUP(A166&\"\",'Fichero de Jugadores'!$A$2:$I$4566,4,0))","v":""},{"$f":"IF(B166=\"\",\"\",VLOOKUP(B166&\"\",'Fichero de Jugadores'!$A$2:$I$4566,4,0))","v":""},{"$f":"IF(C166=\"\",\"\",VLOOKUP(A166&\"\",'Fichero de Jugadores'!$A$2:$I$4566,7,0))","v":{"$error":"#N/A"}},{"$f":"IF(C166=\"\",\"\",VLOOKUP(B166&\"\",'Fichero de Jugadores'!$A$2:$I$4566,7,0))","v":{"$error":"#N/A"}}]
[null,null,164,{"$f":"IF(A167=\"\",\"\",VLOOKUP(A167&\"\",'Fichero de Jugadores'!$A$2:$H$5000,2,0))","v":""},{"$f":"IF(B167=\"\",\"\",VLOOKUP(B167&\"\",'Fichero de Jugadores'!$A$2:$H$5000,2,0))","v":""},null,{"$f":"IF(A167=\"\",\"\",VLOOKUP(A167&\"\",'Fichero de Jugadores'!$A$2:$H$5000,7,0))","v":""},{"$f":"IF(B167=\"\",\"\",VLOOKUP(B167&\"\",'Fichero de Jugadores'!$A$2:$H$5000,7,0))","v":""},{"$error":"#N/A"},{"$f":"IF(A167=\"\",\"\",VLOOKUP(A167&\"\",'Fichero de Jugadores'!$A$2:$I$5000,9,0))","v":""},{"$f":"IF(B167=\"\",\"\",VLOOKUP(B167&\"\",'Fichero de Jugadores'!$A$2:$I$5000,9,0))","v":""},"",null,null,{"$f":"IF(A167=\"\",\"\",VLOOKUP(A167&\"\",'Fichero de Jugadores'!$A$2:$I$4566,4,0))","v":""},{"$f":"IF(B167=\"\",\"\",VLOOKUP(B167&\"\",'Fichero de Jugadores'!$A$2:$I$4566,4,0))","v":""},{"$f":"IF(C167=\"\",\"\",VLOOKUP(A167&\"\",'Fichero de Jugadores'!$A$2:$I$4566,7,0))","v":{"$error":"#N/A"}},{"$f":"IF(C167=\"\",\"\",VLOOKUP(B167&\"\",'Fichero de Jugadores'!$A$2:$I$4566,7,0))","v":{"$error":"#N/A"}}]
[null,null,165,{"$f":"IF(A168=\"\",\"\",VLOOKUP(A168&\"\",'Fichero de Jugadores'!$A$2:$H$5000,2,0))","v":""},{"$f":"IF(B168=\"\",\"\",VLOOKUP(B168&\"\",'Fichero de Jugadores'!$A$2:$H$5000,2,0))","v":""},null,{"$f":"IF(A168=\"\",\"\",VLOOKUP(A168&\"\",'Fichero de Jugadores'!$A$2:$H$5000,7,0))","v":""},{"$f":"IF(B168=\"\",\"\",VLOOKUP(B168&\"\",'Fichero de Jugadores'!$A$2:$H$5000,7,0))","v":""},{"$error":"#N/A"},{"$f":"IF(A168=\"\",\"\",VLOOKUP(A168&\"\",'Fichero de Jugadores'!$A$2:$I$5000,9,0))","v":""},{"$f":"IF(B168=\"\",\"\",VLOOKUP(B168&\"\",'Fichero de Jugadores'!$A$2:$I$5000,9,0))","v":""},"",null,null,{"$f":"IF(A168=\"\",\"\",VLOOKUP(A168&\"\",'Fichero de Jugadores'!$A$2:$I$4566,4,0))","v":""},{"$f":"IF(B168=\"\",\"\",VLOOKUP(B168&\"\",'Fichero de Jugadores'!$A$2:$I$4566,4,0))","v":""},{"$f":"IF(C168=\"\",\"\",VLOOKUP(A168&\"\",'Fichero de Jugadores'!$A$2:$I$4566,7,0))","v":{"$error":"#N/A"}},{"$f":"IF(C168=\"\",\"\",VLOOKUP(B168&\"\",'Fichero de Jugadores'!$A$2:$I$4566,7,0))","v":{"$error":"#N/A"}}]
[null,null,166,{"$f":"IF(A169=\"\",\"\",VLOOKUP(A169&\"\",'Fichero de Jugadores'!$A$2:$H$5000,2,0))","v":""},{"$f":"IF(B169=\"\",\"\",VLOOKUP(B169&\"\",'Fichero de Jugadores'!$A$2:$H$5000,2,0))","v":""},null,{"$f":"IF(A169=\"\",\"\",VLOOKUP(A169&\"\",'Fichero de Jugadores'!$A$2:$H$5000,7,0))","v":""},{"$f":"IF(B169=\"\",\"\",VLOOKUP(B169&\"\",'Fichero de Jugadores'!$A$2:$H$5000,7,0))","v":""},{"$error":"#N/A"},{"$f":"IF(A169=\"\",\"\",VLOOKUP(A169&\"\",'Fichero de Jugadores'!$A$2:$I$5000,9,0))","v":""},{"$f":"IF(B169=\"\",\"\",VLOOKUP(B169&\"\",'Fichero de Jugadores'!$A$2:$I$5000,9,0))","v":""},"",null,null,{"$f":"IF(A169=\"\",\"\",VLOOKUP(A169&\"\",'Fichero de Jugadores'!$A$2:$I$4566,4,0))","v":""},{"$f":"IF(B169=\"\",\"\",VLOOKUP(B169&\"\",'Fichero de Jugadores'!$A$2:$I$4566,4,0))","v":""},{"$f":"IF(C169=\"\",\"\",VLOOKUP(A169&\"\",'Fichero de Jugadores'!$A$2:$I$4566,7,0))","v":{"$error":"#N/A"}},{"$f":"IF(C169=\"\",\"\",VLOOKUP(B169&\"\",'Fichero de Jugadores'!$A$2:$I$4566,7,0))","v":{"$error":"#N/A"}}]
[null,null,167,{"$f":"IF(A170=\"\",\"\",VLOOKUP(A170&\"\",'Fichero de Jugadores'!$A$2:$H$5000,2,0))","v":""},{"$f":"IF(B170=\"\",\"\",VLOOKUP(B170&\"\",'Fichero de Jugadores'!$A$2:$H$5000,2,0))","v":""},null,{"$f":"IF(A170=\"\",\"\",VLOOKUP(A170&\"\",'Fichero de Jugadores'!$A$2:$H$5000,7,0))","v":""},{"$f":"IF(B170=\"\",\"\",VLOOKUP(B170&\"\",'Fichero de Jugadores'!$A$2:$H$5000,7,0))","v":""},{"$error":"#N/A"},{"$f":"IF(A170=\"\",\"\",VLOOKUP(A170&\"\",'Fichero de Jugadores'!$A$2:$I$5000,9,0))","v":""},{"$f":"IF(B170=\"\",\"\",VLOOKUP(B170&\"\",'Fichero de Jugadores'!$A$2:$I$5000,9,0))","v":""},"",null,null,{"$f":"IF(A170=\"\",\"\",VLOOKUP(A170&\"\",'Fichero de Jugadores'!$A$2:$I$4566,4,0))","v":""},{"$f":"IF(B170=\"\",\"\",VLOOKUP(B170&\"\",'Fichero de Jugadores'!$A$2:$I$4566,4,0))","v":""},{"$f":"IF(C170=\"\",\"\",VLOOKUP(A170&\"\",'Fichero de Jugadores'!$A$2:$I$4566,7,0))","v":{"$error":"#N/A"}},{"$f":"IF(C170=\"\",\"\",VLOOKUP(B170&\"\",'Fichero de Jugadores'!$A$2:$I$4566,7,0))","v":{"$error":"#N/A"}}]
[null,null,168,{"$f":"IF(A171=\"\",\"\",VLOOKUP(A171&\"\",'Fichero de Jugadores'!$A$2:$H$5000,2,0))","v":""},{"$f":"IF(B171=\"\",\"\",VLOOKUP(B171&\"\",'Fichero de Jugadores'!$A$2:$H$5000,2,0))","v":""},null,{"$f":"IF(A171=\"\",\"\",VLOOKUP(A171&\"\",'Fichero de Jugadores'!$A$2:$H$5000,7,0))","v":""},{"$f":"IF(B171=\"\",\"\",VLOOKUP(B171&\"\",'Fichero de Jugadores'!$A$2:$H$5000,7,0))","v":""},{"$error":"#N/A"},{"$f":"IF(A171=\"\",\"\",VLOOKUP(A171&\"\",'Fichero de Jugadores'!$A$2:$I$5000,9,0))","v":""},{"$f":"IF(B171=\"\",\"\",VLOOKUP(B171&\"\",'Fichero de Jugadores'!$A$2:$I$5000,9,0))","v":""},"",null,null,{"$f":"IF(A171=\"\",\"\",VLOOKUP(A171&\"\",'Fichero de Jugadores'!$A$2:$I$4566,4,0))","v":""},{"$f":"IF(B171=\"\",\"\",VLOOKUP(B171&\"\",'Fichero de Jugadores'!$A$2:$I$4566,4,0))","v":""},{"$f":"IF(C171=\"\",\"\",VLOOKUP(A171&\"\",'Fichero de Jugadores'!$A$2:$I$4566,7,0))","v":{"$error":"#N/A"}},{"$f":"IF(C171=\"\",\"\",VLOOKUP(B171&\"\",'Fichero de Jugadores'!$A$2:$I$4566,7,0))","v":{"$error":"#N/A"}}]
[null,null,169,{"$f":"IF(A172=\"\",\"\",VLOOKUP(A172&\"\",'Fichero de Jugadores'!$A$2:$H$5000,2,0))","v":""},{"$f":"IF(B172=\"\",\"\",VLOOKUP(B172&\"\",'Fichero de Jugadores'!$A$2:$H$5000,2,0))","v":""},null,{"$f":"IF(A172=\"\",\"\",VLOOKUP(A172&\"\",'Fichero de Jugadores'!$A$2:$H$5000,7,0))","v":""},{"$f":"IF(B172=\"\",\"\",VLOOKUP(B172&\"\",'Fichero de Jugadores'!$A$2:$H$5000,7,0))","v":""},{"$error":"#N/A"},{"$f":"IF(A172=\"\",\"\",VLOOKUP(A172&\"\",'Fichero de Jugadores'!$A$2:$I$5000,9,0))","v":""},{"$f":"IF(B172=\"\",\"\",VLOOKUP(B172&\"\",'Fichero de Jugadores'!$A$2:$I$5000,9,0))","v":""},"",null,null,{"$f":"IF(A172=\"\",\"\",VLOOKUP(A172&\"\",'Fichero de Jugadores'!$A$2:$I$4566,4,0))","v":""},{"$f":"IF(B172=\"\",\"\",VLOOKUP(B172&\"\",'Fichero de Jugadores'!$A$2:$I$4566,4,0))","v":""},{"$f":"IF(C172=\"\",\"\",VLOOKUP(A172&\"\",'Fichero de Jugadores'!$A$2:$I$4566,7,0))","v":{"$error":"#N/A"}},{"$f":"IF(C172=\"\",\"\",VLOOKUP(B172&\"\",'Fichero de Jugadores'!$A$2:$I$4566,7,0))","v":{"$error":"#N/A"}}]
[null,null,170,{"$f":"IF(A173=\"\",\"\",VLOOKUP(A173&\"\",'Fichero de Jugadores'!$A$2:$H$5000,2,0))","v":""},{"$f":"IF(B173=\"\",\"\",VLOOKUP(B173&\"\",'Fichero de Jugadores'!$A$2:$H$5000,2,0))","v":""},null,{"$f":"IF(A173=\"\",\"\",VLOOKUP(A173&\"\",'Fichero de Jugadores'!$A$2:$H$5000,7,0))","v":""},{"$f":"IF(B173=\"\",\"\",VLOOKUP(B173&\"\",'Fichero de Jugadores'!$A$2:$H$5000,7,0))","v":""},{"$error":"#N/A"},{"$f":"IF(A173=\"\",\"\",VLOOKUP(A173&\"\",'Fichero de Jugadores'!$A$2:$I$5000,9,0))","v":""},{"$f":"IF(B173=\"\",\"\",VLOOKUP(B173&\"\",'Fichero de Jugadores'!$A$2:$I$5000,9,0))","v":""},"",null,null,{"$f":"IF(A173=\"\",\"\",VLOOKUP(A173&\"\",'Fichero de Jugadores'!$A$2:$I$4566,4,0))","v":""},{"$f":"IF(B173=\"\",\"\",VLOOKUP(B173&\"\",'Fichero de Jugadores'!$A$2:$I$4566,4,0))","v":""},{"$f":"IF(C173=\"\",\"\",VLOOKUP(A173&\"\",'Fichero de Jugadores'!$A$2:$I$4566,7,0))","v":{"$error":"#N/A"}},{"$f":"IF(C173=\"\",\"\",VLOOKUP(B173&\"\",'Fichero de Jugadores'!$A$2:$I$4566,7,0))","v":{"$error":"#N/A"}}]
[null,null,171,{"$f":"IF(A174=\"\",\"\",VLOOKUP(A174&\"\",'Fichero de Jugadores'!$A$2:$H$5000,2,0))","v":""},{"$f":"IF(B174=\"\",\"\",VLOOKUP(B174&\"\",'Fichero de Jugadores'!$A$2:$H$5000,2,0))","v":""},null,{"$f":"IF(A174=\"\",\"\",VLOOKUP(A174&\"\",'Fichero de Jugadores'!$A$2:$H$5000,7,0))","v":""},{"$f":"IF(B174=\"\",\"\",VLOOKUP(B174&\"\",'Fichero de Jugadores'!$A$2:$H$5000,7,0))","v":""},{"$error":"#N/A"},{"$f":"IF(A174=\"\",\"\",VLOOKUP(A174&\"\",'Fichero de Jugadores'!$A$2:$I$5000,9,0))","v":""},{"$f":"IF(B174=\"\",\"\",VLOOKUP(B174&\"\",'Fichero de Jugadores'!$A$2:$I$5000,9,0))","v":""},"",null,null,{"$f":"IF(A174=\"\",\"\",VLOOKUP(A174&\"\",'Fichero de Jugadores'!$A$2:$I$4566,4,0))","v":""},{"$f":"IF(B174=\"\",\"\",VLOOKUP(B174&\"\",'Fichero de Jugadores'!$A$2:$I$4566,4,0))","v":""},{"$f":"IF(C174=\"\",\"\",VLOOKUP(A174&\"\",'Fichero de Jugadores'!$A$2:$I$4566,7,0))","v":{"$error":"#N/A"}},{"$f":"IF(C174=\"\",\"\",VLOOKUP(B174&\"\",'Fichero de Jugadores'!$A$2:$I$4566,7,0))","v":{"$error":"#N/A"}}]
[null,null,172,{"$f":"IF(A175=\"\",\"\",VLOOKUP(A175&\"\",'Fichero de Jugadores'!$A$2:$H$5000,2,0))","v":""},{"$f":"IF(B175=\"\",\"\",VLOOKUP(B175&\"\",'Fichero de Jugadores'!$A$2:$H$5000,2,0))","v":""},null,{"$f":"IF(A175=\"\",\"\",VLOOKUP(A175&\"\",'Fichero de Jugadores'!$A$2:$H$5000,7,0))","v":""},{"$f":"IF(B175=\"\",\"\",VLOOKUP(B175&\"\",'Fichero de Jugadores'!$A$2:$H$5000,7,0))","v":""},{"$error":"#N/A"},{"$f":"IF(A175=\"\",\"\",VLOOKUP(A175&\"\",'Fichero de Jugadores'!$A$2:$I$5000,9,0))","v":""},{"$f":"IF(B175=\"\",\"\",VLOOKUP(B175&\"\",'Fichero de Jugadores'!$A$2:$I$5000,9,0))","v":""},"",null,null,{"$f":"IF(A175=\"\",\"\",VLOOKUP(A175&\"\",'Fichero de Jugadores'!$A$2:$I$4566,4,0))","v":""},{"$f":"IF(B175=\"\",\"\",VLOOKUP(B175&\"\",'Fichero de Jugadores'!$A$2:$I$4566,4,0))","v":""},{"$f":"IF(C175=\"\",\"\",VLOOKUP(A175&\"\",'Fichero de Jugadores'!$A$2:$I$4566,7,0))","v":{"$error":"#N/A"}},{"$f":"IF(C175=\"\",\"\",VLOOKUP(B175&\"\",'Fichero de Jugadores'!$A$2:$I$4566,7,0))","v":{"$error":"#N/A"}}]
[null,null,173,{"$f":"IF(A176=\"\",\"\",VLOOKUP(A176&\"\",'Fichero de Jugadores'!$A$2:$H$5000,2,0))","v":""},{"$f":"IF(B176=\"\",\"\",VLOOKUP(B176&\"\",'Fichero de Jugadores'!$A$2:$H$5000,2,0))","v":""},null,{"$f":"IF(A176=\"\",\"\",VLOOKUP(A176&\"\",'Fichero de Jugadores'!$A$2:$H$5000,7,0))","v":""},{"$f":"IF(B176=\"\",\"\",VLOOKUP(B176&\"\",'Fichero de Jugadores'!$A$2:$H$5000,7,0))","v":""},{"$error":"#N/A"},{"$f":"IF(A176=\"\",\"\",VLOOKUP(A176&\"\",'Fichero de Jugadores'!$A$2:$I$5000,9,0))","v":""},{"$f":"IF(B176=\"\",\"\",VLOOKUP(B176&\"\",'Fichero de Jugadores'!$A$2:$I$5000,9,0))","v":""},"",null,null,{"$f":"IF(A176=\"\",\"\",VLOOKUP(A176&\"\",'Fichero de Jugadores'!$A$2:$I$4566,4,0))","v":""},{"$f":"IF(B176=\"\",\"\",VLOOKUP(B176&\"\",'Fichero de Jugadores'!$A$2:$I$4566,4,0))","v":""},{"$f":"IF(C176=\"\",\"\",VLOOKUP(A176&\"\",'Fichero de Jugadores'!$A$2:$I$4566,7,0))","v":{"$error":"#N/A"}},{"$f":"IF(C176=\"\",\"\",VLOOKUP(B176&\"\",'Fichero de Jugadores'!$A$2:$I$4566,7,0))","v":{"$error":"#N/A"}}]
[null,null,174,{"$f":"IF(A177=\"\",\"\",VLOOKUP(A177&\"\",'Fichero de Jugadores'!$A$2:$H$5000,2,0))","v":""},{"$f":"IF(B177=\"\",\"\",VLOOKUP(B177&\"\",'Fichero de Jugadores'!$A$2:$H$5000,2,0))","v":""},null,{"$f":"IF(A177=\"\",\"\",VLOOKUP(A177&\"\",'Fichero de Jugadores'!$A$2:$H$5000,7,0))","v":""},{"$f":"IF(B177=\"\",\"\",VLOOKUP(B177&\"\",'Fichero de Jugadores'!$A$2:$H$5000,7,0))","v":""},{"$error":"#N/A"},{"$f":"IF(A177=\"\",\"\",VLOOKUP(A177&\"\",'Fichero de Jugadores'!$A$2:$I$5000,9,0))","v":""},{"$f":"IF(B177=\"\",\"\",VLOOKUP(B177&\"\",'Fichero de Jugadores'!$A$2:$I$5000,9,0))","v":""},"",null,null,{"$f":"IF(A177=\"\",\"\",VLOOKUP(A177&\"\",'Fichero de Jugadores'!$A$2:$I$4566,4,0))","v":""},{"$f":"IF(B177=\"\",\"\",VLOOKUP(B177&\"\",'Fichero de Jugadores'!$A$2:$I$4566,4,0))","v":""},{"$f":"IF(C177=\"\",\"\",VLOOKUP(A177&\"\",'Fichero de Jugadores'!$A$2:$I$4566,7,0))","v":{"$error":"#N/A"}},{"$f":"IF(C177=\"\",\"\",VLOOKUP(B177&\"\",'Fichero de Jugadores'!$A$2:$I$4566,7,0))","v":{"$error":"#N/A"}}]
[null,null,175,{"$f":"IF(A178=\"\",\"\",VLOOKUP(A178&\"\",'Fichero de Jugadores'!$A$2:$H$5000,2,0))","v":""},{"$f":"IF(B178=\"\",\"\",VLOOKUP(B178&\"\",'Fichero de Jugadores'!$A$2:$H$5000,2,0))","v":""},null,{"$f":"IF(A178=\"\",\"\",VLOOKUP(A178&\"\",'Fichero de Jugadores'!$A$2:$H$5000,7,0))","v":""},{"$f":"IF(B178=\"\",\"\",VLOOKUP(B178&\"\",'Fichero de Jugadores'!$A$2:$H$5000,7,0))","v":""},{"$error":"#N/A"},{"$f":"IF(A178=\"\",\"\",VLOOKUP(A178&\"\",'Fichero de Jugadores'!$A$2:$I$5000,9,0))","v":""},{"$f":"IF(B178=\"\",\"\",VLOOKUP(B178&\"\",'Fichero de Jugadores'!$A$2:$I$5000,9,0))","v":""},"",null,null,{"$f":"IF(A178=\"\",\"\",VLOOKUP(A178&\"\",'Fichero de Jugadores'!$A$2:$I$4566,4,0))","v":""},{"$f":"IF(B178=\"\",\"\",VLOOKUP(B178&\"\",'Fichero de Jugadores'!$A$2:$I$4566,4,0))","v":""},{"$f":"IF(C178=\"\",\"\",VLOOKUP(A178&\"\",'Fichero de Jugadores'!$A$2:$I$4566,7,0))","v":{"$error":"#N/A"}},{"$f":"IF(C178=\"\",\"\",VLOOKUP(B178&\"\",'Fichero de Jugadores'!$A$2:$I$4566,7,0))","v":{"$error":"#N/A"}}]
[null,null,176,{"$f":"IF(A179=\"\",\"\",VLOOKUP(A179&\"\",'Fichero de Jugadores'!$A$2:$H$5000,2,0))","v":""},{"$f":"IF(B179=\"\",\"\",VLOOKUP(B179&\"\",'Fichero de Jugadores'!$A$2:$H$5000,2,0))","v":""},null,{"$f":"IF(A179=\"\",\"\",VLOOKUP(A179&\"\",'Fichero de Jugadores'!$A$2:$H$5000,7,0))","v":""},{"$f":"IF(B179=\"\",\"\",VLOOKUP(B179&\"\",'Fichero de Jugadores'!$A$2:$H$5000,7,0))","v":""},{"$error":"#N/A"},{"$f":"IF(A179=\"\",\"\",VLOOKUP(A179&\"\",'Fichero de Jugadores'!$A$2:$I$5000,9,0))","v":""},{"$f":"IF(B179=\"\",\"\",VLOOKUP(B179&\"\",'Fichero de Jugadores'!$A$2:$I$5000,9,0))","v":""},"",null,null,{"$f":"IF(A179=\"\",\"\",VLOOKUP(A179&\"\",'Fichero de Jugadores'!$A$2:$I$4566,4,0))","v":""},{"$f":"IF(B179=\"\",\"\",VLOOKUP(B179&\"\",'Fichero de Jugadores'!$A$2:$I$4566,4,0))","v":""},{"$f":"IF(C179=\"\",\"\",VLOOKUP(A179&\"\",'Fichero de Jugadores'!$A$2:$I$4566,7,0))","v":{"$error":"#N/A"}},{"$f":"IF(C179=\"\",\"\",VLOOKUP(B179&\"\",'Fichero de Jugadores'!$A$2:$I$4566,7,0))","v":{"$error":"#N/A"}}]
[null,null,177,{"$f":"IF(A180=\"\",\"\",VLOOKUP(A180&\"\",'Fichero de Jugadores'!$A$2:$H$5000,2,0))","v":""},{"$f":"IF(B180=\"\",\"\",VLOOKUP(B180&\"\",'Fichero de Jugadores'!$A$2:$H$5000,2,0))","v":""},null,{"$f":"IF(A180=\"\",\"\",VLOOKUP(A180&\"\",'Fichero de Jugadores'!$A$2:$H$5000,7,0))","v":""},{"$f":"IF(B180=\"\",\"\",VLOOKUP(B180&\"\",'Fichero de Jugadores'!$A$2:$H$5000,7,0))","v":""},{"$error":"#N/A"},{"$f":"IF(A180=\"\",\"\",VLOOKUP(A180&\"\",'Fichero de Jugadores'!$A$2:$I$5000,9,0))","v":""},{"$f":"IF(B180=\"\",\"\",VLOOKUP(B180&\"\",'Fichero de Jugadores'!$A$2:$I$5000,9,0))","v":""},"",null,null,{"$f":"IF(A180=\"\",\"\",VLOOKUP(A180&\"\",'Fichero de Jugadores'!$A$2:$I$4566,4,0))","v":""},{"$f":"IF(B180=\"\",\"\",VLOOKUP(B180&\"\",'Fichero de Jugadores'!$A$2:$I$4566,4,0))","v":""},{"$f":"IF(C180=\"\",\"\",VLOOKUP(A180&\"\",'Fichero de Jugadores'!$A$2:$I$4566,7,0))","v":{"$error":"#N/A"}},{"$f":"IF(C180=\"\",\"\",VLOOKUP(B180&\"\",'Fichero de Jugadores'!$A$2:$I$4566,7,0))","v":{"$error":"#N/A"}}]
[null,null,178,{"$f":"IF(A181=\"\",\"\",VLOOKUP(A181&\"\",'Fichero de Jugadores'!$A$2:$H$5000,2,0))","v":""},{"$f":"IF(B181=\"\",\"\",VLOOKUP(B181&\"\",'Fichero de Jugadores'!$A$2:$H$5000,2,0))","v":""},null,{"$f":"IF(A181=\"\",\"\",VLOOKUP(A181&\"\",'Fichero de Jugadores'!$A$2:$H$5000,7,0))","v":""},{"$f":"IF(B181=\"\",\"\",VLOOKUP(B181&\"\",'Fichero de Jugadores'!$A$2:$H$5000,7,0))","v":""},{"$error":"#N/A"},{"$f":"IF(A181=\"\",\"\",VLOOKUP(A181&\"\",'Fichero de Jugadores'!$A$2:$I$5000,9,0))","v":""},{"$f":"IF(B181=\"\",\"\",VLOOKUP(B181&\"\",'Fichero de Jugadores'!$A$2:$I$5000,9,0))","v":""},"",null,null,{"$f":"IF(A181=\"\",\"\",VLOOKUP(A181&\"\",'Fichero de Jugadores'!$A$2:$I$4566,4,0))","v":""},{"$f":"IF(B181=\"\",\"\",VLOOKUP(B181&\"\",'Fichero de Jugadores'!$A$2:$I$4566,4,0))","v":""},{"$f":"IF(C181=\"\",\"\",VLOOKUP(A181&\"\",'Fichero de Jugadores'!$A$2:$I$4566,7,0))","v":{"$error":"#N/A"}},{"$f":"IF(C181=\"\",\"\",VLOOKUP(B181&\"\",'Fichero de Jugadores'!$A$2:$I$4566,7,0))","v":{"$error":"#N/A"}}]
[null,null,179,{"$f":"IF(A182=\"\",\"\",VLOOKUP(A182&\"\",'Fichero de Jugadores'!$A$2:$H$5000,2,0))","v":""},{"$f":"IF(B182=\"\",\"\",VLOOKUP(B182&\"\",'Fichero de Jugadores'!$A$2:$H$5000,2,0))","v":""},null,{"$f":"IF(A182=\"\",\"\",VLOOKUP(A182&\"\",'Fichero de Jugadores'!$A$2:$H$5000,7,0))","v":""},{"$f":"IF(B182=\"\",\"\",VLOOKUP(B182&\"\",'Fichero de Jugadores'!$A$2:$H$5000,7,0))","v":""},{"$error":"#N/A"},{"$f":"IF(A182=\"\",\"\",VLOOKUP(A182&\"\",'Fichero de Jugadores'!$A$2:$I$5000,9,0))","v":""},{"$f":"IF(B182=\"\",\"\",VLOOKUP(B182&\"\",'Fichero de Jugadores'!$A$2:$I$5000,9,0))","v":""},"",null,null,{"$f":"IF(A182=\"\",\"\",VLOOKUP(A182&\"\",'Fichero de Jugadores'!$A$2:$I$4566,4,0))","v":""},{"$f":"IF(B182=\"\",\"\",VLOOKUP(B182&\"\",'Fichero de Jugadores'!$A$2:$I$4566,4,0))","v":""},{"$f":"IF(C182=\"\",\"\",VLOOKUP(A182&\"\",'Fichero de Jugadores'!$A$2:$I$4566,7,0))","v":{"$error":"#N/A"}},{"$f":"IF(C182=\"\",\"\",VLOOKUP(B182&\"\",'Fichero de Jugadores'!$A$2:$I$4566,7,0))","v":{"$error":"#N/A"}}]
[null,null,180,{"$f":"IF(A183=\"\",\"\",VLOOKUP(A183&\"\",'Fichero de Jugadores'!$A$2:$H$5000,2,0))","v":""},{"$f":"IF(B183=\"\",\"\",VLOOKUP(B183&\"\",'Fichero de Jugadores'!$A$2:$H$5000,2,0))","v":""},null,{"$f":"IF(A183=\"\",\"\",VLOOKUP(A183&\"\",'Fichero de Jugadores'!$A$2:$H$5000,7,0))","v":""},{"$f":"IF(B183=\"\",\"\",VLOOKUP(B183&\"\",'Fichero de Jugadores'!$A$2:$H$5000,7,0))","v":""},{"$error":"#N/A"},{"$f":"IF(A183=\"\",\"\",VLOOKUP(A183&\"\",'Fichero de Jugadores'!$A$2:$I$5000,9,0))","v":""},{"$f":"IF(B183=\"\",\"\",VLOOKUP(B183&\"\",'Fichero de Jugadores'!$A$2:$I$5000,9,0))","v":""},"",null,null,{"$f":"IF(A183=\"\",\"\",VLOOKUP(A183&\"\",'Fichero de Jugadores'!$A$2:$I$4566,4,0))","v":""},{"$f":"IF(B183=\"\",\"\",VLOOKUP(B183&\"\",'Fichero de Jugadores'!$A$2:$I$4566,4,0))","v":""},{"$f":"IF(C183=\"\",\"\",VLOOKUP(A183&\"\",'Fichero de Jugadores'!$A$2:$I$4566,7,0))","v":{"$error":"#N/A"}},{"$f":"IF(C183=\"\",\"\",VLOOKUP(B183&\"\",'Fichero de Jugadores'!$A$2:$I$4566,7,0))","v":{"$error":"#N/A"}}]
[null,null,181,{"$f":"IF(A184=\"\",\"\",VLOOKUP(A184&\"\",'Fichero de Jugadores'!$A$2:$H$5000,2,0))","v":""},{"$f":"IF(B184=\"\",\"\",VLOOKUP(B184&\"\",'Fichero de Jugadores'!$A$2:$H$5000,2,0))","v":""},null,{"$f":"IF(A184=\"\",\"\",VLOOKUP(A184&\"\",'Fichero de Jugadores'!$A$2:$H$5000,7,0))","v":""},{"$f":"IF(B184=\"\",\"\",VLOOKUP(B184&\"\",'Fichero de Jugadores'!$A$2:$H$5000,7,0))","v":""},{"$error":"#N/A"},{"$f":"IF(A184=\"\",\"\",VLOOKUP(A184&\"\",'Fichero de Jugadores'!$A$2:$I$5000,9,0))","v":""},{"$f":"IF(B184=\"\",\"\",VLOOKUP(B184&\"\",'Fichero de Jugadores'!$A$2:$I$5000,9,0))","v":""},"",null,null,{"$f":"IF(A184=\"\",\"\",VLOOKUP(A184&\"\",'Fichero de Jugadores'!$A$2:$I$4566,4,0))","v":""},{"$f":"IF(B184=\"\",\"\",VLOOKUP(B184&\"\",'Fichero de Jugadores'!$A$2:$I$4566,4,0))","v":""},{"$f":"IF(C184=\"\",\"\",VLOOKUP(A184&\"\",'Fichero de Jugadores'!$A$2:$I$4566,7,0))","v":{"$error":"#N/A"}},{"$f":"IF(C184=\"\",\"\",VLOOKUP(B184&\"\",'Fichero de Jugadores'!$A$2:$I$4566,7,0))","v":{"$error":"#N/A"}}]
[null,null,182,{"$f":"IF(A185=\"\",\"\",VLOOKUP(A185&\"\",'Fichero de Jugadores'!$A$2:$H$5000,2,0))","v":""},{"$f":"IF(B185=\"\",\"\",VLOOKUP(B185&\"\",'Fichero de Jugadores'!$A$2:$H$5000,2,0))","v":""},null,{"$f":"IF(A185=\"\",\"\",VLOOKUP(A185&\"\",'Fichero de Jugadores'!$A$2:$H$5000,7,0))","v":""},{"$f":"IF(B185=\"\",\"\",VLOOKUP(B185&\"\",'Fichero de Jugadores'!$A$2:$H$5000,7,0))","v":""},{"$error":"#N/A"},{"$f":"IF(A185=\"\",\"\",VLOOKUP(A185&\"\",'Fichero de Jugadores'!$A$2:$I$5000,9,0))","v":""},{"$f":"IF(B185=\"\",\"\",VLOOKUP(B185&\"\",'Fichero de Jugadores'!$A$2:$I$5000,9,0))","v":""},"",null,null,{"$f":"IF(A185=\"\",\"\",VLOOKUP(A185&\"\",'Fichero de Jugadores'!$A$2:$I$4566,4,0))","v":""},{"$f":"IF(B185=\"\",\"\",VLOOKUP(B185&\"\",'Fichero de Jugadores'!$A$2:$I$4566,4,0))","v":""},{"$f":"IF(C185=\"\",\"\",VLOOKUP(A185&\"\",'Fichero de Jugadores'!$A$2:$I$4566,7,0))","v":{"$error":"#N/A"}},{"$f":"IF(C185=\"\",\"\",VLOOKUP(B185&\"\",'Fichero de Jugadores'!$A$2:$I$4566,7,0))","v":{"$error":"#N/A"}}]
[null,null,183,{"$f":"IF(A186=\"\",\"\",VLOOKUP(A186&\"\",'Fichero de Jugadores'!$A$2:$H$5000,2,0))","v":""},{"$f":"IF(B186=\"\",\"\",VLOOKUP(B186&\"\",'Fichero de Jugadores'!$A$2:$H$5000,2,0))","v":""},null,{"$f":"IF(A186=\"\",\"\",VLOOKUP(A186&\"\",'Fichero de Jugadores'!$A$2:$H$5000,7,0))","v":""},{"$f":"IF(B186=\"\",\"\",VLOOKUP(B186&\"\",'Fichero de Jugadores'!$A$2:$H$5000,7,0))","v":""},{"$error":"#N/A"},{"$f":"IF(A186=\"\",\"\",VLOOKUP(A186&\"\",'Fichero de Jugadores'!$A$2:$I$5000,9,0))","v":""},{"$f":"IF(B186=\"\",\"\",VLOOKUP(B186&\"\",'Fichero de Jugadores'!$A$2:$I$5000,9,0))","v":""},"",null,null,{"$f":"IF(A186=\"\",\"\",VLOOKUP(A186&\"\",'Fichero de Jugadores'!$A$2:$I$4566,4,0))","v":""},{"$f":"IF(B186=\"\",\"\",VLOOKUP(B186&\"\",'Fichero de Jugadores'!$A$2:$I$4566,4,0))","v":""},{"$f":"IF(C186=\"\",\"\",VLOOKUP(A186&\"\",'Fichero de Jugadores'!$A$2:$I$4566,7,0))","v":{"$error":"#N/A"}},{"$f":"IF(C186=\"\",\"\",VLOOKUP(B186&\"\",'Fichero de Jugadores'!$A$2:$I$4566,7,0))","v":{"$error":"#N/A"}}]
[null,null,184,{"$f":"IF(A187=\"\",\"\",VLOOKUP(A187&\"\",'Fichero de Jugadores'!$A$2:$H$5000,2,0))","v":""},{"$f":"IF(B187=\"\",\"\",VLOOKUP(B187&\"\",'Fichero de Jugadores'!$A$2:$H$5000,2,0))","v":""},null,{"$f":"IF(A187=\"\",\"\",VLOOKUP(A187&\"\",'Fichero de Jugadores'!$A$2:$H$5000,7,0))","v":""},{"$f":"IF(B187=\"\",\"\",VLOOKUP(B187&\"\",'Fichero de Jugadores'!$A$2:$H$5000,7,0))","v":""},{"$error":"#N/A"},{"$f":"IF(A187=\"\",\"\",VLOOKUP(A187&\"\",'Fichero de Jugadores'!$A$2:$I$5000,9,0))","v":""},{"$f":"IF(B187=\"\",\"\",VLOOKUP(B187&\"\",'Fichero de Jugadores'!$A$2:$I$5000,9,0))","v":""},"",null,null,{"$f":"IF(A187=\"\",\"\",VLOOKUP(A187&\"\",'Fichero de Jugadores'!$A$2:$I$4566,4,0))","v":""},{"$f":"IF(B187=\"\",\"\",VLOOKUP(B187&\"\",'Fichero de Jugadores'!$A$2:$I$4566,4,0))","v":""},{"$f":"IF(C187=\"\",\"\",VLOOKUP(A187&\"\",'Fichero de Jugadores'!$A$2:$I$4566,7,0))","v":{"$error":"#N/A"}},{"$f":"IF(C187=\"\",\"\",VLOOKUP(B187&\"\",'Fichero de Jugadores'!$A$2:$I$4566,7,0))","v":{"$error":"#N/A"}}]
[null,null,185,{"$f":"IF(A188=\"\",\"\",VLOOKUP(A188&\"\",'Fichero de Jugadores'!$A$2:$H$5000,2,0))","v":""},{"$f":"IF(B188=\"\",\"\",VLOOKUP(B188&\"\",'Fichero de Jugadores'!$A$2:$H$5000,2,0))","v":""},null,{"$f":"IF(A188=\"\",\"\",VLOOKUP(A188&\"\",'Fichero de Jugadores'!$A$2:$H$5000,7,0))","v":""},{"$f":"IF(B188=\"\",\"\",VLOOKUP(B188&\"\",'Fichero de Jugadores'!$A$2:$H$5000,7,0))","v":""},{"$error":"#N/A"},{"$f":"IF(A188=\"\",\"\",VLOOKUP(A188&\"\",'Fichero de Jugadores'!$A$2:$I$5000,9,0))","v":""},{"$f":"IF(B188=\"\",\"\",VLOOKUP(B188&\"\",'Fichero de Jugadores'!$A$2:$I$5000,9,0))","v":""},"",null,null,{"$f":"IF(A188=\"\",\"\",VLOOKUP(A188&\"\",'Fichero de Jugadores'!$A$2:$I$4566,4,0))","v":""},{"$f":"IF(B188=\"\",\"\",VLOOKUP(B188&\"\",'Fichero de Jugadores'!$A$2:$I$4566,4,0))","v":""},{"$f":"IF(C188=\"\",\"\",VLOOKUP(A188&\"\",'Fichero de Jugadores'!$A$2:$I$4566,7,0))","v":{"$error":"#N/A"}},{"$f":"IF(C188=\"\",\"\",VLOOKUP(B188&\"\",'Fichero de Jugadores'!$A$2:$I$4566,7,0))","v":{"$error":"#N/A"}}]
[null,null,186,{"$f":"IF(A189=\"\",\"\",VLOOKUP(A189&\"\",'Fichero de Jugadores'!$A$2:$H$5000,2,0))","v":""},{"$f":"IF(B189=\"\",\"\",VLOOKUP(B189&\"\",'Fichero de Jugadores'!$A$2:$H$5000,2,0))","v":""},null,{"$f":"IF(A189=\"\",\"\",VLOOKUP(A189&\"\",'Fichero de Jugadores'!$A$2:$H$5000,7,0))","v":""},{"$f":"IF(B189=\"\",\"\",VLOOKUP(B189&\"\",'Fichero de Jugadores'!$A$2:$H$5000,7,0))","v":""},{"$error":"#N/A"},{"$f":"IF(A189=\"\",\"\",VLOOKUP(A189&\"\",'Fichero de Jugadores'!$A$2:$I$5000,9,0))","v":""},{"$f":"IF(B189=\"\",\"\",VLOOKUP(B189&\"\",'Fichero de Jugadores'!$A$2:$I$5000,9,0))","v":""},"",null,null,{"$f":"IF(A189=\"\",\"\",VLOOKUP(A189&\"\",'Fichero de Jugadores'!$A$2:$I$4566,4,0))","v":""},{"$f":"IF(B189=\"\",\"\",VLOOKUP(B189&\"\",'Fichero de Jugadores'!$A$2:$I$4566,4,0))","v":""},{"$f":"IF(C189=\"\",\"\",VLOOKUP(A189&\"\",'Fichero de Jugadores'!$A$2:$I$4566,7,0))","v":{"$error":"#N/A"}},{"$f":"IF(C189=\"\",\"\",VLOOKUP(B189&\"\",'Fichero de Jugadores'!$A$2:$I$4566,7,0))","v":{"$error":"#N/A"}}]
[null,null,187,{"$f":"IF(A190=\"\",\"\",VLOOKUP(A190&\"\",'Fichero de Jugadores'!$A$2:$H$5000,2,0))","v":""},{"$f":"IF(B190=\"\",\"\",VLOOKUP(B190&\"\",'Fichero de Jugadores'!$A$2:$H$5000,2,0))","v":""},null,{"$f":"IF(A190=\"\",\"\",VLOOKUP(A190&\"\",'Fichero de Jugadores'!$A$2:$H$5000,7,0))","v":""},{"$f":"IF(B190=\"\",\"\",VLOOKUP(B190&\"\",'Fichero de Jugadores'!$A$2:$H$5000,7,0))","v":""},{"$error":"#N/A"},{"$f":"IF(A190=\"\",\"\",VLOOKUP(A190&\"\",'Fichero de Jugadores'!$A$2:$I$5000,9,0))","v":""},{"$f":"IF(B190=\"\",\"\",VLOOKUP(B190&\"\",'Fichero de Jugadores'!$A$2:$I$5000,9,0))","v":""},"",null,null,{"$f":"IF(A190=\"\",\"\",VLOOKUP(A190&\"\",'Fichero de Jugadores'!$A$2:$I$4566,4,0))","v":""},{"$f":"IF(B190=\"\",\"\",VLOOKUP(B190&\"\",'Fichero de Jugadores'!$A$2:$I$4566,4,0))","v":""},{"$f":"IF(C190=\"\",\"\",VLOOKUP(A190&\"\",'Fichero de Jugadores'!$A$2:$I$4566,7,0))","v":{"$error":"#N/A"}},{"$f":"IF(C190=\"\",\"\",VLOOKUP(B190&\"\",'Fichero de Jugadores'!$A$2:$I$4566,7,0))","v":{"$error":"#N/A"}}]
[null,null,188,{"$f":"IF(A191=\"\",\"\",VLOOKUP(A191&\"\",'Fichero de Jugadores'!$A$2:$H$5000,2,0))","v":""},{"$f":"IF(B191=\"\",\"\",VLOOKUP(B191&\"\",'Fichero de Jugadores'!$A$2:$H$5000,2,0))","v":""},null,{"$f":"IF(A191=\"\",\"\",VLOOKUP(A191&\"\",'Fichero de Jugadores'!$A$2:$H$5000,7,0))","v":""},{"$f":"IF(B191=\"\",\"\",VLOOKUP(B191&\"\",'Fichero de Jugadores'!$A$2:$H$5000,7,0))","v":""},{"$error":"#N/A"},{"$f":"IF(A191=\"\",\"\",VLOOKUP(A191&\"\",'Fichero de Jugadores'!$A$2:$I$5000,9,0))","v":""},{"$f":"IF(B191=\"\",\"\",VLOOKUP(B191&\"\",'Fichero de Jugadores'!$A$2:$I$5000,9,0))","v":""},"",null,null,{"$f":"IF(A191=\"\",\"\",VLOOKUP(A191&\"\",'Fichero de Jugadores'!$A$2:$I$4566,4,0))","v":""},{"$f":"IF(B191=\"\",\"\",VLOOKUP(B191&\"\",'Fichero de Jugadores'!$A$2:$I$4566,4,0))","v":""},{"$f":"IF(C191=\"\",\"\",VLOOKUP(A191&\"\",'Fichero de Jugadores'!$A$2:$I$4566,7,0))","v":{"$error":"#N/A"}},{"$f":"IF(C191=\"\",\"\",VLOOKUP(B191&\"\",'Fichero de Jugadores'!$A$2:$I$4566,7,0))","v":{"$error":"#N/A"}}]
[null,null,189,{"$f":"IF(A192=\"\",\"\",VLOOKUP(A192&\"\",'Fichero de Jugadores'!$A$2:$H$5000,2,0))","v":""},{"$f":"IF(B192=\"\",\"\",VLOOKUP(B192&\"\",'Fichero de Jugadores'!$A$2:$H$5000,2,0))","v":""},null,{"$f":"IF(A192=\"\",\"\",VLOOKUP(A192&\"\",'Fichero de Jugadores'!$A$2:$H$5000,7,0))","v":""},{"$f":"IF(B192=\"\",\"\",VLOOKUP(B192&\"\",'Fichero de Jugadores'!$A$2:$H$5000,7,0))","v":""},{"$error":"#N/A"},{"$f":"IF(A192=\"\",\"\",VLOOKUP(A192&\"\",'Fichero de Jugadores'!$A$2:$I$5000,9,0))","v":""},{"$f":"IF(B192=\"\",\"\",VLOOKUP(B192&\"\",'Fichero de Jugadores'!$A$2:$I$5000,9,0))","v":""},"",null,null,{"$f":"IF(A192=\"\",\"\",VLOOKUP(A192&\"\",'Fichero de Jugadores'!$A$2:$I$4566,4,0))","v":""},{"$f":"IF(B192=\"\",\"\",VLOOKUP(B192&\"\",'Fichero de Jugadores'!$A$2:$I$4566,4,0))","v":""},{"$f":"IF(C192=\"\",\"\",VLOOKUP(A192&\"\",'Fichero de Jugadores'!$A$2:$I$4566,7,0))","v":{"$error":"#N/A"}},{"$f":"IF(C192=\"\",\"\",VLOOKUP(B192&\"\",'Fichero de Jugadores'!$A$2:$I$4566,7,0))","v":{"$error":"#N/A"}}]
[null,null,190,{"$f":"IF(A193=\"\",\"\",VLOOKUP(A193&\"\",'Fichero de Jugadores'!$A$2:$H$5000,2,0))","v":""},{"$f":"IF(B193=\"\",\"\",VLOOKUP(B193&\"\",'Fichero de Jugadores'!$A$2:$H$5000,2,0))","v":""},null,{"$f":"IF(A193=\"\",\"\",VLOOKUP(A193&\"\",'Fichero de Jugadores'!$A$2:$H$5000,7,0))","v":""},{"$f":"IF(B193=\"\",\"\",VLOOKUP(B193&\"\",'Fichero de Jugadores'!$A$2:$H$5000,7,0))","v":""},{"$error":"#N/A"},{"$f":"IF(A193=\"\",\"\",VLOOKUP(A193&\"\",'Fichero de Jugadores'!$A$2:$I$5000,9,0))","v":""},{"$f":"IF(B193=\"\",\"\",VLOOKUP(B193&\"\",'Fichero de Jugadores'!$A$2:$I$5000,9,0))","v":""},"",null,null,{"$f":"IF(A193=\"\",\"\",VLOOKUP(A193&\"\",'Fichero de Jugadores'!$A$2:$I$4566,4,0))","v":""},{"$f":"IF(B193=\"\",\"\",VLOOKUP(B193&\"\",'Fichero de Jugadores'!$A$2:$I$4566,4,0))","v":""},{"$f":"IF(C193=\"\",\"\",VLOOKUP(A193&\"\",'Fichero de Jugadores'!$A$2:$I$4566,7,0))","v":{"$error":"#N/A"}},{"$f":"IF(C193=\"\",\"\",VLOOKUP(B193&\"\",'Fichero de Jugadores'!$A$2:$I$4566,7,0))","v":{"$error":"#N/A"}}]
[null,null,191,{"$f":"IF(A194=\"\",\"\",VLOOKUP(A194&\"\",'Fichero de Jugadores'!$A$2:$H$5000,2,0))","v":""},{"$f":"IF(B194=\"\",\"\",VLOOKUP(B194&\"\",'Fichero de Jugadores'!$A$2:$H$5000,2,0))","v":""},null,{"$f":"IF(A194=\"\",\"\",VLOOKUP(A194&\"\",'Fichero de Jugadores'!$A$2:$H$5000,7,0))","v":""},{"$f":"IF(B194=\"\",\"\",VLOOKUP(B194&\"\",'Fichero de Jugadores'!$A$2:$H$5000,7,0))","v":""},{"$error":"#N/A"},{"$f":"IF(A194=\"\",\"\",VLOOKUP(A194&\"\",'Fichero de Jugadores'!$A$2:$I$5000,9,0))","v":""},{"$f":"IF(B194=\"\",\"\",VLOOKUP(B194&\"\",'Fichero de Jugadores'!$A$2:$I$5000,9,0))","v":""},"",null,null,{"$f":"IF(A194=\"\",\"\",VLOOKUP(A194&\"\",'Fichero de Jugadores'!$A$2:$I$4566,4,0))","v":""},{"$f":"IF(B194=\"\",\"\",VLOOKUP(B194&\"\",'Fichero de Jugadores'!$A$2:$I$4566,4,0))","v":""},{"$f":"IF(C194=\"\",\"\",VLOOKUP(A194&\"\",'Fichero de Jugadores'!$A$2:$I$4566,7,0))","v":{"$error":"#N/A"}},{"$f":"IF(C194=\"\",\"\",VLOOKUP(B194&\"\",'Fichero de Jugadores'!$A$2:$I$4566,7,0))","v":{"$error":"#N/A"}}]
[null,null,192,{"$f":"IF(A195=\"\",\"\",VLOOKUP(A195&\"\",'Fichero de Jugadores'!$A$2:$H$5000,2,0))","v":""},{"$f":"IF(B195=\"\",\"\",VLOOKUP(B195&\"\",'Fichero de Jugadores'!$A$2:$H$5000,2,0))","v":""},null,{"$f":"IF(A195=\"\",\"\",VLOOKUP(A195&\"\",'Fichero de Jugadores'!$A$2:$H$5000,7,0))","v":""},{"$f":"IF(B195=\"\",\"\",VLOOKUP(B195&\"\",'Fichero de Jugadores'!$A$2:$H$5000,7,0))","v":""},{"$error":"#N/A"},{"$f":"IF(A195=\"\",\"\",VLOOKUP(A195&\"\",'Fichero de Jugadores'!$A$2:$I$5000,9,0))","v":""},{"$f":"IF(B195=\"\",\"\",VLOOKUP(B195&\"\",'Fichero de Jugadores'!$A$2:$I$5000,9,0))","v":""},"",null,null,{"$f":"IF(A195=\"\",\"\",VLOOKUP(A195&\"\",'Fichero de Jugadores'!$A$2:$I$4566,4,0))","v":""},{"$f":"IF(B195=\"\",\"\",VLOOKUP(B195&\"\",'Fichero de Jugadores'!$A$2:$I$4566,4,0))","v":""},{"$f":"IF(C195=\"\",\"\",VLOOKUP(A195&\"\",'Fichero de Jugadores'!$A$2:$I$4566,7,0))","v":{"$error":"#N/A"}},{"$f":"IF(C195=\"\",\"\",VLOOKUP(B195&\"\",'Fichero de Jugadores'!$A$2:$I$4566,7,0))","v":{"$error":"#N/A"}}]
[null,null,193,{"$f":"IF(A196=\"\",\"\",VLOOKUP(A196&\"\",'Fichero de Jugadores'!$A$2:$H$5000,2,0))","v":""},{"$f":"IF(B196=\"\",\"\",VLOOKUP(B196&\"\",'Fichero de Jugadores'!$A$2:$H$5000,2,0))","v":""},null,{"$f":"IF(A196=\"\",\"\",VLOOKUP(A196&\"\",'Fichero de Jugadores'!$A$2:$H$5000,7,0))","v":""},{"$f":"IF(B196=\"\",\"\",VLOOKUP(B196&\"\",'Fichero de Jugadores'!$A$2:$H$5000,7,0))","v":""},{"$f":"INDEX(AN$4:AS$9,(Q196)+2,(R196)+2)","v":{"$error":"#N/A"}},{"$f":"IF(A196=\"\",\"\",VLOOKUP(A196&\"\",'Fichero de Jugadores'!$A$2:$I$5000,9,0))","v":""},{"$f":"IF(B196=\"\",\"\",VLOOKUP(B196&\"\",'Fichero de Jugadores'!$A$2:$I$5000,9,0))","v":""},"",null,null,{"$f":"IF(A196=\"\",\"\",VLOOKUP(A196&\"\",'Fichero de Jugadores'!$A$2:$I$4566,4,0))","v":""},{"$f":"IF(B196=\"\",\"\",VLOOKUP(B196&\"\",'Fichero de Jugadores'!$A$2:$I$4566,4,0))","v":""},{"$f":"IF(C196=\"\",\"\",VLOOKUP(A196&\"\",'Fichero de Jugadores'!$A$2:$I$4566,7,0))","v":{"$error":"#N/A"}},{"$f":"IF(C196=\"\",\"\",VLOOKUP(B196&\"\",'Fichero de Jugadores'!$A$2:$I$4566,7,0))","v":{"$error":"#N/A"}}]
[null,null,194,{"$f":"IF(A197=\"\",\"\",VLOOKUP(A197&\"\",'Fichero de Jugadores'!$A$2:$H$5000,2,0))","v":""},{"$f":"IF(B197=\"\",\"\",VLOOKUP(B197&\"\",'Fichero de Jugadores'!$A$2:$H$5000,2,0))","v":""},null,{"$f":"IF(A197=\"\",\"\",VLOOKUP(A197&\"\",'Fichero de Jugadores'!$A$2:$H$5000,7,0))","v":""},{"$f":"IF(B197=\"\",\"\",VLOOKUP(B197&\"\",'Fichero de Jugadores'!$A$2:$H$5000,7,0))","v":""},{"$error":"#N/A"},{"$f":"IF(A197=\"\",\"\",VLOOKUP(A197&\"\",'Fichero de Jugadores'!$A$2:$I$5000,9,0))","v":""},{"$f":"IF(B197=\"\",\"\",VLOOKUP(B197&\"\",'Fichero de Jugadores'!$A$2:$I$5000,9,0))","v":""},{"$f":"IF(AND(O197=\"D\",P197=\"D\"),\"D\",IF(AND(O197=\"D\",P197=\"C\"),\"X\",IF(AND(O197=\"C\",P197=\"D\"),\"X\",IF(AND(O197=\"C\",P197=\"C\"),\"C\",IF(OR(O197=\"\",P197=\"\"),\"\")))))","v":""},null,null,{"$f":"IF(A197=\"\",\"\",VLOOKUP(A197&\"\",'Fichero de Jugadores'!$A$2:$I$4566,4,0))","v":""},{"$f":"IF(B197=\"\",\"\",VLOOKUP(B197&\"\",'Fichero de Jugadores'!$A$2:$I$4566,4,0))","v":""},{"$f":"IF(C197=\"\",\"\",VLOOKUP(A197&\"\",'Fichero de Jugadores'!$A$2:$I$4566,7,0))","v":{"$error":"#N/A"}},{"$f":"IF(C197=\"\",\"\",VLOOKUP(B197&\"\",'Fichero de Jugadores'!$A$2:$I$4566,7,0))","v":{"$error":"#N/A"}}]
[null,null,195,{"$f":"IF(A198=\"\",\"\",VLOOKUP(A198&\"\",'Fichero de Jugadores'!$A$2:$H$5000,2,0))","v":""},{"$f":"IF(B198=\"\",\"\",VLOOKUP(B198&\"\",'Fichero de Jugadores'!$A$2:$H$5000,2,0))","v":""},null,{"$f":"IF(A198=\"\",\"\",VLOOKUP(A198&\"\",'Fichero de Jugadores'!$A$2:$H$5000,7,0))","v":""},{"$f":"IF(B198=\"\",\"\",VLOOKUP(B198&\"\",'Fichero de Jugadores'!$A$2:$H$5000,7,0))","v":""},{"$error":"#N/A"},{"$f":"IF(A198=\"\",\"\",VLOOKUP(A198&\"\",'Fichero de Jugadores'!$A$2:$I$5000,9,0))","v":""},{"$f":"IF(B198=\"\",\"\",VLOOKUP(B198&\"\",'Fichero de Jugadores'!$A$2:$I$5000,9,0))","v":""},"",null,null,{"$f":"IF(A198=\"\",\"\",VLOOKUP(A198&\"\",'Fichero de Jugadores'!$A$2:$I$4566,4,0))","v":""},{"$f":"IF(B198=\"\",\"\",VLOOKUP(B198&\"\",'Fichero de Jugadores'!$A$2:$I$4566,4,0))","v":""},{"$f":"IF(C198=\"\",\"\",VLOOKUP(A198&\"\",'Fichero de Jugadores'!$A$2:$I$4566,7,0))","v":{"$error":"#N/A"}},{"$f":"IF(C198=\"\",\"\",VLOOKUP(B198&\"\",'Fichero de Jugadores'!$A$2:$I$4566,7,0))","v":{"$error":"#N/A"}}]
[null,null,196,{"$f":"IF(A199=\"\",\"\",VLOOKUP(A199&\"\",'Fichero de Jugadores'!$A$2:$H$5000,2,0))","v":""},{"$f":"IF(B199=\"\",\"\",VLOOKUP(B199&\"\",'Fichero de Jugadores'!$A$2:$H$5000,2,0))","v":""},null,{"$f":"IF(A199=\"\",\"\",VLOOKUP(A199&\"\",'Fichero de Jugadores'!$A$2:$H$5000,7,0))","v":""},{"$f":"IF(B199=\"\",\"\",VLOOKUP(B199&\"\",'Fichero de Jugadores'!$A$2:$H$5000,7,0))","v":""},{"$error":"#N/A"},{"$f":"IF(A199=\"\",\"\",VLOOKUP(A199&\"\",'Fichero de Jugadores'!$A$2:$I$5000,9,0))","v":""},{"$f":"IF(B199=\"\",\"\",VLOOKUP(B199&\"\",'Fichero de Jugadores'!$A$2:$I$5000,9,0))","v":""},"",null,null,{"$f":"IF(A199=\"\",\"\",VLOOKUP(A199&\"\",'Fichero de Jugadores'!$A$2:$I$4566,4,0))","v":""},{"$f":"IF(B199=\"\",\"\",VLOOKUP(B199&\"\",'Fichero de Jugadores'!$A$2:$I$4566,4,0))","v":""},{"$f":"IF(C199=\"\",\"\",VLOOKUP(A199&\"\",'Fichero de Jugadores'!$A$2:$I$4566,7,0))","v":{"$error":"#N/A"}},{"$f":"IF(C199=\"\",\"\",VLOOKUP(B199&\"\",'Fichero de Jugadores'!$A$2:$I$4566,7,0))","v":{"$error":"#N/A"}}]
[null,null,197,{"$f":"IF(A200=\"\",\"\",VLOOKUP(A200&\"\",'Fichero de Jugadores'!$A$2:$H$5000,2,0))","v":""},{"$f":"IF(B200=\"\",\"\",VLOOKUP(B200&\"\",'Fichero de Jugadores'!$A$2:$H$5000,2,0))","v":""},null,{"$f":"IF(A200=\"\",\"\",VLOOKUP(A200&\"\",'Fichero de Jugadores'!$A$2:$H$5000,7,0))","v":""},{"$f":"IF(B200=\"\",\"\",VLOOKUP(B200&\"\",'Fichero de Jugadores'!$A$2:$H$5000,7,0))","v":""},{"$error":"#N/A"},{"$f":"IF(A200=\"\",\"\",VLOOKUP(A200&\"\",'Fichero de Jugadores'!$A$2:$I$5000,9,0))","v":""},{"$f":"IF(B200=\"\",\"\",VLOOKUP(B200&\"\",'Fichero de Jugadores'!$A$2:$I$5000,9,0))","v":""},"",null,null,{"$f":"IF(A200=\"\",\"\",VLOOKUP(A200&\"\",'Fichero de Jugadores'!$A$2:$I$4566,4,0))","v":""},{"$f":"IF(B200=\"\",\"\",VLOOKUP(B200&\"\",'Fichero de Jugadores'!$A$2:$I$4566,4,0))","v":""},{"$f":"IF(C200=\"\",\"\",VLOOKUP(A200&\"\",'Fichero de Jugadores'!$A$2:$I$4566,7,0))","v":{"$error":"#N/A"}},{"$f":"IF(C200=\"\",\"\",VLOOKUP(B200&\"\",'Fichero de Jugadores'!$A$2:$I$4566,7,0))","v":{"$error":"#N/A"}}]
[null,null,198,{"$f":"IF(A201=\"\",\"\",VLOOKUP(A201&\"\",'Fichero de Jugadores'!$A$2:$H$5000,2,0))","v":""},{"$f":"IF(B201=\"\",\"\",VLOOKUP(B201&\"\",'Fichero de Jugadores'!$A$2:$H$5000,2,0))","v":""},null,{"$f":"IF(A201=\"\",\"\",VLOOKUP(A201&\"\",'Fichero de Jugadores'!$A$2:$H$5000,7,0))","v":""},{"$f":"IF(B201=\"\",\"\",VLOOKUP(B201&\"\",'Fichero de Jugadores'!$A$2:$H$5000,7,0))","v":""},{"$error":"#N/A"},{"$f":"IF(A201=\"\",\"\",VLOOKUP(A201&\"\",'Fichero de Jugadores'!$A$2:$I$5000,9,0))","v":""},{"$f":"IF(B201=\"\",\"\",VLOOKUP(B201&\"\",'Fichero de Jugadores'!$A$2:$I$5000,9,0))","v":""},"",null,null,{"$f":"IF(A201=\"\",\"\",VLOOKUP(A201&\"\",'Fichero de Jugadores'!$A$2:$I$4566,4,0))","v":""},{"$f":"IF(B201=\"\",\"\",VLOOKUP(B201&\"\",'Fichero de Jugadores'!$A$2:$I$4566,4,0))","v":""},{"$f":"IF(C201=\"\",\"\",VLOOKUP(A201&\"\",'Fichero de Jugadores'!$A$2:$I$4566,7,0))","v":{"$error":"#N/A"}},{"$f":"IF(C201=\"\",\"\",VLOOKUP(B201&\"\",'Fichero de Jugadores'!$A$2:$I$4566,7,0))","v":{"$error":"#N/A"}}]
[null,null,199,{"$f":"IF(A202=\"\",\"\",VLOOKUP(A202&\"\",'Fichero de Jugadores'!$A$2:$H$5000,2,0))","v":""},{"$f":"IF(B202=\"\",\"\",VLOOKUP(B202&\"\",'Fichero de Jugadores'!$A$2:$H$5000,2,0))","v":""},null,{"$f":"IF(A202=\"\",\"\",VLOOKUP(A202&\"\",'Fichero de Jugadores'!$A$2:$H$5000,7,0))","v":""},{"$f":"IF(B202=\"\",\"\",VLOOKUP(B202&\"\",'Fichero de Jugadores'!$A$2:$H$5000,7,0))","v":""},{"$error":"#N/A"},{"$f":"IF(A202=\"\",\"\",VLOOKUP(A202&\"\",'Fichero de Jugadores'!$A$2:$I$5000,9,0))","v":""},{"$f":"IF(B202=\"\",\"\",VLOOKUP(B202&\"\",'Fichero de Jugadores'!$A$2:$I$5000,9,0))","v":""},"",null,null,{"$f":"IF(A202=\"\",\"\",VLOOKUP(A202&\"\",'Fichero de Jugadores'!$A$2:$I$4566,4,0))","v":""},{"$f":"IF(B202=\"\",\"\",VLOOKUP(B202&\"\",'Fichero de Jugadores'!$A$2:$I$4566,4,0))","v":""},{"$f":"IF(C202=\"\",\"\",VLOOKUP(A202&\"\",'Fichero de Jugadores'!$A$2:$I$4566,7,0))","v":{"$error":"#N/A"}},{"$f":"IF(C202=\"\",\"\",VLOOKUP(B202&\"\",'Fichero de Jugadores'!$A$2:$I$4566,7,0))","v":{"$error":"#N/A"}}]
[null,null,200,{"$f":"IF(A203=\"\",\"\",VLOOKUP(A203&\"\",'Fichero de Jugadores'!$A$2:$H$5000,2,0))","v":""},{"$f":"IF(B203=\"\",\"\",VLOOKUP(B203&\"\",'Fichero de Jugadores'!$A$2:$H$5000,2,0))","v":""},null,{"$f":"IF(A203=\"\",\"\",VLOOKUP(A203&\"\",'Fichero de Jugadores'!$A$2:$H$5000,7,0))","v":""},{"$f":"IF(B203=\"\",\"\",VLOOKUP(B203&\"\",'Fichero de Jugadores'!$A$2:$H$5000,7,0))","v":""},{"$error":"#N/A"},{"$f":"IF(A203=\"\",\"\",VLOOKUP(A203&\"\",'Fichero de Jugadores'!$A$2:$I$5000,9,0))","v":""},{"$f":"IF(B203=\"\",\"\",VLOOKUP(B203&\"\",'Fichero de Jugadores'!$A$2:$I$5000,9,0))","v":""},"",null,null,{"$f":"IF(A203=\"\",\"\",VLOOKUP(A203&\"\",'Fichero de Jugadores'!$A$2:$I$4566,4,0))","v":""},{"$f":"IF(B203=\"\",\"\",VLOOKUP(B203&\"\",'Fichero de Jugadores'!$A$2:$I$4566,4,0))","v":""},{"$f":"IF(C203=\"\",\"\",VLOOKUP(A203&\"\",'Fichero de Jugadores'!$A$2:$I$4566,7,0))","v":{"$error":"#N/A"}},{"$f":"IF(C203=\"\",\"\",VLOOKUP(B203&\"\",'Fichero de Jugadores'!$A$2:$I$4566,7,0))","v":{"$error":"#N/A"}}]

{"sheet":"Referencias","index":1,"n_rows":41,"n_cols":5,"rows_kept":41,"cut":false,"hidden":true,"merged":[]}
[]
[]
[null,"CATEGORIA DE JUEGO"]
[null,"Maestro Mundial","MM","Maestro Mundial",0]
[null,"Maestro Mundial Open","MM-O","Maestro Mundial Open",0]
[null,"Maestro Mundial Damas","MM-D","Maestro Mundial Damas",0]
[null,"Maestro Mundial Senior","MM-S","Maestro Mundial Senior",0]
[null,"Maestro Nacional","MN","Maestro Nacional",0]
[null,"Maestro Nacional Open","MN-O","Maestro Nacional Open",0]
[null,"Maestro Nacional Damas","MN-D","Maestro Nacional Damas",0]
[null,"Maestro Nacional Senior","MN-S","Maestro Nacional Senior",0]
[null,"Primera Picas","1P","Primera Picas",1]
[null,"Primera Corazón","1C","Primera Corazón",1]
[null,"Primera Diamante","1D","Primera Diamante",1]
[null,"Segunda Picas","2P","Segunda Picas",2]
[null,"Segunda Corazón","2C","Segunda Corazón",2]
[null,"Segunda Diamante","2D","Segunda Diamante",2]
[null,"Tercera Picas","3P","Tercera Picas",3]
[null,"Tercera Corazón","3C","Tercera Corazón",3]
[null,"Tercera Diamante","3D","Tercera Diamante",3]
[null,"Sin Categoría","SC","Sin Categoría",4]
[]
[]
[null,"Madrileña","M"]
[null,"Catalana","C"]
[null,"Asturiana","PA"]
[null,"Andaluza","A"]
[null,"Balear","IB"]
[null,"Canaria","IC"]
[null,"Cántabra","CN"]
[null,"Castilla y León","CL"]
[null,"Castellano-Manchega","CM"]
[null,"Gallega","G"]
[null,"C. Valenciana","V"]
[null,"Vasca","PV"]
[null,"Aragonesa","AR"]
[null,"Extremeña","E"]
[null,"Murciana","MU"]
[null,"Navarra","N"]
[null,"Riojana","R"]
[null,"AEB","AE"]

{"sheet":"Fichero de Jugadores","index":2,"n_rows":4663,"n_cols":10,"rows_kept":4663,"cut":false,"hidden":false,"merged":[[0,9,0,13]]}
["Licencia","Titular","Territorial","DC","Categoria","CatNumero","CatCodigo","TipoLicencia","AT","NO ESCRIBIR LAS COLUMNAS GRISES"]
["0341032","García Ruiz, Mercedes","C. Valenciana","D",{"$f":"VLOOKUP(G2,Referencias!$C$4:$D$21,2,FALSE())","v":"Tercera Diamante"},{"$f":"VLOOKUP(G2,Referencias!$C$4:$E$21,3,FALSE())","v":3},"3D","Competición",{"$f":"VLOOKUP(C2,Referencias!$B$24:$C$40,2,FALSE())","v":"V"}]
["0341214","Caturla Camino, Pilar","C. Valenciana","D",{"$f":"VLOOKUP(G3,Referencias!$C$4:$D$21,2,FALSE())","v":"Tercera Diamante"},{"$f":"VLOOKUP(G3,Referencias!$C$4:$E$21,3,FALSE())","v":3},"3D","Competición",{"$f":"VLOOKUP(C3,Referencias!$B$24:$C$40,2,FALSE())","v":"V"}]
["0341256","Cortes Quirant, Maria del Carmen","C. Valenciana","D",{"$f":"VLOOKUP(G4,Referencias!$C$4:$D$21,2,FALSE())","v":"Sin Categoría"},{"$f":"VLOOKUP(G4,Referencias!$C$4:$E$21,3,FALSE())","v":4},"SC","Competición",{"$f":"VLOOKUP(C4,Referencias!$B$24:$C$40,2,FALSE())","v":"V"}]
["0341288","Pont Beneyto, María Dolores","C. Valenciana","D",{"$f":"VLOOKUP(G5,Referencias!$C$4:$D$21,2,FALSE())","v":"Sin Categoría"},{"$f":"VLOOKUP(G5,Referencias!$C$4:$E$21,3,FALSE())","v":4},"SC","Competición",{"$f":"VLOOKUP(C5,Referencias!$B$24:$C$40,2,FALSE())","v":"V"}]
["0341335","Coloma Carbonell, Marisa","C. Valenciana","D",{"$f":"VLOOKUP(G6,Referencias!$C$4:$D$21,2,FALSE())","v":"Sin Categoría"},{"$f":"VLOOKUP(G6,Referencias!$C$4:$E$21,3,FALSE())","v":4},"SC","Competición",{"$f":"VLOOKUP(C6,Referencias!$B$24:$C$40,2,FALSE())","v":"V"}]
["0341336","Rodríguez-Murcia, Manuel José","C. Valenciana","C",{"$f":"VLOOKUP(G7,Referencias!$C$4:$D$21,2,FALSE())","v":"Sin Categoría"},{"$f":"VLOOKUP(G7,Referencias!$C$4:$E$21,3,FALSE())","v":4},"SC","Competición",{"$f":"VLOOKUP(C7,Referencias!$B$24:$C$40,2,FALSE())","v":"V"}]
["0341366","Maestre Navarro, María Mercedes","C. Valenciana","D",{"$f":"VLOOKUP(G8,Referencias!$C$4:$D$21,2,FALSE())","v":"Tercera Diamante"},{"$f":"VLOOKUP(G8,Referencias!$C$4:$E$21,3,FALSE())","v":3},"3D","Competición",{"$f":"VLOOKUP(C8,Referencias!$B$24:$C$40,2,FALSE())","v":"V"}]
["0341385","Gallego Aura, María José","C. Valenciana","D",{"$f":"VLOOKUP(G9,Referencias!$C$4:$D$21,2,FALSE())","v":"Tercera Corazón"},{"$f":"VLOOKUP(G9,Referencias!$C$4:$E$21,3,FALSE())","v":3},"3C","Competición",{"$f":"VLOOKUP(C9,Referencias!$B$24:$C$40,2,FALSE())","v":"V"}]
["0341603","Abadía Torregrosa, Pilar","C. Valenciana","D",{"$f":"VLOOKUP(G10,Referencias!$C$4:$D$21,2,FALSE())","v":"Tercera Diamante"},{"$f":"VLOOKUP(G10,Referencias!$C$4:$E$21,3,FALSE())","v":3},"3D","Competición",{"$f":"VLOOKUP(C10,Referencias!$B$24:$C$40,2,FALSE())","v":"V"}]
["0341654","Cañada del Pino, María Concepción","C. Valenciana","D",{"$f":"VLOOKUP(G11,Referencias!$C$4:$D$21,2,FALSE())","v":"Sin Categoría"},{"$f":"VLOOKUP(G11,Referencias!$C$4:$E$21,3,FALSE())","v":4},"SC","Competición",{"$f":"VLOOKUP(C11,Referencias!$B$24:$C$40,2,FALSE())","v":"V"}]
["0341663","Peñalba Tena, Encarna","C. Valenciana","D",{"$f":"VLOOKUP(G12,Referencias!$C$4:$D$21,2,FALSE())","v":"Tercera Picas"},{"$f":"VLOOKUP(G12,Referencias!$C$4:$E$21,3,FALSE())","v":3},"3P","Competición",{"$f":"VLOOKUP(C12,Referencias!$B$24:$C$40,2,FALSE())","v":"V"}]
["0341748","Van de Voorde, Christian","C. Valenciana","C",{"$f":"VLOOKUP(G13,Referencias!$C$4:$D$21,2,FALSE())","v":"Sin Categoría"},{"$f":"VLOOKUP(G13,Referencias!$C$4:$E$21,3,FALSE())","v":4},"SC","Competición",{"$f":"VLOOKUP(C13,Referencias!$B$24:$C$40,2,FALSE())","v":"V"}]
["0341757","Gala Pérez, Elena","C. Valenciana","D",{"$f":"VLOOKUP(G14,Referencias!$C$4:$D$21,2,FALSE())","v":"Sin Categoría"},{"$f":"VLOOKUP(G14,Referencias!$C$4:$E$21,3,FALSE())","v":4},"SC","Competición",{"$f":"VLOOKUP(C14,Referencias!$B$24:$C$40,2,FALSE())","v":"V"}]
["0341758","Hernández García, Inmaculada","C. Valenciana","D",{"$f":"VLOOKUP(G15,Referencias!$C$4:$D$21,2,FALSE())","v":"Tercera Diamante"},{"$f":"VLOOKUP(G15,Referencias!$C$4:$E$21,3,FALSE())","v":3},"3D","Competición",{"$f":"VLOOKUP(C15,Referencias!$B$24:$C$40,2,FALSE())","v":"V"}]
["0341759","Álvarez Fernández, María Margarita","C. Valenciana","D",{"$f":"VLOOKUP(G16,Referencias!$C$4:$D$21,2,FALSE())","v":"Sin Categoría"},{"$f":"VLOOKUP(G16,Referencias!$C$4:$E$21,3,FALSE())","v":4},"SC","Competición",{"$f":"VLOOKUP(C16,Referencias!$B$24:$C$40,2,FALSE())","v":"V"}]
["0341760","Ruiz Ortuño, Virtudes","C. Valenciana","D",{"$f":"VLOOKUP(G17,Referencias!$C$4:$D$21,2,FALSE())","v":"Sin Categoría"},{"$f":"VLOOKUP(G17,Referencias!$C$4:$E$21,3,FALSE())","v":4},"SC","Competición",{"$f":"VLOOKUP(C17,Referencias!$B$24:$C$40,2,FALSE())","v":"V"}]
["0341761","Ripoll Linares, Adelina","C. Valenciana","D",{"$f":"VLOOKUP(G18,Referencias!$C$4:$D$21,2,FALSE())","v":"Tercera Picas"},{"$f":"VLOOKUP(G18,Referencias!$C$4:$E$21,3,FALSE())","v":3},"3P","Competición",{"$f":"VLOOKUP(C18,Referencias!$B$24:$C$40,2,FALSE())","v":"V"}]
["0341762","Madrid San Martín, Ana","C. Valenciana","D",{"$f":"VLOOKUP(G19,Referencias!$C$4:$D$21,2,FALSE())","v":"Tercera Diamante"},{"$f":"VLOOKUP(G19,Referencias!$C$4:$E$21,3,FALSE())","v":3},"3D","Competición",{"$f":"VLOOKUP(C19,Referencias!$B$24:$C$40,2,FALSE())","v":"V"}]
["0341763","Cuenca Martínez, Nieves","C. Valenciana","D",{"$f":"VLOOKUP(G20,Referencias!$C$4:$D$21,2,FALSE())","v":"Tercera Diamante"},{"$f":"VLOOKUP(G20,Referencias!$C$4:$E$21,3,FALSE())","v":3},"3D","Competición",{"$f":"VLOOKUP(C20,Referencias!$B$24:$C$40,2,FALSE())","v":"V"}]
["0341764","Cortes Aracil, Sara","C. Valenciana","D",{"$f":"VLOOKUP(G21,Referencias!$C$4:$D$21,2,FALSE())","v":"Sin Categoría"},{"$f":"VLOOKUP(G21,Referencias!$C$4:$E$21,3,FALSE())","v":4},"SC","Competición",{"$f":"VLOOKUP(C21,Referencias!$B$24:$C$40,2,FALSE())","v":"V"}]
["0341765","Dols Abellán, María Gracia","C. Valenciana","D",{"$f":"VLOOKUP(G22,Referencias!$C$4:$D$21,2,FALSE())","v":"Sin Categoría"},{"$f":"VLOOKUP(G22,Referencias!$C$4:$E$21,3,FALSE())","v":4},"SC","Competición",{"$f":"VLOOKUP(C22,Referencias!$B$24:$C$40,2,FALSE())","v":"V"}]
["0341766","Barceló Bonet, Pilar","C. Valenciana","D",{"$f":"VLOOKUP(G23,Referencias!$C$4:$D$21,2,FALSE())","v":"Tercera Diamante"},{"$f":"VLOOKUP(G23,Referencias!$C$4:$E$21,3,FALSE())","v":3},"3D","Competición",{"$f":"VLOOKUP(C23,Referencias!$B$24:$C$40,2,FALSE())","v":"V"}]
["0341767","Belmonte Lon, María Teresa","C. Valenciana","D",{"$f":"VLOOKUP(G24,Referencias!$C$4:$D$21,2,FALSE())","v":"Tercera Corazón"},{"$f":"VLOOKUP(G24,Referencias!$C$4:$E$21,3,FALSE())","v":3},"3C","Competición",{"$f":"VLOOKUP(C24,Referencias!$B$24:$C$40,2,FALSE())","v":"V"}]
["0341768","Cremades Sirvent, Ana","C. Valenciana","D",{"$f":"VLOOKUP(G25,Referencias!$C$4:$D$21,2,FALSE())","v":"Tercera Diamante"},{"$f":"VLOOKUP(G25,Referencias!$C$4:$E$21,3,FALSE())","v":3},"3D","Competición",{"$f":"VLOOKUP(C25,Referencias!$B$24:$C$40,2,FALSE())","v":"V"}]
["0341769","Jurado García, María Carmen","C. Valenciana","D",{"$f":"VLOOKUP(G26,Referencias!$C$4:$D$21,2,FALSE())","v":"Tercera Diamante"},{"$f":"VLOOKUP(G26,Referencias!$C$4:$E$21,3,FALSE())","v":3},"3D","Competición",{"$f":"VLOOKUP(C26,Referencias!$B$24:$C$40,2,FALSE())","v":"V"}]
["0341770","Candela Martínez, María Concepción","C. Valenciana","D",{"$f":"VLOOKUP(G27,Referencias!$C$4:$D$21,2,FALSE())","v":"Sin Categoría"},{"$f":"VLOOKUP(G27,Referencias!$C$4:$E$21,3,FALSE())","v":4},"SC","Competición",{"$f":"VLOOKUP(C27,Referencias!$B$24:$C$40,2,FALSE())","v":"V"}]
["0341771","Reyes Wajsman, Aixa","C. Valenciana","D",{"$f":"VLOOKUP(G28,Referencias!$C$4:$D$21,2,FALSE())","v":"Tercera Picas"},{"$f":"VLOOKUP(G28,Referencias!$C$4:$E$21,3,FALSE())","v":3},"3P","Competición",{"$f":"VLOOKUP(C28,Referencias!$B$24:$C$40,2,FALSE())","v":"V"}]
["0341791","García Ivañez, Adelia","C. Valenciana","D",{"$f":"VLOOKUP(G29,Referencias!$C$4:$D$21,2,FALSE())","v":"Tercera Diamante"},{"$f":"VLOOKUP(G29,Referencias!$C$4:$E$21,3,FALSE())","v":3},"3D","Competición",{"$f":"VLOOKUP(C29,Referencias!$B$24:$C$40,2,FALSE())","v":"V"}]
["0341798","Hesedenz, Mathilda","C. Valenciana","D",{"$f":"VLOOKUP(G30,Referencias!$C$4:$D$21,2,FALSE())","v":"Sin Categoría"},{"$f":"VLOOKUP(G30,Referencias!$C$4:$E$21,3,FALSE())","v":4},"SC","Competición",{"$f":"VLOOKUP(C30,Referencias!$B$24:$C$40,2,FALSE())","v":"V"}]
["0341803","Faura Giner, Clara","C. Valenciana","D",{"$f":"VLOOKUP(G31,Referencias!$C$4:$D$21,2,FALSE())","v":"Sin Categoría"},{"$f":"VLOOKUP(G31,Referencias!$C$4:$E$21,3,FALSE())","v":4},"SC","Competición",{"$f":"VLOOKUP(C31,Referencias!$B$24:$C$40,2,FALSE())","v":"V"}]
["0341804","Manero Soler, Herminia","C. Valenciana","D",{"$f":"VLOOKUP(G32,Referencias!$C$4:$D$21,2,FALSE())","v":"Sin Categoría"},{"$f":"VLOOKUP(G32,Referencias!$C$4:$E$21,3,FALSE())","v":4},"SC","Competición",{"$f":"VLOOKUP(C32,Referencias!$B$24:$C$40,2,FALSE())","v":"V"}]
["0341805","Ribelles Nicolás, Eva","C. Valenciana","D",{"$f":"VLOOKUP(G33,Referencias!$C$4:$D$21,2,FALSE())","v":"Sin Categoría"},{"$f":"VLOOKUP(G33,Referencias!$C$4:$E$21,3,FALSE())","v":4},"SC","Competición",{"$f":"VLOOKUP(C33,Referencias!$B$24:$C$40,2,FALSE())","v":"V"}]
["0341842","Parera Camprecios, Magdalena","C. Valenciana","D",{"$f":"VLOOKUP(G34,Referencias!$C$4:$D$21,2,FALSE())","v":"Sin Categoría"},{"$f":"VLOOKUP(G34,Referencias!$C$4:$E$21,3,FALSE())","v":4},"SC","Competición",{"$f":"VLOOKUP(C34,Referencias!$B$24:$C$40,2,FALSE())","v":"V"}]
["0341869","Mayodormo Fuentes, Isabel","C. Valenciana","D",{"$f":"VLOOKUP(G35,Referencias!$C$4:$D$21,2,FALSE())","v":"Tercera Diamante"},{"$f":"VLOOKUP(G35,Referencias!$C$4:$E$21,3,FALSE())","v":3},"3D","Competición",{"$f":"VLOOKUP(C35,Referencias!$B$24:$C$40,2,FALSE())","v":"V"}]
["0341875","Álvarez Mendoza, Virginia","C. Valenciana","D",{"$f":"VLOOKUP(G36,Referencias!$C$4:$D$21,2,FALSE())","v":"Sin Categoría"},{"$f":"VLOOKUP(G36,Referencias!$C$4:$E$21,3,FALSE())","v":4},"SC","Competición",{"$f":"VLOOKUP(C36,Referencias!$B$24:$C$40,2,FALSE())","v":"V"}]
["0341878","Ripoll Sánchez, Josefa","C. Valenciana","D",{"$f":"VLOOKUP(G37,Referencias!$C$4:$D$21,2,FALSE())","v":"Sin Categoría"},{"$f":"VLOOKUP(G37,Referencias!$C$4:$E$21,3,FALSE())","v":4},"SC","Competición",{"$f":"VLOOKUP(C37,Referencias!$B$24:$C$40,2,FALSE())","v":"V"}]
["0341879","Molto Aguado, Isabel","C. Valenciana","D",{"$f":"VLOOKUP(G38,Referencias!$C$4:$D$21,2,FALSE())","v":"Tercera Diamante"},{"$f":"VLOOKUP(G38,Referencias!$C$4:$E$21,3,FALSE())","v":3},"3D","Competición",{"$f":"VLOOKUP(C38,Referencias!$B$24:$C$40,2,FALSE())","v":"V"}]
["0341880","García Cuartero, Ángeles","C. Valenciana","D",{"$f":"VLOOKUP(G39,Referencias!$C$4:$D$21,2,FALSE())","v":"Tercera Diamante"},{"$f":"VLOOKUP(G39,Referencias!$C$4:$E$21,3,FALSE())","v":3},"3D","Competición",{"$f":"VLOOKUP(C39,Referencias!$B$24:$C$40,2,FALSE())","v":"V"}]
["0341881","Romero Gómez, María Jesús","C. Valenciana","D",{"$f":"VLOOKUP(G40,Referencias!$C$4:$D$21,2,FALSE())","v":"Tercera Diamante"},{"$f":"VLOOKUP(G40,Referencias!$C$4:$E$21,3,FALSE())","v":3},"3D","Competición",{"$f":"VLOOKUP(C40,Referencias!$B$24:$C$40,2,FALSE())","v":"V"}]
["0341882","Carrillo Llorente, Marilo","C. Valenciana","D",{"$f":"VLOOKUP(G41,Referencias!$C$4:$D$21,2,FALSE())","v":"Tercera Diamante"},{"$f":"VLOOKUP(G41,Referencias!$C$4:$E$21,3,FALSE())","v":3},"3D","Competición",{"$f":"VLOOKUP(C41,Referencias!$B$24:$C$40,2,FALSE())","v":"V"}]
["0341883","Rodenas Flores, María Angeles","C. Valenciana","D",{"$f":"VLOOKUP(G42,Referencias!$C$4:$D$21,2,FALSE())","v":"Tercera Diamante"},{"$f":"VLOOKUP(G42,Referencias!$C$4:$E$21,3,FALSE())","v":3},"3D","Competición",{"$f":"VLOOKUP(C42,Referencias!$B$24:$C$40,2,FALSE())","v":"V"}]
["0341899","Ciriza Lamigueiro, Magdalena","C. Valenciana","D",{"$f":"VLOOKUP(G43,Referencias!$C$4:$D$21,2,FALSE())","v":"Tercera Diamante"},{"$f":"VLOOKUP(G43,Referencias!$C$4:$E$21,3,FALSE())","v":3},"3D","Competición",{"$f":"VLOOKUP(C43,Referencias!$B$24:$C$40,2,FALSE())","v":"V"}]
["0341900","Andruszkiewicz, Eric","C. Valenciana","C",{"$f":"VLOOKUP(G44,Referencias!$C$4:$D$21,2,FALSE())","v":"Sin Categoría"},{"$f":"VLOOKUP(G44,Referencias!$C$4:$E$21,3,FALSE())","v":4},"SC","Competición",{"$f":"VLOOKUP(C44,Referencias!$B$24:$C$40,2,FALSE())","v":"V"}]
["0341901","Martínez Cuevas, María del Carmen","C. Valenciana","D",{"$f":"VLOOKUP(G45,Referencias!$C$4:$D$21,2,FALSE())","v":"Tercera Diamante"},{"$f":"VLOOKUP(G45,Referencias!$C$4:$E$21,3,FALSE())","v":3},"3D","Competición",{"$f":"VLOOKUP(C45,Referencias!$B$24:$C$40,2,FALSE())","v":"V"}]
["0341903","Paya Mas, María Aurora","C. Valenciana","D",{"$f":"VLOOKUP(G46,Referencias!$C$4:$D$21,2,FALSE())","v":"Sin Categoría"},{"$f":"VLOOKUP(G46,Referencias!$C$4:$E$21,3,FALSE())","v":4},"SC","Competición",{"$f":"VLOOKUP(C46,Referencias!$B$24:$C$40,2,FALSE())","v":"V"}]
["0341904","Guerras Soriano, José Carlos","C. Valenciana","C",{"$f":"VLOOKUP(G47,Referencias!$C$4:$D$21,2,FALSE())","v":"Sin Categoría"},{"$f":"VLOOKUP(G47,Referencias!$C$4:$E$21,3,FALSE())","v":4},"SC","Competición",{"$f":"VLOOKUP(C47,Referencias!$B$24:$C$40,2,FALSE())","v":"V"}]
["0341905","Giménez Esplá, María del Carmen","C. Valenciana","D",{"$f":"VLOOKUP(G48,Referencias!$C$4:$D$21,2,FALSE())","v":"Tercera Diamante"},{"$f":"VLOOKUP(G48,Referencias!$C$4:$E$21,3,FALSE())","v":3},"3D","Competición",{"$f":"VLOOKUP(C48,Referencias!$B$24:$C$40,2,FALSE())","v":"V"}]
["0341906","Mazón Calpena, Adelina","C. Valenciana","D",{"$f":"VLOOKUP(G49,Referencias!$C$4:$D$21,2,FALSE())","v":"Sin Categoría"},{"$f":"VLOOKUP(G49,Referencias!$C$4:$E$21,3,FALSE())","v":4},"SC","Competición",{"$f":"VLOOKUP(C49,Referencias!$B$24:$C$40,2,FALSE())","v":"V"}]
["0341907","Nomdedeu Bertomeu, Marina","C. Valenciana","D",{"$f":"VLOOKUP(G50,Referencias!$C$4:$D$21,2,FALSE())","v":"Sin Categoría"},{"$f":"VLOOKUP(G50,Referencias!$C$4:$E$21,3,FALSE())","v":4},"SC","Competición",{"$f":"VLOOKUP(C50,Referencias!$B$24:$C$40,2,FALSE())","v":"V"}]
["0341908","Álvarez de Toledo, Genoveva","C. Valenciana","D",{"$f":"VLOOKUP(G51,Referencias!$C$4:$D$21,2,FALSE())","v":"Sin Categoría"},{"$f":"VLOOKUP(G51,Referencias!$C$4:$E$21,3,FALSE())","v":4},"SC","Competición",{"$f":"VLOOKUP(C51,Referencias!$B$24:$C$40,2,FALSE())","v":"V"}]
["0341909","Igea Gil, María Rosario","C. Valenciana","D",{"$f":"VLOOKUP(G52,Referencias!$C$4:$D$21,2,FALSE())","v":"Sin Categoría"},{"$f":"VLOOKUP(G52,Referencias!$C$4:$E$21,3,FALSE())","v":4},"SC","Competición",{"$f":"VLOOKUP(C52,Referencias!$B$24:$C$40,2,FALSE())","v":"V"}]
["0341914","Jiménez Moya Angeler, Carlos","C. Valenciana","C",{"$f":"VLOOKUP(G53,Referencias!$C$4:$D$21,2,FALSE())","v":"Sin Categoría"},{"$f":"VLOOKUP(G53,Referencias!$C$4:$E$21,3,FALSE())","v":4},"SC","Competición",{"$f":"VLOOKUP(C53,Referencias!$B$24:$C$40,2,FALSE())","v":"V"}]
["0341924","Vargas Hergueta, Isabel","C. Valenciana","D",{"$f":"VLOOKUP(G54,Referencias!$C$4:$D$21,2,FALSE())","v":"Tercera Diamante"},{"$f":"VLOOKUP(G54,Referencias!$C$4:$E$21,3,FALSE())","v":3},"3D","Competición",{"$f":"VLOOKUP(C54,Referencias!$B$24:$C$40,2,FALSE())","v":"V"}]
["0341925","Lafaye del Valle, Francoise","C. Valenciana","D",{"$f":"VLOOKUP(G55,Referencias!$C$4:$D$21,2,FALSE())","v":"Sin Categoría"},{"$f":"VLOOKUP(G55,Referencias!$C$4:$E$21,3,FALSE())","v":4},"SC","Competición",{"$f":"VLOOKUP(C55,Referencias!$B$24:$C$40,2,FALSE())","v":"V"}]
["0341930","Olaso Masquefa, María Jesús","C. Valenciana","D",{"$f":"VLOOKUP(G56,Referencias!$C$4:$D$21,2,FALSE())","v":"Tercera Diamante"},{"$f":"VLOOKUP(G56,Referencias!$C$4:$E$21,3,FALSE())","v":3},"3D","Competición",{"$f":"VLOOKUP(C56,Referencias!$B$24:$C$40,2,FALSE())","v":"V"}]
["0341933","Cruz González, Candy","C. Valenciana","D",{"$f":"VLOOKUP(G57,Referencias!$C$4:$D$21,2,FALSE())","v":"Tercera Diamante"},{"$f":"VLOOKUP(G57,Referencias!$C$4:$E$21,3,FALSE())","v":3},"3D","Competición",{"$f":"VLOOKUP(C57,Referencias!$B$24:$C$40,2,FALSE())","v":"V"}]
["0341934","Vidal Espi, Virginia","C. Valenciana","D",{"$f":"VLOOKUP(G58,Referencias!$C$4:$D$21,2,FALSE())","v":"Tercera Diamante"},{"$f":"VLOOKUP(G58,Referencias!$C$4:$E$21,3,FALSE())","v":3},"3D","Competición",{"$f":"VLOOKUP(C58,Referencias!$B$24:$C$40,2,FALSE())","v":"V"}]
["0341935","Jurado Arines, Ricardo","C. Valenciana","C",{"$f":"VLOOKUP(G59,Referencias!$C$4:$D$21,2,FALSE())","v":"Sin Categoría"},{"$f":"VLOOKUP(G59,Referencias!$C$4:$E$21,3,FALSE())","v":4},"SC","Competición",{"$f":"VLOOKUP(C59,Referencias!$B$24:$C$40,2,FALSE())","v":"V"}]
["0341937","Ayús Rojo, Blanca - Esther","C. Valenciana","D",{"$f":"VLOOKUP(G60,Referencias!$C$4:$D$21,2,FALSE())","v":"Tercera Diamante"},{"$f":"VLOOKUP(G60,Referencias!$C$4:$E$21,3,FALSE())","v":3},"3D","Competición",{"$f":"VLOOKUP(C60,Referencias!$B$24:$C$40,2,FALSE())","v":"V"}]
["0341938","Fernández Slaatten, Margarita","C. Valenciana","D",{"$f":"VLOOKUP(G61,Referencias!$C$4:$D$21,2,FALSE())","v":"Tercera Diamante"},{"$f":"VLOOKUP(G61,Referencias!$C$4:$E$21,3,FALSE())","v":3},"3D","Competición",{"$f":"VLOOKUP(C61,Referencias!$B$24:$C$40,2,FALSE())","v":"V"}]
["0341939","Gómez Bono, María Rosario","C. Valenciana","D",{"$f":"VLOOKUP(G62,Referencias!$C$4:$D$21,2,FALSE())","v":"Sin Categoría"},{"$f":"VLOOKUP(G62,Referencias!$C$4:$E$21,3,FALSE())","v":4},"SC","Competición",{"$f":"VLOOKUP(C62,Referencias!$B$24:$C$40,2,FALSE())","v":"V"}]
["0341942","Cantau Duluc, Joëlle","C. Valenciana","D",{"$f":"VLOOKUP(G63,Referencias!$C$4:$D$21,2,FALSE())","v":"Sin Categoría"},{"$f":"VLOOKUP(G63,Referencias!$C$4:$E$21,3,FALSE())","v":4},"SC","Competición",{"$f":"VLOOKUP(C63,Referencias!$B$24:$C$40,2,FALSE())","v":"V"}]
["0341943","Soriano Zapata, Laura ","C. Valenciana","D",{"$f":"VLOOKUP(G64,Referencias!$C$4:$D$21,2,FALSE())","v":"Sin Categoría"},{"$f":"VLOOKUP(G64,Referencias!$C$4:$E$21,3,FALSE())","v":4},"SC","Competición",{"$f":"VLOOKUP(C64,Referencias!$B$24:$C$40,2,FALSE())","v":"V"}]
["0341949","de la Muela Rodríguez, María del Socorro","C. Valenciana","D",{"$f":"VLOOKUP(G65,Referencias!$C$4:$D$21,2,FALSE())","v":"Tercera Diamante"},{"$f":"VLOOKUP(G65,Referencias!$C$4:$E$21,3,FALSE())","v":3},"3D","Honorífica",{"$f":"VLOOKUP(C65,Referencias!$B$24:$C$40,2,FALSE())","v":"V"}]
["0341950","Bayle Bastos, Francisca","C. Valenciana","D",{"$f":"VLOOKUP(G66,Referencias!$C$4:$D$21,2,FALSE())","v":"Tercera Diamante"},{"$f":"VLOOKUP(G66,Referencias!$C$4:$E$21,3,FALSE())","v":3},"3D","Competición",{"$f":"VLOOKUP(C66,Referencias!$B$24:$C$40,2,FALSE())","v":"V"}]
["0341951","Hernández Rodríguez , Ángela ","C. Valenciana","D",{"$f":"VLOOKUP(G67,Referencias!$C$4:$D$21,2,FALSE())","v":"Tercera Diamante"},{"$f":"VLOOKUP(G67,Referencias!$C$4:$E$21,3,FALSE())","v":3},"3D","Competición",{"$f":"VLOOKUP(C67,Referencias!$B$24:$C$40,2,FALSE())","v":"V"}]
["0341952","Blázquez Martínez, María Teresa","C. Valenciana","D",{"$f":"VLOOKUP(G68,Referencias!$C$4:$D$21,2,FALSE())","v":"Tercera Diamante"},{"$f":"VLOOKUP(G68,Referencias!$C$4:$E$21,3,FALSE())","v":3},"3D","Competición",{"$f":"VLOOKUP(C68,Referencias!$B$24:$C$40,2,FALSE())","v":"V"}]
["0341953","Combescure, Emma","C. Valenciana","D",{"$f":"VLOOKUP(G69,Referencias!$C$4:$D$21,2,FALSE())","v":"Primera Picas"},{"$f":"VLOOKUP(G69,Referencias!$C$4:$E$21,3,FALSE())","v":1},"1P","Competición",{"$f":"VLOOKUP(C69,Referencias!$B$24:$C$40,2,FALSE())","v":"V"}]
["0341955","Marinosson, Sveinn","C. Valenciana","C",{"$f":"VLOOKUP(G70,Referencias!$C$4:$D$21,2,FALSE())","v":"Sin Categoría"},{"$f":"VLOOKUP(G70,Referencias!$C$4:$E$21,3,FALSE())","v":4},"SC","Competición",{"$f":"VLOOKUP(C70,Referencias!$B$24:$C$40,2,FALSE())","v":"V"}]
["0341956","Reynisdóttir, Rebekka ","C. Valenciana","D",{"$f":"VLOOKUP(G71,Referencias!$C$4:$D$21,2,FALSE())","v":"Sin Categoría"},{"$f":"VLOOKUP(G71,Referencias!$C$4:$E$21,3,FALSE())","v":4},"SC","Competición",{"$f":"VLOOKUP(C71,Referencias!$B$24:$C$40,2,FALSE())","v":"V"}]
["0341958","Combescure, François","C. Valenciana","C",{"$f":"VLOOKUP(G72,Referencias!$C$4:$D$21,2,FALSE())","v":"Maestro Mundial Open"},{"$f":"VLOOKUP(G72,Referencias!$C$4:$E$21,3,FALSE())","v":0},"MM-O","Competición",{"$f":"VLOOKUP(C72,Referencias!$B$24:$C$40,2,FALSE())","v":"V"}]
["0341960","Casero Peleteiro, Mayte","C. Valenciana","D",{"$f":"VLOOKUP(G73,Referencias!$C$4:$D$21,2,FALSE())","v":"Tercera Diamante"},{"$f":"VLOOKUP(G73,Referencias!$C$4:$E$21,3,FALSE())","v":3},"3D","Competición",{"$f":"VLOOKUP(C73,Referencias!$B$24:$C$40,2,FALSE())","v":"V"}]
["0341961","Garach Aguado, María Isabel ","C. Valenciana","D",{"$f":"VLOOKUP(G74,Referencias!$C$4:$D$21,2,FALSE())","v":"Tercera Diamante"},{"$f":"VLOOKUP(G74,Referencias!$C$4:$E$21,3,FALSE())","v":3},"3D","Competición",{"$f":"VLOOKUP(C74,Referencias!$B$24:$C$40,2,FALSE())","v":"V"}]
["0341962","Cardona Martín, Angeles","C. Valenciana","D",{"$f":"VLOOKUP(G75,Referencias!$C$4:$D$21,2,FALSE())","v":"Tercera Diamante"},{"$f":"VLOOKUP(G75,Referencias!$C$4:$E$21,3,FALSE())","v":3},"3D","Competición",{"$f":"VLOOKUP(C75,Referencias!$B$24:$C$40,2,FALSE())","v":"V"}]
["0341963","Sileike, Valentina","C. Valenciana","D",{"$f":"VLOOKUP(G76,Referencias!$C$4:$D$21,2,FALSE())","v":"Tercera Diamante"},{"$f":"VLOOKUP(G76,Referencias!$C$4:$E$21,3,FALSE())","v":3},"3D","Competición",{"$f":"VLOOKUP(C76,Referencias!$B$24:$C$40,2,FALSE())","v":"V"}]
["0341964","Nursipatova, Aliya","C. Valenciana","D",{"$f":"VLOOKUP(G77,Referencias!$C$4:$D$21,2,FALSE())","v":"Tercera Diamante"},{"$f":"VLOOKUP(G77,Referencias!$C$4:$E$21,3,FALSE())","v":3},"3D","Competición",{"$f":"VLOOKUP(C77,Referencias!$B$24:$C$40,2,FALSE())","v":"V"}]
["0341965","Mena Aguado, María Teresa","C. Valenciana","D",{"$f":"VLOOKUP(G78,Referencias!$C$4:$D$21,2,FALSE())","v":"Sin Categoría"},{"$f":"VLOOKUP(G78,Referencias!$C$4:$E$21,3,FALSE())","v":4},"SC","Competición",{"$f":"VLOOKUP(C78,Referencias!$B$24:$C$40,2,FALSE())","v":"V"}]
["0346403","Van Eck, Kees","C. Valenciana","C",{"$f":"VLOOKUP(G79,Referencias!$C$4:$D$21,2,FALSE())","v":"Sin Categoría"},{"$f":"VLOOKUP(G79,Referencias!$C$4:$E$21,3,FALSE())","v":4},"SC","Competición",{"$f":"VLOOKUP(C79,Referencias!$B$24:$C$40,2,FALSE())","v":"V"}]
["0346418","Arboli Ayala, Francisca","C. Valenciana","D",{"$f":"VLOOKUP(G80,Referencias!$C$4:$D$21,2,FALSE())","v":"Tercera Picas"},{"$f":"VLOOKUP(G80,Referencias!$C$4:$E$21,3,FALSE())","v":3},"3P","Competición",{"$f":"VLOOKUP(C80,Referencias!$B$24:$C$40,2,FALSE())","v":"V"}]
["0346420","Arrizabalaga Echave, María Jesús","C. Valenciana","D",{"$f":"VLOOKUP(G81,Referencias!$C$4:$D$21,2,FALSE())","v":"Sin Categoría"},{"$f":"VLOOKUP(G81,Referencias!$C$4:$E$21,3,FALSE())","v":4},"SC","Competición",{"$f":"VLOOKUP(C81,Referencias!$B$24:$C$40,2,FALSE())","v":"V"}]
["0703011","Marqués Cardell, Catalina","Balear","D",{"$f":"VLOOKUP(G82,Referencias!$C$4:$D$21,2,FALSE())","v":"Tercera Picas"},{"$f":"VLOOKUP(G82,Referencias!$C$4:$E$21,3,FALSE())","v":3},"3P","Competición",{"$f":"VLOOKUP(C82,Referencias!$B$24:$C$40,2,FALSE())","v":"IB"}]
["0703018","Seguí Colom, Magdalena","Balear","D",{"$f":"VLOOKUP(G83,Referencias!$C$4:$D$21,2,FALSE())","v":"Sin Categoría"},{"$f":"VLOOKUP(G83,Referencias!$C$4:$E$21,3,FALSE())","v":4},"SC","Competición",{"$f":"VLOOKUP(C83,Referencias!$B$24:$C$40,2,FALSE())","v":"IB"}]
["0703022","Casasnovas Siquier, Juana","Balear","D",{"$f":"VLOOKUP(G84,Referencias!$C$4:$D$21,2,FALSE())","v":"Tercera Corazón"},{"$f":"VLOOKUP(G84,Referencias!$C$4:$E$21,3,FALSE())","v":3},"3C","Competición",{"$f":"VLOOKUP(C84,Referencias!$B$24:$C$40,2,FALSE())","v":"IB"}]
["0703024","Hjorngaard, Bodil","Balear","D",{"$f":"VLOOKUP(G85,Referencias!$C$4:$D$21,2,FALSE())","v":"Segunda Diamante"},{"$f":"VLOOKUP(G85,Referencias!$C$4:$E$21,3,FALSE())","v":2},"2D","Competición",{"$f":"VLOOKUP(C85,Referencias!$B$24:$C$40,2,FALSE())","v":"IB"}]
["0703046","Juan de Sentmenat, Marta","Balear","D",{"$f":"VLOOKUP(G86,Referencias!$C$4:$D$21,2,FALSE())","v":"Tercera Picas"},{"$f":"VLOOKUP(G86,Referencias!$C$4:$E$21,3,FALSE())","v":3},"3P","Competición",{"$f":"VLOOKUP(C86,Referencias!$B$24:$C$40,2,FALSE())","v":"IB"}]
["0703059","Vergara Benedetti, Annabelle","Balear","D",{"$f":"VLOOKUP(G87,Referencias!$C$4:$D$21,2,FALSE())","v":"Segunda Diamante"},{"$f":"VLOOKUP(G87,Referencias!$C$4:$E$21,3,FALSE())","v":2},"2D","Competición",{"$f":"VLOOKUP(C87,Referencias!$B$24:$C$40,2,FALSE())","v":"IB"}]
["0703065","Vila Mas, Magdalena","Balear","D",{"$f":"VLOOKUP(G88,Referencias!$C$4:$D$21,2,FALSE())","v":"Segunda Picas"},{"$f":"VLOOKUP(G88,Referencias!$C$4:$E$21,3,FALSE())","v":2},"2P","Competición",{"$f":"VLOOKUP(C88,Referencias!$B$24:$C$40,2,FALSE())","v":"IB"}]
["0703066","Llinás Gonzaga, Catalina","Balear","D",{"$f":"VLOOKUP(G89,Referencias!$C$4:$D$21,2,FALSE())","v":"Tercera Corazón"},{"$f":"VLOOKUP(G89,Referencias!$C$4:$E$21,3,FALSE())","v":3},"3C","Competición",{"$f":"VLOOKUP(C89,Referencias!$B$24:$C$40,2,FALSE())","v":"IB"}]
["0703073","Sabaté Beltrán, Yvonne","Balear","D",{"$f":"VLOOKUP(G90,Referencias!$C$4:$D$21,2,FALSE())","v":"Segunda Diamante"},{"$f":"VLOOKUP(G90,Referencias!$C$4:$E$21,3,FALSE())","v":2},"2D","Competición",{"$f":"VLOOKUP(C90,Referencias!$B$24:$C$40,2,FALSE())","v":"IB"}]
["0703076","Jaume Muñoz, Carmen","Balear","D",{"$f":"VLOOKUP(G91,Referencias!$C$4:$D$21,2,FALSE())","v":"Tercera Corazón"},{"$f":"VLOOKUP(G91,Referencias!$C$4:$E$21,3,FALSE())","v":3},"3C","Competición",{"$f":"VLOOKUP(C91,Referencias!$B$24:$C$40,2,FALSE())","v":"IB"}]
["0703078","Cuenca Serna, María Teresa","Balear","D",{"$f":"VLOOKUP(G92,Referencias!$C$4:$D$21,2,FALSE())","v":"Segunda Diamante"},{"$f":"VLOOKUP(G92,Referencias!$C$4:$E$21,3,FALSE())","v":2},"2D","Competición",{"$f":"VLOOKUP(C92,Referencias!$B$24:$C$40,2,FALSE())","v":"IB"}]
["0703079","Carmona Jímenez, Antonia","Balear","D",{"$f":"VLOOKUP(G93,Referencias!$C$4:$D$21,2,FALSE())","v":"Sin Categoría"},{"$f":"VLOOKUP(G93,Referencias!$C$4:$E$21,3,FALSE())","v":4},"SC","Competición",{"$f":"VLOOKUP(C93,Referencias!$B$24:$C$40,2,FALSE())","v":"IB"}]
["0703083","Vaquer Colom, Margarita","Balear","D",{"$f":"VLOOKUP(G94,Referencias!$C$4:$D$21,2,FALSE())","v":"Tercera Diamante"},{"$f":"VLOOKUP(G94,Referencias!$C$4:$E$21,3,FALSE())","v":3},"3D","Competición",{"$f":"VLOOKUP(C94,Referencias!$B$24:$C$40,2,FALSE())","v":"IB"}]
["0703085","Alomar Cardell, María Antonia","Balear","D",{"$f":"VLOOKUP(G95,Referencias!$C$4:$D$21,2,FALSE())","v":"Segunda Corazón"},{"$f":"VLOOKUP(G95,Referencias!$C$4:$E$21,3,FALSE())","v":2},"2C","Competición",{"$f":"VLOOKUP(C95,Referencias!$B$24:$C$40,2,FALSE())","v":"IB"}]
["0703086","Vidal Reynes, Araceli","Balear","D",{"$f":"VLOOKUP(G96,Referencias!$C$4:$D$21,2,FALSE())","v":"Tercera Picas"},{"$f":"VLOOKUP(G96,Referencias!$C$4:$E$21,3,FALSE())","v":3},"3P","Competición",{"$f":"VLOOKUP(C96,Referencias!$B$24:$C$40,2,FALSE())","v":"IB"}]
["0703090","Cifuentes, Paloma","Balear","D",{"$f":"VLOOKUP(G97,Referencias!$C$4:$D$21,2,FALSE())","v":"Segunda Diamante"},{"$f":"VLOOKUP(G97,Referencias!$C$4:$E$21,3,FALSE())","v":2},"2D","Competición",{"$f":"VLOOKUP(C97,Referencias!$B$24:$C$40,2,FALSE())","v":"IB"}]
["0703091","Campuzano Casasayas, Paz","Balear","D",{"$f":"VLOOKUP(G98,Referencias!$C$4:$D$21,2,FALSE())","v":"Tercera Corazón"},{"$f":"VLOOKUP(G98,Referencias!$C$4:$E$21,3,FALSE())","v":3},"3C","Competición",{"$f":"VLOOKUP(C98,Referencias!$B$24:$C$40,2,FALSE())","v":"IB"}]
["0703099","Marqués de Oleza, Luis","Balear","C",{"$f":"VLOOKUP(G99,Referencias!$C$4:$D$21,2,FALSE())","v":"Segunda Diamante"},{"$f":"VLOOKUP(G99,Referencias!$C$4:$E$21,3,FALSE())","v":2},"2D","Competición",{"$f":"VLOOKUP(C99,Referencias!$B$24:$C$40,2,FALSE())","v":"IB"}]
["0703100","Soeffker, Heide","Balear","D",{"$f":"VLOOKUP(G100,Referencias!$C$4:$D$21,2,FALSE())","v":"Segunda Picas"},{"$f":"VLOOKUP(G100,Referencias!$C$4:$E$21,3,FALSE())","v":2},"2P","Competición",{"$f":"VLOOKUP(C100,Referencias!$B$24:$C$40,2,FALSE())","v":"IB"}]
["0703102","Segui, Maguy","Balear","D",{"$f":"VLOOKUP(G101,Referencias!$C$4:$D$21,2,FALSE())","v":"Segunda Corazón"},{"$f":"VLOOKUP(G101,Referencias!$C$4:$E$21,3,FALSE())","v":2},"2C","Competición",{"$f":"VLOOKUP(C101,Referencias!$B$24:$C$40,2,FALSE())","v":"IB"}]
["0703104","Varela Puig, Mercedes","Balear","D",{"$f":"VLOOKUP(G102,Referencias!$C$4:$D$21,2,FALSE())","v":"Primera Picas"},{"$f":"VLOOKUP(G102,Referencias!$C$4:$E$21,3,FALSE())","v":1},"1P","Competición",{"$f":"VLOOKUP(C102,Referencias!$B$24:$C$40,2,FALSE())","v":"IB"}]
["0703109","Font Vidal, José María","Balear","C",{"$f":"VLOOKUP(G103,Referencias!$C$4:$D$21,2,FALSE())","v":"Primera Picas"},{"$f":"VLOOKUP(G103,Referencias!$C$4:$E$21,3,FALSE())","v":1},"1P","Competición",{"$f":"VLOOKUP(C103,Referencias!$B$24:$C$40,2,FALSE())","v":"IB"}]
["0703110","Van Noolen, María José","Balear","D",{"$f":"VLOOKUP(G104,Referencias!$C$4:$D$21,2,FALSE())","v":"Segunda Diamante"},{"$f":"VLOOKUP(G104,Referencias!$C$4:$E$21,3,FALSE())","v":2},"2D","Competición",{"$f":"VLOOKUP(C104,Referencias!$B$24:$C$40,2,FALSE())","v":"IB"}]
["0703112","Vidal Jz-Alfaro, Margarita","Balear","D",{"$f":"VLOOKUP(G105,Referencias!$C$4:$D$21,2,FALSE())","v":"Primera Picas"},{"$f":"VLOOKUP(G105,Referencias!$C$4:$E$21,3,FALSE())","v":1},"1P","Competición",{"$f":"VLOOKUP(C105,Referencias!$B$24:$C$40,2,FALSE())","v":"IB"}]
["0703113","Álvarez Merino, María del Pilar","Balear","D",{"$f":"VLOOKUP(G106,Referencias!$C$4:$D$21,2,FALSE())","v":"Primera Diamante"},{"$f":"VLOOKUP(G106,Referencias!$C$4:$E$21,3,FALSE())","v":1},"1D","Competición",{"$f":"VLOOKUP(C106,Referencias!$B$24:$C$40,2,FALSE())","v":"IB"}]
["0703114","Ramis Sans, María","Balear","D",{"$f":"VLOOKUP(G107,Referencias!$C$4:$D$21,2,FALSE())","v":"Tercera Corazón"},{"$f":"VLOOKUP(G107,Referencias!$C$4:$E$21,3,FALSE())","v":3},"3C","Competición",{"$f":"VLOOKUP(C107,Referencias!$B$24:$C$40,2,FALSE())","v":"IB"}]
["0703117","Allessie Van Wel, Wilhelmina Anna","Balear","D",{"$f":"VLOOKUP(G108,Referencias!$C$4:$D$21,2,FALSE())","v":"Sin Categoría"},{"$f":"VLOOKUP(G108,Referencias!$C$4:$E$21,3,FALSE())","v":4},"SC","Competición",{"$f":"VLOOKUP(C108,Referencias!$B$24:$C$40,2,FALSE())","v":"IB"}]
["0703119","Villar Alastrué, Pilar","C. Valenciana","D",{"$f":"VLOOKUP(G109,Referencias!$C$4:$D$21,2,FALSE())","v":"Primera Diamante"},{"$f":"VLOOKUP(G109,Referencias!$C$4:$E$21,3,FALSE())","v":1},"1D","Competición",{"$f":"VLOOKUP(C109,Referencias!$B$24:$C$40,2,FALSE())","v":"V"}]
["0703131","Muller, Annie","Balear","D",{"$f":"VLOOKUP(G110,Referencias!$C$4:$D$21,2,FALSE())","v":"Segunda Diamante"},{"$f":"VLOOKUP(G110,Referencias!$C$4:$E$21,3,FALSE())","v":2},"2D","Competición",{"$f":"VLOOKUP(C110,Referencias!$B$24:$C$40,2,FALSE())","v":"IB"}]
["0703132","Fabré de Balanzó, Fernando","Balear","C",{"$f":"VLOOKUP(G111,Referencias!$C$4:$D$21,2,FALSE())","v":"Sin Categoría"},{"$f":"VLOOKUP(G111,Referencias!$C$4:$E$21,3,FALSE())","v":4},"SC","Competición",{"$f":"VLOOKUP(C111,Referencias!$B$24:$C$40,2,FALSE())","v":"IB"}]
["0703133","Vicens Orell, Catalina","Balear","D",{"$f":"VLOOKUP(G112,Referencias!$C$4:$D$21,2,FALSE())","v":"Tercera Corazón"},{"$f":"VLOOKUP(G112,Referencias!$C$4:$E$21,3,FALSE())","v":3},"3C","Competición",{"$f":"VLOOKUP(C112,Referencias!$B$24:$C$40,2,FALSE())","v":"IB"}]
["0703135","Pou Jaume, Maria Carme","Balear","D",{"$f":"VLOOKUP(G113,Referencias!$C$4:$D$21,2,FALSE())","v":"Sin Categoría"},{"$f":"VLOOKUP(G113,Referencias!$C$4:$E$21,3,FALSE())","v":4},"SC","Competición",{"$f":"VLOOKUP(C113,Referencias!$B$24:$C$40,2,FALSE())","v":"IB"}]
["0703137","Roses Canet, Emilia","Balear","D",{"$f":"VLOOKUP(G114,Referencias!$C$4:$D$21,2,FALSE())","v":"Segunda Picas"},{"$f":"VLOOKUP(G114,Referencias!$C$4:$E$21,3,FALSE())","v":2},"2P","Competición",{"$f":"VLOOKUP(C114,Referencias!$B$24:$C$40,2,FALSE())","v":"IB"}]
["0703140","Van Stuikvenberg, Ildiko","Balear","D",{"$f":"VLOOKUP(G115,Referencias!$C$4:$D$21,2,FALSE())","v":"Segunda Corazón"},{"$f":"VLOOKUP(G115,Referencias!$C$4:$E$21,3,FALSE())","v":2},"2C","Competición",{"$f":"VLOOKUP(C115,Referencias!$B$24:$C$40,2,FALSE())","v":"IB"}]
["0703142","Van Haute, Margot","Balear","D",{"$f":"VLOOKUP(G116,Referencias!$C$4:$D$21,2,FALSE())","v":"Segunda Diamante"},{"$f":"VLOOKUP(G116,Referencias!$C$4:$E$21,3,FALSE())","v":2},"2D","Competición",{"$f":"VLOOKUP(C116,Referencias!$B$24:$C$40,2,FALSE())","v":"IB"}]
["0703143","Gaengl-Ehrenwerth, Astrid","Balear","D",{"$f":"VLOOKUP(G117,Referencias!$C$4:$D$21,2,FALSE())","v":"Primera Corazón"},{"$f":"VLOOKUP(G117,Referencias!$C$4:$E$21,3,FALSE())","v":1},"1C","Competición",{"$f":"VLOOKUP(C117,Referencias!$B$24:$C$40,2,FALSE())","v":"IB"}]
["0703146","Vidal Berga, María Catalina","Balear","D",{"$f":"VLOOKUP(G118,Referencias!$C$4:$D$21,2,FALSE())","v":"Tercera Picas"},{"$f":"VLOOKUP(G118,Referencias!$C$4:$E$21,3,FALSE())","v":3},"3P","Competición",{"$f":"VLOOKUP(C118,Referencias!$B$24:$C$40,2,FALSE())","v":"IB"}]
["0703150","Zoreda de la Rosa, Marta","Balear","D",{"$f":"VLOOKUP(G119,Referencias!$C$4:$D$21,2,FALSE())","v":"Primera Picas"},{"$f":"VLOOKUP(G119,Referencias!$C$4:$E$21,3,FALSE())","v":1},"1P","Competición",{"$f":"VLOOKUP(C119,Referencias!$B$24:$C$40,2,FALSE())","v":"IB"}]
["0703153","Kerstiens, Dorothee","Balear","D",{"$f":"VLOOKUP(G120,Referencias!$C$4:$D$21,2,FALSE())","v":"Tercera Picas"},{"$f":"VLOOKUP(G120,Referencias!$C$4:$E$21,3,FALSE())","v":3},"3P","Competición",{"$f":"VLOOKUP(C120,Referencias!$B$24:$C$40,2,FALSE())","v":"IB"}]
["0703154","Saporta Navarro, Francoise","Balear","D",{"$f":"VLOOKUP(G121,Referencias!$C$4:$D$21,2,FALSE())","v":"Tercera Picas"},{"$f":"VLOOKUP(G121,Referencias!$C$4:$E$21,3,FALSE())","v":3},"3P","Competición",{"$f":"VLOOKUP(C121,Referencias!$B$24:$C$40,2,FALSE())","v":"IB"}]
["0703157","Fernández López, Carmen","Balear","D",{"$f":"VLOOKUP(G122,Referencias!$C$4:$D$21,2,FALSE())","v":"Sin Categoría"},{"$f":"VLOOKUP(G122,Referencias!$C$4:$E$21,3,FALSE())","v":4},"SC","Competición",{"$f":"VLOOKUP(C122,Referencias!$B$24:$C$40,2,FALSE())","v":"IB"}]
["0703158","Marti Ramón, María Antonia","Balear","D",{"$f":"VLOOKUP(G123,Referencias!$C$4:$D$21,2,FALSE())","v":"Tercera Diamante"},{"$f":"VLOOKUP(G123,Referencias!$C$4:$E$21,3,FALSE())","v":3},"3D","Competición",{"$f":"VLOOKUP(C123,Referencias!$B$24:$C$40,2,FALSE())","v":"IB"}]
["0703170","Serrano Lloret, Mª Angeles","Balear","D",{"$f":"VLOOKUP(G124,Referencias!$C$4:$D$21,2,FALSE())","v":"Sin Categoría"},{"$f":"VLOOKUP(G124,Referencias!$C$4:$E$21,3,FALSE())","v":4},"SC","Competición",{"$f":"VLOOKUP(C124,Referencias!$B$24:$C$40,2,FALSE())","v":"IB"}]
["0703172","Simarro Marques, María","Balear","D",{"$f":"VLOOKUP(G125,Referencias!$C$4:$D$21,2,FALSE())","v":"Tercera Diamante"},{"$f":"VLOOKUP(G125,Referencias!$C$4:$E$21,3,FALSE())","v":3},"3D","Competición",{"$f":"VLOOKUP(C125,Referencias!$B$24:$C$40,2,FALSE())","v":"IB"}]
["0703174","Burgos Ballesteros, María Isabel","Balear","D",{"$f":"VLOOKUP(G126,Referencias!$C$4:$D$21,2,FALSE())","v":"Tercera Diamante"},{"$f":"VLOOKUP(G126,Referencias!$C$4:$E$21,3,FALSE())","v":3},"3D","Competición",{"$f":"VLOOKUP(C126,Referencias!$B$24:$C$40,2,FALSE())","v":"IB"}]
["0703182","Barcos Toro, Maria Dolores","Balear","D",{"$f":"VLOOKUP(G127,Referencias!$C$4:$D$21,2,FALSE())","v":"Tercera Diamante"},{"$f":"VLOOKUP(G127,Referencias!$C$4:$E$21,3,FALSE())","v":3},"3D","Competición",{"$f":"VLOOKUP(C127,Referencias!$B$24:$C$40,2,FALSE())","v":"IB"}]
["0703189","Colom Alberti, Marie Madeleine","Balear","D",{"$f":"VLOOKUP(G128,Referencias!$C$4:$D$21,2,FALSE())","v":"Tercera Picas"},{"$f":"VLOOKUP(G128,Referencias!$C$4:$E$21,3,FALSE())","v":3},"3P","Competición",{"$f":"VLOOKUP(C128,Referencias!$B$24:$C$40,2,FALSE())","v":"IB"}]
["0703201","Bosch Montaner, María del Pilar","Balear","D",{"$f":"VLOOKUP(G129,Referencias!$C$4:$D$21,2,FALSE())","v":"Sin Categoría"},{"$f":"VLOOKUP(G129,Referencias!$C$4:$E$21,3,FALSE())","v":4},"SC","Competición",{"$f":"VLOOKUP(C129,Referencias!$B$24:$C$40,2,FALSE())","v":"IB"}]
["0703203","de Lis, Ignacio","Balear","C",{"$f":"VLOOKUP(G130,Referencias!$C$4:$D$21,2,FALSE())","v":"Primera Picas"},{"$f":"VLOOKUP(G130,Referencias!$C$4:$E$21,3,FALSE())","v":1},"1P","Competición",{"$f":"VLOOKUP(C130,Referencias!$B$24:$C$40,2,FALSE())","v":"IB"}]
["0703205","Rifa Ferrer, Rosa","Balear","D",{"$f":"VLOOKUP(G131,Referencias!$C$4:$D$21,2,FALSE())","v":"Tercera Diamante"},{"$f":"VLOOKUP(G131,Referencias!$C$4:$E$21,3,FALSE())","v":3},"3D","Competición",{"$f":"VLOOKUP(C131,Referencias!$B$24:$C$40,2,FALSE())","v":"IB"}]
["0703212","Marone Cinzano Borbon, Anna Alessandra","Balear","D",{"$f":"VLOOKUP(G132,Referencias!$C$4:$D$21,2,FALSE())","v":"Sin Categoría"},{"$f":"VLOOKUP(G132,Referencias!$C$4:$E$21,3,FALSE())","v":4},"SC","Competición",{"$f":"VLOOKUP(C132,Referencias!$B$24:$C$40,2,FALSE())","v":"IB"}]
["0703214","Bilbao Egaña, Begoña","Balear","D",{"$f":"VLOOKUP(G133,Referencias!$C$4:$D$21,2,FALSE())","v":"Tercera Diamante"},{"$f":"VLOOKUP(G133,Referencias!$C$4:$E$21,3,FALSE())","v":3},"3D","Competición",{"$f":"VLOOKUP(C133,Referencias!$B$24:$C$40,2,FALSE())","v":"IB"}]
["0703215","Campuzano Casasayas, María del Carmen","Balear","D",{"$f":"VLOOKUP(G134,Referencias!$C$4:$D$21,2,FALSE())","v":"Tercera Diamante"},{"$f":"VLOOKUP(G134,Referencias!$C$4:$E$21,3,FALSE())","v":3},"3D","Competición",{"$f":"VLOOKUP(C134,Referencias!$B$24:$C$40,2,FALSE())","v":"IB"}]
["0703216","Piña Saiz, Ramón","Balear","C",{"$f":"VLOOKUP(G135,Referencias!$C$4:$D$21,2,FALSE())","v":"Sin Categoría"},{"$f":"VLOOKUP(G135,Referencias!$C$4:$E$21,3,FALSE())","v":4},"SC","Competición",{"$f":"VLOOKUP(C135,Referencias!$B$24:$C$40,2,FALSE())","v":"IB"}]
["0703217","Campuzano Casasayas, Margarita","Balear","D",{"$f":"VLOOKUP(G136,Referencias!$C$4:$D$21,2,FALSE())","v":"Tercera Diamante"},{"$f":"VLOOKUP(G136,Referencias!$C$4:$E$21,3,FALSE())","v":3},"3D","Competición",{"$f":"VLOOKUP(C136,Referencias!$B$24:$C$40,2,FALSE())","v":"IB"}]
["0703221","Verd Herrero, Fernando","Balear","C",{"$f":"VLOOKUP(G137,Referencias!$C$4:$D$21,2,FALSE())","v":"Sin Categoría"},{"$f":"VLOOKUP(G137,Referencias!$C$4:$E$21,3,FALSE())","v":4},"SC","Competición",{"$f":"VLOOKUP(C137,Referencias!$B$24:$C$40,2,FALSE())","v":"IB"}]
["0703232","Varela de Limia Neyra, Jacobo","Balear","C",{"$f":"VLOOKUP(G138,Referencias!$C$4:$D$21,2,FALSE())","v":"Sin Categoría"},{"$f":"VLOOKUP(G138,Referencias!$C$4:$E$21,3,FALSE())","v":4},"SC","Competición",{"$f":"VLOOKUP(C138,Referencias!$B$24:$C$40,2,FALSE())","v":"IB"}]
["0703239","Abad Rico, Manuel","Balear","C",{"$f":"VLOOKUP(G139,Referencias!$C$4:$D$21,2,FALSE())","v":"Tercera Diamante"},{"$f":"VLOOKUP(G139,Referencias!$C$4:$E$21,3,FALSE())","v":3},"3D","Competición",{"$f":"VLOOKUP(C139,Referencias!$B$24:$C$40,2,FALSE())","v":"IB"}]
["0703241","Grua Llanares, Catalina","Balear","D",{"$f":"VLOOKUP(G140,Referencias!$C$4:$D$21,2,FALSE())","v":"Tercera Diamante"},{"$f":"VLOOKUP(G140,Referencias!$C$4:$E$21,3,FALSE())","v":3},"3D","Competición",{"$f":"VLOOKUP(C140,Referencias!$B$24:$C$40,2,FALSE())","v":"IB"}]
["0703242","Amengual Cifre, Coloma","Balear","D",{"$f":"VLOOKUP(G141,Referencias!$C$4:$D$21,2,FALSE())","v":"Sin Categoría"},{"$f":"VLOOKUP(G141,Referencias!$C$4:$E$21,3,FALSE())","v":4},"SC","Competición",{"$f":"VLOOKUP(C141,Referencias!$B$24:$C$40,2,FALSE())","v":"IB"}]
["0703245","Coll, Margarita","Balear","D",{"$f":"VLOOKUP(G142,Referencias!$C$4:$D$21,2,FALSE())","v":"Sin Categoría"},{"$f":"VLOOKUP(G142,Referencias!$C$4:$E$21,3,FALSE())","v":4},"SC","Competición",{"$f":"VLOOKUP(C142,Referencias!$B$24:$C$40,2,FALSE())","v":"IB"}]
["0703246","Schwartz Girón, Fernando","Balear","C",{"$f":"VLOOKUP(G143,Referencias!$C$4:$D$21,2,FALSE())","v":"Sin Categoría"},{"$f":"VLOOKUP(G143,Referencias!$C$4:$E$21,3,FALSE())","v":4},"SC","Competición",{"$f":"VLOOKUP(C143,Referencias!$B$24:$C$40,2,FALSE())","v":"IB"}]
["0703248","Tolonen Toyryla, Laura Silvia","Balear","D",{"$f":"VLOOKUP(G144,Referencias!$C$4:$D$21,2,FALSE())","v":"Sin Categoría"},{"$f":"VLOOKUP(G144,Referencias!$C$4:$E$21,3,FALSE())","v":4},"SC","Competición",{"$f":"VLOOKUP(C144,Referencias!$B$24:$C$40,2,FALSE())","v":"IB"}]
["0703252","Bennassar Gutierrez de la Concha, María Julia","Balear","D",{"$f":"VLOOKUP(G145,Referencias!$C$4:$D$21,2,FALSE())","v":"Tercera Diamante"},{"$f":"VLOOKUP(G145,Referencias!$C$4:$E$21,3,FALSE())","v":3},"3D","Competición",{"$f":"VLOOKUP(C145,Referencias!$B$24:$C$40,2,FALSE())","v":"IB"}]
["0703254","D´Ormesson, Anne","Balear","D",{"$f":"VLOOKUP(G146,Referencias!$C$4:$D$21,2,FALSE())","v":"Tercera Diamante"},{"$f":"VLOOKUP(G146,Referencias!$C$4:$E$21,3,FALSE())","v":3},"3D","Competición",{"$f":"VLOOKUP(C146,Referencias!$B$24:$C$40,2,FALSE())","v":"IB"}]
["0703256","Zaforteza de Corral, María Dolores","Balear","D",{"$f":"VLOOKUP(G147,Referencias!$C$4:$D$21,2,FALSE())","v":"Tercera Corazón"},{"$f":"VLOOKUP(G147,Referencias!$C$4:$E$21,3,FALSE())","v":3},"3C","Competición",{"$f":"VLOOKUP(C147,Referencias!$B$24:$C$40,2,FALSE())","v":"IB"}]
["0703257","Vaquero Hernández, Cruz","Balear","D",{"$f":"VLOOKUP(G148,Referencias!$C$4:$D$21,2,FALSE())","v":"Sin Categoría"},{"$f":"VLOOKUP(G148,Referencias!$C$4:$E$21,3,FALSE())","v":4},"SC","Competición",{"$f":"VLOOKUP(C148,Referencias!$B$24:$C$40,2,FALSE())","v":"IB"}]
["0703258","Stange, Heidi","Balear","D",{"$f":"VLOOKUP(G149,Referencias!$C$4:$D$21,2,FALSE())","v":"Tercera Diamante"},{"$f":"VLOOKUP(G149,Referencias!$C$4:$E$21,3,FALSE())","v":3},"3D","Competición",{"$f":"VLOOKUP(C149,Referencias!$B$24:$C$40,2,FALSE())","v":"IB"}]
["0703261","Dudley, Anita Louise","Balear","D",{"$f":"VLOOKUP(G150,Referencias!$C$4:$D$21,2,FALSE())","v":"Tercera Corazón"},{"$f":"VLOOKUP(G150,Referencias!$C$4:$E$21,3,FALSE())","v":3},"3C","Competición",{"$f":"VLOOKUP(C150,Referencias!$B$24:$C$40,2,FALSE())","v":"IB"}]
["0703264","Bacher S, Hans","Balear","C",{"$f":"VLOOKUP(G151,Referencias!$C$4:$D$21,2,FALSE())","v":"Tercera Diamante"},{"$f":"VLOOKUP(G151,Referencias!$C$4:$E$21,3,FALSE())","v":3},"3D","Competición",{"$f":"VLOOKUP(C151,Referencias!$B$24:$C$40,2,FALSE())","v":"IB"}]
["0703265","Moragues Muñoz, Gloria","Balear","D",{"$f":"VLOOKUP(G152,Referencias!$C$4:$D$21,2,FALSE())","v":"Tercera Picas"},{"$f":"VLOOKUP(G152,Referencias!$C$4:$E$21,3,FALSE())","v":3},"3P","Competición",{"$f":"VLOOKUP(C152,Referencias!$B$24:$C$40,2,FALSE())","v":"IB"}]
["0703266","Armenteros Costosa, Nuria","Balear","D",{"$f":"VLOOKUP(G153,Referencias!$C$4:$D$21,2,FALSE())","v":"Sin Categoría"},{"$f":"VLOOKUP(G153,Referencias!$C$4:$E$21,3,FALSE())","v":4},"SC","Competición",{"$f":"VLOOKUP(C153,Referencias!$B$24:$C$40,2,FALSE())","v":"IB"}]
["0703267","Middelmann Blome, Álvaro","Balear","C",{"$f":"VLOOKUP(G154,Referencias!$C$4:$D$21,2,FALSE())","v":"Sin Categoría"},{"$f":"VLOOKUP(G154,Referencias!$C$4:$E$21,3,FALSE())","v":4},"SC","Competición",{"$f":"VLOOKUP(C154,Referencias!$B$24:$C$40,2,FALSE())","v":"IB"}]
["0703268","Middelmann Blome, Isabelle","Balear","D",{"$f":"VLOOKUP(G155,Referencias!$C$4:$D$21,2,FALSE())","v":"Sin Categoría"},{"$f":"VLOOKUP(G155,Referencias!$C$4:$E$21,3,FALSE())","v":4},"SC","Competición",{"$f":"VLOOKUP(C155,Referencias!$B$24:$C$40,2,FALSE())","v":"IB"}]
["0703269","Eiraldi Mautone, Selva","Balear","D",{"$f":"VLOOKUP(G156,Referencias!$C$4:$D$21,2,FALSE())","v":"Primera Picas"},{"$f":"VLOOKUP(G156,Referencias!$C$4:$E$21,3,FALSE())","v":1},"1P","Competición",{"$f":"VLOOKUP(C156,Referencias!$B$24:$C$40,2,FALSE())","v":"IB"}]
["0703272","Mª de Lluch, Deya Frutos","Balear","D",{"$f":"VLOOKUP(G157,Referencias!$C$4:$D$21,2,FALSE())","v":"Tercera Diamante"},{"$f":"VLOOKUP(G157,Referencias!$C$4:$E$21,3,FALSE())","v":3},"3D","Competición",{"$f":"VLOOKUP(C157,Referencias!$B$24:$C$40,2,FALSE())","v":"IB"}]
["0703273","Loeffler, Isabel","Balear","D",{"$f":"VLOOKUP(G158,Referencias!$C$4:$D$21,2,FALSE())","v":"Primera Corazón"},{"$f":"VLOOKUP(G158,Referencias!$C$4:$E$21,3,FALSE())","v":1},"1C","Competición",{"$f":"VLOOKUP(C158,Referencias!$B$24:$C$40,2,FALSE())","v":"IB"}]
["0703274","Roennberg, Carlos","Balear","C",{"$f":"VLOOKUP(G159,Referencias!$C$4:$D$21,2,FALSE())","v":"Tercera Diamante"},{"$f":"VLOOKUP(G159,Referencias!$C$4:$E$21,3,FALSE())","v":3},"3D","Competición",{"$f":"VLOOKUP(C159,Referencias!$B$24:$C$40,2,FALSE())","v":"IB"}]
["0703275","Obrador Capó, Antonio","Balear","C",{"$f":"VLOOKUP(G160,Referencias!$C$4:$D$21,2,FALSE())","v":"Tercera Corazón"},{"$f":"VLOOKUP(G160,Referencias!$C$4:$E$21,3,FALSE())","v":3},"3C","Competición",{"$f":"VLOOKUP(C160,Referencias!$B$24:$C$40,2,FALSE())","v":"IB"}]
["0703277","Ferrer Villalonga, Catalina","Balear","C",{"$f":"VLOOKUP(G161,Referencias!$C$4:$D$21,2,FALSE())","v":"Sin Categoría"},{"$f":"VLOOKUP(G161,Referencias!$C$4:$E$21,3,FALSE())","v":4},"SC","Competición",{"$f":"VLOOKUP(C161,Referencias!$B$24:$C$40,2,FALSE())","v":"IB"}]
["0703278","García de Oteyza Fenández, Maria del Pilar","Balear","D",{"$f":"VLOOKUP(G162,Referencias!$C$4:$D$21,2,FALSE())","v":"Tercera Diamante"},{"$f":"VLOOKUP(G162,Referencias!$C$4:$E$21,3,FALSE())","v":3},"3D","Competición",{"$f":"VLOOKUP(C162,Referencias!$B$24:$C$40,2,FALSE())","v":"IB"}]
["0703279","Rullán Moyá, Diego","Balear","C",{"$f":"VLOOKUP(G163,Referencias!$C$4:$D$21,2,FALSE())","v":"Segunda Corazón"},{"$f":"VLOOKUP(G163,Referencias!$C$4:$E$21,3,FALSE())","v":2},"2C","Competición",{"$f":"VLOOKUP(C163,Referencias!$B$24:$C$40,2,FALSE())","v":"IB"}]
["0703280","Arias Neira, Mercedes","Balear","D",{"$f":"VLOOKUP(G164,Referencias!$C$4:$D$21,2,FALSE())","v":"Segunda Corazón"},{"$f":"VLOOKUP(G164,Referencias!$C$4:$E$21,3,FALSE())","v":2},"2C","Competición",{"$f":"VLOOKUP(C164,Referencias!$B$24:$C$40,2,FALSE())","v":"IB"}]
["0703281","Moreto Matosas, María","Balear","D",{"$f":"VLOOKUP(G165,Referencias!$C$4:$D$21,2,FALSE())","v":"Tercera Corazón"},{"$f":"VLOOKUP(G165,Referencias!$C$4:$E$21,3,FALSE())","v":3},"3C","Competición",{"$f":"VLOOKUP(C165,Referencias!$B$24:$C$40,2,FALSE())","v":"IB"}]
["0703282","Obrador Rigo, María","Balear","D",{"$f":"VLOOKUP(G166,Referencias!$C$4:$D$21,2,FALSE())","v":"Segunda Diamante"},{"$f":"VLOOKUP(G166,Referencias!$C$4:$E$21,3,FALSE())","v":2},"2D","Competición",{"$f":"VLOOKUP(C166,Referencias!$B$24:$C$40,2,FALSE())","v":"IB"}]
["0703285","Gual de Torrella Vidal, Marieta","Balear","D",{"$f":"VLOOKUP(G167,Referencias!$C$4:$D$21,2,FALSE())","v":"Sin Categoría"},{"$f":"VLOOKUP(G167,Referencias!$C$4:$E$21,3,FALSE())","v":4},"SC","Competición",{"$f":"VLOOKUP(C167,Referencias!$B$24:$C$40,2,FALSE())","v":"IB"}]
["0703286","Martín Rebollo, María Luisa","Balear","D",{"$f":"VLOOKUP(G168,Referencias!$C$4:$D$21,2,FALSE())","v":"Tercera Diamante"},{"$f":"VLOOKUP(G168,Referencias!$C$4:$E$21,3,FALSE())","v":3},"3D","Competición",{"$f":"VLOOKUP(C168,Referencias!$B$24:$C$40,2,FALSE())","v":"IB"}]
["0703287","Bascuñana de Castro, Pilar","Balear","D",{"$f":"VLOOKUP(G169,Referencias!$C$4:$D$21,2,FALSE())","v":"Tercera Diamante"},{"$f":"VLOOKUP(G169,Referencias!$C$4:$E$21,3,FALSE())","v":3},"3D","Competición",{"$f":"VLOOKUP(C169,Referencias!$B$24:$C$40,2,FALSE())","v":"IB"}]
["0703289","Zaforteza de Corral, Clotilde","Balear","D",{"$f":"VLOOKUP(G170,Referencias!$C$4:$D$21,2,FALSE())","v":"Tercera Diamante"},{"$f":"VLOOKUP(G170,Referencias!$C$4:$E$21,3,FALSE())","v":3},"3D","Competición",{"$f":"VLOOKUP(C170,Referencias!$B$24:$C$40,2,FALSE())","v":"IB"}]
["0703290","Zaforteza de Corral, Ana","Balear","D",{"$f":"VLOOKUP(G171,Referencias!$C$4:$D$21,2,FALSE())","v":"Tercera Diamante"},{"$f":"VLOOKUP(G171,Referencias!$C$4:$E$21,3,FALSE())","v":3},"3D","Competición",{"$f":"VLOOKUP(C171,Referencias!$B$24:$C$40,2,FALSE())","v":"IB"}]
["0703291","Batten, Evi","Balear","D",{"$f":"VLOOKUP(G172,Referencias!$C$4:$D$21,2,FALSE())","v":"Sin Categoría"},{"$f":"VLOOKUP(G172,Referencias!$C$4:$E$21,3,FALSE())","v":4},"SC","Competición",{"$f":"VLOOKUP(C172,Referencias!$B$24:$C$40,2,FALSE())","v":"IB"}]
["0703292","Batten, David","Balear","C",{"$f":"VLOOKUP(G173,Referencias!$C$4:$D$21,2,FALSE())","v":"Sin Categoría"},{"$f":"VLOOKUP(G173,Referencias!$C$4:$E$21,3,FALSE())","v":4},"SC","Competición",{"$f":"VLOOKUP(C173,Referencias!$B$24:$C$40,2,FALSE())","v":"IB"}]
["0703294","Watson, Margit","Balear","D",{"$f":"VLOOKUP(G174,Referencias!$C$4:$D$21,2,FALSE())","v":"Tercera Picas"},{"$f":"VLOOKUP(G174,Referencias!$C$4:$E$21,3,FALSE())","v":3},"3P","Competición",{"$f":"VLOOKUP(C174,Referencias!$B$24:$C$40,2,FALSE())","v":"IB"}]
["0703295","Daniels, Elizabeth Jane","Balear","C",{"$f":"VLOOKUP(G175,Referencias!$C$4:$D$21,2,FALSE())","v":"Sin Categoría"},{"$f":"VLOOKUP(G175,Referencias!$C$4:$E$21,3,FALSE())","v":4},"SC","Competición",{"$f":"VLOOKUP(C175,Referencias!$B$24:$C$40,2,FALSE())","v":"IB"}]
["0703296","Zaforteza Dezcallar, María","Balear","D",{"$f":"VLOOKUP(G176,Referencias!$C$4:$D$21,2,FALSE())","v":"Tercera Corazón"},{"$f":"VLOOKUP(G176,Referencias!$C$4:$E$21,3,FALSE())","v":3},"3C","Competición",{"$f":"VLOOKUP(C176,Referencias!$B$24:$C$40,2,FALSE())","v":"IB"}]
["0703297","Quadreny Guasp, Pilar","Balear","D",{"$f":"VLOOKUP(G177,Referencias!$C$4:$D$21,2,FALSE())","v":"Sin Categoría"},{"$f":"VLOOKUP(G177,Referencias!$C$4:$E$21,3,FALSE())","v":4},"SC","Competición",{"$f":"VLOOKUP(C177,Referencias!$B$24:$C$40,2,FALSE())","v":"IB"}]
["0703298","Hernández Gómez, María Asunción","Balear","D",{"$f":"VLOOKUP(G178,Referencias!$C$4:$D$21,2,FALSE())","v":"Sin Categoría"},{"$f":"VLOOKUP(G178,Referencias!$C$4:$E$21,3,FALSE())","v":4},"SC","Competición",{"$f":"VLOOKUP(C178,Referencias!$B$24:$C$40,2,FALSE())","v":"IB"}]
["0703299","Vidal  Jimenes Alfaro, Maria Cristina","Balear","D",{"$f":"VLOOKUP(G179,Referencias!$C$4:$D$21,2,FALSE())","v":"Sin Categoría"},{"$f":"VLOOKUP(G179,Referencias!$C$4:$E$21,3,FALSE())","v":4},"SC","Competición",{"$f":"VLOOKUP(C179,Referencias!$B$24:$C$40,2,FALSE())","v":"IB"}]
["0703300","Checa Guerrero, Marta","Balear","D",{"$f":"VLOOKUP(G180,Referencias!$C$4:$D$21,2,FALSE())","v":"Tercera Diamante"},{"$f":"VLOOKUP(G180,Referencias!$C$4:$E$21,3,FALSE())","v":3},"3D","Competición",{"$f":"VLOOKUP(C180,Referencias!$B$24:$C$40,2,FALSE())","v":"IB"}]
["0703301","Sánchez Arribas, María Jesús","Balear","D",{"$f":"VLOOKUP(G181,Referencias!$C$4:$D$21,2,FALSE())","v":"Tercera Diamante"},{"$f":"VLOOKUP(G181,Referencias!$C$4:$E$21,3,FALSE())","v":3},"3D","Competición",{"$f":"VLOOKUP(C181,Referencias!$B$24:$C$40,2,FALSE())","v":"IB"}]
["0703302","Ronald, Gross","Balear","C",{"$f":"VLOOKUP(G182,Referencias!$C$4:$D$21,2,FALSE())","v":"Segunda Diamante"},{"$f":"VLOOKUP(G182,Referencias!$C$4:$E$21,3,FALSE())","v":2},"2D","Competición",{"$f":"VLOOKUP(C182,Referencias!$B$24:$C$40,2,FALSE())","v":"IB"}]
["0703304","Gili Perera, Rosa María","Balear","D",{"$f":"VLOOKUP(G183,Referencias!$C$4:$D$21,2,FALSE())","v":"Tercera Diamante"},{"$f":"VLOOKUP(G183,Referencias!$C$4:$E$21,3,FALSE())","v":3},"3D","Competición",{"$f":"VLOOKUP(C183,Referencias!$B$24:$C$40,2,FALSE())","v":"IB"}]
["0703305","Barceló Obrador, María José","Balear","D",{"$f":"VLOOKUP(G184,Referencias!$C$4:$D$21,2,FALSE())","v":"Sin Categoría"},{"$f":"VLOOKUP(G184,Referencias!$C$4:$E$21,3,FALSE())","v":4},"SC","Competición",{"$f":"VLOOKUP(C184,Referencias!$B$24:$C$40,2,FALSE())","v":"IB"}]
["0703306","Holmes, Michel","Balear","C",{"$f":"VLOOKUP(G185,Referencias!$C$4:$D$21,2,FALSE())","v":"Segunda Diamante"},{"$f":"VLOOKUP(G185,Referencias!$C$4:$E$21,3,FALSE())","v":2},"2D","Competición",{"$f":"VLOOKUP(C185,Referencias!$B$24:$C$40,2,FALSE())","v":"IB"}]
["0703307","Deya Frutos, Juan","Balear","C",{"$f":"VLOOKUP(G186,Referencias!$C$4:$D$21,2,FALSE())","v":"Tercera Diamante"},{"$f":"VLOOKUP(G186,Referencias!$C$4:$E$21,3,FALSE())","v":3},"3D","Competición",{"$f":"VLOOKUP(C186,Referencias!$B$24:$C$40,2,FALSE())","v":"IB"}]
["0703308","Davies, Elizabeth","Balear","D",{"$f":"VLOOKUP(G187,Referencias!$C$4:$D$21,2,FALSE())","v":"Tercera Diamante"},{"$f":"VLOOKUP(G187,Referencias!$C$4:$E$21,3,FALSE())","v":3},"3D","Competición",{"$f":"VLOOKUP(C187,Referencias!$B$24:$C$40,2,FALSE())","v":"IB"}]
["0703309","Packer, Sandra","Balear","D",{"$f":"VLOOKUP(G188,Referencias!$C$4:$D$21,2,FALSE())","v":"Tercera Diamante"},{"$f":"VLOOKUP(G188,Referencias!$C$4:$E$21,3,FALSE())","v":3},"3D","Competición",{"$f":"VLOOKUP(C188,Referencias!$B$24:$C$40,2,FALSE())","v":"IB"}]
["0703310","Pamer, Gisela","Balear","D",{"$f":"VLOOKUP(G189,Referencias!$C$4:$D$21,2,FALSE())","v":"Tercera Diamante"},{"$f":"VLOOKUP(G189,Referencias!$C$4:$E$21,3,FALSE())","v":3},"3D","Competición",{"$f":"VLOOKUP(C189,Referencias!$B$24:$C$40,2,FALSE())","v":"IB"}]
["0703311","Pomar Miró, María José ","Balear","D",{"$f":"VLOOKUP(G190,Referencias!$C$4:$D$21,2,FALSE())","v":"Tercera Diamante"},{"$f":"VLOOKUP(G190,Referencias!$C$4:$E$21,3,FALSE())","v":3},"3D","Competición",{"$f":"VLOOKUP(C190,Referencias!$B$24:$C$40,2,FALSE())","v":"IB"}]
["0703312","Jorge Guixens, Inmaculada","Balear","D",{"$f":"VLOOKUP(G191,Referencias!$C$4:$D$21,2,FALSE())","v":"Tercera Diamante"},{"$f":"VLOOKUP(G191,Referencias!$C$4:$E$21,3,FALSE())","v":3},"3D","Competición",{"$f":"VLOOKUP(C191,Referencias!$B$24:$C$40,2,FALSE())","v":"IB"}]
["0703313","Pizá Catalá, Margarita","Balear","D",{"$f":"VLOOKUP(G192,Referencias!$C$4:$D$21,2,FALSE())","v":"Tercera Diamante"},{"$f":"VLOOKUP(G192,Referencias!$C$4:$E$21,3,FALSE())","v":3},"3D","Competición",{"$f":"VLOOKUP(C192,Referencias!$B$24:$C$40,2,FALSE())","v":"IB"}]
["0703314","March Balguer, Helena","Balear","D",{"$f":"VLOOKUP(G193,Referencias!$C$4:$D$21,2,FALSE())","v":"Tercera Diamante"},{"$f":"VLOOKUP(G193,Referencias!$C$4:$E$21,3,FALSE())","v":3},"3D","Competición",{"$f":"VLOOKUP(C193,Referencias!$B$24:$C$40,2,FALSE())","v":"IB"}]
["0703315","Alcover Casasnovas, Maria Francisca","Balear","D",{"$f":"VLOOKUP(G194,Referencias!$C$4:$D$21,2,FALSE())","v":"Tercera Diamante"},{"$f":"VLOOKUP(G194,Referencias!$C$4:$E$21,3,FALSE())","v":3},"3D","Competición",{"$f":"VLOOKUP(C194,Referencias!$B$24:$C$40,2,FALSE())","v":"IB"}]
["0703626","Catany Sánchez, Ventura","Balear","C",{"$f":"VLOOKUP(G195,Referencias!$C$4:$D$21,2,FALSE())","v":"Sin Categoría"},{"$f":"VLOOKUP(G195,Referencias!$C$4:$E$21,3,FALSE())","v":4},"SC","Competición",{"$f":"VLOOKUP(C195,Referencias!$B$24:$C$40,2,FALSE())","v":"IB"}]
["0820032","Casanovas Ros, Vicente","Catalana","C",{"$f":"VLOOKUP(G196,Referencias!$C$4:$D$21,2,FALSE())","v":"Primera Corazón"},{"$f":"VLOOKUP(G196,Referencias!$C$4:$E$21,3,FALSE())","v":1},"1C","Competición",{"$f":"VLOOKUP(C196,Referencias!$B$24:$C$40,2,FALSE())","v":"C"}]
["0820035","Masana Boada, Xavi","Catalana","C",{"$f":"VLOOKUP(G197,Referencias!$C$4:$D$21,2,FALSE())","v":"Primera Picas"},{"$f":"VLOOKUP(G197,Referencias!$C$4:$E$21,3,FALSE())","v":1},"1P","Competición",{"$f":"VLOOKUP(C197,Referencias!$B$24:$C$40,2,FALSE())","v":"C"}]
["0820041","Almirall Vall, Nuria","Catalana","D",{"$f":"VLOOKUP(G198,Referencias!$C$4:$D$21,2,FALSE())","v":"Maestro Mundial Damas"},{"$f":"VLOOKUP(G198,Referencias!$C$4:$E$21,3,FALSE())","v":0},"MM-D","Competición",{"$f":"VLOOKUP(C198,Referencias!$B$24:$C$40,2,FALSE())","v":"C"}]
["0820042","Fernández Sanchiz, Carlos","Catalana","C",{"$f":"VLOOKUP(G199,Referencias!$C$4:$D$21,2,FALSE())","v":"Maestro Nacional Open"},{"$f":"VLOOKUP(G199,Referencias!$C$4:$E$21,3,FALSE())","v":0},"MN-O","Competición",{"$f":"VLOOKUP(C199,Referencias!$B$24:$C$40,2,FALSE())","v":"C"}]
["0820044","Almirall Vall, Marta","Catalana","D",{"$f":"VLOOKUP(G200,Referencias!$C$4:$D$21,2,FALSE())","v":"Maestro Mundial Damas"},{"$f":"VLOOKUP(G200,Referencias!$C$4:$E$21,3,FALSE())","v":0},"MM-D","Competición",{"$f":"VLOOKUP(C200,Referencias!$B$24:$C$40,2,FALSE())","v":"C"}]
["0820045","Babot Gutiérrez, María Carmen","Catalana","D",{"$f":"VLOOKUP(G201,Referencias!$C$4:$D$21,2,FALSE())","v":"Maestro Mundial Damas"},{"$f":"VLOOKUP(G201,Referencias!$C$4:$E$21,3,FALSE())","v":0},"MM-D","Competición",{"$f":"VLOOKUP(C201,Referencias!$B$24:$C$40,2,FALSE())","v":"C"}]
["0820046","Ventin Camprubi, Juan Carlos","Catalana","C",{"$f":"VLOOKUP(G202,Referencias!$C$4:$D$21,2,FALSE())","v":"Maestro Mundial Open"},{"$f":"VLOOKUP(G202,Referencias!$C$4:$E$21,3,FALSE())","v":0},"MM-O","Competición",{"$f":"VLOOKUP(C202,Referencias!$B$24:$C$40,2,FALSE())","v":"C"}]
["0820047","Llopart Egea, Amadeo","Catalana","C",{"$f":"VLOOKUP(G203,Referencias!$C$4:$D$21,2,FALSE())","v":"Maestro Nacional Open"},{"$f":"VLOOKUP(G203,Referencias!$C$4:$E$21,3,FALSE())","v":0},"MN-O","Competición",{"$f":"VLOOKUP(C203,Referencias!$B$24:$C$40,2,FALSE())","v":"C"}]
["0820050","Balleste Doldi, Jorge","Catalana","C",{"$f":"VLOOKUP(G204,Referencias!$C$4:$D$21,2,FALSE())","v":"Primera Picas"},{"$f":"VLOOKUP(G204,Referencias!$C$4:$E$21,3,FALSE())","v":1},"1P","Competición",{"$f":"VLOOKUP(C204,Referencias!$B$24:$C$40,2,FALSE())","v":"C"}]
["0820052","Deó Valera, Santiago","Catalana","C",{"$f":"VLOOKUP(G205,Referencias!$C$4:$D$21,2,FALSE())","v":"Primera Corazón"},{"$f":"VLOOKUP(G205,Referencias!$C$4:$E$21,3,FALSE())","v":1},"1C","Competición",{"$f":"VLOOKUP(C205,Referencias!$B$24:$C$40,2,FALSE())","v":"C"}]
["0820053","Creuheras Margenat, Jose","Catalana","C",{"$f":"VLOOKUP(G206,Referencias!$C$4:$D$21,2,FALSE())","v":"Maestro Nacional Open"},{"$f":"VLOOKUP(G206,Referencias!$C$4:$E$21,3,FALSE())","v":0},"MN-O","Competición",{"$f":"VLOOKUP(C206,Referencias!$B$24:$C$40,2,FALSE())","v":"C"}]
["0820054","Jover de Castro, Nacho","Catalana","C",{"$f":"VLOOKUP(G207,Referencias!$C$4:$D$21,2,FALSE())","v":"Primera Picas"},{"$f":"VLOOKUP(G207,Referencias!$C$4:$E$21,3,FALSE())","v":1},"1P","Competición",{"$f":"VLOOKUP(C207,Referencias!$B$24:$C$40,2,FALSE())","v":"C"}]
["0820063","Cornet Serra, Pere","Catalana","C",{"$f":"VLOOKUP(G208,Referencias!$C$4:$D$21,2,FALSE())","v":"Sin Categoría"},{"$f":"VLOOKUP(G208,Referencias!$C$4:$E$21,3,FALSE())","v":4},"SC","Competición",{"$f":"VLOOKUP(C208,Referencias!$B$24:$C$40,2,FALSE())","v":"C"}]
["0820065","Almirall Vall, Lluis","Catalana","C",{"$f":"VLOOKUP(G209,Referencias!$C$4:$D$21,2,FALSE())","v":"Primera Picas"},{"$f":"VLOOKUP(G209,Referencias!$C$4:$E$21,3,FALSE())","v":1},"1P","Competición",{"$f":"VLOOKUP(C209,Referencias!$B$24:$C$40,2,FALSE())","v":"C"}]
["0820066","Pont Artigas, Juan","Catalana","C",{"$f":"VLOOKUP(G210,Referencias!$C$4:$D$21,2,FALSE())","v":"Maestro Nacional Open"},{"$f":"VLOOKUP(G210,Referencias!$C$4:$E$21,3,FALSE())","v":0},"MN-O","Competición",{"$f":"VLOOKUP(C210,Referencias!$B$24:$C$40,2,FALSE())","v":"C"}]
["0820067","Castellsague Montane, Ricard","Catalana","C",{"$f":"VLOOKUP(G211,Referencias!$C$4:$D$21,2,FALSE())","v":"Sin Categoría"},{"$f":"VLOOKUP(G211,Referencias!$C$4:$E$21,3,FALSE())","v":4},"SC","Competición",{"$f":"VLOOKUP(C211,Referencias!$B$24:$C$40,2,FALSE())","v":"C"}]
["0820071","Mestres Rodriguez, Montserrat","Catalana","D",{"$f":"VLOOKUP(G212,Referencias!$C$4:$D$21,2,FALSE())","v":"Maestro Nacional Damas"},{"$f":"VLOOKUP(G212,Referencias!$C$4:$E$21,3,FALSE())","v":0},"MN-D","Competición",{"$f":"VLOOKUP(C212,Referencias!$B$24:$C$40,2,FALSE())","v":"C"}]
["0820072","Hausmann, María Victoria","Catalana","D",{"$f":"VLOOKUP(G213,Referencias!$C$4:$D$21,2,FALSE())","v":"Primera Corazón"},{"$f":"VLOOKUP(G213,Referencias!$C$4:$E$21,3,FALSE())","v":1},"1C","Competición",{"$f":"VLOOKUP(C213,Referencias!$B$24:$C$40,2,FALSE())","v":"C"}]
["0820102","Tatxe Salas, María Teresa","Catalana","D",{"$f":"VLOOKUP(G214,Referencias!$C$4:$D$21,2,FALSE())","v":"Primera Corazón"},{"$f":"VLOOKUP(G214,Referencias!$C$4:$E$21,3,FALSE())","v":1},"1C","Competición",{"$f":"VLOOKUP(C214,Referencias!$B$24:$C$40,2,FALSE())","v":"C"}]
["0820103","Bertran Vivet, Javier","AEB","C",{"$f":"VLOOKUP(G215,Referencias!$C$4:$D$21,2,FALSE())","v":"Primera Picas"},{"$f":"VLOOKUP(G215,Referencias!$C$4:$E$21,3,FALSE())","v":1},"1P","Competición",{"$f":"VLOOKUP(C215,Referencias!$B$24:$C$40,2,FALSE())","v":{"$error":"#N/A"}}]
["0820104","Escude Rovira, Manel","Catalana","C",{"$f":"VLOOKUP(G216,Referencias!$C$4:$D$21,2,FALSE())","v":"Primera Corazón"},{"$f":"VLOOKUP(G216,Referencias!$C$4:$E$21,3,FALSE())","v":1},"1C","Competición",{"$f":"VLOOKUP(C216,Referencias!$B$24:$C$40,2,FALSE())","v":"C"}]
["0820107","Morego Sala, Juan María","Catalana","C",{"$f":"VLOOKUP(G217,Referencias!$C$4:$D$21,2,FALSE())","v":"Primera Diamante"},{"$f":"VLOOKUP(G217,Referencias!$C$4:$E$21,3,FALSE())","v":1},"1D","Competición",{"$f":"VLOOKUP(C217,Referencias!$B$24:$C$40,2,FALSE())","v":"C"}]
["0820115","Cabestany Illana, Jose Luis","Catalana","C",{"$f":"VLOOKUP(G218,Referencias!$C$4:$D$21,2,FALSE())","v":"Primera Diamante"},{"$f":"VLOOKUP(G218,Referencias!$C$4:$E$21,3,FALSE())","v":1},"1D","Competición",{"$f":"VLOOKUP(C218,Referencias!$B$24:$C$40,2,FALSE())","v":"C"}]
["0820128","Quer Fabregas, Juan","Catalana","C",{"$f":"VLOOKUP(G219,Referencias!$C$4:$D$21,2,FALSE())","v":"Segunda Picas"},{"$f":"VLOOKUP(G219,Referencias!$C$4:$E$21,3,FALSE())","v":2},"2P","Competición",{"$f":"VLOOKUP(C219,Referencias!$B$24:$C$40,2,FALSE())","v":"C"}]
["0820131","Chokron Serfaty, Elias","Catalana","C",{"$f":"VLOOKUP(G220,Referencias!$C$4:$D$21,2,FALSE())","v":"Sin Categoría"},{"$f":"VLOOKUP(G220,Referencias!$C$4:$E$21,3,FALSE())","v":4},"SC","Competición",{"$f":"VLOOKUP(C220,Referencias!$B$24:$C$40,2,FALSE())","v":"C"}]
["0820135","Riquer Mestres, Manuel","Catalana","C",{"$f":"VLOOKUP(G221,Referencias!$C$4:$D$21,2,FALSE())","v":"Sin Categoría"},{"$f":"VLOOKUP(G221,Referencias!$C$4:$E$21,3,FALSE())","v":4},"SC","Competición",{"$f":"VLOOKUP(C221,Referencias!$B$24:$C$40,2,FALSE())","v":"C"}]
["0820136","Pons Martorell, Jaime","Catalana","C",{"$f":"VLOOKUP(G222,Referencias!$C$4:$D$21,2,FALSE())","v":"Primera Picas"},{"$f":"VLOOKUP(G222,Referencias!$C$4:$E$21,3,FALSE())","v":1},"1P","Competición",{"$f":"VLOOKUP(C222,Referencias!$B$24:$C$40,2,FALSE())","v":"C"}]
["0820139","Boguña Riera, Inmaculada","Catalana","D",{"$f":"VLOOKUP(G223,Referencias!$C$4:$D$21,2,FALSE())","v":"Sin Categoría"},{"$f":"VLOOKUP(G223,Referencias!$C$4:$E$21,3,FALSE())","v":4},"SC","Competición",{"$f":"VLOOKUP(C223,Referencias!$B$24:$C$40,2,FALSE())","v":"C"}]
["0820144","Jodar Laguna, Carmen","Catalana","D",{"$f":"VLOOKUP(G224,Referencias!$C$4:$D$21,2,FALSE())","v":"Primera Corazón"},{"$f":"VLOOKUP(G224,Referencias!$C$4:$E$21,3,FALSE())","v":1},"1C","Competición",{"$f":"VLOOKUP(C224,Referencias!$B$24:$C$40,2,FALSE())","v":"C"}]
["0820150","Morera Guajardo, Enrique","Catalana","C",{"$f":"VLOOKUP(G225,Referencias!$C$4:$D$21,2,FALSE())","v":"Primera Picas"},{"$f":"VLOOKUP(G225,Referencias!$C$4:$E$21,3,FALSE())","v":1},"1P","Competición",{"$f":"VLOOKUP(C225,Referencias!$B$24:$C$40,2,FALSE())","v":"C"}]
["0820151","Benito Nuñez Lagos, Fernando","Catalana","C",{"$f":"VLOOKUP(G226,Referencias!$C$4:$D$21,2,FALSE())","v":"Sin Categoría"},{"$f":"VLOOKUP(G226,Referencias!$C$4:$E$21,3,FALSE())","v":4},"SC","Competición",{"$f":"VLOOKUP(C226,Referencias!$B$24:$C$40,2,FALSE())","v":"C"}]
["0820152","Galobart Oses, Isabel","Catalana","D",{"$f":"VLOOKUP(G227,Referencias!$C$4:$D$21,2,FALSE())","v":"Sin Categoría"},{"$f":"VLOOKUP(G227,Referencias!$C$4:$E$21,3,FALSE())","v":4},"SC","Competición",{"$f":"VLOOKUP(C227,Referencias!$B$24:$C$40,2,FALSE())","v":"C"}]
["0820153","Piñol Rull, Ana","Catalana","D",{"$f":"VLOOKUP(G228,Referencias!$C$4:$D$21,2,FALSE())","v":"Primera Diamante"},{"$f":"VLOOKUP(G228,Referencias!$C$4:$E$21,3,FALSE())","v":1},"1D","Competición",{"$f":"VLOOKUP(C228,Referencias!$B$24:$C$40,2,FALSE())","v":"C"}]
["0820160","Balaguer Parra, María Dolores","Catalana","D",{"$f":"VLOOKUP(G229,Referencias!$C$4:$D$21,2,FALSE())","v":"Primera Picas"},{"$f":"VLOOKUP(G229,Referencias!$C$4:$E$21,3,FALSE())","v":1},"1P","Competición",{"$f":"VLOOKUP(C229,Referencias!$B$24:$C$40,2,FALSE())","v":"C"}]
["0820161","Climente Lucio, Enrique","Catalana","C",{"$f":"VLOOKUP(G230,Referencias!$C$4:$D$21,2,FALSE())","v":"Sin Categoría"},{"$f":"VLOOKUP(G230,Referencias!$C$4:$E$21,3,FALSE())","v":4},"SC","Competición",{"$f":"VLOOKUP(C230,Referencias!$B$24:$C$40,2,FALSE())","v":"C"}]
["0820169","Anidjar, Nina","Catalana","D",{"$f":"VLOOKUP(G231,Referencias!$C$4:$D$21,2,FALSE())","v":"Primera Picas"},{"$f":"VLOOKUP(G231,Referencias!$C$4:$E$21,3,FALSE())","v":1},"1P","Competición",{"$f":"VLOOKUP(C231,Referencias!$B$24:$C$40,2,FALSE())","v":"C"}]
["0820177","Garcia Hernandez, Elias","Catalana","C",{"$f":"VLOOKUP(G232,Referencias!$C$4:$D$21,2,FALSE())","v":"Sin Categoría"},{"$f":"VLOOKUP(G232,Referencias!$C$4:$E$21,3,FALSE())","v":4},"SC","Competición",{"$f":"VLOOKUP(C232,Referencias!$B$24:$C$40,2,FALSE())","v":"C"}]
["0820180","Ribalta Baro, Mercedes","Catalana","D",{"$f":"VLOOKUP(G233,Referencias!$C$4:$D$21,2,FALSE())","v":"Segunda Corazón"},{"$f":"VLOOKUP(G233,Referencias!$C$4:$E$21,3,FALSE())","v":2},"2C","Competición",{"$f":"VLOOKUP(C233,Referencias!$B$24:$C$40,2,FALSE())","v":"C"}]
["0820182","Romagera Sagrera, Carlos","Catalana","C",{"$f":"VLOOKUP(G234,Referencias!$C$4:$D$21,2,FALSE())","v":"Sin Categoría"},{"$f":"VLOOKUP(G234,Referencias!$C$4:$E$21,3,FALSE())","v":4},"SC","Competición",{"$f":"VLOOKUP(C234,Referencias!$B$24:$C$40,2,FALSE())","v":"C"}]
["0820193","Albanell Mira, Luis","Catalana","C",{"$f":"VLOOKUP(G235,Referencias!$C$4:$D$21,2,FALSE())","v":"Primera Corazón"},{"$f":"VLOOKUP(G235,Referencias!$C$4:$E$21,3,FALSE())","v":1},"1C","Competición",{"$f":"VLOOKUP(C235,Referencias!$B$24:$C$40,2,FALSE())","v":"C"}]
["0820195","Cañellas, Victor","Catalana","C",{"$f":"VLOOKUP(G236,Referencias!$C$4:$D$21,2,FALSE())","v":"Primera Picas"},{"$f":"VLOOKUP(G236,Referencias!$C$4:$E$21,3,FALSE())","v":1},"1P","Competición",{"$f":"VLOOKUP(C236,Referencias!$B$24:$C$40,2,FALSE())","v":"C"}]
["0820199","Cornet Serra, Cristobal","Catalana","C",{"$f":"VLOOKUP(G237,Referencias!$C$4:$D$21,2,FALSE())","v":"Sin Categoría"},{"$f":"VLOOKUP(G237,Referencias!$C$4:$E$21,3,FALSE())","v":4},"SC","Competición",{"$f":"VLOOKUP(C237,Referencias!$B$24:$C$40,2,FALSE())","v":"C"}]
["0820201","Goxens de Cornet, Nuria","Catalana","D",{"$f":"VLOOKUP(G238,Referencias!$C$4:$D$21,2,FALSE())","v":"Sin Categoría"},{"$f":"VLOOKUP(G238,Referencias!$C$4:$E$21,3,FALSE())","v":4},"SC","Competición",{"$f":"VLOOKUP(C238,Referencias!$B$24:$C$40,2,FALSE())","v":"C"}]
["0820204","Blasi Rialp, José","Catalana","C",{"$f":"VLOOKUP(G239,Referencias!$C$4:$D$21,2,FALSE())","v":"Sin Categoría"},{"$f":"VLOOKUP(G239,Referencias!$C$4:$E$21,3,FALSE())","v":4},"SC","Competición",{"$f":"VLOOKUP(C239,Referencias!$B$24:$C$40,2,FALSE())","v":"C"}]
["0820205","Magria Deolufeu, Jorge","Catalana","C",{"$f":"VLOOKUP(G240,Referencias!$C$4:$D$21,2,FALSE())","v":"Sin Categoría"},{"$f":"VLOOKUP(G240,Referencias!$C$4:$E$21,3,FALSE())","v":4},"SC","Competición",{"$f":"VLOOKUP(C240,Referencias!$B$24:$C$40,2,FALSE())","v":"C"}]
["0820213","Baixeras Divar, Carlos","Catalana","C",{"$f":"VLOOKUP(G241,Referencias!$C$4:$D$21,2,FALSE())","v":"Sin Categoría"},{"$f":"VLOOKUP(G241,Referencias!$C$4:$E$21,3,FALSE())","v":4},"SC","Competición",{"$f":"VLOOKUP(C241,Referencias!$B$24:$C$40,2,FALSE())","v":"C"}]
["0820218","Marqués de Caralt, Emilia","Catalana","D",{"$f":"VLOOKUP(G242,Referencias!$C$4:$D$21,2,FALSE())","v":"Sin Categoría"},{"$f":"VLOOKUP(G242,Referencias!$C$4:$E$21,3,FALSE())","v":4},"SC","Competición",{"$f":"VLOOKUP(C242,Referencias!$B$24:$C$40,2,FALSE())","v":"C"}]
["0820219","de Miquel Berenguer, Julio","Catalana","C",{"$f":"VLOOKUP(G243,Referencias!$C$4:$D$21,2,FALSE())","v":"Segunda Picas"},{"$f":"VLOOKUP(G243,Referencias!$C$4:$E$21,3,FALSE())","v":2},"2P","Competición",{"$f":"VLOOKUP(C243,Referencias!$B$24:$C$40,2,FALSE())","v":"C"}]
["0820232","Casals Fradera, Isabel","Catalana","D",{"$f":"VLOOKUP(G244,Referencias!$C$4:$D$21,2,FALSE())","v":"Segunda Corazón"},{"$f":"VLOOKUP(G244,Referencias!$C$4:$E$21,3,FALSE())","v":2},"2C","Competición",{"$f":"VLOOKUP(C244,Referencias!$B$24:$C$40,2,FALSE())","v":"C"}]
["0820241","López Prieto, María Luisa","Catalana","D",{"$f":"VLOOKUP(G245,Referencias!$C$4:$D$21,2,FALSE())","v":"Sin Categoría"},{"$f":"VLOOKUP(G245,Referencias!$C$4:$E$21,3,FALSE())","v":4},"SC","Competición",{"$f":"VLOOKUP(C245,Referencias!$B$24:$C$40,2,FALSE())","v":"C"}]
["0820242","Salsas Roig, Juan Alberto","Catalana","C",{"$f":"VLOOKUP(G246,Referencias!$C$4:$D$21,2,FALSE())","v":"Primera Picas"},{"$f":"VLOOKUP(G246,Referencias!$C$4:$E$21,3,FALSE())","v":1},"1P","Competición",{"$f":"VLOOKUP(C246,Referencias!$B$24:$C$40,2,FALSE())","v":"C"}]
["0820243","Montsalvatge Perez, Yvette","Catalana","D",{"$f":"VLOOKUP(G247,Referencias!$C$4:$D$21,2,FALSE())","v":"Sin Categoría"},{"$f":"VLOOKUP(G247,Referencias!$C$4:$E$21,3,FALSE())","v":4},"SC","Competición",{"$f":"VLOOKUP(C247,Referencias!$B$24:$C$40,2,FALSE())","v":"C"}]
["0820255","Monguió Morera, José","Catalana","C",{"$f":"VLOOKUP(G248,Referencias!$C$4:$D$21,2,FALSE())","v":"Primera Picas"},{"$f":"VLOOKUP(G248,Referencias!$C$4:$E$21,3,FALSE())","v":1},"1P","Competición",{"$f":"VLOOKUP(C248,Referencias!$B$24:$C$40,2,FALSE())","v":"C"}]
["0820256","Nadal Giro, Patricia","Catalana","D",{"$f":"VLOOKUP(G249,Referencias!$C$4:$D$21,2,FALSE())","v":"Primera Diamante"},{"$f":"VLOOKUP(G249,Referencias!$C$4:$E$21,3,FALSE())","v":1},"1D","Competición",{"$f":"VLOOKUP(C249,Referencias!$B$24:$C$40,2,FALSE())","v":"C"}]
["0820258","Sánchez de Marti, María Pura","Catalana","D",{"$f":"VLOOKUP(G250,Referencias!$C$4:$D$21,2,FALSE())","v":"Sin Categoría"},{"$f":"VLOOKUP(G250,Referencias!$C$4:$E$21,3,FALSE())","v":4},"SC","Competición",{"$f":"VLOOKUP(C250,Referencias!$B$24:$C$40,2,FALSE())","v":"C"}]
["0820264","Assalit Vives, Jose Maria","Catalana","C",{"$f":"VLOOKUP(G251,Referencias!$C$4:$D$21,2,FALSE())","v":"Sin Categoría"},{"$f":"VLOOKUP(G251,Referencias!$C$4:$E$21,3,FALSE())","v":4},"SC","Competición",{"$f":"VLOOKUP(C251,Referencias!$B$24:$C$40,2,FALSE())","v":"C"}]
["0820274","Soriano Peralta, Conrado","Catalana","C",{"$f":"VLOOKUP(G252,Referencias!$C$4:$D$21,2,FALSE())","v":"Sin Categoría"},{"$f":"VLOOKUP(G252,Referencias!$C$4:$E$21,3,FALSE())","v":4},"SC","Competición",{"$f":"VLOOKUP(C252,Referencias!$B$24:$C$40,2,FALSE())","v":"C"}]
["0820277","Borras Petit, Fco Javier","Catalana","C",{"$f":"VLOOKUP(G253,Referencias!$C$4:$D$21,2,FALSE())","v":"Sin Categoría"},{"$f":"VLOOKUP(G253,Referencias!$C$4:$E$21,3,FALSE())","v":4},"SC","Competición",{"$f":"VLOOKUP(C253,Referencias!$B$24:$C$40,2,FALSE())","v":"C"}]
["0820279","Estefanell Pañella, Carina","Cántabra","D",{"$f":"VLOOKUP(G254,Referencias!$C$4:$D$21,2,FALSE())","v":"Segunda Diamante"},{"$f":"VLOOKUP(G254,Referencias!$C$4:$E$21,3,FALSE())","v":2},"2D","Competición",{"$f":"VLOOKUP(C254,Referencias!$B$24:$C$40,2,FALSE())","v":"CN"}]
["0820305","Sanahuja Romani, Maribel","Catalana","D",{"$f":"VLOOKUP(G255,Referencias!$C$4:$D$21,2,FALSE())","v":"Sin Categoría"},{"$f":"VLOOKUP(G255,Referencias!$C$4:$E$21,3,FALSE())","v":4},"SC","Competición",{"$f":"VLOOKUP(C255,Referencias!$B$24:$C$40,2,FALSE())","v":"C"}]
["0820363","Guañabens Sanjuan, Maite","Catalana","D",{"$f":"VLOOKUP(G256,Referencias!$C$4:$D$21,2,FALSE())","v":"Primera Picas"},{"$f":"VLOOKUP(G256,Referencias!$C$4:$E$21,3,FALSE())","v":1},"1P","Competición",{"$f":"VLOOKUP(C256,Referencias!$B$24:$C$40,2,FALSE())","v":"C"}]
["0820368","Conti Penina, Ferran","Catalana","C",{"$f":"VLOOKUP(G257,Referencias!$C$4:$D$21,2,FALSE())","v":"Primera Picas"},{"$f":"VLOOKUP(G257,Referencias!$C$4:$E$21,3,FALSE())","v":1},"1P","Competición",{"$f":"VLOOKUP(C257,Referencias!$B$24:$C$40,2,FALSE())","v":"C"}]
["0820403","Viola Tarragona, Carmen","Catalana","D",{"$f":"VLOOKUP(G258,Referencias!$C$4:$D$21,2,FALSE())","v":"Primera Picas"},{"$f":"VLOOKUP(G258,Referencias!$C$4:$E$21,3,FALSE())","v":1},"1P","Competición",{"$f":"VLOOKUP(C258,Referencias!$B$24:$C$40,2,FALSE())","v":"C"}]
["0820405","Viola Tarragona, Margarita","Catalana","D",{"$f":"VLOOKUP(G259,Referencias!$C$4:$D$21,2,FALSE())","v":"Primera Picas"},{"$f":"VLOOKUP(G259,Referencias!$C$4:$E$21,3,FALSE())","v":1},"1P","Competición",{"$f":"VLOOKUP(C259,Referencias!$B$24:$C$40,2,FALSE())","v":"C"}]
["0820407","Cañellas Rosell, María","Catalana","D",{"$f":"VLOOKUP(G260,Referencias!$C$4:$D$21,2,FALSE())","v":"Tercera Corazón"},{"$f":"VLOOKUP(G260,Referencias!$C$4:$E$21,3,FALSE())","v":3},"3C","Competición",{"$f":"VLOOKUP(C260,Referencias!$B$24:$C$40,2,FALSE())","v":"C"}]
["0820429","Torresi Cunill, Viviana","Catalana","D",{"$f":"VLOOKUP(G261,Referencias!$C$4:$D$21,2,FALSE())","v":"Primera Diamante"},{"$f":"VLOOKUP(G261,Referencias!$C$4:$E$21,3,FALSE())","v":1},"1D","Competición",{"$f":"VLOOKUP(C261,Referencias!$B$24:$C$40,2,FALSE())","v":"C"}]
["0820466","Almirall de Castellar, Montse","Catalana","D",{"$f":"VLOOKUP(G262,Referencias!$C$4:$D$21,2,FALSE())","v":"Primera Corazón"},{"$f":"VLOOKUP(G262,Referencias!$C$4:$E$21,3,FALSE())","v":1},"1C","Competición",{"$f":"VLOOKUP(C262,Referencias!$B$24:$C$40,2,FALSE())","v":"C"}]
["0820473","Casals Fradera, Remedios","Catalana","D",{"$f":"VLOOKUP(G263,Referencias!$C$4:$D$21,2,FALSE())","v":"Segunda Corazón"},{"$f":"VLOOKUP(G263,Referencias!$C$4:$E$21,3,FALSE())","v":2},"2C","Competición",{"$f":"VLOOKUP(C263,Referencias!$B$24:$C$40,2,FALSE())","v":"C"}]
["0820475","Farres Cordom, Juan","Catalana","C",{"$f":"VLOOKUP(G264,Referencias!$C$4:$D$21,2,FALSE())","v":"Sin Categoría"},{"$f":"VLOOKUP(G264,Referencias!$C$4:$E$21,3,FALSE())","v":4},"SC","Competición",{"$f":"VLOOKUP(C264,Referencias!$B$24:$C$40,2,FALSE())","v":"C"}]
["0820477","Nadal de Quer, Montserrat","Catalana","D",{"$f":"VLOOKUP(G265,Referencias!$C$4:$D$21,2,FALSE())","v":"Sin Categoría"},{"$f":"VLOOKUP(G265,Referencias!$C$4:$E$21,3,FALSE())","v":4},"SC","Competición",{"$f":"VLOOKUP(C265,Referencias!$B$24:$C$40,2,FALSE())","v":"C"}]
["0820478","Trapé Viladomat, Miquel","Catalana","C",{"$f":"VLOOKUP(G266,Referencias!$C$4:$D$21,2,FALSE())","v":"Primera Corazón"},{"$f":"VLOOKUP(G266,Referencias!$C$4:$E$21,3,FALSE())","v":1},"1C","Competición",{"$f":"VLOOKUP(C266,Referencias!$B$24:$C$40,2,FALSE())","v":"C"}]
["0820485","Torras Piulachs, Marc A.","Catalana","C",{"$f":"VLOOKUP(G267,Referencias!$C$4:$D$21,2,FALSE())","v":"Sin Categoría"},{"$f":"VLOOKUP(G267,Referencias!$C$4:$E$21,3,FALSE())","v":4},"SC","Competición",{"$f":"VLOOKUP(C267,Referencias!$B$24:$C$40,2,FALSE())","v":"C"}]
["0820496","Olano, Mª Dolores","Catalana","D",{"$f":"VLOOKUP(G268,Referencias!$C$4:$D$21,2,FALSE())","v":"Primera Picas"},{"$f":"VLOOKUP(G268,Referencias!$C$4:$E$21,3,FALSE())","v":1},"1P","Competición",{"$f":"VLOOKUP(C268,Referencias!$B$24:$C$40,2,FALSE())","v":"C"}]
["0820498","Riquelme, Mary","Catalana","D",{"$f":"VLOOKUP(G269,Referencias!$C$4:$D$21,2,FALSE())","v":"Primera Corazón"},{"$f":"VLOOKUP(G269,Referencias!$C$4:$E$21,3,FALSE())","v":1},"1C","Competición",{"$f":"VLOOKUP(C269,Referencias!$B$24:$C$40,2,FALSE())","v":"C"}]
["0820500","Magriña de Sabala, María Teresa","Catalana","D",{"$f":"VLOOKUP(G270,Referencias!$C$4:$D$21,2,FALSE())","v":"Primera Corazón"},{"$f":"VLOOKUP(G270,Referencias!$C$4:$E$21,3,FALSE())","v":1},"1C","Competición",{"$f":"VLOOKUP(C270,Referencias!$B$24:$C$40,2,FALSE())","v":"C"}]
["0820508","Ferrer-Dalmau, Montse","Catalana","D",{"$f":"VLOOKUP(G271,Referencias!$C$4:$D$21,2,FALSE())","v":"Sin Categoría"},{"$f":"VLOOKUP(G271,Referencias!$C$4:$E$21,3,FALSE())","v":4},"SC","Competición",{"$f":"VLOOKUP(C271,Referencias!$B$24:$C$40,2,FALSE())","v":"C"}]
["0820524","Jordi Ayter, Miguel Angel","Catalana","C",{"$f":"VLOOKUP(G272,Referencias!$C$4:$D$21,2,FALSE())","v":"Sin Categoría"},{"$f":"VLOOKUP(G272,Referencias!$C$4:$E$21,3,FALSE())","v":4},"SC","Competición",{"$f":"VLOOKUP(C272,Referencias!$B$24:$C$40,2,FALSE())","v":"C"}]
["0820528","Naves Soler, Dolores","Catalana","D",{"$f":"VLOOKUP(G273,Referencias!$C$4:$D$21,2,FALSE())","v":"Sin Categoría"},{"$f":"VLOOKUP(G273,Referencias!$C$4:$E$21,3,FALSE())","v":4},"SC","Competición",{"$f":"VLOOKUP(C273,Referencias!$B$24:$C$40,2,FALSE())","v":"C"}]
["0820538","Serra Dyseradimingni, Blanca","Catalana","D",{"$f":"VLOOKUP(G274,Referencias!$C$4:$D$21,2,FALSE())","v":"Sin Categoría"},{"$f":"VLOOKUP(G274,Referencias!$C$4:$E$21,3,FALSE())","v":4},"SC","Competición",{"$f":"VLOOKUP(C274,Referencias!$B$24:$C$40,2,FALSE())","v":"C"}]
["0820546","Canals Suris, Ignacio","Catalana","C",{"$f":"VLOOKUP(G275,Referencias!$C$4:$D$21,2,FALSE())","v":"Sin Categoría"},{"$f":"VLOOKUP(G275,Referencias!$C$4:$E$21,3,FALSE())","v":4},"SC","Competición",{"$f":"VLOOKUP(C275,Referencias!$B$24:$C$40,2,FALSE())","v":"C"}]
["0820547","Rivera Avila, Neus","Catalana","D",{"$f":"VLOOKUP(G276,Referencias!$C$4:$D$21,2,FALSE())","v":"Tercera Picas"},{"$f":"VLOOKUP(G276,Referencias!$C$4:$E$21,3,FALSE())","v":3},"3P","Competición",{"$f":"VLOOKUP(C276,Referencias!$B$24:$C$40,2,FALSE())","v":"C"}]
["0820549","Terradas Muntañola, Gloria","Catalana","D",{"$f":"VLOOKUP(G277,Referencias!$C$4:$D$21,2,FALSE())","v":"Segunda Corazón"},{"$f":"VLOOKUP(G277,Referencias!$C$4:$E$21,3,FALSE())","v":2},"2C","Competición",{"$f":"VLOOKUP(C277,Referencias!$B$24:$C$40,2,FALSE())","v":"C"}]
["0820557","Casals Fradera, Pedro","Catalana","C",{"$f":"VLOOKUP(G278,Referencias!$C$4:$D$21,2,FALSE())","v":"Segunda Picas"},{"$f":"VLOOKUP(G278,Referencias!$C$4:$E$21,3,FALSE())","v":2},"2P","Competición",{"$f":"VLOOKUP(C278,Referencias!$B$24:$C$40,2,FALSE())","v":"C"}]
["0820578","Garcigoy Graells, Beatriz","Catalana","D",{"$f":"VLOOKUP(G279,Referencias!$C$4:$D$21,2,FALSE())","v":"Segunda Corazón"},{"$f":"VLOOKUP(G279,Referencias!$C$4:$E$21,3,FALSE())","v":2},"2C","Competición",{"$f":"VLOOKUP(C279,Referencias!$B$24:$C$40,2,FALSE())","v":"C"}]
["0820594","Lopez de Suris, Paloma","Catalana","D",{"$f":"VLOOKUP(G280,Referencias!$C$4:$D$21,2,FALSE())","v":"Sin Categoría"},{"$f":"VLOOKUP(G280,Referencias!$C$4:$E$21,3,FALSE())","v":4},"SC","Competición",{"$f":"VLOOKUP(C280,Referencias!$B$24:$C$40,2,FALSE())","v":"C"}]
["0820596","Carasso Vendrell, Maite","Catalana","D",{"$f":"VLOOKUP(G281,Referencias!$C$4:$D$21,2,FALSE())","v":"Sin Categoría"},{"$f":"VLOOKUP(G281,Referencias!$C$4:$E$21,3,FALSE())","v":4},"SC","Competición",{"$f":"VLOOKUP(C281,Referencias!$B$24:$C$40,2,FALSE())","v":"C"}]
["0820597","Alonso Santos, María Nieves","Catalana","D",{"$f":"VLOOKUP(G282,Referencias!$C$4:$D$21,2,FALSE())","v":"Sin Categoría"},{"$f":"VLOOKUP(G282,Referencias!$C$4:$E$21,3,FALSE())","v":4},"SC","Competición",{"$f":"VLOOKUP(C282,Referencias!$B$24:$C$40,2,FALSE())","v":"C"}]
["0820599","Zendrera Ramos, Montse","Catalana","D",{"$f":"VLOOKUP(G283,Referencias!$C$4:$D$21,2,FALSE())","v":"Sin Categoría"},{"$f":"VLOOKUP(G283,Referencias!$C$4:$E$21,3,FALSE())","v":4},"SC","Competición",{"$f":"VLOOKUP(C283,Referencias!$B$24:$C$40,2,FALSE())","v":"C"}]
["0820609","Marnet Fiol, María Reyes","Catalana","D",{"$f":"VLOOKUP(G284,Referencias!$C$4:$D$21,2,FALSE())","v":"Primera Diamante"},{"$f":"VLOOKUP(G284,Referencias!$C$4:$E$21,3,FALSE())","v":1},"1D","Competición",{"$f":"VLOOKUP(C284,Referencias!$B$24:$C$40,2,FALSE())","v":"C"}]
["0820617","Heredia Arnabat, Francesc","Catalana","C",{"$f":"VLOOKUP(G285,Referencias!$C$4:$D$21,2,FALSE())","v":"Primera Picas"},{"$f":"VLOOKUP(G285,Referencias!$C$4:$E$21,3,FALSE())","v":1},"1P","Competición",{"$f":"VLOOKUP(C285,Referencias!$B$24:$C$40,2,FALSE())","v":"C"}]
["0820625","Masia Nebot, Santi","Catalana","C",{"$f":"VLOOKUP(G286,Referencias!$C$4:$D$21,2,FALSE())","v":"Sin Categoría"},{"$f":"VLOOKUP(G286,Referencias!$C$4:$E$21,3,FALSE())","v":4},"SC","Competición",{"$f":"VLOOKUP(C286,Referencias!$B$24:$C$40,2,FALSE())","v":"C"}]
["0820628","Querol Puig, Delfi","Catalana","C",{"$f":"VLOOKUP(G287,Referencias!$C$4:$D$21,2,FALSE())","v":"Primera Picas"},{"$f":"VLOOKUP(G287,Referencias!$C$4:$E$21,3,FALSE())","v":1},"1P","Competición",{"$f":"VLOOKUP(C287,Referencias!$B$24:$C$40,2,FALSE())","v":"C"}]
["0820638","Mato Rodríguez, Marieli","Catalana","D",{"$f":"VLOOKUP(G288,Referencias!$C$4:$D$21,2,FALSE())","v":"Sin Categoría"},{"$f":"VLOOKUP(G288,Referencias!$C$4:$E$21,3,FALSE())","v":4},"SC","Competición",{"$f":"VLOOKUP(C288,Referencias!$B$24:$C$40,2,FALSE())","v":"C"}]
["0820654","Bensadon Laredo, Margaret","Catalana","D",{"$f":"VLOOKUP(G289,Referencias!$C$4:$D$21,2,FALSE())","v":"Sin Categoría"},{"$f":"VLOOKUP(G289,Referencias!$C$4:$E$21,3,FALSE())","v":4},"SC","Competición",{"$f":"VLOOKUP(C289,Referencias!$B$24:$C$40,2,FALSE())","v":"C"}]
["0820678","Pujadas Domenech, Teresa","Catalana","D",{"$f":"VLOOKUP(G290,Referencias!$C$4:$D$21,2,FALSE())","v":"Sin Categoría"},{"$f":"VLOOKUP(G290,Referencias!$C$4:$E$21,3,FALSE())","v":4},"SC","Competición",{"$f":"VLOOKUP(C290,Referencias!$B$24:$C$40,2,FALSE())","v":"C"}]
["0820693","Cols Busquets, Montserrat","Catalana","D",{"$f":"VLOOKUP(G291,Referencias!$C$4:$D$21,2,FALSE())","v":"Sin Categoría"},{"$f":"VLOOKUP(G291,Referencias!$C$4:$E$21,3,FALSE())","v":4},"SC","Competición",{"$f":"VLOOKUP(C291,Referencias!$B$24:$C$40,2,FALSE())","v":"C"}]
["0820720","Vilavechia Salas, Blanca","Catalana","D",{"$f":"VLOOKUP(G292,Referencias!$C$4:$D$21,2,FALSE())","v":"Sin Categoría"},{"$f":"VLOOKUP(G292,Referencias!$C$4:$E$21,3,FALSE())","v":4},"SC","Competición",{"$f":"VLOOKUP(C292,Referencias!$B$24:$C$40,2,FALSE())","v":"C"}]
["0820733","Frey, Jan","Catalana","C",{"$f":"VLOOKUP(G293,Referencias!$C$4:$D$21,2,FALSE())","v":"Sin Categoría"},{"$f":"VLOOKUP(G293,Referencias!$C$4:$E$21,3,FALSE())","v":4},"SC","Competición",{"$f":"VLOOKUP(C293,Referencias!$B$24:$C$40,2,FALSE())","v":"C"}]
["0820739","Hidalgo Estrada, Hortensia","Catalana","D",{"$f":"VLOOKUP(G294,Referencias!$C$4:$D$21,2,FALSE())","v":"Sin Categoría"},{"$f":"VLOOKUP(G294,Referencias!$C$4:$E$21,3,FALSE())","v":4},"SC","Competición",{"$f":"VLOOKUP(C294,Referencias!$B$24:$C$40,2,FALSE())","v":"C"}]
["0820770","Portusach Salvado, Marta","Catalana","D",{"$f":"VLOOKUP(G295,Referencias!$C$4:$D$21,2,FALSE())","v":"Sin Categoría"},{"$f":"VLOOKUP(G295,Referencias!$C$4:$E$21,3,FALSE())","v":4},"SC","Competición",{"$f":"VLOOKUP(C295,Referencias!$B$24:$C$40,2,FALSE())","v":"C"}]
["0820829","Bufala Romero, Montserrat","Catalana","D",{"$f":"VLOOKUP(G296,Referencias!$C$4:$D$21,2,FALSE())","v":"Sin Categoría"},{"$f":"VLOOKUP(G296,Referencias!$C$4:$E$21,3,FALSE())","v":4},"SC","Competición",{"$f":"VLOOKUP(C296,Referencias!$B$24:$C$40,2,FALSE())","v":"C"}]
["0820848","Carbonell, Mercedes","Catalana","D",{"$f":"VLOOKUP(G297,Referencias!$C$4:$D$21,2,FALSE())","v":"Primera Corazón"},{"$f":"VLOOKUP(G297,Referencias!$C$4:$E$21,3,FALSE())","v":1},"1C","Competición",{"$f":"VLOOKUP(C297,Referencias!$B$24:$C$40,2,FALSE())","v":"C"}]
["0820849","De Haro, Jose Antonio","Catalana","C",{"$f":"VLOOKUP(G298,Referencias!$C$4:$D$21,2,FALSE())","v":"Primera Corazón"},{"$f":"VLOOKUP(G298,Referencias!$C$4:$E$21,3,FALSE())","v":1},"1C","Competición",{"$f":"VLOOKUP(C298,Referencias!$B$24:$C$40,2,FALSE())","v":"C"}]
["0820895","Martínez Monge, Bertha","Catalana","D",{"$f":"VLOOKUP(G299,Referencias!$C$4:$D$21,2,FALSE())","v":"Primera Picas"},{"$f":"VLOOKUP(G299,Referencias!$C$4:$E$21,3,FALSE())","v":1},"1P","Competición",{"$f":"VLOOKUP(C299,Referencias!$B$24:$C$40,2,FALSE())","v":"C"}]
["0820900","Berenguer, Pilar","Catalana","D",{"$f":"VLOOKUP(G300,Referencias!$C$4:$D$21,2,FALSE())","v":"Sin Categoría"},{"$f":"VLOOKUP(G300,Referencias!$C$4:$E$21,3,FALSE())","v":4},"SC","Competición",{"$f":"VLOOKUP(C300,Referencias!$B$24:$C$40,2,FALSE())","v":"C"}]
["0820903","Vilella Rahn, Ana","Catalana","D",{"$f":"VLOOKUP(G301,Referencias!$C$4:$D$21,2,FALSE())","v":"Sin Categoría"},{"$f":"VLOOKUP(G301,Referencias!$C$4:$E$21,3,FALSE())","v":4},"SC","Competición",{"$f":"VLOOKUP(C301,Referencias!$B$24:$C$40,2,FALSE())","v":"C"}]
["0820933","Galan Longoria, Isabel","Catalana","D",{"$f":"VLOOKUP(G302,Referencias!$C$4:$D$21,2,FALSE())","v":"Sin Categoría"},{"$f":"VLOOKUP(G302,Referencias!$C$4:$E$21,3,FALSE())","v":4},"SC","Competición",{"$f":"VLOOKUP(C302,Referencias!$B$24:$C$40,2,FALSE())","v":"C"}]
["0820952","Argimón Puig-Serra, Magadalena","Catalana","D",{"$f":"VLOOKUP(G303,Referencias!$C$4:$D$21,2,FALSE())","v":"Sin Categoría"},{"$f":"VLOOKUP(G303,Referencias!$C$4:$E$21,3,FALSE())","v":4},"SC","Competición",{"$f":"VLOOKUP(C303,Referencias!$B$24:$C$40,2,FALSE())","v":"C"}]
["0820966","Bufill  Le Monnier, Marta","Catalana","D",{"$f":"VLOOKUP(G304,Referencias!$C$4:$D$21,2,FALSE())","v":"Sin Categoría"},{"$f":"VLOOKUP(G304,Referencias!$C$4:$E$21,3,FALSE())","v":4},"SC","Competición",{"$f":"VLOOKUP(C304,Referencias!$B$24:$C$40,2,FALSE())","v":"C"}]
["0820980","Roig Fornells, Diana","Catalana","D",{"$f":"VLOOKUP(G305,Referencias!$C$4:$D$21,2,FALSE())","v":"Sin Categoría"},{"$f":"VLOOKUP(G305,Referencias!$C$4:$E$21,3,FALSE())","v":4},"SC","Competición",{"$f":"VLOOKUP(C305,Referencias!$B$24:$C$40,2,FALSE())","v":"C"}]
["0821005","Viola Tarragona, Enrique","Catalana","C",{"$f":"VLOOKUP(G306,Referencias!$C$4:$D$21,2,FALSE())","v":"Primera Picas"},{"$f":"VLOOKUP(G306,Referencias!$C$4:$E$21,3,FALSE())","v":1},"1P","Competición",{"$f":"VLOOKUP(C306,Referencias!$B$24:$C$40,2,FALSE())","v":"C"}]
["0821037","Guilera, Elena","Catalana","D",{"$f":"VLOOKUP(G307,Referencias!$C$4:$D$21,2,FALSE())","v":"Sin Categoría"},{"$f":"VLOOKUP(G307,Referencias!$C$4:$E$21,3,FALSE())","v":4},"SC","Competición",{"$f":"VLOOKUP(C307,Referencias!$B$24:$C$40,2,FALSE())","v":"C"}]
["0821046","Casulleres Rodríguez, Asunción","Catalana","D",{"$f":"VLOOKUP(G308,Referencias!$C$4:$D$21,2,FALSE())","v":"Sin Categoría"},{"$f":"VLOOKUP(G308,Referencias!$C$4:$E$21,3,FALSE())","v":4},"SC","Competición",{"$f":"VLOOKUP(C308,Referencias!$B$24:$C$40,2,FALSE())","v":"C"}]
["0821048","Cañellas Robert, Isabel","Catalana","D",{"$f":"VLOOKUP(G309,Referencias!$C$4:$D$21,2,FALSE())","v":"Sin Categoría"},{"$f":"VLOOKUP(G309,Referencias!$C$4:$E$21,3,FALSE())","v":4},"SC","Competición",{"$f":"VLOOKUP(C309,Referencias!$B$24:$C$40,2,FALSE())","v":"C"}]
["0821074","Asayag, Moises","Catalana","C",{"$f":"VLOOKUP(G310,Referencias!$C$4:$D$21,2,FALSE())","v":"Primera Picas"},{"$f":"VLOOKUP(G310,Referencias!$C$4:$E$21,3,FALSE())","v":1},"1P","Competición",{"$f":"VLOOKUP(C310,Referencias!$B$24:$C$40,2,FALSE())","v":"C"}]
["0821091","Jaumot, Eduardo","Catalana","C",{"$f":"VLOOKUP(G311,Referencias!$C$4:$D$21,2,FALSE())","v":"Sin Categoría"},{"$f":"VLOOKUP(G311,Referencias!$C$4:$E$21,3,FALSE())","v":4},"SC","Competición",{"$f":"VLOOKUP(C311,Referencias!$B$24:$C$40,2,FALSE())","v":"C"}]
["0821101","Cuffi Rovira, María José","Catalana","D",{"$f":"VLOOKUP(G312,Referencias!$C$4:$D$21,2,FALSE())","v":"Tercera Diamante"},{"$f":"VLOOKUP(G312,Referencias!$C$4:$E$21,3,FALSE())","v":3},"3D","Competición",{"$f":"VLOOKUP(C312,Referencias!$B$24:$C$40,2,FALSE())","v":"C"}]
["0821105","Navarro de Guilera, Maribel","Catalana","D",{"$f":"VLOOKUP(G313,Referencias!$C$4:$D$21,2,FALSE())","v":"Segunda Corazón"},{"$f":"VLOOKUP(G313,Referencias!$C$4:$E$21,3,FALSE())","v":2},"2C","Competición",{"$f":"VLOOKUP(C313,Referencias!$B$24:$C$40,2,FALSE())","v":"C"}]
["0821106","Torio Altus, Juan","Catalana","C",{"$f":"VLOOKUP(G314,Referencias!$C$4:$D$21,2,FALSE())","v":"Sin Categoría"},{"$f":"VLOOKUP(G314,Referencias!$C$4:$E$21,3,FALSE())","v":4},"SC","Competición",{"$f":"VLOOKUP(C314,Referencias!$B$24:$C$40,2,FALSE())","v":"C"}]
["0821111","Cobas Ros, Angel","Catalana","C",{"$f":"VLOOKUP(G315,Referencias!$C$4:$D$21,2,FALSE())","v":"Primera Corazón"},{"$f":"VLOOKUP(G315,Referencias!$C$4:$E$21,3,FALSE())","v":1},"1C","Competición",{"$f":"VLOOKUP(C315,Referencias!$B$24:$C$40,2,FALSE())","v":"C"}]
["0821112","Casala, Antonio","Catalana","C",{"$f":"VLOOKUP(G316,Referencias!$C$4:$D$21,2,FALSE())","v":"Sin Categoría"},{"$f":"VLOOKUP(G316,Referencias!$C$4:$E$21,3,FALSE())","v":4},"SC","Competición",{"$f":"VLOOKUP(C316,Referencias!$B$24:$C$40,2,FALSE())","v":"C"}]
["0821117","Mihaescu, Olga","Catalana","D",{"$f":"VLOOKUP(G317,Referencias!$C$4:$D$21,2,FALSE())","v":"Sin Categoría"},{"$f":"VLOOKUP(G317,Referencias!$C$4:$E$21,3,FALSE())","v":4},"SC","Competición",{"$f":"VLOOKUP(C317,Referencias!$B$24:$C$40,2,FALSE())","v":"C"}]
["0821131","Markovic, Dragan","Catalana","C",{"$f":"VLOOKUP(G318,Referencias!$C$4:$D$21,2,FALSE())","v":"Primera Picas"},{"$f":"VLOOKUP(G318,Referencias!$C$4:$E$21,3,FALSE())","v":1},"1P","Competición",{"$f":"VLOOKUP(C318,Referencias!$B$24:$C$40,2,FALSE())","v":"C"}]
["0821167","Casals Ramis, Jorge","Catalana","C",{"$f":"VLOOKUP(G319,Referencias!$C$4:$D$21,2,FALSE())","v":"Primera Corazón"},{"$f":"VLOOKUP(G319,Referencias!$C$4:$E$21,3,FALSE())","v":1},"1C","Competición",{"$f":"VLOOKUP(C319,Referencias!$B$24:$C$40,2,FALSE())","v":"C"}]
["0821168","Vives Sanfeliu, Joan","Catalana","C",{"$f":"VLOOKUP(G320,Referencias!$C$4:$D$21,2,FALSE())","v":"Sin Categoría"},{"$f":"VLOOKUP(G320,Referencias!$C$4:$E$21,3,FALSE())","v":4},"SC","Competición",{"$f":"VLOOKUP(C320,Referencias!$B$24:$C$40,2,FALSE())","v":"C"}]
["0821170","Frutos Domínguez, Juanjo","Catalana","C",{"$f":"VLOOKUP(G321,Referencias!$C$4:$D$21,2,FALSE())","v":"Primera Picas"},{"$f":"VLOOKUP(G321,Referencias!$C$4:$E$21,3,FALSE())","v":1},"1P","Competición",{"$f":"VLOOKUP(C321,Referencias!$B$24:$C$40,2,FALSE())","v":"C"}]
["0821173","Casalots Serramia, Jaume","Catalana","C",{"$f":"VLOOKUP(G322,Referencias!$C$4:$D$21,2,FALSE())","v":"Sin Categoría"},{"$f":"VLOOKUP(G322,Referencias!$C$4:$E$21,3,FALSE())","v":4},"SC","Competición",{"$f":"VLOOKUP(C322,Referencias!$B$24:$C$40,2,FALSE())","v":"C"}]
["0821181","Reixach Isarre, Mª Luisa","Catalana","D",{"$f":"VLOOKUP(G323,Referencias!$C$4:$D$21,2,FALSE())","v":"Segunda Diamante"},{"$f":"VLOOKUP(G323,Referencias!$C$4:$E$21,3,FALSE())","v":2},"2D","Competición",{"$f":"VLOOKUP(C323,Referencias!$B$24:$C$40,2,FALSE())","v":"C"}]
["0821203","García Cassinelli, Alejandro","Catalana","C",{"$f":"VLOOKUP(G324,Referencias!$C$4:$D$21,2,FALSE())","v":"Sin Categoría"},{"$f":"VLOOKUP(G324,Referencias!$C$4:$E$21,3,FALSE())","v":4},"SC","Competición",{"$f":"VLOOKUP(C324,Referencias!$B$24:$C$40,2,FALSE())","v":"C"}]
["0821205","Soler Miret, María Victoria","Catalana","D",{"$f":"VLOOKUP(G325,Referencias!$C$4:$D$21,2,FALSE())","v":"Sin Categoría"},{"$f":"VLOOKUP(G325,Referencias!$C$4:$E$21,3,FALSE())","v":4},"SC","Competición",{"$f":"VLOOKUP(C325,Referencias!$B$24:$C$40,2,FALSE())","v":"C"}]
["0821206","Riba de Palau, Juan Miguel","Catalana","C",{"$f":"VLOOKUP(G326,Referencias!$C$4:$D$21,2,FALSE())","v":"Sin Categoría"},{"$f":"VLOOKUP(G326,Referencias!$C$4:$E$21,3,FALSE())","v":4},"SC","Competición",{"$f":"VLOOKUP(C326,Referencias!$B$24:$C$40,2,FALSE())","v":"C"}]
["0821209","Malla Abello, Luis","Catalana","C",{"$f":"VLOOKUP(G327,Referencias!$C$4:$D$21,2,FALSE())","v":"Sin Categoría"},{"$f":"VLOOKUP(G327,Referencias!$C$4:$E$21,3,FALSE())","v":4},"SC","Competición",{"$f":"VLOOKUP(C327,Referencias!$B$24:$C$40,2,FALSE())","v":"C"}]
["0821210","Malla Abello, Ramón","Catalana","C",{"$f":"VLOOKUP(G328,Referencias!$C$4:$D$21,2,FALSE())","v":"Sin Categoría"},{"$f":"VLOOKUP(G328,Referencias!$C$4:$E$21,3,FALSE())","v":4},"SC","Competición",{"$f":"VLOOKUP(C328,Referencias!$B$24:$C$40,2,FALSE())","v":"C"}]
["0821211","Rosello Gros, Victor","Catalana","C",{"$f":"VLOOKUP(G329,Referencias!$C$4:$D$21,2,FALSE())","v":"Sin Categoría"},{"$f":"VLOOKUP(G329,Referencias!$C$4:$E$21,3,FALSE())","v":4},"SC","Competición",{"$f":"VLOOKUP(C329,Referencias!$B$24:$C$40,2,FALSE())","v":"C"}]
["0821221","Domínguez Sancho, José Luis","Catalana","C",{"$f":"VLOOKUP(G330,Referencias!$C$4:$D$21,2,FALSE())","v":"Sin Categoría"},{"$f":"VLOOKUP(G330,Referencias!$C$4:$E$21,3,FALSE())","v":4},"SC","Competición",{"$f":"VLOOKUP(C330,Referencias!$B$24:$C$40,2,FALSE())","v":"C"}]
["0821227","Nebot Oyanguren, María Teresa","Catalana","D",{"$f":"VLOOKUP(G331,Referencias!$C$4:$D$21,2,FALSE())","v":"Sin Categoría"},{"$f":"VLOOKUP(G331,Referencias!$C$4:$E$21,3,FALSE())","v":4},"SC","Competición",{"$f":"VLOOKUP(C331,Referencias!$B$24:$C$40,2,FALSE())","v":"C"}]
["0821230","Isvy Ittah, Nadia","Catalana","D",{"$f":"VLOOKUP(G332,Referencias!$C$4:$D$21,2,FALSE())","v":"Sin Categoría"},{"$f":"VLOOKUP(G332,Referencias!$C$4:$E$21,3,FALSE())","v":4},"SC","Competición",{"$f":"VLOOKUP(C332,Referencias!$B$24:$C$40,2,FALSE())","v":"C"}]
["0821231","López Moreiras, Noemi","Catalana","D",{"$f":"VLOOKUP(G333,Referencias!$C$4:$D$21,2,FALSE())","v":"Primera Picas"},{"$f":"VLOOKUP(G333,Referencias!$C$4:$E$21,3,FALSE())","v":1},"1P","Competición",{"$f":"VLOOKUP(C333,Referencias!$B$24:$C$40,2,FALSE())","v":"C"}]
["0821235","Esteruelas Díez, Juan","Catalana","C",{"$f":"VLOOKUP(G334,Referencias!$C$4:$D$21,2,FALSE())","v":"Primera Corazón"},{"$f":"VLOOKUP(G334,Referencias!$C$4:$E$21,3,FALSE())","v":1},"1C","Competición",{"$f":"VLOOKUP(C334,Referencias!$B$24:$C$40,2,FALSE())","v":"C"}]
["0821238","Liron Casas, Felipe","Catalana","C",{"$f":"VLOOKUP(G335,Referencias!$C$4:$D$21,2,FALSE())","v":"Primera Corazón"},{"$f":"VLOOKUP(G335,Referencias!$C$4:$E$21,3,FALSE())","v":1},"1C","Competición",{"$f":"VLOOKUP(C335,Referencias!$B$24:$C$40,2,FALSE())","v":"C"}]
["0821244","Gultresa Colomer, Angels","Catalana","D",{"$f":"VLOOKUP(G336,Referencias!$C$4:$D$21,2,FALSE())","v":"Sin Categoría"},{"$f":"VLOOKUP(G336,Referencias!$C$4:$E$21,3,FALSE())","v":4},"SC","Competición",{"$f":"VLOOKUP(C336,Referencias!$B$24:$C$40,2,FALSE())","v":"C"}]
["0821264","Castellsague Florenti, Sigrid","Catalana","D",{"$f":"VLOOKUP(G337,Referencias!$C$4:$D$21,2,FALSE())","v":"Sin Categoría"},{"$f":"VLOOKUP(G337,Referencias!$C$4:$E$21,3,FALSE())","v":4},"SC","Competición",{"$f":"VLOOKUP(C337,Referencias!$B$24:$C$40,2,FALSE())","v":"C"}]
["0821292","Esperanza Agut, Francisca","Catalana","D",{"$f":"VLOOKUP(G338,Referencias!$C$4:$D$21,2,FALSE())","v":"Sin Categoría"},{"$f":"VLOOKUP(G338,Referencias!$C$4:$E$21,3,FALSE())","v":4},"SC","Competición",{"$f":"VLOOKUP(C338,Referencias!$B$24:$C$40,2,FALSE())","v":"C"}]
["0821296","Ortiz, Charo","Catalana","D",{"$f":"VLOOKUP(G339,Referencias!$C$4:$D$21,2,FALSE())","v":"Sin Categoría"},{"$f":"VLOOKUP(G339,Referencias!$C$4:$E$21,3,FALSE())","v":4},"SC","Competición",{"$f":"VLOOKUP(C339,Referencias!$B$24:$C$40,2,FALSE())","v":"C"}]
["0821345","Baumgartner, Charles","Madrileña","C",{"$f":"VLOOKUP(G340,Referencias!$C$4:$D$21,2,FALSE())","v":"Primera Picas"},{"$f":"VLOOKUP(G340,Referencias!$C$4:$E$21,3,FALSE())","v":1},"1P","Competición",{"$f":"VLOOKUP(C340,Referencias!$B$24:$C$40,2,FALSE())","v":"M"}]
["0821376","Grau Magret de Imbert, María del Carmen","Catalana","D",{"$f":"VLOOKUP(G341,Referencias!$C$4:$D$21,2,FALSE())","v":"Sin Categoría"},{"$f":"VLOOKUP(G341,Referencias!$C$4:$E$21,3,FALSE())","v":4},"SC","Competición",{"$f":"VLOOKUP(C341,Referencias!$B$24:$C$40,2,FALSE())","v":"C"}]
["0821404","Pérez-Sala, Elvira","Catalana","D",{"$f":"VLOOKUP(G342,Referencias!$C$4:$D$21,2,FALSE())","v":"Segunda Corazón"},{"$f":"VLOOKUP(G342,Referencias!$C$4:$E$21,3,FALSE())","v":2},"2C","Competición",{"$f":"VLOOKUP(C342,Referencias!$B$24:$C$40,2,FALSE())","v":"C"}]
["0821415","Alavedra Ribot, María Dolores","Catalana","D",{"$f":"VLOOKUP(G343,Referencias!$C$4:$D$21,2,FALSE())","v":"Sin Categoría"},{"$f":"VLOOKUP(G343,Referencias!$C$4:$E$21,3,FALSE())","v":4},"SC","Competición",{"$f":"VLOOKUP(C343,Referencias!$B$24:$C$40,2,FALSE())","v":"C"}]
["0821416","Royo Garay, Pili","Catalana","D",{"$f":"VLOOKUP(G344,Referencias!$C$4:$D$21,2,FALSE())","v":"Sin Categoría"},{"$f":"VLOOKUP(G344,Referencias!$C$4:$E$21,3,FALSE())","v":4},"SC","Competición",{"$f":"VLOOKUP(C344,Referencias!$B$24:$C$40,2,FALSE())","v":"C"}]
["0821424","San Vicente Monreal, Eulalia","Catalana","D",{"$f":"VLOOKUP(G345,Referencias!$C$4:$D$21,2,FALSE())","v":"Sin Categoría"},{"$f":"VLOOKUP(G345,Referencias!$C$4:$E$21,3,FALSE())","v":4},"SC","Competición",{"$f":"VLOOKUP(C345,Referencias!$B$24:$C$40,2,FALSE())","v":"C"}]
["0821425","Garrigos Ferrando, Paquita","Catalana","D",{"$f":"VLOOKUP(G346,Referencias!$C$4:$D$21,2,FALSE())","v":"Sin Categoría"},{"$f":"VLOOKUP(G346,Referencias!$C$4:$E$21,3,FALSE())","v":4},"SC","Competición",{"$f":"VLOOKUP(C346,Referencias!$B$24:$C$40,2,FALSE())","v":"C"}]
["0821451","Insua Escaris, Maite","Catalana","D",{"$f":"VLOOKUP(G347,Referencias!$C$4:$D$21,2,FALSE())","v":"Sin Categoría"},{"$f":"VLOOKUP(G347,Referencias!$C$4:$E$21,3,FALSE())","v":4},"SC","Competición",{"$f":"VLOOKUP(C347,Referencias!$B$24:$C$40,2,FALSE())","v":"C"}]
["0821468","Barrabeig de Negra, Carmen","Catalana","D",{"$f":"VLOOKUP(G348,Referencias!$C$4:$D$21,2,FALSE())","v":"Sin Categoría"},{"$f":"VLOOKUP(G348,Referencias!$C$4:$E$21,3,FALSE())","v":4},"SC","Competición",{"$f":"VLOOKUP(C348,Referencias!$B$24:$C$40,2,FALSE())","v":"C"}]
["0821473","Albiol Navarro, Toni","Catalana","C",{"$f":"VLOOKUP(G349,Referencias!$C$4:$D$21,2,FALSE())","v":"Sin Categoría"},{"$f":"VLOOKUP(G349,Referencias!$C$4:$E$21,3,FALSE())","v":4},"SC","Competición",{"$f":"VLOOKUP(C349,Referencias!$B$24:$C$40,2,FALSE())","v":"C"}]
["0821482","Comajuan  Ferrer, Marta","Catalana","D",{"$f":"VLOOKUP(G350,Referencias!$C$4:$D$21,2,FALSE())","v":"Sin Categoría"},{"$f":"VLOOKUP(G350,Referencias!$C$4:$E$21,3,FALSE())","v":4},"SC","Competición",{"$f":"VLOOKUP(C350,Referencias!$B$24:$C$40,2,FALSE())","v":"C"}]
["0821506","Elosegui, Mercedes","Catalana","D",{"$f":"VLOOKUP(G351,Referencias!$C$4:$D$21,2,FALSE())","v":"Sin Categoría"},{"$f":"VLOOKUP(G351,Referencias!$C$4:$E$21,3,FALSE())","v":4},"SC","Competición",{"$f":"VLOOKUP(C351,Referencias!$B$24:$C$40,2,FALSE())","v":"C"}]
["0821515","Llombart Marti, María del Carmen","Catalana","D",{"$f":"VLOOKUP(G352,Referencias!$C$4:$D$21,2,FALSE())","v":"Sin Categoría"},{"$f":"VLOOKUP(G352,Referencias!$C$4:$E$21,3,FALSE())","v":4},"SC","Competición",{"$f":"VLOOKUP(C352,Referencias!$B$24:$C$40,2,FALSE())","v":"C"}]
["0821517","Saunier Marques, Edith","Catalana","D",{"$f":"VLOOKUP(G353,Referencias!$C$4:$D$21,2,FALSE())","v":"Sin Categoría"},{"$f":"VLOOKUP(G353,Referencias!$C$4:$E$21,3,FALSE())","v":4},"SC","Competición",{"$f":"VLOOKUP(C353,Referencias!$B$24:$C$40,2,FALSE())","v":"C"}]
["0821533","Revuelta de la Poza, Alejandro","Catalana","C",{"$f":"VLOOKUP(G354,Referencias!$C$4:$D$21,2,FALSE())","v":"Primera Picas"},{"$f":"VLOOKUP(G354,Referencias!$C$4:$E$21,3,FALSE())","v":1},"1P","Competición",{"$f":"VLOOKUP(C354,Referencias!$B$24:$C$40,2,FALSE())","v":"C"}]
["0821534","Cans Fernandez, Andoni","Catalana","C",{"$f":"VLOOKUP(G355,Referencias!$C$4:$D$21,2,FALSE())","v":"Sin Categoría"},{"$f":"VLOOKUP(G355,Referencias!$C$4:$E$21,3,FALSE())","v":4},"SC","Competición",{"$f":"VLOOKUP(C355,Referencias!$B$24:$C$40,2,FALSE())","v":"C"}]
["0821535","Sánchez, Koldo","Catalana","C",{"$f":"VLOOKUP(G356,Referencias!$C$4:$D$21,2,FALSE())","v":"Primera Picas"},{"$f":"VLOOKUP(G356,Referencias!$C$4:$E$21,3,FALSE())","v":1},"1P","Competición",{"$f":"VLOOKUP(C356,Referencias!$B$24:$C$40,2,FALSE())","v":"C"}]
["0821543","Paravisini Marsans, Tania","Cántabra","D",{"$f":"VLOOKUP(G357,Referencias!$C$4:$D$21,2,FALSE())","v":"Primera Diamante"},{"$f":"VLOOKUP(G357,Referencias!$C$4:$E$21,3,FALSE())","v":1},"1D","Competición",{"$f":"VLOOKUP(C357,Referencias!$B$24:$C$40,2,FALSE())","v":"CN"}]
["0821545","Guiu Andreu, Rosa","Catalana","D",{"$f":"VLOOKUP(G358,Referencias!$C$4:$D$21,2,FALSE())","v":"Sin Categoría"},{"$f":"VLOOKUP(G358,Referencias!$C$4:$E$21,3,FALSE())","v":4},"SC","Competición",{"$f":"VLOOKUP(C358,Referencias!$B$24:$C$40,2,FALSE())","v":"C"}]
["0821546","Trillo, Patricia","Catalana","D",{"$f":"VLOOKUP(G359,Referencias!$C$4:$D$21,2,FALSE())","v":"Segunda Diamante"},{"$f":"VLOOKUP(G359,Referencias!$C$4:$E$21,3,FALSE())","v":2},"2D","Competición",{"$f":"VLOOKUP(C359,Referencias!$B$24:$C$40,2,FALSE())","v":"C"}]
["0821582","Castellsague Florenti, Ricard","Catalana","C",{"$f":"VLOOKUP(G360,Referencias!$C$4:$D$21,2,FALSE())","v":"Sin Categoría"},{"$f":"VLOOKUP(G360,Referencias!$C$4:$E$21,3,FALSE())","v":4},"SC","Competición",{"$f":"VLOOKUP(C360,Referencias!$B$24:$C$40,2,FALSE())","v":"C"}]
["0821592","Mengotti  Peñalver, María Teresa","Catalana","D",{"$f":"VLOOKUP(G361,Referencias!$C$4:$D$21,2,FALSE())","v":"Sin Categoría"},{"$f":"VLOOKUP(G361,Referencias!$C$4:$E$21,3,FALSE())","v":4},"SC","Competición",{"$f":"VLOOKUP(C361,Referencias!$B$24:$C$40,2,FALSE())","v":"C"}]
["0821593","Romero Mauricio, Alberto","Catalana","C",{"$f":"VLOOKUP(G362,Referencias!$C$4:$D$21,2,FALSE())","v":"Sin Categoría"},{"$f":"VLOOKUP(G362,Referencias!$C$4:$E$21,3,FALSE())","v":4},"SC","Competición",{"$f":"VLOOKUP(C362,Referencias!$B$24:$C$40,2,FALSE())","v":"C"}]
["0821607","Rosal Valls i Taberner, Alicia","Catalana","D",{"$f":"VLOOKUP(G363,Referencias!$C$4:$D$21,2,FALSE())","v":"Sin Categoría"},{"$f":"VLOOKUP(G363,Referencias!$C$4:$E$21,3,FALSE())","v":4},"SC","Competición",{"$f":"VLOOKUP(C363,Referencias!$B$24:$C$40,2,FALSE())","v":"C"}]
["0821611","Peralta López, Dolores","Catalana","D",{"$f":"VLOOKUP(G364,Referencias!$C$4:$D$21,2,FALSE())","v":"Sin Categoría"},{"$f":"VLOOKUP(G364,Referencias!$C$4:$E$21,3,FALSE())","v":4},"SC","Competición",{"$f":"VLOOKUP(C364,Referencias!$B$24:$C$40,2,FALSE())","v":"C"}]
["0821629","Claret, Paquita","Catalana","D",{"$f":"VLOOKUP(G365,Referencias!$C$4:$D$21,2,FALSE())","v":"Sin Categoría"},{"$f":"VLOOKUP(G365,Referencias!$C$4:$E$21,3,FALSE())","v":4},"SC","Competición",{"$f":"VLOOKUP(C365,Referencias!$B$24:$C$40,2,FALSE())","v":"C"}]
["0821634","Jansa Cuatrecasas, Tomás María","Catalana","C",{"$f":"VLOOKUP(G366,Referencias!$C$4:$D$21,2,FALSE())","v":"Sin Categoría"},{"$f":"VLOOKUP(G366,Referencias!$C$4:$E$21,3,FALSE())","v":4},"SC","Competición",{"$f":"VLOOKUP(C366,Referencias!$B$24:$C$40,2,FALSE())","v":"C"}]
["0821635","Ballcells Miro-Sans, Carlos","Catalana","C",{"$f":"VLOOKUP(G367,Referencias!$C$4:$D$21,2,FALSE())","v":"Sin Categoría"},{"$f":"VLOOKUP(G367,Referencias!$C$4:$E$21,3,FALSE())","v":4},"SC","Competición",{"$f":"VLOOKUP(C367,Referencias!$B$24:$C$40,2,FALSE())","v":"C"}]
["0821641","Azagury, Sidney","Catalana","C",{"$f":"VLOOKUP(G368,Referencias!$C$4:$D$21,2,FALSE())","v":"Sin Categoría"},{"$f":"VLOOKUP(G368,Referencias!$C$4:$E$21,3,FALSE())","v":4},"SC","Competición",{"$f":"VLOOKUP(C368,Referencias!$B$24:$C$40,2,FALSE())","v":"C"}]
["0821677","Ojeda Gómez, Ramón","Catalana","C",{"$f":"VLOOKUP(G369,Referencias!$C$4:$D$21,2,FALSE())","v":"Primera Corazón"},{"$f":"VLOOKUP(G369,Referencias!$C$4:$E$21,3,FALSE())","v":1},"1C","Competición",{"$f":"VLOOKUP(C369,Referencias!$B$24:$C$40,2,FALSE())","v":"C"}]
["0821701","Mansilla Llobet, María","Catalana","D",{"$f":"VLOOKUP(G370,Referencias!$C$4:$D$21,2,FALSE())","v":"Primera Picas"},{"$f":"VLOOKUP(G370,Referencias!$C$4:$E$21,3,FALSE())","v":1},"1P","Competición",{"$f":"VLOOKUP(C370,Referencias!$B$24:$C$40,2,FALSE())","v":"C"}]
["0821702","Pérez Galisteo, Jorge Antonio","Catalana","C",{"$f":"VLOOKUP(G371,Referencias!$C$4:$D$21,2,FALSE())","v":"Sin Categoría"},{"$f":"VLOOKUP(G371,Referencias!$C$4:$E$21,3,FALSE())","v":4},"SC","Competición",{"$f":"VLOOKUP(C371,Referencias!$B$24:$C$40,2,FALSE())","v":"C"}]
["0821713","Costa Mahrer, María Victoria","Catalana","D",{"$f":"VLOOKUP(G372,Referencias!$C$4:$D$21,2,FALSE())","v":"Sin Categoría"},{"$f":"VLOOKUP(G372,Referencias!$C$4:$E$21,3,FALSE())","v":4},"SC","Competición",{"$f":"VLOOKUP(C372,Referencias!$B$24:$C$40,2,FALSE())","v":"C"}]
["0821714","Portabella Cornet, María José","Aragonesa","D",{"$f":"VLOOKUP(G373,Referencias!$C$4:$D$21,2,FALSE())","v":"Segunda Corazón"},{"$f":"VLOOKUP(G373,Referencias!$C$4:$E$21,3,FALSE())","v":2},"2C","Competición",{"$f":"VLOOKUP(C373,Referencias!$B$24:$C$40,2,FALSE())","v":"AR"}]
["0821726","Artigas Raventos, Montserrat","Catalana","D",{"$f":"VLOOKUP(G374,Referencias!$C$4:$D$21,2,FALSE())","v":"Sin Categoría"},{"$f":"VLOOKUP(G374,Referencias!$C$4:$E$21,3,FALSE())","v":4},"SC","Competición",{"$f":"VLOOKUP(C374,Referencias!$B$24:$C$40,2,FALSE())","v":"C"}]
["0821727","Rovira Llobera, Xari","Catalana","D",{"$f":"VLOOKUP(G375,Referencias!$C$4:$D$21,2,FALSE())","v":"Sin Categoría"},{"$f":"VLOOKUP(G375,Referencias!$C$4:$E$21,3,FALSE())","v":4},"SC","Competición",{"$f":"VLOOKUP(C375,Referencias!$B$24:$C$40,2,FALSE())","v":"C"}]
["0821728","Rovira Llobera, Teresa","Catalana","D",{"$f":"VLOOKUP(G376,Referencias!$C$4:$D$21,2,FALSE())","v":"Sin Categoría"},{"$f":"VLOOKUP(G376,Referencias!$C$4:$E$21,3,FALSE())","v":4},"SC","Competición",{"$f":"VLOOKUP(C376,Referencias!$B$24:$C$40,2,FALSE())","v":"C"}]
["0821730","Martin Nieto, Encarna","Catalana","D",{"$f":"VLOOKUP(G377,Referencias!$C$4:$D$21,2,FALSE())","v":"Sin Categoría"},{"$f":"VLOOKUP(G377,Referencias!$C$4:$E$21,3,FALSE())","v":4},"SC","Competición",{"$f":"VLOOKUP(C377,Referencias!$B$24:$C$40,2,FALSE())","v":"C"}]
["0821735","Martin Duran, Paz","Catalana","D",{"$f":"VLOOKUP(G378,Referencias!$C$4:$D$21,2,FALSE())","v":"Sin Categoría"},{"$f":"VLOOKUP(G378,Referencias!$C$4:$E$21,3,FALSE())","v":4},"SC","Competición",{"$f":"VLOOKUP(C378,Referencias!$B$24:$C$40,2,FALSE())","v":"C"}]
["0821740","Albacete, Elisabet","Catalana","D",{"$f":"VLOOKUP(G379,Referencias!$C$4:$D$21,2,FALSE())","v":"Sin Categoría"},{"$f":"VLOOKUP(G379,Referencias!$C$4:$E$21,3,FALSE())","v":4},"SC","Competición",{"$f":"VLOOKUP(C379,Referencias!$B$24:$C$40,2,FALSE())","v":"C"}]
["0821741","Ortiz, Mª Luisa","Catalana","D",{"$f":"VLOOKUP(G380,Referencias!$C$4:$D$21,2,FALSE())","v":"Tercera Diamante"},{"$f":"VLOOKUP(G380,Referencias!$C$4:$E$21,3,FALSE())","v":3},"3D","Competición",{"$f":"VLOOKUP(C380,Referencias!$B$24:$C$40,2,FALSE())","v":"C"}]
["0821759","Bañeres Blanco, María Pilar","Catalana","D",{"$f":"VLOOKUP(G381,Referencias!$C$4:$D$21,2,FALSE())","v":"Sin Categoría"},{"$f":"VLOOKUP(G381,Referencias!$C$4:$E$21,3,FALSE())","v":4},"SC","Competición",{"$f":"VLOOKUP(C381,Referencias!$B$24:$C$40,2,FALSE())","v":"C"}]
["0821762","Ribot Gimenez, Isabel","Catalana","D",{"$f":"VLOOKUP(G382,Referencias!$C$4:$D$21,2,FALSE())","v":"Sin Categoría"},{"$f":"VLOOKUP(G382,Referencias!$C$4:$E$21,3,FALSE())","v":4},"SC","Competición",{"$f":"VLOOKUP(C382,Referencias!$B$24:$C$40,2,FALSE())","v":"C"}]
["0821767","Mateu Fippini, Carmen","Catalana","C",{"$f":"VLOOKUP(G383,Referencias!$C$4:$D$21,2,FALSE())","v":"Sin Categoría"},{"$f":"VLOOKUP(G383,Referencias!$C$4:$E$21,3,FALSE())","v":4},"SC","Competición",{"$f":"VLOOKUP(C383,Referencias!$B$24:$C$40,2,FALSE())","v":"C"}]
["0821776","Prada Hernández, Jordi","Catalana","C",{"$f":"VLOOKUP(G384,Referencias!$C$4:$D$21,2,FALSE())","v":"Sin Categoría"},{"$f":"VLOOKUP(G384,Referencias!$C$4:$E$21,3,FALSE())","v":4},"SC","Competición",{"$f":"VLOOKUP(C384,Referencias!$B$24:$C$40,2,FALSE())","v":"C"}]
["0821804","Philpott Hill, Cloe","Catalana","D",{"$f":"VLOOKUP(G385,Referencias!$C$4:$D$21,2,FALSE())","v":"Sin Categoría"},{"$f":"VLOOKUP(G385,Referencias!$C$4:$E$21,3,FALSE())","v":4},"SC","Competición",{"$f":"VLOOKUP(C385,Referencias!$B$24:$C$40,2,FALSE())","v":"C"}]
["0821826","Lis Bel, Gonzalo","Catalana","C",{"$f":"VLOOKUP(G386,Referencias!$C$4:$D$21,2,FALSE())","v":"Segunda Picas"},{"$f":"VLOOKUP(G386,Referencias!$C$4:$E$21,3,FALSE())","v":2},"2P","Competición",{"$f":"VLOOKUP(C386,Referencias!$B$24:$C$40,2,FALSE())","v":"C"}]
["0821827","Trias, Lourdes","Catalana","D",{"$f":"VLOOKUP(G387,Referencias!$C$4:$D$21,2,FALSE())","v":"Primera Diamante"},{"$f":"VLOOKUP(G387,Referencias!$C$4:$E$21,3,FALSE())","v":1},"1D","Competición",{"$f":"VLOOKUP(C387,Referencias!$B$24:$C$40,2,FALSE())","v":"C"}]
["0821837","Hababa, Javier","Catalana","C",{"$f":"VLOOKUP(G388,Referencias!$C$4:$D$21,2,FALSE())","v":"Sin Categoría"},{"$f":"VLOOKUP(G388,Referencias!$C$4:$E$21,3,FALSE())","v":4},"SC","Competición",{"$f":"VLOOKUP(C388,Referencias!$B$24:$C$40,2,FALSE())","v":"C"}]
["0821851","Matas Rubau, Montserrat","Catalana","D",{"$f":"VLOOKUP(G389,Referencias!$C$4:$D$21,2,FALSE())","v":"Sin Categoría"},{"$f":"VLOOKUP(G389,Referencias!$C$4:$E$21,3,FALSE())","v":4},"SC","Competición",{"$f":"VLOOKUP(C389,Referencias!$B$24:$C$40,2,FALSE())","v":"C"}]
["0821854","Ballabriga Muñoz, Mariano","Catalana","C",{"$f":"VLOOKUP(G390,Referencias!$C$4:$D$21,2,FALSE())","v":"Segunda Corazón"},{"$f":"VLOOKUP(G390,Referencias!$C$4:$E$21,3,FALSE())","v":2},"2C","Competición",{"$f":"VLOOKUP(C390,Referencias!$B$24:$C$40,2,FALSE())","v":"C"}]
["0821876","Acero Casamitja, Carles","Catalana","C",{"$f":"VLOOKUP(G391,Referencias!$C$4:$D$21,2,FALSE())","v":"Segunda Picas"},{"$f":"VLOOKUP(G391,Referencias!$C$4:$E$21,3,FALSE())","v":2},"2P","Competición",{"$f":"VLOOKUP(C391,Referencias!$B$24:$C$40,2,FALSE())","v":"C"}]
["0821877","Viñals Espin, Emilia","Catalana","D",{"$f":"VLOOKUP(G392,Referencias!$C$4:$D$21,2,FALSE())","v":"Sin Categoría"},{"$f":"VLOOKUP(G392,Referencias!$C$4:$E$21,3,FALSE())","v":4},"SC","Competición",{"$f":"VLOOKUP(C392,Referencias!$B$24:$C$40,2,FALSE())","v":"C"}]
["0821879","Roqueta Alventosa, María del Carmen","Catalana","D",{"$f":"VLOOKUP(G393,Referencias!$C$4:$D$21,2,FALSE())","v":"Sin Categoría"},{"$f":"VLOOKUP(G393,Referencias!$C$4:$E$21,3,FALSE())","v":4},"SC","Competición",{"$f":"VLOOKUP(C393,Referencias!$B$24:$C$40,2,FALSE())","v":"C"}]
["0821883","Filella Cunill, Ramon","Catalana","C",{"$f":"VLOOKUP(G394,Referencias!$C$4:$D$21,2,FALSE())","v":"Primera Corazón"},{"$f":"VLOOKUP(G394,Referencias!$C$4:$E$21,3,FALSE())","v":1},"1C","Competición",{"$f":"VLOOKUP(C394,Referencias!$B$24:$C$40,2,FALSE())","v":"C"}]
["0821889","Guzmán Ferrer, Carmen","Catalana","D",{"$f":"VLOOKUP(G395,Referencias!$C$4:$D$21,2,FALSE())","v":"Sin Categoría"},{"$f":"VLOOKUP(G395,Referencias!$C$4:$E$21,3,FALSE())","v":4},"SC","Competición",{"$f":"VLOOKUP(C395,Referencias!$B$24:$C$40,2,FALSE())","v":"C"}]
["0821897","Ferrando, María Teresa","Catalana","D",{"$f":"VLOOKUP(G396,Referencias!$C$4:$D$21,2,FALSE())","v":"Sin Categoría"},{"$f":"VLOOKUP(G396,Referencias!$C$4:$E$21,3,FALSE())","v":4},"SC","Competición",{"$f":"VLOOKUP(C396,Referencias!$B$24:$C$40,2,FALSE())","v":"C"}]
["0821908","Leonori Almirall, Carmen","Catalana","D",{"$f":"VLOOKUP(G397,Referencias!$C$4:$D$21,2,FALSE())","v":"Sin Categoría"},{"$f":"VLOOKUP(G397,Referencias!$C$4:$E$21,3,FALSE())","v":4},"SC","Competición",{"$f":"VLOOKUP(C397,Referencias!$B$24:$C$40,2,FALSE())","v":"C"}]
["0821916","Soriano Planells, María Elena","Catalana","D",{"$f":"VLOOKUP(G398,Referencias!$C$4:$D$21,2,FALSE())","v":"Sin Categoría"},{"$f":"VLOOKUP(G398,Referencias!$C$4:$E$21,3,FALSE())","v":4},"SC","Competición",{"$f":"VLOOKUP(C398,Referencias!$B$24:$C$40,2,FALSE())","v":"C"}]
["0821924","Viladomiu Puig, Carmen","Catalana","D",{"$f":"VLOOKUP(G399,Referencias!$C$4:$D$21,2,FALSE())","v":"Sin Categoría"},{"$f":"VLOOKUP(G399,Referencias!$C$4:$E$21,3,FALSE())","v":4},"SC","Competición",{"$f":"VLOOKUP(C399,Referencias!$B$24:$C$40,2,FALSE())","v":"C"}]
["0821928","de Escalada, Mercedes","Catalana","D",{"$f":"VLOOKUP(G400,Referencias!$C$4:$D$21,2,FALSE())","v":"Sin Categoría"},{"$f":"VLOOKUP(G400,Referencias!$C$4:$E$21,3,FALSE())","v":4},"SC","Competición",{"$f":"VLOOKUP(C400,Referencias!$B$24:$C$40,2,FALSE())","v":"C"}]
["0821943","Soudan, Luc","Catalana","C",{"$f":"VLOOKUP(G401,Referencias!$C$4:$D$21,2,FALSE())","v":"Maestro Mundial Open"},{"$f":"VLOOKUP(G401,Referencias!$C$4:$E$21,3,FALSE())","v":0},"MM-O","Competición",{"$f":"VLOOKUP(C401,Referencias!$B$24:$C$40,2,FALSE())","v":"C"}]
["0821948","Suñol Torres, Llorenç","Catalana","C",{"$f":"VLOOKUP(G402,Referencias!$C$4:$D$21,2,FALSE())","v":"Primera Picas"},{"$f":"VLOOKUP(G402,Referencias!$C$4:$E$21,3,FALSE())","v":1},"1P","Competición",{"$f":"VLOOKUP(C402,Referencias!$B$24:$C$40,2,FALSE())","v":"C"}]
["0821956","Esque Durrande, Gaelle","Catalana","D",{"$f":"VLOOKUP(G403,Referencias!$C$4:$D$21,2,FALSE())","v":"Sin Categoría"},{"$f":"VLOOKUP(G403,Referencias!$C$4:$E$21,3,FALSE())","v":4},"SC","Competición",{"$f":"VLOOKUP(C403,Referencias!$B$24:$C$40,2,FALSE())","v":"C"}]
["0821959","Gómez Hierro, Ramón","Catalana","C",{"$f":"VLOOKUP(G404,Referencias!$C$4:$D$21,2,FALSE())","v":"Maestro Nacional Open"},{"$f":"VLOOKUP(G404,Referencias!$C$4:$E$21,3,FALSE())","v":0},"MN-O","Competición",{"$f":"VLOOKUP(C404,Referencias!$B$24:$C$40,2,FALSE())","v":"C"}]
["0821960","Priu Tous, Joan","Catalana","C",{"$f":"VLOOKUP(G405,Referencias!$C$4:$D$21,2,FALSE())","v":"Sin Categoría"},{"$f":"VLOOKUP(G405,Referencias!$C$4:$E$21,3,FALSE())","v":4},"SC","Competición",{"$f":"VLOOKUP(C405,Referencias!$B$24:$C$40,2,FALSE())","v":"C"}]
["0821971","Cañadas Sausas, Enrique","Catalana","C",{"$f":"VLOOKUP(G406,Referencias!$C$4:$D$21,2,FALSE())","v":"Sin Categoría"},{"$f":"VLOOKUP(G406,Referencias!$C$4:$E$21,3,FALSE())","v":4},"SC","Competición",{"$f":"VLOOKUP(C406,Referencias!$B$24:$C$40,2,FALSE())","v":"C"}]
["0821974","Massana, Aleix","Catalana","C",{"$f":"VLOOKUP(G407,Referencias!$C$4:$D$21,2,FALSE())","v":"Primera Picas"},{"$f":"VLOOKUP(G407,Referencias!$C$4:$E$21,3,FALSE())","v":1},"1P","Competición",{"$f":"VLOOKUP(C407,Referencias!$B$24:$C$40,2,FALSE())","v":"C"}]
["0821982","Rodil Santin, Sol","Catalana","D",{"$f":"VLOOKUP(G408,Referencias!$C$4:$D$21,2,FALSE())","v":"Sin Categoría"},{"$f":"VLOOKUP(G408,Referencias!$C$4:$E$21,3,FALSE())","v":4},"SC","Competición",{"$f":"VLOOKUP(C408,Referencias!$B$24:$C$40,2,FALSE())","v":"C"}]
["0821987","Castells Herrer, Miguel","Catalana","C",{"$f":"VLOOKUP(G409,Referencias!$C$4:$D$21,2,FALSE())","v":"Primera Picas"},{"$f":"VLOOKUP(G409,Referencias!$C$4:$E$21,3,FALSE())","v":1},"1P","Competición",{"$f":"VLOOKUP(C409,Referencias!$B$24:$C$40,2,FALSE())","v":"C"}]
["0821998","Santiago Rodríguez, Mercedes","Catalana","D",{"$f":"VLOOKUP(G410,Referencias!$C$4:$D$21,2,FALSE())","v":"Sin Categoría"},{"$f":"VLOOKUP(G410,Referencias!$C$4:$E$21,3,FALSE())","v":4},"SC","Competición",{"$f":"VLOOKUP(C410,Referencias!$B$24:$C$40,2,FALSE())","v":"C"}]
["0822027","Millet Fite, Salvador","Catalana","C",{"$f":"VLOOKUP(G411,Referencias!$C$4:$D$21,2,FALSE())","v":"Sin Categoría"},{"$f":"VLOOKUP(G411,Referencias!$C$4:$E$21,3,FALSE())","v":4},"SC","Competición",{"$f":"VLOOKUP(C411,Referencias!$B$24:$C$40,2,FALSE())","v":"C"}]
["0822031","Zapatero Lorca, Pilar","Catalana","D",{"$f":"VLOOKUP(G412,Referencias!$C$4:$D$21,2,FALSE())","v":"Sin Categoría"},{"$f":"VLOOKUP(G412,Referencias!$C$4:$E$21,3,FALSE())","v":4},"SC","Competición",{"$f":"VLOOKUP(C412,Referencias!$B$24:$C$40,2,FALSE())","v":"C"}]
["0822036","Casadella, José María","Catalana","C",{"$f":"VLOOKUP(G413,Referencias!$C$4:$D$21,2,FALSE())","v":"Sin Categoría"},{"$f":"VLOOKUP(G413,Referencias!$C$4:$E$21,3,FALSE())","v":4},"SC","Competición",{"$f":"VLOOKUP(C413,Referencias!$B$24:$C$40,2,FALSE())","v":"C"}]
["0822037","Brenner, Diego","Catalana","C",{"$f":"VLOOKUP(G414,Referencias!$C$4:$D$21,2,FALSE())","v":"Maestro Mundial Open"},{"$f":"VLOOKUP(G414,Referencias!$C$4:$E$21,3,FALSE())","v":0},"MM-O","Competición",{"$f":"VLOOKUP(C414,Referencias!$B$24:$C$40,2,FALSE())","v":"C"}]
["0822040","Ugalde, Marisa","Catalana","D",{"$f":"VLOOKUP(G415,Referencias!$C$4:$D$21,2,FALSE())","v":"Sin Categoría"},{"$f":"VLOOKUP(G415,Referencias!$C$4:$E$21,3,FALSE())","v":4},"SC","Competición",{"$f":"VLOOKUP(C415,Referencias!$B$24:$C$40,2,FALSE())","v":"C"}]
["0822042","Andreu Serra, Carlota","AEB","D",{"$f":"VLOOKUP(G416,Referencias!$C$4:$D$21,2,FALSE())","v":"Tercera Corazón"},{"$f":"VLOOKUP(G416,Referencias!$C$4:$E$21,3,FALSE())","v":3},"3C","Competición",{"$f":"VLOOKUP(C416,Referencias!$B$24:$C$40,2,FALSE())","v":{"$error":"#N/A"}}]
["0822051","Soler Masana, Pilar","Catalana","D",{"$f":"VLOOKUP(G417,Referencias!$C$4:$D$21,2,FALSE())","v":"Sin Categoría"},{"$f":"VLOOKUP(G417,Referencias!$C$4:$E$21,3,FALSE())","v":4},"SC","Competición",{"$f":"VLOOKUP(C417,Referencias!$B$24:$C$40,2,FALSE())","v":"C"}]
["0822052","Puigdomenech, Montse","Catalana","D",{"$f":"VLOOKUP(G418,Referencias!$C$4:$D$21,2,FALSE())","v":"Segunda Picas"},{"$f":"VLOOKUP(G418,Referencias!$C$4:$E$21,3,FALSE())","v":2},"2P","Competición",{"$f":"VLOOKUP(C418,Referencias!$B$24:$C$40,2,FALSE())","v":"C"}]
["0822054","Ceballos Cortés, Carmen","Catalana","D",{"$f":"VLOOKUP(G419,Referencias!$C$4:$D$21,2,FALSE())","v":"Primera Corazón"},{"$f":"VLOOKUP(G419,Referencias!$C$4:$E$21,3,FALSE())","v":1},"1C","Competición",{"$f":"VLOOKUP(C419,Referencias!$B$24:$C$40,2,FALSE())","v":"C"}]
["0822055","Serra Galobart, José Isidro","Catalana","C",{"$f":"VLOOKUP(G420,Referencias!$C$4:$D$21,2,FALSE())","v":"Primera Corazón"},{"$f":"VLOOKUP(G420,Referencias!$C$4:$E$21,3,FALSE())","v":1},"1C","Competición",{"$f":"VLOOKUP(C420,Referencias!$B$24:$C$40,2,FALSE())","v":"C"}]
["0822062","Olle Curiel, María Rosa","Catalana","D",{"$f":"VLOOKUP(G421,Referencias!$C$4:$D$21,2,FALSE())","v":"Sin Categoría"},{"$f":"VLOOKUP(G421,Referencias!$C$4:$E$21,3,FALSE())","v":4},"SC","Competición",{"$f":"VLOOKUP(C421,Referencias!$B$24:$C$40,2,FALSE())","v":"C"}]
["0822083","Vila Sagnier, Laura","Catalana","D",{"$f":"VLOOKUP(G422,Referencias!$C$4:$D$21,2,FALSE())","v":"Sin Categoría"},{"$f":"VLOOKUP(G422,Referencias!$C$4:$E$21,3,FALSE())","v":4},"SC","Competición",{"$f":"VLOOKUP(C422,Referencias!$B$24:$C$40,2,FALSE())","v":"C"}]
["0822086","Bocchi, Norberto","Catalana","C",{"$f":"VLOOKUP(G423,Referencias!$C$4:$D$21,2,FALSE())","v":"Maestro Mundial Open"},{"$f":"VLOOKUP(G423,Referencias!$C$4:$E$21,3,FALSE())","v":0},"MM-O","Competición",{"$f":"VLOOKUP(C423,Referencias!$B$24:$C$40,2,FALSE())","v":"C"}]
["0822088","Hortal Jodar, Joaquín","Catalana","C",{"$f":"VLOOKUP(G424,Referencias!$C$4:$D$21,2,FALSE())","v":"Segunda Picas"},{"$f":"VLOOKUP(G424,Referencias!$C$4:$E$21,3,FALSE())","v":2},"2P","Competición",{"$f":"VLOOKUP(C424,Referencias!$B$24:$C$40,2,FALSE())","v":"C"}]
["0822095","Porras Angostures, Susana","Catalana","D",{"$f":"VLOOKUP(G425,Referencias!$C$4:$D$21,2,FALSE())","v":"Segunda Corazón"},{"$f":"VLOOKUP(G425,Referencias!$C$4:$E$21,3,FALSE())","v":2},"2C","Competición",{"$f":"VLOOKUP(C425,Referencias!$B$24:$C$40,2,FALSE())","v":"C"}]
["0822097","Casals Fradera, Carlos","Catalana","C",{"$f":"VLOOKUP(G426,Referencias!$C$4:$D$21,2,FALSE())","v":"Segunda Diamante"},{"$f":"VLOOKUP(G426,Referencias!$C$4:$E$21,3,FALSE())","v":2},"2D","Competición",{"$f":"VLOOKUP(C426,Referencias!$B$24:$C$40,2,FALSE())","v":"C"}]
["0822106","Biscos Ezpeleta, Anunciación","Catalana","D",{"$f":"VLOOKUP(G427,Referencias!$C$4:$D$21,2,FALSE())","v":"Sin Categoría"},{"$f":"VLOOKUP(G427,Referencias!$C$4:$E$21,3,FALSE())","v":4},"SC","Competición",{"$f":"VLOOKUP(C427,Referencias!$B$24:$C$40,2,FALSE())","v":"C"}]
["0822114","Aldjem, Benno","Catalana","C",{"$f":"VLOOKUP(G428,Referencias!$C$4:$D$21,2,FALSE())","v":"Sin Categoría"},{"$f":"VLOOKUP(G428,Referencias!$C$4:$E$21,3,FALSE())","v":4},"SC","Competición",{"$f":"VLOOKUP(C428,Referencias!$B$24:$C$40,2,FALSE())","v":"C"}]
["0822121","Torrens Roig, Ricardo","Catalana","C",{"$f":"VLOOKUP(G429,Referencias!$C$4:$D$21,2,FALSE())","v":"Sin Categoría"},{"$f":"VLOOKUP(G429,Referencias!$C$4:$E$21,3,FALSE())","v":4},"SC","Competición",{"$f":"VLOOKUP(C429,Referencias!$B$24:$C$40,2,FALSE())","v":"C"}]
["0822123","Pelzer, Raymond","Catalana","C",{"$f":"VLOOKUP(G430,Referencias!$C$4:$D$21,2,FALSE())","v":"Sin Categoría"},{"$f":"VLOOKUP(G430,Referencias!$C$4:$E$21,3,FALSE())","v":4},"SC","Competición",{"$f":"VLOOKUP(C430,Referencias!$B$24:$C$40,2,FALSE())","v":"C"}]
["0822127","Pujol Llopart, Celia","Catalana","D",{"$f":"VLOOKUP(G431,Referencias!$C$4:$D$21,2,FALSE())","v":"Sin Categoría"},{"$f":"VLOOKUP(G431,Referencias!$C$4:$E$21,3,FALSE())","v":4},"SC","Competición",{"$f":"VLOOKUP(C431,Referencias!$B$24:$C$40,2,FALSE())","v":"C"}]
["0822130","García-Valdecasas Salgado, Margarita","Catalana","D",{"$f":"VLOOKUP(G432,Referencias!$C$4:$D$21,2,FALSE())","v":"Sin Categoría"},{"$f":"VLOOKUP(G432,Referencias!$C$4:$E$21,3,FALSE())","v":4},"SC","Competición",{"$f":"VLOOKUP(C432,Referencias!$B$24:$C$40,2,FALSE())","v":"C"}]
["0822131","Manchado Alemany, Anna María","Catalana","D",{"$f":"VLOOKUP(G433,Referencias!$C$4:$D$21,2,FALSE())","v":"Sin Categoría"},{"$f":"VLOOKUP(G433,Referencias!$C$4:$E$21,3,FALSE())","v":4},"SC","Competición",{"$f":"VLOOKUP(C433,Referencias!$B$24:$C$40,2,FALSE())","v":"C"}]
["0822142","Jordá López, Carles","Catalana","C",{"$f":"VLOOKUP(G434,Referencias!$C$4:$D$21,2,FALSE())","v":"Sin Categoría"},{"$f":"VLOOKUP(G434,Referencias!$C$4:$E$21,3,FALSE())","v":4},"SC","Competición",{"$f":"VLOOKUP(C434,Referencias!$B$24:$C$40,2,FALSE())","v":"C"}]
["0822143","Pérez Arbalat, Lourdes","Catalana","D",{"$f":"VLOOKUP(G435,Referencias!$C$4:$D$21,2,FALSE())","v":"Sin Categoría"},{"$f":"VLOOKUP(G435,Referencias!$C$4:$E$21,3,FALSE())","v":4},"SC","Competición",{"$f":"VLOOKUP(C435,Referencias!$B$24:$C$40,2,FALSE())","v":"C"}]
["0822144","Espinosa Goedert, Teha","Catalana","D",{"$f":"VLOOKUP(G436,Referencias!$C$4:$D$21,2,FALSE())","v":"Sin Categoría"},{"$f":"VLOOKUP(G436,Referencias!$C$4:$E$21,3,FALSE())","v":4},"SC","Competición",{"$f":"VLOOKUP(C436,Referencias!$B$24:$C$40,2,FALSE())","v":"C"}]
["0822146","Alsina, Isabel","Catalana","D",{"$f":"VLOOKUP(G437,Referencias!$C$4:$D$21,2,FALSE())","v":"Sin Categoría"},{"$f":"VLOOKUP(G437,Referencias!$C$4:$E$21,3,FALSE())","v":4},"SC","Competición",{"$f":"VLOOKUP(C437,Referencias!$B$24:$C$40,2,FALSE())","v":"C"}]
["0822151","Trias Folch, Nuria","Catalana","D",{"$f":"VLOOKUP(G438,Referencias!$C$4:$D$21,2,FALSE())","v":"Sin Categoría"},{"$f":"VLOOKUP(G438,Referencias!$C$4:$E$21,3,FALSE())","v":4},"SC","Competición",{"$f":"VLOOKUP(C438,Referencias!$B$24:$C$40,2,FALSE())","v":"C"}]
["0822156","Blajot Domingo, Manuel","Catalana","C",{"$f":"VLOOKUP(G439,Referencias!$C$4:$D$21,2,FALSE())","v":"Tercera Diamante"},{"$f":"VLOOKUP(G439,Referencias!$C$4:$E$21,3,FALSE())","v":3},"3D","Competición",{"$f":"VLOOKUP(C439,Referencias!$B$24:$C$40,2,FALSE())","v":"C"}]
["0822161","Font Quer, Gabriela","Catalana","D",{"$f":"VLOOKUP(G440,Referencias!$C$4:$D$21,2,FALSE())","v":"Primera Diamante"},{"$f":"VLOOKUP(G440,Referencias!$C$4:$E$21,3,FALSE())","v":1},"1D","Competición",{"$f":"VLOOKUP(C440,Referencias!$B$24:$C$40,2,FALSE())","v":"C"}]
["0822162","Brugueras Berenguer, José Antonio","Catalana","D",{"$f":"VLOOKUP(G441,Referencias!$C$4:$D$21,2,FALSE())","v":"Sin Categoría"},{"$f":"VLOOKUP(G441,Referencias!$C$4:$E$21,3,FALSE())","v":4},"SC","Competición",{"$f":"VLOOKUP(C441,Referencias!$B$24:$C$40,2,FALSE())","v":"C"}]
["0822173","Sáenz de Cabezón Millet, Marta","Catalana","D",{"$f":"VLOOKUP(G442,Referencias!$C$4:$D$21,2,FALSE())","v":"Primera Corazón"},{"$f":"VLOOKUP(G442,Referencias!$C$4:$E$21,3,FALSE())","v":1},"1C","Competición",{"$f":"VLOOKUP(C442,Referencias!$B$24:$C$40,2,FALSE())","v":"C"}]
["0822176","Frowein, Marisa","Catalana","D",{"$f":"VLOOKUP(G443,Referencias!$C$4:$D$21,2,FALSE())","v":"Tercera Corazón"},{"$f":"VLOOKUP(G443,Referencias!$C$4:$E$21,3,FALSE())","v":3},"3C","Competición",{"$f":"VLOOKUP(C443,Referencias!$B$24:$C$40,2,FALSE())","v":"C"}]
["0822177","Claville Maña, Montse","Catalana","D",{"$f":"VLOOKUP(G444,Referencias!$C$4:$D$21,2,FALSE())","v":"Segunda Picas"},{"$f":"VLOOKUP(G444,Referencias!$C$4:$E$21,3,FALSE())","v":2},"2P","Competición",{"$f":"VLOOKUP(C444,Referencias!$B$24:$C$40,2,FALSE())","v":"C"}]
["0822184","Zurita Moya, Pilar","Catalana","D",{"$f":"VLOOKUP(G445,Referencias!$C$4:$D$21,2,FALSE())","v":"Sin Categoría"},{"$f":"VLOOKUP(G445,Referencias!$C$4:$E$21,3,FALSE())","v":4},"SC","Competición",{"$f":"VLOOKUP(C445,Referencias!$B$24:$C$40,2,FALSE())","v":"C"}]
["0822190","Roncero Escudero, Adeka","Catalana","D",{"$f":"VLOOKUP(G446,Referencias!$C$4:$D$21,2,FALSE())","v":"Sin Categoría"},{"$f":"VLOOKUP(G446,Referencias!$C$4:$E$21,3,FALSE())","v":4},"SC","Competición",{"$f":"VLOOKUP(C446,Referencias!$B$24:$C$40,2,FALSE())","v":"C"}]
["0822194","Suárez Planes, Nieves","Catalana","D",{"$f":"VLOOKUP(G447,Referencias!$C$4:$D$21,2,FALSE())","v":"Sin Categoría"},{"$f":"VLOOKUP(G447,Referencias!$C$4:$E$21,3,FALSE())","v":4},"SC","Competición",{"$f":"VLOOKUP(C447,Referencias!$B$24:$C$40,2,FALSE())","v":"C"}]
["0822195","Capel Souto, Anna","Catalana","D",{"$f":"VLOOKUP(G448,Referencias!$C$4:$D$21,2,FALSE())","v":"Sin Categoría"},{"$f":"VLOOKUP(G448,Referencias!$C$4:$E$21,3,FALSE())","v":4},"SC","Competición",{"$f":"VLOOKUP(C448,Referencias!$B$24:$C$40,2,FALSE())","v":"C"}]
["0822200","Buqueras, Carmen","Catalana","D",{"$f":"VLOOKUP(G449,Referencias!$C$4:$D$21,2,FALSE())","v":"Sin Categoría"},{"$f":"VLOOKUP(G449,Referencias!$C$4:$E$21,3,FALSE())","v":4},"SC","Competición",{"$f":"VLOOKUP(C449,Referencias!$B$24:$C$40,2,FALSE())","v":"C"}]
["0822210","Fonoll Torres, María del Carmen","Catalana","D",{"$f":"VLOOKUP(G450,Referencias!$C$4:$D$21,2,FALSE())","v":"Sin Categoría"},{"$f":"VLOOKUP(G450,Referencias!$C$4:$E$21,3,FALSE())","v":4},"SC","Competición",{"$f":"VLOOKUP(C450,Referencias!$B$24:$C$40,2,FALSE())","v":"C"}]
["0822216","Riera Elias, Merce","Catalana","D",{"$f":"VLOOKUP(G451,Referencias!$C$4:$D$21,2,FALSE())","v":"Sin Categoría"},{"$f":"VLOOKUP(G451,Referencias!$C$4:$E$21,3,FALSE())","v":4},"SC","Competición",{"$f":"VLOOKUP(C451,Referencias!$B$24:$C$40,2,FALSE())","v":"C"}]
["0822223","Borque, Montse","Catalana","D",{"$f":"VLOOKUP(G452,Referencias!$C$4:$D$21,2,FALSE())","v":"Sin Categoría"},{"$f":"VLOOKUP(G452,Referencias!$C$4:$E$21,3,FALSE())","v":4},"SC","Competición",{"$f":"VLOOKUP(C452,Referencias!$B$24:$C$40,2,FALSE())","v":"C"}]
["0822230","Balcells García, Alfredo","Catalana","C",{"$f":"VLOOKUP(G453,Referencias!$C$4:$D$21,2,FALSE())","v":"Sin Categoría"},{"$f":"VLOOKUP(G453,Referencias!$C$4:$E$21,3,FALSE())","v":4},"SC","Competición",{"$f":"VLOOKUP(C453,Referencias!$B$24:$C$40,2,FALSE())","v":"C"}]
["0822238","Ortega Gutiérrez-Maturana, Marcelo","Catalana","C",{"$f":"VLOOKUP(G454,Referencias!$C$4:$D$21,2,FALSE())","v":"Sin Categoría"},{"$f":"VLOOKUP(G454,Referencias!$C$4:$E$21,3,FALSE())","v":4},"SC","Competición",{"$f":"VLOOKUP(C454,Referencias!$B$24:$C$40,2,FALSE())","v":"C"}]
["0822241","Marti Ruffo, Josep María","Catalana","C",{"$f":"VLOOKUP(G455,Referencias!$C$4:$D$21,2,FALSE())","v":"Sin Categoría"},{"$f":"VLOOKUP(G455,Referencias!$C$4:$E$21,3,FALSE())","v":4},"SC","Competición",{"$f":"VLOOKUP(C455,Referencias!$B$24:$C$40,2,FALSE())","v":"C"}]
["0822245","Constanti Cuende, Arturo","Catalana","C",{"$f":"VLOOKUP(G456,Referencias!$C$4:$D$21,2,FALSE())","v":"Segunda Diamante"},{"$f":"VLOOKUP(G456,Referencias!$C$4:$E$21,3,FALSE())","v":2},"2D","Competición",{"$f":"VLOOKUP(C456,Referencias!$B$24:$C$40,2,FALSE())","v":"C"}]
["0822251","Fondevila Nadal, José Antonio","Catalana","C",{"$f":"VLOOKUP(G457,Referencias!$C$4:$D$21,2,FALSE())","v":"Sin Categoría"},{"$f":"VLOOKUP(G457,Referencias!$C$4:$E$21,3,FALSE())","v":4},"SC","Competición",{"$f":"VLOOKUP(C457,Referencias!$B$24:$C$40,2,FALSE())","v":"C"}]
["0822252","Marín Puig, Belén","Catalana","D",{"$f":"VLOOKUP(G458,Referencias!$C$4:$D$21,2,FALSE())","v":"Sin Categoría"},{"$f":"VLOOKUP(G458,Referencias!$C$4:$E$21,3,FALSE())","v":4},"SC","Competición",{"$f":"VLOOKUP(C458,Referencias!$B$24:$C$40,2,FALSE())","v":"C"}]
["0822257","Lillo Espinosa, Rosa María","Catalana","D",{"$f":"VLOOKUP(G459,Referencias!$C$4:$D$21,2,FALSE())","v":"Segunda Corazón"},{"$f":"VLOOKUP(G459,Referencias!$C$4:$E$21,3,FALSE())","v":2},"2C","Competición",{"$f":"VLOOKUP(C459,Referencias!$B$24:$C$40,2,FALSE())","v":"C"}]
["0822258","Pereiras Juan, Lidia","Catalana","D",{"$f":"VLOOKUP(G460,Referencias!$C$4:$D$21,2,FALSE())","v":"Sin Categoría"},{"$f":"VLOOKUP(G460,Referencias!$C$4:$E$21,3,FALSE())","v":4},"SC","Competición",{"$f":"VLOOKUP(C460,Referencias!$B$24:$C$40,2,FALSE())","v":"C"}]
["0822260","Gerlach Kayser, Eva María","Catalana","D",{"$f":"VLOOKUP(G461,Referencias!$C$4:$D$21,2,FALSE())","v":"Sin Categoría"},{"$f":"VLOOKUP(G461,Referencias!$C$4:$E$21,3,FALSE())","v":4},"SC","Competición",{"$f":"VLOOKUP(C461,Referencias!$B$24:$C$40,2,FALSE())","v":"C"}]
["0822261","Rodríguez Díaz, Montserrat","Catalana","D",{"$f":"VLOOKUP(G462,Referencias!$C$4:$D$21,2,FALSE())","v":"Sin Categoría"},{"$f":"VLOOKUP(G462,Referencias!$C$4:$E$21,3,FALSE())","v":4},"SC","Competición",{"$f":"VLOOKUP(C462,Referencias!$B$24:$C$40,2,FALSE())","v":"C"}]
["0822269","Durán, Consuelo","Catalana","D",{"$f":"VLOOKUP(G463,Referencias!$C$4:$D$21,2,FALSE())","v":"Sin Categoría"},{"$f":"VLOOKUP(G463,Referencias!$C$4:$E$21,3,FALSE())","v":4},"SC","Competición",{"$f":"VLOOKUP(C463,Referencias!$B$24:$C$40,2,FALSE())","v":"C"}]
["0822276","Pons Serra, Ana María","Catalana","D",{"$f":"VLOOKUP(G464,Referencias!$C$4:$D$21,2,FALSE())","v":"Sin Categoría"},{"$f":"VLOOKUP(G464,Referencias!$C$4:$E$21,3,FALSE())","v":4},"SC","Competición",{"$f":"VLOOKUP(C464,Referencias!$B$24:$C$40,2,FALSE())","v":"C"}]
["0822281","Ortega Torres, Mercedes","Catalana","D",{"$f":"VLOOKUP(G465,Referencias!$C$4:$D$21,2,FALSE())","v":"Sin Categoría"},{"$f":"VLOOKUP(G465,Referencias!$C$4:$E$21,3,FALSE())","v":4},"SC","Competición",{"$f":"VLOOKUP(C465,Referencias!$B$24:$C$40,2,FALSE())","v":"C"}]
["0822284","Sabanes, Montse","Catalana","D",{"$f":"VLOOKUP(G466,Referencias!$C$4:$D$21,2,FALSE())","v":"Sin Categoría"},{"$f":"VLOOKUP(G466,Referencias!$C$4:$E$21,3,FALSE())","v":4},"SC","Competición",{"$f":"VLOOKUP(C466,Referencias!$B$24:$C$40,2,FALSE())","v":"C"}]
["0822291","Díaz, Ana","Catalana","D",{"$f":"VLOOKUP(G467,Referencias!$C$4:$D$21,2,FALSE())","v":"Sin Categoría"},{"$f":"VLOOKUP(G467,Referencias!$C$4:$E$21,3,FALSE())","v":4},"SC","Competición",{"$f":"VLOOKUP(C467,Referencias!$B$24:$C$40,2,FALSE())","v":"C"}]
["0822294","Verge Grau, María","Catalana","D",{"$f":"VLOOKUP(G468,Referencias!$C$4:$D$21,2,FALSE())","v":"Sin Categoría"},{"$f":"VLOOKUP(G468,Referencias!$C$4:$E$21,3,FALSE())","v":4},"SC","Competición",{"$f":"VLOOKUP(C468,Referencias!$B$24:$C$40,2,FALSE())","v":"C"}]
["0822296","García Arbex, Juan José","Catalana","C",{"$f":"VLOOKUP(G469,Referencias!$C$4:$D$21,2,FALSE())","v":"Sin Categoría"},{"$f":"VLOOKUP(G469,Referencias!$C$4:$E$21,3,FALSE())","v":4},"SC","Competición",{"$f":"VLOOKUP(C469,Referencias!$B$24:$C$40,2,FALSE())","v":"C"}]
["0822297","Marinel Lo Amat, Juan","Catalana","C",{"$f":"VLOOKUP(G470,Referencias!$C$4:$D$21,2,FALSE())","v":"Tercera Corazón"},{"$f":"VLOOKUP(G470,Referencias!$C$4:$E$21,3,FALSE())","v":3},"3C","Competición",{"$f":"VLOOKUP(C470,Referencias!$B$24:$C$40,2,FALSE())","v":"C"}]
["0822302","García Canet, María Ángeles","Catalana","D",{"$f":"VLOOKUP(G471,Referencias!$C$4:$D$21,2,FALSE())","v":"Primera Corazón"},{"$f":"VLOOKUP(G471,Referencias!$C$4:$E$21,3,FALSE())","v":1},"1C","Competición",{"$f":"VLOOKUP(C471,Referencias!$B$24:$C$40,2,FALSE())","v":"C"}]
["0822303","Yagüe Romero, Juan José","Catalana","C",{"$f":"VLOOKUP(G472,Referencias!$C$4:$D$21,2,FALSE())","v":"Primera Corazón"},{"$f":"VLOOKUP(G472,Referencias!$C$4:$E$21,3,FALSE())","v":1},"1C","Competición",{"$f":"VLOOKUP(C472,Referencias!$B$24:$C$40,2,FALSE())","v":"C"}]
["0822306","Wendt, Teresa María","Catalana","D",{"$f":"VLOOKUP(G473,Referencias!$C$4:$D$21,2,FALSE())","v":"Sin Categoría"},{"$f":"VLOOKUP(G473,Referencias!$C$4:$E$21,3,FALSE())","v":4},"SC","Competición",{"$f":"VLOOKUP(C473,Referencias!$B$24:$C$40,2,FALSE())","v":"C"}]
["0822317","Pallares Just, Nuria","Catalana","D",{"$f":"VLOOKUP(G474,Referencias!$C$4:$D$21,2,FALSE())","v":"Segunda Picas"},{"$f":"VLOOKUP(G474,Referencias!$C$4:$E$21,3,FALSE())","v":2},"2P","Competición",{"$f":"VLOOKUP(C474,Referencias!$B$24:$C$40,2,FALSE())","v":"C"}]
["0822318","Gras de Molins, Miguel","Catalana","C",{"$f":"VLOOKUP(G475,Referencias!$C$4:$D$21,2,FALSE())","v":"Segunda Picas"},{"$f":"VLOOKUP(G475,Referencias!$C$4:$E$21,3,FALSE())","v":2},"2P","Competición",{"$f":"VLOOKUP(C475,Referencias!$B$24:$C$40,2,FALSE())","v":"C"}]
["0822320","Sagimón de Falcón, Janet","Catalana","D",{"$f":"VLOOKUP(G476,Referencias!$C$4:$D$21,2,FALSE())","v":"Tercera Diamante"},{"$f":"VLOOKUP(G476,Referencias!$C$4:$E$21,3,FALSE())","v":3},"3D","Competición",{"$f":"VLOOKUP(C476,Referencias!$B$24:$C$40,2,FALSE())","v":"C"}]
["0822324","Esquirol Zuloaga, Ignacio","Catalana","C",{"$f":"VLOOKUP(G477,Referencias!$C$4:$D$21,2,FALSE())","v":"Sin Categoría"},{"$f":"VLOOKUP(G477,Referencias!$C$4:$E$21,3,FALSE())","v":4},"SC","Competición",{"$f":"VLOOKUP(C477,Referencias!$B$24:$C$40,2,FALSE())","v":"C"}]
["0822332","Segura Cros, Mónica","Catalana","D",{"$f":"VLOOKUP(G478,Referencias!$C$4:$D$21,2,FALSE())","v":"Sin Categoría"},{"$f":"VLOOKUP(G478,Referencias!$C$4:$E$21,3,FALSE())","v":4},"SC","Competición",{"$f":"VLOOKUP(C478,Referencias!$B$24:$C$40,2,FALSE())","v":"C"}]
["0822335","Vendrell Jorge, María Rosa","Catalana","D",{"$f":"VLOOKUP(G479,Referencias!$C$4:$D$21,2,FALSE())","v":"Sin Categoría"},{"$f":"VLOOKUP(G479,Referencias!$C$4:$E$21,3,FALSE())","v":4},"SC","Competición",{"$f":"VLOOKUP(C479,Referencias!$B$24:$C$40,2,FALSE())","v":"C"}]
["0822337","Fradera Giro, Mariona","Catalana","D",{"$f":"VLOOKUP(G480,Referencias!$C$4:$D$21,2,FALSE())","v":"Sin Categoría"},{"$f":"VLOOKUP(G480,Referencias!$C$4:$E$21,3,FALSE())","v":4},"SC","Competición",{"$f":"VLOOKUP(C480,Referencias!$B$24:$C$40,2,FALSE())","v":"C"}]
["0822351","Seinen, Siger","Catalana","C",{"$f":"VLOOKUP(G481,Referencias!$C$4:$D$21,2,FALSE())","v":"Sin Categoría"},{"$f":"VLOOKUP(G481,Referencias!$C$4:$E$21,3,FALSE())","v":4},"SC","Competición",{"$f":"VLOOKUP(C481,Referencias!$B$24:$C$40,2,FALSE())","v":"C"}]
["0822368","Pongiluppi Junca, Angels","Catalana","D",{"$f":"VLOOKUP(G482,Referencias!$C$4:$D$21,2,FALSE())","v":"Sin Categoría"},{"$f":"VLOOKUP(G482,Referencias!$C$4:$E$21,3,FALSE())","v":4},"SC","Competición",{"$f":"VLOOKUP(C482,Referencias!$B$24:$C$40,2,FALSE())","v":"C"}]
["0822371","Delgado Garriga, Ana","Catalana","D",{"$f":"VLOOKUP(G483,Referencias!$C$4:$D$21,2,FALSE())","v":"Sin Categoría"},{"$f":"VLOOKUP(G483,Referencias!$C$4:$E$21,3,FALSE())","v":4},"SC","Competición",{"$f":"VLOOKUP(C483,Referencias!$B$24:$C$40,2,FALSE())","v":"C"}]
["0822376","González Callejo, José","Catalana","C",{"$f":"VLOOKUP(G484,Referencias!$C$4:$D$21,2,FALSE())","v":"Primera Diamante"},{"$f":"VLOOKUP(G484,Referencias!$C$4:$E$21,3,FALSE())","v":1},"1D","Competición",{"$f":"VLOOKUP(C484,Referencias!$B$24:$C$40,2,FALSE())","v":"C"}]
["0822382","Moure Sanjurjo, Teresa","Catalana","D",{"$f":"VLOOKUP(G485,Referencias!$C$4:$D$21,2,FALSE())","v":"Sin Categoría"},{"$f":"VLOOKUP(G485,Referencias!$C$4:$E$21,3,FALSE())","v":4},"SC","Competición",{"$f":"VLOOKUP(C485,Referencias!$B$24:$C$40,2,FALSE())","v":"C"}]
["0822386","Salvany Rius, Joaquim Jordi","Catalana","C",{"$f":"VLOOKUP(G486,Referencias!$C$4:$D$21,2,FALSE())","v":"Primera Diamante"},{"$f":"VLOOKUP(G486,Referencias!$C$4:$E$21,3,FALSE())","v":1},"1D","Competición",{"$f":"VLOOKUP(C486,Referencias!$B$24:$C$40,2,FALSE())","v":"C"}]
["0822393","Bigas Bonamusa, Jaume","Catalana","C",{"$f":"VLOOKUP(G487,Referencias!$C$4:$D$21,2,FALSE())","v":"Segunda Corazón"},{"$f":"VLOOKUP(G487,Referencias!$C$4:$E$21,3,FALSE())","v":2},"2C","Competición",{"$f":"VLOOKUP(C487,Referencias!$B$24:$C$40,2,FALSE())","v":"C"}]
["0822395","Romeu Llaudet, Lluis","Catalana","C",{"$f":"VLOOKUP(G488,Referencias!$C$4:$D$21,2,FALSE())","v":"Sin Categoría"},{"$f":"VLOOKUP(G488,Referencias!$C$4:$E$21,3,FALSE())","v":4},"SC","Competición",{"$f":"VLOOKUP(C488,Referencias!$B$24:$C$40,2,FALSE())","v":"C"}]
["0822397","Cabestany Illana, Eva","Catalana","D",{"$f":"VLOOKUP(G489,Referencias!$C$4:$D$21,2,FALSE())","v":"Sin Categoría"},{"$f":"VLOOKUP(G489,Referencias!$C$4:$E$21,3,FALSE())","v":4},"SC","Competición",{"$f":"VLOOKUP(C489,Referencias!$B$24:$C$40,2,FALSE())","v":"C"}]
["0822400","Gual Feliu, Victoria","Catalana","D",{"$f":"VLOOKUP(G490,Referencias!$C$4:$D$21,2,FALSE())","v":"Sin Categoría"},{"$f":"VLOOKUP(G490,Referencias!$C$4:$E$21,3,FALSE())","v":4},"SC","Competición",{"$f":"VLOOKUP(C490,Referencias!$B$24:$C$40,2,FALSE())","v":"C"}]
["0822402","Jaulent Iglesias, Esther","Catalana","D",{"$f":"VLOOKUP(G491,Referencias!$C$4:$D$21,2,FALSE())","v":"Sin Categoría"},{"$f":"VLOOKUP(G491,Referencias!$C$4:$E$21,3,FALSE())","v":4},"SC","Competición",{"$f":"VLOOKUP(C491,Referencias!$B$24:$C$40,2,FALSE())","v":"C"}]
["0822403","Massot, Eva","Catalana","D",{"$f":"VLOOKUP(G492,Referencias!$C$4:$D$21,2,FALSE())","v":"Sin Categoría"},{"$f":"VLOOKUP(G492,Referencias!$C$4:$E$21,3,FALSE())","v":4},"SC","Competición",{"$f":"VLOOKUP(C492,Referencias!$B$24:$C$40,2,FALSE())","v":"C"}]
["0822404","González, María Pilar","Catalana","D",{"$f":"VLOOKUP(G493,Referencias!$C$4:$D$21,2,FALSE())","v":"Sin Categoría"},{"$f":"VLOOKUP(G493,Referencias!$C$4:$E$21,3,FALSE())","v":4},"SC","Competición",{"$f":"VLOOKUP(C493,Referencias!$B$24:$C$40,2,FALSE())","v":"C"}]
["0822412","Nieto Ibañez, Juan Manuel","Catalana","C",{"$f":"VLOOKUP(G494,Referencias!$C$4:$D$21,2,FALSE())","v":"Sin Categoría"},{"$f":"VLOOKUP(G494,Referencias!$C$4:$E$21,3,FALSE())","v":4},"SC","Competición",{"$f":"VLOOKUP(C494,Referencias!$B$24:$C$40,2,FALSE())","v":"C"}]
["0822413","Bisbal Lafoz, Antoni","Catalana","C",{"$f":"VLOOKUP(G495,Referencias!$C$4:$D$21,2,FALSE())","v":"Sin Categoría"},{"$f":"VLOOKUP(G495,Referencias!$C$4:$E$21,3,FALSE())","v":4},"SC","Competición",{"$f":"VLOOKUP(C495,Referencias!$B$24:$C$40,2,FALSE())","v":"C"}]
["0822415","Serra Sanz, Meritxell","Catalana","D",{"$f":"VLOOKUP(G496,Referencias!$C$4:$D$21,2,FALSE())","v":"Sin Categoría"},{"$f":"VLOOKUP(G496,Referencias!$C$4:$E$21,3,FALSE())","v":4},"SC","Competición",{"$f":"VLOOKUP(C496,Referencias!$B$24:$C$40,2,FALSE())","v":"C"}]
["0822417","Palomas Prat, Montserrat","Catalana","D",{"$f":"VLOOKUP(G497,Referencias!$C$4:$D$21,2,FALSE())","v":"Sin Categoría"},{"$f":"VLOOKUP(G497,Referencias!$C$4:$E$21,3,FALSE())","v":4},"SC","Competición",{"$f":"VLOOKUP(C497,Referencias!$B$24:$C$40,2,FALSE())","v":"C"}]
["0822421","Ballabriga Muñoz, Pilar","Catalana","D",{"$f":"VLOOKUP(G498,Referencias!$C$4:$D$21,2,FALSE())","v":"Sin Categoría"},{"$f":"VLOOKUP(G498,Referencias!$C$4:$E$21,3,FALSE())","v":4},"SC","Competición",{"$f":"VLOOKUP(C498,Referencias!$B$24:$C$40,2,FALSE())","v":"C"}]
["0822424","Torrents Carcasona, Pepita","Catalana","D",{"$f":"VLOOKUP(G499,Referencias!$C$4:$D$21,2,FALSE())","v":"Sin Categoría"},{"$f":"VLOOKUP(G499,Referencias!$C$4:$E$21,3,FALSE())","v":4},"SC","Competición",{"$f":"VLOOKUP(C499,Referencias!$B$24:$C$40,2,FALSE())","v":"C"}]
["0822425","Masso Ubeda, Marta","Catalana","D",{"$f":"VLOOKUP(G500,Referencias!$C$4:$D$21,2,FALSE())","v":"Sin Categoría"},{"$f":"VLOOKUP(G500,Referencias!$C$4:$E$21,3,FALSE())","v":4},"SC","Competición",{"$f":"VLOOKUP(C500,Referencias!$B$24:$C$40,2,FALSE())","v":"C"}]
["0822428","Jou Elena, Alexia","Catalana","D",{"$f":"VLOOKUP(G501,Referencias!$C$4:$D$21,2,FALSE())","v":"Sin Categoría"},{"$f":"VLOOKUP(G501,Referencias!$C$4:$E$21,3,FALSE())","v":4},"SC","Competición",{"$f":"VLOOKUP(C501,Referencias!$B$24:$C$40,2,FALSE())","v":"C"}]
["0822434","Rotes Mas, Carmen","Catalana","D",{"$f":"VLOOKUP(G502,Referencias!$C$4:$D$21,2,FALSE())","v":"Sin Categoría"},{"$f":"VLOOKUP(G502,Referencias!$C$4:$E$21,3,FALSE())","v":4},"SC","Competición",{"$f":"VLOOKUP(C502,Referencias!$B$24:$C$40,2,FALSE())","v":"C"}]
["0822436","Torner Busom, Silvia","Catalana","D",{"$f":"VLOOKUP(G503,Referencias!$C$4:$D$21,2,FALSE())","v":"Sin Categoría"},{"$f":"VLOOKUP(G503,Referencias!$C$4:$E$21,3,FALSE())","v":4},"SC","Competición",{"$f":"VLOOKUP(C503,Referencias!$B$24:$C$40,2,FALSE())","v":"C"}]
["0822440","Llagostera Soto, Esther","Catalana","D",{"$f":"VLOOKUP(G504,Referencias!$C$4:$D$21,2,FALSE())","v":"Segunda Corazón"},{"$f":"VLOOKUP(G504,Referencias!$C$4:$E$21,3,FALSE())","v":2},"2C","Competición",{"$f":"VLOOKUP(C504,Referencias!$B$24:$C$40,2,FALSE())","v":"C"}]
["0822442","Rodríguez Gil, Javier","Catalana","C",{"$f":"VLOOKUP(G505,Referencias!$C$4:$D$21,2,FALSE())","v":"Tercera Picas"},{"$f":"VLOOKUP(G505,Referencias!$C$4:$E$21,3,FALSE())","v":3},"3P","Competición",{"$f":"VLOOKUP(C505,Referencias!$B$24:$C$40,2,FALSE())","v":"C"}]
["0822449","Madrazo Serna, José Manuel","Catalana","C",{"$f":"VLOOKUP(G506,Referencias!$C$4:$D$21,2,FALSE())","v":"Segunda Corazón"},{"$f":"VLOOKUP(G506,Referencias!$C$4:$E$21,3,FALSE())","v":2},"2C","Competición",{"$f":"VLOOKUP(C506,Referencias!$B$24:$C$40,2,FALSE())","v":"C"}]
["0822451","Linares del Valle, Joaquina","Catalana","D",{"$f":"VLOOKUP(G507,Referencias!$C$4:$D$21,2,FALSE())","v":"Sin Categoría"},{"$f":"VLOOKUP(G507,Referencias!$C$4:$E$21,3,FALSE())","v":4},"SC","Competición",{"$f":"VLOOKUP(C507,Referencias!$B$24:$C$40,2,FALSE())","v":"C"}]
["0822452","Benmayor, Claire","Catalana","D",{"$f":"VLOOKUP(G508,Referencias!$C$4:$D$21,2,FALSE())","v":"Sin Categoría"},{"$f":"VLOOKUP(G508,Referencias!$C$4:$E$21,3,FALSE())","v":4},"SC","Competición",{"$f":"VLOOKUP(C508,Referencias!$B$24:$C$40,2,FALSE())","v":"C"}]
["0822463","Agut, Tomás","Catalana","C",{"$f":"VLOOKUP(G509,Referencias!$C$4:$D$21,2,FALSE())","v":"Sin Categoría"},{"$f":"VLOOKUP(G509,Referencias!$C$4:$E$21,3,FALSE())","v":4},"SC","Competición",{"$f":"VLOOKUP(C509,Referencias!$B$24:$C$40,2,FALSE())","v":"C"}]
["0822464","Casals Fradera, Juan","Catalana","C",{"$f":"VLOOKUP(G510,Referencias!$C$4:$D$21,2,FALSE())","v":"Tercera Diamante"},{"$f":"VLOOKUP(G510,Referencias!$C$4:$E$21,3,FALSE())","v":3},"3D","Competición",{"$f":"VLOOKUP(C510,Referencias!$B$24:$C$40,2,FALSE())","v":"C"}]
["0822465","Flotats Moya, Teresa","Catalana","D",{"$f":"VLOOKUP(G511,Referencias!$C$4:$D$21,2,FALSE())","v":"Sin Categoría"},{"$f":"VLOOKUP(G511,Referencias!$C$4:$E$21,3,FALSE())","v":4},"SC","Competición",{"$f":"VLOOKUP(C511,Referencias!$B$24:$C$40,2,FALSE())","v":"C"}]
["0822466","Pascual Ruiz, Carles","Catalana","C",{"$f":"VLOOKUP(G512,Referencias!$C$4:$D$21,2,FALSE())","v":"Sin Categoría"},{"$f":"VLOOKUP(G512,Referencias!$C$4:$E$21,3,FALSE())","v":4},"SC","Competición",{"$f":"VLOOKUP(C512,Referencias!$B$24:$C$40,2,FALSE())","v":"C"}]
["0822467","Perez Delgado, Alfonso","Catalana","C",{"$f":"VLOOKUP(G513,Referencias!$C$4:$D$21,2,FALSE())","v":"Sin Categoría"},{"$f":"VLOOKUP(G513,Referencias!$C$4:$E$21,3,FALSE())","v":4},"SC","Competición",{"$f":"VLOOKUP(C513,Referencias!$B$24:$C$40,2,FALSE())","v":"C"}]
["0822468","Terol Rubiols, Josep","Catalana","C",{"$f":"VLOOKUP(G514,Referencias!$C$4:$D$21,2,FALSE())","v":"Sin Categoría"},{"$f":"VLOOKUP(G514,Referencias!$C$4:$E$21,3,FALSE())","v":4},"SC","Competición",{"$f":"VLOOKUP(C514,Referencias!$B$24:$C$40,2,FALSE())","v":"C"}]
["0822471","Dumitrescu, Dan","Catalana","C",{"$f":"VLOOKUP(G515,Referencias!$C$4:$D$21,2,FALSE())","v":"Sin Categoría"},{"$f":"VLOOKUP(G515,Referencias!$C$4:$E$21,3,FALSE())","v":4},"SC","Competición",{"$f":"VLOOKUP(C515,Referencias!$B$24:$C$40,2,FALSE())","v":"C"}]
["0822473","Segura Cros, Sonia","Catalana","D",{"$f":"VLOOKUP(G516,Referencias!$C$4:$D$21,2,FALSE())","v":"Sin Categoría"},{"$f":"VLOOKUP(G516,Referencias!$C$4:$E$21,3,FALSE())","v":4},"SC","Competición",{"$f":"VLOOKUP(C516,Referencias!$B$24:$C$40,2,FALSE())","v":"C"}]
["0822475","Piqué Pomes, María Rosa","Catalana","D",{"$f":"VLOOKUP(G517,Referencias!$C$4:$D$21,2,FALSE())","v":"Sin Categoría"},{"$f":"VLOOKUP(G517,Referencias!$C$4:$E$21,3,FALSE())","v":4},"SC","Competición",{"$f":"VLOOKUP(C517,Referencias!$B$24:$C$40,2,FALSE())","v":"C"}]
["0822476","Prats Valls, Antonia","Catalana","D",{"$f":"VLOOKUP(G518,Referencias!$C$4:$D$21,2,FALSE())","v":"Sin Categoría"},{"$f":"VLOOKUP(G518,Referencias!$C$4:$E$21,3,FALSE())","v":4},"SC","Competición",{"$f":"VLOOKUP(C518,Referencias!$B$24:$C$40,2,FALSE())","v":"C"}]
["0822478","Tobias Kay, Jonattan","Catalana","C",{"$f":"VLOOKUP(G519,Referencias!$C$4:$D$21,2,FALSE())","v":"Sin Categoría"},{"$f":"VLOOKUP(G519,Referencias!$C$4:$E$21,3,FALSE())","v":4},"SC","Competición",{"$f":"VLOOKUP(C519,Referencias!$B$24:$C$40,2,FALSE())","v":"C"}]
["0822479","Carulla Puyuelo, Aurea","Catalana","D",{"$f":"VLOOKUP(G520,Referencias!$C$4:$D$21,2,FALSE())","v":"Sin Categoría"},{"$f":"VLOOKUP(G520,Referencias!$C$4:$E$21,3,FALSE())","v":4},"SC","Competición",{"$f":"VLOOKUP(C520,Referencias!$B$24:$C$40,2,FALSE())","v":"C"}]
["0822488","Sala Gallart, María","Catalana","D",{"$f":"VLOOKUP(G521,Referencias!$C$4:$D$21,2,FALSE())","v":"Tercera Diamante"},{"$f":"VLOOKUP(G521,Referencias!$C$4:$E$21,3,FALSE())","v":3},"3D","Competición",{"$f":"VLOOKUP(C521,Referencias!$B$24:$C$40,2,FALSE())","v":"C"}]
["0822490","Vilaseca, Fatima         ","Catalana","D",{"$f":"VLOOKUP(G522,Referencias!$C$4:$D$21,2,FALSE())","v":"Sin Categoría"},{"$f":"VLOOKUP(G522,Referencias!$C$4:$E$21,3,FALSE())","v":4},"SC","Competición",{"$f":"VLOOKUP(C522,Referencias!$B$24:$C$40,2,FALSE())","v":"C"}]
["0822492","Martínez Ubeda, Ricardo        ","Catalana","C",{"$f":"VLOOKUP(G523,Referencias!$C$4:$D$21,2,FALSE())","v":"Sin Categoría"},{"$f":"VLOOKUP(G523,Referencias!$C$4:$E$21,3,FALSE())","v":4},"SC","Competición",{"$f":"VLOOKUP(C523,Referencias!$B$24:$C$40,2,FALSE())","v":"C"}]
["0822495","Jorge Guixens, Alicia         ","Catalana","D",{"$f":"VLOOKUP(G524,Referencias!$C$4:$D$21,2,FALSE())","v":"Tercera Diamante"},{"$f":"VLOOKUP(G524,Referencias!$C$4:$E$21,3,FALSE())","v":3},"3D","Competición",{"$f":"VLOOKUP(C524,Referencias!$B$24:$C$40,2,FALSE())","v":"C"}]
["0822496","Segura Cros, Bibiana        ","Catalana","D",{"$f":"VLOOKUP(G525,Referencias!$C$4:$D$21,2,FALSE())","v":"Sin Categoría"},{"$f":"VLOOKUP(G525,Referencias!$C$4:$E$21,3,FALSE())","v":4},"SC","Competición",{"$f":"VLOOKUP(C525,Referencias!$B$24:$C$40,2,FALSE())","v":"C"}]
["0822497","Guix Melcior, Benjamin       ","Catalana","C",{"$f":"VLOOKUP(G526,Referencias!$C$4:$D$21,2,FALSE())","v":"Sin Categoría"},{"$f":"VLOOKUP(G526,Referencias!$C$4:$E$21,3,FALSE())","v":4},"SC","Competición",{"$f":"VLOOKUP(C526,Referencias!$B$24:$C$40,2,FALSE())","v":"C"}]
["0822498","Sempere Compte, Santiago       ","Catalana","C",{"$f":"VLOOKUP(G527,Referencias!$C$4:$D$21,2,FALSE())","v":"Sin Categoría"},{"$f":"VLOOKUP(G527,Referencias!$C$4:$E$21,3,FALSE())","v":4},"SC","Competición",{"$f":"VLOOKUP(C527,Referencias!$B$24:$C$40,2,FALSE())","v":"C"}]
["0822499","Boada Farras, Ricard         ","Catalana","C",{"$f":"VLOOKUP(G528,Referencias!$C$4:$D$21,2,FALSE())","v":"Sin Categoría"},{"$f":"VLOOKUP(G528,Referencias!$C$4:$E$21,3,FALSE())","v":4},"SC","Junior",{"$f":"VLOOKUP(C528,Referencias!$B$24:$C$40,2,FALSE())","v":"C"}]
["0822504","Millet, Isa","Catalana","D",{"$f":"VLOOKUP(G529,Referencias!$C$4:$D$21,2,FALSE())","v":"Sin Categoría"},{"$f":"VLOOKUP(G529,Referencias!$C$4:$E$21,3,FALSE())","v":4},"SC","Competición",{"$f":"VLOOKUP(C529,Referencias!$B$24:$C$40,2,FALSE())","v":"C"}]
["0822505","Fijo, Rosana","Catalana","D",{"$f":"VLOOKUP(G530,Referencias!$C$4:$D$21,2,FALSE())","v":"Sin Categoría"},{"$f":"VLOOKUP(G530,Referencias!$C$4:$E$21,3,FALSE())","v":4},"SC","Competición",{"$f":"VLOOKUP(C530,Referencias!$B$24:$C$40,2,FALSE())","v":"C"}]
["0822508","Sauquet Rovira, Francisca","Catalana","D",{"$f":"VLOOKUP(G531,Referencias!$C$4:$D$21,2,FALSE())","v":"Sin Categoría"},{"$f":"VLOOKUP(G531,Referencias!$C$4:$E$21,3,FALSE())","v":4},"SC","Competición",{"$f":"VLOOKUP(C531,Referencias!$B$24:$C$40,2,FALSE())","v":"C"}]
["0822510","Palet Duran, Carlos","Catalana","C",{"$f":"VLOOKUP(G532,Referencias!$C$4:$D$21,2,FALSE())","v":"Sin Categoría"},{"$f":"VLOOKUP(G532,Referencias!$C$4:$E$21,3,FALSE())","v":4},"SC","Competición",{"$f":"VLOOKUP(C532,Referencias!$B$24:$C$40,2,FALSE())","v":"C"}]
["0822513","Callejo Castillo, Joan","Catalana","C",{"$f":"VLOOKUP(G533,Referencias!$C$4:$D$21,2,FALSE())","v":"Primera Corazón"},{"$f":"VLOOKUP(G533,Referencias!$C$4:$E$21,3,FALSE())","v":1},"1C","Competición",{"$f":"VLOOKUP(C533,Referencias!$B$24:$C$40,2,FALSE())","v":"C"}]
["0822514","Callejo Olmos, Justo","Catalana","C",{"$f":"VLOOKUP(G534,Referencias!$C$4:$D$21,2,FALSE())","v":"Segunda Corazón"},{"$f":"VLOOKUP(G534,Referencias!$C$4:$E$21,3,FALSE())","v":2},"2C","Competición",{"$f":"VLOOKUP(C534,Referencias!$B$24:$C$40,2,FALSE())","v":"C"}]
["0822515","Castillo de La Rosa, Elena","Catalana","D",{"$f":"VLOOKUP(G535,Referencias!$C$4:$D$21,2,FALSE())","v":"Segunda Picas"},{"$f":"VLOOKUP(G535,Referencias!$C$4:$E$21,3,FALSE())","v":2},"2P","Competición",{"$f":"VLOOKUP(C535,Referencias!$B$24:$C$40,2,FALSE())","v":"C"}]
["0822519","Larumbe Espinosa, Patricia","Catalana","D",{"$f":"VLOOKUP(G536,Referencias!$C$4:$D$21,2,FALSE())","v":"Sin Categoría"},{"$f":"VLOOKUP(G536,Referencias!$C$4:$E$21,3,FALSE())","v":4},"SC","Competición",{"$f":"VLOOKUP(C536,Referencias!$B$24:$C$40,2,FALSE())","v":"C"}]
["0822520","Jaumot Gabana, Margarita","Catalana","D",{"$f":"VLOOKUP(G537,Referencias!$C$4:$D$21,2,FALSE())","v":"Sin Categoría"},{"$f":"VLOOKUP(G537,Referencias!$C$4:$E$21,3,FALSE())","v":4},"SC","Competición",{"$f":"VLOOKUP(C537,Referencias!$B$24:$C$40,2,FALSE())","v":"C"}]
["0822522","Puerto Moreno, Daniel","Catalana","C",{"$f":"VLOOKUP(G538,Referencias!$C$4:$D$21,2,FALSE())","v":"Segunda Picas"},{"$f":"VLOOKUP(G538,Referencias!$C$4:$E$21,3,FALSE())","v":2},"2P","Competición",{"$f":"VLOOKUP(C538,Referencias!$B$24:$C$40,2,FALSE())","v":"C"}]
["0822532","Fuentes Pinto, Joan","Catalana","C",{"$f":"VLOOKUP(G539,Referencias!$C$4:$D$21,2,FALSE())","v":"Sin Categoría"},{"$f":"VLOOKUP(G539,Referencias!$C$4:$E$21,3,FALSE())","v":4},"SC","Competición",{"$f":"VLOOKUP(C539,Referencias!$B$24:$C$40,2,FALSE())","v":"C"}]
["0822538","Rafecas Ventosa, Jordi","Catalana","C",{"$f":"VLOOKUP(G540,Referencias!$C$4:$D$21,2,FALSE())","v":"Primera Picas"},{"$f":"VLOOKUP(G540,Referencias!$C$4:$E$21,3,FALSE())","v":1},"1P","Junior",{"$f":"VLOOKUP(C540,Referencias!$B$24:$C$40,2,FALSE())","v":"C"}]
["0822540","Climent Donadeu, Angels","Catalana","D",{"$f":"VLOOKUP(G541,Referencias!$C$4:$D$21,2,FALSE())","v":"Sin Categoría"},{"$f":"VLOOKUP(G541,Referencias!$C$4:$E$21,3,FALSE())","v":4},"SC","Competición",{"$f":"VLOOKUP(C541,Referencias!$B$24:$C$40,2,FALSE())","v":"C"}]
["0822541","Fonseca Mañez, Carmen","Catalana","D",{"$f":"VLOOKUP(G542,Referencias!$C$4:$D$21,2,FALSE())","v":"Sin Categoría"},{"$f":"VLOOKUP(G542,Referencias!$C$4:$E$21,3,FALSE())","v":4},"SC","Competición",{"$f":"VLOOKUP(C542,Referencias!$B$24:$C$40,2,FALSE())","v":"C"}]
["0822542","Le Monnier Gotor, Ana","Catalana","D",{"$f":"VLOOKUP(G543,Referencias!$C$4:$D$21,2,FALSE())","v":"Sin Categoría"},{"$f":"VLOOKUP(G543,Referencias!$C$4:$E$21,3,FALSE())","v":4},"SC","Competición",{"$f":"VLOOKUP(C543,Referencias!$B$24:$C$40,2,FALSE())","v":"C"}]
["0822546","Bascones Gleave, Juan","Catalana","C",{"$f":"VLOOKUP(G544,Referencias!$C$4:$D$21,2,FALSE())","v":"Primera Corazón"},{"$f":"VLOOKUP(G544,Referencias!$C$4:$E$21,3,FALSE())","v":1},"1C","Competición",{"$f":"VLOOKUP(C544,Referencias!$B$24:$C$40,2,FALSE())","v":"C"}]
["0822551","Rouco Barez, Maria Teresa","Catalana","D",{"$f":"VLOOKUP(G545,Referencias!$C$4:$D$21,2,FALSE())","v":"Sin Categoría"},{"$f":"VLOOKUP(G545,Referencias!$C$4:$E$21,3,FALSE())","v":4},"SC","Competición",{"$f":"VLOOKUP(C545,Referencias!$B$24:$C$40,2,FALSE())","v":"C"}]
["0822557","Blan Acha-Orbea, Mercedes","Catalana","D",{"$f":"VLOOKUP(G546,Referencias!$C$4:$D$21,2,FALSE())","v":"Sin Categoría"},{"$f":"VLOOKUP(G546,Referencias!$C$4:$E$21,3,FALSE())","v":4},"SC","Competición",{"$f":"VLOOKUP(C546,Referencias!$B$24:$C$40,2,FALSE())","v":"C"}]
["0822561","Marti Aixela, Montse","Catalana","D",{"$f":"VLOOKUP(G547,Referencias!$C$4:$D$21,2,FALSE())","v":"Sin Categoría"},{"$f":"VLOOKUP(G547,Referencias!$C$4:$E$21,3,FALSE())","v":4},"SC","Competición",{"$f":"VLOOKUP(C547,Referencias!$B$24:$C$40,2,FALSE())","v":"C"}]
["0822565","Milesi Vidal, Eric","Catalana","C",{"$f":"VLOOKUP(G548,Referencias!$C$4:$D$21,2,FALSE())","v":"Segunda Corazón"},{"$f":"VLOOKUP(G548,Referencias!$C$4:$E$21,3,FALSE())","v":2},"2C","Junior",{"$f":"VLOOKUP(C548,Referencias!$B$24:$C$40,2,FALSE())","v":"C"}]
["0822566","Dalmau Orriols, Montse","Catalana","D",{"$f":"VLOOKUP(G549,Referencias!$C$4:$D$21,2,FALSE())","v":"Sin Categoría"},{"$f":"VLOOKUP(G549,Referencias!$C$4:$E$21,3,FALSE())","v":4},"SC","Competición",{"$f":"VLOOKUP(C549,Referencias!$B$24:$C$40,2,FALSE())","v":"C"}]
["0822570","García Montolio, María Isabel","Catalana","D",{"$f":"VLOOKUP(G550,Referencias!$C$4:$D$21,2,FALSE())","v":"Sin Categoría"},{"$f":"VLOOKUP(G550,Referencias!$C$4:$E$21,3,FALSE())","v":4},"SC","Competición",{"$f":"VLOOKUP(C550,Referencias!$B$24:$C$40,2,FALSE())","v":"C"}]
["0822571","Pastor Sapiña, María Antonia","Catalana","D",{"$f":"VLOOKUP(G551,Referencias!$C$4:$D$21,2,FALSE())","v":"Sin Categoría"},{"$f":"VLOOKUP(G551,Referencias!$C$4:$E$21,3,FALSE())","v":4},"SC","Competición",{"$f":"VLOOKUP(C551,Referencias!$B$24:$C$40,2,FALSE())","v":"C"}]
["0822572","Rubio Martinez, Xavier","Catalana","C",{"$f":"VLOOKUP(G552,Referencias!$C$4:$D$21,2,FALSE())","v":"Sin Categoría"},{"$f":"VLOOKUP(G552,Referencias!$C$4:$E$21,3,FALSE())","v":4},"SC","Competición",{"$f":"VLOOKUP(C552,Referencias!$B$24:$C$40,2,FALSE())","v":"C"}]
["0822919","Abello De Malla, Candela","Catalana","D",{"$f":"VLOOKUP(G553,Referencias!$C$4:$D$21,2,FALSE())","v":"Sin Categoría"},{"$f":"VLOOKUP(G553,Referencias!$C$4:$E$21,3,FALSE())","v":4},"SC","Competición",{"$f":"VLOOKUP(C553,Referencias!$B$24:$C$40,2,FALSE())","v":"C"}]
["0823118","Bordas Colóm, María del Carmen","Catalana","D",{"$f":"VLOOKUP(G554,Referencias!$C$4:$D$21,2,FALSE())","v":"Sin Categoría"},{"$f":"VLOOKUP(G554,Referencias!$C$4:$E$21,3,FALSE())","v":4},"SC","Competición",{"$f":"VLOOKUP(C554,Referencias!$B$24:$C$40,2,FALSE())","v":"C"}]
["0823309","Urgnani Silva, Ornella","Catalana","D",{"$f":"VLOOKUP(G555,Referencias!$C$4:$D$21,2,FALSE())","v":"Sin Categoría"},{"$f":"VLOOKUP(G555,Referencias!$C$4:$E$21,3,FALSE())","v":4},"SC","Competición",{"$f":"VLOOKUP(C555,Referencias!$B$24:$C$40,2,FALSE())","v":"C"}]
["0823350","Tarrida Lecha, Victoria","Catalana","D",{"$f":"VLOOKUP(G556,Referencias!$C$4:$D$21,2,FALSE())","v":"Sin Categoría"},{"$f":"VLOOKUP(G556,Referencias!$C$4:$E$21,3,FALSE())","v":4},"SC","Competición",{"$f":"VLOOKUP(C556,Referencias!$B$24:$C$40,2,FALSE())","v":"C"}]
["0823352","Huerta, Ferrán","Catalana","C",{"$f":"VLOOKUP(G557,Referencias!$C$4:$D$21,2,FALSE())","v":"Sin Categoría"},{"$f":"VLOOKUP(G557,Referencias!$C$4:$E$21,3,FALSE())","v":4},"SC","Competición",{"$f":"VLOOKUP(C557,Referencias!$B$24:$C$40,2,FALSE())","v":"C"}]
["0823354","Conde, María José","Catalana","D",{"$f":"VLOOKUP(G558,Referencias!$C$4:$D$21,2,FALSE())","v":"Sin Categoría"},{"$f":"VLOOKUP(G558,Referencias!$C$4:$E$21,3,FALSE())","v":4},"SC","Competición",{"$f":"VLOOKUP(C558,Referencias!$B$24:$C$40,2,FALSE())","v":"C"}]
["0823356","May Reining, Jennifer","Catalana","D",{"$f":"VLOOKUP(G559,Referencias!$C$4:$D$21,2,FALSE())","v":"Sin Categoría"},{"$f":"VLOOKUP(G559,Referencias!$C$4:$E$21,3,FALSE())","v":4},"SC","Competición",{"$f":"VLOOKUP(C559,Referencias!$B$24:$C$40,2,FALSE())","v":"C"}]
["0823358","Catalán Bartrina, Pep","Catalana","C",{"$f":"VLOOKUP(G560,Referencias!$C$4:$D$21,2,FALSE())","v":"Primera Picas"},{"$f":"VLOOKUP(G560,Referencias!$C$4:$E$21,3,FALSE())","v":1},"1P","Competición",{"$f":"VLOOKUP(C560,Referencias!$B$24:$C$40,2,FALSE())","v":"C"}]
["0823359","Garcigoy Graells, Rosario","Catalana","D",{"$f":"VLOOKUP(G561,Referencias!$C$4:$D$21,2,FALSE())","v":"Sin Categoría"},{"$f":"VLOOKUP(G561,Referencias!$C$4:$E$21,3,FALSE())","v":4},"SC","Competición",{"$f":"VLOOKUP(C561,Referencias!$B$24:$C$40,2,FALSE())","v":"C"}]
["0823360","Millet Soler, Montserrat","Catalana","D",{"$f":"VLOOKUP(G562,Referencias!$C$4:$D$21,2,FALSE())","v":"Sin Categoría"},{"$f":"VLOOKUP(G562,Referencias!$C$4:$E$21,3,FALSE())","v":4},"SC","Competición",{"$f":"VLOOKUP(C562,Referencias!$B$24:$C$40,2,FALSE())","v":"C"}]
["0823361","Gardenghi, Oslo","Catalana","C",{"$f":"VLOOKUP(G563,Referencias!$C$4:$D$21,2,FALSE())","v":"Primera Corazón"},{"$f":"VLOOKUP(G563,Referencias!$C$4:$E$21,3,FALSE())","v":1},"1C","Junior",{"$f":"VLOOKUP(C563,Referencias!$B$24:$C$40,2,FALSE())","v":"C"}]
["0823363","Morcego , Joan ","Catalana","C",{"$f":"VLOOKUP(G564,Referencias!$C$4:$D$21,2,FALSE())","v":"Sin Categoría"},{"$f":"VLOOKUP(G564,Referencias!$C$4:$E$21,3,FALSE())","v":4},"SC","Competición",{"$f":"VLOOKUP(C564,Referencias!$B$24:$C$40,2,FALSE())","v":"C"}]
["0823364","Palma, Antonio","Catalana","C",{"$f":"VLOOKUP(G565,Referencias!$C$4:$D$21,2,FALSE())","v":"Maestro Mundial Open"},{"$f":"VLOOKUP(G565,Referencias!$C$4:$E$21,3,FALSE())","v":0},"MM-O","Competición",{"$f":"VLOOKUP(C565,Referencias!$B$24:$C$40,2,FALSE())","v":"C"}]
["0823366","Jaumot, Ana","Catalana","D",{"$f":"VLOOKUP(G566,Referencias!$C$4:$D$21,2,FALSE())","v":"Tercera Diamante"},{"$f":"VLOOKUP(G566,Referencias!$C$4:$E$21,3,FALSE())","v":3},"3D","Competición",{"$f":"VLOOKUP(C566,Referencias!$B$24:$C$40,2,FALSE())","v":"C"}]
["0823367","Bartrina Rosell, Inés","Catalana","D",{"$f":"VLOOKUP(G567,Referencias!$C$4:$D$21,2,FALSE())","v":"Sin Categoría"},{"$f":"VLOOKUP(G567,Referencias!$C$4:$E$21,3,FALSE())","v":4},"SC","Competición",{"$f":"VLOOKUP(C567,Referencias!$B$24:$C$40,2,FALSE())","v":"C"}]
["0823369","Garcia López, Nicolás","Catalana","C",{"$f":"VLOOKUP(G568,Referencias!$C$4:$D$21,2,FALSE())","v":"Primera Corazón"},{"$f":"VLOOKUP(G568,Referencias!$C$4:$E$21,3,FALSE())","v":1},"1C","Competición",{"$f":"VLOOKUP(C568,Referencias!$B$24:$C$40,2,FALSE())","v":"C"}]
["0823370","Xanco Compains, Joan ","Catalana","C",{"$f":"VLOOKUP(G569,Referencias!$C$4:$D$21,2,FALSE())","v":"Primera Corazón"},{"$f":"VLOOKUP(G569,Referencias!$C$4:$E$21,3,FALSE())","v":1},"1C","Junior",{"$f":"VLOOKUP(C569,Referencias!$B$24:$C$40,2,FALSE())","v":"C"}]
["0823371","Escude Loscertales, Laura","Catalana","D",{"$f":"VLOOKUP(G570,Referencias!$C$4:$D$21,2,FALSE())","v":"Tercera Diamante"},{"$f":"VLOOKUP(G570,Referencias!$C$4:$E$21,3,FALSE())","v":3},"3D","Competición",{"$f":"VLOOKUP(C570,Referencias!$B$24:$C$40,2,FALSE())","v":"C"}]
["0823374","Manent Ostariz, Luis","Catalana","C",{"$f":"VLOOKUP(G571,Referencias!$C$4:$D$21,2,FALSE())","v":"Sin Categoría"},{"$f":"VLOOKUP(G571,Referencias!$C$4:$E$21,3,FALSE())","v":4},"SC","Competición",{"$f":"VLOOKUP(C571,Referencias!$B$24:$C$40,2,FALSE())","v":"C"}]
["0823376","Armengol Santacreu, Xavier","Catalana","C",{"$f":"VLOOKUP(G572,Referencias!$C$4:$D$21,2,FALSE())","v":"Segunda Diamante"},{"$f":"VLOOKUP(G572,Referencias!$C$4:$E$21,3,FALSE())","v":2},"2D","Competición",{"$f":"VLOOKUP(C572,Referencias!$B$24:$C$40,2,FALSE())","v":"C"}]
["0823378","Mª Rosa, Badia Llado","Catalana","D",{"$f":"VLOOKUP(G573,Referencias!$C$4:$D$21,2,FALSE())","v":"Sin Categoría"},{"$f":"VLOOKUP(G573,Referencias!$C$4:$E$21,3,FALSE())","v":4},"SC","Competición",{"$f":"VLOOKUP(C573,Referencias!$B$24:$C$40,2,FALSE())","v":"C"}]
["0823379","Partegas Sabates, Pura","Catalana","D",{"$f":"VLOOKUP(G574,Referencias!$C$4:$D$21,2,FALSE())","v":"Sin Categoría"},{"$f":"VLOOKUP(G574,Referencias!$C$4:$E$21,3,FALSE())","v":4},"SC","Competición",{"$f":"VLOOKUP(C574,Referencias!$B$24:$C$40,2,FALSE())","v":"C"}]
["0823383","Escudé Bonet, Manel","Catalana","C",{"$f":"VLOOKUP(G575,Referencias!$C$4:$D$21,2,FALSE())","v":"Maestro Nacional Open"},{"$f":"VLOOKUP(G575,Referencias!$C$4:$E$21,3,FALSE())","v":0},"MN-O","Competición",{"$f":"VLOOKUP(C575,Referencias!$B$24:$C$40,2,FALSE())","v":"C"}]
["0823384","Bonafonte Magri, Jorge","Catalana","C",{"$f":"VLOOKUP(G576,Referencias!$C$4:$D$21,2,FALSE())","v":"Primera Corazón"},{"$f":"VLOOKUP(G576,Referencias!$C$4:$E$21,3,FALSE())","v":1},"1C","Competición",{"$f":"VLOOKUP(C576,Referencias!$B$24:$C$40,2,FALSE())","v":"C"}]
["0823385","Sitges Macia, Joaquim","Catalana","C",{"$f":"VLOOKUP(G577,Referencias!$C$4:$D$21,2,FALSE())","v":"Sin Categoría"},{"$f":"VLOOKUP(G577,Referencias!$C$4:$E$21,3,FALSE())","v":4},"SC","Competición",{"$f":"VLOOKUP(C577,Referencias!$B$24:$C$40,2,FALSE())","v":"C"}]
["0823390","Cañadas Alier, Begoña","Catalana","D",{"$f":"VLOOKUP(G578,Referencias!$C$4:$D$21,2,FALSE())","v":"Tercera Diamante"},{"$f":"VLOOKUP(G578,Referencias!$C$4:$E$21,3,FALSE())","v":3},"3D","Competición",{"$f":"VLOOKUP(C578,Referencias!$B$24:$C$40,2,FALSE())","v":"C"}]
["0823394","De Aviles Sanclemente, Amparo","Catalana","D",{"$f":"VLOOKUP(G579,Referencias!$C$4:$D$21,2,FALSE())","v":"Sin Categoría"},{"$f":"VLOOKUP(G579,Referencias!$C$4:$E$21,3,FALSE())","v":4},"SC","Competición",{"$f":"VLOOKUP(C579,Referencias!$B$24:$C$40,2,FALSE())","v":"C"}]
["0823396","Vallhonesta Sayol, María Dolores","Catalana","D",{"$f":"VLOOKUP(G580,Referencias!$C$4:$D$21,2,FALSE())","v":"Sin Categoría"},{"$f":"VLOOKUP(G580,Referencias!$C$4:$E$21,3,FALSE())","v":4},"SC","Competición",{"$f":"VLOOKUP(C580,Referencias!$B$24:$C$40,2,FALSE())","v":"C"}]
["0823398","Durall, Meya","Catalana","D",{"$f":"VLOOKUP(G581,Referencias!$C$4:$D$21,2,FALSE())","v":"Sin Categoría"},{"$f":"VLOOKUP(G581,Referencias!$C$4:$E$21,3,FALSE())","v":4},"SC","Competición",{"$f":"VLOOKUP(C581,Referencias!$B$24:$C$40,2,FALSE())","v":"C"}]
["0823401","Martín Queralt   , Josefina","Catalana","D",{"$f":"VLOOKUP(G582,Referencias!$C$4:$D$21,2,FALSE())","v":"Sin Categoría"},{"$f":"VLOOKUP(G582,Referencias!$C$4:$E$21,3,FALSE())","v":4},"SC","Competición",{"$f":"VLOOKUP(C582,Referencias!$B$24:$C$40,2,FALSE())","v":"C"}]
["0823402","Sánchez Soler  , Luis Alberto","Catalana","C",{"$f":"VLOOKUP(G583,Referencias!$C$4:$D$21,2,FALSE())","v":"Primera Corazón"},{"$f":"VLOOKUP(G583,Referencias!$C$4:$E$21,3,FALSE())","v":1},"1C","Competición",{"$f":"VLOOKUP(C583,Referencias!$B$24:$C$40,2,FALSE())","v":"C"}]
["0823403","Tapia Gómez   , Berta","Catalana","D",{"$f":"VLOOKUP(G584,Referencias!$C$4:$D$21,2,FALSE())","v":"Tercera Diamante"},{"$f":"VLOOKUP(G584,Referencias!$C$4:$E$21,3,FALSE())","v":3},"3D","Competición",{"$f":"VLOOKUP(C584,Referencias!$B$24:$C$40,2,FALSE())","v":"C"}]
["0823404","Mont Garate, Eugenia ","Catalana","D",{"$f":"VLOOKUP(G585,Referencias!$C$4:$D$21,2,FALSE())","v":"Sin Categoría"},{"$f":"VLOOKUP(G585,Referencias!$C$4:$E$21,3,FALSE())","v":4},"SC","Competición",{"$f":"VLOOKUP(C585,Referencias!$B$24:$C$40,2,FALSE())","v":"C"}]
["0823405","O’Leary, Maurice Patrick","Catalana","C",{"$f":"VLOOKUP(G586,Referencias!$C$4:$D$21,2,FALSE())","v":"Sin Categoría"},{"$f":"VLOOKUP(G586,Referencias!$C$4:$E$21,3,FALSE())","v":4},"SC","Competición",{"$f":"VLOOKUP(C586,Referencias!$B$24:$C$40,2,FALSE())","v":"C"}]
["0823406","Trayer, Blathnaid","Catalana","D",{"$f":"VLOOKUP(G587,Referencias!$C$4:$D$21,2,FALSE())","v":"Sin Categoría"},{"$f":"VLOOKUP(G587,Referencias!$C$4:$E$21,3,FALSE())","v":4},"SC","Competición",{"$f":"VLOOKUP(C587,Referencias!$B$24:$C$40,2,FALSE())","v":"C"}]
["0823409","George, Caroline","Catalana","D",{"$f":"VLOOKUP(G588,Referencias!$C$4:$D$21,2,FALSE())","v":"Sin Categoría"},{"$f":"VLOOKUP(G588,Referencias!$C$4:$E$21,3,FALSE())","v":4},"SC","Competición",{"$f":"VLOOKUP(C588,Referencias!$B$24:$C$40,2,FALSE())","v":"C"}]
["0823414","Soler Morera, Josefina","Catalana","D",{"$f":"VLOOKUP(G589,Referencias!$C$4:$D$21,2,FALSE())","v":"Tercera Diamante"},{"$f":"VLOOKUP(G589,Referencias!$C$4:$E$21,3,FALSE())","v":3},"3D","Competición",{"$f":"VLOOKUP(C589,Referencias!$B$24:$C$40,2,FALSE())","v":"C"}]
["0823415","Goig Soldevila, Eulália ","Catalana","D",{"$f":"VLOOKUP(G590,Referencias!$C$4:$D$21,2,FALSE())","v":"Tercera Diamante"},{"$f":"VLOOKUP(G590,Referencias!$C$4:$E$21,3,FALSE())","v":3},"3D","Competición",{"$f":"VLOOKUP(C590,Referencias!$B$24:$C$40,2,FALSE())","v":"C"}]
["0823416","Martínez Pubill, María Pilar ","Catalana","D",{"$f":"VLOOKUP(G591,Referencias!$C$4:$D$21,2,FALSE())","v":"Tercera Diamante"},{"$f":"VLOOKUP(G591,Referencias!$C$4:$E$21,3,FALSE())","v":3},"3D","Competición",{"$f":"VLOOKUP(C591,Referencias!$B$24:$C$40,2,FALSE())","v":"C"}]
["0823417","Bonafonte Magri, José","Catalana","C",{"$f":"VLOOKUP(G592,Referencias!$C$4:$D$21,2,FALSE())","v":"Tercera Diamante"},{"$f":"VLOOKUP(G592,Referencias!$C$4:$E$21,3,FALSE())","v":3},"3D","Competición",{"$f":"VLOOKUP(C592,Referencias!$B$24:$C$40,2,FALSE())","v":"C"}]
["0823418","Manchion de Uribe, Gemma ","Catalana","D",{"$f":"VLOOKUP(G593,Referencias!$C$4:$D$21,2,FALSE())","v":"Sin Categoría"},{"$f":"VLOOKUP(G593,Referencias!$C$4:$E$21,3,FALSE())","v":4},"SC","Competición",{"$f":"VLOOKUP(C593,Referencias!$B$24:$C$40,2,FALSE())","v":"C"}]
["0823419","Martí Castelló, Pilar","Catalana","D",{"$f":"VLOOKUP(G594,Referencias!$C$4:$D$21,2,FALSE())","v":"Sin Categoría"},{"$f":"VLOOKUP(G594,Referencias!$C$4:$E$21,3,FALSE())","v":4},"SC","Competición",{"$f":"VLOOKUP(C594,Referencias!$B$24:$C$40,2,FALSE())","v":"C"}]
["0823421","Casanovas Marsal , Gemma  ","Catalana","D",{"$f":"VLOOKUP(G595,Referencias!$C$4:$D$21,2,FALSE())","v":"Tercera Diamante"},{"$f":"VLOOKUP(G595,Referencias!$C$4:$E$21,3,FALSE())","v":3},"3D","Competición",{"$f":"VLOOKUP(C595,Referencias!$B$24:$C$40,2,FALSE())","v":"C"}]
["0823422","Domínguez Bara   , Elena ","Catalana","D",{"$f":"VLOOKUP(G596,Referencias!$C$4:$D$21,2,FALSE())","v":"Tercera Diamante"},{"$f":"VLOOKUP(G596,Referencias!$C$4:$E$21,3,FALSE())","v":3},"3D","Competición",{"$f":"VLOOKUP(C596,Referencias!$B$24:$C$40,2,FALSE())","v":"C"}]
["0823423","Font Sesma, Eva  ","Catalana","D",{"$f":"VLOOKUP(G597,Referencias!$C$4:$D$21,2,FALSE())","v":"Tercera Diamante"},{"$f":"VLOOKUP(G597,Referencias!$C$4:$E$21,3,FALSE())","v":3},"3D","Competición",{"$f":"VLOOKUP(C597,Referencias!$B$24:$C$40,2,FALSE())","v":"C"}]
["0823424","Torrelles Llorens, María Victoria","Catalana","D",{"$f":"VLOOKUP(G598,Referencias!$C$4:$D$21,2,FALSE())","v":"Sin Categoría"},{"$f":"VLOOKUP(G598,Referencias!$C$4:$E$21,3,FALSE())","v":4},"SC","Competición",{"$f":"VLOOKUP(C598,Referencias!$B$24:$C$40,2,FALSE())","v":"C"}]
["0823427","Plass Rodellas, Mª Victoria","Catalana","D",{"$f":"VLOOKUP(G599,Referencias!$C$4:$D$21,2,FALSE())","v":"Tercera Diamante"},{"$f":"VLOOKUP(G599,Referencias!$C$4:$E$21,3,FALSE())","v":3},"3D","Competición",{"$f":"VLOOKUP(C599,Referencias!$B$24:$C$40,2,FALSE())","v":"C"}]
["0971062","Vences Quintela, María Carmen","Castilla y León","D",{"$f":"VLOOKUP(G600,Referencias!$C$4:$D$21,2,FALSE())","v":"Sin Categoría"},{"$f":"VLOOKUP(G600,Referencias!$C$4:$E$21,3,FALSE())","v":4},"SC","Competición",{"$f":"VLOOKUP(C600,Referencias!$B$24:$C$40,2,FALSE())","v":"CL"}]
["0971064","García Miño, María del Carmen","Castilla y León","D",{"$f":"VLOOKUP(G601,Referencias!$C$4:$D$21,2,FALSE())","v":"Sin Categoría"},{"$f":"VLOOKUP(G601,Referencias!$C$4:$E$21,3,FALSE())","v":4},"SC","Competición",{"$f":"VLOOKUP(C601,Referencias!$B$24:$C$40,2,FALSE())","v":"CL"}]
["0971070","Mozas Bartolome, Jesús","Castilla y León","C",{"$f":"VLOOKUP(G602,Referencias!$C$4:$D$21,2,FALSE())","v":"Sin Categoría"},{"$f":"VLOOKUP(G602,Referencias!$C$4:$E$21,3,FALSE())","v":4},"SC","Competición",{"$f":"VLOOKUP(C602,Referencias!$B$24:$C$40,2,FALSE())","v":"CL"}]
["0971098","de la Calle Gijón, Maria Carmen","Castilla y León","D",{"$f":"VLOOKUP(G603,Referencias!$C$4:$D$21,2,FALSE())","v":"Sin Categoría"},{"$f":"VLOOKUP(G603,Referencias!$C$4:$E$21,3,FALSE())","v":4},"SC","Competición",{"$f":"VLOOKUP(C603,Referencias!$B$24:$C$40,2,FALSE())","v":"CL"}]
["0971123","Senderos Martinez, Carmen","Castilla y León","D",{"$f":"VLOOKUP(G604,Referencias!$C$4:$D$21,2,FALSE())","v":"Sin Categoría"},{"$f":"VLOOKUP(G604,Referencias!$C$4:$E$21,3,FALSE())","v":4},"SC","Competición",{"$f":"VLOOKUP(C604,Referencias!$B$24:$C$40,2,FALSE())","v":"CL"}]
["0971124","Derqui, Ana María","Castilla y León","D",{"$f":"VLOOKUP(G605,Referencias!$C$4:$D$21,2,FALSE())","v":"Segunda Diamante"},{"$f":"VLOOKUP(G605,Referencias!$C$4:$E$21,3,FALSE())","v":2},"2D","Competición",{"$f":"VLOOKUP(C605,Referencias!$B$24:$C$40,2,FALSE())","v":"CL"}]
["0971141","García Larrouy, José Luis","Castilla y León","C",{"$f":"VLOOKUP(G606,Referencias!$C$4:$D$21,2,FALSE())","v":"Primera Picas"},{"$f":"VLOOKUP(G606,Referencias!$C$4:$E$21,3,FALSE())","v":1},"1P","Competición",{"$f":"VLOOKUP(C606,Referencias!$B$24:$C$40,2,FALSE())","v":"CL"}]
["0971165","Díez Puertas, Carlos","Castilla y León","C",{"$f":"VLOOKUP(G607,Referencias!$C$4:$D$21,2,FALSE())","v":"Segunda Corazón"},{"$f":"VLOOKUP(G607,Referencias!$C$4:$E$21,3,FALSE())","v":2},"2C","Competición",{"$f":"VLOOKUP(C607,Referencias!$B$24:$C$40,2,FALSE())","v":"CL"}]
["0971177","Valderrama Alcalde, Juan Rodrigo","Castilla y León","C",{"$f":"VLOOKUP(G608,Referencias!$C$4:$D$21,2,FALSE())","v":"Primera Picas"},{"$f":"VLOOKUP(G608,Referencias!$C$4:$E$21,3,FALSE())","v":1},"1P","Competición",{"$f":"VLOOKUP(C608,Referencias!$B$24:$C$40,2,FALSE())","v":"CL"}]
["0971187","Laso Hermoso, Carmen","Castilla y León","D",{"$f":"VLOOKUP(G609,Referencias!$C$4:$D$21,2,FALSE())","v":"Sin Categoría"},{"$f":"VLOOKUP(G609,Referencias!$C$4:$E$21,3,FALSE())","v":4},"SC","Competición",{"$f":"VLOOKUP(C609,Referencias!$B$24:$C$40,2,FALSE())","v":"CL"}]
["0971192","Díez Puertas, Luis Gonzaga","Castilla y León","C",{"$f":"VLOOKUP(G610,Referencias!$C$4:$D$21,2,FALSE())","v":"Primera Picas"},{"$f":"VLOOKUP(G610,Referencias!$C$4:$E$21,3,FALSE())","v":1},"1P","Competición",{"$f":"VLOOKUP(C610,Referencias!$B$24:$C$40,2,FALSE())","v":"CL"}]
["0971193","Díez Puertas, Gregorio","Castilla y León","C",{"$f":"VLOOKUP(G611,Referencias!$C$4:$D$21,2,FALSE())","v":"Segunda Corazón"},{"$f":"VLOOKUP(G611,Referencias!$C$4:$E$21,3,FALSE())","v":2},"2C","Competición",{"$f":"VLOOKUP(C611,Referencias!$B$24:$C$40,2,FALSE())","v":"CL"}]
["0971215","Jorgensen, Allan","Castilla y León","C",{"$f":"VLOOKUP(G612,Referencias!$C$4:$D$21,2,FALSE())","v":"Primera Diamante"},{"$f":"VLOOKUP(G612,Referencias!$C$4:$E$21,3,FALSE())","v":1},"1D","Competición",{"$f":"VLOOKUP(C612,Referencias!$B$24:$C$40,2,FALSE())","v":"CL"}]
["0971324","Alonso Pérez, Pablo","Castilla y León","C",{"$f":"VLOOKUP(G613,Referencias!$C$4:$D$21,2,FALSE())","v":"Sin Categoría"},{"$f":"VLOOKUP(G613,Referencias!$C$4:$E$21,3,FALSE())","v":4},"SC","Competición",{"$f":"VLOOKUP(C613,Referencias!$B$24:$C$40,2,FALSE())","v":"CL"}]
["0975205","Gil P. de Barquin, María Gertrudis","Castilla y León","D",{"$f":"VLOOKUP(G614,Referencias!$C$4:$D$21,2,FALSE())","v":"Sin Categoría"},{"$f":"VLOOKUP(G614,Referencias!$C$4:$E$21,3,FALSE())","v":4},"SC","Competición",{"$f":"VLOOKUP(C614,Referencias!$B$24:$C$40,2,FALSE())","v":"CL"}]
["0975212","Abeytua de Cobo, Mayte","Castilla y León","D",{"$f":"VLOOKUP(G615,Referencias!$C$4:$D$21,2,FALSE())","v":"Sin Categoría"},{"$f":"VLOOKUP(G615,Referencias!$C$4:$E$21,3,FALSE())","v":4},"SC","Competición",{"$f":"VLOOKUP(C615,Referencias!$B$24:$C$40,2,FALSE())","v":"CL"}]
["0975222","Gómez de Cadiñanos Rodríguez, M. Francisca","Castilla y León","D",{"$f":"VLOOKUP(G616,Referencias!$C$4:$D$21,2,FALSE())","v":"Sin Categoría"},{"$f":"VLOOKUP(G616,Referencias!$C$4:$E$21,3,FALSE())","v":4},"SC","Competición",{"$f":"VLOOKUP(C616,Referencias!$B$24:$C$40,2,FALSE())","v":"CL"}]
["0975224","Alonso de Miralpeix, María Victoria","Castilla y León","D",{"$f":"VLOOKUP(G617,Referencias!$C$4:$D$21,2,FALSE())","v":"Tercera Picas"},{"$f":"VLOOKUP(G617,Referencias!$C$4:$E$21,3,FALSE())","v":3},"3P","Competición",{"$f":"VLOOKUP(C617,Referencias!$B$24:$C$40,2,FALSE())","v":"CL"}]
["0975233","Villaluenga, Ana","Castilla y León","D",{"$f":"VLOOKUP(G618,Referencias!$C$4:$D$21,2,FALSE())","v":"Segunda Picas"},{"$f":"VLOOKUP(G618,Referencias!$C$4:$E$21,3,FALSE())","v":2},"2P","Competición",{"$f":"VLOOKUP(C618,Referencias!$B$24:$C$40,2,FALSE())","v":"CL"}]
["0975240","Calzada Martínez, Rosalía","Castilla y León","D",{"$f":"VLOOKUP(G619,Referencias!$C$4:$D$21,2,FALSE())","v":"Sin Categoría"},{"$f":"VLOOKUP(G619,Referencias!$C$4:$E$21,3,FALSE())","v":4},"SC","Competición",{"$f":"VLOOKUP(C619,Referencias!$B$24:$C$40,2,FALSE())","v":"CL"}]
["1006002","Aja Blanco, Bernardeta","Extremeña","D",{"$f":"VLOOKUP(G620,Referencias!$C$4:$D$21,2,FALSE())","v":"Tercera Diamante"},{"$f":"VLOOKUP(G620,Referencias!$C$4:$E$21,3,FALSE())","v":3},"3D","Competición",{"$f":"VLOOKUP(C620,Referencias!$B$24:$C$40,2,FALSE())","v":"E"}]
["1006003","Barrientos Martín, María Isabel","Extremeña","D",{"$f":"VLOOKUP(G621,Referencias!$C$4:$D$21,2,FALSE())","v":"Tercera Diamante"},{"$f":"VLOOKUP(G621,Referencias!$C$4:$E$21,3,FALSE())","v":3},"3D","Competición",{"$f":"VLOOKUP(C621,Referencias!$B$24:$C$40,2,FALSE())","v":"E"}]
["1006004","Fernández Valhondo, Rafael","Extremeña","C",{"$f":"VLOOKUP(G622,Referencias!$C$4:$D$21,2,FALSE())","v":"Tercera Diamante"},{"$f":"VLOOKUP(G622,Referencias!$C$4:$E$21,3,FALSE())","v":3},"3D","Competición",{"$f":"VLOOKUP(C622,Referencias!$B$24:$C$40,2,FALSE())","v":"E"}]
["1006005","González Sastre, Rosario","Extremeña","D",{"$f":"VLOOKUP(G623,Referencias!$C$4:$D$21,2,FALSE())","v":"Tercera Diamante"},{"$f":"VLOOKUP(G623,Referencias!$C$4:$E$21,3,FALSE())","v":3},"3D","Competición",{"$f":"VLOOKUP(C623,Referencias!$B$24:$C$40,2,FALSE())","v":"E"}]
["1006006","Cuesta Pedraz, María del Carmen","Extremeña","D",{"$f":"VLOOKUP(G624,Referencias!$C$4:$D$21,2,FALSE())","v":"Tercera Diamante"},{"$f":"VLOOKUP(G624,Referencias!$C$4:$E$21,3,FALSE())","v":3},"3D","Competición",{"$f":"VLOOKUP(C624,Referencias!$B$24:$C$40,2,FALSE())","v":"E"}]
["1006007","García-Onieva Artazcoz, Elena","Extremeña","D",{"$f":"VLOOKUP(G625,Referencias!$C$4:$D$21,2,FALSE())","v":"Tercera Diamante"},{"$f":"VLOOKUP(G625,Referencias!$C$4:$E$21,3,FALSE())","v":3},"3D","Competición",{"$f":"VLOOKUP(C625,Referencias!$B$24:$C$40,2,FALSE())","v":"E"}]
["1006008","Pérez Luceño, Román","Extremeña","C",{"$f":"VLOOKUP(G626,Referencias!$C$4:$D$21,2,FALSE())","v":"Tercera Diamante"},{"$f":"VLOOKUP(G626,Referencias!$C$4:$E$21,3,FALSE())","v":3},"3D","Competición",{"$f":"VLOOKUP(C626,Referencias!$B$24:$C$40,2,FALSE())","v":"E"}]
["1006009","Torres de la Riva, Isabel María","Extremeña","D",{"$f":"VLOOKUP(G627,Referencias!$C$4:$D$21,2,FALSE())","v":"Tercera Diamante"},{"$f":"VLOOKUP(G627,Referencias!$C$4:$E$21,3,FALSE())","v":3},"3D","Competición",{"$f":"VLOOKUP(C627,Referencias!$B$24:$C$40,2,FALSE())","v":"E"}]
["1006010","Lancho Rufo, José Luis","Extremeña","C",{"$f":"VLOOKUP(G628,Referencias!$C$4:$D$21,2,FALSE())","v":"Tercera Diamante"},{"$f":"VLOOKUP(G628,Referencias!$C$4:$E$21,3,FALSE())","v":3},"3D","Competición",{"$f":"VLOOKUP(C628,Referencias!$B$24:$C$40,2,FALSE())","v":"E"}]
["1006011","González Sastre, Celeste","Extremeña","D",{"$f":"VLOOKUP(G629,Referencias!$C$4:$D$21,2,FALSE())","v":"Tercera Diamante"},{"$f":"VLOOKUP(G629,Referencias!$C$4:$E$21,3,FALSE())","v":3},"3D","Competición",{"$f":"VLOOKUP(C629,Referencias!$B$24:$C$40,2,FALSE())","v":"E"}]
["1006012","La Calle Bardají, Lourdes","Extremeña","D",{"$f":"VLOOKUP(G630,Referencias!$C$4:$D$21,2,FALSE())","v":"Tercera Diamante"},{"$f":"VLOOKUP(G630,Referencias!$C$4:$E$21,3,FALSE())","v":3},"3D","Competición",{"$f":"VLOOKUP(C630,Referencias!$B$24:$C$40,2,FALSE())","v":"E"}]
["1006013","Luengo Rodríguez, Montaña","Extremeña","D",{"$f":"VLOOKUP(G631,Referencias!$C$4:$D$21,2,FALSE())","v":"Tercera Diamante"},{"$f":"VLOOKUP(G631,Referencias!$C$4:$E$21,3,FALSE())","v":3},"3D","Competición",{"$f":"VLOOKUP(C631,Referencias!$B$24:$C$40,2,FALSE())","v":"E"}]
["1006014","Martín Antúnez, María Cristina","Extremeña","D",{"$f":"VLOOKUP(G632,Referencias!$C$4:$D$21,2,FALSE())","v":"Tercera Diamante"},{"$f":"VLOOKUP(G632,Referencias!$C$4:$E$21,3,FALSE())","v":3},"3D","Competición",{"$f":"VLOOKUP(C632,Referencias!$B$24:$C$40,2,FALSE())","v":"E"}]
["1006015","Calleja Pardo, Angel","Extremeña","C",{"$f":"VLOOKUP(G633,Referencias!$C$4:$D$21,2,FALSE())","v":"Tercera Diamante"},{"$f":"VLOOKUP(G633,Referencias!$C$4:$E$21,3,FALSE())","v":3},"3D","Competición",{"$f":"VLOOKUP(C633,Referencias!$B$24:$C$40,2,FALSE())","v":"E"}]
["1006016","Tena Dominguez, Miguel","Extremeña","C",{"$f":"VLOOKUP(G634,Referencias!$C$4:$D$21,2,FALSE())","v":"Tercera Diamante"},{"$f":"VLOOKUP(G634,Referencias!$C$4:$E$21,3,FALSE())","v":3},"3D","Competición",{"$f":"VLOOKUP(C634,Referencias!$B$24:$C$40,2,FALSE())","v":"E"}]
["1006017","Bosland Weerden, Johanna María","Extremeña","D",{"$f":"VLOOKUP(G635,Referencias!$C$4:$D$21,2,FALSE())","v":"Tercera Diamante"},{"$f":"VLOOKUP(G635,Referencias!$C$4:$E$21,3,FALSE())","v":3},"3D","Competición",{"$f":"VLOOKUP(C635,Referencias!$B$24:$C$40,2,FALSE())","v":"E"}]
["1161018","de la Yglesia Colom, Rosario","Andaluza","D",{"$f":"VLOOKUP(G636,Referencias!$C$4:$D$21,2,FALSE())","v":"Primera Picas"},{"$f":"VLOOKUP(G636,Referencias!$C$4:$E$21,3,FALSE())","v":1},"1P","Competición",{"$f":"VLOOKUP(C636,Referencias!$B$24:$C$40,2,FALSE())","v":"A"}]
["1161019","de Cozar Pardo, Felipe José","Andaluza","C",{"$f":"VLOOKUP(G637,Referencias!$C$4:$D$21,2,FALSE())","v":"Sin Categoría"},{"$f":"VLOOKUP(G637,Referencias!$C$4:$E$21,3,FALSE())","v":4},"SC","Competición",{"$f":"VLOOKUP(C637,Referencias!$B$24:$C$40,2,FALSE())","v":"A"}]
["1161054","Palomares Saéz, Inmaculada","Andaluza","D",{"$f":"VLOOKUP(G638,Referencias!$C$4:$D$21,2,FALSE())","v":"Sin Categoría"},{"$f":"VLOOKUP(G638,Referencias!$C$4:$E$21,3,FALSE())","v":4},"SC","Competición",{"$f":"VLOOKUP(C638,Referencias!$B$24:$C$40,2,FALSE())","v":"A"}]
["1161278","Blanco Gallardo, Carlos","Andaluza","C",{"$f":"VLOOKUP(G639,Referencias!$C$4:$D$21,2,FALSE())","v":"Segunda Diamante"},{"$f":"VLOOKUP(G639,Referencias!$C$4:$E$21,3,FALSE())","v":2},"2D","Competición",{"$f":"VLOOKUP(C639,Referencias!$B$24:$C$40,2,FALSE())","v":"A"}]
["1161287","Villota Osborne, Ana","Andaluza","D",{"$f":"VLOOKUP(G640,Referencias!$C$4:$D$21,2,FALSE())","v":"Primera Corazón"},{"$f":"VLOOKUP(G640,Referencias!$C$4:$E$21,3,FALSE())","v":1},"1C","Competición",{"$f":"VLOOKUP(C640,Referencias!$B$24:$C$40,2,FALSE())","v":"A"}]
["1161313","Nieto Moreno, Noemí","Andaluza","D",{"$f":"VLOOKUP(G641,Referencias!$C$4:$D$21,2,FALSE())","v":"Primera Diamante"},{"$f":"VLOOKUP(G641,Referencias!$C$4:$E$21,3,FALSE())","v":1},"1D","Competición",{"$f":"VLOOKUP(C641,Referencias!$B$24:$C$40,2,FALSE())","v":"A"}]
["1161384","Gárate Martínez, José María","Andaluza","C",{"$f":"VLOOKUP(G642,Referencias!$C$4:$D$21,2,FALSE())","v":"Primera Picas"},{"$f":"VLOOKUP(G642,Referencias!$C$4:$E$21,3,FALSE())","v":1},"1P","Competición",{"$f":"VLOOKUP(C642,Referencias!$B$24:$C$40,2,FALSE())","v":"A"}]
["1161421","Osborne Sánz-Magallón, María","Andaluza","D",{"$f":"VLOOKUP(G643,Referencias!$C$4:$D$21,2,FALSE())","v":"Primera Picas"},{"$f":"VLOOKUP(G643,Referencias!$C$4:$E$21,3,FALSE())","v":1},"1P","Competición",{"$f":"VLOOKUP(C643,Referencias!$B$24:$C$40,2,FALSE())","v":"A"}]
["1161423","Romaní Cabanillas, Francisco","Andaluza","C",{"$f":"VLOOKUP(G644,Referencias!$C$4:$D$21,2,FALSE())","v":"Segunda Picas"},{"$f":"VLOOKUP(G644,Referencias!$C$4:$E$21,3,FALSE())","v":2},"2P","Competición",{"$f":"VLOOKUP(C644,Referencias!$B$24:$C$40,2,FALSE())","v":"A"}]
["1161451","Arteaga Dávila, Elvira","Andaluza","D",{"$f":"VLOOKUP(G645,Referencias!$C$4:$D$21,2,FALSE())","v":"Segunda Corazón"},{"$f":"VLOOKUP(G645,Referencias!$C$4:$E$21,3,FALSE())","v":2},"2C","Competición",{"$f":"VLOOKUP(C645,Referencias!$B$24:$C$40,2,FALSE())","v":"A"}]
["1161513","Velázquez Alcazar, María Paz","Andaluza","D",{"$f":"VLOOKUP(G646,Referencias!$C$4:$D$21,2,FALSE())","v":"Sin Categoría"},{"$f":"VLOOKUP(G646,Referencias!$C$4:$E$21,3,FALSE())","v":4},"SC","Competición",{"$f":"VLOOKUP(C646,Referencias!$B$24:$C$40,2,FALSE())","v":"A"}]
["1161514","Pardo Pubul, Angeles","Andaluza","D",{"$f":"VLOOKUP(G647,Referencias!$C$4:$D$21,2,FALSE())","v":"Segunda Picas"},{"$f":"VLOOKUP(G647,Referencias!$C$4:$E$21,3,FALSE())","v":2},"2P","Competición",{"$f":"VLOOKUP(C647,Referencias!$B$24:$C$40,2,FALSE())","v":"A"}]
["1161529","Rivero Menendez-Ormaza, Victoria","Andaluza","C",{"$f":"VLOOKUP(G648,Referencias!$C$4:$D$21,2,FALSE())","v":"Primera Diamante"},{"$f":"VLOOKUP(G648,Referencias!$C$4:$E$21,3,FALSE())","v":1},"1D","Competición",{"$f":"VLOOKUP(C648,Referencias!$B$24:$C$40,2,FALSE())","v":"A"}]
["1161531","Díaz-Gálvez de la Cámara, Carmen","Andaluza","D",{"$f":"VLOOKUP(G649,Referencias!$C$4:$D$21,2,FALSE())","v":"Sin Categoría"},{"$f":"VLOOKUP(G649,Referencias!$C$4:$E$21,3,FALSE())","v":4},"SC","Competición",{"$f":"VLOOKUP(C649,Referencias!$B$24:$C$40,2,FALSE())","v":"A"}]
["1161532","Filhol, Claire","Andaluza","D",{"$f":"VLOOKUP(G650,Referencias!$C$4:$D$21,2,FALSE())","v":"Segunda Corazón"},{"$f":"VLOOKUP(G650,Referencias!$C$4:$E$21,3,FALSE())","v":2},"2C","Competición",{"$f":"VLOOKUP(C650,Referencias!$B$24:$C$40,2,FALSE())","v":"A"}]
["1161535","Bustamante Molina, María Angeles","Andaluza","D",{"$f":"VLOOKUP(G651,Referencias!$C$4:$D$21,2,FALSE())","v":"Sin Categoría"},{"$f":"VLOOKUP(G651,Referencias!$C$4:$E$21,3,FALSE())","v":4},"SC","Competición",{"$f":"VLOOKUP(C651,Referencias!$B$24:$C$40,2,FALSE())","v":"A"}]
["1161536","Mariñas Dávila, Emilia","Andaluza","D",{"$f":"VLOOKUP(G652,Referencias!$C$4:$D$21,2,FALSE())","v":"Tercera Picas"},{"$f":"VLOOKUP(G652,Referencias!$C$4:$E$21,3,FALSE())","v":3},"3P","Competición",{"$f":"VLOOKUP(C652,Referencias!$B$24:$C$40,2,FALSE())","v":"A"}]
["1161549","Álvarez-Requejo Pérez, Marta","Andaluza","D",{"$f":"VLOOKUP(G653,Referencias!$C$4:$D$21,2,FALSE())","v":"Sin Categoría"},{"$f":"VLOOKUP(G653,Referencias!$C$4:$E$21,3,FALSE())","v":4},"SC","Competición",{"$f":"VLOOKUP(C653,Referencias!$B$24:$C$40,2,FALSE())","v":"A"}]
["1161550","Sánchez-Briñas de Leyva, Salud","Andaluza","D",{"$f":"VLOOKUP(G654,Referencias!$C$4:$D$21,2,FALSE())","v":"Sin Categoría"},{"$f":"VLOOKUP(G654,Referencias!$C$4:$E$21,3,FALSE())","v":4},"SC","Competición",{"$f":"VLOOKUP(C654,Referencias!$B$24:$C$40,2,FALSE())","v":"A"}]
["1161551","Gandarias Nuñez, María Luz","Andaluza","D",{"$f":"VLOOKUP(G655,Referencias!$C$4:$D$21,2,FALSE())","v":"Tercera Corazón"},{"$f":"VLOOKUP(G655,Referencias!$C$4:$E$21,3,FALSE())","v":3},"3C","Competición",{"$f":"VLOOKUP(C655,Referencias!$B$24:$C$40,2,FALSE())","v":"A"}]
["1161567","Artesero Pinilla, Pilar","Andaluza","D",{"$f":"VLOOKUP(G656,Referencias!$C$4:$D$21,2,FALSE())","v":"Tercera Corazón"},{"$f":"VLOOKUP(G656,Referencias!$C$4:$E$21,3,FALSE())","v":3},"3C","Competición",{"$f":"VLOOKUP(C656,Referencias!$B$24:$C$40,2,FALSE())","v":"A"}]
["1161568","Cobián Echevarría,  María Dolores","Andaluza","D",{"$f":"VLOOKUP(G657,Referencias!$C$4:$D$21,2,FALSE())","v":"Tercera Corazón"},{"$f":"VLOOKUP(G657,Referencias!$C$4:$E$21,3,FALSE())","v":3},"3C","Competición",{"$f":"VLOOKUP(C657,Referencias!$B$24:$C$40,2,FALSE())","v":"A"}]
["1161570","Foley, Simón","Andaluza","C",{"$f":"VLOOKUP(G658,Referencias!$C$4:$D$21,2,FALSE())","v":"Tercera Corazón"},{"$f":"VLOOKUP(G658,Referencias!$C$4:$E$21,3,FALSE())","v":3},"3C","Competición",{"$f":"VLOOKUP(C658,Referencias!$B$24:$C$40,2,FALSE())","v":"A"}]
["1161572","Juliá Díaz, Marian","Andaluza","D",{"$f":"VLOOKUP(G659,Referencias!$C$4:$D$21,2,FALSE())","v":"Tercera Picas"},{"$f":"VLOOKUP(G659,Referencias!$C$4:$E$21,3,FALSE())","v":3},"3P","Competición",{"$f":"VLOOKUP(C659,Referencias!$B$24:$C$40,2,FALSE())","v":"A"}]
["1161574","Robina Porras, Josefina","Andaluza","D",{"$f":"VLOOKUP(G660,Referencias!$C$4:$D$21,2,FALSE())","v":"Tercera Corazón"},{"$f":"VLOOKUP(G660,Referencias!$C$4:$E$21,3,FALSE())","v":3},"3C","Competición",{"$f":"VLOOKUP(C660,Referencias!$B$24:$C$40,2,FALSE())","v":"A"}]
["1161575","Simo Marra-López, Aurora","Andaluza","D",{"$f":"VLOOKUP(G661,Referencias!$C$4:$D$21,2,FALSE())","v":"Primera Corazón"},{"$f":"VLOOKUP(G661,Referencias!$C$4:$E$21,3,FALSE())","v":1},"1C","Competición",{"$f":"VLOOKUP(C661,Referencias!$B$24:$C$40,2,FALSE())","v":"A"}]
["1161579","Miralles de Imperial, María Luisa","Andaluza","D",{"$f":"VLOOKUP(G662,Referencias!$C$4:$D$21,2,FALSE())","v":"Tercera Picas"},{"$f":"VLOOKUP(G662,Referencias!$C$4:$E$21,3,FALSE())","v":3},"3P","Competición",{"$f":"VLOOKUP(C662,Referencias!$B$24:$C$40,2,FALSE())","v":"A"}]
["1161598","Mateos Zurdo, Isabel","Andaluza","D",{"$f":"VLOOKUP(G663,Referencias!$C$4:$D$21,2,FALSE())","v":"Segunda Diamante"},{"$f":"VLOOKUP(G663,Referencias!$C$4:$E$21,3,FALSE())","v":2},"2D","Competición",{"$f":"VLOOKUP(C663,Referencias!$B$24:$C$40,2,FALSE())","v":"A"}]
["1161600","Fernández Dosal, Pilar","Andaluza","D",{"$f":"VLOOKUP(G664,Referencias!$C$4:$D$21,2,FALSE())","v":"Tercera Corazón"},{"$f":"VLOOKUP(G664,Referencias!$C$4:$E$21,3,FALSE())","v":3},"3C","Competición",{"$f":"VLOOKUP(C664,Referencias!$B$24:$C$40,2,FALSE())","v":"A"}]
["1161601","Freire, María","Andaluza","D",{"$f":"VLOOKUP(G665,Referencias!$C$4:$D$21,2,FALSE())","v":"Tercera Diamante"},{"$f":"VLOOKUP(G665,Referencias!$C$4:$E$21,3,FALSE())","v":3},"3D","Competición",{"$f":"VLOOKUP(C665,Referencias!$B$24:$C$40,2,FALSE())","v":"A"}]
["1161604","Perdigones, Francisco","Andaluza","C",{"$f":"VLOOKUP(G666,Referencias!$C$4:$D$21,2,FALSE())","v":"Tercera Diamante"},{"$f":"VLOOKUP(G666,Referencias!$C$4:$E$21,3,FALSE())","v":3},"3D","Competición",{"$f":"VLOOKUP(C666,Referencias!$B$24:$C$40,2,FALSE())","v":"A"}]
["1161605","Pérez, Piluca","Andaluza","D",{"$f":"VLOOKUP(G667,Referencias!$C$4:$D$21,2,FALSE())","v":"Segunda Diamante"},{"$f":"VLOOKUP(G667,Referencias!$C$4:$E$21,3,FALSE())","v":2},"2D","Competición",{"$f":"VLOOKUP(C667,Referencias!$B$24:$C$40,2,FALSE())","v":"A"}]
["1161606","Serrera, Salud","Andaluza","D",{"$f":"VLOOKUP(G668,Referencias!$C$4:$D$21,2,FALSE())","v":"Tercera Diamante"},{"$f":"VLOOKUP(G668,Referencias!$C$4:$E$21,3,FALSE())","v":3},"3D","Competición",{"$f":"VLOOKUP(C668,Referencias!$B$24:$C$40,2,FALSE())","v":"A"}]
["1161609","Cozar Pardo, Rafael","Andaluza","C",{"$f":"VLOOKUP(G669,Referencias!$C$4:$D$21,2,FALSE())","v":"Tercera Corazón"},{"$f":"VLOOKUP(G669,Referencias!$C$4:$E$21,3,FALSE())","v":3},"3C","Competición",{"$f":"VLOOKUP(C669,Referencias!$B$24:$C$40,2,FALSE())","v":"A"}]
["1161612","Palomares Sáez, Ana","Andaluza","D",{"$f":"VLOOKUP(G670,Referencias!$C$4:$D$21,2,FALSE())","v":"Tercera Diamante"},{"$f":"VLOOKUP(G670,Referencias!$C$4:$E$21,3,FALSE())","v":3},"3D","Competición",{"$f":"VLOOKUP(C670,Referencias!$B$24:$C$40,2,FALSE())","v":"A"}]
["1161638","Pardo Manuel de Villena, Pedro","Andaluza","C",{"$f":"VLOOKUP(G671,Referencias!$C$4:$D$21,2,FALSE())","v":"Sin Categoría"},{"$f":"VLOOKUP(G671,Referencias!$C$4:$E$21,3,FALSE())","v":4},"SC","Competición",{"$f":"VLOOKUP(C671,Referencias!$B$24:$C$40,2,FALSE())","v":"A"}]
["1161639","González Martínez, Corona","Andaluza","D",{"$f":"VLOOKUP(G672,Referencias!$C$4:$D$21,2,FALSE())","v":"Sin Categoría"},{"$f":"VLOOKUP(G672,Referencias!$C$4:$E$21,3,FALSE())","v":4},"SC","Competición",{"$f":"VLOOKUP(C672,Referencias!$B$24:$C$40,2,FALSE())","v":"A"}]
["1161648","Carvallo de Cora, Jorge","Andaluza","C",{"$f":"VLOOKUP(G673,Referencias!$C$4:$D$21,2,FALSE())","v":"Sin Categoría"},{"$f":"VLOOKUP(G673,Referencias!$C$4:$E$21,3,FALSE())","v":4},"SC","Competición",{"$f":"VLOOKUP(C673,Referencias!$B$24:$C$40,2,FALSE())","v":"A"}]
["1161649","Bajo Arenas, Rosario","Andaluza","D",{"$f":"VLOOKUP(G674,Referencias!$C$4:$D$21,2,FALSE())","v":"Segunda Diamante"},{"$f":"VLOOKUP(G674,Referencias!$C$4:$E$21,3,FALSE())","v":2},"2D","Competición",{"$f":"VLOOKUP(C674,Referencias!$B$24:$C$40,2,FALSE())","v":"A"}]
["1161662","Ales Esteban, Carlos","Andaluza","C",{"$f":"VLOOKUP(G675,Referencias!$C$4:$D$21,2,FALSE())","v":"Tercera Diamante"},{"$f":"VLOOKUP(G675,Referencias!$C$4:$E$21,3,FALSE())","v":3},"3D","Competición",{"$f":"VLOOKUP(C675,Referencias!$B$24:$C$40,2,FALSE())","v":"A"}]
["1161663","Gómez Valero, María Teresa","Andaluza","D",{"$f":"VLOOKUP(G676,Referencias!$C$4:$D$21,2,FALSE())","v":"Tercera Diamante"},{"$f":"VLOOKUP(G676,Referencias!$C$4:$E$21,3,FALSE())","v":3},"3D","Competición",{"$f":"VLOOKUP(C676,Referencias!$B$24:$C$40,2,FALSE())","v":"A"}]
["1161664","Bardet Lascaux-Laforest, Liliana","Andaluza","D",{"$f":"VLOOKUP(G677,Referencias!$C$4:$D$21,2,FALSE())","v":"Tercera Diamante"},{"$f":"VLOOKUP(G677,Referencias!$C$4:$E$21,3,FALSE())","v":3},"3D","Competición",{"$f":"VLOOKUP(C677,Referencias!$B$24:$C$40,2,FALSE())","v":"A"}]
["1161665","Ayuso García, Pilar","Andaluza","D",{"$f":"VLOOKUP(G678,Referencias!$C$4:$D$21,2,FALSE())","v":"Tercera Diamante"},{"$f":"VLOOKUP(G678,Referencias!$C$4:$E$21,3,FALSE())","v":3},"3D","Competición",{"$f":"VLOOKUP(C678,Referencias!$B$24:$C$40,2,FALSE())","v":"A"}]
["1161667","Sánchez de Cos Escuin, Javier","Andaluza","C",{"$f":"VLOOKUP(G679,Referencias!$C$4:$D$21,2,FALSE())","v":"Tercera Diamante"},{"$f":"VLOOKUP(G679,Referencias!$C$4:$E$21,3,FALSE())","v":3},"3D","Competición",{"$f":"VLOOKUP(C679,Referencias!$B$24:$C$40,2,FALSE())","v":"A"}]
["1161668","Miguel de la Villa, Ricardo","Andaluza","C",{"$f":"VLOOKUP(G680,Referencias!$C$4:$D$21,2,FALSE())","v":"Tercera Diamante"},{"$f":"VLOOKUP(G680,Referencias!$C$4:$E$21,3,FALSE())","v":3},"3D","Competición",{"$f":"VLOOKUP(C680,Referencias!$B$24:$C$40,2,FALSE())","v":"A"}]
["1161671","Sánchez-Ferragut  Guelfo, María del Carmen","Andaluza","D",{"$f":"VLOOKUP(G681,Referencias!$C$4:$D$21,2,FALSE())","v":"Tercera Diamante"},{"$f":"VLOOKUP(G681,Referencias!$C$4:$E$21,3,FALSE())","v":3},"3D","Competición",{"$f":"VLOOKUP(C681,Referencias!$B$24:$C$40,2,FALSE())","v":"A"}]
["1161676","Merchante Gutiérrez, María José","Andaluza","D",{"$f":"VLOOKUP(G682,Referencias!$C$4:$D$21,2,FALSE())","v":"Tercera Diamante"},{"$f":"VLOOKUP(G682,Referencias!$C$4:$E$21,3,FALSE())","v":3},"3D","Competición",{"$f":"VLOOKUP(C682,Referencias!$B$24:$C$40,2,FALSE())","v":"A"}]
["1161677","Moreno Valiente, Cristobal","Andaluza","C",{"$f":"VLOOKUP(G683,Referencias!$C$4:$D$21,2,FALSE())","v":"Tercera Diamante"},{"$f":"VLOOKUP(G683,Referencias!$C$4:$E$21,3,FALSE())","v":3},"3D","Competición",{"$f":"VLOOKUP(C683,Referencias!$B$24:$C$40,2,FALSE())","v":"A"}]
["1161678","Siloniz Fernández, Encarnación","Andaluza","D",{"$f":"VLOOKUP(G684,Referencias!$C$4:$D$21,2,FALSE())","v":"Tercera Corazón"},{"$f":"VLOOKUP(G684,Referencias!$C$4:$E$21,3,FALSE())","v":3},"3C","Competición",{"$f":"VLOOKUP(C684,Referencias!$B$24:$C$40,2,FALSE())","v":"A"}]
["1161679","Aguado Santos, Julia María","Andaluza","D",{"$f":"VLOOKUP(G685,Referencias!$C$4:$D$21,2,FALSE())","v":"Sin Categoría"},{"$f":"VLOOKUP(G685,Referencias!$C$4:$E$21,3,FALSE())","v":4},"SC","Competición",{"$f":"VLOOKUP(C685,Referencias!$B$24:$C$40,2,FALSE())","v":"A"}]
["1161683","Sánchez Gracián, María Luisa","Andaluza","D",{"$f":"VLOOKUP(G686,Referencias!$C$4:$D$21,2,FALSE())","v":"Tercera Diamante"},{"$f":"VLOOKUP(G686,Referencias!$C$4:$E$21,3,FALSE())","v":3},"3D","Competición",{"$f":"VLOOKUP(C686,Referencias!$B$24:$C$40,2,FALSE())","v":"A"}]
["1161685","Hortelano de la Lastra, Ana María","Andaluza","D",{"$f":"VLOOKUP(G687,Referencias!$C$4:$D$21,2,FALSE())","v":"Tercera Diamante"},{"$f":"VLOOKUP(G687,Referencias!$C$4:$E$21,3,FALSE())","v":3},"3D","Competición",{"$f":"VLOOKUP(C687,Referencias!$B$24:$C$40,2,FALSE())","v":"A"}]
["1161686","Asencio Marchante, Maria del Rosario","Andaluza","D",{"$f":"VLOOKUP(G688,Referencias!$C$4:$D$21,2,FALSE())","v":"Tercera Diamante"},{"$f":"VLOOKUP(G688,Referencias!$C$4:$E$21,3,FALSE())","v":3},"3D","Competición",{"$f":"VLOOKUP(C688,Referencias!$B$24:$C$40,2,FALSE())","v":"A"}]
["1161699","Fernández de Bobadilla Rivero, Álvaro","Andaluza","C",{"$f":"VLOOKUP(G689,Referencias!$C$4:$D$21,2,FALSE())","v":"Maestro Nacional Open"},{"$f":"VLOOKUP(G689,Referencias!$C$4:$E$21,3,FALSE())","v":0},"MN-O","Competición",{"$f":"VLOOKUP(C689,Referencias!$B$24:$C$40,2,FALSE())","v":"A"}]
["1161707","Lamana Chico, María Cristina","Andaluza","D",{"$f":"VLOOKUP(G690,Referencias!$C$4:$D$21,2,FALSE())","v":"Tercera Diamante"},{"$f":"VLOOKUP(G690,Referencias!$C$4:$E$21,3,FALSE())","v":3},"3D","Competición",{"$f":"VLOOKUP(C690,Referencias!$B$24:$C$40,2,FALSE())","v":"A"}]
["1161721","Villanueva Ruíz-Mateos, Cristina","Andaluza","D",{"$f":"VLOOKUP(G691,Referencias!$C$4:$D$21,2,FALSE())","v":"Sin Categoría"},{"$f":"VLOOKUP(G691,Referencias!$C$4:$E$21,3,FALSE())","v":4},"SC","Competición",{"$f":"VLOOKUP(C691,Referencias!$B$24:$C$40,2,FALSE())","v":"A"}]
["1161729","Van Kretschmar, Rutgera Eugenie","Andaluza","D",{"$f":"VLOOKUP(G692,Referencias!$C$4:$D$21,2,FALSE())","v":"Sin Categoría"},{"$f":"VLOOKUP(G692,Referencias!$C$4:$E$21,3,FALSE())","v":4},"SC","Competición",{"$f":"VLOOKUP(C692,Referencias!$B$24:$C$40,2,FALSE())","v":"A"}]
["1161730","Barreras Pérez, Julio","Andaluza","C",{"$f":"VLOOKUP(G693,Referencias!$C$4:$D$21,2,FALSE())","v":"Tercera Corazón"},{"$f":"VLOOKUP(G693,Referencias!$C$4:$E$21,3,FALSE())","v":3},"3C","Competición",{"$f":"VLOOKUP(C693,Referencias!$B$24:$C$40,2,FALSE())","v":"A"}]
["1161734","Arrospide Carrero, Alfonso","Andaluza","C",{"$f":"VLOOKUP(G694,Referencias!$C$4:$D$21,2,FALSE())","v":"Segunda Diamante"},{"$f":"VLOOKUP(G694,Referencias!$C$4:$E$21,3,FALSE())","v":2},"2D","Competición",{"$f":"VLOOKUP(C694,Referencias!$B$24:$C$40,2,FALSE())","v":"A"}]
["1161740","Domecq Solis, María Micaela","Andaluza","D",{"$f":"VLOOKUP(G695,Referencias!$C$4:$D$21,2,FALSE())","v":"Sin Categoría"},{"$f":"VLOOKUP(G695,Referencias!$C$4:$E$21,3,FALSE())","v":4},"SC","Competición",{"$f":"VLOOKUP(C695,Referencias!$B$24:$C$40,2,FALSE())","v":"A"}]
["1161742","Morenes Giles, Mercedes","Andaluza","D",{"$f":"VLOOKUP(G696,Referencias!$C$4:$D$21,2,FALSE())","v":"Tercera Diamante"},{"$f":"VLOOKUP(G696,Referencias!$C$4:$E$21,3,FALSE())","v":3},"3D","Competición",{"$f":"VLOOKUP(C696,Referencias!$B$24:$C$40,2,FALSE())","v":"A"}]
["1161743","Gutierrez Colosia, Elisa ","Andaluza","D",{"$f":"VLOOKUP(G697,Referencias!$C$4:$D$21,2,FALSE())","v":"Sin Categoría"},{"$f":"VLOOKUP(G697,Referencias!$C$4:$E$21,3,FALSE())","v":4},"SC","Competición",{"$f":"VLOOKUP(C697,Referencias!$B$24:$C$40,2,FALSE())","v":"A"}]
["1161760","O´Farrel Cervera, Verónica","Andaluza","D",{"$f":"VLOOKUP(G698,Referencias!$C$4:$D$21,2,FALSE())","v":"Sin Categoría"},{"$f":"VLOOKUP(G698,Referencias!$C$4:$E$21,3,FALSE())","v":4},"SC","Competición",{"$f":"VLOOKUP(C698,Referencias!$B$24:$C$40,2,FALSE())","v":"A"}]
["1161777","Bajo Arenas, José Manuel","Andaluza","C",{"$f":"VLOOKUP(G699,Referencias!$C$4:$D$21,2,FALSE())","v":"Sin Categoría"},{"$f":"VLOOKUP(G699,Referencias!$C$4:$E$21,3,FALSE())","v":4},"SC","Competición",{"$f":"VLOOKUP(C699,Referencias!$B$24:$C$40,2,FALSE())","v":"A"}]
["1161778","Colomina Casaus, Isabel","Andaluza","D",{"$f":"VLOOKUP(G700,Referencias!$C$4:$D$21,2,FALSE())","v":"Sin Categoría"},{"$f":"VLOOKUP(G700,Referencias!$C$4:$E$21,3,FALSE())","v":4},"SC","Competición",{"$f":"VLOOKUP(C700,Referencias!$B$24:$C$40,2,FALSE())","v":"A"}]
["1161779","Anchústegui Lluria, José Luis","Andaluza","C",{"$f":"VLOOKUP(G701,Referencias!$C$4:$D$21,2,FALSE())","v":"Sin Categoría"},{"$f":"VLOOKUP(G701,Referencias!$C$4:$E$21,3,FALSE())","v":4},"SC","Competición",{"$f":"VLOOKUP(C701,Referencias!$B$24:$C$40,2,FALSE())","v":"A"}]
["1161781","Tedoldi, Cecilia","Andaluza","D",{"$f":"VLOOKUP(G702,Referencias!$C$4:$D$21,2,FALSE())","v":"Sin Categoría"},{"$f":"VLOOKUP(G702,Referencias!$C$4:$E$21,3,FALSE())","v":4},"SC","Competición",{"$f":"VLOOKUP(C702,Referencias!$B$24:$C$40,2,FALSE())","v":"A"}]
["1161782","White, Denise","Andaluza","D",{"$f":"VLOOKUP(G703,Referencias!$C$4:$D$21,2,FALSE())","v":"Sin Categoría"},{"$f":"VLOOKUP(G703,Referencias!$C$4:$E$21,3,FALSE())","v":4},"SC","Competición",{"$f":"VLOOKUP(C703,Referencias!$B$24:$C$40,2,FALSE())","v":"A"}]
["1161801","Pérez Enciso  Montejo, Paloma","Andaluza","D",{"$f":"VLOOKUP(G704,Referencias!$C$4:$D$21,2,FALSE())","v":"Tercera Diamante"},{"$f":"VLOOKUP(G704,Referencias!$C$4:$E$21,3,FALSE())","v":3},"3D","Competición",{"$f":"VLOOKUP(C704,Referencias!$B$24:$C$40,2,FALSE())","v":"A"}]
["1161806","Machenaud, Roland","Andaluza","C",{"$f":"VLOOKUP(G705,Referencias!$C$4:$D$21,2,FALSE())","v":"Tercera Diamante"},{"$f":"VLOOKUP(G705,Referencias!$C$4:$E$21,3,FALSE())","v":3},"3D","Competición",{"$f":"VLOOKUP(C705,Referencias!$B$24:$C$40,2,FALSE())","v":"A"}]
["1161807","d'Epenoux, Patrick ","Andaluza","C",{"$f":"VLOOKUP(G706,Referencias!$C$4:$D$21,2,FALSE())","v":"Tercera Diamante"},{"$f":"VLOOKUP(G706,Referencias!$C$4:$E$21,3,FALSE())","v":3},"3D","Competición",{"$f":"VLOOKUP(C706,Referencias!$B$24:$C$40,2,FALSE())","v":"A"}]
["1167009","de Lorgeril Dupeyron, Sabine","Andaluza","D",{"$f":"VLOOKUP(G707,Referencias!$C$4:$D$21,2,FALSE())","v":"Primera Corazón"},{"$f":"VLOOKUP(G707,Referencias!$C$4:$E$21,3,FALSE())","v":1},"1C","Competición",{"$f":"VLOOKUP(C707,Referencias!$B$24:$C$40,2,FALSE())","v":"A"}]
["1167015","Fdez. de Bobadilla Rivero, Regla","Andaluza","D",{"$f":"VLOOKUP(G708,Referencias!$C$4:$D$21,2,FALSE())","v":"Tercera Corazón"},{"$f":"VLOOKUP(G708,Referencias!$C$4:$E$21,3,FALSE())","v":3},"3C","Competición",{"$f":"VLOOKUP(C708,Referencias!$B$24:$C$40,2,FALSE())","v":"A"}]
["1167021","Jurado Alvarez, Alfonso","Andaluza","C",{"$f":"VLOOKUP(G709,Referencias!$C$4:$D$21,2,FALSE())","v":"Primera Corazón"},{"$f":"VLOOKUP(G709,Referencias!$C$4:$E$21,3,FALSE())","v":1},"1C","Competición",{"$f":"VLOOKUP(C709,Referencias!$B$24:$C$40,2,FALSE())","v":"A"}]
["1167026","Pemartín Díez, Agueda","Andaluza","D",{"$f":"VLOOKUP(G710,Referencias!$C$4:$D$21,2,FALSE())","v":"Segunda Corazón"},{"$f":"VLOOKUP(G710,Referencias!$C$4:$E$21,3,FALSE())","v":2},"2C","Competición",{"$f":"VLOOKUP(C710,Referencias!$B$24:$C$40,2,FALSE())","v":"A"}]
["1241163","Torres Tena, Vicente","C. Valenciana","C",{"$f":"VLOOKUP(G711,Referencias!$C$4:$D$21,2,FALSE())","v":"Sin Categoría"},{"$f":"VLOOKUP(G711,Referencias!$C$4:$E$21,3,FALSE())","v":4},"SC","Competición",{"$f":"VLOOKUP(C711,Referencias!$B$24:$C$40,2,FALSE())","v":"V"}]
["1241164","De la Torre Nuñez, Gabriela","C. Valenciana","D",{"$f":"VLOOKUP(G712,Referencias!$C$4:$D$21,2,FALSE())","v":"Sin Categoría"},{"$f":"VLOOKUP(G712,Referencias!$C$4:$E$21,3,FALSE())","v":4},"SC","Competición",{"$f":"VLOOKUP(C712,Referencias!$B$24:$C$40,2,FALSE())","v":"V"}]
["1241165","Hernández Sanchis, María José","C. Valenciana","D",{"$f":"VLOOKUP(G713,Referencias!$C$4:$D$21,2,FALSE())","v":"Sin Categoría"},{"$f":"VLOOKUP(G713,Referencias!$C$4:$E$21,3,FALSE())","v":4},"SC","Competición",{"$f":"VLOOKUP(C713,Referencias!$B$24:$C$40,2,FALSE())","v":"V"}]
["1241178","Ferrer Ros de Ursinos, Mercedes","C. Valenciana","D",{"$f":"VLOOKUP(G714,Referencias!$C$4:$D$21,2,FALSE())","v":"Sin Categoría"},{"$f":"VLOOKUP(G714,Referencias!$C$4:$E$21,3,FALSE())","v":4},"SC","Competición",{"$f":"VLOOKUP(C714,Referencias!$B$24:$C$40,2,FALSE())","v":"V"}]
["1241189","Pellicer Tarrega, María Teresa","C. Valenciana","D",{"$f":"VLOOKUP(G715,Referencias!$C$4:$D$21,2,FALSE())","v":"Sin Categoría"},{"$f":"VLOOKUP(G715,Referencias!$C$4:$E$21,3,FALSE())","v":4},"SC","Competición",{"$f":"VLOOKUP(C715,Referencias!$B$24:$C$40,2,FALSE())","v":"V"}]
["1241268","Torla Cepria, Carlos","C. Valenciana","C",{"$f":"VLOOKUP(G716,Referencias!$C$4:$D$21,2,FALSE())","v":"Sin Categoría"},{"$f":"VLOOKUP(G716,Referencias!$C$4:$E$21,3,FALSE())","v":4},"SC","Competición",{"$f":"VLOOKUP(C716,Referencias!$B$24:$C$40,2,FALSE())","v":"V"}]
["1241272","Estornell Cifre, Francisca","C. Valenciana","D",{"$f":"VLOOKUP(G717,Referencias!$C$4:$D$21,2,FALSE())","v":"Sin Categoría"},{"$f":"VLOOKUP(G717,Referencias!$C$4:$E$21,3,FALSE())","v":4},"SC","Competición",{"$f":"VLOOKUP(C717,Referencias!$B$24:$C$40,2,FALSE())","v":"V"}]
["1241275","Tomas Vilanova, Ana-Evelia","C. Valenciana","D",{"$f":"VLOOKUP(G718,Referencias!$C$4:$D$21,2,FALSE())","v":"Sin Categoría"},{"$f":"VLOOKUP(G718,Referencias!$C$4:$E$21,3,FALSE())","v":4},"SC","Competición",{"$f":"VLOOKUP(C718,Referencias!$B$24:$C$40,2,FALSE())","v":"V"}]
["1241277","Aranda Catalá, María Teresa","C. Valenciana","D",{"$f":"VLOOKUP(G719,Referencias!$C$4:$D$21,2,FALSE())","v":"Sin Categoría"},{"$f":"VLOOKUP(G719,Referencias!$C$4:$E$21,3,FALSE())","v":4},"SC","Competición",{"$f":"VLOOKUP(C719,Referencias!$B$24:$C$40,2,FALSE())","v":"V"}]
["1241425","Bru Cortés, María Dolores","C. Valenciana","D",{"$f":"VLOOKUP(G720,Referencias!$C$4:$D$21,2,FALSE())","v":"Sin Categoría"},{"$f":"VLOOKUP(G720,Referencias!$C$4:$E$21,3,FALSE())","v":4},"SC","Competición",{"$f":"VLOOKUP(C720,Referencias!$B$24:$C$40,2,FALSE())","v":"V"}]
["1241426","Morales Monsalvez, Milagros","C. Valenciana","D",{"$f":"VLOOKUP(G721,Referencias!$C$4:$D$21,2,FALSE())","v":"Sin Categoría"},{"$f":"VLOOKUP(G721,Referencias!$C$4:$E$21,3,FALSE())","v":4},"SC","Competición",{"$f":"VLOOKUP(C721,Referencias!$B$24:$C$40,2,FALSE())","v":"V"}]
["1241583","Astley, Janice","C. Valenciana","D",{"$f":"VLOOKUP(G722,Referencias!$C$4:$D$21,2,FALSE())","v":"Sin Categoría"},{"$f":"VLOOKUP(G722,Referencias!$C$4:$E$21,3,FALSE())","v":4},"SC","Competición",{"$f":"VLOOKUP(C722,Referencias!$B$24:$C$40,2,FALSE())","v":"V"}]
["1241649","Fernández Blanes, Macarena","C. Valenciana","D",{"$f":"VLOOKUP(G723,Referencias!$C$4:$D$21,2,FALSE())","v":"Sin Categoría"},{"$f":"VLOOKUP(G723,Referencias!$C$4:$E$21,3,FALSE())","v":4},"SC","Competición",{"$f":"VLOOKUP(C723,Referencias!$B$24:$C$40,2,FALSE())","v":"V"}]
["1241650","Guinot Peris, María Isabel","C. Valenciana","D",{"$f":"VLOOKUP(G724,Referencias!$C$4:$D$21,2,FALSE())","v":"Sin Categoría"},{"$f":"VLOOKUP(G724,Referencias!$C$4:$E$21,3,FALSE())","v":4},"SC","Competición",{"$f":"VLOOKUP(C724,Referencias!$B$24:$C$40,2,FALSE())","v":"V"}]
["1241657","Valls Zaballos, Emilia","C. Valenciana","D",{"$f":"VLOOKUP(G725,Referencias!$C$4:$D$21,2,FALSE())","v":"Sin Categoría"},{"$f":"VLOOKUP(G725,Referencias!$C$4:$E$21,3,FALSE())","v":4},"SC","Competición",{"$f":"VLOOKUP(C725,Referencias!$B$24:$C$40,2,FALSE())","v":"V"}]
["1241729","Almela Gil, Consuelo","C. Valenciana","D",{"$f":"VLOOKUP(G726,Referencias!$C$4:$D$21,2,FALSE())","v":"Sin Categoría"},{"$f":"VLOOKUP(G726,Referencias!$C$4:$E$21,3,FALSE())","v":4},"SC","Competición",{"$f":"VLOOKUP(C726,Referencias!$B$24:$C$40,2,FALSE())","v":"V"}]
["1241732","Lofberg, Bárbara","C. Valenciana","D",{"$f":"VLOOKUP(G727,Referencias!$C$4:$D$21,2,FALSE())","v":"Sin Categoría"},{"$f":"VLOOKUP(G727,Referencias!$C$4:$E$21,3,FALSE())","v":4},"SC","Competición",{"$f":"VLOOKUP(C727,Referencias!$B$24:$C$40,2,FALSE())","v":"V"}]
["1241733","Gómez Contell, Amparo","C. Valenciana","D",{"$f":"VLOOKUP(G728,Referencias!$C$4:$D$21,2,FALSE())","v":"Tercera Corazón"},{"$f":"VLOOKUP(G728,Referencias!$C$4:$E$21,3,FALSE())","v":3},"3C","Competición",{"$f":"VLOOKUP(C728,Referencias!$B$24:$C$40,2,FALSE())","v":"V"}]
["1241735","Bárbara Lamolla, Pilar","C. Valenciana","D",{"$f":"VLOOKUP(G729,Referencias!$C$4:$D$21,2,FALSE())","v":"Sin Categoría"},{"$f":"VLOOKUP(G729,Referencias!$C$4:$E$21,3,FALSE())","v":4},"SC","Competición",{"$f":"VLOOKUP(C729,Referencias!$B$24:$C$40,2,FALSE())","v":"V"}]
["1241740","Gimeno Ballester, Asela","C. Valenciana","D",{"$f":"VLOOKUP(G730,Referencias!$C$4:$D$21,2,FALSE())","v":"Sin Categoría"},{"$f":"VLOOKUP(G730,Referencias!$C$4:$E$21,3,FALSE())","v":4},"SC","Competición",{"$f":"VLOOKUP(C730,Referencias!$B$24:$C$40,2,FALSE())","v":"V"}]
["1241741","Lemmens, Claude Roger","C. Valenciana","D",{"$f":"VLOOKUP(G731,Referencias!$C$4:$D$21,2,FALSE())","v":"Sin Categoría"},{"$f":"VLOOKUP(G731,Referencias!$C$4:$E$21,3,FALSE())","v":4},"SC","Competición",{"$f":"VLOOKUP(C731,Referencias!$B$24:$C$40,2,FALSE())","v":"V"}]
["1241742","Matarredona Soler, Inmaculada","C. Valenciana","D",{"$f":"VLOOKUP(G732,Referencias!$C$4:$D$21,2,FALSE())","v":"Sin Categoría"},{"$f":"VLOOKUP(G732,Referencias!$C$4:$E$21,3,FALSE())","v":4},"SC","Competición",{"$f":"VLOOKUP(C732,Referencias!$B$24:$C$40,2,FALSE())","v":"V"}]
["1241743","Tirado Braulio, María Josefa","C. Valenciana","D",{"$f":"VLOOKUP(G733,Referencias!$C$4:$D$21,2,FALSE())","v":"Tercera Diamante"},{"$f":"VLOOKUP(G733,Referencias!$C$4:$E$21,3,FALSE())","v":3},"3D","Competición",{"$f":"VLOOKUP(C733,Referencias!$B$24:$C$40,2,FALSE())","v":"V"}]
["1241749","Eugui Rodríguez, Alicia","C. Valenciana","D",{"$f":"VLOOKUP(G734,Referencias!$C$4:$D$21,2,FALSE())","v":"Sin Categoría"},{"$f":"VLOOKUP(G734,Referencias!$C$4:$E$21,3,FALSE())","v":4},"SC","Competición",{"$f":"VLOOKUP(C734,Referencias!$B$24:$C$40,2,FALSE())","v":"V"}]
["1241755","Barroso Gómez de Segura, Carmen","C. Valenciana","D",{"$f":"VLOOKUP(G735,Referencias!$C$4:$D$21,2,FALSE())","v":"Sin Categoría"},{"$f":"VLOOKUP(G735,Referencias!$C$4:$E$21,3,FALSE())","v":4},"SC","Competición",{"$f":"VLOOKUP(C735,Referencias!$B$24:$C$40,2,FALSE())","v":"V"}]
["1241869","Linde Paniagua, Helga","C. Valenciana","D",{"$f":"VLOOKUP(G736,Referencias!$C$4:$D$21,2,FALSE())","v":"Sin Categoría"},{"$f":"VLOOKUP(G736,Referencias!$C$4:$E$21,3,FALSE())","v":4},"SC","Competición",{"$f":"VLOOKUP(C736,Referencias!$B$24:$C$40,2,FALSE())","v":"V"}]
["1241870","Ibañez Larrauri, María Pilar","C. Valenciana","D",{"$f":"VLOOKUP(G737,Referencias!$C$4:$D$21,2,FALSE())","v":"Sin Categoría"},{"$f":"VLOOKUP(G737,Referencias!$C$4:$E$21,3,FALSE())","v":4},"SC","Competición",{"$f":"VLOOKUP(C737,Referencias!$B$24:$C$40,2,FALSE())","v":"V"}]
["1241871","Godoy Casanova, Amparo","C. Valenciana","D",{"$f":"VLOOKUP(G738,Referencias!$C$4:$D$21,2,FALSE())","v":"Sin Categoría"},{"$f":"VLOOKUP(G738,Referencias!$C$4:$E$21,3,FALSE())","v":4},"SC","Competición",{"$f":"VLOOKUP(C738,Referencias!$B$24:$C$40,2,FALSE())","v":"V"}]
["1241872","Ofelia Bianchi, Marta","C. Valenciana","D",{"$f":"VLOOKUP(G739,Referencias!$C$4:$D$21,2,FALSE())","v":"Sin Categoría"},{"$f":"VLOOKUP(G739,Referencias!$C$4:$E$21,3,FALSE())","v":4},"SC","Competición",{"$f":"VLOOKUP(C739,Referencias!$B$24:$C$40,2,FALSE())","v":"V"}]
["1241882","Gros Cambronero, María Angeles","C. Valenciana","D",{"$f":"VLOOKUP(G740,Referencias!$C$4:$D$21,2,FALSE())","v":"Sin Categoría"},{"$f":"VLOOKUP(G740,Referencias!$C$4:$E$21,3,FALSE())","v":4},"SC","Competición",{"$f":"VLOOKUP(C740,Referencias!$B$24:$C$40,2,FALSE())","v":"V"}]
["1241884","Moreno López, Pedro","C. Valenciana","C",{"$f":"VLOOKUP(G741,Referencias!$C$4:$D$21,2,FALSE())","v":"Sin Categoría"},{"$f":"VLOOKUP(G741,Referencias!$C$4:$E$21,3,FALSE())","v":4},"SC","Competición",{"$f":"VLOOKUP(C741,Referencias!$B$24:$C$40,2,FALSE())","v":"V"}]
["1246358","Checa Sánchez, Carmen","C. Valenciana","D",{"$f":"VLOOKUP(G742,Referencias!$C$4:$D$21,2,FALSE())","v":"Sin Categoría"},{"$f":"VLOOKUP(G742,Referencias!$C$4:$E$21,3,FALSE())","v":4},"SC","Competición",{"$f":"VLOOKUP(C742,Referencias!$B$24:$C$40,2,FALSE())","v":"V"}]
["1461262","del Arenal , Marquesa","Andaluza","D",{"$f":"VLOOKUP(G743,Referencias!$C$4:$D$21,2,FALSE())","v":"Tercera Diamante"},{"$f":"VLOOKUP(G743,Referencias!$C$4:$E$21,3,FALSE())","v":3},"3D","Competición",{"$f":"VLOOKUP(C743,Referencias!$B$24:$C$40,2,FALSE())","v":"A"}]
["1461565","Pueyo Benet, Gloria","Andaluza","D",{"$f":"VLOOKUP(G744,Referencias!$C$4:$D$21,2,FALSE())","v":"Sin Categoría"},{"$f":"VLOOKUP(G744,Referencias!$C$4:$E$21,3,FALSE())","v":4},"SC","Competición",{"$f":"VLOOKUP(C744,Referencias!$B$24:$C$40,2,FALSE())","v":"A"}]
["1461657","Sebastián Bueno, Concepción","Andaluza","D",{"$f":"VLOOKUP(G745,Referencias!$C$4:$D$21,2,FALSE())","v":"Primera Diamante"},{"$f":"VLOOKUP(G745,Referencias!$C$4:$E$21,3,FALSE())","v":1},"1D","Competición",{"$f":"VLOOKUP(C745,Referencias!$B$24:$C$40,2,FALSE())","v":"A"}]
["1461658","Mansilla Cuevas, Francisco","Andaluza","C",{"$f":"VLOOKUP(G746,Referencias!$C$4:$D$21,2,FALSE())","v":"Segunda Diamante"},{"$f":"VLOOKUP(G746,Referencias!$C$4:$E$21,3,FALSE())","v":2},"2D","Competición",{"$f":"VLOOKUP(C746,Referencias!$B$24:$C$40,2,FALSE())","v":"A"}]
["1461659","Montijano-Carbonell López, Carmen","Andaluza","D",{"$f":"VLOOKUP(G747,Referencias!$C$4:$D$21,2,FALSE())","v":"Sin Categoría"},{"$f":"VLOOKUP(G747,Referencias!$C$4:$E$21,3,FALSE())","v":4},"SC","Competición",{"$f":"VLOOKUP(C747,Referencias!$B$24:$C$40,2,FALSE())","v":"A"}]
["1461660","De Alcaraz Troya, Fernando","Andaluza","C",{"$f":"VLOOKUP(G748,Referencias!$C$4:$D$21,2,FALSE())","v":"Sin Categoría"},{"$f":"VLOOKUP(G748,Referencias!$C$4:$E$21,3,FALSE())","v":4},"SC","Competición",{"$f":"VLOOKUP(C748,Referencias!$B$24:$C$40,2,FALSE())","v":"A"}]
["1461661","Sebastián Bueno, Araceli","Andaluza","D",{"$f":"VLOOKUP(G749,Referencias!$C$4:$D$21,2,FALSE())","v":"Segunda Diamante"},{"$f":"VLOOKUP(G749,Referencias!$C$4:$E$21,3,FALSE())","v":2},"2D","Competición",{"$f":"VLOOKUP(C749,Referencias!$B$24:$C$40,2,FALSE())","v":"A"}]
["1461671","Medina Ricart, María Antonia","Andaluza","D",{"$f":"VLOOKUP(G750,Referencias!$C$4:$D$21,2,FALSE())","v":"Sin Categoría"},{"$f":"VLOOKUP(G750,Referencias!$C$4:$E$21,3,FALSE())","v":4},"SC","Competición",{"$f":"VLOOKUP(C750,Referencias!$B$24:$C$40,2,FALSE())","v":"A"}]
["1461674","Pérez-Fragero Rey, María del Sol","Andaluza","D",{"$f":"VLOOKUP(G751,Referencias!$C$4:$D$21,2,FALSE())","v":"Tercera Diamante"},{"$f":"VLOOKUP(G751,Referencias!$C$4:$E$21,3,FALSE())","v":3},"3D","Competición",{"$f":"VLOOKUP(C751,Referencias!$B$24:$C$40,2,FALSE())","v":"A"}]
["1461683","Arroyo García, Pilar","Andaluza","D",{"$f":"VLOOKUP(G752,Referencias!$C$4:$D$21,2,FALSE())","v":"Tercera Picas"},{"$f":"VLOOKUP(G752,Referencias!$C$4:$E$21,3,FALSE())","v":3},"3P","Competición",{"$f":"VLOOKUP(C752,Referencias!$B$24:$C$40,2,FALSE())","v":"A"}]
["1461691","Alameda Aragoneses, Josefina","Andaluza","D",{"$f":"VLOOKUP(G753,Referencias!$C$4:$D$21,2,FALSE())","v":"Tercera Corazón"},{"$f":"VLOOKUP(G753,Referencias!$C$4:$E$21,3,FALSE())","v":3},"3C","Competición",{"$f":"VLOOKUP(C753,Referencias!$B$24:$C$40,2,FALSE())","v":"A"}]
["1461699","Cabrera Ansio, Piki","Andaluza","D",{"$f":"VLOOKUP(G754,Referencias!$C$4:$D$21,2,FALSE())","v":"Sin Categoría"},{"$f":"VLOOKUP(G754,Referencias!$C$4:$E$21,3,FALSE())","v":4},"SC","Competición",{"$f":"VLOOKUP(C754,Referencias!$B$24:$C$40,2,FALSE())","v":"A"}]
["1461700","Santaolalla Sebastia, Juan","Andaluza","C",{"$f":"VLOOKUP(G755,Referencias!$C$4:$D$21,2,FALSE())","v":"Segunda Corazón"},{"$f":"VLOOKUP(G755,Referencias!$C$4:$E$21,3,FALSE())","v":2},"2C","Competición",{"$f":"VLOOKUP(C755,Referencias!$B$24:$C$40,2,FALSE())","v":"A"}]
["1461701","Marchal Molina, María Magdalena","Andaluza","D",{"$f":"VLOOKUP(G756,Referencias!$C$4:$D$21,2,FALSE())","v":"Segunda Diamante"},{"$f":"VLOOKUP(G756,Referencias!$C$4:$E$21,3,FALSE())","v":2},"2D","Competición",{"$f":"VLOOKUP(C756,Referencias!$B$24:$C$40,2,FALSE())","v":"A"}]
["1461702","Martínez López, Rosa","Andaluza","D",{"$f":"VLOOKUP(G757,Referencias!$C$4:$D$21,2,FALSE())","v":"Segunda Diamante"},{"$f":"VLOOKUP(G757,Referencias!$C$4:$E$21,3,FALSE())","v":2},"2D","Competición",{"$f":"VLOOKUP(C757,Referencias!$B$24:$C$40,2,FALSE())","v":"A"}]
["1461705","de la Moneda Cabello, María Inmaculada","Andaluza","D",{"$f":"VLOOKUP(G758,Referencias!$C$4:$D$21,2,FALSE())","v":"Segunda Corazón"},{"$f":"VLOOKUP(G758,Referencias!$C$4:$E$21,3,FALSE())","v":2},"2C","Competición",{"$f":"VLOOKUP(C758,Referencias!$B$24:$C$40,2,FALSE())","v":"A"}]
["1461726","Delgado-Brackenbury Ferrer, Silvia","Andaluza","D",{"$f":"VLOOKUP(G759,Referencias!$C$4:$D$21,2,FALSE())","v":"Sin Categoría"},{"$f":"VLOOKUP(G759,Referencias!$C$4:$E$21,3,FALSE())","v":4},"SC","Competición",{"$f":"VLOOKUP(C759,Referencias!$B$24:$C$40,2,FALSE())","v":"A"}]
["1461727","García-Jarana Caro, Delia","Andaluza","D",{"$f":"VLOOKUP(G760,Referencias!$C$4:$D$21,2,FALSE())","v":"Sin Categoría"},{"$f":"VLOOKUP(G760,Referencias!$C$4:$E$21,3,FALSE())","v":4},"SC","Competición",{"$f":"VLOOKUP(C760,Referencias!$B$24:$C$40,2,FALSE())","v":"A"}]
["1461729","Bajo Arenas, Teresa","Andaluza","D",{"$f":"VLOOKUP(G761,Referencias!$C$4:$D$21,2,FALSE())","v":"Sin Categoría"},{"$f":"VLOOKUP(G761,Referencias!$C$4:$E$21,3,FALSE())","v":4},"SC","Competición",{"$f":"VLOOKUP(C761,Referencias!$B$24:$C$40,2,FALSE())","v":"A"}]
["1461738","Hombrados Bermúdez de Castro, Trinidad","Andaluza","D",{"$f":"VLOOKUP(G762,Referencias!$C$4:$D$21,2,FALSE())","v":"Sin Categoría"},{"$f":"VLOOKUP(G762,Referencias!$C$4:$E$21,3,FALSE())","v":4},"SC","Competición",{"$f":"VLOOKUP(C762,Referencias!$B$24:$C$40,2,FALSE())","v":"A"}]
["1461740","Eguilaz de Prado, María Francisca","Andaluza","D",{"$f":"VLOOKUP(G763,Referencias!$C$4:$D$21,2,FALSE())","v":"Sin Categoría"},{"$f":"VLOOKUP(G763,Referencias!$C$4:$E$21,3,FALSE())","v":4},"SC","Competición",{"$f":"VLOOKUP(C763,Referencias!$B$24:$C$40,2,FALSE())","v":"A"}]
["1461741","Baeza Ordoñez, María Luisa","Andaluza","D",{"$f":"VLOOKUP(G764,Referencias!$C$4:$D$21,2,FALSE())","v":"Tercera Diamante"},{"$f":"VLOOKUP(G764,Referencias!$C$4:$E$21,3,FALSE())","v":3},"3D","Competición",{"$f":"VLOOKUP(C764,Referencias!$B$24:$C$40,2,FALSE())","v":"A"}]
["1461745","Vivo Rodríguez, María Araceli ","Andaluza","D",{"$f":"VLOOKUP(G765,Referencias!$C$4:$D$21,2,FALSE())","v":"Sin Categoría"},{"$f":"VLOOKUP(G765,Referencias!$C$4:$E$21,3,FALSE())","v":4},"SC","Competición",{"$f":"VLOOKUP(C765,Referencias!$B$24:$C$40,2,FALSE())","v":"A"}]
["1461746","Blanco Cruz, María Luisa","Andaluza","D",{"$f":"VLOOKUP(G766,Referencias!$C$4:$D$21,2,FALSE())","v":"Sin Categoría"},{"$f":"VLOOKUP(G766,Referencias!$C$4:$E$21,3,FALSE())","v":4},"SC","Competición",{"$f":"VLOOKUP(C766,Referencias!$B$24:$C$40,2,FALSE())","v":"A"}]
["1461747","De Prado Alcalá, María Luisa","Andaluza","D",{"$f":"VLOOKUP(G767,Referencias!$C$4:$D$21,2,FALSE())","v":"Sin Categoría"},{"$f":"VLOOKUP(G767,Referencias!$C$4:$E$21,3,FALSE())","v":4},"SC","Competición",{"$f":"VLOOKUP(C767,Referencias!$B$24:$C$40,2,FALSE())","v":"A"}]
["1461750","Martínez Miguel, Pilar","Andaluza","D",{"$f":"VLOOKUP(G768,Referencias!$C$4:$D$21,2,FALSE())","v":"Tercera Diamante"},{"$f":"VLOOKUP(G768,Referencias!$C$4:$E$21,3,FALSE())","v":3},"3D","Competición",{"$f":"VLOOKUP(C768,Referencias!$B$24:$C$40,2,FALSE())","v":"A"}]
["1461751","Marín Pineda, María del Carmen","Andaluza","D",{"$f":"VLOOKUP(G769,Referencias!$C$4:$D$21,2,FALSE())","v":"Tercera Picas"},{"$f":"VLOOKUP(G769,Referencias!$C$4:$E$21,3,FALSE())","v":3},"3P","Competición",{"$f":"VLOOKUP(C769,Referencias!$B$24:$C$40,2,FALSE())","v":"A"}]
["1461756","Azpilcueta Roel, María Ángeles","Andaluza","D",{"$f":"VLOOKUP(G770,Referencias!$C$4:$D$21,2,FALSE())","v":"Sin Categoría"},{"$f":"VLOOKUP(G770,Referencias!$C$4:$E$21,3,FALSE())","v":4},"SC","Competición",{"$f":"VLOOKUP(C770,Referencias!$B$24:$C$40,2,FALSE())","v":"A"}]
["1461757","Fuentes de Rio, Sofia","Andaluza","D",{"$f":"VLOOKUP(G771,Referencias!$C$4:$D$21,2,FALSE())","v":"Sin Categoría"},{"$f":"VLOOKUP(G771,Referencias!$C$4:$E$21,3,FALSE())","v":4},"SC","Competición",{"$f":"VLOOKUP(C771,Referencias!$B$24:$C$40,2,FALSE())","v":"A"}]
["1461759","Martín Conde, María Ángeles","Andaluza","D",{"$f":"VLOOKUP(G772,Referencias!$C$4:$D$21,2,FALSE())","v":"Sin Categoría"},{"$f":"VLOOKUP(G772,Referencias!$C$4:$E$21,3,FALSE())","v":4},"SC","Competición",{"$f":"VLOOKUP(C772,Referencias!$B$24:$C$40,2,FALSE())","v":"A"}]
["1461775","Gragera de León Prieto, Yedra ","Andaluza","D",{"$f":"VLOOKUP(G773,Referencias!$C$4:$D$21,2,FALSE())","v":"Segunda Diamante"},{"$f":"VLOOKUP(G773,Referencias!$C$4:$E$21,3,FALSE())","v":2},"2D","Competición",{"$f":"VLOOKUP(C773,Referencias!$B$24:$C$40,2,FALSE())","v":"A"}]
["1461793","Echevarria Marquez, Magdalena","Andaluza","D",{"$f":"VLOOKUP(G774,Referencias!$C$4:$D$21,2,FALSE())","v":"Tercera Diamante"},{"$f":"VLOOKUP(G774,Referencias!$C$4:$E$21,3,FALSE())","v":3},"3D","Competición",{"$f":"VLOOKUP(C774,Referencias!$B$24:$C$40,2,FALSE())","v":"A"}]
["1461797","Morales Albelda, Marisa","Andaluza","D",{"$f":"VLOOKUP(G775,Referencias!$C$4:$D$21,2,FALSE())","v":"Tercera Diamante"},{"$f":"VLOOKUP(G775,Referencias!$C$4:$E$21,3,FALSE())","v":3},"3D","Competición",{"$f":"VLOOKUP(C775,Referencias!$B$24:$C$40,2,FALSE())","v":"A"}]
["1461798","Polanco Pérez, Fernanda","Andaluza","D",{"$f":"VLOOKUP(G776,Referencias!$C$4:$D$21,2,FALSE())","v":"Tercera Diamante"},{"$f":"VLOOKUP(G776,Referencias!$C$4:$E$21,3,FALSE())","v":3},"3D","Competición",{"$f":"VLOOKUP(C776,Referencias!$B$24:$C$40,2,FALSE())","v":"A"}]
["1461803","Rodríguez Sedano Martín, Marta","Andaluza","D",{"$f":"VLOOKUP(G777,Referencias!$C$4:$D$21,2,FALSE())","v":"Tercera Diamante"},{"$f":"VLOOKUP(G777,Referencias!$C$4:$E$21,3,FALSE())","v":3},"3D","Competición",{"$f":"VLOOKUP(C777,Referencias!$B$24:$C$40,2,FALSE())","v":"A"}]
["1467443","Manzanares López, Pilar","Andaluza","D",{"$f":"VLOOKUP(G778,Referencias!$C$4:$D$21,2,FALSE())","v":"Sin Categoría"},{"$f":"VLOOKUP(G778,Referencias!$C$4:$E$21,3,FALSE())","v":4},"SC","Competición",{"$f":"VLOOKUP(C778,Referencias!$B$24:$C$40,2,FALSE())","v":"A"}]
["1467508","Díaz Guijarro, Elena","Andaluza","D",{"$f":"VLOOKUP(G779,Referencias!$C$4:$D$21,2,FALSE())","v":"Segunda Corazón"},{"$f":"VLOOKUP(G779,Referencias!$C$4:$E$21,3,FALSE())","v":2},"2C","Competición",{"$f":"VLOOKUP(C779,Referencias!$B$24:$C$40,2,FALSE())","v":"A"}]
["1531002","Avilés Martínez, Dolores","Gallega","D",{"$f":"VLOOKUP(G780,Referencias!$C$4:$D$21,2,FALSE())","v":"Primera Picas"},{"$f":"VLOOKUP(G780,Referencias!$C$4:$E$21,3,FALSE())","v":1},"1P","Competición",{"$f":"VLOOKUP(C780,Referencias!$B$24:$C$40,2,FALSE())","v":"G"}]
["1531011","García-Cambón, Manola","Gallega","D",{"$f":"VLOOKUP(G781,Referencias!$C$4:$D$21,2,FALSE())","v":"Primera Picas"},{"$f":"VLOOKUP(G781,Referencias!$C$4:$E$21,3,FALSE())","v":1},"1P","Competición",{"$f":"VLOOKUP(C781,Referencias!$B$24:$C$40,2,FALSE())","v":"G"}]
["1531045","García Marín, Ana María","Gallega","D",{"$f":"VLOOKUP(G782,Referencias!$C$4:$D$21,2,FALSE())","v":"Segunda Picas"},{"$f":"VLOOKUP(G782,Referencias!$C$4:$E$21,3,FALSE())","v":2},"2P","Competición",{"$f":"VLOOKUP(C782,Referencias!$B$24:$C$40,2,FALSE())","v":"G"}]
["1531099","Arrojo Paredes, Ana","Gallega","D",{"$f":"VLOOKUP(G783,Referencias!$C$4:$D$21,2,FALSE())","v":"Tercera Diamante"},{"$f":"VLOOKUP(G783,Referencias!$C$4:$E$21,3,FALSE())","v":3},"3D","Competición",{"$f":"VLOOKUP(C783,Referencias!$B$24:$C$40,2,FALSE())","v":"G"}]
["1531108","Gila Ferreiro, Ana María","Gallega","D",{"$f":"VLOOKUP(G784,Referencias!$C$4:$D$21,2,FALSE())","v":"Sin Categoría"},{"$f":"VLOOKUP(G784,Referencias!$C$4:$E$21,3,FALSE())","v":4},"SC","Competición",{"$f":"VLOOKUP(C784,Referencias!$B$24:$C$40,2,FALSE())","v":"G"}]
["1531141","Arjona Alonso, Berta","Gallega","D",{"$f":"VLOOKUP(G785,Referencias!$C$4:$D$21,2,FALSE())","v":"Tercera Diamante"},{"$f":"VLOOKUP(G785,Referencias!$C$4:$E$21,3,FALSE())","v":3},"3D","Competición",{"$f":"VLOOKUP(C785,Referencias!$B$24:$C$40,2,FALSE())","v":"G"}]
["1531164","Arranz Iglesias, María Jesús","Gallega","D",{"$f":"VLOOKUP(G786,Referencias!$C$4:$D$21,2,FALSE())","v":"Segunda Diamante"},{"$f":"VLOOKUP(G786,Referencias!$C$4:$E$21,3,FALSE())","v":2},"2D","Competición",{"$f":"VLOOKUP(C786,Referencias!$B$24:$C$40,2,FALSE())","v":"G"}]
["1531165","Peña Díaz, Isabel","Gallega","D",{"$f":"VLOOKUP(G787,Referencias!$C$4:$D$21,2,FALSE())","v":"Sin Categoría"},{"$f":"VLOOKUP(G787,Referencias!$C$4:$E$21,3,FALSE())","v":4},"SC","Competición",{"$f":"VLOOKUP(C787,Referencias!$B$24:$C$40,2,FALSE())","v":"G"}]
["1531188","Fernández Varela, Pilar","Gallega","D",{"$f":"VLOOKUP(G788,Referencias!$C$4:$D$21,2,FALSE())","v":"Tercera Diamante"},{"$f":"VLOOKUP(G788,Referencias!$C$4:$E$21,3,FALSE())","v":3},"3D","Competición",{"$f":"VLOOKUP(C788,Referencias!$B$24:$C$40,2,FALSE())","v":"G"}]
["1531208","Feliu Lourido, María Dolores","Gallega","D",{"$f":"VLOOKUP(G789,Referencias!$C$4:$D$21,2,FALSE())","v":"Primera Picas"},{"$f":"VLOOKUP(G789,Referencias!$C$4:$E$21,3,FALSE())","v":1},"1P","Competición",{"$f":"VLOOKUP(C789,Referencias!$B$24:$C$40,2,FALSE())","v":"G"}]
["1531232","Seijo Fraga, Olga","Gallega","D",{"$f":"VLOOKUP(G790,Referencias!$C$4:$D$21,2,FALSE())","v":"Sin Categoría"},{"$f":"VLOOKUP(G790,Referencias!$C$4:$E$21,3,FALSE())","v":4},"SC","Competición",{"$f":"VLOOKUP(C790,Referencias!$B$24:$C$40,2,FALSE())","v":"G"}]
["1531242","Saavedra Maldonado, Luis","Gallega","C",{"$f":"VLOOKUP(G791,Referencias!$C$4:$D$21,2,FALSE())","v":"Segunda Diamante"},{"$f":"VLOOKUP(G791,Referencias!$C$4:$E$21,3,FALSE())","v":2},"2D","Competición",{"$f":"VLOOKUP(C791,Referencias!$B$24:$C$40,2,FALSE())","v":"G"}]
["1531243","Brizuela Martínez, María Rosario","Gallega","D",{"$f":"VLOOKUP(G792,Referencias!$C$4:$D$21,2,FALSE())","v":"Tercera Corazón"},{"$f":"VLOOKUP(G792,Referencias!$C$4:$E$21,3,FALSE())","v":3},"3C","Competición",{"$f":"VLOOKUP(C792,Referencias!$B$24:$C$40,2,FALSE())","v":"G"}]
["1531269","Peralbo Álvarez de los Corrales, Esperanza","Gallega","D",{"$f":"VLOOKUP(G793,Referencias!$C$4:$D$21,2,FALSE())","v":"Tercera Diamante"},{"$f":"VLOOKUP(G793,Referencias!$C$4:$E$21,3,FALSE())","v":3},"3D","Competición",{"$f":"VLOOKUP(C793,Referencias!$B$24:$C$40,2,FALSE())","v":"G"}]
["1531293","Cuenda Sánchez, Manuel","Gallega","C",{"$f":"VLOOKUP(G794,Referencias!$C$4:$D$21,2,FALSE())","v":"Primera Picas"},{"$f":"VLOOKUP(G794,Referencias!$C$4:$E$21,3,FALSE())","v":1},"1P","Competición",{"$f":"VLOOKUP(C794,Referencias!$B$24:$C$40,2,FALSE())","v":"G"}]
["1531294","Molinelli Iglesias, Marta María","Gallega","D",{"$f":"VLOOKUP(G795,Referencias!$C$4:$D$21,2,FALSE())","v":"Primera Diamante"},{"$f":"VLOOKUP(G795,Referencias!$C$4:$E$21,3,FALSE())","v":1},"1D","Competición",{"$f":"VLOOKUP(C795,Referencias!$B$24:$C$40,2,FALSE())","v":"G"}]
["1531299","Roa Alonso-Bartol, Julia","Gallega","D",{"$f":"VLOOKUP(G796,Referencias!$C$4:$D$21,2,FALSE())","v":"Segunda Diamante"},{"$f":"VLOOKUP(G796,Referencias!$C$4:$E$21,3,FALSE())","v":2},"2D","Competición",{"$f":"VLOOKUP(C796,Referencias!$B$24:$C$40,2,FALSE())","v":"G"}]
["1531302","González-Botas Ladron de Gueva, Javier","Gallega","C",{"$f":"VLOOKUP(G797,Referencias!$C$4:$D$21,2,FALSE())","v":"Sin Categoría"},{"$f":"VLOOKUP(G797,Referencias!$C$4:$E$21,3,FALSE())","v":4},"SC","Competición",{"$f":"VLOOKUP(C797,Referencias!$B$24:$C$40,2,FALSE())","v":"G"}]
["1531318","Gómez Cid, Benito","Gallega","C",{"$f":"VLOOKUP(G798,Referencias!$C$4:$D$21,2,FALSE())","v":"Sin Categoría"},{"$f":"VLOOKUP(G798,Referencias!$C$4:$E$21,3,FALSE())","v":4},"SC","Honorífica",{"$f":"VLOOKUP(C798,Referencias!$B$24:$C$40,2,FALSE())","v":"G"}]
["1531356","Cao Barjacoba, Jovino","Gallega","C",{"$f":"VLOOKUP(G799,Referencias!$C$4:$D$21,2,FALSE())","v":"Primera Corazón"},{"$f":"VLOOKUP(G799,Referencias!$C$4:$E$21,3,FALSE())","v":1},"1C","Competición",{"$f":"VLOOKUP(C799,Referencias!$B$24:$C$40,2,FALSE())","v":"G"}]
["1531359","Ruiz de Valbuena Escudero, José Antonio","Gallega","C",{"$f":"VLOOKUP(G800,Referencias!$C$4:$D$21,2,FALSE())","v":"Segunda Picas"},{"$f":"VLOOKUP(G800,Referencias!$C$4:$E$21,3,FALSE())","v":2},"2P","Competición",{"$f":"VLOOKUP(C800,Referencias!$B$24:$C$40,2,FALSE())","v":"G"}]
["1531360","Bueno Tejeiro, Carmen","Gallega","D",{"$f":"VLOOKUP(G801,Referencias!$C$4:$D$21,2,FALSE())","v":"Segunda Picas"},{"$f":"VLOOKUP(G801,Referencias!$C$4:$E$21,3,FALSE())","v":2},"2P","Competición",{"$f":"VLOOKUP(C801,Referencias!$B$24:$C$40,2,FALSE())","v":"G"}]
["1531374","Santamaría Sánchez, Mª Luisa","Gallega","D",{"$f":"VLOOKUP(G802,Referencias!$C$4:$D$21,2,FALSE())","v":"Tercera Diamante"},{"$f":"VLOOKUP(G802,Referencias!$C$4:$E$21,3,FALSE())","v":3},"3D","Competición",{"$f":"VLOOKUP(C802,Referencias!$B$24:$C$40,2,FALSE())","v":"G"}]
["1531378","Castiñeira Selles, Dolores","Gallega","D",{"$f":"VLOOKUP(G803,Referencias!$C$4:$D$21,2,FALSE())","v":"Sin Categoría"},{"$f":"VLOOKUP(G803,Referencias!$C$4:$E$21,3,FALSE())","v":4},"SC","Competición",{"$f":"VLOOKUP(C803,Referencias!$B$24:$C$40,2,FALSE())","v":"G"}]
["1531379","García y González-Moro, María Dolores","Gallega","D",{"$f":"VLOOKUP(G804,Referencias!$C$4:$D$21,2,FALSE())","v":"Tercera Corazón"},{"$f":"VLOOKUP(G804,Referencias!$C$4:$E$21,3,FALSE())","v":3},"3C","Competición",{"$f":"VLOOKUP(C804,Referencias!$B$24:$C$40,2,FALSE())","v":"G"}]
["1531382","Lacarra Guerendiain, María Antonia","Gallega","D",{"$f":"VLOOKUP(G805,Referencias!$C$4:$D$21,2,FALSE())","v":"Segunda Diamante"},{"$f":"VLOOKUP(G805,Referencias!$C$4:$E$21,3,FALSE())","v":2},"2D","Competición",{"$f":"VLOOKUP(C805,Referencias!$B$24:$C$40,2,FALSE())","v":"G"}]
["1531389","Jover Pons, Antonio","Gallega","C",{"$f":"VLOOKUP(G806,Referencias!$C$4:$D$21,2,FALSE())","v":"Primera Corazón"},{"$f":"VLOOKUP(G806,Referencias!$C$4:$E$21,3,FALSE())","v":1},"1C","Competición",{"$f":"VLOOKUP(C806,Referencias!$B$24:$C$40,2,FALSE())","v":"G"}]
["1531398","Conde Guillán, Valentina","Gallega","D",{"$f":"VLOOKUP(G807,Referencias!$C$4:$D$21,2,FALSE())","v":"Tercera Picas"},{"$f":"VLOOKUP(G807,Referencias!$C$4:$E$21,3,FALSE())","v":3},"3P","Competición",{"$f":"VLOOKUP(C807,Referencias!$B$24:$C$40,2,FALSE())","v":"G"}]
["1531403","García San Román, María José","Gallega","D",{"$f":"VLOOKUP(G808,Referencias!$C$4:$D$21,2,FALSE())","v":"Segunda Diamante"},{"$f":"VLOOKUP(G808,Referencias!$C$4:$E$21,3,FALSE())","v":2},"2D","Competición",{"$f":"VLOOKUP(C808,Referencias!$B$24:$C$40,2,FALSE())","v":"G"}]
["1531404","Ramos Caridad, Angela","Gallega","D",{"$f":"VLOOKUP(G809,Referencias!$C$4:$D$21,2,FALSE())","v":"Tercera Picas"},{"$f":"VLOOKUP(G809,Referencias!$C$4:$E$21,3,FALSE())","v":3},"3P","Competición",{"$f":"VLOOKUP(C809,Referencias!$B$24:$C$40,2,FALSE())","v":"G"}]
["1531405","Romero Rodríguez, Consuelo","Gallega","D",{"$f":"VLOOKUP(G810,Referencias!$C$4:$D$21,2,FALSE())","v":"Tercera Diamante"},{"$f":"VLOOKUP(G810,Referencias!$C$4:$E$21,3,FALSE())","v":3},"3D","Competición",{"$f":"VLOOKUP(C810,Referencias!$B$24:$C$40,2,FALSE())","v":"G"}]
["1531409","Pedreira Otero, María","Gallega","D",{"$f":"VLOOKUP(G811,Referencias!$C$4:$D$21,2,FALSE())","v":"Tercera Picas"},{"$f":"VLOOKUP(G811,Referencias!$C$4:$E$21,3,FALSE())","v":3},"3P","Competición",{"$f":"VLOOKUP(C811,Referencias!$B$24:$C$40,2,FALSE())","v":"G"}]
["1531415","Varela Grela, Ricardo","Gallega","C",{"$f":"VLOOKUP(G812,Referencias!$C$4:$D$21,2,FALSE())","v":"Segunda Picas"},{"$f":"VLOOKUP(G812,Referencias!$C$4:$E$21,3,FALSE())","v":2},"2P","Competición",{"$f":"VLOOKUP(C812,Referencias!$B$24:$C$40,2,FALSE())","v":"G"}]
["1531416","Sánchez Saurina, Flora","Gallega","D",{"$f":"VLOOKUP(G813,Referencias!$C$4:$D$21,2,FALSE())","v":"Primera Diamante"},{"$f":"VLOOKUP(G813,Referencias!$C$4:$E$21,3,FALSE())","v":1},"1D","Competición",{"$f":"VLOOKUP(C813,Referencias!$B$24:$C$40,2,FALSE())","v":"G"}]
["1531417","Pombo Liria, Manuel","Gallega","C",{"$f":"VLOOKUP(G814,Referencias!$C$4:$D$21,2,FALSE())","v":"Primera Diamante"},{"$f":"VLOOKUP(G814,Referencias!$C$4:$E$21,3,FALSE())","v":1},"1D","Competición",{"$f":"VLOOKUP(C814,Referencias!$B$24:$C$40,2,FALSE())","v":"G"}]
["1531421","Marqués López, Amalia","Gallega","D",{"$f":"VLOOKUP(G815,Referencias!$C$4:$D$21,2,FALSE())","v":"Segunda Diamante"},{"$f":"VLOOKUP(G815,Referencias!$C$4:$E$21,3,FALSE())","v":2},"2D","Competición",{"$f":"VLOOKUP(C815,Referencias!$B$24:$C$40,2,FALSE())","v":"G"}]
["1531429","López Pantión, José María","Gallega","C",{"$f":"VLOOKUP(G816,Referencias!$C$4:$D$21,2,FALSE())","v":"Primera Diamante"},{"$f":"VLOOKUP(G816,Referencias!$C$4:$E$21,3,FALSE())","v":1},"1D","Competición",{"$f":"VLOOKUP(C816,Referencias!$B$24:$C$40,2,FALSE())","v":"G"}]
["1531439","Pardo Varela, Leonor","Gallega","D",{"$f":"VLOOKUP(G817,Referencias!$C$4:$D$21,2,FALSE())","v":"Tercera Picas"},{"$f":"VLOOKUP(G817,Referencias!$C$4:$E$21,3,FALSE())","v":3},"3P","Competición",{"$f":"VLOOKUP(C817,Referencias!$B$24:$C$40,2,FALSE())","v":"G"}]
["1531442","Selles Ferreiro, Juan","Gallega","C",{"$f":"VLOOKUP(G818,Referencias!$C$4:$D$21,2,FALSE())","v":"Tercera Picas"},{"$f":"VLOOKUP(G818,Referencias!$C$4:$E$21,3,FALSE())","v":3},"3P","Competición",{"$f":"VLOOKUP(C818,Referencias!$B$24:$C$40,2,FALSE())","v":"G"}]
["1531445","del Río Sendino, María Teresa","Gallega","D",{"$f":"VLOOKUP(G819,Referencias!$C$4:$D$21,2,FALSE())","v":"Segunda Corazón"},{"$f":"VLOOKUP(G819,Referencias!$C$4:$E$21,3,FALSE())","v":2},"2C","Competición",{"$f":"VLOOKUP(C819,Referencias!$B$24:$C$40,2,FALSE())","v":"G"}]
["1531446","Mateo Sevilla, Juan","Gallega","C",{"$f":"VLOOKUP(G820,Referencias!$C$4:$D$21,2,FALSE())","v":"Tercera Corazón"},{"$f":"VLOOKUP(G820,Referencias!$C$4:$E$21,3,FALSE())","v":3},"3C","Competición",{"$f":"VLOOKUP(C820,Referencias!$B$24:$C$40,2,FALSE())","v":"G"}]
["1531447","Villar de Ibarra, José Miguel","Gallega","C",{"$f":"VLOOKUP(G821,Referencias!$C$4:$D$21,2,FALSE())","v":"Segunda Diamante"},{"$f":"VLOOKUP(G821,Referencias!$C$4:$E$21,3,FALSE())","v":2},"2D","Competición",{"$f":"VLOOKUP(C821,Referencias!$B$24:$C$40,2,FALSE())","v":"G"}]
["1531449","Lorenzo Montero, Isabel","Gallega","D",{"$f":"VLOOKUP(G822,Referencias!$C$4:$D$21,2,FALSE())","v":"Tercera Picas"},{"$f":"VLOOKUP(G822,Referencias!$C$4:$E$21,3,FALSE())","v":3},"3P","Competición",{"$f":"VLOOKUP(C822,Referencias!$B$24:$C$40,2,FALSE())","v":"G"}]
["1531450","Larrañaga Ces, Francisco Javier","Gallega","C",{"$f":"VLOOKUP(G823,Referencias!$C$4:$D$21,2,FALSE())","v":"Segunda Corazón"},{"$f":"VLOOKUP(G823,Referencias!$C$4:$E$21,3,FALSE())","v":2},"2C","Competición",{"$f":"VLOOKUP(C823,Referencias!$B$24:$C$40,2,FALSE())","v":"G"}]
["1531451","Rodríguez Pino, Alicia","Gallega","D",{"$f":"VLOOKUP(G824,Referencias!$C$4:$D$21,2,FALSE())","v":"Sin Categoría"},{"$f":"VLOOKUP(G824,Referencias!$C$4:$E$21,3,FALSE())","v":4},"SC","Competición",{"$f":"VLOOKUP(C824,Referencias!$B$24:$C$40,2,FALSE())","v":"G"}]
["1531452","Ortega Peñamaria, Araceli","Gallega","D",{"$f":"VLOOKUP(G825,Referencias!$C$4:$D$21,2,FALSE())","v":"Tercera Diamante"},{"$f":"VLOOKUP(G825,Referencias!$C$4:$E$21,3,FALSE())","v":3},"3D","Competición",{"$f":"VLOOKUP(C825,Referencias!$B$24:$C$40,2,FALSE())","v":"G"}]
["1531453","Ricoy Iriarte, Carmen","Gallega","D",{"$f":"VLOOKUP(G826,Referencias!$C$4:$D$21,2,FALSE())","v":"Tercera Diamante"},{"$f":"VLOOKUP(G826,Referencias!$C$4:$E$21,3,FALSE())","v":3},"3D","Competición",{"$f":"VLOOKUP(C826,Referencias!$B$24:$C$40,2,FALSE())","v":"G"}]
["1531454","Morodo Lorenzo, Pilar","Gallega","D",{"$f":"VLOOKUP(G827,Referencias!$C$4:$D$21,2,FALSE())","v":"Tercera Picas"},{"$f":"VLOOKUP(G827,Referencias!$C$4:$E$21,3,FALSE())","v":3},"3P","Competición",{"$f":"VLOOKUP(C827,Referencias!$B$24:$C$40,2,FALSE())","v":"G"}]
["1531458","Alvarellos Galve, María del Pilar","Gallega","D",{"$f":"VLOOKUP(G828,Referencias!$C$4:$D$21,2,FALSE())","v":"Sin Categoría"},{"$f":"VLOOKUP(G828,Referencias!$C$4:$E$21,3,FALSE())","v":4},"SC","Competición",{"$f":"VLOOKUP(C828,Referencias!$B$24:$C$40,2,FALSE())","v":"G"}]
["1531459","Lariño Lago, Francisco","Gallega","C",{"$f":"VLOOKUP(G829,Referencias!$C$4:$D$21,2,FALSE())","v":"Tercera Diamante"},{"$f":"VLOOKUP(G829,Referencias!$C$4:$E$21,3,FALSE())","v":3},"3D","Competición",{"$f":"VLOOKUP(C829,Referencias!$B$24:$C$40,2,FALSE())","v":"G"}]
["1531460","González Ruíz, María del Prado","Gallega","D",{"$f":"VLOOKUP(G830,Referencias!$C$4:$D$21,2,FALSE())","v":"Tercera Diamante"},{"$f":"VLOOKUP(G830,Referencias!$C$4:$E$21,3,FALSE())","v":3},"3D","Competición",{"$f":"VLOOKUP(C830,Referencias!$B$24:$C$40,2,FALSE())","v":"G"}]
["1531462","Viú Rodríguez, Juan Miguel","Gallega","C",{"$f":"VLOOKUP(G831,Referencias!$C$4:$D$21,2,FALSE())","v":"Tercera Corazón"},{"$f":"VLOOKUP(G831,Referencias!$C$4:$E$21,3,FALSE())","v":3},"3C","Competición",{"$f":"VLOOKUP(C831,Referencias!$B$24:$C$40,2,FALSE())","v":"G"}]
["1531467","Urgoiti San Vicente, José Ignacio","Gallega","C",{"$f":"VLOOKUP(G832,Referencias!$C$4:$D$21,2,FALSE())","v":"Tercera Corazón"},{"$f":"VLOOKUP(G832,Referencias!$C$4:$E$21,3,FALSE())","v":3},"3C","Competición",{"$f":"VLOOKUP(C832,Referencias!$B$24:$C$40,2,FALSE())","v":"G"}]
["1531478","Rodríguez Benitez, María Rosario","Gallega","D",{"$f":"VLOOKUP(G833,Referencias!$C$4:$D$21,2,FALSE())","v":"Tercera Diamante"},{"$f":"VLOOKUP(G833,Referencias!$C$4:$E$21,3,FALSE())","v":3},"3D","Competición",{"$f":"VLOOKUP(C833,Referencias!$B$24:$C$40,2,FALSE())","v":"G"}]
["1531479","Pellón Castelo, María del Carmen","Gallega","D",{"$f":"VLOOKUP(G834,Referencias!$C$4:$D$21,2,FALSE())","v":"Tercera Corazón"},{"$f":"VLOOKUP(G834,Referencias!$C$4:$E$21,3,FALSE())","v":3},"3C","Competición",{"$f":"VLOOKUP(C834,Referencias!$B$24:$C$40,2,FALSE())","v":"G"}]
["1531483","Ferreiro Arias, Manuel","Gallega","C",{"$f":"VLOOKUP(G835,Referencias!$C$4:$D$21,2,FALSE())","v":"Tercera Diamante"},{"$f":"VLOOKUP(G835,Referencias!$C$4:$E$21,3,FALSE())","v":3},"3D","Competición",{"$f":"VLOOKUP(C835,Referencias!$B$24:$C$40,2,FALSE())","v":"G"}]
["1531498","López Pérez, Blanca","Gallega","D",{"$f":"VLOOKUP(G836,Referencias!$C$4:$D$21,2,FALSE())","v":"Sin Categoría"},{"$f":"VLOOKUP(G836,Referencias!$C$4:$E$21,3,FALSE())","v":4},"SC","Competición",{"$f":"VLOOKUP(C836,Referencias!$B$24:$C$40,2,FALSE())","v":"G"}]
["1531499","Prada Blanco, Julieta","Gallega","D",{"$f":"VLOOKUP(G837,Referencias!$C$4:$D$21,2,FALSE())","v":"Tercera Diamante"},{"$f":"VLOOKUP(G837,Referencias!$C$4:$E$21,3,FALSE())","v":3},"3D","Competición",{"$f":"VLOOKUP(C837,Referencias!$B$24:$C$40,2,FALSE())","v":"G"}]
["1531503","Lúgaro Cabaleiro, Mª Luisa","Gallega","D",{"$f":"VLOOKUP(G838,Referencias!$C$4:$D$21,2,FALSE())","v":"Tercera Diamante"},{"$f":"VLOOKUP(G838,Referencias!$C$4:$E$21,3,FALSE())","v":3},"3D","Competición",{"$f":"VLOOKUP(C838,Referencias!$B$24:$C$40,2,FALSE())","v":"G"}]
["1531511","González Arias, José Gabriel","Gallega","C",{"$f":"VLOOKUP(G839,Referencias!$C$4:$D$21,2,FALSE())","v":"Tercera Corazón"},{"$f":"VLOOKUP(G839,Referencias!$C$4:$E$21,3,FALSE())","v":3},"3C","Competición",{"$f":"VLOOKUP(C839,Referencias!$B$24:$C$40,2,FALSE())","v":"G"}]
["1531513","Riestra Rivas, María José","Gallega","D",{"$f":"VLOOKUP(G840,Referencias!$C$4:$D$21,2,FALSE())","v":"Tercera Corazón"},{"$f":"VLOOKUP(G840,Referencias!$C$4:$E$21,3,FALSE())","v":3},"3C","Competición",{"$f":"VLOOKUP(C840,Referencias!$B$24:$C$40,2,FALSE())","v":"G"}]
["1531514","Morán López, María Aurora","Gallega","D",{"$f":"VLOOKUP(G841,Referencias!$C$4:$D$21,2,FALSE())","v":"Segunda Diamante"},{"$f":"VLOOKUP(G841,Referencias!$C$4:$E$21,3,FALSE())","v":2},"2D","Competición",{"$f":"VLOOKUP(C841,Referencias!$B$24:$C$40,2,FALSE())","v":"G"}]
["1531516","da Silva Figueira, María de los Angeles","Gallega","D",{"$f":"VLOOKUP(G842,Referencias!$C$4:$D$21,2,FALSE())","v":"Tercera Diamante"},{"$f":"VLOOKUP(G842,Referencias!$C$4:$E$21,3,FALSE())","v":3},"3D","Competición",{"$f":"VLOOKUP(C842,Referencias!$B$24:$C$40,2,FALSE())","v":"G"}]
["1531517","Merino Selgas, Mercedes","Gallega","D",{"$f":"VLOOKUP(G843,Referencias!$C$4:$D$21,2,FALSE())","v":"Sin Categoría"},{"$f":"VLOOKUP(G843,Referencias!$C$4:$E$21,3,FALSE())","v":4},"SC","Competición",{"$f":"VLOOKUP(C843,Referencias!$B$24:$C$40,2,FALSE())","v":"G"}]
["1531518","Figueroa Naya, Mari Carmen","Gallega","D",{"$f":"VLOOKUP(G844,Referencias!$C$4:$D$21,2,FALSE())","v":"Segunda Diamante"},{"$f":"VLOOKUP(G844,Referencias!$C$4:$E$21,3,FALSE())","v":2},"2D","Competición",{"$f":"VLOOKUP(C844,Referencias!$B$24:$C$40,2,FALSE())","v":"G"}]
["1531519","Mayo Franco, Chuca","Gallega","D",{"$f":"VLOOKUP(G845,Referencias!$C$4:$D$21,2,FALSE())","v":"Segunda Diamante"},{"$f":"VLOOKUP(G845,Referencias!$C$4:$E$21,3,FALSE())","v":2},"2D","Competición",{"$f":"VLOOKUP(C845,Referencias!$B$24:$C$40,2,FALSE())","v":"G"}]
["1531521","Alonso Landeta, Covadonga","Gallega","D",{"$f":"VLOOKUP(G846,Referencias!$C$4:$D$21,2,FALSE())","v":"Tercera Corazón"},{"$f":"VLOOKUP(G846,Referencias!$C$4:$E$21,3,FALSE())","v":3},"3C","Competición",{"$f":"VLOOKUP(C846,Referencias!$B$24:$C$40,2,FALSE())","v":"G"}]
["1531522","Rodríguez Madriñán, María José","Gallega","D",{"$f":"VLOOKUP(G847,Referencias!$C$4:$D$21,2,FALSE())","v":"Tercera Corazón"},{"$f":"VLOOKUP(G847,Referencias!$C$4:$E$21,3,FALSE())","v":3},"3C","Competición",{"$f":"VLOOKUP(C847,Referencias!$B$24:$C$40,2,FALSE())","v":"G"}]
["1531523","Fontenla Rodiles, Juana Mari","Gallega","D",{"$f":"VLOOKUP(G848,Referencias!$C$4:$D$21,2,FALSE())","v":"Sin Categoría"},{"$f":"VLOOKUP(G848,Referencias!$C$4:$E$21,3,FALSE())","v":4},"SC","Competición",{"$f":"VLOOKUP(C848,Referencias!$B$24:$C$40,2,FALSE())","v":"G"}]
["1531524","Santos Vilariño, Emilio","Gallega","C",{"$f":"VLOOKUP(G849,Referencias!$C$4:$D$21,2,FALSE())","v":"Segunda Diamante"},{"$f":"VLOOKUP(G849,Referencias!$C$4:$E$21,3,FALSE())","v":2},"2D","Competición",{"$f":"VLOOKUP(C849,Referencias!$B$24:$C$40,2,FALSE())","v":"G"}]
["1531532","Taboada Manteiga, José Manuel","Gallega","C",{"$f":"VLOOKUP(G850,Referencias!$C$4:$D$21,2,FALSE())","v":"Tercera Diamante"},{"$f":"VLOOKUP(G850,Referencias!$C$4:$E$21,3,FALSE())","v":3},"3D","Competición",{"$f":"VLOOKUP(C850,Referencias!$B$24:$C$40,2,FALSE())","v":"G"}]
["1531534","Docampo Rojo, Dolores","Gallega","D",{"$f":"VLOOKUP(G851,Referencias!$C$4:$D$21,2,FALSE())","v":"Tercera Corazón"},{"$f":"VLOOKUP(G851,Referencias!$C$4:$E$21,3,FALSE())","v":3},"3C","Competición",{"$f":"VLOOKUP(C851,Referencias!$B$24:$C$40,2,FALSE())","v":"G"}]
["1531535","Fraga Peña, Daris","Gallega","D",{"$f":"VLOOKUP(G852,Referencias!$C$4:$D$21,2,FALSE())","v":"Tercera Diamante"},{"$f":"VLOOKUP(G852,Referencias!$C$4:$E$21,3,FALSE())","v":3},"3D","Competición",{"$f":"VLOOKUP(C852,Referencias!$B$24:$C$40,2,FALSE())","v":"G"}]
["1531541","Ramírez Escudero, Pilar","Gallega","D",{"$f":"VLOOKUP(G853,Referencias!$C$4:$D$21,2,FALSE())","v":"Tercera Diamante"},{"$f":"VLOOKUP(G853,Referencias!$C$4:$E$21,3,FALSE())","v":3},"3D","Competición",{"$f":"VLOOKUP(C853,Referencias!$B$24:$C$40,2,FALSE())","v":"G"}]
["1531567","Pereira González, María José","Gallega","D",{"$f":"VLOOKUP(G854,Referencias!$C$4:$D$21,2,FALSE())","v":"Tercera Diamante"},{"$f":"VLOOKUP(G854,Referencias!$C$4:$E$21,3,FALSE())","v":3},"3D","Competición",{"$f":"VLOOKUP(C854,Referencias!$B$24:$C$40,2,FALSE())","v":"G"}]
["1531569","Sánchez Prego, Ana","Gallega","D",{"$f":"VLOOKUP(G855,Referencias!$C$4:$D$21,2,FALSE())","v":"Tercera Corazón"},{"$f":"VLOOKUP(G855,Referencias!$C$4:$E$21,3,FALSE())","v":3},"3C","Competición",{"$f":"VLOOKUP(C855,Referencias!$B$24:$C$40,2,FALSE())","v":"G"}]
["1531570","Gutiérrez Arroba, Inmaculada","Gallega","D",{"$f":"VLOOKUP(G856,Referencias!$C$4:$D$21,2,FALSE())","v":"Tercera Corazón"},{"$f":"VLOOKUP(G856,Referencias!$C$4:$E$21,3,FALSE())","v":3},"3C","Competición",{"$f":"VLOOKUP(C856,Referencias!$B$24:$C$40,2,FALSE())","v":"G"}]
["1531573","Rodriguez Blanco, Luisa Manuela","Gallega","D",{"$f":"VLOOKUP(G857,Referencias!$C$4:$D$21,2,FALSE())","v":"Sin Categoría"},{"$f":"VLOOKUP(G857,Referencias!$C$4:$E$21,3,FALSE())","v":4},"SC","Competición",{"$f":"VLOOKUP(C857,Referencias!$B$24:$C$40,2,FALSE())","v":"G"}]
["1531574","Cortizas lópez, Andrea","Gallega","D",{"$f":"VLOOKUP(G858,Referencias!$C$4:$D$21,2,FALSE())","v":"Tercera Diamante"},{"$f":"VLOOKUP(G858,Referencias!$C$4:$E$21,3,FALSE())","v":3},"3D","Competición",{"$f":"VLOOKUP(C858,Referencias!$B$24:$C$40,2,FALSE())","v":"G"}]
["1531590","Cerdeiriña Vázquez, Elvira","Gallega","D",{"$f":"VLOOKUP(G859,Referencias!$C$4:$D$21,2,FALSE())","v":"Sin Categoría"},{"$f":"VLOOKUP(G859,Referencias!$C$4:$E$21,3,FALSE())","v":4},"SC","Competición",{"$f":"VLOOKUP(C859,Referencias!$B$24:$C$40,2,FALSE())","v":"G"}]
["1531595","Carballo Gestal, Ricardo","Gallega","C",{"$f":"VLOOKUP(G860,Referencias!$C$4:$D$21,2,FALSE())","v":"Sin Categoría"},{"$f":"VLOOKUP(G860,Referencias!$C$4:$E$21,3,FALSE())","v":4},"SC","Competición",{"$f":"VLOOKUP(C860,Referencias!$B$24:$C$40,2,FALSE())","v":"G"}]
["1531596","Junquera Llaneza, Jesús Ángel","Gallega","C",{"$f":"VLOOKUP(G861,Referencias!$C$4:$D$21,2,FALSE())","v":"Segunda Diamante"},{"$f":"VLOOKUP(G861,Referencias!$C$4:$E$21,3,FALSE())","v":2},"2D","Competición",{"$f":"VLOOKUP(C861,Referencias!$B$24:$C$40,2,FALSE())","v":"G"}]
["1531611","Santos Insua, Ana","Gallega","D",{"$f":"VLOOKUP(G862,Referencias!$C$4:$D$21,2,FALSE())","v":"Tercera Corazón"},{"$f":"VLOOKUP(G862,Referencias!$C$4:$E$21,3,FALSE())","v":3},"3C","Competición",{"$f":"VLOOKUP(C862,Referencias!$B$24:$C$40,2,FALSE())","v":"G"}]
["1531612","del Rio Negreira, Emilia","Gallega","D",{"$f":"VLOOKUP(G863,Referencias!$C$4:$D$21,2,FALSE())","v":"Segunda Corazón"},{"$f":"VLOOKUP(G863,Referencias!$C$4:$E$21,3,FALSE())","v":2},"2C","Competición",{"$f":"VLOOKUP(C863,Referencias!$B$24:$C$40,2,FALSE())","v":"G"}]
["1531613","Fouz Vázquez, Marisol","Gallega","D",{"$f":"VLOOKUP(G864,Referencias!$C$4:$D$21,2,FALSE())","v":"Segunda Corazón"},{"$f":"VLOOKUP(G864,Referencias!$C$4:$E$21,3,FALSE())","v":2},"2C","Competición",{"$f":"VLOOKUP(C864,Referencias!$B$24:$C$40,2,FALSE())","v":"G"}]
["1531619","Trillo Cayón, María","Gallega","D",{"$f":"VLOOKUP(G865,Referencias!$C$4:$D$21,2,FALSE())","v":"Tercera Corazón"},{"$f":"VLOOKUP(G865,Referencias!$C$4:$E$21,3,FALSE())","v":3},"3C","Competición",{"$f":"VLOOKUP(C865,Referencias!$B$24:$C$40,2,FALSE())","v":"G"}]
["1531624","Vázquez Rey, María Lucia","Gallega","D",{"$f":"VLOOKUP(G866,Referencias!$C$4:$D$21,2,FALSE())","v":"Tercera Diamante"},{"$f":"VLOOKUP(G866,Referencias!$C$4:$E$21,3,FALSE())","v":3},"3D","Competición",{"$f":"VLOOKUP(C866,Referencias!$B$24:$C$40,2,FALSE())","v":"G"}]
["1531641","Caruncho Cea, Francisco Javier","Gallega","C",{"$f":"VLOOKUP(G867,Referencias!$C$4:$D$21,2,FALSE())","v":"Sin Categoría"},{"$f":"VLOOKUP(G867,Referencias!$C$4:$E$21,3,FALSE())","v":4},"SC","Competición",{"$f":"VLOOKUP(C867,Referencias!$B$24:$C$40,2,FALSE())","v":"G"}]
["1531645","Gabaldón Folla, María Fátima","Gallega","D",{"$f":"VLOOKUP(G868,Referencias!$C$4:$D$21,2,FALSE())","v":"Tercera Diamante"},{"$f":"VLOOKUP(G868,Referencias!$C$4:$E$21,3,FALSE())","v":3},"3D","Competición",{"$f":"VLOOKUP(C868,Referencias!$B$24:$C$40,2,FALSE())","v":"G"}]
["1531646","Ricoy Iriarte, Luis","Gallega","C",{"$f":"VLOOKUP(G869,Referencias!$C$4:$D$21,2,FALSE())","v":"Tercera Diamante"},{"$f":"VLOOKUP(G869,Referencias!$C$4:$E$21,3,FALSE())","v":3},"3D","Competición",{"$f":"VLOOKUP(C869,Referencias!$B$24:$C$40,2,FALSE())","v":"G"}]
["1531648","Malpica Saleta, Elvira","Gallega","D",{"$f":"VLOOKUP(G870,Referencias!$C$4:$D$21,2,FALSE())","v":"Segunda Corazón"},{"$f":"VLOOKUP(G870,Referencias!$C$4:$E$21,3,FALSE())","v":2},"2C","Competición",{"$f":"VLOOKUP(C870,Referencias!$B$24:$C$40,2,FALSE())","v":"G"}]
["1531654","Fernández del Barrio, Juan Antonio","Gallega","C",{"$f":"VLOOKUP(G871,Referencias!$C$4:$D$21,2,FALSE())","v":"Primera Corazón"},{"$f":"VLOOKUP(G871,Referencias!$C$4:$E$21,3,FALSE())","v":1},"1C","Competición",{"$f":"VLOOKUP(C871,Referencias!$B$24:$C$40,2,FALSE())","v":"G"}]
["1531655","Puente Sánchez, María Luisa","Gallega","D",{"$f":"VLOOKUP(G872,Referencias!$C$4:$D$21,2,FALSE())","v":"Sin Categoría"},{"$f":"VLOOKUP(G872,Referencias!$C$4:$E$21,3,FALSE())","v":4},"SC","Competición",{"$f":"VLOOKUP(C872,Referencias!$B$24:$C$40,2,FALSE())","v":"G"}]
["1531656","Saavedra Vázquez, Roberto","Gallega","C",{"$f":"VLOOKUP(G873,Referencias!$C$4:$D$21,2,FALSE())","v":"Tercera Corazón"},{"$f":"VLOOKUP(G873,Referencias!$C$4:$E$21,3,FALSE())","v":3},"3C","Competición",{"$f":"VLOOKUP(C873,Referencias!$B$24:$C$40,2,FALSE())","v":"G"}]
["1531658","Portela Gómez, Laura","Gallega","D",{"$f":"VLOOKUP(G874,Referencias!$C$4:$D$21,2,FALSE())","v":"Tercera Corazón"},{"$f":"VLOOKUP(G874,Referencias!$C$4:$E$21,3,FALSE())","v":3},"3C","Competición",{"$f":"VLOOKUP(C874,Referencias!$B$24:$C$40,2,FALSE())","v":"G"}]
["1531660","Sanjurjo Martín, Antonio","Gallega","C",{"$f":"VLOOKUP(G875,Referencias!$C$4:$D$21,2,FALSE())","v":"Tercera Picas"},{"$f":"VLOOKUP(G875,Referencias!$C$4:$E$21,3,FALSE())","v":3},"3P","Competición",{"$f":"VLOOKUP(C875,Referencias!$B$24:$C$40,2,FALSE())","v":"G"}]
["1531668","Rey de Benito, María Dolores","Gallega","D",{"$f":"VLOOKUP(G876,Referencias!$C$4:$D$21,2,FALSE())","v":"Tercera Corazón"},{"$f":"VLOOKUP(G876,Referencias!$C$4:$E$21,3,FALSE())","v":3},"3C","Competición",{"$f":"VLOOKUP(C876,Referencias!$B$24:$C$40,2,FALSE())","v":"G"}]
["1531669","García Blanco Cicerón, Isabel","Gallega","D",{"$f":"VLOOKUP(G877,Referencias!$C$4:$D$21,2,FALSE())","v":"Tercera Corazón"},{"$f":"VLOOKUP(G877,Referencias!$C$4:$E$21,3,FALSE())","v":3},"3C","Competición",{"$f":"VLOOKUP(C877,Referencias!$B$24:$C$40,2,FALSE())","v":"G"}]
["1531676","Fernández Casabella, Carmen","Gallega","D",{"$f":"VLOOKUP(G878,Referencias!$C$4:$D$21,2,FALSE())","v":"Tercera Corazón"},{"$f":"VLOOKUP(G878,Referencias!$C$4:$E$21,3,FALSE())","v":3},"3C","Competición",{"$f":"VLOOKUP(C878,Referencias!$B$24:$C$40,2,FALSE())","v":"G"}]
["1531690","Freire Eimil, María José","Gallega","D",{"$f":"VLOOKUP(G879,Referencias!$C$4:$D$21,2,FALSE())","v":"Tercera Picas"},{"$f":"VLOOKUP(G879,Referencias!$C$4:$E$21,3,FALSE())","v":3},"3P","Competición",{"$f":"VLOOKUP(C879,Referencias!$B$24:$C$40,2,FALSE())","v":"G"}]
["1531691","Peña Díaz, María Rosa","Gallega","D",{"$f":"VLOOKUP(G880,Referencias!$C$4:$D$21,2,FALSE())","v":"Tercera Diamante"},{"$f":"VLOOKUP(G880,Referencias!$C$4:$E$21,3,FALSE())","v":3},"3D","Competición",{"$f":"VLOOKUP(C880,Referencias!$B$24:$C$40,2,FALSE())","v":"G"}]
["1531692","Sánz Piury, María","Gallega","D",{"$f":"VLOOKUP(G881,Referencias!$C$4:$D$21,2,FALSE())","v":"Tercera Corazón"},{"$f":"VLOOKUP(G881,Referencias!$C$4:$E$21,3,FALSE())","v":3},"3C","Competición",{"$f":"VLOOKUP(C881,Referencias!$B$24:$C$40,2,FALSE())","v":"G"}]
["1531696","Bermúdez de la Puente, Jose María","Gallega","C",{"$f":"VLOOKUP(G882,Referencias!$C$4:$D$21,2,FALSE())","v":"Tercera Diamante"},{"$f":"VLOOKUP(G882,Referencias!$C$4:$E$21,3,FALSE())","v":3},"3D","Competición",{"$f":"VLOOKUP(C882,Referencias!$B$24:$C$40,2,FALSE())","v":"G"}]
["1531697","Morros-Sarda Montenegro, Julieta","Gallega","D",{"$f":"VLOOKUP(G883,Referencias!$C$4:$D$21,2,FALSE())","v":"Tercera Diamante"},{"$f":"VLOOKUP(G883,Referencias!$C$4:$E$21,3,FALSE())","v":3},"3D","Competición",{"$f":"VLOOKUP(C883,Referencias!$B$24:$C$40,2,FALSE())","v":"G"}]
["1531700","Pedrosa López, Miguel Ángel","Gallega","C",{"$f":"VLOOKUP(G884,Referencias!$C$4:$D$21,2,FALSE())","v":"Tercera Picas"},{"$f":"VLOOKUP(G884,Referencias!$C$4:$E$21,3,FALSE())","v":3},"3P","Competición",{"$f":"VLOOKUP(C884,Referencias!$B$24:$C$40,2,FALSE())","v":"G"}]
["1531706","Ruiz Tovar, María Josefa","Gallega","D",{"$f":"VLOOKUP(G885,Referencias!$C$4:$D$21,2,FALSE())","v":"Tercera Diamante"},{"$f":"VLOOKUP(G885,Referencias!$C$4:$E$21,3,FALSE())","v":3},"3D","Competición",{"$f":"VLOOKUP(C885,Referencias!$B$24:$C$40,2,FALSE())","v":"G"}]
["1531709","Martínez Muñiz, Angel José","Gallega","C",{"$f":"VLOOKUP(G886,Referencias!$C$4:$D$21,2,FALSE())","v":"Tercera Corazón"},{"$f":"VLOOKUP(G886,Referencias!$C$4:$E$21,3,FALSE())","v":3},"3C","Competición",{"$f":"VLOOKUP(C886,Referencias!$B$24:$C$40,2,FALSE())","v":"G"}]
["1531713","De María Angulo, Antonio","Gallega","C",{"$f":"VLOOKUP(G887,Referencias!$C$4:$D$21,2,FALSE())","v":"Tercera Diamante"},{"$f":"VLOOKUP(G887,Referencias!$C$4:$E$21,3,FALSE())","v":3},"3D","Competición",{"$f":"VLOOKUP(C887,Referencias!$B$24:$C$40,2,FALSE())","v":"G"}]
["1531737","Alonso Usero, Pilar","Gallega","D",{"$f":"VLOOKUP(G888,Referencias!$C$4:$D$21,2,FALSE())","v":"Sin Categoría"},{"$f":"VLOOKUP(G888,Referencias!$C$4:$E$21,3,FALSE())","v":4},"SC","Competición",{"$f":"VLOOKUP(C888,Referencias!$B$24:$C$40,2,FALSE())","v":"G"}]
["1531738","Sexto Villanueva, Rosa María","Gallega","D",{"$f":"VLOOKUP(G889,Referencias!$C$4:$D$21,2,FALSE())","v":"Tercera Diamante"},{"$f":"VLOOKUP(G889,Referencias!$C$4:$E$21,3,FALSE())","v":3},"3D","Competición",{"$f":"VLOOKUP(C889,Referencias!$B$24:$C$40,2,FALSE())","v":"G"}]
["1531743","Porteiro Tuñas, María Jesús","Gallega","D",{"$f":"VLOOKUP(G890,Referencias!$C$4:$D$21,2,FALSE())","v":"Tercera Diamante"},{"$f":"VLOOKUP(G890,Referencias!$C$4:$E$21,3,FALSE())","v":3},"3D","Competición",{"$f":"VLOOKUP(C890,Referencias!$B$24:$C$40,2,FALSE())","v":"G"}]
["1531766","Linares Vázquez, Blanca","Gallega","D",{"$f":"VLOOKUP(G891,Referencias!$C$4:$D$21,2,FALSE())","v":"Sin Categoría"},{"$f":"VLOOKUP(G891,Referencias!$C$4:$E$21,3,FALSE())","v":4},"SC","Competición",{"$f":"VLOOKUP(C891,Referencias!$B$24:$C$40,2,FALSE())","v":"G"}]
["1531767","Muñoz, Carlos","Gallega","C",{"$f":"VLOOKUP(G892,Referencias!$C$4:$D$21,2,FALSE())","v":"Tercera Diamante"},{"$f":"VLOOKUP(G892,Referencias!$C$4:$E$21,3,FALSE())","v":3},"3D","Competición",{"$f":"VLOOKUP(C892,Referencias!$B$24:$C$40,2,FALSE())","v":"G"}]
["1531799","Gorina Sáenz de Cabezón, Ana","Gallega","D",{"$f":"VLOOKUP(G893,Referencias!$C$4:$D$21,2,FALSE())","v":"Primera Corazón"},{"$f":"VLOOKUP(G893,Referencias!$C$4:$E$21,3,FALSE())","v":1},"1C","Competición",{"$f":"VLOOKUP(C893,Referencias!$B$24:$C$40,2,FALSE())","v":"G"}]
["1531803","Méndez Vázquez, María Luisa","Gallega","D",{"$f":"VLOOKUP(G894,Referencias!$C$4:$D$21,2,FALSE())","v":"Segunda Diamante"},{"$f":"VLOOKUP(G894,Referencias!$C$4:$E$21,3,FALSE())","v":2},"2D","Competición",{"$f":"VLOOKUP(C894,Referencias!$B$24:$C$40,2,FALSE())","v":"G"}]
["1531804","García-Siso Pardo, Teresa","Gallega","D",{"$f":"VLOOKUP(G895,Referencias!$C$4:$D$21,2,FALSE())","v":"Tercera Picas"},{"$f":"VLOOKUP(G895,Referencias!$C$4:$E$21,3,FALSE())","v":3},"3P","Competición",{"$f":"VLOOKUP(C895,Referencias!$B$24:$C$40,2,FALSE())","v":"G"}]
["1531806","Trepat Silva, Consuelo","Gallega","D",{"$f":"VLOOKUP(G896,Referencias!$C$4:$D$21,2,FALSE())","v":"Sin Categoría"},{"$f":"VLOOKUP(G896,Referencias!$C$4:$E$21,3,FALSE())","v":4},"SC","Competición",{"$f":"VLOOKUP(C896,Referencias!$B$24:$C$40,2,FALSE())","v":"G"}]
["1531821","Villar y Martín-Barbadillo, María","Gallega","D",{"$f":"VLOOKUP(G897,Referencias!$C$4:$D$21,2,FALSE())","v":"Tercera Diamante"},{"$f":"VLOOKUP(G897,Referencias!$C$4:$E$21,3,FALSE())","v":3},"3D","Competición",{"$f":"VLOOKUP(C897,Referencias!$B$24:$C$40,2,FALSE())","v":"G"}]
["1531827","Juega Puig, Francisco Javier","Gallega","C",{"$f":"VLOOKUP(G898,Referencias!$C$4:$D$21,2,FALSE())","v":"Tercera Corazón"},{"$f":"VLOOKUP(G898,Referencias!$C$4:$E$21,3,FALSE())","v":3},"3C","Competición",{"$f":"VLOOKUP(C898,Referencias!$B$24:$C$40,2,FALSE())","v":"G"}]
["1531928","Rodriguez Madriñán, Fernando","Gallega","C",{"$f":"VLOOKUP(G899,Referencias!$C$4:$D$21,2,FALSE())","v":"Tercera Picas"},{"$f":"VLOOKUP(G899,Referencias!$C$4:$E$21,3,FALSE())","v":3},"3P","Competición",{"$f":"VLOOKUP(C899,Referencias!$B$24:$C$40,2,FALSE())","v":"G"}]
["1531929","Varela Porteiro, Maria","Gallega","D",{"$f":"VLOOKUP(G900,Referencias!$C$4:$D$21,2,FALSE())","v":"Tercera Picas"},{"$f":"VLOOKUP(G900,Referencias!$C$4:$E$21,3,FALSE())","v":3},"3P","Competición",{"$f":"VLOOKUP(C900,Referencias!$B$24:$C$40,2,FALSE())","v":"G"}]
["1531930","Nuñez Coello, Alfonso","Gallega","C",{"$f":"VLOOKUP(G901,Referencias!$C$4:$D$21,2,FALSE())","v":"Sin Categoría"},{"$f":"VLOOKUP(G901,Referencias!$C$4:$E$21,3,FALSE())","v":4},"SC","Competición",{"$f":"VLOOKUP(C901,Referencias!$B$24:$C$40,2,FALSE())","v":"G"}]
["1531931","Peletiro Fernández, Ramón","Gallega","C",{"$f":"VLOOKUP(G902,Referencias!$C$4:$D$21,2,FALSE())","v":"Sin Categoría"},{"$f":"VLOOKUP(G902,Referencias!$C$4:$E$21,3,FALSE())","v":4},"SC","Competición",{"$f":"VLOOKUP(C902,Referencias!$B$24:$C$40,2,FALSE())","v":"G"}]
["1531932","Romero López-Grado, Jaime","Gallega","C",{"$f":"VLOOKUP(G903,Referencias!$C$4:$D$21,2,FALSE())","v":"Sin Categoría"},{"$f":"VLOOKUP(G903,Referencias!$C$4:$E$21,3,FALSE())","v":4},"SC","Competición",{"$f":"VLOOKUP(C903,Referencias!$B$24:$C$40,2,FALSE())","v":"G"}]
["1531941","Agra García, Carmen","Gallega","D",{"$f":"VLOOKUP(G904,Referencias!$C$4:$D$21,2,FALSE())","v":"Tercera Picas"},{"$f":"VLOOKUP(G904,Referencias!$C$4:$E$21,3,FALSE())","v":3},"3P","Competición",{"$f":"VLOOKUP(C904,Referencias!$B$24:$C$40,2,FALSE())","v":"G"}]
["1531942","Varela Porto, Amparo ","Gallega","D",{"$f":"VLOOKUP(G905,Referencias!$C$4:$D$21,2,FALSE())","v":"Sin Categoría"},{"$f":"VLOOKUP(G905,Referencias!$C$4:$E$21,3,FALSE())","v":4},"SC","Competición",{"$f":"VLOOKUP(C905,Referencias!$B$24:$C$40,2,FALSE())","v":"G"}]
["1531943","Dopico Saleta, María Sol","Gallega","D",{"$f":"VLOOKUP(G906,Referencias!$C$4:$D$21,2,FALSE())","v":"Tercera Corazón"},{"$f":"VLOOKUP(G906,Referencias!$C$4:$E$21,3,FALSE())","v":3},"3C","Competición",{"$f":"VLOOKUP(C906,Referencias!$B$24:$C$40,2,FALSE())","v":"G"}]
["1531945","Pérez Barbero, María Teresa ","Gallega","D",{"$f":"VLOOKUP(G907,Referencias!$C$4:$D$21,2,FALSE())","v":"Tercera Diamante"},{"$f":"VLOOKUP(G907,Referencias!$C$4:$E$21,3,FALSE())","v":3},"3D","Competición",{"$f":"VLOOKUP(C907,Referencias!$B$24:$C$40,2,FALSE())","v":"G"}]
["1531946","Vecino Barreras, José Antonio ","Gallega","C",{"$f":"VLOOKUP(G908,Referencias!$C$4:$D$21,2,FALSE())","v":"Tercera Diamante"},{"$f":"VLOOKUP(G908,Referencias!$C$4:$E$21,3,FALSE())","v":3},"3D","Competición",{"$f":"VLOOKUP(C908,Referencias!$B$24:$C$40,2,FALSE())","v":"G"}]
["1531947","Lens Vecino, Isabel","Gallega","D",{"$f":"VLOOKUP(G909,Referencias!$C$4:$D$21,2,FALSE())","v":"Tercera Corazón"},{"$f":"VLOOKUP(G909,Referencias!$C$4:$E$21,3,FALSE())","v":3},"3C","Competición",{"$f":"VLOOKUP(C909,Referencias!$B$24:$C$40,2,FALSE())","v":"G"}]
["1531948","López Morán, Enriqueta ","Gallega","D",{"$f":"VLOOKUP(G910,Referencias!$C$4:$D$21,2,FALSE())","v":"Tercera Diamante"},{"$f":"VLOOKUP(G910,Referencias!$C$4:$E$21,3,FALSE())","v":3},"3D","Competición",{"$f":"VLOOKUP(C910,Referencias!$B$24:$C$40,2,FALSE())","v":"G"}]
["1531949","López Castro, Marí Julia ","Gallega","D",{"$f":"VLOOKUP(G911,Referencias!$C$4:$D$21,2,FALSE())","v":"Tercera Diamante"},{"$f":"VLOOKUP(G911,Referencias!$C$4:$E$21,3,FALSE())","v":3},"3D","Competición",{"$f":"VLOOKUP(C911,Referencias!$B$24:$C$40,2,FALSE())","v":"G"}]
["1531951","Ruiz de la Vega, María del Carmen","Gallega","D",{"$f":"VLOOKUP(G912,Referencias!$C$4:$D$21,2,FALSE())","v":"Tercera Diamante"},{"$f":"VLOOKUP(G912,Referencias!$C$4:$E$21,3,FALSE())","v":3},"3D","Competición",{"$f":"VLOOKUP(C912,Referencias!$B$24:$C$40,2,FALSE())","v":"G"}]
["1531986","Ferreiro del Rey, Oscar","Gallega","C",{"$f":"VLOOKUP(G913,Referencias!$C$4:$D$21,2,FALSE())","v":"Tercera Diamante"},{"$f":"VLOOKUP(G913,Referencias!$C$4:$E$21,3,FALSE())","v":3},"3D","Competición",{"$f":"VLOOKUP(C913,Referencias!$B$24:$C$40,2,FALSE())","v":"G"}]
["1531987","Romero Burgos, Rafael ","Gallega","C",{"$f":"VLOOKUP(G914,Referencias!$C$4:$D$21,2,FALSE())","v":"Tercera Diamante"},{"$f":"VLOOKUP(G914,Referencias!$C$4:$E$21,3,FALSE())","v":3},"3D","Competición",{"$f":"VLOOKUP(C914,Referencias!$B$24:$C$40,2,FALSE())","v":"G"}]
["1531988","Pérez Castro, María","Gallega","D",{"$f":"VLOOKUP(G915,Referencias!$C$4:$D$21,2,FALSE())","v":"Tercera Diamante"},{"$f":"VLOOKUP(G915,Referencias!$C$4:$E$21,3,FALSE())","v":3},"3D","Competición",{"$f":"VLOOKUP(C915,Referencias!$B$24:$C$40,2,FALSE())","v":"G"}]
["1531989","Lozano Esteve, Pilar ","Gallega","D",{"$f":"VLOOKUP(G916,Referencias!$C$4:$D$21,2,FALSE())","v":"Tercera Diamante"},{"$f":"VLOOKUP(G916,Referencias!$C$4:$E$21,3,FALSE())","v":3},"3D","Competición",{"$f":"VLOOKUP(C916,Referencias!$B$24:$C$40,2,FALSE())","v":"G"}]
["1531992","Ribas Taveira da Costa d'Abranches Jordao, María Ana ","Gallega","D",{"$f":"VLOOKUP(G917,Referencias!$C$4:$D$21,2,FALSE())","v":"Sin Categoría"},{"$f":"VLOOKUP(G917,Referencias!$C$4:$E$21,3,FALSE())","v":4},"SC","Competición",{"$f":"VLOOKUP(C917,Referencias!$B$24:$C$40,2,FALSE())","v":"G"}]
["1531993","Torres Prada, Ana","Gallega","D",{"$f":"VLOOKUP(G918,Referencias!$C$4:$D$21,2,FALSE())","v":"Tercera Diamante"},{"$f":"VLOOKUP(G918,Referencias!$C$4:$E$21,3,FALSE())","v":3},"3D","Competición",{"$f":"VLOOKUP(C918,Referencias!$B$24:$C$40,2,FALSE())","v":"G"}]
["1531998","López Regueiro, Sofia","Gallega","D",{"$f":"VLOOKUP(G919,Referencias!$C$4:$D$21,2,FALSE())","v":"Tercera Diamante"},{"$f":"VLOOKUP(G919,Referencias!$C$4:$E$21,3,FALSE())","v":3},"3D","Competición",{"$f":"VLOOKUP(C919,Referencias!$B$24:$C$40,2,FALSE())","v":"G"}]
["1535009","de Figueroa , Marquesa","Gallega","D",{"$f":"VLOOKUP(G920,Referencias!$C$4:$D$21,2,FALSE())","v":"Primera Picas"},{"$f":"VLOOKUP(G920,Referencias!$C$4:$E$21,3,FALSE())","v":1},"1P","Competición",{"$f":"VLOOKUP(C920,Referencias!$B$24:$C$40,2,FALSE())","v":"G"}]
["1535010","Ferrer Pages, Montserrat","Gallega","D",{"$f":"VLOOKUP(G921,Referencias!$C$4:$D$21,2,FALSE())","v":"Segunda Corazón"},{"$f":"VLOOKUP(G921,Referencias!$C$4:$E$21,3,FALSE())","v":2},"2C","Competición",{"$f":"VLOOKUP(C921,Referencias!$B$24:$C$40,2,FALSE())","v":"G"}]
["1535043","Vázquez-Pimentel Llamas, German","Gallega","C",{"$f":"VLOOKUP(G922,Referencias!$C$4:$D$21,2,FALSE())","v":"Primera Picas"},{"$f":"VLOOKUP(G922,Referencias!$C$4:$E$21,3,FALSE())","v":1},"1P","Competición",{"$f":"VLOOKUP(C922,Referencias!$B$24:$C$40,2,FALSE())","v":"G"}]
["1535100","Cortés Lobato, Chitina","Gallega","D",{"$f":"VLOOKUP(G923,Referencias!$C$4:$D$21,2,FALSE())","v":"Sin Categoría"},{"$f":"VLOOKUP(G923,Referencias!$C$4:$E$21,3,FALSE())","v":4},"SC","Competición",{"$f":"VLOOKUP(C923,Referencias!$B$24:$C$40,2,FALSE())","v":"G"}]
["1535112","Romero López-Grado, Marcelo","Gallega","C",{"$f":"VLOOKUP(G924,Referencias!$C$4:$D$21,2,FALSE())","v":"Primera Picas"},{"$f":"VLOOKUP(G924,Referencias!$C$4:$E$21,3,FALSE())","v":1},"1P","Competición",{"$f":"VLOOKUP(C924,Referencias!$B$24:$C$40,2,FALSE())","v":"G"}]
["1535114","Solorzano Rojo, Josefina","Gallega","D",{"$f":"VLOOKUP(G925,Referencias!$C$4:$D$21,2,FALSE())","v":"Tercera Picas"},{"$f":"VLOOKUP(G925,Referencias!$C$4:$E$21,3,FALSE())","v":3},"3P","Competición",{"$f":"VLOOKUP(C925,Referencias!$B$24:$C$40,2,FALSE())","v":"G"}]
["1535118","Berguer Sández, Margarita","Gallega","D",{"$f":"VLOOKUP(G926,Referencias!$C$4:$D$21,2,FALSE())","v":"Segunda Corazón"},{"$f":"VLOOKUP(G926,Referencias!$C$4:$E$21,3,FALSE())","v":2},"2C","Competición",{"$f":"VLOOKUP(C926,Referencias!$B$24:$C$40,2,FALSE())","v":"G"}]
["1535119","Pérez Rubido, Fuensanta","Gallega","D",{"$f":"VLOOKUP(G927,Referencias!$C$4:$D$21,2,FALSE())","v":"Primera Picas"},{"$f":"VLOOKUP(G927,Referencias!$C$4:$E$21,3,FALSE())","v":1},"1P","Competición",{"$f":"VLOOKUP(C927,Referencias!$B$24:$C$40,2,FALSE())","v":"G"}]
["1535143","Berguer Sández, Celia","Gallega","D",{"$f":"VLOOKUP(G928,Referencias!$C$4:$D$21,2,FALSE())","v":"Tercera Picas"},{"$f":"VLOOKUP(G928,Referencias!$C$4:$E$21,3,FALSE())","v":3},"3P","Competición",{"$f":"VLOOKUP(C928,Referencias!$B$24:$C$40,2,FALSE())","v":"G"}]
["1535150","Novo Prego, Pancha","Gallega","D",{"$f":"VLOOKUP(G929,Referencias!$C$4:$D$21,2,FALSE())","v":"Primera Picas"},{"$f":"VLOOKUP(G929,Referencias!$C$4:$E$21,3,FALSE())","v":1},"1P","Competición",{"$f":"VLOOKUP(C929,Referencias!$B$24:$C$40,2,FALSE())","v":"G"}]
["1535177","Muñiz de las Cuevas, Isabel","Gallega","D",{"$f":"VLOOKUP(G930,Referencias!$C$4:$D$21,2,FALSE())","v":"Sin Categoría"},{"$f":"VLOOKUP(G930,Referencias!$C$4:$E$21,3,FALSE())","v":4},"SC","Competición",{"$f":"VLOOKUP(C930,Referencias!$B$24:$C$40,2,FALSE())","v":"G"}]
["1535180","Muñiz Vega, Marina","Gallega","D",{"$f":"VLOOKUP(G931,Referencias!$C$4:$D$21,2,FALSE())","v":"Primera Picas"},{"$f":"VLOOKUP(G931,Referencias!$C$4:$E$21,3,FALSE())","v":1},"1P","Competición",{"$f":"VLOOKUP(C931,Referencias!$B$24:$C$40,2,FALSE())","v":"G"}]
["1535183","Martínez Casal, Luisa","Gallega","D",{"$f":"VLOOKUP(G932,Referencias!$C$4:$D$21,2,FALSE())","v":"Primera Picas"},{"$f":"VLOOKUP(G932,Referencias!$C$4:$E$21,3,FALSE())","v":1},"1P","Competición",{"$f":"VLOOKUP(C932,Referencias!$B$24:$C$40,2,FALSE())","v":"G"}]
["1535772","Pereiro  López, Eva","Gallega","D",{"$f":"VLOOKUP(G933,Referencias!$C$4:$D$21,2,FALSE())","v":"Tercera Corazón"},{"$f":"VLOOKUP(G933,Referencias!$C$4:$E$21,3,FALSE())","v":3},"3C","Competición",{"$f":"VLOOKUP(C933,Referencias!$B$24:$C$40,2,FALSE())","v":"G"}]
["1535773","Romero Gorriz, Amparo","Gallega","D",{"$f":"VLOOKUP(G934,Referencias!$C$4:$D$21,2,FALSE())","v":"Tercera Picas"},{"$f":"VLOOKUP(G934,Referencias!$C$4:$E$21,3,FALSE())","v":3},"3P","Competición",{"$f":"VLOOKUP(C934,Referencias!$B$24:$C$40,2,FALSE())","v":"G"}]
["1535808","Balás Pedreira, Angel","Gallega","C",{"$f":"VLOOKUP(G935,Referencias!$C$4:$D$21,2,FALSE())","v":"Primera Corazón"},{"$f":"VLOOKUP(G935,Referencias!$C$4:$E$21,3,FALSE())","v":1},"1C","Competición",{"$f":"VLOOKUP(C935,Referencias!$B$24:$C$40,2,FALSE())","v":"G"}]
["1861692","Bourquin, Helmut","Andaluza","C",{"$f":"VLOOKUP(G936,Referencias!$C$4:$D$21,2,FALSE())","v":"Tercera Picas"},{"$f":"VLOOKUP(G936,Referencias!$C$4:$E$21,3,FALSE())","v":3},"3P","Competición",{"$f":"VLOOKUP(C936,Referencias!$B$24:$C$40,2,FALSE())","v":"A"}]
["1861756","Scott, Alan","Andaluza","C",{"$f":"VLOOKUP(G937,Referencias!$C$4:$D$21,2,FALSE())","v":"Sin Categoría"},{"$f":"VLOOKUP(G937,Referencias!$C$4:$E$21,3,FALSE())","v":4},"SC","Competición",{"$f":"VLOOKUP(C937,Referencias!$B$24:$C$40,2,FALSE())","v":"A"}]
["1861757","Dahl, Svein Erk","Andaluza","C",{"$f":"VLOOKUP(G938,Referencias!$C$4:$D$21,2,FALSE())","v":"Sin Categoría"},{"$f":"VLOOKUP(G938,Referencias!$C$4:$E$21,3,FALSE())","v":4},"SC","Competición",{"$f":"VLOOKUP(C938,Referencias!$B$24:$C$40,2,FALSE())","v":"A"}]
["1861785","Mac Avoy, Jim","Andaluza","C",{"$f":"VLOOKUP(G939,Referencias!$C$4:$D$21,2,FALSE())","v":"Sin Categoría"},{"$f":"VLOOKUP(G939,Referencias!$C$4:$E$21,3,FALSE())","v":4},"SC","Competición",{"$f":"VLOOKUP(C939,Referencias!$B$24:$C$40,2,FALSE())","v":"A"}]
["1861786","Mac Avoy, Constance","Andaluza","C",{"$f":"VLOOKUP(G940,Referencias!$C$4:$D$21,2,FALSE())","v":"Sin Categoría"},{"$f":"VLOOKUP(G940,Referencias!$C$4:$E$21,3,FALSE())","v":4},"SC","Competición",{"$f":"VLOOKUP(C940,Referencias!$B$24:$C$40,2,FALSE())","v":"A"}]
["1861799","Porcel Morales, María Isabel ","Andaluza","D",{"$f":"VLOOKUP(G941,Referencias!$C$4:$D$21,2,FALSE())","v":"Tercera Diamante"},{"$f":"VLOOKUP(G941,Referencias!$C$4:$E$21,3,FALSE())","v":3},"3D","Competición",{"$f":"VLOOKUP(C941,Referencias!$B$24:$C$40,2,FALSE())","v":"A"}]
["1861800","Clements, Willem","Andaluza","C",{"$f":"VLOOKUP(G942,Referencias!$C$4:$D$21,2,FALSE())","v":"Tercera Diamante"},{"$f":"VLOOKUP(G942,Referencias!$C$4:$E$21,3,FALSE())","v":3},"3D","Competición",{"$f":"VLOOKUP(C942,Referencias!$B$24:$C$40,2,FALSE())","v":"A"}]
["1908000","Jódar Rodríguez, José","Castellano-Manchega","C",{"$f":"VLOOKUP(G943,Referencias!$C$4:$D$21,2,FALSE())","v":"Tercera Diamante"},{"$f":"VLOOKUP(G943,Referencias!$C$4:$E$21,3,FALSE())","v":3},"3D","Competición",{"$f":"VLOOKUP(C943,Referencias!$B$24:$C$40,2,FALSE())","v":"CM"}]
["2081031","Ruiz Lopetedi, María Paz","Vasca","D",{"$f":"VLOOKUP(G944,Referencias!$C$4:$D$21,2,FALSE())","v":"Sin Categoría"},{"$f":"VLOOKUP(G944,Referencias!$C$4:$E$21,3,FALSE())","v":4},"SC","Competición",{"$f":"VLOOKUP(C944,Referencias!$B$24:$C$40,2,FALSE())","v":"PV"}]
["2081092","Serraller Ibañez, Carmen","Vasca","D",{"$f":"VLOOKUP(G945,Referencias!$C$4:$D$21,2,FALSE())","v":"Tercera Diamante"},{"$f":"VLOOKUP(G945,Referencias!$C$4:$E$21,3,FALSE())","v":3},"3D","Competición",{"$f":"VLOOKUP(C945,Referencias!$B$24:$C$40,2,FALSE())","v":"PV"}]
["2081093","Drehs del Castro, Ana María","Vasca","D",{"$f":"VLOOKUP(G946,Referencias!$C$4:$D$21,2,FALSE())","v":"Tercera Diamante"},{"$f":"VLOOKUP(G946,Referencias!$C$4:$E$21,3,FALSE())","v":3},"3D","Competición",{"$f":"VLOOKUP(C946,Referencias!$B$24:$C$40,2,FALSE())","v":"PV"}]
["2081098","Telleria Usabiaga, Isabel","Vasca","D",{"$f":"VLOOKUP(G947,Referencias!$C$4:$D$21,2,FALSE())","v":"Tercera Diamante"},{"$f":"VLOOKUP(G947,Referencias!$C$4:$E$21,3,FALSE())","v":3},"3D","Competición",{"$f":"VLOOKUP(C947,Referencias!$B$24:$C$40,2,FALSE())","v":"PV"}]
["2081134","Escribano Uzcudun, Miguel","Vasca","C",{"$f":"VLOOKUP(G948,Referencias!$C$4:$D$21,2,FALSE())","v":"Tercera Diamante"},{"$f":"VLOOKUP(G948,Referencias!$C$4:$E$21,3,FALSE())","v":3},"3D","Competición",{"$f":"VLOOKUP(C948,Referencias!$B$24:$C$40,2,FALSE())","v":"PV"}]
["2081167","Lasarte Alzua, José León","Vasca","C",{"$f":"VLOOKUP(G949,Referencias!$C$4:$D$21,2,FALSE())","v":"Primera Corazón"},{"$f":"VLOOKUP(G949,Referencias!$C$4:$E$21,3,FALSE())","v":1},"1C","Competición",{"$f":"VLOOKUP(C949,Referencias!$B$24:$C$40,2,FALSE())","v":"PV"}]
["2081168","Sainz Armada, Paz","Vasca","D",{"$f":"VLOOKUP(G950,Referencias!$C$4:$D$21,2,FALSE())","v":"Segunda Diamante"},{"$f":"VLOOKUP(G950,Referencias!$C$4:$E$21,3,FALSE())","v":2},"2D","Competición",{"$f":"VLOOKUP(C950,Referencias!$B$24:$C$40,2,FALSE())","v":"PV"}]
["2081191","Elio Lopetedi, María Pilar","Vasca","D",{"$f":"VLOOKUP(G951,Referencias!$C$4:$D$21,2,FALSE())","v":"Tercera Diamante"},{"$f":"VLOOKUP(G951,Referencias!$C$4:$E$21,3,FALSE())","v":3},"3D","Competición",{"$f":"VLOOKUP(C951,Referencias!$B$24:$C$40,2,FALSE())","v":"PV"}]
["2081207","Gimenez Aurusa, María Jesús","Vasca","D",{"$f":"VLOOKUP(G952,Referencias!$C$4:$D$21,2,FALSE())","v":"Sin Categoría"},{"$f":"VLOOKUP(G952,Referencias!$C$4:$E$21,3,FALSE())","v":4},"SC","Competición",{"$f":"VLOOKUP(C952,Referencias!$B$24:$C$40,2,FALSE())","v":"PV"}]
["2081208","Gimenez Aurusa, María Victoria","Vasca","D",{"$f":"VLOOKUP(G953,Referencias!$C$4:$D$21,2,FALSE())","v":"Sin Categoría"},{"$f":"VLOOKUP(G953,Referencias!$C$4:$E$21,3,FALSE())","v":4},"SC","Competición",{"$f":"VLOOKUP(C953,Referencias!$B$24:$C$40,2,FALSE())","v":"PV"}]
["2081209","Pennes Miangolarra, Michel","Vasca","C",{"$f":"VLOOKUP(G954,Referencias!$C$4:$D$21,2,FALSE())","v":"Tercera Picas"},{"$f":"VLOOKUP(G954,Referencias!$C$4:$E$21,3,FALSE())","v":3},"3P","Competición",{"$f":"VLOOKUP(C954,Referencias!$B$24:$C$40,2,FALSE())","v":"PV"}]
["2081239","Rodriguez Huerta, Elena","Vasca","D",{"$f":"VLOOKUP(G955,Referencias!$C$4:$D$21,2,FALSE())","v":"Sin Categoría"},{"$f":"VLOOKUP(G955,Referencias!$C$4:$E$21,3,FALSE())","v":4},"SC","Competición",{"$f":"VLOOKUP(C955,Referencias!$B$24:$C$40,2,FALSE())","v":"PV"}]
["2081241","Uriarte Seminario, Ana María","Vasca","D",{"$f":"VLOOKUP(G956,Referencias!$C$4:$D$21,2,FALSE())","v":"Segunda Diamante"},{"$f":"VLOOKUP(G956,Referencias!$C$4:$E$21,3,FALSE())","v":2},"2D","Competición",{"$f":"VLOOKUP(C956,Referencias!$B$24:$C$40,2,FALSE())","v":"PV"}]
["2081256","Velarde Altolaguirre, Guadalupe","Vasca","D",{"$f":"VLOOKUP(G957,Referencias!$C$4:$D$21,2,FALSE())","v":"Sin Categoría"},{"$f":"VLOOKUP(G957,Referencias!$C$4:$E$21,3,FALSE())","v":4},"SC","Competición",{"$f":"VLOOKUP(C957,Referencias!$B$24:$C$40,2,FALSE())","v":"PV"}]
["2081257","Gabilondo Usabiaga, Miren","Vasca","D",{"$f":"VLOOKUP(G958,Referencias!$C$4:$D$21,2,FALSE())","v":"Sin Categoría"},{"$f":"VLOOKUP(G958,Referencias!$C$4:$E$21,3,FALSE())","v":4},"SC","Competición",{"$f":"VLOOKUP(C958,Referencias!$B$24:$C$40,2,FALSE())","v":"PV"}]
["2081264","Olasagasti Duñabeitia, María del Coro","Vasca","D",{"$f":"VLOOKUP(G959,Referencias!$C$4:$D$21,2,FALSE())","v":"Sin Categoría"},{"$f":"VLOOKUP(G959,Referencias!$C$4:$E$21,3,FALSE())","v":4},"SC","Competición",{"$f":"VLOOKUP(C959,Referencias!$B$24:$C$40,2,FALSE())","v":"PV"}]
["2081265","Olasagasti Duñabeitia, Ana","Vasca","D",{"$f":"VLOOKUP(G960,Referencias!$C$4:$D$21,2,FALSE())","v":"Sin Categoría"},{"$f":"VLOOKUP(G960,Referencias!$C$4:$E$21,3,FALSE())","v":4},"SC","Competición",{"$f":"VLOOKUP(C960,Referencias!$B$24:$C$40,2,FALSE())","v":"PV"}]
["2081275","Murua Urruticoechea, Antonio","Vasca","C",{"$f":"VLOOKUP(G961,Referencias!$C$4:$D$21,2,FALSE())","v":"Segunda Diamante"},{"$f":"VLOOKUP(G961,Referencias!$C$4:$E$21,3,FALSE())","v":2},"2D","Competición",{"$f":"VLOOKUP(C961,Referencias!$B$24:$C$40,2,FALSE())","v":"PV"}]
["2081276","Murua Urruticoechea, Laura","Vasca","D",{"$f":"VLOOKUP(G962,Referencias!$C$4:$D$21,2,FALSE())","v":"Segunda Picas"},{"$f":"VLOOKUP(G962,Referencias!$C$4:$E$21,3,FALSE())","v":2},"2P","Competición",{"$f":"VLOOKUP(C962,Referencias!$B$24:$C$40,2,FALSE())","v":"PV"}]
["2081277","Barandiaran Barbeira, Juan","Vasca","C",{"$f":"VLOOKUP(G963,Referencias!$C$4:$D$21,2,FALSE())","v":"Sin Categoría"},{"$f":"VLOOKUP(G963,Referencias!$C$4:$E$21,3,FALSE())","v":4},"SC","Competición",{"$f":"VLOOKUP(C963,Referencias!$B$24:$C$40,2,FALSE())","v":"PV"}]
["2081280","Mayor de la Peña, María Luisa","Vasca","D",{"$f":"VLOOKUP(G964,Referencias!$C$4:$D$21,2,FALSE())","v":"Sin Categoría"},{"$f":"VLOOKUP(G964,Referencias!$C$4:$E$21,3,FALSE())","v":4},"SC","Competición",{"$f":"VLOOKUP(C964,Referencias!$B$24:$C$40,2,FALSE())","v":"PV"}]
["2081281","Riera Arévalo, María Asún","Vasca","D",{"$f":"VLOOKUP(G965,Referencias!$C$4:$D$21,2,FALSE())","v":"Sin Categoría"},{"$f":"VLOOKUP(G965,Referencias!$C$4:$E$21,3,FALSE())","v":4},"SC","Competición",{"$f":"VLOOKUP(C965,Referencias!$B$24:$C$40,2,FALSE())","v":"PV"}]
["2081454","Martínez Fresneda, Álvaro","Cántabra","C",{"$f":"VLOOKUP(G966,Referencias!$C$4:$D$21,2,FALSE())","v":"Primera Picas"},{"$f":"VLOOKUP(G966,Referencias!$C$4:$E$21,3,FALSE())","v":1},"1P","Competición",{"$f":"VLOOKUP(C966,Referencias!$B$24:$C$40,2,FALSE())","v":"CN"}]
["2083348","Pilarte Pilarte, Fernando","Vasca","C",{"$f":"VLOOKUP(G967,Referencias!$C$4:$D$21,2,FALSE())","v":"Primera Picas"},{"$f":"VLOOKUP(G967,Referencias!$C$4:$E$21,3,FALSE())","v":1},"1P","Competición",{"$f":"VLOOKUP(C967,Referencias!$B$24:$C$40,2,FALSE())","v":"PV"}]
["2161289","Garrigos Perucha, Pedro","Andaluza","C",{"$f":"VLOOKUP(G968,Referencias!$C$4:$D$21,2,FALSE())","v":"Sin Categoría"},{"$f":"VLOOKUP(G968,Referencias!$C$4:$E$21,3,FALSE())","v":4},"SC","Competición",{"$f":"VLOOKUP(C968,Referencias!$B$24:$C$40,2,FALSE())","v":"A"}]
["2161290","López Urieta, Alejandro","Andaluza","C",{"$f":"VLOOKUP(G969,Referencias!$C$4:$D$21,2,FALSE())","v":"Primera Picas"},{"$f":"VLOOKUP(G969,Referencias!$C$4:$E$21,3,FALSE())","v":1},"1P","Competición",{"$f":"VLOOKUP(C969,Referencias!$B$24:$C$40,2,FALSE())","v":"A"}]
["2161457","Carrasco Vila, Jesús","Andaluza","C",{"$f":"VLOOKUP(G970,Referencias!$C$4:$D$21,2,FALSE())","v":"Sin Categoría"},{"$f":"VLOOKUP(G970,Referencias!$C$4:$E$21,3,FALSE())","v":4},"SC","Competición",{"$f":"VLOOKUP(C970,Referencias!$B$24:$C$40,2,FALSE())","v":"A"}]
["2161460","Calvo Sánchez, Jesús María","Andaluza","C",{"$f":"VLOOKUP(G971,Referencias!$C$4:$D$21,2,FALSE())","v":"Sin Categoría"},{"$f":"VLOOKUP(G971,Referencias!$C$4:$E$21,3,FALSE())","v":4},"SC","Competición",{"$f":"VLOOKUP(C971,Referencias!$B$24:$C$40,2,FALSE())","v":"A"}]
["2161461","Villalón Cuesta, Manuel","Andaluza","C",{"$f":"VLOOKUP(G972,Referencias!$C$4:$D$21,2,FALSE())","v":"Tercera Corazón"},{"$f":"VLOOKUP(G972,Referencias!$C$4:$E$21,3,FALSE())","v":3},"3C","Competición",{"$f":"VLOOKUP(C972,Referencias!$B$24:$C$40,2,FALSE())","v":"A"}]
["2161463","Guerrero Lowndes, Ana Verónica","Andaluza","D",{"$f":"VLOOKUP(G973,Referencias!$C$4:$D$21,2,FALSE())","v":"Sin Categoría"},{"$f":"VLOOKUP(G973,Referencias!$C$4:$E$21,3,FALSE())","v":4},"SC","Competición",{"$f":"VLOOKUP(C973,Referencias!$B$24:$C$40,2,FALSE())","v":"A"}]
["2161717","Romero Albarracin, Agustín","Andaluza","C",{"$f":"VLOOKUP(G974,Referencias!$C$4:$D$21,2,FALSE())","v":"Sin Categoría"},{"$f":"VLOOKUP(G974,Referencias!$C$4:$E$21,3,FALSE())","v":4},"SC","Competición",{"$f":"VLOOKUP(C974,Referencias!$B$24:$C$40,2,FALSE())","v":"A"}]
["2161725","Espada Criado, Antonio","Andaluza","C",{"$f":"VLOOKUP(G975,Referencias!$C$4:$D$21,2,FALSE())","v":"Sin Categoría"},{"$f":"VLOOKUP(G975,Referencias!$C$4:$E$21,3,FALSE())","v":4},"SC","Competición",{"$f":"VLOOKUP(C975,Referencias!$B$24:$C$40,2,FALSE())","v":"A"}]
["2168207","Golmar Izquierdo, Alfonso","Andaluza","C",{"$f":"VLOOKUP(G976,Referencias!$C$4:$D$21,2,FALSE())","v":"Primera Corazón"},{"$f":"VLOOKUP(G976,Referencias!$C$4:$E$21,3,FALSE())","v":1},"1C","Competición",{"$f":"VLOOKUP(C976,Referencias!$B$24:$C$40,2,FALSE())","v":"A"}]
["2471000","Martínez Puente, Miguel Angel","Castilla y León","C",{"$f":"VLOOKUP(G977,Referencias!$C$4:$D$21,2,FALSE())","v":"Segunda Picas"},{"$f":"VLOOKUP(G977,Referencias!$C$4:$E$21,3,FALSE())","v":2},"2P","Competición",{"$f":"VLOOKUP(C977,Referencias!$B$24:$C$40,2,FALSE())","v":"CL"}]
["2471001","Almarza Riesco, Mercedes","Castilla y León","D",{"$f":"VLOOKUP(G978,Referencias!$C$4:$D$21,2,FALSE())","v":"Segunda Picas"},{"$f":"VLOOKUP(G978,Referencias!$C$4:$E$21,3,FALSE())","v":2},"2P","Competición",{"$f":"VLOOKUP(C978,Referencias!$B$24:$C$40,2,FALSE())","v":"CL"}]
["2471002","Gutiérrez González, Vicente","Castilla y León","C",{"$f":"VLOOKUP(G979,Referencias!$C$4:$D$21,2,FALSE())","v":"Sin Categoría"},{"$f":"VLOOKUP(G979,Referencias!$C$4:$E$21,3,FALSE())","v":4},"SC","Competición",{"$f":"VLOOKUP(C979,Referencias!$B$24:$C$40,2,FALSE())","v":"CL"}]
["2471037","Alonso Grima, Pilar","Castilla y León","D",{"$f":"VLOOKUP(G980,Referencias!$C$4:$D$21,2,FALSE())","v":"Tercera Corazón"},{"$f":"VLOOKUP(G980,Referencias!$C$4:$E$21,3,FALSE())","v":3},"3C","Competición",{"$f":"VLOOKUP(C980,Referencias!$B$24:$C$40,2,FALSE())","v":"CL"}]
["2471039","Alaejos González, Ana","Castilla y León","D",{"$f":"VLOOKUP(G981,Referencias!$C$4:$D$21,2,FALSE())","v":"Tercera Diamante"},{"$f":"VLOOKUP(G981,Referencias!$C$4:$E$21,3,FALSE())","v":3},"3D","Competición",{"$f":"VLOOKUP(C981,Referencias!$B$24:$C$40,2,FALSE())","v":"CL"}]
["2471041","Porras de Fernández, Manuela","Castilla y León","D",{"$f":"VLOOKUP(G982,Referencias!$C$4:$D$21,2,FALSE())","v":"Tercera Diamante"},{"$f":"VLOOKUP(G982,Referencias!$C$4:$E$21,3,FALSE())","v":3},"3D","Competición",{"$f":"VLOOKUP(C982,Referencias!$B$24:$C$40,2,FALSE())","v":"CL"}]
["2471164","González Martinena, María Amparo","Castilla y León","D",{"$f":"VLOOKUP(G983,Referencias!$C$4:$D$21,2,FALSE())","v":"Tercera Diamante"},{"$f":"VLOOKUP(G983,Referencias!$C$4:$E$21,3,FALSE())","v":3},"3D","Competición",{"$f":"VLOOKUP(C983,Referencias!$B$24:$C$40,2,FALSE())","v":"CL"}]
["2471232","González Gutiérrez, Mercedes","Castilla y León","D",{"$f":"VLOOKUP(G984,Referencias!$C$4:$D$21,2,FALSE())","v":"Tercera Corazón"},{"$f":"VLOOKUP(G984,Referencias!$C$4:$E$21,3,FALSE())","v":3},"3C","Competición",{"$f":"VLOOKUP(C984,Referencias!$B$24:$C$40,2,FALSE())","v":"CL"}]
["2471271","Toral Marcos, José","Castilla y León","C",{"$f":"VLOOKUP(G985,Referencias!$C$4:$D$21,2,FALSE())","v":"Segunda Diamante"},{"$f":"VLOOKUP(G985,Referencias!$C$4:$E$21,3,FALSE())","v":2},"2D","Competición",{"$f":"VLOOKUP(C985,Referencias!$B$24:$C$40,2,FALSE())","v":"CL"}]
["2471272","Larriba Molina, Marina","Castilla y León","D",{"$f":"VLOOKUP(G986,Referencias!$C$4:$D$21,2,FALSE())","v":"Segunda Diamante"},{"$f":"VLOOKUP(G986,Referencias!$C$4:$E$21,3,FALSE())","v":2},"2D","Competición",{"$f":"VLOOKUP(C986,Referencias!$B$24:$C$40,2,FALSE())","v":"CL"}]
["2471274","Alonso Pérez, Nieves","Castilla y León","D",{"$f":"VLOOKUP(G987,Referencias!$C$4:$D$21,2,FALSE())","v":"Tercera Diamante"},{"$f":"VLOOKUP(G987,Referencias!$C$4:$E$21,3,FALSE())","v":3},"3D","Competición",{"$f":"VLOOKUP(C987,Referencias!$B$24:$C$40,2,FALSE())","v":"CL"}]
["2471275","Coma Luengo, Angeles","Castilla y León","D",{"$f":"VLOOKUP(G988,Referencias!$C$4:$D$21,2,FALSE())","v":"Sin Categoría"},{"$f":"VLOOKUP(G988,Referencias!$C$4:$E$21,3,FALSE())","v":4},"SC","Competición",{"$f":"VLOOKUP(C988,Referencias!$B$24:$C$40,2,FALSE())","v":"CL"}]
["2471320","Carnero Gutierrez, Dori","Castilla y León","D",{"$f":"VLOOKUP(G989,Referencias!$C$4:$D$21,2,FALSE())","v":"Segunda Corazón"},{"$f":"VLOOKUP(G989,Referencias!$C$4:$E$21,3,FALSE())","v":2},"2C","Competición",{"$f":"VLOOKUP(C989,Referencias!$B$24:$C$40,2,FALSE())","v":"CL"}]
["2471321","Feo de la Fuente, Josefa","Castilla y León","D",{"$f":"VLOOKUP(G990,Referencias!$C$4:$D$21,2,FALSE())","v":"Tercera Diamante"},{"$f":"VLOOKUP(G990,Referencias!$C$4:$E$21,3,FALSE())","v":3},"3D","Honorífica",{"$f":"VLOOKUP(C990,Referencias!$B$24:$C$40,2,FALSE())","v":"CL"}]
["2471409","Calvo Rodríguez, Mariluz","Castilla y León","D",{"$f":"VLOOKUP(G991,Referencias!$C$4:$D$21,2,FALSE())","v":"Tercera Diamante"},{"$f":"VLOOKUP(G991,Referencias!$C$4:$E$21,3,FALSE())","v":3},"3D","Competición",{"$f":"VLOOKUP(C991,Referencias!$B$24:$C$40,2,FALSE())","v":"CL"}]
["2471410","González Guillén, María Ángeles","Castilla y León","D",{"$f":"VLOOKUP(G992,Referencias!$C$4:$D$21,2,FALSE())","v":"Tercera Diamante"},{"$f":"VLOOKUP(G992,Referencias!$C$4:$E$21,3,FALSE())","v":3},"3D","Competición",{"$f":"VLOOKUP(C992,Referencias!$B$24:$C$40,2,FALSE())","v":"CL"}]
["2471421","Ameijide Calleja, Luis Helio","Castilla y León","C",{"$f":"VLOOKUP(G993,Referencias!$C$4:$D$21,2,FALSE())","v":"Sin Categoría"},{"$f":"VLOOKUP(G993,Referencias!$C$4:$E$21,3,FALSE())","v":4},"SC","Competición",{"$f":"VLOOKUP(C993,Referencias!$B$24:$C$40,2,FALSE())","v":"CL"}]
["2471433","Rebollo Martínez, Victoria","Castilla y León","D",{"$f":"VLOOKUP(G994,Referencias!$C$4:$D$21,2,FALSE())","v":"Sin Categoría"},{"$f":"VLOOKUP(G994,Referencias!$C$4:$E$21,3,FALSE())","v":4},"SC","Competición",{"$f":"VLOOKUP(C994,Referencias!$B$24:$C$40,2,FALSE())","v":"CL"}]
["2471435","Graña González, Emma","Castilla y León","D",{"$f":"VLOOKUP(G995,Referencias!$C$4:$D$21,2,FALSE())","v":"Tercera Corazón"},{"$f":"VLOOKUP(G995,Referencias!$C$4:$E$21,3,FALSE())","v":3},"3C","Competición",{"$f":"VLOOKUP(C995,Referencias!$B$24:$C$40,2,FALSE())","v":"CL"}]
["2471437","Díez Tejerina, Maria Q.","Castilla y León","D",{"$f":"VLOOKUP(G996,Referencias!$C$4:$D$21,2,FALSE())","v":"Tercera Diamante"},{"$f":"VLOOKUP(G996,Referencias!$C$4:$E$21,3,FALSE())","v":3},"3D","Competición",{"$f":"VLOOKUP(C996,Referencias!$B$24:$C$40,2,FALSE())","v":"CL"}]
["2471438","Piñón Gutiérrez, María Teresa","Castilla y León","D",{"$f":"VLOOKUP(G997,Referencias!$C$4:$D$21,2,FALSE())","v":"Tercera Diamante"},{"$f":"VLOOKUP(G997,Referencias!$C$4:$E$21,3,FALSE())","v":3},"3D","Competición",{"$f":"VLOOKUP(C997,Referencias!$B$24:$C$40,2,FALSE())","v":"CL"}]
["2471478","Sánchez Picazas, Marta","Castilla y León","D",{"$f":"VLOOKUP(G998,Referencias!$C$4:$D$21,2,FALSE())","v":"Tercera Diamante"},{"$f":"VLOOKUP(G998,Referencias!$C$4:$E$21,3,FALSE())","v":3},"3D","Competición",{"$f":"VLOOKUP(C998,Referencias!$B$24:$C$40,2,FALSE())","v":"CL"}]
["2471480","Santos Rodríguez, María del Carmen","Castilla y León","D",{"$f":"VLOOKUP(G999,Referencias!$C$4:$D$21,2,FALSE())","v":"Tercera Diamante"},{"$f":"VLOOKUP(G999,Referencias!$C$4:$E$21,3,FALSE())","v":3},"3D","Competición",{"$f":"VLOOKUP(C999,Referencias!$B$24:$C$40,2,FALSE())","v":"CL"}]
["2471522","Palmero, Corry","Castilla y León","D",{"$f":"VLOOKUP(G1000,Referencias!$C$4:$D$21,2,FALSE())","v":"Primera Picas"},{"$f":"VLOOKUP(G1000,Referencias!$C$4:$E$21,3,FALSE())","v":1},"1P","Competición",{"$f":"VLOOKUP(C1000,Referencias!$B$24:$C$40,2,FALSE())","v":"CL"}]
["2471552","San Martín Martín, Fernando","Castilla y León","C",{"$f":"VLOOKUP(G1001,Referencias!$C$4:$D$21,2,FALSE())","v":"Tercera Corazón"},{"$f":"VLOOKUP(G1001,Referencias!$C$4:$E$21,3,FALSE())","v":3},"3C","Competición",{"$f":"VLOOKUP(C1001,Referencias!$B$24:$C$40,2,FALSE())","v":"CL"}]
["2471553","Sangrador Quijada, María Cruz","Castilla y León","D",{"$f":"VLOOKUP(G1002,Referencias!$C$4:$D$21,2,FALSE())","v":"Tercera Corazón"},{"$f":"VLOOKUP(G1002,Referencias!$C$4:$E$21,3,FALSE())","v":3},"3C","Competición",{"$f":"VLOOKUP(C1002,Referencias!$B$24:$C$40,2,FALSE())","v":"CL"}]
["2475713","Ameijide Montenegro, Luis","Castilla y León","C",{"$f":"VLOOKUP(G1003,Referencias!$C$4:$D$21,2,FALSE())","v":"Primera Picas"},{"$f":"VLOOKUP(G1003,Referencias!$C$4:$E$21,3,FALSE())","v":1},"1P","Competición",{"$f":"VLOOKUP(C1003,Referencias!$B$24:$C$40,2,FALSE())","v":"CL"}]
["2475714","Calleja Medel, Gilda","Castilla y León","D",{"$f":"VLOOKUP(G1004,Referencias!$C$4:$D$21,2,FALSE())","v":"Segunda Diamante"},{"$f":"VLOOKUP(G1004,Referencias!$C$4:$E$21,3,FALSE())","v":2},"2D","Competición",{"$f":"VLOOKUP(C1004,Referencias!$B$24:$C$40,2,FALSE())","v":"CL"}]
["2607000","Camacho García, Nieves","Riojana","D",{"$f":"VLOOKUP(G1005,Referencias!$C$4:$D$21,2,FALSE())","v":"Tercera Diamante"},{"$f":"VLOOKUP(G1005,Referencias!$C$4:$E$21,3,FALSE())","v":3},"3D","Competición",{"$f":"VLOOKUP(C1005,Referencias!$B$24:$C$40,2,FALSE())","v":"R"}]
["2607001","Le Barzic, Anne-Marie","Riojana","D",{"$f":"VLOOKUP(G1006,Referencias!$C$4:$D$21,2,FALSE())","v":"Sin Categoría"},{"$f":"VLOOKUP(G1006,Referencias!$C$4:$E$21,3,FALSE())","v":4},"SC","Competición",{"$f":"VLOOKUP(C1006,Referencias!$B$24:$C$40,2,FALSE())","v":"R"}]
["2607002","Torres González, Lucía","Riojana","D",{"$f":"VLOOKUP(G1007,Referencias!$C$4:$D$21,2,FALSE())","v":"Tercera Diamante"},{"$f":"VLOOKUP(G1007,Referencias!$C$4:$E$21,3,FALSE())","v":3},"3D","Competición",{"$f":"VLOOKUP(C1007,Referencias!$B$24:$C$40,2,FALSE())","v":"R"}]
["2607004","Cordier Jolivot, Josette","Riojana","D",{"$f":"VLOOKUP(G1008,Referencias!$C$4:$D$21,2,FALSE())","v":"Sin Categoría"},{"$f":"VLOOKUP(G1008,Referencias!$C$4:$E$21,3,FALSE())","v":4},"SC","Competición",{"$f":"VLOOKUP(C1008,Referencias!$B$24:$C$40,2,FALSE())","v":"R"}]
["2607006","Anuncibay Ruiz, Carmen Jesús","Riojana","D",{"$f":"VLOOKUP(G1009,Referencias!$C$4:$D$21,2,FALSE())","v":"Tercera Diamante"},{"$f":"VLOOKUP(G1009,Referencias!$C$4:$E$21,3,FALSE())","v":3},"3D","Competición",{"$f":"VLOOKUP(C1009,Referencias!$B$24:$C$40,2,FALSE())","v":"R"}]
["2607007","García Jimenez, María Luz","Riojana","D",{"$f":"VLOOKUP(G1010,Referencias!$C$4:$D$21,2,FALSE())","v":"Sin Categoría"},{"$f":"VLOOKUP(G1010,Referencias!$C$4:$E$21,3,FALSE())","v":4},"SC","Competición",{"$f":"VLOOKUP(C1010,Referencias!$B$24:$C$40,2,FALSE())","v":"R"}]
["2607008","Rodríguez Andollo, Rosa María","Riojana","D",{"$f":"VLOOKUP(G1011,Referencias!$C$4:$D$21,2,FALSE())","v":"Sin Categoría"},{"$f":"VLOOKUP(G1011,Referencias!$C$4:$E$21,3,FALSE())","v":4},"SC","Competición",{"$f":"VLOOKUP(C1011,Referencias!$B$24:$C$40,2,FALSE())","v":"R"}]
["2607009","Meneses Mtnez. Bernal, Celia","Riojana","D",{"$f":"VLOOKUP(G1012,Referencias!$C$4:$D$21,2,FALSE())","v":"Tercera Diamante"},{"$f":"VLOOKUP(G1012,Referencias!$C$4:$E$21,3,FALSE())","v":3},"3D","Competición",{"$f":"VLOOKUP(C1012,Referencias!$B$24:$C$40,2,FALSE())","v":"R"}]
["2607010","García González, Míguel Angel","Riojana","C",{"$f":"VLOOKUP(G1013,Referencias!$C$4:$D$21,2,FALSE())","v":"Tercera Diamante"},{"$f":"VLOOKUP(G1013,Referencias!$C$4:$E$21,3,FALSE())","v":3},"3D","Competición",{"$f":"VLOOKUP(C1013,Referencias!$B$24:$C$40,2,FALSE())","v":"R"}]
["2607011","Marin Gallardo, Eloisa","Riojana","D",{"$f":"VLOOKUP(G1014,Referencias!$C$4:$D$21,2,FALSE())","v":"Sin Categoría"},{"$f":"VLOOKUP(G1014,Referencias!$C$4:$E$21,3,FALSE())","v":4},"SC","Competición",{"$f":"VLOOKUP(C1014,Referencias!$B$24:$C$40,2,FALSE())","v":"R"}]
["2607013","Pastor Zubiri, Maria Jesús","Riojana","D",{"$f":"VLOOKUP(G1015,Referencias!$C$4:$D$21,2,FALSE())","v":"Tercera Diamante"},{"$f":"VLOOKUP(G1015,Referencias!$C$4:$E$21,3,FALSE())","v":3},"3D","Competición",{"$f":"VLOOKUP(C1015,Referencias!$B$24:$C$40,2,FALSE())","v":"R"}]
["2607014","de Miguel Cordon, María del Carmen","Riojana","D",{"$f":"VLOOKUP(G1016,Referencias!$C$4:$D$21,2,FALSE())","v":"Tercera Diamante"},{"$f":"VLOOKUP(G1016,Referencias!$C$4:$E$21,3,FALSE())","v":3},"3D","Competición",{"$f":"VLOOKUP(C1016,Referencias!$B$24:$C$40,2,FALSE())","v":"R"}]
["2607017","Rapún Ara, Alicia","Riojana","D",{"$f":"VLOOKUP(G1017,Referencias!$C$4:$D$21,2,FALSE())","v":"Tercera Diamante"},{"$f":"VLOOKUP(G1017,Referencias!$C$4:$E$21,3,FALSE())","v":3},"3D","Competición",{"$f":"VLOOKUP(C1017,Referencias!$B$24:$C$40,2,FALSE())","v":"R"}]
["2731217","Fernández López, Julia","Gallega","D",{"$f":"VLOOKUP(G1018,Referencias!$C$4:$D$21,2,FALSE())","v":"Tercera Diamante"},{"$f":"VLOOKUP(G1018,Referencias!$C$4:$E$21,3,FALSE())","v":3},"3D","Competición",{"$f":"VLOOKUP(C1018,Referencias!$B$24:$C$40,2,FALSE())","v":"G"}]
["2731251","Quiroga Codesido, Pilar","Gallega","D",{"$f":"VLOOKUP(G1019,Referencias!$C$4:$D$21,2,FALSE())","v":"Tercera Diamante"},{"$f":"VLOOKUP(G1019,Referencias!$C$4:$E$21,3,FALSE())","v":3},"3D","Honorífica",{"$f":"VLOOKUP(C1019,Referencias!$B$24:$C$40,2,FALSE())","v":"G"}]
["2731310","de Wit den Breeje, Walter","Gallega","C",{"$f":"VLOOKUP(G1020,Referencias!$C$4:$D$21,2,FALSE())","v":"Sin Categoría"},{"$f":"VLOOKUP(G1020,Referencias!$C$4:$E$21,3,FALSE())","v":4},"SC","Competición",{"$f":"VLOOKUP(C1020,Referencias!$B$24:$C$40,2,FALSE())","v":"G"}]
["2731313","de Castel Blanco, Condesa","Gallega","D",{"$f":"VLOOKUP(G1021,Referencias!$C$4:$D$21,2,FALSE())","v":"Primera Picas"},{"$f":"VLOOKUP(G1021,Referencias!$C$4:$E$21,3,FALSE())","v":1},"1P","Competición",{"$f":"VLOOKUP(C1021,Referencias!$B$24:$C$40,2,FALSE())","v":"G"}]
["2731331","Varga Rivero, Ana","Gallega","D",{"$f":"VLOOKUP(G1022,Referencias!$C$4:$D$21,2,FALSE())","v":"Segunda Diamante"},{"$f":"VLOOKUP(G1022,Referencias!$C$4:$E$21,3,FALSE())","v":2},"2D","Competición",{"$f":"VLOOKUP(C1022,Referencias!$B$24:$C$40,2,FALSE())","v":"G"}]
["2731336","Dorrego Magadan, Enriqueta","Gallega","D",{"$f":"VLOOKUP(G1023,Referencias!$C$4:$D$21,2,FALSE())","v":"Tercera Corazón"},{"$f":"VLOOKUP(G1023,Referencias!$C$4:$E$21,3,FALSE())","v":3},"3C","Competición",{"$f":"VLOOKUP(C1023,Referencias!$B$24:$C$40,2,FALSE())","v":"G"}]
["2731338","Caridad Arias, Chelo","Gallega","D",{"$f":"VLOOKUP(G1024,Referencias!$C$4:$D$21,2,FALSE())","v":"Segunda Corazón"},{"$f":"VLOOKUP(G1024,Referencias!$C$4:$E$21,3,FALSE())","v":2},"2C","Competición",{"$f":"VLOOKUP(C1024,Referencias!$B$24:$C$40,2,FALSE())","v":"G"}]
["2731361","Barreiro Carrasco, María Trinidad","Gallega","D",{"$f":"VLOOKUP(G1025,Referencias!$C$4:$D$21,2,FALSE())","v":"Tercera Picas"},{"$f":"VLOOKUP(G1025,Referencias!$C$4:$E$21,3,FALSE())","v":3},"3P","Competición",{"$f":"VLOOKUP(C1025,Referencias!$B$24:$C$40,2,FALSE())","v":"G"}]
["2731368","Velayos Pardo, Celia María","Gallega","D",{"$f":"VLOOKUP(G1026,Referencias!$C$4:$D$21,2,FALSE())","v":"Sin Categoría"},{"$f":"VLOOKUP(G1026,Referencias!$C$4:$E$21,3,FALSE())","v":4},"SC","Competición",{"$f":"VLOOKUP(C1026,Referencias!$B$24:$C$40,2,FALSE())","v":"G"}]
["2731370","Alvárez Llamas, Montserrat","Gallega","D",{"$f":"VLOOKUP(G1027,Referencias!$C$4:$D$21,2,FALSE())","v":"Tercera Diamante"},{"$f":"VLOOKUP(G1027,Referencias!$C$4:$E$21,3,FALSE())","v":3},"3D","Competición",{"$f":"VLOOKUP(C1027,Referencias!$B$24:$C$40,2,FALSE())","v":"G"}]
["2731413","Nóvoa Arechaga, Isabel","Gallega","D",{"$f":"VLOOKUP(G1028,Referencias!$C$4:$D$21,2,FALSE())","v":"Primera Diamante"},{"$f":"VLOOKUP(G1028,Referencias!$C$4:$E$21,3,FALSE())","v":1},"1D","Competición",{"$f":"VLOOKUP(C1028,Referencias!$B$24:$C$40,2,FALSE())","v":"G"}]
["2731435","Sayagues Gómez, Aurora","Gallega","D",{"$f":"VLOOKUP(G1029,Referencias!$C$4:$D$21,2,FALSE())","v":"Tercera Diamante"},{"$f":"VLOOKUP(G1029,Referencias!$C$4:$E$21,3,FALSE())","v":3},"3D","Competición",{"$f":"VLOOKUP(C1029,Referencias!$B$24:$C$40,2,FALSE())","v":"G"}]
["2731437","Palmeiro Díaz, Elvira","Gallega","D",{"$f":"VLOOKUP(G1030,Referencias!$C$4:$D$21,2,FALSE())","v":"Tercera Picas"},{"$f":"VLOOKUP(G1030,Referencias!$C$4:$E$21,3,FALSE())","v":3},"3P","Competición",{"$f":"VLOOKUP(C1030,Referencias!$B$24:$C$40,2,FALSE())","v":"G"}]
["2731438","Rodríguez Freire, Celia","Gallega","D",{"$f":"VLOOKUP(G1031,Referencias!$C$4:$D$21,2,FALSE())","v":"Tercera Corazón"},{"$f":"VLOOKUP(G1031,Referencias!$C$4:$E$21,3,FALSE())","v":3},"3C","Competición",{"$f":"VLOOKUP(C1031,Referencias!$B$24:$C$40,2,FALSE())","v":"G"}]
["2731586","Seijas Soto, María Dolores","Gallega","D",{"$f":"VLOOKUP(G1032,Referencias!$C$4:$D$21,2,FALSE())","v":"Tercera Corazón"},{"$f":"VLOOKUP(G1032,Referencias!$C$4:$E$21,3,FALSE())","v":3},"3C","Competición",{"$f":"VLOOKUP(C1032,Referencias!$B$24:$C$40,2,FALSE())","v":"G"}]
["2731587","Díaz Porgueres, Mary Carmen","Gallega","D",{"$f":"VLOOKUP(G1033,Referencias!$C$4:$D$21,2,FALSE())","v":"Tercera Diamante"},{"$f":"VLOOKUP(G1033,Referencias!$C$4:$E$21,3,FALSE())","v":3},"3D","Competición",{"$f":"VLOOKUP(C1033,Referencias!$B$24:$C$40,2,FALSE())","v":"G"}]
["2731588","Fernández Gómez, Berta Victoria","Gallega","D",{"$f":"VLOOKUP(G1034,Referencias!$C$4:$D$21,2,FALSE())","v":"Tercera Diamante"},{"$f":"VLOOKUP(G1034,Referencias!$C$4:$E$21,3,FALSE())","v":3},"3D","Competición",{"$f":"VLOOKUP(C1034,Referencias!$B$24:$C$40,2,FALSE())","v":"G"}]
["2731610","Varela Novoa, Consuelo","Gallega","D",{"$f":"VLOOKUP(G1035,Referencias!$C$4:$D$21,2,FALSE())","v":"Sin Categoría"},{"$f":"VLOOKUP(G1035,Referencias!$C$4:$E$21,3,FALSE())","v":4},"SC","Competición",{"$f":"VLOOKUP(C1035,Referencias!$B$24:$C$40,2,FALSE())","v":"G"}]
["2731626","García Castro, Manuel Jesús","Gallega","C",{"$f":"VLOOKUP(G1036,Referencias!$C$4:$D$21,2,FALSE())","v":"Tercera Diamante"},{"$f":"VLOOKUP(G1036,Referencias!$C$4:$E$21,3,FALSE())","v":3},"3D","Competición",{"$f":"VLOOKUP(C1036,Referencias!$B$24:$C$40,2,FALSE())","v":"G"}]
["2731627","Fernández Freire, Antonia","Gallega","D",{"$f":"VLOOKUP(G1037,Referencias!$C$4:$D$21,2,FALSE())","v":"Tercera Diamante"},{"$f":"VLOOKUP(G1037,Referencias!$C$4:$E$21,3,FALSE())","v":3},"3D","Competición",{"$f":"VLOOKUP(C1037,Referencias!$B$24:$C$40,2,FALSE())","v":"G"}]
["2731631","Raíces Madriñan, Manuel Jesús","Gallega","C",{"$f":"VLOOKUP(G1038,Referencias!$C$4:$D$21,2,FALSE())","v":"Segunda Picas"},{"$f":"VLOOKUP(G1038,Referencias!$C$4:$E$21,3,FALSE())","v":2},"2P","Competición",{"$f":"VLOOKUP(C1038,Referencias!$B$24:$C$40,2,FALSE())","v":"G"}]
["2731657","Martínez Modia, María del Carmen","Gallega","D",{"$f":"VLOOKUP(G1039,Referencias!$C$4:$D$21,2,FALSE())","v":"Tercera Diamante"},{"$f":"VLOOKUP(G1039,Referencias!$C$4:$E$21,3,FALSE())","v":3},"3D","Competición",{"$f":"VLOOKUP(C1039,Referencias!$B$24:$C$40,2,FALSE())","v":"G"}]
["2731670","Trigo Vázquez, Melania","Gallega","D",{"$f":"VLOOKUP(G1040,Referencias!$C$4:$D$21,2,FALSE())","v":"Sin Categoría"},{"$f":"VLOOKUP(G1040,Referencias!$C$4:$E$21,3,FALSE())","v":4},"SC","Competición",{"$f":"VLOOKUP(C1040,Referencias!$B$24:$C$40,2,FALSE())","v":"G"}]
["2731671","Lombardero Díaz, Isabel","Gallega","D",{"$f":"VLOOKUP(G1041,Referencias!$C$4:$D$21,2,FALSE())","v":"Sin Categoría"},{"$f":"VLOOKUP(G1041,Referencias!$C$4:$E$21,3,FALSE())","v":4},"SC","Competición",{"$f":"VLOOKUP(C1041,Referencias!$B$24:$C$40,2,FALSE())","v":"G"}]
["2731674","Valcarce Neira, María Teresa","Gallega","D",{"$f":"VLOOKUP(G1042,Referencias!$C$4:$D$21,2,FALSE())","v":"Tercera Diamante"},{"$f":"VLOOKUP(G1042,Referencias!$C$4:$E$21,3,FALSE())","v":3},"3D","Competición",{"$f":"VLOOKUP(C1042,Referencias!$B$24:$C$40,2,FALSE())","v":"G"}]
["2731677","Goyanes López, María Pilar","Gallega","D",{"$f":"VLOOKUP(G1043,Referencias!$C$4:$D$21,2,FALSE())","v":"Tercera Diamante"},{"$f":"VLOOKUP(G1043,Referencias!$C$4:$E$21,3,FALSE())","v":3},"3D","Competición",{"$f":"VLOOKUP(C1043,Referencias!$B$24:$C$40,2,FALSE())","v":"G"}]
["2731678","Blanco Ruiz, María Adoración","Gallega","D",{"$f":"VLOOKUP(G1044,Referencias!$C$4:$D$21,2,FALSE())","v":"Tercera Corazón"},{"$f":"VLOOKUP(G1044,Referencias!$C$4:$E$21,3,FALSE())","v":3},"3C","Competición",{"$f":"VLOOKUP(C1044,Referencias!$B$24:$C$40,2,FALSE())","v":"G"}]
["2731704","Fernández García, María Isabel","Gallega","D",{"$f":"VLOOKUP(G1045,Referencias!$C$4:$D$21,2,FALSE())","v":"Sin Categoría"},{"$f":"VLOOKUP(G1045,Referencias!$C$4:$E$21,3,FALSE())","v":4},"SC","Competición",{"$f":"VLOOKUP(C1045,Referencias!$B$24:$C$40,2,FALSE())","v":"G"}]
["2731720","del Pozo Andrés, Mercedes","Gallega","D",{"$f":"VLOOKUP(G1046,Referencias!$C$4:$D$21,2,FALSE())","v":"Tercera Diamante"},{"$f":"VLOOKUP(G1046,Referencias!$C$4:$E$21,3,FALSE())","v":3},"3D","Competición",{"$f":"VLOOKUP(C1046,Referencias!$B$24:$C$40,2,FALSE())","v":"G"}]
["2731721","González Encinar, Lucinda Victoria","Gallega","D",{"$f":"VLOOKUP(G1047,Referencias!$C$4:$D$21,2,FALSE())","v":"Tercera Diamante"},{"$f":"VLOOKUP(G1047,Referencias!$C$4:$E$21,3,FALSE())","v":3},"3D","Competición",{"$f":"VLOOKUP(C1047,Referencias!$B$24:$C$40,2,FALSE())","v":"G"}]
["2731722","Campo Rodicio, Celso","Gallega","D",{"$f":"VLOOKUP(G1048,Referencias!$C$4:$D$21,2,FALSE())","v":"Tercera Corazón"},{"$f":"VLOOKUP(G1048,Referencias!$C$4:$E$21,3,FALSE())","v":3},"3C","Competición",{"$f":"VLOOKUP(C1048,Referencias!$B$24:$C$40,2,FALSE())","v":"G"}]
["2731724","Franco Losada, Adelina","Gallega","D",{"$f":"VLOOKUP(G1049,Referencias!$C$4:$D$21,2,FALSE())","v":"Tercera Diamante"},{"$f":"VLOOKUP(G1049,Referencias!$C$4:$E$21,3,FALSE())","v":3},"3D","Competición",{"$f":"VLOOKUP(C1049,Referencias!$B$24:$C$40,2,FALSE())","v":"G"}]
["2731809","Rodríguez Cedrón, Amalia Aurea","Gallega","D",{"$f":"VLOOKUP(G1050,Referencias!$C$4:$D$21,2,FALSE())","v":"Tercera Diamante"},{"$f":"VLOOKUP(G1050,Referencias!$C$4:$E$21,3,FALSE())","v":3},"3D","Competición",{"$f":"VLOOKUP(C1050,Referencias!$B$24:$C$40,2,FALSE())","v":"G"}]
["2731811","Díaz Rodríguez, Abel","Gallega","C",{"$f":"VLOOKUP(G1051,Referencias!$C$4:$D$21,2,FALSE())","v":"Sin Categoría"},{"$f":"VLOOKUP(G1051,Referencias!$C$4:$E$21,3,FALSE())","v":4},"SC","Competición",{"$f":"VLOOKUP(C1051,Referencias!$B$24:$C$40,2,FALSE())","v":"G"}]
["2731816","Prieto Alonso, José Manuel","Gallega","C",{"$f":"VLOOKUP(G1052,Referencias!$C$4:$D$21,2,FALSE())","v":"Sin Categoría"},{"$f":"VLOOKUP(G1052,Referencias!$C$4:$E$21,3,FALSE())","v":4},"SC","Competición",{"$f":"VLOOKUP(C1052,Referencias!$B$24:$C$40,2,FALSE())","v":"G"}]
["2731819","Argiz Quintas, María Purificación","Gallega","D",{"$f":"VLOOKUP(G1053,Referencias!$C$4:$D$21,2,FALSE())","v":"Tercera Diamante"},{"$f":"VLOOKUP(G1053,Referencias!$C$4:$E$21,3,FALSE())","v":3},"3D","Competición",{"$f":"VLOOKUP(C1053,Referencias!$B$24:$C$40,2,FALSE())","v":"G"}]
["2731821","González Cabanas, María Aurora","Gallega","D",{"$f":"VLOOKUP(G1054,Referencias!$C$4:$D$21,2,FALSE())","v":"Sin Categoría"},{"$f":"VLOOKUP(G1054,Referencias!$C$4:$E$21,3,FALSE())","v":4},"SC","Honorífica",{"$f":"VLOOKUP(C1054,Referencias!$B$24:$C$40,2,FALSE())","v":"G"}]
["2731939","Paz Cageao, Francisca ","Gallega","D",{"$f":"VLOOKUP(G1055,Referencias!$C$4:$D$21,2,FALSE())","v":"Tercera Diamante"},{"$f":"VLOOKUP(G1055,Referencias!$C$4:$E$21,3,FALSE())","v":3},"3D","Competición",{"$f":"VLOOKUP(C1055,Referencias!$B$24:$C$40,2,FALSE())","v":"G"}]
["2731950","López Morais, María Dolores","Gallega","D",{"$f":"VLOOKUP(G1056,Referencias!$C$4:$D$21,2,FALSE())","v":"Tercera Diamante"},{"$f":"VLOOKUP(G1056,Referencias!$C$4:$E$21,3,FALSE())","v":3},"3D","Competición",{"$f":"VLOOKUP(C1056,Referencias!$B$24:$C$40,2,FALSE())","v":"G"}]
["2735840","Ordoñez Guevara, María Pilar","Gallega","D",{"$f":"VLOOKUP(G1057,Referencias!$C$4:$D$21,2,FALSE())","v":"Segunda Corazón"},{"$f":"VLOOKUP(G1057,Referencias!$C$4:$E$21,3,FALSE())","v":2},"2C","Competición",{"$f":"VLOOKUP(C1057,Referencias!$B$24:$C$40,2,FALSE())","v":"G"}]
["2810009","Muñoz, Rafael","Madrileña","C",{"$f":"VLOOKUP(G1058,Referencias!$C$4:$D$21,2,FALSE())","v":"Maestro Nacional Open"},{"$f":"VLOOKUP(G1058,Referencias!$C$4:$E$21,3,FALSE())","v":0},"MN-O","Honorífica",{"$f":"VLOOKUP(C1058,Referencias!$B$24:$C$40,2,FALSE())","v":"M"}]
["2810010","Francés de Mateo, Antonio","Madrileña","C",{"$f":"VLOOKUP(G1059,Referencias!$C$4:$D$21,2,FALSE())","v":"Sin Categoría"},{"$f":"VLOOKUP(G1059,Referencias!$C$4:$E$21,3,FALSE())","v":4},"SC","Competición",{"$f":"VLOOKUP(C1059,Referencias!$B$24:$C$40,2,FALSE())","v":"M"}]
["2810016","Martorell Sáenz, Juan","Madrileña","C",{"$f":"VLOOKUP(G1060,Referencias!$C$4:$D$21,2,FALSE())","v":"Sin Categoría"},{"$f":"VLOOKUP(G1060,Referencias!$C$4:$E$21,3,FALSE())","v":4},"SC","Competición",{"$f":"VLOOKUP(C1060,Referencias!$B$24:$C$40,2,FALSE())","v":"M"}]
["2811001","Gómez de Pablos González, Pablo","Madrileña","C",{"$f":"VLOOKUP(G1061,Referencias!$C$4:$D$21,2,FALSE())","v":"Maestro Nacional Open"},{"$f":"VLOOKUP(G1061,Referencias!$C$4:$E$21,3,FALSE())","v":0},"MN-O","Competición",{"$f":"VLOOKUP(C1061,Referencias!$B$24:$C$40,2,FALSE())","v":"M"}]
["2811002","Vassallo Moreno, Alberto ","Madrileña","C",{"$f":"VLOOKUP(G1062,Referencias!$C$4:$D$21,2,FALSE())","v":"Primera Diamante"},{"$f":"VLOOKUP(G1062,Referencias!$C$4:$E$21,3,FALSE())","v":1},"1D","Competición",{"$f":"VLOOKUP(C1062,Referencias!$B$24:$C$40,2,FALSE())","v":"M"}]
["2811005","Martínez-Avial Marín, Álvaro","Madrileña","C",{"$f":"VLOOKUP(G1063,Referencias!$C$4:$D$21,2,FALSE())","v":"Primera Picas"},{"$f":"VLOOKUP(G1063,Referencias!$C$4:$E$21,3,FALSE())","v":1},"1P","Competición",{"$f":"VLOOKUP(C1063,Referencias!$B$24:$C$40,2,FALSE())","v":"M"}]
["2811006","Gómez, Ana Luz","Madrileña","D",{"$f":"VLOOKUP(G1064,Referencias!$C$4:$D$21,2,FALSE())","v":"Primera Corazón"},{"$f":"VLOOKUP(G1064,Referencias!$C$4:$E$21,3,FALSE())","v":1},"1C","Competición",{"$f":"VLOOKUP(C1064,Referencias!$B$24:$C$40,2,FALSE())","v":"M"}]
["2811012","Molero Cervantes, Eduardo","Madrileña","C",{"$f":"VLOOKUP(G1065,Referencias!$C$4:$D$21,2,FALSE())","v":"Primera Picas"},{"$f":"VLOOKUP(G1065,Referencias!$C$4:$E$21,3,FALSE())","v":1},"1P","Competición",{"$f":"VLOOKUP(C1065,Referencias!$B$24:$C$40,2,FALSE())","v":"M"}]
["2811014","Cuadrillero Muñoz de Baena, Rosa","Madrileña","D",{"$f":"VLOOKUP(G1066,Referencias!$C$4:$D$21,2,FALSE())","v":"Primera Picas"},{"$f":"VLOOKUP(G1066,Referencias!$C$4:$E$21,3,FALSE())","v":1},"1P","Competición",{"$f":"VLOOKUP(C1066,Referencias!$B$24:$C$40,2,FALSE())","v":"M"}]
["2811017","Fernández Cavada, Consuelo","Madrileña","D",{"$f":"VLOOKUP(G1067,Referencias!$C$4:$D$21,2,FALSE())","v":"Segunda Corazón"},{"$f":"VLOOKUP(G1067,Referencias!$C$4:$E$21,3,FALSE())","v":2},"2C","Competición",{"$f":"VLOOKUP(C1067,Referencias!$B$24:$C$40,2,FALSE())","v":"M"}]
["2811018","Aranguren Gárate, Julio","Madrileña","C",{"$f":"VLOOKUP(G1068,Referencias!$C$4:$D$21,2,FALSE())","v":"Primera Diamante"},{"$f":"VLOOKUP(G1068,Referencias!$C$4:$E$21,3,FALSE())","v":1},"1D","Competición",{"$f":"VLOOKUP(C1068,Referencias!$B$24:$C$40,2,FALSE())","v":"M"}]
["2811019","Goded Merino, Gonzalo","Madrileña","C",{"$f":"VLOOKUP(G1069,Referencias!$C$4:$D$21,2,FALSE())","v":"Maestro Mundial Open"},{"$f":"VLOOKUP(G1069,Referencias!$C$4:$E$21,3,FALSE())","v":0},"MM-O","Competición",{"$f":"VLOOKUP(C1069,Referencias!$B$24:$C$40,2,FALSE())","v":"M"}]
["2811021","Arranz Poole, Miguel","Madrileña","C",{"$f":"VLOOKUP(G1070,Referencias!$C$4:$D$21,2,FALSE())","v":"Primera Diamante"},{"$f":"VLOOKUP(G1070,Referencias!$C$4:$E$21,3,FALSE())","v":1},"1D","Competición",{"$f":"VLOOKUP(C1070,Referencias!$B$24:$C$40,2,FALSE())","v":"M"}]
["2811023","Angoloti Apolinario, Mercedes","Madrileña","D",{"$f":"VLOOKUP(G1071,Referencias!$C$4:$D$21,2,FALSE())","v":"Sin Categoría"},{"$f":"VLOOKUP(G1071,Referencias!$C$4:$E$21,3,FALSE())","v":4},"SC","Competición",{"$f":"VLOOKUP(C1071,Referencias!$B$24:$C$40,2,FALSE())","v":"M"}]
["2811032","Corchado Enriquez, Juan Manuel","Madrileña","C",{"$f":"VLOOKUP(G1072,Referencias!$C$4:$D$21,2,FALSE())","v":"Primera Diamante"},{"$f":"VLOOKUP(G1072,Referencias!$C$4:$E$21,3,FALSE())","v":1},"1D","Competición",{"$f":"VLOOKUP(C1072,Referencias!$B$24:$C$40,2,FALSE())","v":"M"}]
["2811033","Ruiz-Jarabo Ferrán, Rosa María","Madrileña","D",{"$f":"VLOOKUP(G1073,Referencias!$C$4:$D$21,2,FALSE())","v":"Segunda Picas"},{"$f":"VLOOKUP(G1073,Referencias!$C$4:$E$21,3,FALSE())","v":2},"2P","Competición",{"$f":"VLOOKUP(C1073,Referencias!$B$24:$C$40,2,FALSE())","v":"M"}]
["2811041","Martínez García-Ciudad, José Miguel","Madrileña","C",{"$f":"VLOOKUP(G1074,Referencias!$C$4:$D$21,2,FALSE())","v":"Primera Picas"},{"$f":"VLOOKUP(G1074,Referencias!$C$4:$E$21,3,FALSE())","v":1},"1P","Competición",{"$f":"VLOOKUP(C1074,Referencias!$B$24:$C$40,2,FALSE())","v":"M"}]
["2811042","Sanz Pérez, Consuelo","Madrileña","D",{"$f":"VLOOKUP(G1075,Referencias!$C$4:$D$21,2,FALSE())","v":"Tercera Corazón"},{"$f":"VLOOKUP(G1075,Referencias!$C$4:$E$21,3,FALSE())","v":3},"3C","Competición",{"$f":"VLOOKUP(C1075,Referencias!$B$24:$C$40,2,FALSE())","v":"M"}]
["2811044","Aizpurúa Garzón, María Rosario","Madrileña","D",{"$f":"VLOOKUP(G1076,Referencias!$C$4:$D$21,2,FALSE())","v":"Segunda Diamante"},{"$f":"VLOOKUP(G1076,Referencias!$C$4:$E$21,3,FALSE())","v":2},"2D","Competición",{"$f":"VLOOKUP(C1076,Referencias!$B$24:$C$40,2,FALSE())","v":"M"}]
["2811045","Fractman , Gabriel","Madrileña","C",{"$f":"VLOOKUP(G1077,Referencias!$C$4:$D$21,2,FALSE())","v":"Maestro Nacional Open"},{"$f":"VLOOKUP(G1077,Referencias!$C$4:$E$21,3,FALSE())","v":0},"MN-O","Competición",{"$f":"VLOOKUP(C1077,Referencias!$B$24:$C$40,2,FALSE())","v":"M"}]
["2811054","Gutiérrez-Herrero Barrera, Miryam","Madrileña","D",{"$f":"VLOOKUP(G1078,Referencias!$C$4:$D$21,2,FALSE())","v":"Primera Picas"},{"$f":"VLOOKUP(G1078,Referencias!$C$4:$E$21,3,FALSE())","v":1},"1P","Competición",{"$f":"VLOOKUP(C1078,Referencias!$B$24:$C$40,2,FALSE())","v":"M"}]
["2811061","Castiñeira Vilaseca, Ana María","Gallega","D",{"$f":"VLOOKUP(G1079,Referencias!$C$4:$D$21,2,FALSE())","v":"Segunda Diamante"},{"$f":"VLOOKUP(G1079,Referencias!$C$4:$E$21,3,FALSE())","v":2},"2D","Competición",{"$f":"VLOOKUP(C1079,Referencias!$B$24:$C$40,2,FALSE())","v":"G"}]
["2811062","Yraola Sánchez de la Bodega, Ana","Madrileña","D",{"$f":"VLOOKUP(G1080,Referencias!$C$4:$D$21,2,FALSE())","v":"Sin Categoría"},{"$f":"VLOOKUP(G1080,Referencias!$C$4:$E$21,3,FALSE())","v":4},"SC","Competición",{"$f":"VLOOKUP(C1080,Referencias!$B$24:$C$40,2,FALSE())","v":"M"}]
["2811063","Cantos-Figuerola  Pardo-Manuel de Villena, Carmen","Madrileña","D",{"$f":"VLOOKUP(G1081,Referencias!$C$4:$D$21,2,FALSE())","v":"Tercera Picas"},{"$f":"VLOOKUP(G1081,Referencias!$C$4:$E$21,3,FALSE())","v":3},"3P","Competición",{"$f":"VLOOKUP(C1081,Referencias!$B$24:$C$40,2,FALSE())","v":"M"}]
["2811065","López-Chicheri Dabán, Virginia","Madrileña","D",{"$f":"VLOOKUP(G1082,Referencias!$C$4:$D$21,2,FALSE())","v":"Segunda Diamante"},{"$f":"VLOOKUP(G1082,Referencias!$C$4:$E$21,3,FALSE())","v":2},"2D","Competición",{"$f":"VLOOKUP(C1082,Referencias!$B$24:$C$40,2,FALSE())","v":"M"}]
["2811067","Batista Pernas, Gloria","Madrileña","D",{"$f":"VLOOKUP(G1083,Referencias!$C$4:$D$21,2,FALSE())","v":"Sin Categoría"},{"$f":"VLOOKUP(G1083,Referencias!$C$4:$E$21,3,FALSE())","v":4},"SC","Competición",{"$f":"VLOOKUP(C1083,Referencias!$B$24:$C$40,2,FALSE())","v":"M"}]
["2811070","Hermann , Aguí","Madrileña","D",{"$f":"VLOOKUP(G1084,Referencias!$C$4:$D$21,2,FALSE())","v":"Sin Categoría"},{"$f":"VLOOKUP(G1084,Referencias!$C$4:$E$21,3,FALSE())","v":4},"SC","Competición",{"$f":"VLOOKUP(C1084,Referencias!$B$24:$C$40,2,FALSE())","v":"M"}]
["2811074","Montes-Jovellar Stern, Concha","Madrileña","D",{"$f":"VLOOKUP(G1085,Referencias!$C$4:$D$21,2,FALSE())","v":"Tercera Picas"},{"$f":"VLOOKUP(G1085,Referencias!$C$4:$E$21,3,FALSE())","v":3},"3P","Competición",{"$f":"VLOOKUP(C1085,Referencias!$B$24:$C$40,2,FALSE())","v":"M"}]
["2811077","Beneyto Aspíroz, Miguel","Madrileña","C",{"$f":"VLOOKUP(G1086,Referencias!$C$4:$D$21,2,FALSE())","v":"Tercera Diamante"},{"$f":"VLOOKUP(G1086,Referencias!$C$4:$E$21,3,FALSE())","v":3},"3D","Competición",{"$f":"VLOOKUP(C1086,Referencias!$B$24:$C$40,2,FALSE())","v":"M"}]
["2811079","García-Reyes , Beatríz","Madrileña","D",{"$f":"VLOOKUP(G1087,Referencias!$C$4:$D$21,2,FALSE())","v":"Sin Categoría"},{"$f":"VLOOKUP(G1087,Referencias!$C$4:$E$21,3,FALSE())","v":4},"SC","Competición",{"$f":"VLOOKUP(C1087,Referencias!$B$24:$C$40,2,FALSE())","v":"M"}]
["2811080","Cafranga Cavestany, Carmen","Madrileña","D",{"$f":"VLOOKUP(G1088,Referencias!$C$4:$D$21,2,FALSE())","v":"Maestro Mundial Damas"},{"$f":"VLOOKUP(G1088,Referencias!$C$4:$E$21,3,FALSE())","v":0},"MM-D","Competición",{"$f":"VLOOKUP(C1088,Referencias!$B$24:$C$40,2,FALSE())","v":"M"}]
["2811083","Benavides Salas, Concepción","Madrileña","D",{"$f":"VLOOKUP(G1089,Referencias!$C$4:$D$21,2,FALSE())","v":"Tercera Picas"},{"$f":"VLOOKUP(G1089,Referencias!$C$4:$E$21,3,FALSE())","v":3},"3P","Competición",{"$f":"VLOOKUP(C1089,Referencias!$B$24:$C$40,2,FALSE())","v":"M"}]
["2811085","García de Oteyza Llansó, Ignacio","Madrileña","C",{"$f":"VLOOKUP(G1090,Referencias!$C$4:$D$21,2,FALSE())","v":"Primera Corazón"},{"$f":"VLOOKUP(G1090,Referencias!$C$4:$E$21,3,FALSE())","v":1},"1C","Competición",{"$f":"VLOOKUP(C1090,Referencias!$B$24:$C$40,2,FALSE())","v":"M"}]
["2811086","Marín Cubillo, Rosana","Madrileña","D",{"$f":"VLOOKUP(G1091,Referencias!$C$4:$D$21,2,FALSE())","v":"Segunda Corazón"},{"$f":"VLOOKUP(G1091,Referencias!$C$4:$E$21,3,FALSE())","v":2},"2C","Competición",{"$f":"VLOOKUP(C1091,Referencias!$B$24:$C$40,2,FALSE())","v":"M"}]
["2811092","Mallada Ezquerra, María Jesús","Madrileña","D",{"$f":"VLOOKUP(G1092,Referencias!$C$4:$D$21,2,FALSE())","v":"Segunda Diamante"},{"$f":"VLOOKUP(G1092,Referencias!$C$4:$E$21,3,FALSE())","v":2},"2D","Competición",{"$f":"VLOOKUP(C1092,Referencias!$B$24:$C$40,2,FALSE())","v":"M"}]
["2811094","Manglano de la Lastra, Josefina","Madrileña","D",{"$f":"VLOOKUP(G1093,Referencias!$C$4:$D$21,2,FALSE())","v":"Primera Picas"},{"$f":"VLOOKUP(G1093,Referencias!$C$4:$E$21,3,FALSE())","v":1},"1P","Competición",{"$f":"VLOOKUP(C1093,Referencias!$B$24:$C$40,2,FALSE())","v":"M"}]
["2811096","de la Peña Vela, Juan Ignacio","Gallega","C",{"$f":"VLOOKUP(G1094,Referencias!$C$4:$D$21,2,FALSE())","v":"Maestro Nacional Open"},{"$f":"VLOOKUP(G1094,Referencias!$C$4:$E$21,3,FALSE())","v":0},"MN-O","Competición",{"$f":"VLOOKUP(C1094,Referencias!$B$24:$C$40,2,FALSE())","v":"G"}]
["2811105","Castells de Castro, Antonio","Madrileña","C",{"$f":"VLOOKUP(G1095,Referencias!$C$4:$D$21,2,FALSE())","v":"Sin Categoría"},{"$f":"VLOOKUP(G1095,Referencias!$C$4:$E$21,3,FALSE())","v":4},"SC","Competición",{"$f":"VLOOKUP(C1095,Referencias!$B$24:$C$40,2,FALSE())","v":"M"}]
["2811108","García Perrote, Federico","Madrileña","C",{"$f":"VLOOKUP(G1096,Referencias!$C$4:$D$21,2,FALSE())","v":"Sin Categoría"},{"$f":"VLOOKUP(G1096,Referencias!$C$4:$E$21,3,FALSE())","v":4},"SC","Competición",{"$f":"VLOOKUP(C1096,Referencias!$B$24:$C$40,2,FALSE())","v":"M"}]
["2811114","Valmaseda Rubio, Javier","Madrileña","C",{"$f":"VLOOKUP(G1097,Referencias!$C$4:$D$21,2,FALSE())","v":"Primera Corazón"},{"$f":"VLOOKUP(G1097,Referencias!$C$4:$E$21,3,FALSE())","v":1},"1C","Competición",{"$f":"VLOOKUP(C1097,Referencias!$B$24:$C$40,2,FALSE())","v":"M"}]
["2811117","Estévez Senra, María Dolores","Madrileña","D",{"$f":"VLOOKUP(G1098,Referencias!$C$4:$D$21,2,FALSE())","v":"Tercera Picas"},{"$f":"VLOOKUP(G1098,Referencias!$C$4:$E$21,3,FALSE())","v":3},"3P","Competición",{"$f":"VLOOKUP(C1098,Referencias!$B$24:$C$40,2,FALSE())","v":"M"}]
["2811127","Kindelán Segura, Cristina","Madrileña","D",{"$f":"VLOOKUP(G1099,Referencias!$C$4:$D$21,2,FALSE())","v":"Primera Corazón"},{"$f":"VLOOKUP(G1099,Referencias!$C$4:$E$21,3,FALSE())","v":1},"1C","Competición",{"$f":"VLOOKUP(C1099,Referencias!$B$24:$C$40,2,FALSE())","v":"M"}]
["2811129","Latorre de las Gagigas, María Elena","Madrileña","D",{"$f":"VLOOKUP(G1100,Referencias!$C$4:$D$21,2,FALSE())","v":"Segunda Diamante"},{"$f":"VLOOKUP(G1100,Referencias!$C$4:$E$21,3,FALSE())","v":2},"2D","Competición",{"$f":"VLOOKUP(C1100,Referencias!$B$24:$C$40,2,FALSE())","v":"M"}]
["2811133","Sánchez Rubio, Pilar","Madrileña","D",{"$f":"VLOOKUP(G1101,Referencias!$C$4:$D$21,2,FALSE())","v":"Sin Categoría"},{"$f":"VLOOKUP(G1101,Referencias!$C$4:$E$21,3,FALSE())","v":4},"SC","Competición",{"$f":"VLOOKUP(C1101,Referencias!$B$24:$C$40,2,FALSE())","v":"M"}]
["2811134","Francés de Velasco, Antonio","Madrileña","C",{"$f":"VLOOKUP(G1102,Referencias!$C$4:$D$21,2,FALSE())","v":"Maestro Mundial Open"},{"$f":"VLOOKUP(G1102,Referencias!$C$4:$E$21,3,FALSE())","v":0},"MM-O","Competición",{"$f":"VLOOKUP(C1102,Referencias!$B$24:$C$40,2,FALSE())","v":"M"}]
["2811135","Castells Cuadrillero, Pablo","Madrileña","C",{"$f":"VLOOKUP(G1103,Referencias!$C$4:$D$21,2,FALSE())","v":"Sin Categoría"},{"$f":"VLOOKUP(G1103,Referencias!$C$4:$E$21,3,FALSE())","v":4},"SC","Junior",{"$f":"VLOOKUP(C1103,Referencias!$B$24:$C$40,2,FALSE())","v":"M"}]
["2811138","Martín de Cabiedes Arranz, Asís","Madrileña","C",{"$f":"VLOOKUP(G1104,Referencias!$C$4:$D$21,2,FALSE())","v":"Sin Categoría"},{"$f":"VLOOKUP(G1104,Referencias!$C$4:$E$21,3,FALSE())","v":4},"SC","Competición",{"$f":"VLOOKUP(C1104,Referencias!$B$24:$C$40,2,FALSE())","v":"M"}]
["2811140","Rodulfo Puy, Carlos","Madrileña","C",{"$f":"VLOOKUP(G1105,Referencias!$C$4:$D$21,2,FALSE())","v":"Sin Categoría"},{"$f":"VLOOKUP(G1105,Referencias!$C$4:$E$21,3,FALSE())","v":4},"SC","Competición",{"$f":"VLOOKUP(C1105,Referencias!$B$24:$C$40,2,FALSE())","v":"M"}]
["2811145","Sandres Salas, Paule","Madrileña","D",{"$f":"VLOOKUP(G1106,Referencias!$C$4:$D$21,2,FALSE())","v":"Primera Picas"},{"$f":"VLOOKUP(G1106,Referencias!$C$4:$E$21,3,FALSE())","v":1},"1P","Competición",{"$f":"VLOOKUP(C1106,Referencias!$B$24:$C$40,2,FALSE())","v":"M"}]
["2811164","Montenegro, María Rosario","Madrileña","D",{"$f":"VLOOKUP(G1107,Referencias!$C$4:$D$21,2,FALSE())","v":"Sin Categoría"},{"$f":"VLOOKUP(G1107,Referencias!$C$4:$E$21,3,FALSE())","v":4},"SC","Competición",{"$f":"VLOOKUP(C1107,Referencias!$B$24:$C$40,2,FALSE())","v":"M"}]
["2811167","Cerame Fernández-Vijande, Margarita","Madrileña","D",{"$f":"VLOOKUP(G1108,Referencias!$C$4:$D$21,2,FALSE())","v":"Primera Corazón"},{"$f":"VLOOKUP(G1108,Referencias!$C$4:$E$21,3,FALSE())","v":1},"1C","Competición",{"$f":"VLOOKUP(C1108,Referencias!$B$24:$C$40,2,FALSE())","v":"M"}]
["2811174","Prados del Amo, Ana","Madrileña","D",{"$f":"VLOOKUP(G1109,Referencias!$C$4:$D$21,2,FALSE())","v":"Primera Corazón"},{"$f":"VLOOKUP(G1109,Referencias!$C$4:$E$21,3,FALSE())","v":1},"1C","Competición",{"$f":"VLOOKUP(C1109,Referencias!$B$24:$C$40,2,FALSE())","v":"M"}]
["2811178","Maraver , Concepción","Madrileña","D",{"$f":"VLOOKUP(G1110,Referencias!$C$4:$D$21,2,FALSE())","v":"Tercera Corazón"},{"$f":"VLOOKUP(G1110,Referencias!$C$4:$E$21,3,FALSE())","v":3},"3C","Competición",{"$f":"VLOOKUP(C1110,Referencias!$B$24:$C$40,2,FALSE())","v":"M"}]
["2811180","Vara Moral, Jesús","Madrileña","C",{"$f":"VLOOKUP(G1111,Referencias!$C$4:$D$21,2,FALSE())","v":"Segunda Picas"},{"$f":"VLOOKUP(G1111,Referencias!$C$4:$E$21,3,FALSE())","v":2},"2P","Competición",{"$f":"VLOOKUP(C1111,Referencias!$B$24:$C$40,2,FALSE())","v":"M"}]
["2811185","Puyol Gómez, Araceli","Madrileña","D",{"$f":"VLOOKUP(G1112,Referencias!$C$4:$D$21,2,FALSE())","v":"Primera Corazón"},{"$f":"VLOOKUP(G1112,Referencias!$C$4:$E$21,3,FALSE())","v":1},"1C","Competición",{"$f":"VLOOKUP(C1112,Referencias!$B$24:$C$40,2,FALSE())","v":"M"}]
["2811190","Götze Grossman, Sigfrido","Madrileña","C",{"$f":"VLOOKUP(G1113,Referencias!$C$4:$D$21,2,FALSE())","v":"Primera Diamante"},{"$f":"VLOOKUP(G1113,Referencias!$C$4:$E$21,3,FALSE())","v":1},"1D","Competición",{"$f":"VLOOKUP(C1113,Referencias!$B$24:$C$40,2,FALSE())","v":"M"}]
["2811192","Mendoza , Amada","Madrileña","D",{"$f":"VLOOKUP(G1114,Referencias!$C$4:$D$21,2,FALSE())","v":"Sin Categoría"},{"$f":"VLOOKUP(G1114,Referencias!$C$4:$E$21,3,FALSE())","v":4},"SC","Competición",{"$f":"VLOOKUP(C1114,Referencias!$B$24:$C$40,2,FALSE())","v":"M"}]
["2811205","la Enjarada, Condesa de","Madrileña","D",{"$f":"VLOOKUP(G1115,Referencias!$C$4:$D$21,2,FALSE())","v":"Primera Diamante"},{"$f":"VLOOKUP(G1115,Referencias!$C$4:$E$21,3,FALSE())","v":1},"1D","Honorífica",{"$f":"VLOOKUP(C1115,Referencias!$B$24:$C$40,2,FALSE())","v":"M"}]
["2811233","Hekneby , Mercedes","Madrileña","D",{"$f":"VLOOKUP(G1116,Referencias!$C$4:$D$21,2,FALSE())","v":"Tercera Picas"},{"$f":"VLOOKUP(G1116,Referencias!$C$4:$E$21,3,FALSE())","v":3},"3P","Competición",{"$f":"VLOOKUP(C1116,Referencias!$B$24:$C$40,2,FALSE())","v":"M"}]
["2811236","Criado del Rey Linaje, Isabel","Madrileña","D",{"$f":"VLOOKUP(G1117,Referencias!$C$4:$D$21,2,FALSE())","v":"Maestro Nacional Damas"},{"$f":"VLOOKUP(G1117,Referencias!$C$4:$E$21,3,FALSE())","v":0},"MN-D","Competición",{"$f":"VLOOKUP(C1117,Referencias!$B$24:$C$40,2,FALSE())","v":"M"}]
["2811239","de la Vega Peñaranda, Carmen","Madrileña","D",{"$f":"VLOOKUP(G1118,Referencias!$C$4:$D$21,2,FALSE())","v":"Sin Categoría"},{"$f":"VLOOKUP(G1118,Referencias!$C$4:$E$21,3,FALSE())","v":4},"SC","Competición",{"$f":"VLOOKUP(C1118,Referencias!$B$24:$C$40,2,FALSE())","v":"M"}]
["2811240","Zabia Lasala, Elisa","Madrileña","D",{"$f":"VLOOKUP(G1119,Referencias!$C$4:$D$21,2,FALSE())","v":"Sin Categoría"},{"$f":"VLOOKUP(G1119,Referencias!$C$4:$E$21,3,FALSE())","v":4},"SC","Competición",{"$f":"VLOOKUP(C1119,Referencias!$B$24:$C$40,2,FALSE())","v":"M"}]
["2811244","Peña Marcos, María Patrocinio","Madrileña","D",{"$f":"VLOOKUP(G1120,Referencias!$C$4:$D$21,2,FALSE())","v":"Primera Picas"},{"$f":"VLOOKUP(G1120,Referencias!$C$4:$E$21,3,FALSE())","v":1},"1P","Competición",{"$f":"VLOOKUP(C1120,Referencias!$B$24:$C$40,2,FALSE())","v":"M"}]
["2811245","Beltrán Rojo, Covadonga","Madrileña","D",{"$f":"VLOOKUP(G1121,Referencias!$C$4:$D$21,2,FALSE())","v":"Sin Categoría"},{"$f":"VLOOKUP(G1121,Referencias!$C$4:$E$21,3,FALSE())","v":4},"SC","Competición",{"$f":"VLOOKUP(C1121,Referencias!$B$24:$C$40,2,FALSE())","v":"M"}]
["2811246","Goded Nadal, Federico","Madrileña","C",{"$f":"VLOOKUP(G1122,Referencias!$C$4:$D$21,2,FALSE())","v":"Maestro Mundial Open"},{"$f":"VLOOKUP(G1122,Referencias!$C$4:$E$21,3,FALSE())","v":0},"MM-O","Competición",{"$f":"VLOOKUP(C1122,Referencias!$B$24:$C$40,2,FALSE())","v":"M"}]
["2811248","Vera, Victoria","Madrileña","D",{"$f":"VLOOKUP(G1123,Referencias!$C$4:$D$21,2,FALSE())","v":"Sin Categoría"},{"$f":"VLOOKUP(G1123,Referencias!$C$4:$E$21,3,FALSE())","v":4},"SC","Competición",{"$f":"VLOOKUP(C1123,Referencias!$B$24:$C$40,2,FALSE())","v":"M"}]
["2811253","Casanova , Pilar","Madrileña","D",{"$f":"VLOOKUP(G1124,Referencias!$C$4:$D$21,2,FALSE())","v":"Tercera Corazón"},{"$f":"VLOOKUP(G1124,Referencias!$C$4:$E$21,3,FALSE())","v":3},"3C","Competición",{"$f":"VLOOKUP(C1124,Referencias!$B$24:$C$40,2,FALSE())","v":"M"}]
["2811257","Franco Chato, Marta","Madrileña","D",{"$f":"VLOOKUP(G1125,Referencias!$C$4:$D$21,2,FALSE())","v":"Sin Categoría"},{"$f":"VLOOKUP(G1125,Referencias!$C$4:$E$21,3,FALSE())","v":4},"SC","Competición",{"$f":"VLOOKUP(C1125,Referencias!$B$24:$C$40,2,FALSE())","v":"M"}]
["2811261","Bannazar Martínez, Fernando","Madrileña","C",{"$f":"VLOOKUP(G1126,Referencias!$C$4:$D$21,2,FALSE())","v":"Sin Categoría"},{"$f":"VLOOKUP(G1126,Referencias!$C$4:$E$21,3,FALSE())","v":4},"SC","Honorífica",{"$f":"VLOOKUP(C1126,Referencias!$B$24:$C$40,2,FALSE())","v":"M"}]
["2811263","Lonchez Escribano, Victoria Eugenia","Madrileña","D",{"$f":"VLOOKUP(G1127,Referencias!$C$4:$D$21,2,FALSE())","v":"Primera Corazón"},{"$f":"VLOOKUP(G1127,Referencias!$C$4:$E$21,3,FALSE())","v":1},"1C","Competición",{"$f":"VLOOKUP(C1127,Referencias!$B$24:$C$40,2,FALSE())","v":"M"}]
["2811265","Goytre Pezzi, Alfonso","Madrileña","C",{"$f":"VLOOKUP(G1128,Referencias!$C$4:$D$21,2,FALSE())","v":"Segunda Picas"},{"$f":"VLOOKUP(G1128,Referencias!$C$4:$E$21,3,FALSE())","v":2},"2P","Honorífica",{"$f":"VLOOKUP(C1128,Referencias!$B$24:$C$40,2,FALSE())","v":"M"}]
["2811269","De Gavia, Conde","Madrileña","C",{"$f":"VLOOKUP(G1129,Referencias!$C$4:$D$21,2,FALSE())","v":"Tercera Picas"},{"$f":"VLOOKUP(G1129,Referencias!$C$4:$E$21,3,FALSE())","v":3},"3P","Competición",{"$f":"VLOOKUP(C1129,Referencias!$B$24:$C$40,2,FALSE())","v":"M"}]
["2811272","Ruíz de Velasco Larrea, Concha","Madrileña","D",{"$f":"VLOOKUP(G1130,Referencias!$C$4:$D$21,2,FALSE())","v":"Primera Picas"},{"$f":"VLOOKUP(G1130,Referencias!$C$4:$E$21,3,FALSE())","v":1},"1P","Competición",{"$f":"VLOOKUP(C1130,Referencias!$B$24:$C$40,2,FALSE())","v":"M"}]
["2811273","Bustillo , Beatríz","Madrileña","D",{"$f":"VLOOKUP(G1131,Referencias!$C$4:$D$21,2,FALSE())","v":"Segunda Corazón"},{"$f":"VLOOKUP(G1131,Referencias!$C$4:$E$21,3,FALSE())","v":2},"2C","Competición",{"$f":"VLOOKUP(C1131,Referencias!$B$24:$C$40,2,FALSE())","v":"M"}]
["2811275","Velázquez-Duro González de Regueral, María José","Madrileña","D",{"$f":"VLOOKUP(G1132,Referencias!$C$4:$D$21,2,FALSE())","v":"Primera Picas"},{"$f":"VLOOKUP(G1132,Referencias!$C$4:$E$21,3,FALSE())","v":1},"1P","Competición",{"$f":"VLOOKUP(C1132,Referencias!$B$24:$C$40,2,FALSE())","v":"M"}]
["2811281","Muñoz , Mercedes","Madrileña","D",{"$f":"VLOOKUP(G1133,Referencias!$C$4:$D$21,2,FALSE())","v":"Primera Picas"},{"$f":"VLOOKUP(G1133,Referencias!$C$4:$E$21,3,FALSE())","v":1},"1P","Competición",{"$f":"VLOOKUP(C1133,Referencias!$B$24:$C$40,2,FALSE())","v":"M"}]
["2811283","Goded Nadal, Paloma","Madrileña","D",{"$f":"VLOOKUP(G1134,Referencias!$C$4:$D$21,2,FALSE())","v":"Primera Corazón"},{"$f":"VLOOKUP(G1134,Referencias!$C$4:$E$21,3,FALSE())","v":1},"1C","Competición",{"$f":"VLOOKUP(C1134,Referencias!$B$24:$C$40,2,FALSE())","v":"M"}]
["2811286","Santías , Carmen","Madrileña","D",{"$f":"VLOOKUP(G1135,Referencias!$C$4:$D$21,2,FALSE())","v":"Primera Diamante"},{"$f":"VLOOKUP(G1135,Referencias!$C$4:$E$21,3,FALSE())","v":1},"1D","Competición",{"$f":"VLOOKUP(C1135,Referencias!$B$24:$C$40,2,FALSE())","v":"M"}]
["2811291","Álvarez de Tejera Fort, Carmen","Madrileña","D",{"$f":"VLOOKUP(G1136,Referencias!$C$4:$D$21,2,FALSE())","v":"Primera Diamante"},{"$f":"VLOOKUP(G1136,Referencias!$C$4:$E$21,3,FALSE())","v":1},"1D","Competición",{"$f":"VLOOKUP(C1136,Referencias!$B$24:$C$40,2,FALSE())","v":"M"}]
["2811319","Arroyo Rodríguez, Carmen","Madrileña","D",{"$f":"VLOOKUP(G1137,Referencias!$C$4:$D$21,2,FALSE())","v":"Sin Categoría"},{"$f":"VLOOKUP(G1137,Referencias!$C$4:$E$21,3,FALSE())","v":4},"SC","Honorífica",{"$f":"VLOOKUP(C1137,Referencias!$B$24:$C$40,2,FALSE())","v":"M"}]
["2811322","Haym, Dilva","Madrileña","D",{"$f":"VLOOKUP(G1138,Referencias!$C$4:$D$21,2,FALSE())","v":"Primera Diamante"},{"$f":"VLOOKUP(G1138,Referencias!$C$4:$E$21,3,FALSE())","v":1},"1D","Competición",{"$f":"VLOOKUP(C1138,Referencias!$B$24:$C$40,2,FALSE())","v":"M"}]
["2811334","Arimón López, Joaquín","Madrileña","C",{"$f":"VLOOKUP(G1139,Referencias!$C$4:$D$21,2,FALSE())","v":"Primera Picas"},{"$f":"VLOOKUP(G1139,Referencias!$C$4:$E$21,3,FALSE())","v":1},"1P","Competición",{"$f":"VLOOKUP(C1139,Referencias!$B$24:$C$40,2,FALSE())","v":"M"}]
["2811335","González-Estrada , Ignacio","Madrileña","C",{"$f":"VLOOKUP(G1140,Referencias!$C$4:$D$21,2,FALSE())","v":"Primera Corazón"},{"$f":"VLOOKUP(G1140,Referencias!$C$4:$E$21,3,FALSE())","v":1},"1C","Competición",{"$f":"VLOOKUP(C1140,Referencias!$B$24:$C$40,2,FALSE())","v":"M"}]
["2811342","García-Badell, Iñigo","Madrileña","C",{"$f":"VLOOKUP(G1141,Referencias!$C$4:$D$21,2,FALSE())","v":"Segunda Picas"},{"$f":"VLOOKUP(G1141,Referencias!$C$4:$E$21,3,FALSE())","v":2},"2P","Competición",{"$f":"VLOOKUP(C1141,Referencias!$B$24:$C$40,2,FALSE())","v":"M"}]
["2811345","Huici Casal, Amparo","Madrileña","D",{"$f":"VLOOKUP(G1142,Referencias!$C$4:$D$21,2,FALSE())","v":"Sin Categoría"},{"$f":"VLOOKUP(G1142,Referencias!$C$4:$E$21,3,FALSE())","v":4},"SC","Competición",{"$f":"VLOOKUP(C1142,Referencias!$B$24:$C$40,2,FALSE())","v":"M"}]
["2811346","Jiménez Arroyo, Marta","Madrileña","D",{"$f":"VLOOKUP(G1143,Referencias!$C$4:$D$21,2,FALSE())","v":"Primera Picas"},{"$f":"VLOOKUP(G1143,Referencias!$C$4:$E$21,3,FALSE())","v":1},"1P","Competición",{"$f":"VLOOKUP(C1143,Referencias!$B$24:$C$40,2,FALSE())","v":"M"}]
["2811348","Bergese Pesenti, Grazia","Madrileña","D",{"$f":"VLOOKUP(G1144,Referencias!$C$4:$D$21,2,FALSE())","v":"Sin Categoría"},{"$f":"VLOOKUP(G1144,Referencias!$C$4:$E$21,3,FALSE())","v":4},"SC","Competición",{"$f":"VLOOKUP(C1144,Referencias!$B$24:$C$40,2,FALSE())","v":"M"}]
["2811349","Delage García de Cáceres, Pilar","Madrileña","D",{"$f":"VLOOKUP(G1145,Referencias!$C$4:$D$21,2,FALSE())","v":"Primera Corazón"},{"$f":"VLOOKUP(G1145,Referencias!$C$4:$E$21,3,FALSE())","v":1},"1C","Competición",{"$f":"VLOOKUP(C1145,Referencias!$B$24:$C$40,2,FALSE())","v":"M"}]
["2811350","Varela Díaz, Ignacio","Madrileña","C",{"$f":"VLOOKUP(G1146,Referencias!$C$4:$D$21,2,FALSE())","v":"Primera Corazón"},{"$f":"VLOOKUP(G1146,Referencias!$C$4:$E$21,3,FALSE())","v":1},"1C","Competición",{"$f":"VLOOKUP(C1146,Referencias!$B$24:$C$40,2,FALSE())","v":"M"}]
["2811356","García de la Rasilla de Pineda, Pilar","Madrileña","D",{"$f":"VLOOKUP(G1147,Referencias!$C$4:$D$21,2,FALSE())","v":"Segunda Diamante"},{"$f":"VLOOKUP(G1147,Referencias!$C$4:$E$21,3,FALSE())","v":2},"2D","Competición",{"$f":"VLOOKUP(C1147,Referencias!$B$24:$C$40,2,FALSE())","v":"M"}]
["2811357","Serrano Terrades, José","Madrileña","C",{"$f":"VLOOKUP(G1148,Referencias!$C$4:$D$21,2,FALSE())","v":"Primera Diamante"},{"$f":"VLOOKUP(G1148,Referencias!$C$4:$E$21,3,FALSE())","v":1},"1D","Honorífica",{"$f":"VLOOKUP(C1148,Referencias!$B$24:$C$40,2,FALSE())","v":"M"}]
["2811358","Azcárraga Arana, Álvaro","Madrileña","C",{"$f":"VLOOKUP(G1149,Referencias!$C$4:$D$21,2,FALSE())","v":"Sin Categoría"},{"$f":"VLOOKUP(G1149,Referencias!$C$4:$E$21,3,FALSE())","v":4},"SC","Competición",{"$f":"VLOOKUP(C1149,Referencias!$B$24:$C$40,2,FALSE())","v":"M"}]
["2811359","Gonzalo Vázquez, Luz","Madrileña","D",{"$f":"VLOOKUP(G1150,Referencias!$C$4:$D$21,2,FALSE())","v":"Segunda Picas"},{"$f":"VLOOKUP(G1150,Referencias!$C$4:$E$21,3,FALSE())","v":2},"2P","Competición",{"$f":"VLOOKUP(C1150,Referencias!$B$24:$C$40,2,FALSE())","v":"M"}]
["2811361","de Partearroyo, David","Madrileña","C",{"$f":"VLOOKUP(G1151,Referencias!$C$4:$D$21,2,FALSE())","v":"Primera Picas"},{"$f":"VLOOKUP(G1151,Referencias!$C$4:$E$21,3,FALSE())","v":1},"1P","Competición",{"$f":"VLOOKUP(C1151,Referencias!$B$24:$C$40,2,FALSE())","v":"M"}]
["2811362","Ortega Peñamaría, María Adela","Madrileña","D",{"$f":"VLOOKUP(G1152,Referencias!$C$4:$D$21,2,FALSE())","v":"Primera Diamante"},{"$f":"VLOOKUP(G1152,Referencias!$C$4:$E$21,3,FALSE())","v":1},"1D","Competición",{"$f":"VLOOKUP(C1152,Referencias!$B$24:$C$40,2,FALSE())","v":"M"}]
["2811365","Durán , Enrique","Madrileña","C",{"$f":"VLOOKUP(G1153,Referencias!$C$4:$D$21,2,FALSE())","v":"Sin Categoría"},{"$f":"VLOOKUP(G1153,Referencias!$C$4:$E$21,3,FALSE())","v":4},"SC","Competición",{"$f":"VLOOKUP(C1153,Referencias!$B$24:$C$40,2,FALSE())","v":"M"}]
["2811366","Carredano , Gloria","Madrileña","D",{"$f":"VLOOKUP(G1154,Referencias!$C$4:$D$21,2,FALSE())","v":"Primera Corazón"},{"$f":"VLOOKUP(G1154,Referencias!$C$4:$E$21,3,FALSE())","v":1},"1C","Competición",{"$f":"VLOOKUP(C1154,Referencias!$B$24:$C$40,2,FALSE())","v":"M"}]
["2811370","Aristoy Martínez, Laura","Madrileña","D",{"$f":"VLOOKUP(G1155,Referencias!$C$4:$D$21,2,FALSE())","v":"Sin Categoría"},{"$f":"VLOOKUP(G1155,Referencias!$C$4:$E$21,3,FALSE())","v":4},"SC","Competición",{"$f":"VLOOKUP(C1155,Referencias!$B$24:$C$40,2,FALSE())","v":"M"}]
["2811371","Garrigues López-Chicheri, Isabel","Madrileña","D",{"$f":"VLOOKUP(G1156,Referencias!$C$4:$D$21,2,FALSE())","v":"Sin Categoría"},{"$f":"VLOOKUP(G1156,Referencias!$C$4:$E$21,3,FALSE())","v":4},"SC","Competición",{"$f":"VLOOKUP(C1156,Referencias!$B$24:$C$40,2,FALSE())","v":"M"}]
["2811372","Ruíz Constantino, Inés","Madrileña","D",{"$f":"VLOOKUP(G1157,Referencias!$C$4:$D$21,2,FALSE())","v":"Sin Categoría"},{"$f":"VLOOKUP(G1157,Referencias!$C$4:$E$21,3,FALSE())","v":4},"SC","Honorífica",{"$f":"VLOOKUP(C1157,Referencias!$B$24:$C$40,2,FALSE())","v":"M"}]
["2811373","Hurtado de Mendoza Páramo, María Concepción","Madrileña","D",{"$f":"VLOOKUP(G1158,Referencias!$C$4:$D$21,2,FALSE())","v":"Sin Categoría"},{"$f":"VLOOKUP(G1158,Referencias!$C$4:$E$21,3,FALSE())","v":4},"SC","Honorífica",{"$f":"VLOOKUP(C1158,Referencias!$B$24:$C$40,2,FALSE())","v":"M"}]
["2811384","Quilez Martínez de la Vega, Pino","Madrileña","D",{"$f":"VLOOKUP(G1159,Referencias!$C$4:$D$21,2,FALSE())","v":"Segunda Diamante"},{"$f":"VLOOKUP(G1159,Referencias!$C$4:$E$21,3,FALSE())","v":2},"2D","Competición",{"$f":"VLOOKUP(C1159,Referencias!$B$24:$C$40,2,FALSE())","v":"M"}]
["2811385","Cantalapiedra Benjumea, Inés","Madrileña","D",{"$f":"VLOOKUP(G1160,Referencias!$C$4:$D$21,2,FALSE())","v":"Tercera Picas"},{"$f":"VLOOKUP(G1160,Referencias!$C$4:$E$21,3,FALSE())","v":3},"3P","Competición",{"$f":"VLOOKUP(C1160,Referencias!$B$24:$C$40,2,FALSE())","v":"M"}]
["2811392","Soler , Beatríz","Madrileña","D",{"$f":"VLOOKUP(G1161,Referencias!$C$4:$D$21,2,FALSE())","v":"Sin Categoría"},{"$f":"VLOOKUP(G1161,Referencias!$C$4:$E$21,3,FALSE())","v":4},"SC","Competición",{"$f":"VLOOKUP(C1161,Referencias!$B$24:$C$40,2,FALSE())","v":"M"}]
["2811395","Casanova Colomer, María Dolores","Madrileña","D",{"$f":"VLOOKUP(G1162,Referencias!$C$4:$D$21,2,FALSE())","v":"Primera Diamante"},{"$f":"VLOOKUP(G1162,Referencias!$C$4:$E$21,3,FALSE())","v":1},"1D","Competición",{"$f":"VLOOKUP(C1162,Referencias!$B$24:$C$40,2,FALSE())","v":"M"}]
["2811411","Fernández-Monasterio García, Ana","Madrileña","D",{"$f":"VLOOKUP(G1163,Referencias!$C$4:$D$21,2,FALSE())","v":"Tercera Picas"},{"$f":"VLOOKUP(G1163,Referencias!$C$4:$E$21,3,FALSE())","v":3},"3P","Competición",{"$f":"VLOOKUP(C1163,Referencias!$B$24:$C$40,2,FALSE())","v":"M"}]
["2811413","Carmona, Lucía","Madrileña","D",{"$f":"VLOOKUP(G1164,Referencias!$C$4:$D$21,2,FALSE())","v":"Primera Corazón"},{"$f":"VLOOKUP(G1164,Referencias!$C$4:$E$21,3,FALSE())","v":1},"1C","Competición",{"$f":"VLOOKUP(C1164,Referencias!$B$24:$C$40,2,FALSE())","v":"M"}]
["2811414","Torres Gutiérrez, José Ignacio","Madrileña","C",{"$f":"VLOOKUP(G1165,Referencias!$C$4:$D$21,2,FALSE())","v":"Maestro Mundial Open"},{"$f":"VLOOKUP(G1165,Referencias!$C$4:$E$21,3,FALSE())","v":0},"MM-O","Competición",{"$f":"VLOOKUP(C1165,Referencias!$B$24:$C$40,2,FALSE())","v":"M"}]
["2811416","Novo Domínguez, María Antonia","Madrileña","D",{"$f":"VLOOKUP(G1166,Referencias!$C$4:$D$21,2,FALSE())","v":"Tercera Diamante"},{"$f":"VLOOKUP(G1166,Referencias!$C$4:$E$21,3,FALSE())","v":3},"3D","Competición",{"$f":"VLOOKUP(C1166,Referencias!$B$24:$C$40,2,FALSE())","v":"M"}]
["2811417","R. de Sánchez Cortes, Inés","Madrileña","D",{"$f":"VLOOKUP(G1167,Referencias!$C$4:$D$21,2,FALSE())","v":"Tercera Picas"},{"$f":"VLOOKUP(G1167,Referencias!$C$4:$E$21,3,FALSE())","v":3},"3P","Competición",{"$f":"VLOOKUP(C1167,Referencias!$B$24:$C$40,2,FALSE())","v":"M"}]
["2811423","Ruíz Jarabo, Jesús","Madrileña","C",{"$f":"VLOOKUP(G1168,Referencias!$C$4:$D$21,2,FALSE())","v":"Tercera Picas"},{"$f":"VLOOKUP(G1168,Referencias!$C$4:$E$21,3,FALSE())","v":3},"3P","Competición",{"$f":"VLOOKUP(C1168,Referencias!$B$24:$C$40,2,FALSE())","v":"M"}]
["2811428","Villanueva Ibáñez, Marta","Madrileña","D",{"$f":"VLOOKUP(G1169,Referencias!$C$4:$D$21,2,FALSE())","v":"Primera Diamante"},{"$f":"VLOOKUP(G1169,Referencias!$C$4:$E$21,3,FALSE())","v":1},"1D","Competición",{"$f":"VLOOKUP(C1169,Referencias!$B$24:$C$40,2,FALSE())","v":"M"}]
["2811429","Angulo Barquín, Francisco","Madrileña","C",{"$f":"VLOOKUP(G1170,Referencias!$C$4:$D$21,2,FALSE())","v":"Primera Diamante"},{"$f":"VLOOKUP(G1170,Referencias!$C$4:$E$21,3,FALSE())","v":1},"1D","Competición",{"$f":"VLOOKUP(C1170,Referencias!$B$24:$C$40,2,FALSE())","v":"M"}]
["2811434","Fondevilla Calderón, Ricardo","Madrileña","C",{"$f":"VLOOKUP(G1171,Referencias!$C$4:$D$21,2,FALSE())","v":"Tercera Picas"},{"$f":"VLOOKUP(G1171,Referencias!$C$4:$E$21,3,FALSE())","v":3},"3P","Competición",{"$f":"VLOOKUP(C1171,Referencias!$B$24:$C$40,2,FALSE())","v":"M"}]
["2811435","Kindelán , Beatríz","Madrileña","D",{"$f":"VLOOKUP(G1172,Referencias!$C$4:$D$21,2,FALSE())","v":"Primera Picas"},{"$f":"VLOOKUP(G1172,Referencias!$C$4:$E$21,3,FALSE())","v":1},"1P","Competición",{"$f":"VLOOKUP(C1172,Referencias!$B$24:$C$40,2,FALSE())","v":"M"}]
["2811437","Bordallo Cortina, Mercedes","Madrileña","D",{"$f":"VLOOKUP(G1173,Referencias!$C$4:$D$21,2,FALSE())","v":"Segunda Picas"},{"$f":"VLOOKUP(G1173,Referencias!$C$4:$E$21,3,FALSE())","v":2},"2P","Competición",{"$f":"VLOOKUP(C1173,Referencias!$B$24:$C$40,2,FALSE())","v":"M"}]
["2811441","Holczer Braun, Erika","Madrileña","D",{"$f":"VLOOKUP(G1174,Referencias!$C$4:$D$21,2,FALSE())","v":"Segunda Picas"},{"$f":"VLOOKUP(G1174,Referencias!$C$4:$E$21,3,FALSE())","v":2},"2P","Competición",{"$f":"VLOOKUP(C1174,Referencias!$B$24:$C$40,2,FALSE())","v":"M"}]
["2811445","Hernando , Jorge","Madrileña","C",{"$f":"VLOOKUP(G1175,Referencias!$C$4:$D$21,2,FALSE())","v":"Primera Picas"},{"$f":"VLOOKUP(G1175,Referencias!$C$4:$E$21,3,FALSE())","v":1},"1P","Competición",{"$f":"VLOOKUP(C1175,Referencias!$B$24:$C$40,2,FALSE())","v":"M"}]
["2811446","Suárez del Villar Ruíz de Huidobro, Marta","Madrileña","D",{"$f":"VLOOKUP(G1176,Referencias!$C$4:$D$21,2,FALSE())","v":"Primera Picas"},{"$f":"VLOOKUP(G1176,Referencias!$C$4:$E$21,3,FALSE())","v":1},"1P","Competición",{"$f":"VLOOKUP(C1176,Referencias!$B$24:$C$40,2,FALSE())","v":"M"}]
["2811451","Alemán Bandrich, María del Carmen","Madrileña","D",{"$f":"VLOOKUP(G1177,Referencias!$C$4:$D$21,2,FALSE())","v":"Segunda Diamante"},{"$f":"VLOOKUP(G1177,Referencias!$C$4:$E$21,3,FALSE())","v":2},"2D","Competición",{"$f":"VLOOKUP(C1177,Referencias!$B$24:$C$40,2,FALSE())","v":"M"}]
["2811455","Melgar Escoriaza, Juan Manuel","Madrileña","C",{"$f":"VLOOKUP(G1178,Referencias!$C$4:$D$21,2,FALSE())","v":"Sin Categoría"},{"$f":"VLOOKUP(G1178,Referencias!$C$4:$E$21,3,FALSE())","v":4},"SC","Competición",{"$f":"VLOOKUP(C1178,Referencias!$B$24:$C$40,2,FALSE())","v":"M"}]
["2811456","Biritos Ortiz, Raquel","Madrileña","D",{"$f":"VLOOKUP(G1179,Referencias!$C$4:$D$21,2,FALSE())","v":"Primera Picas"},{"$f":"VLOOKUP(G1179,Referencias!$C$4:$E$21,3,FALSE())","v":1},"1P","Competición",{"$f":"VLOOKUP(C1179,Referencias!$B$24:$C$40,2,FALSE())","v":"M"}]
["2811460","Goicoechea Iparraguirre, María Luisa","Madrileña","D",{"$f":"VLOOKUP(G1180,Referencias!$C$4:$D$21,2,FALSE())","v":"Sin Categoría"},{"$f":"VLOOKUP(G1180,Referencias!$C$4:$E$21,3,FALSE())","v":4},"SC","Competición",{"$f":"VLOOKUP(C1180,Referencias!$B$24:$C$40,2,FALSE())","v":"M"}]
["2811464","de Castro López-Cortijo, María Soledad","Madrileña","D",{"$f":"VLOOKUP(G1181,Referencias!$C$4:$D$21,2,FALSE())","v":"Segunda Corazón"},{"$f":"VLOOKUP(G1181,Referencias!$C$4:$E$21,3,FALSE())","v":2},"2C","Competición",{"$f":"VLOOKUP(C1181,Referencias!$B$24:$C$40,2,FALSE())","v":"M"}]
["2811465","Jerez Méndez, Ángel","Madrileña","C",{"$f":"VLOOKUP(G1182,Referencias!$C$4:$D$21,2,FALSE())","v":"Primera Picas"},{"$f":"VLOOKUP(G1182,Referencias!$C$4:$E$21,3,FALSE())","v":1},"1P","Competición",{"$f":"VLOOKUP(C1182,Referencias!$B$24:$C$40,2,FALSE())","v":"M"}]
["2811466","Merino Selgas, Paloma","Madrileña","D",{"$f":"VLOOKUP(G1183,Referencias!$C$4:$D$21,2,FALSE())","v":"Sin Categoría"},{"$f":"VLOOKUP(G1183,Referencias!$C$4:$E$21,3,FALSE())","v":4},"SC","Competición",{"$f":"VLOOKUP(C1183,Referencias!$B$24:$C$40,2,FALSE())","v":"M"}]
["2811469","Sáenz de Buruaga Dans, Pilar","Madrileña","D",{"$f":"VLOOKUP(G1184,Referencias!$C$4:$D$21,2,FALSE())","v":"Tercera Diamante"},{"$f":"VLOOKUP(G1184,Referencias!$C$4:$E$21,3,FALSE())","v":3},"3D","Competición",{"$f":"VLOOKUP(C1184,Referencias!$B$24:$C$40,2,FALSE())","v":"M"}]
["2811477","Navarro Pérez-Paves, Sara","Asturiana","D",{"$f":"VLOOKUP(G1185,Referencias!$C$4:$D$21,2,FALSE())","v":"Segunda Corazón"},{"$f":"VLOOKUP(G1185,Referencias!$C$4:$E$21,3,FALSE())","v":2},"2C","Competición",{"$f":"VLOOKUP(C1185,Referencias!$B$24:$C$40,2,FALSE())","v":"PA"}]
["2811479","Rocabert Bielsa, Pilar","Madrileña","D",{"$f":"VLOOKUP(G1186,Referencias!$C$4:$D$21,2,FALSE())","v":"Primera Picas"},{"$f":"VLOOKUP(G1186,Referencias!$C$4:$E$21,3,FALSE())","v":1},"1P","Competición",{"$f":"VLOOKUP(C1186,Referencias!$B$24:$C$40,2,FALSE())","v":"M"}]
["2811484","Romero Herrero, María Josefa","Madrileña","D",{"$f":"VLOOKUP(G1187,Referencias!$C$4:$D$21,2,FALSE())","v":"Primera Picas"},{"$f":"VLOOKUP(G1187,Referencias!$C$4:$E$21,3,FALSE())","v":1},"1P","Competición",{"$f":"VLOOKUP(C1187,Referencias!$B$24:$C$40,2,FALSE())","v":"M"}]
["2811485","Molero Manglano, Carlos","Asturiana","C",{"$f":"VLOOKUP(G1188,Referencias!$C$4:$D$21,2,FALSE())","v":"Primera Diamante"},{"$f":"VLOOKUP(G1188,Referencias!$C$4:$E$21,3,FALSE())","v":1},"1D","Competición",{"$f":"VLOOKUP(C1188,Referencias!$B$24:$C$40,2,FALSE())","v":"PA"}]
["2811495","Echeverría Y de Meer, Esperanza","Madrileña","D",{"$f":"VLOOKUP(G1189,Referencias!$C$4:$D$21,2,FALSE())","v":"Tercera Diamante"},{"$f":"VLOOKUP(G1189,Referencias!$C$4:$E$21,3,FALSE())","v":3},"3D","Competición",{"$f":"VLOOKUP(C1189,Referencias!$B$24:$C$40,2,FALSE())","v":"M"}]
["2811508","Castells Conrado, Marina","Madrileña","D",{"$f":"VLOOKUP(G1190,Referencias!$C$4:$D$21,2,FALSE())","v":"Maestro Nacional Damas"},{"$f":"VLOOKUP(G1190,Referencias!$C$4:$E$21,3,FALSE())","v":0},"MN-D","Competición",{"$f":"VLOOKUP(C1190,Referencias!$B$24:$C$40,2,FALSE())","v":"M"}]
["2811510","Muruaga López, María Ángeles","Madrileña","D",{"$f":"VLOOKUP(G1191,Referencias!$C$4:$D$21,2,FALSE())","v":"Maestro Nacional Damas"},{"$f":"VLOOKUP(G1191,Referencias!$C$4:$E$21,3,FALSE())","v":0},"MN-D","Competición",{"$f":"VLOOKUP(C1191,Referencias!$B$24:$C$40,2,FALSE())","v":"M"}]
["2811513","Guijarro Platas, Antonio","Madrileña","C",{"$f":"VLOOKUP(G1192,Referencias!$C$4:$D$21,2,FALSE())","v":"Primera Picas"},{"$f":"VLOOKUP(G1192,Referencias!$C$4:$E$21,3,FALSE())","v":1},"1P","Competición",{"$f":"VLOOKUP(C1192,Referencias!$B$24:$C$40,2,FALSE())","v":"M"}]
["2811530","Ruiz Frías, Rosa","Madrileña","D",{"$f":"VLOOKUP(G1193,Referencias!$C$4:$D$21,2,FALSE())","v":"Primera Diamante"},{"$f":"VLOOKUP(G1193,Referencias!$C$4:$E$21,3,FALSE())","v":1},"1D","Competición",{"$f":"VLOOKUP(C1193,Referencias!$B$24:$C$40,2,FALSE())","v":"M"}]
["2811538","Inclán Giraldo, Pilar","Madrileña","D",{"$f":"VLOOKUP(G1194,Referencias!$C$4:$D$21,2,FALSE())","v":"Sin Categoría"},{"$f":"VLOOKUP(G1194,Referencias!$C$4:$E$21,3,FALSE())","v":4},"SC","Competición",{"$f":"VLOOKUP(C1194,Referencias!$B$24:$C$40,2,FALSE())","v":"M"}]
["2811540","Hernández Gainza, María Eugenia","Madrileña","D",{"$f":"VLOOKUP(G1195,Referencias!$C$4:$D$21,2,FALSE())","v":"Maestro Mundial Damas"},{"$f":"VLOOKUP(G1195,Referencias!$C$4:$E$21,3,FALSE())","v":0},"MM-D","Competición",{"$f":"VLOOKUP(C1195,Referencias!$B$24:$C$40,2,FALSE())","v":"M"}]
["2811547","Alvargonzalez-Junquera , Suni","Madrileña","D",{"$f":"VLOOKUP(G1196,Referencias!$C$4:$D$21,2,FALSE())","v":"Tercera Diamante"},{"$f":"VLOOKUP(G1196,Referencias!$C$4:$E$21,3,FALSE())","v":3},"3D","Competición",{"$f":"VLOOKUP(C1196,Referencias!$B$24:$C$40,2,FALSE())","v":"M"}]
["2811553","Benmergui Esayag, Jacobo","Madrileña","C",{"$f":"VLOOKUP(G1197,Referencias!$C$4:$D$21,2,FALSE())","v":"Primera Picas"},{"$f":"VLOOKUP(G1197,Referencias!$C$4:$E$21,3,FALSE())","v":1},"1P","Competición",{"$f":"VLOOKUP(C1197,Referencias!$B$24:$C$40,2,FALSE())","v":"M"}]
["2811554","Palicio , Marta","Madrileña","D",{"$f":"VLOOKUP(G1198,Referencias!$C$4:$D$21,2,FALSE())","v":"Tercera Picas"},{"$f":"VLOOKUP(G1198,Referencias!$C$4:$E$21,3,FALSE())","v":3},"3P","Competición",{"$f":"VLOOKUP(C1198,Referencias!$B$24:$C$40,2,FALSE())","v":"M"}]
["2811559","Villanueva Ibáñez, María del Mar","Madrileña","D",{"$f":"VLOOKUP(G1199,Referencias!$C$4:$D$21,2,FALSE())","v":"Tercera Diamante"},{"$f":"VLOOKUP(G1199,Referencias!$C$4:$E$21,3,FALSE())","v":3},"3D","Competición",{"$f":"VLOOKUP(C1199,Referencias!$B$24:$C$40,2,FALSE())","v":"M"}]
["2811560","Olivares Santiago, Rosa","Madrileña","D",{"$f":"VLOOKUP(G1200,Referencias!$C$4:$D$21,2,FALSE())","v":"Sin Categoría"},{"$f":"VLOOKUP(G1200,Referencias!$C$4:$E$21,3,FALSE())","v":4},"SC","Competición",{"$f":"VLOOKUP(C1200,Referencias!$B$24:$C$40,2,FALSE())","v":"M"}]
["2811567","Rbibo , Monique","Madrileña","D",{"$f":"VLOOKUP(G1201,Referencias!$C$4:$D$21,2,FALSE())","v":"Sin Categoría"},{"$f":"VLOOKUP(G1201,Referencias!$C$4:$E$21,3,FALSE())","v":4},"SC","Competición",{"$f":"VLOOKUP(C1201,Referencias!$B$24:$C$40,2,FALSE())","v":"M"}]
["2811574","Iranzo de Cabannes, María France","Madrileña","D",{"$f":"VLOOKUP(G1202,Referencias!$C$4:$D$21,2,FALSE())","v":"Tercera Corazón"},{"$f":"VLOOKUP(G1202,Referencias!$C$4:$E$21,3,FALSE())","v":3},"3C","Competición",{"$f":"VLOOKUP(C1202,Referencias!$B$24:$C$40,2,FALSE())","v":"M"}]
["2811578","Villalba Salgado, Mercedes","Madrileña","D",{"$f":"VLOOKUP(G1203,Referencias!$C$4:$D$21,2,FALSE())","v":"Primera Picas"},{"$f":"VLOOKUP(G1203,Referencias!$C$4:$E$21,3,FALSE())","v":1},"1P","Competición",{"$f":"VLOOKUP(C1203,Referencias!$B$24:$C$40,2,FALSE())","v":"M"}]
["2811579","Gassó Hernández, Ángeles","Madrileña","D",{"$f":"VLOOKUP(G1204,Referencias!$C$4:$D$21,2,FALSE())","v":"Tercera Picas"},{"$f":"VLOOKUP(G1204,Referencias!$C$4:$E$21,3,FALSE())","v":3},"3P","Competición",{"$f":"VLOOKUP(C1204,Referencias!$B$24:$C$40,2,FALSE())","v":"M"}]
["2811583","Castells Conrado, Laura","Madrileña","D",{"$f":"VLOOKUP(G1205,Referencias!$C$4:$D$21,2,FALSE())","v":"Maestro Nacional Damas"},{"$f":"VLOOKUP(G1205,Referencias!$C$4:$E$21,3,FALSE())","v":0},"MN-D","Competición",{"$f":"VLOOKUP(C1205,Referencias!$B$24:$C$40,2,FALSE())","v":"M"}]
["2811588","Blasco Marín, Pedro","Madrileña","C",{"$f":"VLOOKUP(G1206,Referencias!$C$4:$D$21,2,FALSE())","v":"Tercera Diamante"},{"$f":"VLOOKUP(G1206,Referencias!$C$4:$E$21,3,FALSE())","v":3},"3D","Competición",{"$f":"VLOOKUP(C1206,Referencias!$B$24:$C$40,2,FALSE())","v":"M"}]
["2811595","Iglesias-Sarria , Blanca","Madrileña","D",{"$f":"VLOOKUP(G1207,Referencias!$C$4:$D$21,2,FALSE())","v":"Tercera Corazón"},{"$f":"VLOOKUP(G1207,Referencias!$C$4:$E$21,3,FALSE())","v":3},"3C","Competición",{"$f":"VLOOKUP(C1207,Referencias!$B$24:$C$40,2,FALSE())","v":"M"}]
["2811596","Jiménez García-Alzórriz, Ignacio","Madrileña","C",{"$f":"VLOOKUP(G1208,Referencias!$C$4:$D$21,2,FALSE())","v":"Maestro Nacional Open"},{"$f":"VLOOKUP(G1208,Referencias!$C$4:$E$21,3,FALSE())","v":0},"MN-O","Competición",{"$f":"VLOOKUP(C1208,Referencias!$B$24:$C$40,2,FALSE())","v":"M"}]
["2811601","Criado del Rey , Victoria","Madrileña","D",{"$f":"VLOOKUP(G1209,Referencias!$C$4:$D$21,2,FALSE())","v":"Tercera Picas"},{"$f":"VLOOKUP(G1209,Referencias!$C$4:$E$21,3,FALSE())","v":3},"3P","Competición",{"$f":"VLOOKUP(C1209,Referencias!$B$24:$C$40,2,FALSE())","v":"M"}]
["2811603","Guerra del Río Manrique de Lara, Adolfina","Madrileña","D",{"$f":"VLOOKUP(G1210,Referencias!$C$4:$D$21,2,FALSE())","v":"Sin Categoría"},{"$f":"VLOOKUP(G1210,Referencias!$C$4:$E$21,3,FALSE())","v":4},"SC","Competición",{"$f":"VLOOKUP(C1210,Referencias!$B$24:$C$40,2,FALSE())","v":"M"}]
["2811604","Chacón Roca, Pilar","Madrileña","D",{"$f":"VLOOKUP(G1211,Referencias!$C$4:$D$21,2,FALSE())","v":"Segunda Picas"},{"$f":"VLOOKUP(G1211,Referencias!$C$4:$E$21,3,FALSE())","v":2},"2P","Competición",{"$f":"VLOOKUP(C1211,Referencias!$B$24:$C$40,2,FALSE())","v":"M"}]
["2811605","Ferrández Del Cacho, Mercedes","Madrileña","D",{"$f":"VLOOKUP(G1212,Referencias!$C$4:$D$21,2,FALSE())","v":"Primera Picas"},{"$f":"VLOOKUP(G1212,Referencias!$C$4:$E$21,3,FALSE())","v":1},"1P","Competición",{"$f":"VLOOKUP(C1212,Referencias!$B$24:$C$40,2,FALSE())","v":"M"}]
["2811610","Ferrer Crespo, Francisca","Madrileña","D",{"$f":"VLOOKUP(G1213,Referencias!$C$4:$D$21,2,FALSE())","v":"Sin Categoría"},{"$f":"VLOOKUP(G1213,Referencias!$C$4:$E$21,3,FALSE())","v":4},"SC","Competición",{"$f":"VLOOKUP(C1213,Referencias!$B$24:$C$40,2,FALSE())","v":"M"}]
["2811616","Giménez-Arnau , María del Carmen","Madrileña","D",{"$f":"VLOOKUP(G1214,Referencias!$C$4:$D$21,2,FALSE())","v":"Segunda Diamante"},{"$f":"VLOOKUP(G1214,Referencias!$C$4:$E$21,3,FALSE())","v":2},"2D","Competición",{"$f":"VLOOKUP(C1214,Referencias!$B$24:$C$40,2,FALSE())","v":"M"}]
["2811617","Nicolás-Correa Barragán, Elisa","Madrileña","D",{"$f":"VLOOKUP(G1215,Referencias!$C$4:$D$21,2,FALSE())","v":"Primera Picas"},{"$f":"VLOOKUP(G1215,Referencias!$C$4:$E$21,3,FALSE())","v":1},"1P","Competición",{"$f":"VLOOKUP(C1215,Referencias!$B$24:$C$40,2,FALSE())","v":"M"}]
["2811620","Castells Conrado, Antonio","Madrileña","C",{"$f":"VLOOKUP(G1216,Referencias!$C$4:$D$21,2,FALSE())","v":"Primera Corazón"},{"$f":"VLOOKUP(G1216,Referencias!$C$4:$E$21,3,FALSE())","v":1},"1C","Competición",{"$f":"VLOOKUP(C1216,Referencias!$B$24:$C$40,2,FALSE())","v":"M"}]
["2811622","Goya de Saiz, María Antonia","Madrileña","D",{"$f":"VLOOKUP(G1217,Referencias!$C$4:$D$21,2,FALSE())","v":"Segunda Picas"},{"$f":"VLOOKUP(G1217,Referencias!$C$4:$E$21,3,FALSE())","v":2},"2P","Competición",{"$f":"VLOOKUP(C1217,Referencias!$B$24:$C$40,2,FALSE())","v":"M"}]
["2811625","Satrústegui Silvela, Fernanda","Madrileña","D",{"$f":"VLOOKUP(G1218,Referencias!$C$4:$D$21,2,FALSE())","v":"Tercera Picas"},{"$f":"VLOOKUP(G1218,Referencias!$C$4:$E$21,3,FALSE())","v":3},"3P","Competición",{"$f":"VLOOKUP(C1218,Referencias!$B$24:$C$40,2,FALSE())","v":"M"}]
["2811628","Valderrábano Núñez, Carmen","Madrileña","D",{"$f":"VLOOKUP(G1219,Referencias!$C$4:$D$21,2,FALSE())","v":"Tercera Corazón"},{"$f":"VLOOKUP(G1219,Referencias!$C$4:$E$21,3,FALSE())","v":3},"3C","Competición",{"$f":"VLOOKUP(C1219,Referencias!$B$24:$C$40,2,FALSE())","v":"M"}]
["2811632","Castro Guerra, Dorina","Madrileña","D",{"$f":"VLOOKUP(G1220,Referencias!$C$4:$D$21,2,FALSE())","v":"Sin Categoría"},{"$f":"VLOOKUP(G1220,Referencias!$C$4:$E$21,3,FALSE())","v":4},"SC","Competición",{"$f":"VLOOKUP(C1220,Referencias!$B$24:$C$40,2,FALSE())","v":"M"}]
["2811633","Prida Peláez, María Teresa","Madrileña","D",{"$f":"VLOOKUP(G1221,Referencias!$C$4:$D$21,2,FALSE())","v":"Tercera Corazón"},{"$f":"VLOOKUP(G1221,Referencias!$C$4:$E$21,3,FALSE())","v":3},"3C","Competición",{"$f":"VLOOKUP(C1221,Referencias!$B$24:$C$40,2,FALSE())","v":"M"}]
["2811642","Bujack , Karin","Madrileña","D",{"$f":"VLOOKUP(G1222,Referencias!$C$4:$D$21,2,FALSE())","v":"Primera Corazón"},{"$f":"VLOOKUP(G1222,Referencias!$C$4:$E$21,3,FALSE())","v":1},"1C","Competición",{"$f":"VLOOKUP(C1222,Referencias!$B$24:$C$40,2,FALSE())","v":"M"}]
["2811643","Taberna Ruíz, Ana","Madrileña","D",{"$f":"VLOOKUP(G1223,Referencias!$C$4:$D$21,2,FALSE())","v":"Tercera Diamante"},{"$f":"VLOOKUP(G1223,Referencias!$C$4:$E$21,3,FALSE())","v":3},"3D","Competición",{"$f":"VLOOKUP(C1223,Referencias!$B$24:$C$40,2,FALSE())","v":"M"}]
["2811648","Carmona de Argila, Irene","Madrileña","D",{"$f":"VLOOKUP(G1224,Referencias!$C$4:$D$21,2,FALSE())","v":"Segunda Picas"},{"$f":"VLOOKUP(G1224,Referencias!$C$4:$E$21,3,FALSE())","v":2},"2P","Competición",{"$f":"VLOOKUP(C1224,Referencias!$B$24:$C$40,2,FALSE())","v":"M"}]
["2811650","Santos Campano, Isabel","Madrileña","D",{"$f":"VLOOKUP(G1225,Referencias!$C$4:$D$21,2,FALSE())","v":"Segunda Corazón"},{"$f":"VLOOKUP(G1225,Referencias!$C$4:$E$21,3,FALSE())","v":2},"2C","Competición",{"$f":"VLOOKUP(C1225,Referencias!$B$24:$C$40,2,FALSE())","v":"M"}]
["2811659","Ramos Martínez, Rafael","Madrileña","C",{"$f":"VLOOKUP(G1226,Referencias!$C$4:$D$21,2,FALSE())","v":"Sin Categoría"},{"$f":"VLOOKUP(G1226,Referencias!$C$4:$E$21,3,FALSE())","v":4},"SC","Competición",{"$f":"VLOOKUP(C1226,Referencias!$B$24:$C$40,2,FALSE())","v":"M"}]
["2811660","Reventún Núñez, Alberto","Madrileña","C",{"$f":"VLOOKUP(G1227,Referencias!$C$4:$D$21,2,FALSE())","v":"Segunda Corazón"},{"$f":"VLOOKUP(G1227,Referencias!$C$4:$E$21,3,FALSE())","v":2},"2C","Competición",{"$f":"VLOOKUP(C1227,Referencias!$B$24:$C$40,2,FALSE())","v":"M"}]
["2811663","Marín García de Mora, Belén","Madrileña","D",{"$f":"VLOOKUP(G1228,Referencias!$C$4:$D$21,2,FALSE())","v":"Segunda Corazón"},{"$f":"VLOOKUP(G1228,Referencias!$C$4:$E$21,3,FALSE())","v":2},"2C","Competición",{"$f":"VLOOKUP(C1228,Referencias!$B$24:$C$40,2,FALSE())","v":"M"}]
["2811664","Peidró Conde, José Manuel","Madrileña","C",{"$f":"VLOOKUP(G1229,Referencias!$C$4:$D$21,2,FALSE())","v":"Maestro Nacional Open"},{"$f":"VLOOKUP(G1229,Referencias!$C$4:$E$21,3,FALSE())","v":0},"MN-O","Competición",{"$f":"VLOOKUP(C1229,Referencias!$B$24:$C$40,2,FALSE())","v":"M"}]
["2811666","Basabe Armijo, Enrique","Madrileña","C",{"$f":"VLOOKUP(G1230,Referencias!$C$4:$D$21,2,FALSE())","v":"Maestro Nacional Open"},{"$f":"VLOOKUP(G1230,Referencias!$C$4:$E$21,3,FALSE())","v":0},"MN-O","Competición",{"$f":"VLOOKUP(C1230,Referencias!$B$24:$C$40,2,FALSE())","v":"M"}]
["2811671","Ruíz Rojas, María Isabel","Madrileña","D",{"$f":"VLOOKUP(G1231,Referencias!$C$4:$D$21,2,FALSE())","v":"Primera Diamante"},{"$f":"VLOOKUP(G1231,Referencias!$C$4:$E$21,3,FALSE())","v":1},"1D","Competición",{"$f":"VLOOKUP(C1231,Referencias!$B$24:$C$40,2,FALSE())","v":"M"}]
["2811676","Sierra López-Barrante, María del Carmen","Madrileña","D",{"$f":"VLOOKUP(G1232,Referencias!$C$4:$D$21,2,FALSE())","v":"Tercera Diamante"},{"$f":"VLOOKUP(G1232,Referencias!$C$4:$E$21,3,FALSE())","v":3},"3D","Competición",{"$f":"VLOOKUP(C1232,Referencias!$B$24:$C$40,2,FALSE())","v":"M"}]
["2811677","Sierra López, Josefina","Madrileña","D",{"$f":"VLOOKUP(G1233,Referencias!$C$4:$D$21,2,FALSE())","v":"Sin Categoría"},{"$f":"VLOOKUP(G1233,Referencias!$C$4:$E$21,3,FALSE())","v":4},"SC","Competición",{"$f":"VLOOKUP(C1233,Referencias!$B$24:$C$40,2,FALSE())","v":"M"}]
["2811679","de Juanes Lago, Julia María","Madrileña","D",{"$f":"VLOOKUP(G1234,Referencias!$C$4:$D$21,2,FALSE())","v":"Segunda Diamante"},{"$f":"VLOOKUP(G1234,Referencias!$C$4:$E$21,3,FALSE())","v":2},"2D","Competición",{"$f":"VLOOKUP(C1234,Referencias!$B$24:$C$40,2,FALSE())","v":"M"}]
["2811685","Gálvez Morros, Magdalena","Madrileña","D",{"$f":"VLOOKUP(G1235,Referencias!$C$4:$D$21,2,FALSE())","v":"Tercera Corazón"},{"$f":"VLOOKUP(G1235,Referencias!$C$4:$E$21,3,FALSE())","v":3},"3C","Competición",{"$f":"VLOOKUP(C1235,Referencias!$B$24:$C$40,2,FALSE())","v":"M"}]
["2811693","García González, Benigno","Madrileña","C",{"$f":"VLOOKUP(G1236,Referencias!$C$4:$D$21,2,FALSE())","v":"Tercera Diamante"},{"$f":"VLOOKUP(G1236,Referencias!$C$4:$E$21,3,FALSE())","v":3},"3D","Competición",{"$f":"VLOOKUP(C1236,Referencias!$B$24:$C$40,2,FALSE())","v":"M"}]
["2811696","Mazario Marañón, José Luis","Madrileña","C",{"$f":"VLOOKUP(G1237,Referencias!$C$4:$D$21,2,FALSE())","v":"Tercera Diamante"},{"$f":"VLOOKUP(G1237,Referencias!$C$4:$E$21,3,FALSE())","v":3},"3D","Competición",{"$f":"VLOOKUP(C1237,Referencias!$B$24:$C$40,2,FALSE())","v":"M"}]
["2811704","Guaps Maldonado, Marisol","Madrileña","D",{"$f":"VLOOKUP(G1238,Referencias!$C$4:$D$21,2,FALSE())","v":"Sin Categoría"},{"$f":"VLOOKUP(G1238,Referencias!$C$4:$E$21,3,FALSE())","v":4},"SC","Competición",{"$f":"VLOOKUP(C1238,Referencias!$B$24:$C$40,2,FALSE())","v":"M"}]
["2811708","Aldasoro , Judith","Madrileña","D",{"$f":"VLOOKUP(G1239,Referencias!$C$4:$D$21,2,FALSE())","v":"Tercera Corazón"},{"$f":"VLOOKUP(G1239,Referencias!$C$4:$E$21,3,FALSE())","v":3},"3C","Competición",{"$f":"VLOOKUP(C1239,Referencias!$B$24:$C$40,2,FALSE())","v":"M"}]
["2811709","Castells Conrado, María Ángeles","Madrileña","D",{"$f":"VLOOKUP(G1240,Referencias!$C$4:$D$21,2,FALSE())","v":"Primera Picas"},{"$f":"VLOOKUP(G1240,Referencias!$C$4:$E$21,3,FALSE())","v":1},"1P","Competición",{"$f":"VLOOKUP(C1240,Referencias!$B$24:$C$40,2,FALSE())","v":"M"}]
["2811716","Jiménez Garrido, Francisco","Madrileña","C",{"$f":"VLOOKUP(G1241,Referencias!$C$4:$D$21,2,FALSE())","v":"Primera Corazón"},{"$f":"VLOOKUP(G1241,Referencias!$C$4:$E$21,3,FALSE())","v":1},"1C","Competición",{"$f":"VLOOKUP(C1241,Referencias!$B$24:$C$40,2,FALSE())","v":"M"}]
["2811717","Pérez Pareja, Jesús","Madrileña","C",{"$f":"VLOOKUP(G1242,Referencias!$C$4:$D$21,2,FALSE())","v":"Tercera Picas"},{"$f":"VLOOKUP(G1242,Referencias!$C$4:$E$21,3,FALSE())","v":3},"3P","Competición",{"$f":"VLOOKUP(C1242,Referencias!$B$24:$C$40,2,FALSE())","v":"M"}]
["2811718","del Nogal Ropero, Mª Teresa","Madrileña","D",{"$f":"VLOOKUP(G1243,Referencias!$C$4:$D$21,2,FALSE())","v":"Tercera Picas"},{"$f":"VLOOKUP(G1243,Referencias!$C$4:$E$21,3,FALSE())","v":3},"3P","Competición",{"$f":"VLOOKUP(C1243,Referencias!$B$24:$C$40,2,FALSE())","v":"M"}]
["2811724","Romeo Viñas, María Inés","Madrileña","D",{"$f":"VLOOKUP(G1244,Referencias!$C$4:$D$21,2,FALSE())","v":"Maestro Nacional Open"},{"$f":"VLOOKUP(G1244,Referencias!$C$4:$E$21,3,FALSE())","v":0},"MN-O","Competición",{"$f":"VLOOKUP(C1244,Referencias!$B$24:$C$40,2,FALSE())","v":"M"}]
["2811725","Pañella Giralt, Ana","Madrileña","D",{"$f":"VLOOKUP(G1245,Referencias!$C$4:$D$21,2,FALSE())","v":"Primera Diamante"},{"$f":"VLOOKUP(G1245,Referencias!$C$4:$E$21,3,FALSE())","v":1},"1D","Competición",{"$f":"VLOOKUP(C1245,Referencias!$B$24:$C$40,2,FALSE())","v":"M"}]
["2811730","López de Sagredo, Estrella","Madrileña","D",{"$f":"VLOOKUP(G1246,Referencias!$C$4:$D$21,2,FALSE())","v":"Sin Categoría"},{"$f":"VLOOKUP(G1246,Referencias!$C$4:$E$21,3,FALSE())","v":4},"SC","Competición",{"$f":"VLOOKUP(C1246,Referencias!$B$24:$C$40,2,FALSE())","v":"M"}]
["2811733","Rodríguez-Cano Hamparzoumian, Pedro","Madrileña","C",{"$f":"VLOOKUP(G1247,Referencias!$C$4:$D$21,2,FALSE())","v":"Primera Picas"},{"$f":"VLOOKUP(G1247,Referencias!$C$4:$E$21,3,FALSE())","v":1},"1P","Competición",{"$f":"VLOOKUP(C1247,Referencias!$B$24:$C$40,2,FALSE())","v":"M"}]
["2811735","Gaztañaga Sertucha, José María","Madrileña","C",{"$f":"VLOOKUP(G1248,Referencias!$C$4:$D$21,2,FALSE())","v":"Sin Categoría"},{"$f":"VLOOKUP(G1248,Referencias!$C$4:$E$21,3,FALSE())","v":4},"SC","Competición",{"$f":"VLOOKUP(C1248,Referencias!$B$24:$C$40,2,FALSE())","v":"M"}]
["2811738","Pumar Mariño, Carmen","Madrileña","D",{"$f":"VLOOKUP(G1249,Referencias!$C$4:$D$21,2,FALSE())","v":"Segunda Diamante"},{"$f":"VLOOKUP(G1249,Referencias!$C$4:$E$21,3,FALSE())","v":2},"2D","Competición",{"$f":"VLOOKUP(C1249,Referencias!$B$24:$C$40,2,FALSE())","v":"M"}]
["2811739","Pfeiffer de Maura, Marifé","Madrileña","D",{"$f":"VLOOKUP(G1250,Referencias!$C$4:$D$21,2,FALSE())","v":"Tercera Corazón"},{"$f":"VLOOKUP(G1250,Referencias!$C$4:$E$21,3,FALSE())","v":3},"3C","Competición",{"$f":"VLOOKUP(C1250,Referencias!$B$24:$C$40,2,FALSE())","v":"M"}]
["2811742","Martínez Laya, Carlos","Madrileña","C",{"$f":"VLOOKUP(G1251,Referencias!$C$4:$D$21,2,FALSE())","v":"Sin Categoría"},{"$f":"VLOOKUP(G1251,Referencias!$C$4:$E$21,3,FALSE())","v":4},"SC","Competición",{"$f":"VLOOKUP(C1251,Referencias!$B$24:$C$40,2,FALSE())","v":"M"}]
["2811746","Gárate Murillo, Rosa María","Madrileña","D",{"$f":"VLOOKUP(G1252,Referencias!$C$4:$D$21,2,FALSE())","v":"Sin Categoría"},{"$f":"VLOOKUP(G1252,Referencias!$C$4:$E$21,3,FALSE())","v":4},"SC","Competición",{"$f":"VLOOKUP(C1252,Referencias!$B$24:$C$40,2,FALSE())","v":"M"}]
["2811748","Fernandez-Valdés Zubiría, Jaime","Madrileña","C",{"$f":"VLOOKUP(G1253,Referencias!$C$4:$D$21,2,FALSE())","v":"Segunda Picas"},{"$f":"VLOOKUP(G1253,Referencias!$C$4:$E$21,3,FALSE())","v":2},"2P","Competición",{"$f":"VLOOKUP(C1253,Referencias!$B$24:$C$40,2,FALSE())","v":"M"}]
["2811752","Menéndez de Luarca Navia Osorio , María","Madrileña","D",{"$f":"VLOOKUP(G1254,Referencias!$C$4:$D$21,2,FALSE())","v":"Segunda Picas"},{"$f":"VLOOKUP(G1254,Referencias!$C$4:$E$21,3,FALSE())","v":2},"2P","Competición",{"$f":"VLOOKUP(C1254,Referencias!$B$24:$C$40,2,FALSE())","v":"M"}]
["2811753","Rubio Egurbide, Aurora","Madrileña","D",{"$f":"VLOOKUP(G1255,Referencias!$C$4:$D$21,2,FALSE())","v":"Sin Categoría"},{"$f":"VLOOKUP(G1255,Referencias!$C$4:$E$21,3,FALSE())","v":4},"SC","Competición",{"$f":"VLOOKUP(C1255,Referencias!$B$24:$C$40,2,FALSE())","v":"M"}]
["2811760","Morales Piga, Concepción","Madrileña","D",{"$f":"VLOOKUP(G1256,Referencias!$C$4:$D$21,2,FALSE())","v":"Segunda Diamante"},{"$f":"VLOOKUP(G1256,Referencias!$C$4:$E$21,3,FALSE())","v":2},"2D","Competición",{"$f":"VLOOKUP(C1256,Referencias!$B$24:$C$40,2,FALSE())","v":"M"}]
["2811762","Lantarón Pinedo, Luis","Madrileña","C",{"$f":"VLOOKUP(G1257,Referencias!$C$4:$D$21,2,FALSE())","v":"Maestro Mundial Open"},{"$f":"VLOOKUP(G1257,Referencias!$C$4:$E$21,3,FALSE())","v":0},"MM-O","Competición",{"$f":"VLOOKUP(C1257,Referencias!$B$24:$C$40,2,FALSE())","v":"M"}]
["2811772","Aizpurua Saenz-Alonso, Ana Isabel","Madrileña","D",{"$f":"VLOOKUP(G1258,Referencias!$C$4:$D$21,2,FALSE())","v":"Segunda Picas"},{"$f":"VLOOKUP(G1258,Referencias!$C$4:$E$21,3,FALSE())","v":2},"2P","Competición",{"$f":"VLOOKUP(C1258,Referencias!$B$24:$C$40,2,FALSE())","v":"M"}]
["2811777","de Miguel , Joaquín","Madrileña","C",{"$f":"VLOOKUP(G1259,Referencias!$C$4:$D$21,2,FALSE())","v":"Sin Categoría"},{"$f":"VLOOKUP(G1259,Referencias!$C$4:$E$21,3,FALSE())","v":4},"SC","Competición",{"$f":"VLOOKUP(C1259,Referencias!$B$24:$C$40,2,FALSE())","v":"M"}]
["2811779","Hombravella Pérez de Ozores, María Paz","Madrileña","D",{"$f":"VLOOKUP(G1260,Referencias!$C$4:$D$21,2,FALSE())","v":"Tercera Diamante"},{"$f":"VLOOKUP(G1260,Referencias!$C$4:$E$21,3,FALSE())","v":3},"3D","Competición",{"$f":"VLOOKUP(C1260,Referencias!$B$24:$C$40,2,FALSE())","v":"M"}]
["2811780","Suárez Martínez, Sofía","Madrileña","D",{"$f":"VLOOKUP(G1261,Referencias!$C$4:$D$21,2,FALSE())","v":"Segunda Corazón"},{"$f":"VLOOKUP(G1261,Referencias!$C$4:$E$21,3,FALSE())","v":2},"2C","Competición",{"$f":"VLOOKUP(C1261,Referencias!$B$24:$C$40,2,FALSE())","v":"M"}]
["2811782","Castells Conrado, Alberto","Madrileña","C",{"$f":"VLOOKUP(G1262,Referencias!$C$4:$D$21,2,FALSE())","v":"Primera Picas"},{"$f":"VLOOKUP(G1262,Referencias!$C$4:$E$21,3,FALSE())","v":1},"1P","Competición",{"$f":"VLOOKUP(C1262,Referencias!$B$24:$C$40,2,FALSE())","v":"M"}]
["2811783","de Cossío, Carmen","Madrileña","D",{"$f":"VLOOKUP(G1263,Referencias!$C$4:$D$21,2,FALSE())","v":"Tercera Diamante"},{"$f":"VLOOKUP(G1263,Referencias!$C$4:$E$21,3,FALSE())","v":3},"3D","Competición",{"$f":"VLOOKUP(C1263,Referencias!$B$24:$C$40,2,FALSE())","v":"M"}]
["2811795","Carrasco Hervás, Gabriel","Madrileña","C",{"$f":"VLOOKUP(G1264,Referencias!$C$4:$D$21,2,FALSE())","v":"Maestro Nacional Open"},{"$f":"VLOOKUP(G1264,Referencias!$C$4:$E$21,3,FALSE())","v":0},"MN-O","Competición",{"$f":"VLOOKUP(C1264,Referencias!$B$24:$C$40,2,FALSE())","v":"M"}]
["2811799","Navarro Iglesias, Virgilio","Madrileña","C",{"$f":"VLOOKUP(G1265,Referencias!$C$4:$D$21,2,FALSE())","v":"Tercera Diamante"},{"$f":"VLOOKUP(G1265,Referencias!$C$4:$E$21,3,FALSE())","v":3},"3D","Competición",{"$f":"VLOOKUP(C1265,Referencias!$B$24:$C$40,2,FALSE())","v":"M"}]
["2811801","de Agustín Estanislao, Myriam","Madrileña","D",{"$f":"VLOOKUP(G1266,Referencias!$C$4:$D$21,2,FALSE())","v":"Primera Corazón"},{"$f":"VLOOKUP(G1266,Referencias!$C$4:$E$21,3,FALSE())","v":1},"1C","Competición",{"$f":"VLOOKUP(C1266,Referencias!$B$24:$C$40,2,FALSE())","v":"M"}]
["2811806","Chico Álvarez, María Rosa","Madrileña","D",{"$f":"VLOOKUP(G1267,Referencias!$C$4:$D$21,2,FALSE())","v":"Primera Corazón"},{"$f":"VLOOKUP(G1267,Referencias!$C$4:$E$21,3,FALSE())","v":1},"1C","Competición",{"$f":"VLOOKUP(C1267,Referencias!$B$24:$C$40,2,FALSE())","v":"M"}]
["2811807","del Castillo, Elisa","Madrileña","D",{"$f":"VLOOKUP(G1268,Referencias!$C$4:$D$21,2,FALSE())","v":"Tercera Diamante"},{"$f":"VLOOKUP(G1268,Referencias!$C$4:$E$21,3,FALSE())","v":3},"3D","Competición",{"$f":"VLOOKUP(C1268,Referencias!$B$24:$C$40,2,FALSE())","v":"M"}]
["2811808","Marcos Nicolás, Marisa","Madrileña","D",{"$f":"VLOOKUP(G1269,Referencias!$C$4:$D$21,2,FALSE())","v":"Segunda Corazón"},{"$f":"VLOOKUP(G1269,Referencias!$C$4:$E$21,3,FALSE())","v":2},"2C","Competición",{"$f":"VLOOKUP(C1269,Referencias!$B$24:$C$40,2,FALSE())","v":"M"}]
["2811809","de Roda Marchesi, María José","Madrileña","D",{"$f":"VLOOKUP(G1270,Referencias!$C$4:$D$21,2,FALSE())","v":"Primera Corazón"},{"$f":"VLOOKUP(G1270,Referencias!$C$4:$E$21,3,FALSE())","v":1},"1C","Competición",{"$f":"VLOOKUP(C1270,Referencias!$B$24:$C$40,2,FALSE())","v":"M"}]
["2811810","Urdiales Terry, Luis","Madrileña","C",{"$f":"VLOOKUP(G1271,Referencias!$C$4:$D$21,2,FALSE())","v":"Primera Picas"},{"$f":"VLOOKUP(G1271,Referencias!$C$4:$E$21,3,FALSE())","v":1},"1P","Competición",{"$f":"VLOOKUP(C1271,Referencias!$B$24:$C$40,2,FALSE())","v":"M"}]
["2811811","Vida Llorente, Mercedes","Madrileña","D",{"$f":"VLOOKUP(G1272,Referencias!$C$4:$D$21,2,FALSE())","v":"Primera Corazón"},{"$f":"VLOOKUP(G1272,Referencias!$C$4:$E$21,3,FALSE())","v":1},"1C","Competición",{"$f":"VLOOKUP(C1272,Referencias!$B$24:$C$40,2,FALSE())","v":"M"}]
["2811818","Castiñeira Villaseca, María Paz","Madrileña","D",{"$f":"VLOOKUP(G1273,Referencias!$C$4:$D$21,2,FALSE())","v":"Segunda Picas"},{"$f":"VLOOKUP(G1273,Referencias!$C$4:$E$21,3,FALSE())","v":2},"2P","Competición",{"$f":"VLOOKUP(C1273,Referencias!$B$24:$C$40,2,FALSE())","v":"M"}]
["2811819","Asín Pelay, María Jesús","Madrileña","D",{"$f":"VLOOKUP(G1274,Referencias!$C$4:$D$21,2,FALSE())","v":"Primera Corazón"},{"$f":"VLOOKUP(G1274,Referencias!$C$4:$E$21,3,FALSE())","v":1},"1C","Competición",{"$f":"VLOOKUP(C1274,Referencias!$B$24:$C$40,2,FALSE())","v":"M"}]
["2811824","Sandoval Renshaw, Carmen","Madrileña","D",{"$f":"VLOOKUP(G1275,Referencias!$C$4:$D$21,2,FALSE())","v":"Primera Picas"},{"$f":"VLOOKUP(G1275,Referencias!$C$4:$E$21,3,FALSE())","v":1},"1P","Competición",{"$f":"VLOOKUP(C1275,Referencias!$B$24:$C$40,2,FALSE())","v":"M"}]
["2811828","Granda Rubio, Jesús","Madrileña","C",{"$f":"VLOOKUP(G1276,Referencias!$C$4:$D$21,2,FALSE())","v":"Tercera Diamante"},{"$f":"VLOOKUP(G1276,Referencias!$C$4:$E$21,3,FALSE())","v":3},"3D","Honorífica",{"$f":"VLOOKUP(C1276,Referencias!$B$24:$C$40,2,FALSE())","v":"M"}]
["2811835","Estefanell Solá, Trinidad","Madrileña","D",{"$f":"VLOOKUP(G1277,Referencias!$C$4:$D$21,2,FALSE())","v":"Sin Categoría"},{"$f":"VLOOKUP(G1277,Referencias!$C$4:$E$21,3,FALSE())","v":4},"SC","Competición",{"$f":"VLOOKUP(C1277,Referencias!$B$24:$C$40,2,FALSE())","v":"M"}]
["2811841","Lafita Gorostiza, Begoña","Madrileña","D",{"$f":"VLOOKUP(G1278,Referencias!$C$4:$D$21,2,FALSE())","v":"Segunda Picas"},{"$f":"VLOOKUP(G1278,Referencias!$C$4:$E$21,3,FALSE())","v":2},"2P","Competición",{"$f":"VLOOKUP(C1278,Referencias!$B$24:$C$40,2,FALSE())","v":"M"}]
["2811849","Francés de Velasco, Ana","Madrileña","D",{"$f":"VLOOKUP(G1279,Referencias!$C$4:$D$21,2,FALSE())","v":"Maestro Mundial Damas"},{"$f":"VLOOKUP(G1279,Referencias!$C$4:$E$21,3,FALSE())","v":0},"MM-D","Competición",{"$f":"VLOOKUP(C1279,Referencias!$B$24:$C$40,2,FALSE())","v":"M"}]
["2811859","Vicent Martínez, Mariel","Madrileña","D",{"$f":"VLOOKUP(G1280,Referencias!$C$4:$D$21,2,FALSE())","v":"Primera Corazón"},{"$f":"VLOOKUP(G1280,Referencias!$C$4:$E$21,3,FALSE())","v":1},"1C","Competición",{"$f":"VLOOKUP(C1280,Referencias!$B$24:$C$40,2,FALSE())","v":"M"}]
["2811860","Dhainault , Marie France","Madrileña","D",{"$f":"VLOOKUP(G1281,Referencias!$C$4:$D$21,2,FALSE())","v":"Segunda Diamante"},{"$f":"VLOOKUP(G1281,Referencias!$C$4:$E$21,3,FALSE())","v":2},"2D","Competición",{"$f":"VLOOKUP(C1281,Referencias!$B$24:$C$40,2,FALSE())","v":"M"}]
["2811863","Julián Moreno, María Carmen","Madrileña","D",{"$f":"VLOOKUP(G1282,Referencias!$C$4:$D$21,2,FALSE())","v":"Tercera Corazón"},{"$f":"VLOOKUP(G1282,Referencias!$C$4:$E$21,3,FALSE())","v":3},"3C","Competición",{"$f":"VLOOKUP(C1282,Referencias!$B$24:$C$40,2,FALSE())","v":"M"}]
["2811878","Von Wichmann , Leles","Madrileña","D",{"$f":"VLOOKUP(G1283,Referencias!$C$4:$D$21,2,FALSE())","v":"Primera Corazón"},{"$f":"VLOOKUP(G1283,Referencias!$C$4:$E$21,3,FALSE())","v":1},"1C","Competición",{"$f":"VLOOKUP(C1283,Referencias!$B$24:$C$40,2,FALSE())","v":"M"}]
["2811881","Espinosa Ochoa, José Miguel","Madrileña","C",{"$f":"VLOOKUP(G1284,Referencias!$C$4:$D$21,2,FALSE())","v":"Segunda Picas"},{"$f":"VLOOKUP(G1284,Referencias!$C$4:$E$21,3,FALSE())","v":2},"2P","Competición",{"$f":"VLOOKUP(C1284,Referencias!$B$24:$C$40,2,FALSE())","v":"M"}]
["2811882","Guerrero , Manuela","Madrileña","D",{"$f":"VLOOKUP(G1285,Referencias!$C$4:$D$21,2,FALSE())","v":"Segunda Corazón"},{"$f":"VLOOKUP(G1285,Referencias!$C$4:$E$21,3,FALSE())","v":2},"2C","Competición",{"$f":"VLOOKUP(C1285,Referencias!$B$24:$C$40,2,FALSE())","v":"M"}]
["2811884","Peralta Sánchez, Pilar","Madrileña","D",{"$f":"VLOOKUP(G1286,Referencias!$C$4:$D$21,2,FALSE())","v":"Tercera Picas"},{"$f":"VLOOKUP(G1286,Referencias!$C$4:$E$21,3,FALSE())","v":3},"3P","Competición",{"$f":"VLOOKUP(C1286,Referencias!$B$24:$C$40,2,FALSE())","v":"M"}]
["2811890","Sorensen Alber, Cristina","Madrileña","D",{"$f":"VLOOKUP(G1287,Referencias!$C$4:$D$21,2,FALSE())","v":"Primera Diamante"},{"$f":"VLOOKUP(G1287,Referencias!$C$4:$E$21,3,FALSE())","v":1},"1D","Competición",{"$f":"VLOOKUP(C1287,Referencias!$B$24:$C$40,2,FALSE())","v":"M"}]
["2811892","Sinovas Mate, Carmen","Madrileña","D",{"$f":"VLOOKUP(G1288,Referencias!$C$4:$D$21,2,FALSE())","v":"Sin Categoría"},{"$f":"VLOOKUP(G1288,Referencias!$C$4:$E$21,3,FALSE())","v":4},"SC","Competición",{"$f":"VLOOKUP(C1288,Referencias!$B$24:$C$40,2,FALSE())","v":"M"}]
["2811893","Flórez , María Eugenia","Madrileña","D",{"$f":"VLOOKUP(G1289,Referencias!$C$4:$D$21,2,FALSE())","v":"Tercera Picas"},{"$f":"VLOOKUP(G1289,Referencias!$C$4:$E$21,3,FALSE())","v":3},"3P","Competición",{"$f":"VLOOKUP(C1289,Referencias!$B$24:$C$40,2,FALSE())","v":"M"}]
["2811894","Sendagorta , Luz","Madrileña","D",{"$f":"VLOOKUP(G1290,Referencias!$C$4:$D$21,2,FALSE())","v":"Segunda Picas"},{"$f":"VLOOKUP(G1290,Referencias!$C$4:$E$21,3,FALSE())","v":2},"2P","Competición",{"$f":"VLOOKUP(C1290,Referencias!$B$24:$C$40,2,FALSE())","v":"M"}]
["2811901","Vargas Román, María Dolores","Madrileña","D",{"$f":"VLOOKUP(G1291,Referencias!$C$4:$D$21,2,FALSE())","v":"Segunda Picas"},{"$f":"VLOOKUP(G1291,Referencias!$C$4:$E$21,3,FALSE())","v":2},"2P","Competición",{"$f":"VLOOKUP(C1291,Referencias!$B$24:$C$40,2,FALSE())","v":"M"}]
["2811902","Castillo Sales, Milagros","Madrileña","D",{"$f":"VLOOKUP(G1292,Referencias!$C$4:$D$21,2,FALSE())","v":"Tercera Picas"},{"$f":"VLOOKUP(G1292,Referencias!$C$4:$E$21,3,FALSE())","v":3},"3P","Competición",{"$f":"VLOOKUP(C1292,Referencias!$B$24:$C$40,2,FALSE())","v":"M"}]
["2811906","de Leiva Rodríguez-Valdés, Cristina","Madrileña","D",{"$f":"VLOOKUP(G1293,Referencias!$C$4:$D$21,2,FALSE())","v":"Maestro Nacional Damas"},{"$f":"VLOOKUP(G1293,Referencias!$C$4:$E$21,3,FALSE())","v":0},"MN-D","Competición",{"$f":"VLOOKUP(C1293,Referencias!$B$24:$C$40,2,FALSE())","v":"M"}]
["2811909","de Lorenzo, Juan Manuel","Madrileña","C",{"$f":"VLOOKUP(G1294,Referencias!$C$4:$D$21,2,FALSE())","v":"Primera Picas"},{"$f":"VLOOKUP(G1294,Referencias!$C$4:$E$21,3,FALSE())","v":1},"1P","Competición",{"$f":"VLOOKUP(C1294,Referencias!$B$24:$C$40,2,FALSE())","v":"M"}]
["2811910","Wasik , Artur","Madrileña","C",{"$f":"VLOOKUP(G1295,Referencias!$C$4:$D$21,2,FALSE())","v":"Maestro Mundial Open"},{"$f":"VLOOKUP(G1295,Referencias!$C$4:$E$21,3,FALSE())","v":0},"MM-O","Competición",{"$f":"VLOOKUP(C1295,Referencias!$B$24:$C$40,2,FALSE())","v":"M"}]
["2811911","Knap , Andrzej","Madrileña","C",{"$f":"VLOOKUP(G1296,Referencias!$C$4:$D$21,2,FALSE())","v":"Maestro Mundial Open"},{"$f":"VLOOKUP(G1296,Referencias!$C$4:$E$21,3,FALSE())","v":0},"MM-O","Competición",{"$f":"VLOOKUP(C1296,Referencias!$B$24:$C$40,2,FALSE())","v":"M"}]
["2811915","Jaureguízar Francés, Antonio","Madrileña","C",{"$f":"VLOOKUP(G1297,Referencias!$C$4:$D$21,2,FALSE())","v":"Tercera Picas"},{"$f":"VLOOKUP(G1297,Referencias!$C$4:$E$21,3,FALSE())","v":3},"3P","Competición",{"$f":"VLOOKUP(C1297,Referencias!$B$24:$C$40,2,FALSE())","v":"M"}]
["2811942","González Urtiaga, Julia","Madrileña","D",{"$f":"VLOOKUP(G1298,Referencias!$C$4:$D$21,2,FALSE())","v":"Tercera Diamante"},{"$f":"VLOOKUP(G1298,Referencias!$C$4:$E$21,3,FALSE())","v":3},"3D","Honorífica",{"$f":"VLOOKUP(C1298,Referencias!$B$24:$C$40,2,FALSE())","v":"M"}]
["2811944","Sáenz Sáez, José Felipe","Madrileña","C",{"$f":"VLOOKUP(G1299,Referencias!$C$4:$D$21,2,FALSE())","v":"Primera Diamante"},{"$f":"VLOOKUP(G1299,Referencias!$C$4:$E$21,3,FALSE())","v":1},"1D","Competición",{"$f":"VLOOKUP(C1299,Referencias!$B$24:$C$40,2,FALSE())","v":"M"}]
["2811957","Velasco Peña, Ana María","Madrileña","D",{"$f":"VLOOKUP(G1300,Referencias!$C$4:$D$21,2,FALSE())","v":"Maestro Nacional Open"},{"$f":"VLOOKUP(G1300,Referencias!$C$4:$E$21,3,FALSE())","v":0},"MN-O","Competición",{"$f":"VLOOKUP(C1300,Referencias!$B$24:$C$40,2,FALSE())","v":"M"}]
["2811959","Erhardt Alzaga, Sol","Madrileña","D",{"$f":"VLOOKUP(G1301,Referencias!$C$4:$D$21,2,FALSE())","v":"Sin Categoría"},{"$f":"VLOOKUP(G1301,Referencias!$C$4:$E$21,3,FALSE())","v":4},"SC","Competición",{"$f":"VLOOKUP(C1301,Referencias!$B$24:$C$40,2,FALSE())","v":"M"}]
["2811964","Esparza , Mercedes","Madrileña","D",{"$f":"VLOOKUP(G1302,Referencias!$C$4:$D$21,2,FALSE())","v":"Segunda Picas"},{"$f":"VLOOKUP(G1302,Referencias!$C$4:$E$21,3,FALSE())","v":2},"2P","Competición",{"$f":"VLOOKUP(C1302,Referencias!$B$24:$C$40,2,FALSE())","v":"M"}]
["2811965","Cartassac , María Luisa","Madrileña","D",{"$f":"VLOOKUP(G1303,Referencias!$C$4:$D$21,2,FALSE())","v":"Sin Categoría"},{"$f":"VLOOKUP(G1303,Referencias!$C$4:$E$21,3,FALSE())","v":4},"SC","Competición",{"$f":"VLOOKUP(C1303,Referencias!$B$24:$C$40,2,FALSE())","v":"M"}]
["2811967","Castellanos Borrego, Silvia","Madrileña","D",{"$f":"VLOOKUP(G1304,Referencias!$C$4:$D$21,2,FALSE())","v":"Primera Diamante"},{"$f":"VLOOKUP(G1304,Referencias!$C$4:$E$21,3,FALSE())","v":1},"1D","Competición",{"$f":"VLOOKUP(C1304,Referencias!$B$24:$C$40,2,FALSE())","v":"M"}]
["2811970","Valdivieso Martínez, Alejandro","Madrileña","C",{"$f":"VLOOKUP(G1305,Referencias!$C$4:$D$21,2,FALSE())","v":"Tercera Picas"},{"$f":"VLOOKUP(G1305,Referencias!$C$4:$E$21,3,FALSE())","v":3},"3P","Competición",{"$f":"VLOOKUP(C1305,Referencias!$B$24:$C$40,2,FALSE())","v":"M"}]
["2811972","Ariño Oporto, Julia","Madrileña","D",{"$f":"VLOOKUP(G1306,Referencias!$C$4:$D$21,2,FALSE())","v":"Segunda Corazón"},{"$f":"VLOOKUP(G1306,Referencias!$C$4:$E$21,3,FALSE())","v":2},"2C","Competición",{"$f":"VLOOKUP(C1306,Referencias!$B$24:$C$40,2,FALSE())","v":"M"}]
["2811988","Entero Wandossell, Isabel","Madrileña","D",{"$f":"VLOOKUP(G1307,Referencias!$C$4:$D$21,2,FALSE())","v":"Sin Categoría"},{"$f":"VLOOKUP(G1307,Referencias!$C$4:$E$21,3,FALSE())","v":4},"SC","Competición",{"$f":"VLOOKUP(C1307,Referencias!$B$24:$C$40,2,FALSE())","v":"M"}]
["2811993","Ochoa de Ocáriz Herrero, María Luisa","Madrileña","D",{"$f":"VLOOKUP(G1308,Referencias!$C$4:$D$21,2,FALSE())","v":"Tercera Diamante"},{"$f":"VLOOKUP(G1308,Referencias!$C$4:$E$21,3,FALSE())","v":3},"3D","Honorífica",{"$f":"VLOOKUP(C1308,Referencias!$B$24:$C$40,2,FALSE())","v":"M"}]
["2811995","Santos Bergua, María Ángeles","Madrileña","D",{"$f":"VLOOKUP(G1309,Referencias!$C$4:$D$21,2,FALSE())","v":"Segunda Diamante"},{"$f":"VLOOKUP(G1309,Referencias!$C$4:$E$21,3,FALSE())","v":2},"2D","Competición",{"$f":"VLOOKUP(C1309,Referencias!$B$24:$C$40,2,FALSE())","v":"M"}]
["2811996","Riestra Pardo, Javier","Madrileña","C",{"$f":"VLOOKUP(G1310,Referencias!$C$4:$D$21,2,FALSE())","v":"Segunda Diamante"},{"$f":"VLOOKUP(G1310,Referencias!$C$4:$E$21,3,FALSE())","v":2},"2D","Competición",{"$f":"VLOOKUP(C1310,Referencias!$B$24:$C$40,2,FALSE())","v":"M"}]
["2812008","Rifé Bertrán, María Luisa","Madrileña","D",{"$f":"VLOOKUP(G1311,Referencias!$C$4:$D$21,2,FALSE())","v":"Tercera Diamante"},{"$f":"VLOOKUP(G1311,Referencias!$C$4:$E$21,3,FALSE())","v":3},"3D","Competición",{"$f":"VLOOKUP(C1311,Referencias!$B$24:$C$40,2,FALSE())","v":"M"}]
["2812014","del Hierro Mutiozábal, Concepción","Madrileña","D",{"$f":"VLOOKUP(G1312,Referencias!$C$4:$D$21,2,FALSE())","v":"Segunda Diamante"},{"$f":"VLOOKUP(G1312,Referencias!$C$4:$E$21,3,FALSE())","v":2},"2D","Competición",{"$f":"VLOOKUP(C1312,Referencias!$B$24:$C$40,2,FALSE())","v":"M"}]
["2812015","Padial Aguirre, Enrique","Madrileña","C",{"$f":"VLOOKUP(G1313,Referencias!$C$4:$D$21,2,FALSE())","v":"Segunda Diamante"},{"$f":"VLOOKUP(G1313,Referencias!$C$4:$E$21,3,FALSE())","v":2},"2D","Competición",{"$f":"VLOOKUP(C1313,Referencias!$B$24:$C$40,2,FALSE())","v":"M"}]
["2812017","Martín Álvaro-Gracia, Paloma","Madrileña","D",{"$f":"VLOOKUP(G1314,Referencias!$C$4:$D$21,2,FALSE())","v":"Primera Picas"},{"$f":"VLOOKUP(G1314,Referencias!$C$4:$E$21,3,FALSE())","v":1},"1P","Competición",{"$f":"VLOOKUP(C1314,Referencias!$B$24:$C$40,2,FALSE())","v":"M"}]
["2812025","Moreno Mendoza, Fernando","Madrileña","C",{"$f":"VLOOKUP(G1315,Referencias!$C$4:$D$21,2,FALSE())","v":"Sin Categoría"},{"$f":"VLOOKUP(G1315,Referencias!$C$4:$E$21,3,FALSE())","v":4},"SC","Competición",{"$f":"VLOOKUP(C1315,Referencias!$B$24:$C$40,2,FALSE())","v":"M"}]
["2812026","Leva Ríos, Ana","Madrileña","D",{"$f":"VLOOKUP(G1316,Referencias!$C$4:$D$21,2,FALSE())","v":"Tercera Corazón"},{"$f":"VLOOKUP(G1316,Referencias!$C$4:$E$21,3,FALSE())","v":3},"3C","Competición",{"$f":"VLOOKUP(C1316,Referencias!$B$24:$C$40,2,FALSE())","v":"M"}]
["2812028","Armijo Navarro-Reverter, Dolores","Madrileña","D",{"$f":"VLOOKUP(G1317,Referencias!$C$4:$D$21,2,FALSE())","v":"Primera Picas"},{"$f":"VLOOKUP(G1317,Referencias!$C$4:$E$21,3,FALSE())","v":1},"1P","Competición",{"$f":"VLOOKUP(C1317,Referencias!$B$24:$C$40,2,FALSE())","v":"M"}]
["2812029","Ojeda Targioni, Patricia","Madrileña","D",{"$f":"VLOOKUP(G1318,Referencias!$C$4:$D$21,2,FALSE())","v":"Segunda Corazón"},{"$f":"VLOOKUP(G1318,Referencias!$C$4:$E$21,3,FALSE())","v":2},"2C","Competición",{"$f":"VLOOKUP(C1318,Referencias!$B$24:$C$40,2,FALSE())","v":"M"}]
["2812030","Enríquez Ortega, Javier","Madrileña","C",{"$f":"VLOOKUP(G1319,Referencias!$C$4:$D$21,2,FALSE())","v":"Sin Categoría"},{"$f":"VLOOKUP(G1319,Referencias!$C$4:$E$21,3,FALSE())","v":4},"SC","Competición",{"$f":"VLOOKUP(C1319,Referencias!$B$24:$C$40,2,FALSE())","v":"M"}]
["2812031","Alija López, María Trinidad","Madrileña","D",{"$f":"VLOOKUP(G1320,Referencias!$C$4:$D$21,2,FALSE())","v":"Primera Picas"},{"$f":"VLOOKUP(G1320,Referencias!$C$4:$E$21,3,FALSE())","v":1},"1P","Competición",{"$f":"VLOOKUP(C1320,Referencias!$B$24:$C$40,2,FALSE())","v":"M"}]
["2812032","Sánchez Gil, Evencio","Madrileña","C",{"$f":"VLOOKUP(G1321,Referencias!$C$4:$D$21,2,FALSE())","v":"Primera Picas"},{"$f":"VLOOKUP(G1321,Referencias!$C$4:$E$21,3,FALSE())","v":1},"1P","Competición",{"$f":"VLOOKUP(C1321,Referencias!$B$24:$C$40,2,FALSE())","v":"M"}]
["2812033","Arangüena Docet, Rosa","Madrileña","D",{"$f":"VLOOKUP(G1322,Referencias!$C$4:$D$21,2,FALSE())","v":"Sin Categoría"},{"$f":"VLOOKUP(G1322,Referencias!$C$4:$E$21,3,FALSE())","v":4},"SC","Competición",{"$f":"VLOOKUP(C1322,Referencias!$B$24:$C$40,2,FALSE())","v":"M"}]
["2812041","Kindelán Segura, Manuel","Madrileña","C",{"$f":"VLOOKUP(G1323,Referencias!$C$4:$D$21,2,FALSE())","v":"Segunda Picas"},{"$f":"VLOOKUP(G1323,Referencias!$C$4:$E$21,3,FALSE())","v":2},"2P","Competición",{"$f":"VLOOKUP(C1323,Referencias!$B$24:$C$40,2,FALSE())","v":"M"}]
["2812042","Vázquez Pimentel, Isabel","Madrileña","D",{"$f":"VLOOKUP(G1324,Referencias!$C$4:$D$21,2,FALSE())","v":"Primera Picas"},{"$f":"VLOOKUP(G1324,Referencias!$C$4:$E$21,3,FALSE())","v":1},"1P","Competición",{"$f":"VLOOKUP(C1324,Referencias!$B$24:$C$40,2,FALSE())","v":"M"}]
["2812051","Panadero Martín, María Fernanda","Madrileña","D",{"$f":"VLOOKUP(G1325,Referencias!$C$4:$D$21,2,FALSE())","v":"Maestro Mundial Damas"},{"$f":"VLOOKUP(G1325,Referencias!$C$4:$E$21,3,FALSE())","v":0},"MM-D","Competición",{"$f":"VLOOKUP(C1325,Referencias!$B$24:$C$40,2,FALSE())","v":"M"}]
["2812067","Bueno Valverde, León","Madrileña","C",{"$f":"VLOOKUP(G1326,Referencias!$C$4:$D$21,2,FALSE())","v":"Sin Categoría"},{"$f":"VLOOKUP(G1326,Referencias!$C$4:$E$21,3,FALSE())","v":4},"SC","Competición",{"$f":"VLOOKUP(C1326,Referencias!$B$24:$C$40,2,FALSE())","v":"M"}]
["2812075","de Juanes Lago, Ángela","Madrileña","D",{"$f":"VLOOKUP(G1327,Referencias!$C$4:$D$21,2,FALSE())","v":"Sin Categoría"},{"$f":"VLOOKUP(G1327,Referencias!$C$4:$E$21,3,FALSE())","v":4},"SC","Competición",{"$f":"VLOOKUP(C1327,Referencias!$B$24:$C$40,2,FALSE())","v":"M"}]
["2812081","Mediero Hernández, Marina","Madrileña","D",{"$f":"VLOOKUP(G1328,Referencias!$C$4:$D$21,2,FALSE())","v":"Primera Picas"},{"$f":"VLOOKUP(G1328,Referencias!$C$4:$E$21,3,FALSE())","v":1},"1P","Competición",{"$f":"VLOOKUP(C1328,Referencias!$B$24:$C$40,2,FALSE())","v":"M"}]
["2812083","Sevillano López, María Ángeles","Madrileña","D",{"$f":"VLOOKUP(G1329,Referencias!$C$4:$D$21,2,FALSE())","v":"Primera Picas"},{"$f":"VLOOKUP(G1329,Referencias!$C$4:$E$21,3,FALSE())","v":1},"1P","Competición",{"$f":"VLOOKUP(C1329,Referencias!$B$24:$C$40,2,FALSE())","v":"M"}]
["2812087","Corral Salas, Fernando","Madrileña","C",{"$f":"VLOOKUP(G1330,Referencias!$C$4:$D$21,2,FALSE())","v":"Sin Categoría"},{"$f":"VLOOKUP(G1330,Referencias!$C$4:$E$21,3,FALSE())","v":4},"SC","Competición",{"$f":"VLOOKUP(C1330,Referencias!$B$24:$C$40,2,FALSE())","v":"M"}]
["2812094","Arteta Arana, Ramón","Madrileña","C",{"$f":"VLOOKUP(G1331,Referencias!$C$4:$D$21,2,FALSE())","v":"Primera Picas"},{"$f":"VLOOKUP(G1331,Referencias!$C$4:$E$21,3,FALSE())","v":1},"1P","Competición",{"$f":"VLOOKUP(C1331,Referencias!$B$24:$C$40,2,FALSE())","v":"M"}]
["2812095","Moragues Andreu, Juana","Madrileña","D",{"$f":"VLOOKUP(G1332,Referencias!$C$4:$D$21,2,FALSE())","v":"Primera Picas"},{"$f":"VLOOKUP(G1332,Referencias!$C$4:$E$21,3,FALSE())","v":1},"1P","Competición",{"$f":"VLOOKUP(C1332,Referencias!$B$24:$C$40,2,FALSE())","v":"M"}]
["2812097","Puyol Gómez, María Pilar","Madrileña","D",{"$f":"VLOOKUP(G1333,Referencias!$C$4:$D$21,2,FALSE())","v":"Segunda Diamante"},{"$f":"VLOOKUP(G1333,Referencias!$C$4:$E$21,3,FALSE())","v":2},"2D","Competición",{"$f":"VLOOKUP(C1333,Referencias!$B$24:$C$40,2,FALSE())","v":"M"}]
["2812106","Goicoechea Echaide, Rosario","Madrileña","D",{"$f":"VLOOKUP(G1334,Referencias!$C$4:$D$21,2,FALSE())","v":"Sin Categoría"},{"$f":"VLOOKUP(G1334,Referencias!$C$4:$E$21,3,FALSE())","v":4},"SC","Competición",{"$f":"VLOOKUP(C1334,Referencias!$B$24:$C$40,2,FALSE())","v":"M"}]
["2812108","Díaz Grande, Javier","Madrileña","C",{"$f":"VLOOKUP(G1335,Referencias!$C$4:$D$21,2,FALSE())","v":"Primera Picas"},{"$f":"VLOOKUP(G1335,Referencias!$C$4:$E$21,3,FALSE())","v":1},"1P","Competición",{"$f":"VLOOKUP(C1335,Referencias!$B$24:$C$40,2,FALSE())","v":"M"}]
["2812116","Osborne Sanz-Magallón, Cristina","Madrileña","D",{"$f":"VLOOKUP(G1336,Referencias!$C$4:$D$21,2,FALSE())","v":"Sin Categoría"},{"$f":"VLOOKUP(G1336,Referencias!$C$4:$E$21,3,FALSE())","v":4},"SC","Competición",{"$f":"VLOOKUP(C1336,Referencias!$B$24:$C$40,2,FALSE())","v":"M"}]
["2812117","Lerma Millan, Adela","Madrileña","D",{"$f":"VLOOKUP(G1337,Referencias!$C$4:$D$21,2,FALSE())","v":"Tercera Picas"},{"$f":"VLOOKUP(G1337,Referencias!$C$4:$E$21,3,FALSE())","v":3},"3P","Competición",{"$f":"VLOOKUP(C1337,Referencias!$B$24:$C$40,2,FALSE())","v":"M"}]
["2812124","Bolander Larsson, Bárbara","Madrileña","D",{"$f":"VLOOKUP(G1338,Referencias!$C$4:$D$21,2,FALSE())","v":"Sin Categoría"},{"$f":"VLOOKUP(G1338,Referencias!$C$4:$E$21,3,FALSE())","v":4},"SC","Competición",{"$f":"VLOOKUP(C1338,Referencias!$B$24:$C$40,2,FALSE())","v":"M"}]
["2812134","Gómez de Gracia, María Amelia","Madrileña","D",{"$f":"VLOOKUP(G1339,Referencias!$C$4:$D$21,2,FALSE())","v":"Tercera Diamante"},{"$f":"VLOOKUP(G1339,Referencias!$C$4:$E$21,3,FALSE())","v":3},"3D","Competición",{"$f":"VLOOKUP(C1339,Referencias!$B$24:$C$40,2,FALSE())","v":"M"}]
["2812136","Kessous Benzaquen, Raquel","Madrileña","D",{"$f":"VLOOKUP(G1340,Referencias!$C$4:$D$21,2,FALSE())","v":"Segunda Diamante"},{"$f":"VLOOKUP(G1340,Referencias!$C$4:$E$21,3,FALSE())","v":2},"2D","Competición",{"$f":"VLOOKUP(C1340,Referencias!$B$24:$C$40,2,FALSE())","v":"M"}]
["2812139","García Ibarrola, Mercedes","Madrileña","D",{"$f":"VLOOKUP(G1341,Referencias!$C$4:$D$21,2,FALSE())","v":"Primera Picas"},{"$f":"VLOOKUP(G1341,Referencias!$C$4:$E$21,3,FALSE())","v":1},"1P","Competición",{"$f":"VLOOKUP(C1341,Referencias!$B$24:$C$40,2,FALSE())","v":"M"}]
["2812141","Barañano Fernández, Ana María","Madrileña","D",{"$f":"VLOOKUP(G1342,Referencias!$C$4:$D$21,2,FALSE())","v":"Segunda Corazón"},{"$f":"VLOOKUP(G1342,Referencias!$C$4:$E$21,3,FALSE())","v":2},"2C","Competición",{"$f":"VLOOKUP(C1342,Referencias!$B$24:$C$40,2,FALSE())","v":"M"}]
["2812148","Antón Nebreda, Luis","Madrileña","C",{"$f":"VLOOKUP(G1343,Referencias!$C$4:$D$21,2,FALSE())","v":"Tercera Diamante"},{"$f":"VLOOKUP(G1343,Referencias!$C$4:$E$21,3,FALSE())","v":3},"3D","Competición",{"$f":"VLOOKUP(C1343,Referencias!$B$24:$C$40,2,FALSE())","v":"M"}]
["2812149","Goded Nadal, María del Pilar","Madrileña","D",{"$f":"VLOOKUP(G1344,Referencias!$C$4:$D$21,2,FALSE())","v":"Sin Categoría"},{"$f":"VLOOKUP(G1344,Referencias!$C$4:$E$21,3,FALSE())","v":4},"SC","Competición",{"$f":"VLOOKUP(C1344,Referencias!$B$24:$C$40,2,FALSE())","v":"M"}]
["2812157","Tavares Mesquita, María Fernanda","Madrileña","D",{"$f":"VLOOKUP(G1345,Referencias!$C$4:$D$21,2,FALSE())","v":"Sin Categoría"},{"$f":"VLOOKUP(G1345,Referencias!$C$4:$E$21,3,FALSE())","v":4},"SC","Competición",{"$f":"VLOOKUP(C1345,Referencias!$B$24:$C$40,2,FALSE())","v":"M"}]
["2812161","Ruíz Oriol, David","Madrileña","C",{"$f":"VLOOKUP(G1346,Referencias!$C$4:$D$21,2,FALSE())","v":"Primera Picas"},{"$f":"VLOOKUP(G1346,Referencias!$C$4:$E$21,3,FALSE())","v":1},"1P","Competición",{"$f":"VLOOKUP(C1346,Referencias!$B$24:$C$40,2,FALSE())","v":"M"}]
["2812162","Sanfrutos Cañizares, Marta","Madrileña","D",{"$f":"VLOOKUP(G1347,Referencias!$C$4:$D$21,2,FALSE())","v":"Sin Categoría"},{"$f":"VLOOKUP(G1347,Referencias!$C$4:$E$21,3,FALSE())","v":4},"SC","Competición",{"$f":"VLOOKUP(C1347,Referencias!$B$24:$C$40,2,FALSE())","v":"M"}]
["2812164","Sanz Pérez, Rosa","Madrileña","D",{"$f":"VLOOKUP(G1348,Referencias!$C$4:$D$21,2,FALSE())","v":"Primera Picas"},{"$f":"VLOOKUP(G1348,Referencias!$C$4:$E$21,3,FALSE())","v":1},"1P","Competición",{"$f":"VLOOKUP(C1348,Referencias!$B$24:$C$40,2,FALSE())","v":"M"}]
["2812172","Mansilla Ruiz, Ana María","Madrileña","D",{"$f":"VLOOKUP(G1349,Referencias!$C$4:$D$21,2,FALSE())","v":"Primera Picas"},{"$f":"VLOOKUP(G1349,Referencias!$C$4:$E$21,3,FALSE())","v":1},"1P","Competición",{"$f":"VLOOKUP(C1349,Referencias!$B$24:$C$40,2,FALSE())","v":"M"}]
["2812175","García Helfenberger, Dora","Madrileña","D",{"$f":"VLOOKUP(G1350,Referencias!$C$4:$D$21,2,FALSE())","v":"Tercera Diamante"},{"$f":"VLOOKUP(G1350,Referencias!$C$4:$E$21,3,FALSE())","v":3},"3D","Competición",{"$f":"VLOOKUP(C1350,Referencias!$B$24:$C$40,2,FALSE())","v":"M"}]
["2812178","Gerez Pascual, Paloma","Madrileña","D",{"$f":"VLOOKUP(G1351,Referencias!$C$4:$D$21,2,FALSE())","v":"Tercera Corazón"},{"$f":"VLOOKUP(G1351,Referencias!$C$4:$E$21,3,FALSE())","v":3},"3C","Competición",{"$f":"VLOOKUP(C1351,Referencias!$B$24:$C$40,2,FALSE())","v":"M"}]
["2812179","González De Las Heras, Carmen","Madrileña","D",{"$f":"VLOOKUP(G1352,Referencias!$C$4:$D$21,2,FALSE())","v":"Tercera Picas"},{"$f":"VLOOKUP(G1352,Referencias!$C$4:$E$21,3,FALSE())","v":3},"3P","Competición",{"$f":"VLOOKUP(C1352,Referencias!$B$24:$C$40,2,FALSE())","v":"M"}]
["2812182","Quintián , Eva","Madrileña","D",{"$f":"VLOOKUP(G1353,Referencias!$C$4:$D$21,2,FALSE())","v":"Tercera Diamante"},{"$f":"VLOOKUP(G1353,Referencias!$C$4:$E$21,3,FALSE())","v":3},"3D","Competición",{"$f":"VLOOKUP(C1353,Referencias!$B$24:$C$40,2,FALSE())","v":"M"}]
["2812186","Sandoval Renshaw, Esperanza","Madrileña","D",{"$f":"VLOOKUP(G1354,Referencias!$C$4:$D$21,2,FALSE())","v":"Segunda Corazón"},{"$f":"VLOOKUP(G1354,Referencias!$C$4:$E$21,3,FALSE())","v":2},"2C","Competición",{"$f":"VLOOKUP(C1354,Referencias!$B$24:$C$40,2,FALSE())","v":"M"}]
["2812196","Castillo Vega, Tamy","Madrileña","D",{"$f":"VLOOKUP(G1355,Referencias!$C$4:$D$21,2,FALSE())","v":"Sin Categoría"},{"$f":"VLOOKUP(G1355,Referencias!$C$4:$E$21,3,FALSE())","v":4},"SC","Competición",{"$f":"VLOOKUP(C1355,Referencias!$B$24:$C$40,2,FALSE())","v":"M"}]
["2812203","Hernández Font, Rafaela","Madrileña","D",{"$f":"VLOOKUP(G1356,Referencias!$C$4:$D$21,2,FALSE())","v":"Segunda Diamante"},{"$f":"VLOOKUP(G1356,Referencias!$C$4:$E$21,3,FALSE())","v":2},"2D","Competición",{"$f":"VLOOKUP(C1356,Referencias!$B$24:$C$40,2,FALSE())","v":"M"}]
["2812205","de los Trujillos , Marqués","Madrileña","C",{"$f":"VLOOKUP(G1357,Referencias!$C$4:$D$21,2,FALSE())","v":"Segunda Picas"},{"$f":"VLOOKUP(G1357,Referencias!$C$4:$E$21,3,FALSE())","v":2},"2P","Competición",{"$f":"VLOOKUP(C1357,Referencias!$B$24:$C$40,2,FALSE())","v":"M"}]
["2812207","de la Rocha Eizmendi, María Piedad","Madrileña","D",{"$f":"VLOOKUP(G1358,Referencias!$C$4:$D$21,2,FALSE())","v":"Primera Corazón"},{"$f":"VLOOKUP(G1358,Referencias!$C$4:$E$21,3,FALSE())","v":1},"1C","Competición",{"$f":"VLOOKUP(C1358,Referencias!$B$24:$C$40,2,FALSE())","v":"M"}]
["2812214","de Castel Blanco , Conde","Gallega","C",{"$f":"VLOOKUP(G1359,Referencias!$C$4:$D$21,2,FALSE())","v":"Primera Picas"},{"$f":"VLOOKUP(G1359,Referencias!$C$4:$E$21,3,FALSE())","v":1},"1P","Competición",{"$f":"VLOOKUP(C1359,Referencias!$B$24:$C$40,2,FALSE())","v":"G"}]
["2812216","Chicharro de Clairac Ortega, Jaime","Madrileña","C",{"$f":"VLOOKUP(G1360,Referencias!$C$4:$D$21,2,FALSE())","v":"Segunda Corazón"},{"$f":"VLOOKUP(G1360,Referencias!$C$4:$E$21,3,FALSE())","v":2},"2C","Competición",{"$f":"VLOOKUP(C1360,Referencias!$B$24:$C$40,2,FALSE())","v":"M"}]
["2812217","Marcos Ballester, María José","Madrileña","D",{"$f":"VLOOKUP(G1361,Referencias!$C$4:$D$21,2,FALSE())","v":"Sin Categoría"},{"$f":"VLOOKUP(G1361,Referencias!$C$4:$E$21,3,FALSE())","v":4},"SC","Competición",{"$f":"VLOOKUP(C1361,Referencias!$B$24:$C$40,2,FALSE())","v":"M"}]
["2812218","Garrido Martín, José Manuel","Madrileña","C",{"$f":"VLOOKUP(G1362,Referencias!$C$4:$D$21,2,FALSE())","v":"Sin Categoría"},{"$f":"VLOOKUP(G1362,Referencias!$C$4:$E$21,3,FALSE())","v":4},"SC","Competición",{"$f":"VLOOKUP(C1362,Referencias!$B$24:$C$40,2,FALSE())","v":"M"}]
["2812219","González Felgueroso, Mª Sol","Madrileña","D",{"$f":"VLOOKUP(G1363,Referencias!$C$4:$D$21,2,FALSE())","v":"Sin Categoría"},{"$f":"VLOOKUP(G1363,Referencias!$C$4:$E$21,3,FALSE())","v":4},"SC","Competición",{"$f":"VLOOKUP(C1363,Referencias!$B$24:$C$40,2,FALSE())","v":"M"}]
["2812220","Sánchez Gómez, Marianela","Madrileña","D",{"$f":"VLOOKUP(G1364,Referencias!$C$4:$D$21,2,FALSE())","v":"Primera Diamante"},{"$f":"VLOOKUP(G1364,Referencias!$C$4:$E$21,3,FALSE())","v":1},"1D","Competición",{"$f":"VLOOKUP(C1364,Referencias!$B$24:$C$40,2,FALSE())","v":"M"}]
["2812221","Ramírez López-Terradas, Cristina","Madrileña","D",{"$f":"VLOOKUP(G1365,Referencias!$C$4:$D$21,2,FALSE())","v":"Primera Corazón"},{"$f":"VLOOKUP(G1365,Referencias!$C$4:$E$21,3,FALSE())","v":1},"1C","Competición",{"$f":"VLOOKUP(C1365,Referencias!$B$24:$C$40,2,FALSE())","v":"M"}]
["2812223","Raichs Balet, Manuel Cayetano","Madrileña","C",{"$f":"VLOOKUP(G1366,Referencias!$C$4:$D$21,2,FALSE())","v":"Sin Categoría"},{"$f":"VLOOKUP(G1366,Referencias!$C$4:$E$21,3,FALSE())","v":4},"SC","Competición",{"$f":"VLOOKUP(C1366,Referencias!$B$24:$C$40,2,FALSE())","v":"M"}]
["2812224","Fernández Menéndez, Margarita","Asturiana","D",{"$f":"VLOOKUP(G1367,Referencias!$C$4:$D$21,2,FALSE())","v":"Maestro Nacional Damas"},{"$f":"VLOOKUP(G1367,Referencias!$C$4:$E$21,3,FALSE())","v":0},"MN-D","Competición",{"$f":"VLOOKUP(C1367,Referencias!$B$24:$C$40,2,FALSE())","v":"PA"}]
["2812228","de Unzá del Valle , Marquesa","Madrileña","D",{"$f":"VLOOKUP(G1368,Referencias!$C$4:$D$21,2,FALSE())","v":"Tercera Corazón"},{"$f":"VLOOKUP(G1368,Referencias!$C$4:$E$21,3,FALSE())","v":3},"3C","Competición",{"$f":"VLOOKUP(C1368,Referencias!$B$24:$C$40,2,FALSE())","v":"M"}]
["2812229","Ausocua Sanz, Ana","Madrileña","D",{"$f":"VLOOKUP(G1369,Referencias!$C$4:$D$21,2,FALSE())","v":"Tercera Picas"},{"$f":"VLOOKUP(G1369,Referencias!$C$4:$E$21,3,FALSE())","v":3},"3P","Competición",{"$f":"VLOOKUP(C1369,Referencias!$B$24:$C$40,2,FALSE())","v":"M"}]
["2812236","Muguerza Balesta, Marcela","Madrileña","D",{"$f":"VLOOKUP(G1370,Referencias!$C$4:$D$21,2,FALSE())","v":"Segunda Diamante"},{"$f":"VLOOKUP(G1370,Referencias!$C$4:$E$21,3,FALSE())","v":2},"2D","Competición",{"$f":"VLOOKUP(C1370,Referencias!$B$24:$C$40,2,FALSE())","v":"M"}]
["2812238","López-Chicheri Sáinz, Dolores","Madrileña","D",{"$f":"VLOOKUP(G1371,Referencias!$C$4:$D$21,2,FALSE())","v":"Tercera Diamante"},{"$f":"VLOOKUP(G1371,Referencias!$C$4:$E$21,3,FALSE())","v":3},"3D","Competición",{"$f":"VLOOKUP(C1371,Referencias!$B$24:$C$40,2,FALSE())","v":"M"}]
["2812239","Goyoaga Travesedo, Ana","Madrileña","D",{"$f":"VLOOKUP(G1372,Referencias!$C$4:$D$21,2,FALSE())","v":"Tercera Picas"},{"$f":"VLOOKUP(G1372,Referencias!$C$4:$E$21,3,FALSE())","v":3},"3P","Competición",{"$f":"VLOOKUP(C1372,Referencias!$B$24:$C$40,2,FALSE())","v":"M"}]
["2812246","González Domínguez, Pilar","Madrileña","D",{"$f":"VLOOKUP(G1373,Referencias!$C$4:$D$21,2,FALSE())","v":"Tercera Diamante"},{"$f":"VLOOKUP(G1373,Referencias!$C$4:$E$21,3,FALSE())","v":3},"3D","Competición",{"$f":"VLOOKUP(C1373,Referencias!$B$24:$C$40,2,FALSE())","v":"M"}]
["2812247","Galvache Corcuera, Concepción","Madrileña","D",{"$f":"VLOOKUP(G1374,Referencias!$C$4:$D$21,2,FALSE())","v":"Segunda Corazón"},{"$f":"VLOOKUP(G1374,Referencias!$C$4:$E$21,3,FALSE())","v":2},"2C","Competición",{"$f":"VLOOKUP(C1374,Referencias!$B$24:$C$40,2,FALSE())","v":"M"}]
["2812252","Gallego Salguero, Petra","Madrileña","D",{"$f":"VLOOKUP(G1375,Referencias!$C$4:$D$21,2,FALSE())","v":"Tercera Diamante"},{"$f":"VLOOKUP(G1375,Referencias!$C$4:$E$21,3,FALSE())","v":3},"3D","Competición",{"$f":"VLOOKUP(C1375,Referencias!$B$24:$C$40,2,FALSE())","v":"M"}]
["2812255","González Serrano, Primitivo","Madrileña","C",{"$f":"VLOOKUP(G1376,Referencias!$C$4:$D$21,2,FALSE())","v":"Primera Diamante"},{"$f":"VLOOKUP(G1376,Referencias!$C$4:$E$21,3,FALSE())","v":1},"1D","Competición",{"$f":"VLOOKUP(C1376,Referencias!$B$24:$C$40,2,FALSE())","v":"M"}]
["2812256","Varanda Muñoz, Alicia","Madrileña","D",{"$f":"VLOOKUP(G1377,Referencias!$C$4:$D$21,2,FALSE())","v":"Tercera Corazón"},{"$f":"VLOOKUP(G1377,Referencias!$C$4:$E$21,3,FALSE())","v":3},"3C","Competición",{"$f":"VLOOKUP(C1377,Referencias!$B$24:$C$40,2,FALSE())","v":"M"}]
["2812258","Gálvez Ruíz, Ascensión","Madrileña","D",{"$f":"VLOOKUP(G1378,Referencias!$C$4:$D$21,2,FALSE())","v":"Primera Corazón"},{"$f":"VLOOKUP(G1378,Referencias!$C$4:$E$21,3,FALSE())","v":1},"1C","Competición",{"$f":"VLOOKUP(C1378,Referencias!$B$24:$C$40,2,FALSE())","v":"M"}]
["2812261","Dietl Sagües, Marina","Madrileña","D",{"$f":"VLOOKUP(G1379,Referencias!$C$4:$D$21,2,FALSE())","v":"Tercera Corazón"},{"$f":"VLOOKUP(G1379,Referencias!$C$4:$E$21,3,FALSE())","v":3},"3C","Competición",{"$f":"VLOOKUP(C1379,Referencias!$B$24:$C$40,2,FALSE())","v":"M"}]
["2812262","Ferrández , Blanca","Madrileña","D",{"$f":"VLOOKUP(G1380,Referencias!$C$4:$D$21,2,FALSE())","v":"Sin Categoría"},{"$f":"VLOOKUP(G1380,Referencias!$C$4:$E$21,3,FALSE())","v":4},"SC","Competición",{"$f":"VLOOKUP(C1380,Referencias!$B$24:$C$40,2,FALSE())","v":"M"}]
["2812272","Lamo de Espinosa, María Luisa","Madrileña","D",{"$f":"VLOOKUP(G1381,Referencias!$C$4:$D$21,2,FALSE())","v":"Sin Categoría"},{"$f":"VLOOKUP(G1381,Referencias!$C$4:$E$21,3,FALSE())","v":4},"SC","Competición",{"$f":"VLOOKUP(C1381,Referencias!$B$24:$C$40,2,FALSE())","v":"M"}]
["2812273","González Cruz, María Teresa","Madrileña","D",{"$f":"VLOOKUP(G1382,Referencias!$C$4:$D$21,2,FALSE())","v":"Sin Categoría"},{"$f":"VLOOKUP(G1382,Referencias!$C$4:$E$21,3,FALSE())","v":4},"SC","Competición",{"$f":"VLOOKUP(C1382,Referencias!$B$24:$C$40,2,FALSE())","v":"M"}]
["2812277","Herrero García, Francisco Javier","Madrileña","C",{"$f":"VLOOKUP(G1383,Referencias!$C$4:$D$21,2,FALSE())","v":"Segunda Diamante"},{"$f":"VLOOKUP(G1383,Referencias!$C$4:$E$21,3,FALSE())","v":2},"2D","Competición",{"$f":"VLOOKUP(C1383,Referencias!$B$24:$C$40,2,FALSE())","v":"M"}]
["2812282","Sánchez Sicilia, María Carmen","Madrileña","D",{"$f":"VLOOKUP(G1384,Referencias!$C$4:$D$21,2,FALSE())","v":"Tercera Diamante"},{"$f":"VLOOKUP(G1384,Referencias!$C$4:$E$21,3,FALSE())","v":3},"3D","Competición",{"$f":"VLOOKUP(C1384,Referencias!$B$24:$C$40,2,FALSE())","v":"M"}]
["2812286","Navarro Suárez, María José","Madrileña","D",{"$f":"VLOOKUP(G1385,Referencias!$C$4:$D$21,2,FALSE())","v":"Sin Categoría"},{"$f":"VLOOKUP(G1385,Referencias!$C$4:$E$21,3,FALSE())","v":4},"SC","Competición",{"$f":"VLOOKUP(C1385,Referencias!$B$24:$C$40,2,FALSE())","v":"M"}]
["2812288","Mergelina Dessy, Eduarda","Madrileña","D",{"$f":"VLOOKUP(G1386,Referencias!$C$4:$D$21,2,FALSE())","v":"Sin Categoría"},{"$f":"VLOOKUP(G1386,Referencias!$C$4:$E$21,3,FALSE())","v":4},"SC","Competición",{"$f":"VLOOKUP(C1386,Referencias!$B$24:$C$40,2,FALSE())","v":"M"}]
["2812289","Martos Aguirre, Angustias","Madrileña","D",{"$f":"VLOOKUP(G1387,Referencias!$C$4:$D$21,2,FALSE())","v":"Sin Categoría"},{"$f":"VLOOKUP(G1387,Referencias!$C$4:$E$21,3,FALSE())","v":4},"SC","Competición",{"$f":"VLOOKUP(C1387,Referencias!$B$24:$C$40,2,FALSE())","v":"M"}]
["2812294","Munaiz Aparicio, Mercedes","Madrileña","D",{"$f":"VLOOKUP(G1388,Referencias!$C$4:$D$21,2,FALSE())","v":"Primera Diamante"},{"$f":"VLOOKUP(G1388,Referencias!$C$4:$E$21,3,FALSE())","v":1},"1D","Competición",{"$f":"VLOOKUP(C1388,Referencias!$B$24:$C$40,2,FALSE())","v":"M"}]
["2812295","Saldaña González, Carlos","Madrileña","C",{"$f":"VLOOKUP(G1389,Referencias!$C$4:$D$21,2,FALSE())","v":"Tercera Picas"},{"$f":"VLOOKUP(G1389,Referencias!$C$4:$E$21,3,FALSE())","v":3},"3P","Competición",{"$f":"VLOOKUP(C1389,Referencias!$B$24:$C$40,2,FALSE())","v":"M"}]
["2812298","Morenes Solís-Beaumont, Mercedes","Madrileña","D",{"$f":"VLOOKUP(G1390,Referencias!$C$4:$D$21,2,FALSE())","v":"Sin Categoría"},{"$f":"VLOOKUP(G1390,Referencias!$C$4:$E$21,3,FALSE())","v":4},"SC","Competición",{"$f":"VLOOKUP(C1390,Referencias!$B$24:$C$40,2,FALSE())","v":"M"}]
["2812299","Martín Cano, Juan","Madrileña","C",{"$f":"VLOOKUP(G1391,Referencias!$C$4:$D$21,2,FALSE())","v":"Primera Picas"},{"$f":"VLOOKUP(G1391,Referencias!$C$4:$E$21,3,FALSE())","v":1},"1P","Competición",{"$f":"VLOOKUP(C1391,Referencias!$B$24:$C$40,2,FALSE())","v":"M"}]
["2812300","Navarro Rodríguez, Patricia","Madrileña","D",{"$f":"VLOOKUP(G1392,Referencias!$C$4:$D$21,2,FALSE())","v":"Primera Picas"},{"$f":"VLOOKUP(G1392,Referencias!$C$4:$E$21,3,FALSE())","v":1},"1P","Competición",{"$f":"VLOOKUP(C1392,Referencias!$B$24:$C$40,2,FALSE())","v":"M"}]
["2812303","Cotoner Martos, Marta","Madrileña","D",{"$f":"VLOOKUP(G1393,Referencias!$C$4:$D$21,2,FALSE())","v":"Primera Corazón"},{"$f":"VLOOKUP(G1393,Referencias!$C$4:$E$21,3,FALSE())","v":1},"1C","Competición",{"$f":"VLOOKUP(C1393,Referencias!$B$24:$C$40,2,FALSE())","v":"M"}]
["2812309","Navia-Osorio , Javier","Madrileña","C",{"$f":"VLOOKUP(G1394,Referencias!$C$4:$D$21,2,FALSE())","v":"Sin Categoría"},{"$f":"VLOOKUP(G1394,Referencias!$C$4:$E$21,3,FALSE())","v":4},"SC","Competición",{"$f":"VLOOKUP(C1394,Referencias!$B$24:$C$40,2,FALSE())","v":"M"}]
["2812314","Macaya Torres-Solanot, Carmen","Madrileña","D",{"$f":"VLOOKUP(G1395,Referencias!$C$4:$D$21,2,FALSE())","v":"Sin Categoría"},{"$f":"VLOOKUP(G1395,Referencias!$C$4:$E$21,3,FALSE())","v":4},"SC","Competición",{"$f":"VLOOKUP(C1395,Referencias!$B$24:$C$40,2,FALSE())","v":"M"}]
["2812320","Cotoner Martos, María","Madrileña","D",{"$f":"VLOOKUP(G1396,Referencias!$C$4:$D$21,2,FALSE())","v":"Sin Categoría"},{"$f":"VLOOKUP(G1396,Referencias!$C$4:$E$21,3,FALSE())","v":4},"SC","Competición",{"$f":"VLOOKUP(C1396,Referencias!$B$24:$C$40,2,FALSE())","v":"M"}]
["2812321","Botín Gros, Mercedes","Madrileña","D",{"$f":"VLOOKUP(G1397,Referencias!$C$4:$D$21,2,FALSE())","v":"Sin Categoría"},{"$f":"VLOOKUP(G1397,Referencias!$C$4:$E$21,3,FALSE())","v":4},"SC","Competición",{"$f":"VLOOKUP(C1397,Referencias!$B$24:$C$40,2,FALSE())","v":"M"}]
["2812325","Barrio Monerrubio, María Luisa","Madrileña","D",{"$f":"VLOOKUP(G1398,Referencias!$C$4:$D$21,2,FALSE())","v":"Sin Categoría"},{"$f":"VLOOKUP(G1398,Referencias!$C$4:$E$21,3,FALSE())","v":4},"SC","Competición",{"$f":"VLOOKUP(C1398,Referencias!$B$24:$C$40,2,FALSE())","v":"M"}]
["2812326","Bayo , María Dolores","Madrileña","D",{"$f":"VLOOKUP(G1399,Referencias!$C$4:$D$21,2,FALSE())","v":"Sin Categoría"},{"$f":"VLOOKUP(G1399,Referencias!$C$4:$E$21,3,FALSE())","v":4},"SC","Competición",{"$f":"VLOOKUP(C1399,Referencias!$B$24:$C$40,2,FALSE())","v":"M"}]
["2812332","Lleó García, Josefina","Madrileña","D",{"$f":"VLOOKUP(G1400,Referencias!$C$4:$D$21,2,FALSE())","v":"Tercera Picas"},{"$f":"VLOOKUP(G1400,Referencias!$C$4:$E$21,3,FALSE())","v":3},"3P","Competición",{"$f":"VLOOKUP(C1400,Referencias!$B$24:$C$40,2,FALSE())","v":"M"}]
["2812335","López Goicoechea, Lourdes","Madrileña","D",{"$f":"VLOOKUP(G1401,Referencias!$C$4:$D$21,2,FALSE())","v":"Sin Categoría"},{"$f":"VLOOKUP(G1401,Referencias!$C$4:$E$21,3,FALSE())","v":4},"SC","Competición",{"$f":"VLOOKUP(C1401,Referencias!$B$24:$C$40,2,FALSE())","v":"M"}]
["2812339","Masaveu Álvarez, Santiago","Madrileña","C",{"$f":"VLOOKUP(G1402,Referencias!$C$4:$D$21,2,FALSE())","v":"Segunda Picas"},{"$f":"VLOOKUP(G1402,Referencias!$C$4:$E$21,3,FALSE())","v":2},"2P","Competición",{"$f":"VLOOKUP(C1402,Referencias!$B$24:$C$40,2,FALSE())","v":"M"}]
["2812340","Rodríguez Cortes, Amelia","Madrileña","D",{"$f":"VLOOKUP(G1403,Referencias!$C$4:$D$21,2,FALSE())","v":"Sin Categoría"},{"$f":"VLOOKUP(G1403,Referencias!$C$4:$E$21,3,FALSE())","v":4},"SC","Competición",{"$f":"VLOOKUP(C1403,Referencias!$B$24:$C$40,2,FALSE())","v":"M"}]
["2812344","Garay Despujol, Pilar","Madrileña","D",{"$f":"VLOOKUP(G1404,Referencias!$C$4:$D$21,2,FALSE())","v":"Tercera Corazón"},{"$f":"VLOOKUP(G1404,Referencias!$C$4:$E$21,3,FALSE())","v":3},"3C","Competición",{"$f":"VLOOKUP(C1404,Referencias!$B$24:$C$40,2,FALSE())","v":"M"}]
["2812355","de Torre Milanos, Marquesa","Madrileña","D",{"$f":"VLOOKUP(G1405,Referencias!$C$4:$D$21,2,FALSE())","v":"Primera Picas"},{"$f":"VLOOKUP(G1405,Referencias!$C$4:$E$21,3,FALSE())","v":1},"1P","Competición",{"$f":"VLOOKUP(C1405,Referencias!$B$24:$C$40,2,FALSE())","v":"M"}]
["2812359","Hernández Mercado, María Luisa","Madrileña","D",{"$f":"VLOOKUP(G1406,Referencias!$C$4:$D$21,2,FALSE())","v":"Sin Categoría"},{"$f":"VLOOKUP(G1406,Referencias!$C$4:$E$21,3,FALSE())","v":4},"SC","Competición",{"$f":"VLOOKUP(C1406,Referencias!$B$24:$C$40,2,FALSE())","v":"M"}]
["2812360","García Sánchez Grande, Rosario","Madrileña","D",{"$f":"VLOOKUP(G1407,Referencias!$C$4:$D$21,2,FALSE())","v":"Segunda Corazón"},{"$f":"VLOOKUP(G1407,Referencias!$C$4:$E$21,3,FALSE())","v":2},"2C","Competición",{"$f":"VLOOKUP(C1407,Referencias!$B$24:$C$40,2,FALSE())","v":"M"}]
["2812363","de la Chica Fleischer, Isabel","Madrileña","D",{"$f":"VLOOKUP(G1408,Referencias!$C$4:$D$21,2,FALSE())","v":"Tercera Diamante"},{"$f":"VLOOKUP(G1408,Referencias!$C$4:$E$21,3,FALSE())","v":3},"3D","Competición",{"$f":"VLOOKUP(C1408,Referencias!$B$24:$C$40,2,FALSE())","v":"M"}]
["2812366","Toro Arévalo, Gisela","Madrileña","D",{"$f":"VLOOKUP(G1409,Referencias!$C$4:$D$21,2,FALSE())","v":"Tercera Corazón"},{"$f":"VLOOKUP(G1409,Referencias!$C$4:$E$21,3,FALSE())","v":3},"3C","Competición",{"$f":"VLOOKUP(C1409,Referencias!$B$24:$C$40,2,FALSE())","v":"M"}]
["2812367","Bueso-Inchausti Inchausti, Alejandro","Madrileña","C",{"$f":"VLOOKUP(G1410,Referencias!$C$4:$D$21,2,FALSE())","v":"Primera Picas"},{"$f":"VLOOKUP(G1410,Referencias!$C$4:$E$21,3,FALSE())","v":1},"1P","Competición",{"$f":"VLOOKUP(C1410,Referencias!$B$24:$C$40,2,FALSE())","v":"M"}]
["2812370","Tamames , Saita","Madrileña","D",{"$f":"VLOOKUP(G1411,Referencias!$C$4:$D$21,2,FALSE())","v":"Sin Categoría"},{"$f":"VLOOKUP(G1411,Referencias!$C$4:$E$21,3,FALSE())","v":4},"SC","Competición",{"$f":"VLOOKUP(C1411,Referencias!$B$24:$C$40,2,FALSE())","v":"M"}]
["2812373","Salgado Villegas, María Dolores","Madrileña","D",{"$f":"VLOOKUP(G1412,Referencias!$C$4:$D$21,2,FALSE())","v":"Tercera Diamante"},{"$f":"VLOOKUP(G1412,Referencias!$C$4:$E$21,3,FALSE())","v":3},"3D","Competición",{"$f":"VLOOKUP(C1412,Referencias!$B$24:$C$40,2,FALSE())","v":"M"}]
["2812378","Arranz , Jacqueline","Madrileña","D",{"$f":"VLOOKUP(G1413,Referencias!$C$4:$D$21,2,FALSE())","v":"Tercera Picas"},{"$f":"VLOOKUP(G1413,Referencias!$C$4:$E$21,3,FALSE())","v":3},"3P","Competición",{"$f":"VLOOKUP(C1413,Referencias!$B$24:$C$40,2,FALSE())","v":"M"}]
["2812379","de Lorenzo, Paula","Madrileña","D",{"$f":"VLOOKUP(G1414,Referencias!$C$4:$D$21,2,FALSE())","v":"Maestro Nacional Damas"},{"$f":"VLOOKUP(G1414,Referencias!$C$4:$E$21,3,FALSE())","v":0},"MN-D","Competición",{"$f":"VLOOKUP(C1414,Referencias!$B$24:$C$40,2,FALSE())","v":"M"}]
["2812383","Gento Peña, Marta","Madrileña","D",{"$f":"VLOOKUP(G1415,Referencias!$C$4:$D$21,2,FALSE())","v":"Primera Corazón"},{"$f":"VLOOKUP(G1415,Referencias!$C$4:$E$21,3,FALSE())","v":1},"1C","Competición",{"$f":"VLOOKUP(C1415,Referencias!$B$24:$C$40,2,FALSE())","v":"M"}]
["2812384","Beneyto Arias, José Jaime","Madrileña","C",{"$f":"VLOOKUP(G1416,Referencias!$C$4:$D$21,2,FALSE())","v":"Primera Picas"},{"$f":"VLOOKUP(G1416,Referencias!$C$4:$E$21,3,FALSE())","v":1},"1P","Competición",{"$f":"VLOOKUP(C1416,Referencias!$B$24:$C$40,2,FALSE())","v":"M"}]
["2812397","Romero González, María Luisa","Madrileña","D",{"$f":"VLOOKUP(G1417,Referencias!$C$4:$D$21,2,FALSE())","v":"Segunda Corazón"},{"$f":"VLOOKUP(G1417,Referencias!$C$4:$E$21,3,FALSE())","v":2},"2C","Competición",{"$f":"VLOOKUP(C1417,Referencias!$B$24:$C$40,2,FALSE())","v":"M"}]
["2812398","Hortal López, Victoria","Madrileña","D",{"$f":"VLOOKUP(G1418,Referencias!$C$4:$D$21,2,FALSE())","v":"Tercera Diamante"},{"$f":"VLOOKUP(G1418,Referencias!$C$4:$E$21,3,FALSE())","v":3},"3D","Competición",{"$f":"VLOOKUP(C1418,Referencias!$B$24:$C$40,2,FALSE())","v":"M"}]
["2812399","Mahave Albar, Angel","Madrileña","C",{"$f":"VLOOKUP(G1419,Referencias!$C$4:$D$21,2,FALSE())","v":"Tercera Diamante"},{"$f":"VLOOKUP(G1419,Referencias!$C$4:$E$21,3,FALSE())","v":3},"3D","Competición",{"$f":"VLOOKUP(C1419,Referencias!$B$24:$C$40,2,FALSE())","v":"M"}]
["2812403","Balderrábano Suárez-Inclán, Carmen","Madrileña","D",{"$f":"VLOOKUP(G1420,Referencias!$C$4:$D$21,2,FALSE())","v":"Sin Categoría"},{"$f":"VLOOKUP(G1420,Referencias!$C$4:$E$21,3,FALSE())","v":4},"SC","Competición",{"$f":"VLOOKUP(C1420,Referencias!$B$24:$C$40,2,FALSE())","v":"M"}]
["2812407","Falk, Larserik","Madrileña","C",{"$f":"VLOOKUP(G1421,Referencias!$C$4:$D$21,2,FALSE())","v":"Segunda Diamante"},{"$f":"VLOOKUP(G1421,Referencias!$C$4:$E$21,3,FALSE())","v":2},"2D","Competición",{"$f":"VLOOKUP(C1421,Referencias!$B$24:$C$40,2,FALSE())","v":"M"}]
["2812408","Cajal López, Mercedes","Madrileña","D",{"$f":"VLOOKUP(G1422,Referencias!$C$4:$D$21,2,FALSE())","v":"Tercera Picas"},{"$f":"VLOOKUP(G1422,Referencias!$C$4:$E$21,3,FALSE())","v":3},"3P","Competición",{"$f":"VLOOKUP(C1422,Referencias!$B$24:$C$40,2,FALSE())","v":"M"}]
["2812409","Regalado Jofre, Cristina","Madrileña","D",{"$f":"VLOOKUP(G1423,Referencias!$C$4:$D$21,2,FALSE())","v":"Tercera Corazón"},{"$f":"VLOOKUP(G1423,Referencias!$C$4:$E$21,3,FALSE())","v":3},"3C","Competición",{"$f":"VLOOKUP(C1423,Referencias!$B$24:$C$40,2,FALSE())","v":"M"}]
["2812410","Albaladejo Carrión, Josefina","Madrileña","D",{"$f":"VLOOKUP(G1424,Referencias!$C$4:$D$21,2,FALSE())","v":"Tercera Picas"},{"$f":"VLOOKUP(G1424,Referencias!$C$4:$E$21,3,FALSE())","v":3},"3P","Competición",{"$f":"VLOOKUP(C1424,Referencias!$B$24:$C$40,2,FALSE())","v":"M"}]
["2812411","Echeverría, José Ignacio","Madrileña","C",{"$f":"VLOOKUP(G1425,Referencias!$C$4:$D$21,2,FALSE())","v":"Tercera Picas"},{"$f":"VLOOKUP(G1425,Referencias!$C$4:$E$21,3,FALSE())","v":3},"3P","Competición",{"$f":"VLOOKUP(C1425,Referencias!$B$24:$C$40,2,FALSE())","v":"M"}]
["2812421","de Silva Villalón, Luis","Madrileña","C",{"$f":"VLOOKUP(G1426,Referencias!$C$4:$D$21,2,FALSE())","v":"Segunda Diamante"},{"$f":"VLOOKUP(G1426,Referencias!$C$4:$E$21,3,FALSE())","v":2},"2D","Competición",{"$f":"VLOOKUP(C1426,Referencias!$B$24:$C$40,2,FALSE())","v":"M"}]
["2812422","Cubillo Jordán, Jacobo","Madrileña","C",{"$f":"VLOOKUP(G1427,Referencias!$C$4:$D$21,2,FALSE())","v":"Sin Categoría"},{"$f":"VLOOKUP(G1427,Referencias!$C$4:$E$21,3,FALSE())","v":4},"SC","Competición",{"$f":"VLOOKUP(C1427,Referencias!$B$24:$C$40,2,FALSE())","v":"M"}]
["2812423","Zulueta Velázquez-Duro, Itzíar","Madrileña","D",{"$f":"VLOOKUP(G1428,Referencias!$C$4:$D$21,2,FALSE())","v":"Segunda Corazón"},{"$f":"VLOOKUP(G1428,Referencias!$C$4:$E$21,3,FALSE())","v":2},"2C","Competición",{"$f":"VLOOKUP(C1428,Referencias!$B$24:$C$40,2,FALSE())","v":"M"}]
["2812429","Blanco Díez, Juan","Madrileña","C",{"$f":"VLOOKUP(G1429,Referencias!$C$4:$D$21,2,FALSE())","v":"Primera Corazón"},{"$f":"VLOOKUP(G1429,Referencias!$C$4:$E$21,3,FALSE())","v":1},"1C","Competición",{"$f":"VLOOKUP(C1429,Referencias!$B$24:$C$40,2,FALSE())","v":"M"}]
["2812431","Gutiérrez Arroba, Elena","Madrileña","D",{"$f":"VLOOKUP(G1430,Referencias!$C$4:$D$21,2,FALSE())","v":"Segunda Diamante"},{"$f":"VLOOKUP(G1430,Referencias!$C$4:$E$21,3,FALSE())","v":2},"2D","Competición",{"$f":"VLOOKUP(C1430,Referencias!$B$24:$C$40,2,FALSE())","v":"M"}]
["2812448","Cantero Buitrón, José María","Madrileña","C",{"$f":"VLOOKUP(G1431,Referencias!$C$4:$D$21,2,FALSE())","v":"Segunda Diamante"},{"$f":"VLOOKUP(G1431,Referencias!$C$4:$E$21,3,FALSE())","v":2},"2D","Competición",{"$f":"VLOOKUP(C1431,Referencias!$B$24:$C$40,2,FALSE())","v":"M"}]
["2812449","Montes-Jovellar Cuesta, María Alcira","Madrileña","D",{"$f":"VLOOKUP(G1432,Referencias!$C$4:$D$21,2,FALSE())","v":"Tercera Picas"},{"$f":"VLOOKUP(G1432,Referencias!$C$4:$E$21,3,FALSE())","v":3},"3P","Competición",{"$f":"VLOOKUP(C1432,Referencias!$B$24:$C$40,2,FALSE())","v":"M"}]
["2812454","Lamana Torres, Manuel María","Madrileña","C",{"$f":"VLOOKUP(G1433,Referencias!$C$4:$D$21,2,FALSE())","v":"Sin Categoría"},{"$f":"VLOOKUP(G1433,Referencias!$C$4:$E$21,3,FALSE())","v":4},"SC","Honorífica",{"$f":"VLOOKUP(C1433,Referencias!$B$24:$C$40,2,FALSE())","v":"M"}]
["2812466","Gutiérrez-Mellado Blasco, Ana","Madrileña","D",{"$f":"VLOOKUP(G1434,Referencias!$C$4:$D$21,2,FALSE())","v":"Sin Categoría"},{"$f":"VLOOKUP(G1434,Referencias!$C$4:$E$21,3,FALSE())","v":4},"SC","Competición",{"$f":"VLOOKUP(C1434,Referencias!$B$24:$C$40,2,FALSE())","v":"M"}]
["2812467","Galán Sánchez, Aurora","Madrileña","D",{"$f":"VLOOKUP(G1435,Referencias!$C$4:$D$21,2,FALSE())","v":"Tercera Corazón"},{"$f":"VLOOKUP(G1435,Referencias!$C$4:$E$21,3,FALSE())","v":3},"3C","Competición",{"$f":"VLOOKUP(C1435,Referencias!$B$24:$C$40,2,FALSE())","v":"M"}]
["2812474","Esquivias Férriz, Amparo","Madrileña","D",{"$f":"VLOOKUP(G1436,Referencias!$C$4:$D$21,2,FALSE())","v":"Tercera Corazón"},{"$f":"VLOOKUP(G1436,Referencias!$C$4:$E$21,3,FALSE())","v":3},"3C","Competición",{"$f":"VLOOKUP(C1436,Referencias!$B$24:$C$40,2,FALSE())","v":"M"}]
["2812475","Pardo de Santayana Bustillo, Alfredo","Madrileña","C",{"$f":"VLOOKUP(G1437,Referencias!$C$4:$D$21,2,FALSE())","v":"Tercera Corazón"},{"$f":"VLOOKUP(G1437,Referencias!$C$4:$E$21,3,FALSE())","v":3},"3C","Competición",{"$f":"VLOOKUP(C1437,Referencias!$B$24:$C$40,2,FALSE())","v":"M"}]
["2812476","Kindelán Segura, Isabel","Madrileña","D",{"$f":"VLOOKUP(G1438,Referencias!$C$4:$D$21,2,FALSE())","v":"Tercera Picas"},{"$f":"VLOOKUP(G1438,Referencias!$C$4:$E$21,3,FALSE())","v":3},"3P","Competición",{"$f":"VLOOKUP(C1438,Referencias!$B$24:$C$40,2,FALSE())","v":"M"}]
["2812477","Fernández-Balbuena Azqueta, Rosa María","Madrileña","D",{"$f":"VLOOKUP(G1439,Referencias!$C$4:$D$21,2,FALSE())","v":"Sin Categoría"},{"$f":"VLOOKUP(G1439,Referencias!$C$4:$E$21,3,FALSE())","v":4},"SC","Competición",{"$f":"VLOOKUP(C1439,Referencias!$B$24:$C$40,2,FALSE())","v":"M"}]
["2812478","Eizaguirre Orbe, Luisa María","Madrileña","D",{"$f":"VLOOKUP(G1440,Referencias!$C$4:$D$21,2,FALSE())","v":"Tercera Diamante"},{"$f":"VLOOKUP(G1440,Referencias!$C$4:$E$21,3,FALSE())","v":3},"3D","Competición",{"$f":"VLOOKUP(C1440,Referencias!$B$24:$C$40,2,FALSE())","v":"M"}]
["2812479","Uriarte Monereo, Cruz","Madrileña","D",{"$f":"VLOOKUP(G1441,Referencias!$C$4:$D$21,2,FALSE())","v":"Sin Categoría"},{"$f":"VLOOKUP(G1441,Referencias!$C$4:$E$21,3,FALSE())","v":4},"SC","Competición",{"$f":"VLOOKUP(C1441,Referencias!$B$24:$C$40,2,FALSE())","v":"M"}]
["2812480","Colsa Suárez de Tangil, Ignacio","Madrileña","C",{"$f":"VLOOKUP(G1442,Referencias!$C$4:$D$21,2,FALSE())","v":"Segunda Corazón"},{"$f":"VLOOKUP(G1442,Referencias!$C$4:$E$21,3,FALSE())","v":2},"2C","Competición",{"$f":"VLOOKUP(C1442,Referencias!$B$24:$C$40,2,FALSE())","v":"M"}]
["2812481","Regalado Jofre, Marichu","Madrileña","D",{"$f":"VLOOKUP(G1443,Referencias!$C$4:$D$21,2,FALSE())","v":"Segunda Picas"},{"$f":"VLOOKUP(G1443,Referencias!$C$4:$E$21,3,FALSE())","v":2},"2P","Competición",{"$f":"VLOOKUP(C1443,Referencias!$B$24:$C$40,2,FALSE())","v":"M"}]
["2812482","Mesa Jiménez, Silvia","Madrileña","D",{"$f":"VLOOKUP(G1444,Referencias!$C$4:$D$21,2,FALSE())","v":"Tercera Corazón"},{"$f":"VLOOKUP(G1444,Referencias!$C$4:$E$21,3,FALSE())","v":3},"3C","Competición",{"$f":"VLOOKUP(C1444,Referencias!$B$24:$C$40,2,FALSE())","v":"M"}]
["2812485","González Condie, Aurora","Madrileña","D",{"$f":"VLOOKUP(G1445,Referencias!$C$4:$D$21,2,FALSE())","v":"Sin Categoría"},{"$f":"VLOOKUP(G1445,Referencias!$C$4:$E$21,3,FALSE())","v":4},"SC","Competición",{"$f":"VLOOKUP(C1445,Referencias!$B$24:$C$40,2,FALSE())","v":"M"}]
["2812495","Valdés , Natalia","Madrileña","D",{"$f":"VLOOKUP(G1446,Referencias!$C$4:$D$21,2,FALSE())","v":"Sin Categoría"},{"$f":"VLOOKUP(G1446,Referencias!$C$4:$E$21,3,FALSE())","v":4},"SC","Honorífica",{"$f":"VLOOKUP(C1446,Referencias!$B$24:$C$40,2,FALSE())","v":"M"}]
["2812497","Romaguera Cuevas, Nuria","Madrileña","D",{"$f":"VLOOKUP(G1447,Referencias!$C$4:$D$21,2,FALSE())","v":"Maestro Nacional Damas"},{"$f":"VLOOKUP(G1447,Referencias!$C$4:$E$21,3,FALSE())","v":0},"MN-D","Competición",{"$f":"VLOOKUP(C1447,Referencias!$B$24:$C$40,2,FALSE())","v":"M"}]
["2812501","Ludeman , Gertrud","Madrileña","D",{"$f":"VLOOKUP(G1448,Referencias!$C$4:$D$21,2,FALSE())","v":"Sin Categoría"},{"$f":"VLOOKUP(G1448,Referencias!$C$4:$E$21,3,FALSE())","v":4},"SC","Competición",{"$f":"VLOOKUP(C1448,Referencias!$B$24:$C$40,2,FALSE())","v":"M"}]
["2812508","Pardo Manuel de Villena Berthelemy, Ignacia","Madrileña","D",{"$f":"VLOOKUP(G1449,Referencias!$C$4:$D$21,2,FALSE())","v":"Tercera Diamante"},{"$f":"VLOOKUP(G1449,Referencias!$C$4:$E$21,3,FALSE())","v":3},"3D","Competición",{"$f":"VLOOKUP(C1449,Referencias!$B$24:$C$40,2,FALSE())","v":"M"}]
["2812510","Sabaté Iglesias, Jordi","Madrileña","C",{"$f":"VLOOKUP(G1450,Referencias!$C$4:$D$21,2,FALSE())","v":"Maestro Mundial Open"},{"$f":"VLOOKUP(G1450,Referencias!$C$4:$E$21,3,FALSE())","v":0},"MM-O","Competición",{"$f":"VLOOKUP(C1450,Referencias!$B$24:$C$40,2,FALSE())","v":"M"}]
["2812516","Moreno Mendoza, Macarena","Madrileña","D",{"$f":"VLOOKUP(G1451,Referencias!$C$4:$D$21,2,FALSE())","v":"Sin Categoría"},{"$f":"VLOOKUP(G1451,Referencias!$C$4:$E$21,3,FALSE())","v":4},"SC","Competición",{"$f":"VLOOKUP(C1451,Referencias!$B$24:$C$40,2,FALSE())","v":"M"}]
["2812518","Cabrera Lorente, Marta","Madrileña","D",{"$f":"VLOOKUP(G1452,Referencias!$C$4:$D$21,2,FALSE())","v":"Tercera Picas"},{"$f":"VLOOKUP(G1452,Referencias!$C$4:$E$21,3,FALSE())","v":3},"3P","Competición",{"$f":"VLOOKUP(C1452,Referencias!$B$24:$C$40,2,FALSE())","v":"M"}]
["2812524","García del Valle, Amparo","Madrileña","D",{"$f":"VLOOKUP(G1453,Referencias!$C$4:$D$21,2,FALSE())","v":"Tercera Picas"},{"$f":"VLOOKUP(G1453,Referencias!$C$4:$E$21,3,FALSE())","v":3},"3P","Competición",{"$f":"VLOOKUP(C1453,Referencias!$B$24:$C$40,2,FALSE())","v":"M"}]
["2812526","Martínez Úbeda, Ignacio","Madrileña","C",{"$f":"VLOOKUP(G1454,Referencias!$C$4:$D$21,2,FALSE())","v":"Segunda Picas"},{"$f":"VLOOKUP(G1454,Referencias!$C$4:$E$21,3,FALSE())","v":2},"2P","Competición",{"$f":"VLOOKUP(C1454,Referencias!$B$24:$C$40,2,FALSE())","v":"M"}]
["2812530","Laborde Muñoz, Piedad","Madrileña","D",{"$f":"VLOOKUP(G1455,Referencias!$C$4:$D$21,2,FALSE())","v":"Sin Categoría"},{"$f":"VLOOKUP(G1455,Referencias!$C$4:$E$21,3,FALSE())","v":4},"SC","Competición",{"$f":"VLOOKUP(C1455,Referencias!$B$24:$C$40,2,FALSE())","v":"M"}]
["2812533","de L'Epine Jacquin de Margerie, Evelyne","Madrileña","D",{"$f":"VLOOKUP(G1456,Referencias!$C$4:$D$21,2,FALSE())","v":"Segunda Picas"},{"$f":"VLOOKUP(G1456,Referencias!$C$4:$E$21,3,FALSE())","v":2},"2P","Competición",{"$f":"VLOOKUP(C1456,Referencias!$B$24:$C$40,2,FALSE())","v":"M"}]
["2812534","Mendizábal González, Angela","Madrileña","D",{"$f":"VLOOKUP(G1457,Referencias!$C$4:$D$21,2,FALSE())","v":"Tercera Diamante"},{"$f":"VLOOKUP(G1457,Referencias!$C$4:$E$21,3,FALSE())","v":3},"3D","Competición",{"$f":"VLOOKUP(C1457,Referencias!$B$24:$C$40,2,FALSE())","v":"M"}]
["2812535","Silvela Martínez-Cubells, Elena","Madrileña","D",{"$f":"VLOOKUP(G1458,Referencias!$C$4:$D$21,2,FALSE())","v":"Sin Categoría"},{"$f":"VLOOKUP(G1458,Referencias!$C$4:$E$21,3,FALSE())","v":4},"SC","Competición",{"$f":"VLOOKUP(C1458,Referencias!$B$24:$C$40,2,FALSE())","v":"M"}]
["2812536","Soler López, Carlo José","Madrileña","C",{"$f":"VLOOKUP(G1459,Referencias!$C$4:$D$21,2,FALSE())","v":"Sin Categoría"},{"$f":"VLOOKUP(G1459,Referencias!$C$4:$E$21,3,FALSE())","v":4},"SC","Competición",{"$f":"VLOOKUP(C1459,Referencias!$B$24:$C$40,2,FALSE())","v":"M"}]
["2812540","Gómez Montejo, Ignacio","Madrileña","C",{"$f":"VLOOKUP(G1460,Referencias!$C$4:$D$21,2,FALSE())","v":"Segunda Picas"},{"$f":"VLOOKUP(G1460,Referencias!$C$4:$E$21,3,FALSE())","v":2},"2P","Competición",{"$f":"VLOOKUP(C1460,Referencias!$B$24:$C$40,2,FALSE())","v":"M"}]
["2812549","Alonso Vega de Seoane, María Luisa","Madrileña","D",{"$f":"VLOOKUP(G1461,Referencias!$C$4:$D$21,2,FALSE())","v":"Tercera Picas"},{"$f":"VLOOKUP(G1461,Referencias!$C$4:$E$21,3,FALSE())","v":3},"3P","Competición",{"$f":"VLOOKUP(C1461,Referencias!$B$24:$C$40,2,FALSE())","v":"M"}]
["2812553","Faget Montero, Margarita","Madrileña","D",{"$f":"VLOOKUP(G1462,Referencias!$C$4:$D$21,2,FALSE())","v":"Tercera Diamante"},{"$f":"VLOOKUP(G1462,Referencias!$C$4:$E$21,3,FALSE())","v":3},"3D","Competición",{"$f":"VLOOKUP(C1462,Referencias!$B$24:$C$40,2,FALSE())","v":"M"}]
["2812555","Guimard Tallour, Jean-Claude","Madrileña","C",{"$f":"VLOOKUP(G1463,Referencias!$C$4:$D$21,2,FALSE())","v":"Sin Categoría"},{"$f":"VLOOKUP(G1463,Referencias!$C$4:$E$21,3,FALSE())","v":4},"SC","Competición",{"$f":"VLOOKUP(C1463,Referencias!$B$24:$C$40,2,FALSE())","v":"M"}]
["2812559","Balaca Roldán, María Dolores","Madrileña","D",{"$f":"VLOOKUP(G1464,Referencias!$C$4:$D$21,2,FALSE())","v":"Tercera Diamante"},{"$f":"VLOOKUP(G1464,Referencias!$C$4:$E$21,3,FALSE())","v":3},"3D","Competición",{"$f":"VLOOKUP(C1464,Referencias!$B$24:$C$40,2,FALSE())","v":"M"}]
["2812567","Bermúdez de Castro Rosillo, Nena","Madrileña","D",{"$f":"VLOOKUP(G1465,Referencias!$C$4:$D$21,2,FALSE())","v":"Primera Picas"},{"$f":"VLOOKUP(G1465,Referencias!$C$4:$E$21,3,FALSE())","v":1},"1P","Competición",{"$f":"VLOOKUP(C1465,Referencias!$B$24:$C$40,2,FALSE())","v":"M"}]
["2812571","Moral del Carro, Elena","Madrileña","D",{"$f":"VLOOKUP(G1466,Referencias!$C$4:$D$21,2,FALSE())","v":"Sin Categoría"},{"$f":"VLOOKUP(G1466,Referencias!$C$4:$E$21,3,FALSE())","v":4},"SC","Competición",{"$f":"VLOOKUP(C1466,Referencias!$B$24:$C$40,2,FALSE())","v":"M"}]
["2812580","Quéhec Barthelemy, Jeannine","Madrileña","D",{"$f":"VLOOKUP(G1467,Referencias!$C$4:$D$21,2,FALSE())","v":"Tercera Diamante"},{"$f":"VLOOKUP(G1467,Referencias!$C$4:$E$21,3,FALSE())","v":3},"3D","Honorífica",{"$f":"VLOOKUP(C1467,Referencias!$B$24:$C$40,2,FALSE())","v":"M"}]
["2812583","Benito , Paloma","Madrileña","D",{"$f":"VLOOKUP(G1468,Referencias!$C$4:$D$21,2,FALSE())","v":"Sin Categoría"},{"$f":"VLOOKUP(G1468,Referencias!$C$4:$E$21,3,FALSE())","v":4},"SC","Competición",{"$f":"VLOOKUP(C1468,Referencias!$B$24:$C$40,2,FALSE())","v":"M"}]
["2812584","Vassallo Moreno, Mercedes","Madrileña","D",{"$f":"VLOOKUP(G1469,Referencias!$C$4:$D$21,2,FALSE())","v":"Tercera Picas"},{"$f":"VLOOKUP(G1469,Referencias!$C$4:$E$21,3,FALSE())","v":3},"3P","Competición",{"$f":"VLOOKUP(C1469,Referencias!$B$24:$C$40,2,FALSE())","v":"M"}]
["2812585","Martínez Rodríguez, Inés","Madrileña","D",{"$f":"VLOOKUP(G1470,Referencias!$C$4:$D$21,2,FALSE())","v":"Sin Categoría"},{"$f":"VLOOKUP(G1470,Referencias!$C$4:$E$21,3,FALSE())","v":4},"SC","Competición",{"$f":"VLOOKUP(C1470,Referencias!$B$24:$C$40,2,FALSE())","v":"M"}]
["2812586","Kindelán Segura, Dolores","Madrileña","D",{"$f":"VLOOKUP(G1471,Referencias!$C$4:$D$21,2,FALSE())","v":"Tercera Corazón"},{"$f":"VLOOKUP(G1471,Referencias!$C$4:$E$21,3,FALSE())","v":3},"3C","Competición",{"$f":"VLOOKUP(C1471,Referencias!$B$24:$C$40,2,FALSE())","v":"M"}]
["2812588","Fernández Fole, María","Madrileña","D",{"$f":"VLOOKUP(G1472,Referencias!$C$4:$D$21,2,FALSE())","v":"Sin Categoría"},{"$f":"VLOOKUP(G1472,Referencias!$C$4:$E$21,3,FALSE())","v":4},"SC","Honorífica",{"$f":"VLOOKUP(C1472,Referencias!$B$24:$C$40,2,FALSE())","v":"M"}]
["2812594","Juliá Díez de Rivera, Belén","Madrileña","D",{"$f":"VLOOKUP(G1473,Referencias!$C$4:$D$21,2,FALSE())","v":"Tercera Diamante"},{"$f":"VLOOKUP(G1473,Referencias!$C$4:$E$21,3,FALSE())","v":3},"3D","Competición",{"$f":"VLOOKUP(C1473,Referencias!$B$24:$C$40,2,FALSE())","v":"M"}]
["2812595","Goytre Crespo, Clementina","Madrileña","D",{"$f":"VLOOKUP(G1474,Referencias!$C$4:$D$21,2,FALSE())","v":"Primera Corazón"},{"$f":"VLOOKUP(G1474,Referencias!$C$4:$E$21,3,FALSE())","v":1},"1C","Competición",{"$f":"VLOOKUP(C1474,Referencias!$B$24:$C$40,2,FALSE())","v":"M"}]
["2812596","Menéndez Iñiguez, Mercedes","Madrileña","D",{"$f":"VLOOKUP(G1475,Referencias!$C$4:$D$21,2,FALSE())","v":"Tercera Diamante"},{"$f":"VLOOKUP(G1475,Referencias!$C$4:$E$21,3,FALSE())","v":3},"3D","Competición",{"$f":"VLOOKUP(C1475,Referencias!$B$24:$C$40,2,FALSE())","v":"M"}]
["2812603","Treviño Rosales, Emilia","Madrileña","D",{"$f":"VLOOKUP(G1476,Referencias!$C$4:$D$21,2,FALSE())","v":"Segunda Picas"},{"$f":"VLOOKUP(G1476,Referencias!$C$4:$E$21,3,FALSE())","v":2},"2P","Competición",{"$f":"VLOOKUP(C1476,Referencias!$B$24:$C$40,2,FALSE())","v":"M"}]
["2812604","Moreno de la Santa Barajas, Soledad","Madrileña","D",{"$f":"VLOOKUP(G1477,Referencias!$C$4:$D$21,2,FALSE())","v":"Tercera Corazón"},{"$f":"VLOOKUP(G1477,Referencias!$C$4:$E$21,3,FALSE())","v":3},"3C","Competición",{"$f":"VLOOKUP(C1477,Referencias!$B$24:$C$40,2,FALSE())","v":"M"}]
["2812606","Martínez Fernández, Marta","Madrileña","D",{"$f":"VLOOKUP(G1478,Referencias!$C$4:$D$21,2,FALSE())","v":"Segunda Picas"},{"$f":"VLOOKUP(G1478,Referencias!$C$4:$E$21,3,FALSE())","v":2},"2P","Competición",{"$f":"VLOOKUP(C1478,Referencias!$B$24:$C$40,2,FALSE())","v":"M"}]
["2812608","González Fernández, Dolores","Madrileña","D",{"$f":"VLOOKUP(G1479,Referencias!$C$4:$D$21,2,FALSE())","v":"Tercera Picas"},{"$f":"VLOOKUP(G1479,Referencias!$C$4:$E$21,3,FALSE())","v":3},"3P","Competición",{"$f":"VLOOKUP(C1479,Referencias!$B$24:$C$40,2,FALSE())","v":"M"}]
["2812610","Barros Barros, María José","Madrileña","D",{"$f":"VLOOKUP(G1480,Referencias!$C$4:$D$21,2,FALSE())","v":"Sin Categoría"},{"$f":"VLOOKUP(G1480,Referencias!$C$4:$E$21,3,FALSE())","v":4},"SC","Competición",{"$f":"VLOOKUP(C1480,Referencias!$B$24:$C$40,2,FALSE())","v":"M"}]
["2812612","López-Manterola González de Mendoza, Almudena","Madrileña","D",{"$f":"VLOOKUP(G1481,Referencias!$C$4:$D$21,2,FALSE())","v":"Sin Categoría"},{"$f":"VLOOKUP(G1481,Referencias!$C$4:$E$21,3,FALSE())","v":4},"SC","Competición",{"$f":"VLOOKUP(C1481,Referencias!$B$24:$C$40,2,FALSE())","v":"M"}]
["2812614","Cesianu Gheorghiu, Anca Elena","Madrileña","D",{"$f":"VLOOKUP(G1482,Referencias!$C$4:$D$21,2,FALSE())","v":"Sin Categoría"},{"$f":"VLOOKUP(G1482,Referencias!$C$4:$E$21,3,FALSE())","v":4},"SC","Competición",{"$f":"VLOOKUP(C1482,Referencias!$B$24:$C$40,2,FALSE())","v":"M"}]
["2812618","Baselga De la Vega, Ana","Madrileña","D",{"$f":"VLOOKUP(G1483,Referencias!$C$4:$D$21,2,FALSE())","v":"Segunda Diamante"},{"$f":"VLOOKUP(G1483,Referencias!$C$4:$E$21,3,FALSE())","v":2},"2D","Competición",{"$f":"VLOOKUP(C1483,Referencias!$B$24:$C$40,2,FALSE())","v":"M"}]
["2812620","Benavides Helbig, María Dolores","Madrileña","D",{"$f":"VLOOKUP(G1484,Referencias!$C$4:$D$21,2,FALSE())","v":"Tercera Diamante"},{"$f":"VLOOKUP(G1484,Referencias!$C$4:$E$21,3,FALSE())","v":3},"3D","Competición",{"$f":"VLOOKUP(C1484,Referencias!$B$24:$C$40,2,FALSE())","v":"M"}]
["2812625","Díaz de Bustamante Ulloa, Pilar","Madrileña","D",{"$f":"VLOOKUP(G1485,Referencias!$C$4:$D$21,2,FALSE())","v":"Tercera Diamante"},{"$f":"VLOOKUP(G1485,Referencias!$C$4:$E$21,3,FALSE())","v":3},"3D","Competición",{"$f":"VLOOKUP(C1485,Referencias!$B$24:$C$40,2,FALSE())","v":"M"}]
["2812628","Octavio de Toledo Eugui, Ysabel","Madrileña","D",{"$f":"VLOOKUP(G1486,Referencias!$C$4:$D$21,2,FALSE())","v":"Tercera Diamante"},{"$f":"VLOOKUP(G1486,Referencias!$C$4:$E$21,3,FALSE())","v":3},"3D","Competición",{"$f":"VLOOKUP(C1486,Referencias!$B$24:$C$40,2,FALSE())","v":"M"}]
["2812630","Leiceaga , Belén","Madrileña","D",{"$f":"VLOOKUP(G1487,Referencias!$C$4:$D$21,2,FALSE())","v":"Tercera Picas"},{"$f":"VLOOKUP(G1487,Referencias!$C$4:$E$21,3,FALSE())","v":3},"3P","Competición",{"$f":"VLOOKUP(C1487,Referencias!$B$24:$C$40,2,FALSE())","v":"M"}]
["2812632","Trujillo González, Antonia","Madrileña","D",{"$f":"VLOOKUP(G1488,Referencias!$C$4:$D$21,2,FALSE())","v":"Tercera Diamante"},{"$f":"VLOOKUP(G1488,Referencias!$C$4:$E$21,3,FALSE())","v":3},"3D","Honorífica",{"$f":"VLOOKUP(C1488,Referencias!$B$24:$C$40,2,FALSE())","v":"M"}]
["2812635","Salcedo Porras, Marisol","Madrileña","D",{"$f":"VLOOKUP(G1489,Referencias!$C$4:$D$21,2,FALSE())","v":"Tercera Diamante"},{"$f":"VLOOKUP(G1489,Referencias!$C$4:$E$21,3,FALSE())","v":3},"3D","Competición",{"$f":"VLOOKUP(C1489,Referencias!$B$24:$C$40,2,FALSE())","v":"M"}]
["2812639","Gómez-Acebo Muriedas, Rosario","Madrileña","D",{"$f":"VLOOKUP(G1490,Referencias!$C$4:$D$21,2,FALSE())","v":"Sin Categoría"},{"$f":"VLOOKUP(G1490,Referencias!$C$4:$E$21,3,FALSE())","v":4},"SC","Competición",{"$f":"VLOOKUP(C1490,Referencias!$B$24:$C$40,2,FALSE())","v":"M"}]
["2812642","Samper Vidal, Paloma","Madrileña","D",{"$f":"VLOOKUP(G1491,Referencias!$C$4:$D$21,2,FALSE())","v":"Segunda Diamante"},{"$f":"VLOOKUP(G1491,Referencias!$C$4:$E$21,3,FALSE())","v":2},"2D","Competición",{"$f":"VLOOKUP(C1491,Referencias!$B$24:$C$40,2,FALSE())","v":"M"}]
["2812645","López Tartiere, Carmen","Madrileña","D",{"$f":"VLOOKUP(G1492,Referencias!$C$4:$D$21,2,FALSE())","v":"Segunda Picas"},{"$f":"VLOOKUP(G1492,Referencias!$C$4:$E$21,3,FALSE())","v":2},"2P","Competición",{"$f":"VLOOKUP(C1492,Referencias!$B$24:$C$40,2,FALSE())","v":"M"}]
["2812646","Labayén la Torre, Laura","Madrileña","D",{"$f":"VLOOKUP(G1493,Referencias!$C$4:$D$21,2,FALSE())","v":"Sin Categoría"},{"$f":"VLOOKUP(G1493,Referencias!$C$4:$E$21,3,FALSE())","v":4},"SC","Competición",{"$f":"VLOOKUP(C1493,Referencias!$B$24:$C$40,2,FALSE())","v":"M"}]
["2812647","Poch Broto, Elena","Madrileña","D",{"$f":"VLOOKUP(G1494,Referencias!$C$4:$D$21,2,FALSE())","v":"Tercera Diamante"},{"$f":"VLOOKUP(G1494,Referencias!$C$4:$E$21,3,FALSE())","v":3},"3D","Competición",{"$f":"VLOOKUP(C1494,Referencias!$B$24:$C$40,2,FALSE())","v":"M"}]
["2812651","Martens Sanders, Anne","Madrileña","D",{"$f":"VLOOKUP(G1495,Referencias!$C$4:$D$21,2,FALSE())","v":"Segunda Corazón"},{"$f":"VLOOKUP(G1495,Referencias!$C$4:$E$21,3,FALSE())","v":2},"2C","Competición",{"$f":"VLOOKUP(C1495,Referencias!$B$24:$C$40,2,FALSE())","v":"M"}]
["2812655","Mazzuchelli Urquijo, Teresa","Madrileña","D",{"$f":"VLOOKUP(G1496,Referencias!$C$4:$D$21,2,FALSE())","v":"Sin Categoría"},{"$f":"VLOOKUP(G1496,Referencias!$C$4:$E$21,3,FALSE())","v":4},"SC","Competición",{"$f":"VLOOKUP(C1496,Referencias!$B$24:$C$40,2,FALSE())","v":"M"}]
["2812656","Larrucea Martín, María Victoria","Madrileña","D",{"$f":"VLOOKUP(G1497,Referencias!$C$4:$D$21,2,FALSE())","v":"Tercera Diamante"},{"$f":"VLOOKUP(G1497,Referencias!$C$4:$E$21,3,FALSE())","v":3},"3D","Competición",{"$f":"VLOOKUP(C1497,Referencias!$B$24:$C$40,2,FALSE())","v":"M"}]
["2812657","Sánchez Errazuriz, Josefina","Madrileña","D",{"$f":"VLOOKUP(G1498,Referencias!$C$4:$D$21,2,FALSE())","v":"Sin Categoría"},{"$f":"VLOOKUP(G1498,Referencias!$C$4:$E$21,3,FALSE())","v":4},"SC","Competición",{"$f":"VLOOKUP(C1498,Referencias!$B$24:$C$40,2,FALSE())","v":"M"}]
["2812660","Tallada Alarcón, Concha","Madrileña","D",{"$f":"VLOOKUP(G1499,Referencias!$C$4:$D$21,2,FALSE())","v":"Primera Picas"},{"$f":"VLOOKUP(G1499,Referencias!$C$4:$E$21,3,FALSE())","v":1},"1P","Competición",{"$f":"VLOOKUP(C1499,Referencias!$B$24:$C$40,2,FALSE())","v":"M"}]
["2812662","Lamana de Hoyos, Mercedes","Madrileña","D",{"$f":"VLOOKUP(G1500,Referencias!$C$4:$D$21,2,FALSE())","v":"Sin Categoría"},{"$f":"VLOOKUP(G1500,Referencias!$C$4:$E$21,3,FALSE())","v":4},"SC","Competición",{"$f":"VLOOKUP(C1500,Referencias!$B$24:$C$40,2,FALSE())","v":"M"}]
["2812665","Scher Nitzki, Micaela","Madrileña","D",{"$f":"VLOOKUP(G1501,Referencias!$C$4:$D$21,2,FALSE())","v":"Segunda Picas"},{"$f":"VLOOKUP(G1501,Referencias!$C$4:$E$21,3,FALSE())","v":2},"2P","Competición",{"$f":"VLOOKUP(C1501,Referencias!$B$24:$C$40,2,FALSE())","v":"M"}]
["2812666","Scher Nitzki, Ernesto","Madrileña","C",{"$f":"VLOOKUP(G1502,Referencias!$C$4:$D$21,2,FALSE())","v":"Primera Diamante"},{"$f":"VLOOKUP(G1502,Referencias!$C$4:$E$21,3,FALSE())","v":1},"1D","Competición",{"$f":"VLOOKUP(C1502,Referencias!$B$24:$C$40,2,FALSE())","v":"M"}]
["2812667","Gómez Guerra, Fernando","Madrileña","C",{"$f":"VLOOKUP(G1503,Referencias!$C$4:$D$21,2,FALSE())","v":"Sin Categoría"},{"$f":"VLOOKUP(G1503,Referencias!$C$4:$E$21,3,FALSE())","v":4},"SC","Competición",{"$f":"VLOOKUP(C1503,Referencias!$B$24:$C$40,2,FALSE())","v":"M"}]
["2812679","Calderón Riestra, Carmen","Madrileña","D",{"$f":"VLOOKUP(G1504,Referencias!$C$4:$D$21,2,FALSE())","v":"Tercera Picas"},{"$f":"VLOOKUP(G1504,Referencias!$C$4:$E$21,3,FALSE())","v":3},"3P","Competición",{"$f":"VLOOKUP(C1504,Referencias!$B$24:$C$40,2,FALSE())","v":"M"}]
["2812680","Rengifo Calderón, Juan Francisco","Madrileña","C",{"$f":"VLOOKUP(G1505,Referencias!$C$4:$D$21,2,FALSE())","v":"Tercera Corazón"},{"$f":"VLOOKUP(G1505,Referencias!$C$4:$E$21,3,FALSE())","v":3},"3C","Competición",{"$f":"VLOOKUP(C1505,Referencias!$B$24:$C$40,2,FALSE())","v":"M"}]
["2812681","Cuito Amat, Rosa","Madrileña","D",{"$f":"VLOOKUP(G1506,Referencias!$C$4:$D$21,2,FALSE())","v":"Tercera Corazón"},{"$f":"VLOOKUP(G1506,Referencias!$C$4:$E$21,3,FALSE())","v":3},"3C","Competición",{"$f":"VLOOKUP(C1506,Referencias!$B$24:$C$40,2,FALSE())","v":"M"}]
["2812684","Cervera Goizueta, María","Madrileña","D",{"$f":"VLOOKUP(G1507,Referencias!$C$4:$D$21,2,FALSE())","v":"Segunda Corazón"},{"$f":"VLOOKUP(G1507,Referencias!$C$4:$E$21,3,FALSE())","v":2},"2C","Competición",{"$f":"VLOOKUP(C1507,Referencias!$B$24:$C$40,2,FALSE())","v":"M"}]
["2812685","Ramos Bolufer, Rosa","Madrileña","D",{"$f":"VLOOKUP(G1508,Referencias!$C$4:$D$21,2,FALSE())","v":"Tercera Picas"},{"$f":"VLOOKUP(G1508,Referencias!$C$4:$E$21,3,FALSE())","v":3},"3P","Competición",{"$f":"VLOOKUP(C1508,Referencias!$B$24:$C$40,2,FALSE())","v":"M"}]
["2812686","Galiana Gómez, Margarita","Madrileña","D",{"$f":"VLOOKUP(G1509,Referencias!$C$4:$D$21,2,FALSE())","v":"Tercera Corazón"},{"$f":"VLOOKUP(G1509,Referencias!$C$4:$E$21,3,FALSE())","v":3},"3C","Competición",{"$f":"VLOOKUP(C1509,Referencias!$B$24:$C$40,2,FALSE())","v":"M"}]
["2812690","Bastida Fresneda, María Jesús","Madrileña","D",{"$f":"VLOOKUP(G1510,Referencias!$C$4:$D$21,2,FALSE())","v":"Tercera Corazón"},{"$f":"VLOOKUP(G1510,Referencias!$C$4:$E$21,3,FALSE())","v":3},"3C","Competición",{"$f":"VLOOKUP(C1510,Referencias!$B$24:$C$40,2,FALSE())","v":"M"}]
["2812691","Kruik van der Hoeven, Susanne","Madrileña","D",{"$f":"VLOOKUP(G1511,Referencias!$C$4:$D$21,2,FALSE())","v":"Segunda Picas"},{"$f":"VLOOKUP(G1511,Referencias!$C$4:$E$21,3,FALSE())","v":2},"2P","Competición",{"$f":"VLOOKUP(C1511,Referencias!$B$24:$C$40,2,FALSE())","v":"M"}]
["2812692","Pleite Pérez, Ana María","Madrileña","D",{"$f":"VLOOKUP(G1512,Referencias!$C$4:$D$21,2,FALSE())","v":"Segunda Diamante"},{"$f":"VLOOKUP(G1512,Referencias!$C$4:$E$21,3,FALSE())","v":2},"2D","Competición",{"$f":"VLOOKUP(C1512,Referencias!$B$24:$C$40,2,FALSE())","v":"M"}]
["2812694","Viuda de Dato, Duquesa","Madrileña","D",{"$f":"VLOOKUP(G1513,Referencias!$C$4:$D$21,2,FALSE())","v":"Sin Categoría"},{"$f":"VLOOKUP(G1513,Referencias!$C$4:$E$21,3,FALSE())","v":4},"SC","Competición",{"$f":"VLOOKUP(C1513,Referencias!$B$24:$C$40,2,FALSE())","v":"M"}]
["2812695","del Campo Muñoz, María Isabel","Madrileña","D",{"$f":"VLOOKUP(G1514,Referencias!$C$4:$D$21,2,FALSE())","v":"Tercera Corazón"},{"$f":"VLOOKUP(G1514,Referencias!$C$4:$E$21,3,FALSE())","v":3},"3C","Competición",{"$f":"VLOOKUP(C1514,Referencias!$B$24:$C$40,2,FALSE())","v":"M"}]
["2812698","Fribourg , Jean","Madrileña","D",{"$f":"VLOOKUP(G1515,Referencias!$C$4:$D$21,2,FALSE())","v":"Tercera Picas"},{"$f":"VLOOKUP(G1515,Referencias!$C$4:$E$21,3,FALSE())","v":3},"3P","Competición",{"$f":"VLOOKUP(C1515,Referencias!$B$24:$C$40,2,FALSE())","v":"M"}]
["2812699","Lizcano Navarro, Carmen","Madrileña","D",{"$f":"VLOOKUP(G1516,Referencias!$C$4:$D$21,2,FALSE())","v":"Sin Categoría"},{"$f":"VLOOKUP(G1516,Referencias!$C$4:$E$21,3,FALSE())","v":4},"SC","Competición",{"$f":"VLOOKUP(C1516,Referencias!$B$24:$C$40,2,FALSE())","v":"M"}]
["2812703","Celaya Eseverri, María Jesús","Madrileña","D",{"$f":"VLOOKUP(G1517,Referencias!$C$4:$D$21,2,FALSE())","v":"Sin Categoría"},{"$f":"VLOOKUP(G1517,Referencias!$C$4:$E$21,3,FALSE())","v":4},"SC","Competición",{"$f":"VLOOKUP(C1517,Referencias!$B$24:$C$40,2,FALSE())","v":"M"}]
["2812708","Hylander , Michael","Madrileña","C",{"$f":"VLOOKUP(G1518,Referencias!$C$4:$D$21,2,FALSE())","v":"Sin Categoría"},{"$f":"VLOOKUP(G1518,Referencias!$C$4:$E$21,3,FALSE())","v":4},"SC","Competición",{"$f":"VLOOKUP(C1518,Referencias!$B$24:$C$40,2,FALSE())","v":"M"}]
["2812709","Rodríguez Magariños, Felisa","Madrileña","D",{"$f":"VLOOKUP(G1519,Referencias!$C$4:$D$21,2,FALSE())","v":"Segunda Picas"},{"$f":"VLOOKUP(G1519,Referencias!$C$4:$E$21,3,FALSE())","v":2},"2P","Competición",{"$f":"VLOOKUP(C1519,Referencias!$B$24:$C$40,2,FALSE())","v":"M"}]
["2812710","Moreno-Luque Aspe, Isabel","Madrileña","D",{"$f":"VLOOKUP(G1520,Referencias!$C$4:$D$21,2,FALSE())","v":"Sin Categoría"},{"$f":"VLOOKUP(G1520,Referencias!$C$4:$E$21,3,FALSE())","v":4},"SC","Competición",{"$f":"VLOOKUP(C1520,Referencias!$B$24:$C$40,2,FALSE())","v":"M"}]
["2812711","Orbegozo Balzola, Carmen","Madrileña","D",{"$f":"VLOOKUP(G1521,Referencias!$C$4:$D$21,2,FALSE())","v":"Sin Categoría"},{"$f":"VLOOKUP(G1521,Referencias!$C$4:$E$21,3,FALSE())","v":4},"SC","Competición",{"$f":"VLOOKUP(C1521,Referencias!$B$24:$C$40,2,FALSE())","v":"M"}]
["2812717","Lobo Ruano, Consuelo","Madrileña","D",{"$f":"VLOOKUP(G1522,Referencias!$C$4:$D$21,2,FALSE())","v":"Tercera Corazón"},{"$f":"VLOOKUP(G1522,Referencias!$C$4:$E$21,3,FALSE())","v":3},"3C","Competición",{"$f":"VLOOKUP(C1522,Referencias!$B$24:$C$40,2,FALSE())","v":"M"}]
["2812718","Figar Velasco, Arturo","Madrileña","C",{"$f":"VLOOKUP(G1523,Referencias!$C$4:$D$21,2,FALSE())","v":"Sin Categoría"},{"$f":"VLOOKUP(G1523,Referencias!$C$4:$E$21,3,FALSE())","v":4},"SC","Competición",{"$f":"VLOOKUP(C1523,Referencias!$B$24:$C$40,2,FALSE())","v":"M"}]
["2812719","Lacalle Noriega, Ángeles","Madrileña","D",{"$f":"VLOOKUP(G1524,Referencias!$C$4:$D$21,2,FALSE())","v":"Sin Categoría"},{"$f":"VLOOKUP(G1524,Referencias!$C$4:$E$21,3,FALSE())","v":4},"SC","Competición",{"$f":"VLOOKUP(C1524,Referencias!$B$24:$C$40,2,FALSE())","v":"M"}]
["2812720","Segovia López, José Antonio","Madrileña","C",{"$f":"VLOOKUP(G1525,Referencias!$C$4:$D$21,2,FALSE())","v":"Sin Categoría"},{"$f":"VLOOKUP(G1525,Referencias!$C$4:$E$21,3,FALSE())","v":4},"SC","Competición",{"$f":"VLOOKUP(C1525,Referencias!$B$24:$C$40,2,FALSE())","v":"M"}]
["2812721","García Del Pino, Lucía","Madrileña","D",{"$f":"VLOOKUP(G1526,Referencias!$C$4:$D$21,2,FALSE())","v":"Sin Categoría"},{"$f":"VLOOKUP(G1526,Referencias!$C$4:$E$21,3,FALSE())","v":4},"SC","Competición",{"$f":"VLOOKUP(C1526,Referencias!$B$24:$C$40,2,FALSE())","v":"M"}]
["2812724","Posadas Mañe, Mercedes","Madrileña","D",{"$f":"VLOOKUP(G1527,Referencias!$C$4:$D$21,2,FALSE())","v":"Segunda Diamante"},{"$f":"VLOOKUP(G1527,Referencias!$C$4:$E$21,3,FALSE())","v":2},"2D","Competición",{"$f":"VLOOKUP(C1527,Referencias!$B$24:$C$40,2,FALSE())","v":"M"}]
["2812725","Fernández De Miguel, Consuelo","Madrileña","D",{"$f":"VLOOKUP(G1528,Referencias!$C$4:$D$21,2,FALSE())","v":"Sin Categoría"},{"$f":"VLOOKUP(G1528,Referencias!$C$4:$E$21,3,FALSE())","v":4},"SC","Competición",{"$f":"VLOOKUP(C1528,Referencias!$B$24:$C$40,2,FALSE())","v":"M"}]
["2812726","López Acha, Belén","Madrileña","D",{"$f":"VLOOKUP(G1529,Referencias!$C$4:$D$21,2,FALSE())","v":"Primera Picas"},{"$f":"VLOOKUP(G1529,Referencias!$C$4:$E$21,3,FALSE())","v":1},"1P","Competición",{"$f":"VLOOKUP(C1529,Referencias!$B$24:$C$40,2,FALSE())","v":"M"}]
["2812731","Fernández-Ordas Abarca, María del Carmen","Madrileña","D",{"$f":"VLOOKUP(G1530,Referencias!$C$4:$D$21,2,FALSE())","v":"Tercera Picas"},{"$f":"VLOOKUP(G1530,Referencias!$C$4:$E$21,3,FALSE())","v":3},"3P","Competición",{"$f":"VLOOKUP(C1530,Referencias!$B$24:$C$40,2,FALSE())","v":"M"}]
["2812736","Hernández-Ros Martínez de Velasco, Mercedes","Madrileña","D",{"$f":"VLOOKUP(G1531,Referencias!$C$4:$D$21,2,FALSE())","v":"Tercera Corazón"},{"$f":"VLOOKUP(G1531,Referencias!$C$4:$E$21,3,FALSE())","v":3},"3C","Competición",{"$f":"VLOOKUP(C1531,Referencias!$B$24:$C$40,2,FALSE())","v":"M"}]
["2812737","Hernández-Ros Martínez de Velasco, Matilde","Madrileña","D",{"$f":"VLOOKUP(G1532,Referencias!$C$4:$D$21,2,FALSE())","v":"Tercera Diamante"},{"$f":"VLOOKUP(G1532,Referencias!$C$4:$E$21,3,FALSE())","v":3},"3D","Competición",{"$f":"VLOOKUP(C1532,Referencias!$B$24:$C$40,2,FALSE())","v":"M"}]
["2812738","Aparicio Méndez-Queipo de Llano, Piedad","Madrileña","D",{"$f":"VLOOKUP(G1533,Referencias!$C$4:$D$21,2,FALSE())","v":"Tercera Picas"},{"$f":"VLOOKUP(G1533,Referencias!$C$4:$E$21,3,FALSE())","v":3},"3P","Competición",{"$f":"VLOOKUP(C1533,Referencias!$B$24:$C$40,2,FALSE())","v":"M"}]
["2812740","Escandón de Aldecoa, María Paz","Madrileña","D",{"$f":"VLOOKUP(G1534,Referencias!$C$4:$D$21,2,FALSE())","v":"Segunda Diamante"},{"$f":"VLOOKUP(G1534,Referencias!$C$4:$E$21,3,FALSE())","v":2},"2D","Competición",{"$f":"VLOOKUP(C1534,Referencias!$B$24:$C$40,2,FALSE())","v":"M"}]
["2812741","Trillo-Figueroa Bruguera, Pilar","Madrileña","D",{"$f":"VLOOKUP(G1535,Referencias!$C$4:$D$21,2,FALSE())","v":"Tercera Picas"},{"$f":"VLOOKUP(G1535,Referencias!$C$4:$E$21,3,FALSE())","v":3},"3P","Competición",{"$f":"VLOOKUP(C1535,Referencias!$B$24:$C$40,2,FALSE())","v":"M"}]
["2812743","Catón Vázquez, Cristal","Madrileña","D",{"$f":"VLOOKUP(G1536,Referencias!$C$4:$D$21,2,FALSE())","v":"Sin Categoría"},{"$f":"VLOOKUP(G1536,Referencias!$C$4:$E$21,3,FALSE())","v":4},"SC","Competición",{"$f":"VLOOKUP(C1536,Referencias!$B$24:$C$40,2,FALSE())","v":"M"}]
["2812744","Escribano Hortal, Carmina","Madrileña","D",{"$f":"VLOOKUP(G1537,Referencias!$C$4:$D$21,2,FALSE())","v":"Tercera Corazón"},{"$f":"VLOOKUP(G1537,Referencias!$C$4:$E$21,3,FALSE())","v":3},"3C","Competición",{"$f":"VLOOKUP(C1537,Referencias!$B$24:$C$40,2,FALSE())","v":"M"}]
["2812749","Bañuelos Fournier, Carmen","Madrileña","D",{"$f":"VLOOKUP(G1538,Referencias!$C$4:$D$21,2,FALSE())","v":"Sin Categoría"},{"$f":"VLOOKUP(G1538,Referencias!$C$4:$E$21,3,FALSE())","v":4},"SC","Competición",{"$f":"VLOOKUP(C1538,Referencias!$B$24:$C$40,2,FALSE())","v":"M"}]
["2812750","Ruiz de Velasco Larrea, Inés","Madrileña","D",{"$f":"VLOOKUP(G1539,Referencias!$C$4:$D$21,2,FALSE())","v":"Segunda Picas"},{"$f":"VLOOKUP(G1539,Referencias!$C$4:$E$21,3,FALSE())","v":2},"2P","Competición",{"$f":"VLOOKUP(C1539,Referencias!$B$24:$C$40,2,FALSE())","v":"M"}]
["2812751","Calderón Riestra, Maria","Madrileña","D",{"$f":"VLOOKUP(G1540,Referencias!$C$4:$D$21,2,FALSE())","v":"Tercera Corazón"},{"$f":"VLOOKUP(G1540,Referencias!$C$4:$E$21,3,FALSE())","v":3},"3C","Competición",{"$f":"VLOOKUP(C1540,Referencias!$B$24:$C$40,2,FALSE())","v":"M"}]
["2812752","Cabello Fernández, Matilde","Madrileña","D",{"$f":"VLOOKUP(G1541,Referencias!$C$4:$D$21,2,FALSE())","v":"Sin Categoría"},{"$f":"VLOOKUP(G1541,Referencias!$C$4:$E$21,3,FALSE())","v":4},"SC","Competición",{"$f":"VLOOKUP(C1541,Referencias!$B$24:$C$40,2,FALSE())","v":"M"}]
["2812753","Silvela Foret, Javier","Madrileña","C",{"$f":"VLOOKUP(G1542,Referencias!$C$4:$D$21,2,FALSE())","v":"Segunda Diamante"},{"$f":"VLOOKUP(G1542,Referencias!$C$4:$E$21,3,FALSE())","v":2},"2D","Competición",{"$f":"VLOOKUP(C1542,Referencias!$B$24:$C$40,2,FALSE())","v":"M"}]
["2812754","Damborenea Terroba, Maribel","Madrileña","D",{"$f":"VLOOKUP(G1543,Referencias!$C$4:$D$21,2,FALSE())","v":"Tercera Corazón"},{"$f":"VLOOKUP(G1543,Referencias!$C$4:$E$21,3,FALSE())","v":3},"3C","Competición",{"$f":"VLOOKUP(C1543,Referencias!$B$24:$C$40,2,FALSE())","v":"M"}]
["2812758","Mir Durán, Mercedes","Madrileña","D",{"$f":"VLOOKUP(G1544,Referencias!$C$4:$D$21,2,FALSE())","v":"Sin Categoría"},{"$f":"VLOOKUP(G1544,Referencias!$C$4:$E$21,3,FALSE())","v":4},"SC","Competición",{"$f":"VLOOKUP(C1544,Referencias!$B$24:$C$40,2,FALSE())","v":"M"}]
["2812761","Morán Mayo, María Salud","Madrileña","D",{"$f":"VLOOKUP(G1545,Referencias!$C$4:$D$21,2,FALSE())","v":"Segunda Diamante"},{"$f":"VLOOKUP(G1545,Referencias!$C$4:$E$21,3,FALSE())","v":2},"2D","Competición",{"$f":"VLOOKUP(C1545,Referencias!$B$24:$C$40,2,FALSE())","v":"M"}]
["2812763","Brujó Pfitz, Genoveva","Madrileña","D",{"$f":"VLOOKUP(G1546,Referencias!$C$4:$D$21,2,FALSE())","v":"Sin Categoría"},{"$f":"VLOOKUP(G1546,Referencias!$C$4:$E$21,3,FALSE())","v":4},"SC","Competición",{"$f":"VLOOKUP(C1546,Referencias!$B$24:$C$40,2,FALSE())","v":"M"}]
["2812766","Arredonda Crecente, María Purificación","Madrileña","D",{"$f":"VLOOKUP(G1547,Referencias!$C$4:$D$21,2,FALSE())","v":"Segunda Diamante"},{"$f":"VLOOKUP(G1547,Referencias!$C$4:$E$21,3,FALSE())","v":2},"2D","Competición",{"$f":"VLOOKUP(C1547,Referencias!$B$24:$C$40,2,FALSE())","v":"M"}]
["2812769","Nieto Carrasco, José Antonio","Madrileña","C",{"$f":"VLOOKUP(G1548,Referencias!$C$4:$D$21,2,FALSE())","v":"Segunda Diamante"},{"$f":"VLOOKUP(G1548,Referencias!$C$4:$E$21,3,FALSE())","v":2},"2D","Competición",{"$f":"VLOOKUP(C1548,Referencias!$B$24:$C$40,2,FALSE())","v":"M"}]
["2812772","Pascual Gálvez, María Rosa","Madrileña","D",{"$f":"VLOOKUP(G1549,Referencias!$C$4:$D$21,2,FALSE())","v":"Tercera Diamante"},{"$f":"VLOOKUP(G1549,Referencias!$C$4:$E$21,3,FALSE())","v":3},"3D","Competición",{"$f":"VLOOKUP(C1549,Referencias!$B$24:$C$40,2,FALSE())","v":"M"}]
["2812773","Bambach Gómez, Bernardita","Madrileña","D",{"$f":"VLOOKUP(G1550,Referencias!$C$4:$D$21,2,FALSE())","v":"Sin Categoría"},{"$f":"VLOOKUP(G1550,Referencias!$C$4:$E$21,3,FALSE())","v":4},"SC","Competición",{"$f":"VLOOKUP(C1550,Referencias!$B$24:$C$40,2,FALSE())","v":"M"}]
["2812776","Muñoz Gutiérrez, Paloma","Madrileña","D",{"$f":"VLOOKUP(G1551,Referencias!$C$4:$D$21,2,FALSE())","v":"Primera Corazón"},{"$f":"VLOOKUP(G1551,Referencias!$C$4:$E$21,3,FALSE())","v":1},"1C","Competición",{"$f":"VLOOKUP(C1551,Referencias!$B$24:$C$40,2,FALSE())","v":"M"}]
["2812777","Falcones Jaquotot, Baldomero","Madrileña","C",{"$f":"VLOOKUP(G1552,Referencias!$C$4:$D$21,2,FALSE())","v":"Tercera Corazón"},{"$f":"VLOOKUP(G1552,Referencias!$C$4:$E$21,3,FALSE())","v":3},"3C","Competición",{"$f":"VLOOKUP(C1552,Referencias!$B$24:$C$40,2,FALSE())","v":"M"}]
["2812780","Cames , María Victoria","Madrileña","D",{"$f":"VLOOKUP(G1553,Referencias!$C$4:$D$21,2,FALSE())","v":"Tercera Diamante"},{"$f":"VLOOKUP(G1553,Referencias!$C$4:$E$21,3,FALSE())","v":3},"3D","Competición",{"$f":"VLOOKUP(C1553,Referencias!$B$24:$C$40,2,FALSE())","v":"M"}]
["2812781","Von Wichmann , Gerardo","Madrileña","C",{"$f":"VLOOKUP(G1554,Referencias!$C$4:$D$21,2,FALSE())","v":"Primera Picas"},{"$f":"VLOOKUP(G1554,Referencias!$C$4:$E$21,3,FALSE())","v":1},"1P","Competición",{"$f":"VLOOKUP(C1554,Referencias!$B$24:$C$40,2,FALSE())","v":"M"}]
["2812782","Bordallo Cortina, Cristina","Madrileña","D",{"$f":"VLOOKUP(G1555,Referencias!$C$4:$D$21,2,FALSE())","v":"Maestro Nacional Damas"},{"$f":"VLOOKUP(G1555,Referencias!$C$4:$E$21,3,FALSE())","v":0},"MN-D","Competición",{"$f":"VLOOKUP(C1555,Referencias!$B$24:$C$40,2,FALSE())","v":"M"}]
["2812784","de Villa Santa Ana, Condesa ","Madrileña","D",{"$f":"VLOOKUP(G1556,Referencias!$C$4:$D$21,2,FALSE())","v":"Primera Picas"},{"$f":"VLOOKUP(G1556,Referencias!$C$4:$E$21,3,FALSE())","v":1},"1P","Competición",{"$f":"VLOOKUP(C1556,Referencias!$B$24:$C$40,2,FALSE())","v":"M"}]
["2812785","Enrich Izard, Gisela","Madrileña","D",{"$f":"VLOOKUP(G1557,Referencias!$C$4:$D$21,2,FALSE())","v":"Tercera Diamante"},{"$f":"VLOOKUP(G1557,Referencias!$C$4:$E$21,3,FALSE())","v":3},"3D","Competición",{"$f":"VLOOKUP(C1557,Referencias!$B$24:$C$40,2,FALSE())","v":"M"}]
["2812786","Cotoner Martos, Nicolás","Madrileña","C",{"$f":"VLOOKUP(G1558,Referencias!$C$4:$D$21,2,FALSE())","v":"Sin Categoría"},{"$f":"VLOOKUP(G1558,Referencias!$C$4:$E$21,3,FALSE())","v":4},"SC","Competición",{"$f":"VLOOKUP(C1558,Referencias!$B$24:$C$40,2,FALSE())","v":"M"}]
["2812787","Passarinho Preto, Joao","Madrileña","C",{"$f":"VLOOKUP(G1559,Referencias!$C$4:$D$21,2,FALSE())","v":"Maestro Nacional Open"},{"$f":"VLOOKUP(G1559,Referencias!$C$4:$E$21,3,FALSE())","v":0},"MN-O","Competición",{"$f":"VLOOKUP(C1559,Referencias!$B$24:$C$40,2,FALSE())","v":"M"}]
["2812788","Echavarri Olavarría, Ana","Madrileña","D",{"$f":"VLOOKUP(G1560,Referencias!$C$4:$D$21,2,FALSE())","v":"Sin Categoría"},{"$f":"VLOOKUP(G1560,Referencias!$C$4:$E$21,3,FALSE())","v":4},"SC","Competición",{"$f":"VLOOKUP(C1560,Referencias!$B$24:$C$40,2,FALSE())","v":"M"}]
["2812789","Zurita Calderón, Ana","Madrileña","D",{"$f":"VLOOKUP(G1561,Referencias!$C$4:$D$21,2,FALSE())","v":"Sin Categoría"},{"$f":"VLOOKUP(G1561,Referencias!$C$4:$E$21,3,FALSE())","v":4},"SC","Competición",{"$f":"VLOOKUP(C1561,Referencias!$B$24:$C$40,2,FALSE())","v":"M"}]
["2812794","Pérez de Guirao, María Jesús","Madrileña","D",{"$f":"VLOOKUP(G1562,Referencias!$C$4:$D$21,2,FALSE())","v":"Tercera Corazón"},{"$f":"VLOOKUP(G1562,Referencias!$C$4:$E$21,3,FALSE())","v":3},"3C","Competición",{"$f":"VLOOKUP(C1562,Referencias!$B$24:$C$40,2,FALSE())","v":"M"}]
["2812795","Bugallal Ortiz, Álvaro","Madrileña","C",{"$f":"VLOOKUP(G1563,Referencias!$C$4:$D$21,2,FALSE())","v":"Primera Corazón"},{"$f":"VLOOKUP(G1563,Referencias!$C$4:$E$21,3,FALSE())","v":1},"1C","Competición",{"$f":"VLOOKUP(C1563,Referencias!$B$24:$C$40,2,FALSE())","v":"M"}]
["2812796","Garrido García, Eva","Madrileña","D",{"$f":"VLOOKUP(G1564,Referencias!$C$4:$D$21,2,FALSE())","v":"Segunda Picas"},{"$f":"VLOOKUP(G1564,Referencias!$C$4:$E$21,3,FALSE())","v":2},"2P","Competición",{"$f":"VLOOKUP(C1564,Referencias!$B$24:$C$40,2,FALSE())","v":"M"}]
["2812797","Butragueño Fernandez, Sandra","Madrileña","D",{"$f":"VLOOKUP(G1565,Referencias!$C$4:$D$21,2,FALSE())","v":"Tercera Diamante"},{"$f":"VLOOKUP(G1565,Referencias!$C$4:$E$21,3,FALSE())","v":3},"3D","Competición",{"$f":"VLOOKUP(C1565,Referencias!$B$24:$C$40,2,FALSE())","v":"M"}]
["2812798","de Villa Alegre de Castilla , Marqués","Madrileña","C",{"$f":"VLOOKUP(G1566,Referencias!$C$4:$D$21,2,FALSE())","v":"Tercera Corazón"},{"$f":"VLOOKUP(G1566,Referencias!$C$4:$E$21,3,FALSE())","v":3},"3C","Competición",{"$f":"VLOOKUP(C1566,Referencias!$B$24:$C$40,2,FALSE())","v":"M"}]
["2812799","de Bonilla Moreno, María","Madrileña","D",{"$f":"VLOOKUP(G1567,Referencias!$C$4:$D$21,2,FALSE())","v":"Tercera Picas"},{"$f":"VLOOKUP(G1567,Referencias!$C$4:$E$21,3,FALSE())","v":3},"3P","Competición",{"$f":"VLOOKUP(C1567,Referencias!$B$24:$C$40,2,FALSE())","v":"M"}]
["2812800","Mora-Figueroa Argudo, Marta","Madrileña","D",{"$f":"VLOOKUP(G1568,Referencias!$C$4:$D$21,2,FALSE())","v":"Sin Categoría"},{"$f":"VLOOKUP(G1568,Referencias!$C$4:$E$21,3,FALSE())","v":4},"SC","Competición",{"$f":"VLOOKUP(C1568,Referencias!$B$24:$C$40,2,FALSE())","v":"M"}]
["2812802","Alonso-Martínez Cobo de Guzman, Julio","Madrileña","C",{"$f":"VLOOKUP(G1569,Referencias!$C$4:$D$21,2,FALSE())","v":"Segunda Picas"},{"$f":"VLOOKUP(G1569,Referencias!$C$4:$E$21,3,FALSE())","v":2},"2P","Competición",{"$f":"VLOOKUP(C1569,Referencias!$B$24:$C$40,2,FALSE())","v":"M"}]
["2812804","Zaballos Rincón, Juan","Madrileña","C",{"$f":"VLOOKUP(G1570,Referencias!$C$4:$D$21,2,FALSE())","v":"Sin Categoría"},{"$f":"VLOOKUP(G1570,Referencias!$C$4:$E$21,3,FALSE())","v":4},"SC","Competición",{"$f":"VLOOKUP(C1570,Referencias!$B$24:$C$40,2,FALSE())","v":"M"}]
["2812805","Pérez Echagüe, Carmen","Madrileña","D",{"$f":"VLOOKUP(G1571,Referencias!$C$4:$D$21,2,FALSE())","v":"Sin Categoría"},{"$f":"VLOOKUP(G1571,Referencias!$C$4:$E$21,3,FALSE())","v":4},"SC","Competición",{"$f":"VLOOKUP(C1571,Referencias!$B$24:$C$40,2,FALSE())","v":"M"}]
["2812807","Sierra Fernández, Carmen","Madrileña","D",{"$f":"VLOOKUP(G1572,Referencias!$C$4:$D$21,2,FALSE())","v":"Tercera Diamante"},{"$f":"VLOOKUP(G1572,Referencias!$C$4:$E$21,3,FALSE())","v":3},"3D","Competición",{"$f":"VLOOKUP(C1572,Referencias!$B$24:$C$40,2,FALSE())","v":"M"}]
["2812808","Hidalgo de Quintana Torroba, Carmen","Madrileña","D",{"$f":"VLOOKUP(G1573,Referencias!$C$4:$D$21,2,FALSE())","v":"Segunda Picas"},{"$f":"VLOOKUP(G1573,Referencias!$C$4:$E$21,3,FALSE())","v":2},"2P","Competición",{"$f":"VLOOKUP(C1573,Referencias!$B$24:$C$40,2,FALSE())","v":"M"}]
["2812809","Amigo Souto, Julia","Madrileña","D",{"$f":"VLOOKUP(G1574,Referencias!$C$4:$D$21,2,FALSE())","v":"Tercera Corazón"},{"$f":"VLOOKUP(G1574,Referencias!$C$4:$E$21,3,FALSE())","v":3},"3C","Competición",{"$f":"VLOOKUP(C1574,Referencias!$B$24:$C$40,2,FALSE())","v":"M"}]
["2812813","Mainer Casado, Angel","Madrileña","C",{"$f":"VLOOKUP(G1575,Referencias!$C$4:$D$21,2,FALSE())","v":"Tercera Corazón"},{"$f":"VLOOKUP(G1575,Referencias!$C$4:$E$21,3,FALSE())","v":3},"3C","Competición",{"$f":"VLOOKUP(C1575,Referencias!$B$24:$C$40,2,FALSE())","v":"M"}]
["2812814","Mainer Casado, Javier","Madrileña","C",{"$f":"VLOOKUP(G1576,Referencias!$C$4:$D$21,2,FALSE())","v":"Segunda Picas"},{"$f":"VLOOKUP(G1576,Referencias!$C$4:$E$21,3,FALSE())","v":2},"2P","Competición",{"$f":"VLOOKUP(C1576,Referencias!$B$24:$C$40,2,FALSE())","v":"M"}]
["2812816","Franco Cerame, Margot","Madrileña","D",{"$f":"VLOOKUP(G1577,Referencias!$C$4:$D$21,2,FALSE())","v":"Sin Categoría"},{"$f":"VLOOKUP(G1577,Referencias!$C$4:$E$21,3,FALSE())","v":4},"SC","Competición",{"$f":"VLOOKUP(C1577,Referencias!$B$24:$C$40,2,FALSE())","v":"M"}]
["2812819","Páramo Neira, Pura","Madrileña","D",{"$f":"VLOOKUP(G1578,Referencias!$C$4:$D$21,2,FALSE())","v":"Tercera Corazón"},{"$f":"VLOOKUP(G1578,Referencias!$C$4:$E$21,3,FALSE())","v":3},"3C","Competición",{"$f":"VLOOKUP(C1578,Referencias!$B$24:$C$40,2,FALSE())","v":"M"}]
["2812821","Aparicio Méndez-Queipo de Llano, Beatriz","Madrileña","D",{"$f":"VLOOKUP(G1579,Referencias!$C$4:$D$21,2,FALSE())","v":"Sin Categoría"},{"$f":"VLOOKUP(G1579,Referencias!$C$4:$E$21,3,FALSE())","v":4},"SC","Competición",{"$f":"VLOOKUP(C1579,Referencias!$B$24:$C$40,2,FALSE())","v":"M"}]
["2812822","Reyes Tous, Verónica","Madrileña","D",{"$f":"VLOOKUP(G1580,Referencias!$C$4:$D$21,2,FALSE())","v":"Sin Categoría"},{"$f":"VLOOKUP(G1580,Referencias!$C$4:$E$21,3,FALSE())","v":4},"SC","Competición",{"$f":"VLOOKUP(C1580,Referencias!$B$24:$C$40,2,FALSE())","v":"M"}]
["2812824","Herrera García-Moriyón, María Rosario","Madrileña","D",{"$f":"VLOOKUP(G1581,Referencias!$C$4:$D$21,2,FALSE())","v":"Tercera Picas"},{"$f":"VLOOKUP(G1581,Referencias!$C$4:$E$21,3,FALSE())","v":3},"3P","Competición",{"$f":"VLOOKUP(C1581,Referencias!$B$24:$C$40,2,FALSE())","v":"M"}]
["2812826","Fuentes Losa, Manuel","Madrileña","C",{"$f":"VLOOKUP(G1582,Referencias!$C$4:$D$21,2,FALSE())","v":"Sin Categoría"},{"$f":"VLOOKUP(G1582,Referencias!$C$4:$E$21,3,FALSE())","v":4},"SC","Competición",{"$f":"VLOOKUP(C1582,Referencias!$B$24:$C$40,2,FALSE())","v":"M"}]
["2812828","Hernández Merino, Carmen","Madrileña","D",{"$f":"VLOOKUP(G1583,Referencias!$C$4:$D$21,2,FALSE())","v":"Primera Picas"},{"$f":"VLOOKUP(G1583,Referencias!$C$4:$E$21,3,FALSE())","v":1},"1P","Competición",{"$f":"VLOOKUP(C1583,Referencias!$B$24:$C$40,2,FALSE())","v":"M"}]
["2812830","de Alcaráz Baillo, Luis","Madrileña","C",{"$f":"VLOOKUP(G1584,Referencias!$C$4:$D$21,2,FALSE())","v":"Sin Categoría"},{"$f":"VLOOKUP(G1584,Referencias!$C$4:$E$21,3,FALSE())","v":4},"SC","Competición",{"$f":"VLOOKUP(C1584,Referencias!$B$24:$C$40,2,FALSE())","v":"M"}]
["2812831","Estrada Lauret, Ascensión","Madrileña","D",{"$f":"VLOOKUP(G1585,Referencias!$C$4:$D$21,2,FALSE())","v":"Segunda Diamante"},{"$f":"VLOOKUP(G1585,Referencias!$C$4:$E$21,3,FALSE())","v":2},"2D","Competición",{"$f":"VLOOKUP(C1585,Referencias!$B$24:$C$40,2,FALSE())","v":"M"}]
["2812833","Cal Souto, Pilar","Madrileña","D",{"$f":"VLOOKUP(G1586,Referencias!$C$4:$D$21,2,FALSE())","v":"Primera Picas"},{"$f":"VLOOKUP(G1586,Referencias!$C$4:$E$21,3,FALSE())","v":1},"1P","Competición",{"$f":"VLOOKUP(C1586,Referencias!$B$24:$C$40,2,FALSE())","v":"M"}]
["2812834","de Vila Miranda, María","Madrileña","D",{"$f":"VLOOKUP(G1587,Referencias!$C$4:$D$21,2,FALSE())","v":"Tercera Corazón"},{"$f":"VLOOKUP(G1587,Referencias!$C$4:$E$21,3,FALSE())","v":3},"3C","Competición",{"$f":"VLOOKUP(C1587,Referencias!$B$24:$C$40,2,FALSE())","v":"M"}]
["2812837","Alberdi Berriatua, Ana","Madrileña","D",{"$f":"VLOOKUP(G1588,Referencias!$C$4:$D$21,2,FALSE())","v":"Segunda Corazón"},{"$f":"VLOOKUP(G1588,Referencias!$C$4:$E$21,3,FALSE())","v":2},"2C","Competición",{"$f":"VLOOKUP(C1588,Referencias!$B$24:$C$40,2,FALSE())","v":"M"}]
["2812838","Castillejo Del Castaño, Ana","Madrileña","D",{"$f":"VLOOKUP(G1589,Referencias!$C$4:$D$21,2,FALSE())","v":"Tercera Diamante"},{"$f":"VLOOKUP(G1589,Referencias!$C$4:$E$21,3,FALSE())","v":3},"3D","Competición",{"$f":"VLOOKUP(C1589,Referencias!$B$24:$C$40,2,FALSE())","v":"M"}]
["2812839","Sandoval Renshaw, José Luis","Cántabra","C",{"$f":"VLOOKUP(G1590,Referencias!$C$4:$D$21,2,FALSE())","v":"Tercera Corazón"},{"$f":"VLOOKUP(G1590,Referencias!$C$4:$E$21,3,FALSE())","v":3},"3C","Competición",{"$f":"VLOOKUP(C1590,Referencias!$B$24:$C$40,2,FALSE())","v":"CN"}]
["2812842","Riu Monsó, Rosa","Madrileña","D",{"$f":"VLOOKUP(G1591,Referencias!$C$4:$D$21,2,FALSE())","v":"Sin Categoría"},{"$f":"VLOOKUP(G1591,Referencias!$C$4:$E$21,3,FALSE())","v":4},"SC","Competición",{"$f":"VLOOKUP(C1591,Referencias!$B$24:$C$40,2,FALSE())","v":"M"}]
["2812844","Rodríguez San Pedro Márquez, José Carlos","Madrileña","C",{"$f":"VLOOKUP(G1592,Referencias!$C$4:$D$21,2,FALSE())","v":"Sin Categoría"},{"$f":"VLOOKUP(G1592,Referencias!$C$4:$E$21,3,FALSE())","v":4},"SC","Competición",{"$f":"VLOOKUP(C1592,Referencias!$B$24:$C$40,2,FALSE())","v":"M"}]
["2812846","Bárcena Beltrán, María","Madrileña","D",{"$f":"VLOOKUP(G1593,Referencias!$C$4:$D$21,2,FALSE())","v":"Sin Categoría"},{"$f":"VLOOKUP(G1593,Referencias!$C$4:$E$21,3,FALSE())","v":4},"SC","Competición",{"$f":"VLOOKUP(C1593,Referencias!$B$24:$C$40,2,FALSE())","v":"M"}]
["2812847","de los Ulagares , Marquesa","Madrileña","D",{"$f":"VLOOKUP(G1594,Referencias!$C$4:$D$21,2,FALSE())","v":"Primera Picas"},{"$f":"VLOOKUP(G1594,Referencias!$C$4:$E$21,3,FALSE())","v":1},"1P","Competición",{"$f":"VLOOKUP(C1594,Referencias!$B$24:$C$40,2,FALSE())","v":"M"}]
["2812849","Fernández-Lleó García, Luis","Andaluza","C",{"$f":"VLOOKUP(G1595,Referencias!$C$4:$D$21,2,FALSE())","v":"Primera Corazón"},{"$f":"VLOOKUP(G1595,Referencias!$C$4:$E$21,3,FALSE())","v":1},"1C","Competición",{"$f":"VLOOKUP(C1595,Referencias!$B$24:$C$40,2,FALSE())","v":"A"}]
["2812852","Rodríguez Delgado, María Trinidad","Madrileña","D",{"$f":"VLOOKUP(G1596,Referencias!$C$4:$D$21,2,FALSE())","v":"Tercera Picas"},{"$f":"VLOOKUP(G1596,Referencias!$C$4:$E$21,3,FALSE())","v":3},"3P","Competición",{"$f":"VLOOKUP(C1596,Referencias!$B$24:$C$40,2,FALSE())","v":"M"}]
["2812855","González-Baylin López, María del Carmen","Madrileña","D",{"$f":"VLOOKUP(G1597,Referencias!$C$4:$D$21,2,FALSE())","v":"Sin Categoría"},{"$f":"VLOOKUP(G1597,Referencias!$C$4:$E$21,3,FALSE())","v":4},"SC","Competición",{"$f":"VLOOKUP(C1597,Referencias!$B$24:$C$40,2,FALSE())","v":"M"}]
["2812856","de la Peña Riva, Cristina","Madrileña","D",{"$f":"VLOOKUP(G1598,Referencias!$C$4:$D$21,2,FALSE())","v":"Tercera Diamante"},{"$f":"VLOOKUP(G1598,Referencias!$C$4:$E$21,3,FALSE())","v":3},"3D","Competición",{"$f":"VLOOKUP(C1598,Referencias!$B$24:$C$40,2,FALSE())","v":"M"}]
["2812857","Suárez-Llanos Rovira, Concha","Madrileña","D",{"$f":"VLOOKUP(G1599,Referencias!$C$4:$D$21,2,FALSE())","v":"Primera Corazón"},{"$f":"VLOOKUP(G1599,Referencias!$C$4:$E$21,3,FALSE())","v":1},"1C","Competición",{"$f":"VLOOKUP(C1599,Referencias!$B$24:$C$40,2,FALSE())","v":"M"}]
["2812859","Cifuentes Servitje, Beatriz","Madrileña","D",{"$f":"VLOOKUP(G1600,Referencias!$C$4:$D$21,2,FALSE())","v":"Sin Categoría"},{"$f":"VLOOKUP(G1600,Referencias!$C$4:$E$21,3,FALSE())","v":4},"SC","Competición",{"$f":"VLOOKUP(C1600,Referencias!$B$24:$C$40,2,FALSE())","v":"M"}]
["2812861","Artesani-Lyons , Petrana","Madrileña","D",{"$f":"VLOOKUP(G1601,Referencias!$C$4:$D$21,2,FALSE())","v":"Sin Categoría"},{"$f":"VLOOKUP(G1601,Referencias!$C$4:$E$21,3,FALSE())","v":4},"SC","Competición",{"$f":"VLOOKUP(C1601,Referencias!$B$24:$C$40,2,FALSE())","v":"M"}]
["2812862","Jaúdenes Argüelles, Carmen","Madrileña","D",{"$f":"VLOOKUP(G1602,Referencias!$C$4:$D$21,2,FALSE())","v":"Tercera Diamante"},{"$f":"VLOOKUP(G1602,Referencias!$C$4:$E$21,3,FALSE())","v":3},"3D","Competición",{"$f":"VLOOKUP(C1602,Referencias!$B$24:$C$40,2,FALSE())","v":"M"}]
["2812863","Aranaz Rodríguez, María Rosa","Madrileña","D",{"$f":"VLOOKUP(G1603,Referencias!$C$4:$D$21,2,FALSE())","v":"Tercera Corazón"},{"$f":"VLOOKUP(G1603,Referencias!$C$4:$E$21,3,FALSE())","v":3},"3C","Competición",{"$f":"VLOOKUP(C1603,Referencias!$B$24:$C$40,2,FALSE())","v":"M"}]
["2812865","Magdalena Ramos, Ángeles","Madrileña","D",{"$f":"VLOOKUP(G1604,Referencias!$C$4:$D$21,2,FALSE())","v":"Sin Categoría"},{"$f":"VLOOKUP(G1604,Referencias!$C$4:$E$21,3,FALSE())","v":4},"SC","Competición",{"$f":"VLOOKUP(C1604,Referencias!$B$24:$C$40,2,FALSE())","v":"M"}]
["2812866","Vélez García-Nieto, Teresa","Madrileña","D",{"$f":"VLOOKUP(G1605,Referencias!$C$4:$D$21,2,FALSE())","v":"Primera Picas"},{"$f":"VLOOKUP(G1605,Referencias!$C$4:$E$21,3,FALSE())","v":1},"1P","Competición",{"$f":"VLOOKUP(C1605,Referencias!$B$24:$C$40,2,FALSE())","v":"M"}]
["2812868","Corrales Kindelán, Jaime","Madrileña","C",{"$f":"VLOOKUP(G1606,Referencias!$C$4:$D$21,2,FALSE())","v":"Sin Categoría"},{"$f":"VLOOKUP(G1606,Referencias!$C$4:$E$21,3,FALSE())","v":4},"SC","Competición",{"$f":"VLOOKUP(C1606,Referencias!$B$24:$C$40,2,FALSE())","v":"M"}]
["2812870","Vélez García-Nieto, Carmen","Madrileña","D",{"$f":"VLOOKUP(G1607,Referencias!$C$4:$D$21,2,FALSE())","v":"Primera Corazón"},{"$f":"VLOOKUP(G1607,Referencias!$C$4:$E$21,3,FALSE())","v":1},"1C","Competición",{"$f":"VLOOKUP(C1607,Referencias!$B$24:$C$40,2,FALSE())","v":"M"}]
["2812871","Rodríguez Montellano, Rosa María","Madrileña","D",{"$f":"VLOOKUP(G1608,Referencias!$C$4:$D$21,2,FALSE())","v":"Tercera Picas"},{"$f":"VLOOKUP(G1608,Referencias!$C$4:$E$21,3,FALSE())","v":3},"3P","Competición",{"$f":"VLOOKUP(C1608,Referencias!$B$24:$C$40,2,FALSE())","v":"M"}]
["2812875","Padellano De Blas, María Teresa","Madrileña","D",{"$f":"VLOOKUP(G1609,Referencias!$C$4:$D$21,2,FALSE())","v":"Primera Corazón"},{"$f":"VLOOKUP(G1609,Referencias!$C$4:$E$21,3,FALSE())","v":1},"1C","Competición",{"$f":"VLOOKUP(C1609,Referencias!$B$24:$C$40,2,FALSE())","v":"M"}]
["2812876","Muñoz Torralbo, Antonio","Madrileña","C",{"$f":"VLOOKUP(G1610,Referencias!$C$4:$D$21,2,FALSE())","v":"Segunda Corazón"},{"$f":"VLOOKUP(G1610,Referencias!$C$4:$E$21,3,FALSE())","v":2},"2C","Competición",{"$f":"VLOOKUP(C1610,Referencias!$B$24:$C$40,2,FALSE())","v":"M"}]
["2812877","Alcocer Torra, Cristina","Madrileña","D",{"$f":"VLOOKUP(G1611,Referencias!$C$4:$D$21,2,FALSE())","v":"Tercera Picas"},{"$f":"VLOOKUP(G1611,Referencias!$C$4:$E$21,3,FALSE())","v":3},"3P","Competición",{"$f":"VLOOKUP(C1611,Referencias!$B$24:$C$40,2,FALSE())","v":"M"}]
["2812878","Valdés Gómez, Marian","Madrileña","D",{"$f":"VLOOKUP(G1612,Referencias!$C$4:$D$21,2,FALSE())","v":"Tercera Diamante"},{"$f":"VLOOKUP(G1612,Referencias!$C$4:$E$21,3,FALSE())","v":3},"3D","Competición",{"$f":"VLOOKUP(C1612,Referencias!$B$24:$C$40,2,FALSE())","v":"M"}]
["2812883","Pardo de Unceta , Leticia","Madrileña","D",{"$f":"VLOOKUP(G1613,Referencias!$C$4:$D$21,2,FALSE())","v":"Tercera Corazón"},{"$f":"VLOOKUP(G1613,Referencias!$C$4:$E$21,3,FALSE())","v":3},"3C","Competición",{"$f":"VLOOKUP(C1613,Referencias!$B$24:$C$40,2,FALSE())","v":"M"}]
["2812884","Pardo de Unceta , María Cristina","Madrileña","D",{"$f":"VLOOKUP(G1614,Referencias!$C$4:$D$21,2,FALSE())","v":"Sin Categoría"},{"$f":"VLOOKUP(G1614,Referencias!$C$4:$E$21,3,FALSE())","v":4},"SC","Competición",{"$f":"VLOOKUP(C1614,Referencias!$B$24:$C$40,2,FALSE())","v":"M"}]
["2812885","Lee Brunner, Margaret","Madrileña","D",{"$f":"VLOOKUP(G1615,Referencias!$C$4:$D$21,2,FALSE())","v":"Segunda Diamante"},{"$f":"VLOOKUP(G1615,Referencias!$C$4:$E$21,3,FALSE())","v":2},"2D","Competición",{"$f":"VLOOKUP(C1615,Referencias!$B$24:$C$40,2,FALSE())","v":"M"}]
["2812886","Müller Märki, Beatrice","Madrileña","D",{"$f":"VLOOKUP(G1616,Referencias!$C$4:$D$21,2,FALSE())","v":"Tercera Corazón"},{"$f":"VLOOKUP(G1616,Referencias!$C$4:$E$21,3,FALSE())","v":3},"3C","Competición",{"$f":"VLOOKUP(C1616,Referencias!$B$24:$C$40,2,FALSE())","v":"M"}]
["2812887","Banchini , María Giovanna","Madrileña","D",{"$f":"VLOOKUP(G1617,Referencias!$C$4:$D$21,2,FALSE())","v":"Tercera Diamante"},{"$f":"VLOOKUP(G1617,Referencias!$C$4:$E$21,3,FALSE())","v":3},"3D","Competición",{"$f":"VLOOKUP(C1617,Referencias!$B$24:$C$40,2,FALSE())","v":"M"}]
["2812888","Martín Rodríguez, Rosario","Madrileña","D",{"$f":"VLOOKUP(G1618,Referencias!$C$4:$D$21,2,FALSE())","v":"Sin Categoría"},{"$f":"VLOOKUP(G1618,Referencias!$C$4:$E$21,3,FALSE())","v":4},"SC","Competición",{"$f":"VLOOKUP(C1618,Referencias!$B$24:$C$40,2,FALSE())","v":"M"}]
["2812889","Domecq Urquijo, Sofía","Madrileña","D",{"$f":"VLOOKUP(G1619,Referencias!$C$4:$D$21,2,FALSE())","v":"Tercera Picas"},{"$f":"VLOOKUP(G1619,Referencias!$C$4:$E$21,3,FALSE())","v":3},"3P","Competición",{"$f":"VLOOKUP(C1619,Referencias!$B$24:$C$40,2,FALSE())","v":"M"}]
["2812890","Jiménez Arroyo, Isabel","Madrileña","D",{"$f":"VLOOKUP(G1620,Referencias!$C$4:$D$21,2,FALSE())","v":"Sin Categoría"},{"$f":"VLOOKUP(G1620,Referencias!$C$4:$E$21,3,FALSE())","v":4},"SC","Competición",{"$f":"VLOOKUP(C1620,Referencias!$B$24:$C$40,2,FALSE())","v":"M"}]
["2812891","Romero Montero, Mónica","Madrileña","D",{"$f":"VLOOKUP(G1621,Referencias!$C$4:$D$21,2,FALSE())","v":"Sin Categoría"},{"$f":"VLOOKUP(G1621,Referencias!$C$4:$E$21,3,FALSE())","v":4},"SC","Competición",{"$f":"VLOOKUP(C1621,Referencias!$B$24:$C$40,2,FALSE())","v":"M"}]
["2812892","Vázquez Salinero, Jorge","Madrileña","C",{"$f":"VLOOKUP(G1622,Referencias!$C$4:$D$21,2,FALSE())","v":"Sin Categoría"},{"$f":"VLOOKUP(G1622,Referencias!$C$4:$E$21,3,FALSE())","v":4},"SC","Competición",{"$f":"VLOOKUP(C1622,Referencias!$B$24:$C$40,2,FALSE())","v":"M"}]
["2812893","Badiola Gago, Susana","Madrileña","D",{"$f":"VLOOKUP(G1623,Referencias!$C$4:$D$21,2,FALSE())","v":"Segunda Picas"},{"$f":"VLOOKUP(G1623,Referencias!$C$4:$E$21,3,FALSE())","v":2},"2P","Competición",{"$f":"VLOOKUP(C1623,Referencias!$B$24:$C$40,2,FALSE())","v":"M"}]
["2812894","Santos-Suárez Márquez, Beatriz","Madrileña","D",{"$f":"VLOOKUP(G1624,Referencias!$C$4:$D$21,2,FALSE())","v":"Segunda Picas"},{"$f":"VLOOKUP(G1624,Referencias!$C$4:$E$21,3,FALSE())","v":2},"2P","Competición",{"$f":"VLOOKUP(C1624,Referencias!$B$24:$C$40,2,FALSE())","v":"M"}]
["2812895","Rodríguez Sobrino, Asunción","Madrileña","D",{"$f":"VLOOKUP(G1625,Referencias!$C$4:$D$21,2,FALSE())","v":"Tercera Corazón"},{"$f":"VLOOKUP(G1625,Referencias!$C$4:$E$21,3,FALSE())","v":3},"3C","Competición",{"$f":"VLOOKUP(C1625,Referencias!$B$24:$C$40,2,FALSE())","v":"M"}]
["2812896","Gavia, Condesa de","Madrileña","D",{"$f":"VLOOKUP(G1626,Referencias!$C$4:$D$21,2,FALSE())","v":"Segunda Picas"},{"$f":"VLOOKUP(G1626,Referencias!$C$4:$E$21,3,FALSE())","v":2},"2P","Competición",{"$f":"VLOOKUP(C1626,Referencias!$B$24:$C$40,2,FALSE())","v":"M"}]
["2812899","Guerrero Guerrero, Pedro","Madrileña","C",{"$f":"VLOOKUP(G1627,Referencias!$C$4:$D$21,2,FALSE())","v":"Primera Picas"},{"$f":"VLOOKUP(G1627,Referencias!$C$4:$E$21,3,FALSE())","v":1},"1P","Competición",{"$f":"VLOOKUP(C1627,Referencias!$B$24:$C$40,2,FALSE())","v":"M"}]
["2812900","Antón Suanzes, Paloma","Madrileña","D",{"$f":"VLOOKUP(G1628,Referencias!$C$4:$D$21,2,FALSE())","v":"Primera Diamante"},{"$f":"VLOOKUP(G1628,Referencias!$C$4:$E$21,3,FALSE())","v":1},"1D","Competición",{"$f":"VLOOKUP(C1628,Referencias!$B$24:$C$40,2,FALSE())","v":"M"}]
["2812904","Corral Rodríguez, Consuelo","Madrileña","D",{"$f":"VLOOKUP(G1629,Referencias!$C$4:$D$21,2,FALSE())","v":"Sin Categoría"},{"$f":"VLOOKUP(G1629,Referencias!$C$4:$E$21,3,FALSE())","v":4},"SC","Competición",{"$f":"VLOOKUP(C1629,Referencias!$B$24:$C$40,2,FALSE())","v":"M"}]
["2812906","Menchaca , Ángeles","Madrileña","D",{"$f":"VLOOKUP(G1630,Referencias!$C$4:$D$21,2,FALSE())","v":"Sin Categoría"},{"$f":"VLOOKUP(G1630,Referencias!$C$4:$E$21,3,FALSE())","v":4},"SC","Competición",{"$f":"VLOOKUP(C1630,Referencias!$B$24:$C$40,2,FALSE())","v":"M"}]
["2812908","Herreros de Tejada, Asunción","Madrileña","D",{"$f":"VLOOKUP(G1631,Referencias!$C$4:$D$21,2,FALSE())","v":"Tercera Picas"},{"$f":"VLOOKUP(G1631,Referencias!$C$4:$E$21,3,FALSE())","v":3},"3P","Competición",{"$f":"VLOOKUP(C1631,Referencias!$B$24:$C$40,2,FALSE())","v":"M"}]
["2812909","Padró Sánchez, Nuria","Madrileña","D",{"$f":"VLOOKUP(G1632,Referencias!$C$4:$D$21,2,FALSE())","v":"Tercera Picas"},{"$f":"VLOOKUP(G1632,Referencias!$C$4:$E$21,3,FALSE())","v":3},"3P","Competición",{"$f":"VLOOKUP(C1632,Referencias!$B$24:$C$40,2,FALSE())","v":"M"}]
["2812913","de Miguel Roses, Belén","Madrileña","D",{"$f":"VLOOKUP(G1633,Referencias!$C$4:$D$21,2,FALSE())","v":"Sin Categoría"},{"$f":"VLOOKUP(G1633,Referencias!$C$4:$E$21,3,FALSE())","v":4},"SC","Competición",{"$f":"VLOOKUP(C1633,Referencias!$B$24:$C$40,2,FALSE())","v":"M"}]
["2812915","de la Puebla de Valverde, Condesa ","Madrileña","D",{"$f":"VLOOKUP(G1634,Referencias!$C$4:$D$21,2,FALSE())","v":"Tercera Diamante"},{"$f":"VLOOKUP(G1634,Referencias!$C$4:$E$21,3,FALSE())","v":3},"3D","Competición",{"$f":"VLOOKUP(C1634,Referencias!$B$24:$C$40,2,FALSE())","v":"M"}]
["2812917","Maldonado , Susana","Madrileña","D",{"$f":"VLOOKUP(G1635,Referencias!$C$4:$D$21,2,FALSE())","v":"Sin Categoría"},{"$f":"VLOOKUP(G1635,Referencias!$C$4:$E$21,3,FALSE())","v":4},"SC","Competición",{"$f":"VLOOKUP(C1635,Referencias!$B$24:$C$40,2,FALSE())","v":"M"}]
["2812918","de la Vega Bergé, Carmen","Madrileña","D",{"$f":"VLOOKUP(G1636,Referencias!$C$4:$D$21,2,FALSE())","v":"Segunda Picas"},{"$f":"VLOOKUP(G1636,Referencias!$C$4:$E$21,3,FALSE())","v":2},"2P","Competición",{"$f":"VLOOKUP(C1636,Referencias!$B$24:$C$40,2,FALSE())","v":"M"}]
["2812920","del Serrallo, Conde","Madrileña","C",{"$f":"VLOOKUP(G1637,Referencias!$C$4:$D$21,2,FALSE())","v":"Sin Categoría"},{"$f":"VLOOKUP(G1637,Referencias!$C$4:$E$21,3,FALSE())","v":4},"SC","Competición",{"$f":"VLOOKUP(C1637,Referencias!$B$24:$C$40,2,FALSE())","v":"M"}]
["2812924","Tkatch Vintrob, Ulises","Madrileña","C",{"$f":"VLOOKUP(G1638,Referencias!$C$4:$D$21,2,FALSE())","v":"Primera Picas"},{"$f":"VLOOKUP(G1638,Referencias!$C$4:$E$21,3,FALSE())","v":1},"1P","Competición",{"$f":"VLOOKUP(C1638,Referencias!$B$24:$C$40,2,FALSE())","v":"M"}]
["2812925","García de Oteyza Llansó, Javier","Madrileña","C",{"$f":"VLOOKUP(G1639,Referencias!$C$4:$D$21,2,FALSE())","v":"Primera Picas"},{"$f":"VLOOKUP(G1639,Referencias!$C$4:$E$21,3,FALSE())","v":1},"1P","Competición",{"$f":"VLOOKUP(C1639,Referencias!$B$24:$C$40,2,FALSE())","v":"M"}]
["2812928","Fernández Fernández, María Rosa","Madrileña","D",{"$f":"VLOOKUP(G1640,Referencias!$C$4:$D$21,2,FALSE())","v":"Tercera Corazón"},{"$f":"VLOOKUP(G1640,Referencias!$C$4:$E$21,3,FALSE())","v":3},"3C","Competición",{"$f":"VLOOKUP(C1640,Referencias!$B$24:$C$40,2,FALSE())","v":"M"}]
["2812931","Valero Artola, Teresa","Madrileña","D",{"$f":"VLOOKUP(G1641,Referencias!$C$4:$D$21,2,FALSE())","v":"Tercera Corazón"},{"$f":"VLOOKUP(G1641,Referencias!$C$4:$E$21,3,FALSE())","v":3},"3C","Competición",{"$f":"VLOOKUP(C1641,Referencias!$B$24:$C$40,2,FALSE())","v":"M"}]
["2812932","Kindelán Barañano, Manuel","Madrileña","C",{"$f":"VLOOKUP(G1642,Referencias!$C$4:$D$21,2,FALSE())","v":"Tercera Corazón"},{"$f":"VLOOKUP(G1642,Referencias!$C$4:$E$21,3,FALSE())","v":3},"3C","Competición",{"$f":"VLOOKUP(C1642,Referencias!$B$24:$C$40,2,FALSE())","v":"M"}]
["2812942","Fierro Jiménez-Lopera, Juan Carlos","Madrileña","C",{"$f":"VLOOKUP(G1643,Referencias!$C$4:$D$21,2,FALSE())","v":"Sin Categoría"},{"$f":"VLOOKUP(G1643,Referencias!$C$4:$E$21,3,FALSE())","v":4},"SC","Competición",{"$f":"VLOOKUP(C1643,Referencias!$B$24:$C$40,2,FALSE())","v":"M"}]
["2812945","Melón Santín, Julio","Madrileña","C",{"$f":"VLOOKUP(G1644,Referencias!$C$4:$D$21,2,FALSE())","v":"Primera Diamante"},{"$f":"VLOOKUP(G1644,Referencias!$C$4:$E$21,3,FALSE())","v":1},"1D","Honorífica",{"$f":"VLOOKUP(C1644,Referencias!$B$24:$C$40,2,FALSE())","v":"M"}]
["2812946","Ruiz-Jarabo Ferrán, Manuel","Madrileña","C",{"$f":"VLOOKUP(G1645,Referencias!$C$4:$D$21,2,FALSE())","v":"Segunda Diamante"},{"$f":"VLOOKUP(G1645,Referencias!$C$4:$E$21,3,FALSE())","v":2},"2D","Competición",{"$f":"VLOOKUP(C1645,Referencias!$B$24:$C$40,2,FALSE())","v":"M"}]
["2812948","Orbe Ozores, María Asunción","Madrileña","D",{"$f":"VLOOKUP(G1646,Referencias!$C$4:$D$21,2,FALSE())","v":"Tercera Diamante"},{"$f":"VLOOKUP(G1646,Referencias!$C$4:$E$21,3,FALSE())","v":3},"3D","Competición",{"$f":"VLOOKUP(C1646,Referencias!$B$24:$C$40,2,FALSE())","v":"M"}]
["2812953","Pérez-Loizaga Tous, Gloria","Madrileña","D",{"$f":"VLOOKUP(G1647,Referencias!$C$4:$D$21,2,FALSE())","v":"Sin Categoría"},{"$f":"VLOOKUP(G1647,Referencias!$C$4:$E$21,3,FALSE())","v":4},"SC","Competición",{"$f":"VLOOKUP(C1647,Referencias!$B$24:$C$40,2,FALSE())","v":"M"}]
["2812955","Guerra Orgaz, María Fernanda","Madrileña","D",{"$f":"VLOOKUP(G1648,Referencias!$C$4:$D$21,2,FALSE())","v":"Tercera Diamante"},{"$f":"VLOOKUP(G1648,Referencias!$C$4:$E$21,3,FALSE())","v":3},"3D","Competición",{"$f":"VLOOKUP(C1648,Referencias!$B$24:$C$40,2,FALSE())","v":"M"}]
["2812960","Galíndez Zubiría, Dolores","Madrileña","D",{"$f":"VLOOKUP(G1649,Referencias!$C$4:$D$21,2,FALSE())","v":"Tercera Diamante"},{"$f":"VLOOKUP(G1649,Referencias!$C$4:$E$21,3,FALSE())","v":3},"3D","Competición",{"$f":"VLOOKUP(C1649,Referencias!$B$24:$C$40,2,FALSE())","v":"M"}]
["2812961","Alonso de Noriega Muñiz, Cristina","Madrileña","D",{"$f":"VLOOKUP(G1650,Referencias!$C$4:$D$21,2,FALSE())","v":"Primera Picas"},{"$f":"VLOOKUP(G1650,Referencias!$C$4:$E$21,3,FALSE())","v":1},"1P","Competición",{"$f":"VLOOKUP(C1650,Referencias!$B$24:$C$40,2,FALSE())","v":"M"}]
["2812965","Luque Hernández, Carmen","Madrileña","D",{"$f":"VLOOKUP(G1651,Referencias!$C$4:$D$21,2,FALSE())","v":"Primera Picas"},{"$f":"VLOOKUP(G1651,Referencias!$C$4:$E$21,3,FALSE())","v":1},"1P","Competición",{"$f":"VLOOKUP(C1651,Referencias!$B$24:$C$40,2,FALSE())","v":"M"}]
["2812968","Dolz de Espejo Arróspide, Sol","Madrileña","D",{"$f":"VLOOKUP(G1652,Referencias!$C$4:$D$21,2,FALSE())","v":"Sin Categoría"},{"$f":"VLOOKUP(G1652,Referencias!$C$4:$E$21,3,FALSE())","v":4},"SC","Competición",{"$f":"VLOOKUP(C1652,Referencias!$B$24:$C$40,2,FALSE())","v":"M"}]
["2812969","García-Atance Lafuente, Salvador","Madrileña","C",{"$f":"VLOOKUP(G1653,Referencias!$C$4:$D$21,2,FALSE())","v":"Primera Picas"},{"$f":"VLOOKUP(G1653,Referencias!$C$4:$E$21,3,FALSE())","v":1},"1P","Competición",{"$f":"VLOOKUP(C1653,Referencias!$B$24:$C$40,2,FALSE())","v":"M"}]
["2812972","de Miguel Ortiz, María","Madrileña","D",{"$f":"VLOOKUP(G1654,Referencias!$C$4:$D$21,2,FALSE())","v":"Tercera Picas"},{"$f":"VLOOKUP(G1654,Referencias!$C$4:$E$21,3,FALSE())","v":3},"3P","Competición",{"$f":"VLOOKUP(C1654,Referencias!$B$24:$C$40,2,FALSE())","v":"M"}]
["2812976","Nicotra Alessie, Lucía","Madrileña","D",{"$f":"VLOOKUP(G1655,Referencias!$C$4:$D$21,2,FALSE())","v":"Sin Categoría"},{"$f":"VLOOKUP(G1655,Referencias!$C$4:$E$21,3,FALSE())","v":4},"SC","Competición",{"$f":"VLOOKUP(C1655,Referencias!$B$24:$C$40,2,FALSE())","v":"M"}]
["2812977","Aldaz Barrera, Pablo","Madrileña","C",{"$f":"VLOOKUP(G1656,Referencias!$C$4:$D$21,2,FALSE())","v":"Sin Categoría"},{"$f":"VLOOKUP(G1656,Referencias!$C$4:$E$21,3,FALSE())","v":4},"SC","Competición",{"$f":"VLOOKUP(C1656,Referencias!$B$24:$C$40,2,FALSE())","v":"M"}]
["2812978","González-Mayo Vega, Oriente","Madrileña","D",{"$f":"VLOOKUP(G1657,Referencias!$C$4:$D$21,2,FALSE())","v":"Sin Categoría"},{"$f":"VLOOKUP(G1657,Referencias!$C$4:$E$21,3,FALSE())","v":4},"SC","Competición",{"$f":"VLOOKUP(C1657,Referencias!$B$24:$C$40,2,FALSE())","v":"M"}]
["2812981","Paz-Ares Rodríguez, Juan Pablo","Madrileña","C",{"$f":"VLOOKUP(G1658,Referencias!$C$4:$D$21,2,FALSE())","v":"Primera Picas"},{"$f":"VLOOKUP(G1658,Referencias!$C$4:$E$21,3,FALSE())","v":1},"1P","Competición",{"$f":"VLOOKUP(C1658,Referencias!$B$24:$C$40,2,FALSE())","v":"M"}]
["2812982","Juliá Díez de Rivera, Dolores","Madrileña","D",{"$f":"VLOOKUP(G1659,Referencias!$C$4:$D$21,2,FALSE())","v":"Tercera Picas"},{"$f":"VLOOKUP(G1659,Referencias!$C$4:$E$21,3,FALSE())","v":3},"3P","Competición",{"$f":"VLOOKUP(C1659,Referencias!$B$24:$C$40,2,FALSE())","v":"M"}]
["2812984","Cervera Jordan de Urries, Beatriz","Madrileña","D",{"$f":"VLOOKUP(G1660,Referencias!$C$4:$D$21,2,FALSE())","v":"Segunda Diamante"},{"$f":"VLOOKUP(G1660,Referencias!$C$4:$E$21,3,FALSE())","v":2},"2D","Competición",{"$f":"VLOOKUP(C1660,Referencias!$B$24:$C$40,2,FALSE())","v":"M"}]
["2812985","Serrano Pardo, Isabel","Madrileña","D",{"$f":"VLOOKUP(G1661,Referencias!$C$4:$D$21,2,FALSE())","v":"Tercera Diamante"},{"$f":"VLOOKUP(G1661,Referencias!$C$4:$E$21,3,FALSE())","v":3},"3D","Competición",{"$f":"VLOOKUP(C1661,Referencias!$B$24:$C$40,2,FALSE())","v":"M"}]
["2812986","Fernández Latorre, César","Madrileña","C",{"$f":"VLOOKUP(G1662,Referencias!$C$4:$D$21,2,FALSE())","v":"Tercera Picas"},{"$f":"VLOOKUP(G1662,Referencias!$C$4:$E$21,3,FALSE())","v":3},"3P","Competición",{"$f":"VLOOKUP(C1662,Referencias!$B$24:$C$40,2,FALSE())","v":"M"}]
["2812987","Fernández De Bobadilla, Helena","Madrileña","D",{"$f":"VLOOKUP(G1663,Referencias!$C$4:$D$21,2,FALSE())","v":"Primera Corazón"},{"$f":"VLOOKUP(G1663,Referencias!$C$4:$E$21,3,FALSE())","v":1},"1C","Competición",{"$f":"VLOOKUP(C1663,Referencias!$B$24:$C$40,2,FALSE())","v":"M"}]
["2812990","Lezama-Leguizamón, Adelaida","Madrileña","D",{"$f":"VLOOKUP(G1664,Referencias!$C$4:$D$21,2,FALSE())","v":"Sin Categoría"},{"$f":"VLOOKUP(G1664,Referencias!$C$4:$E$21,3,FALSE())","v":4},"SC","Competición",{"$f":"VLOOKUP(C1664,Referencias!$B$24:$C$40,2,FALSE())","v":"M"}]
["2812991","P. Manuel de Villena, Luis","Madrileña","C",{"$f":"VLOOKUP(G1665,Referencias!$C$4:$D$21,2,FALSE())","v":"Sin Categoría"},{"$f":"VLOOKUP(G1665,Referencias!$C$4:$E$21,3,FALSE())","v":4},"SC","Competición",{"$f":"VLOOKUP(C1665,Referencias!$B$24:$C$40,2,FALSE())","v":"M"}]
["2812992","San Martín Colera, Pedro","Madrileña","C",{"$f":"VLOOKUP(G1666,Referencias!$C$4:$D$21,2,FALSE())","v":"Sin Categoría"},{"$f":"VLOOKUP(G1666,Referencias!$C$4:$E$21,3,FALSE())","v":4},"SC","Competición",{"$f":"VLOOKUP(C1666,Referencias!$B$24:$C$40,2,FALSE())","v":"M"}]
["2812993","Casajuana , Rosa María","Madrileña","D",{"$f":"VLOOKUP(G1667,Referencias!$C$4:$D$21,2,FALSE())","v":"Segunda Diamante"},{"$f":"VLOOKUP(G1667,Referencias!$C$4:$E$21,3,FALSE())","v":2},"2D","Competición",{"$f":"VLOOKUP(C1667,Referencias!$B$24:$C$40,2,FALSE())","v":"M"}]
["2812994","Carvajal Vallejo, Mari Carmen","Madrileña","D",{"$f":"VLOOKUP(G1668,Referencias!$C$4:$D$21,2,FALSE())","v":"Primera Corazón"},{"$f":"VLOOKUP(G1668,Referencias!$C$4:$E$21,3,FALSE())","v":1},"1C","Competición",{"$f":"VLOOKUP(C1668,Referencias!$B$24:$C$40,2,FALSE())","v":"M"}]
["2812995","Penella Saus, Ángeles","Madrileña","D",{"$f":"VLOOKUP(G1669,Referencias!$C$4:$D$21,2,FALSE())","v":"Sin Categoría"},{"$f":"VLOOKUP(G1669,Referencias!$C$4:$E$21,3,FALSE())","v":4},"SC","Competición",{"$f":"VLOOKUP(C1669,Referencias!$B$24:$C$40,2,FALSE())","v":"M"}]
["2813000","Canseco Viejo, Covadonga","Madrileña","D",{"$f":"VLOOKUP(G1670,Referencias!$C$4:$D$21,2,FALSE())","v":"Sin Categoría"},{"$f":"VLOOKUP(G1670,Referencias!$C$4:$E$21,3,FALSE())","v":4},"SC","Competición",{"$f":"VLOOKUP(C1670,Referencias!$B$24:$C$40,2,FALSE())","v":"M"}]
["2813001","Maestre , Carmen","Madrileña","D",{"$f":"VLOOKUP(G1671,Referencias!$C$4:$D$21,2,FALSE())","v":"Tercera Diamante"},{"$f":"VLOOKUP(G1671,Referencias!$C$4:$E$21,3,FALSE())","v":3},"3D","Competición",{"$f":"VLOOKUP(C1671,Referencias!$B$24:$C$40,2,FALSE())","v":"M"}]
["2813004","Rumeu Cruzat, Cristina","Madrileña","D",{"$f":"VLOOKUP(G1672,Referencias!$C$4:$D$21,2,FALSE())","v":"Sin Categoría"},{"$f":"VLOOKUP(G1672,Referencias!$C$4:$E$21,3,FALSE())","v":4},"SC","Competición",{"$f":"VLOOKUP(C1672,Referencias!$B$24:$C$40,2,FALSE())","v":"M"}]
["2813005","Mazario Marañón, Carmen","Madrileña","D",{"$f":"VLOOKUP(G1673,Referencias!$C$4:$D$21,2,FALSE())","v":"Tercera Picas"},{"$f":"VLOOKUP(G1673,Referencias!$C$4:$E$21,3,FALSE())","v":3},"3P","Competición",{"$f":"VLOOKUP(C1673,Referencias!$B$24:$C$40,2,FALSE())","v":"M"}]
["2813006","Monasterio Chicharro, Camila","Madrileña","D",{"$f":"VLOOKUP(G1674,Referencias!$C$4:$D$21,2,FALSE())","v":"Tercera Picas"},{"$f":"VLOOKUP(G1674,Referencias!$C$4:$E$21,3,FALSE())","v":3},"3P","Competición",{"$f":"VLOOKUP(C1674,Referencias!$B$24:$C$40,2,FALSE())","v":"M"}]
["2813008","Hombravella López, Guillermo","Madrileña","C",{"$f":"VLOOKUP(G1675,Referencias!$C$4:$D$21,2,FALSE())","v":"Sin Categoría"},{"$f":"VLOOKUP(G1675,Referencias!$C$4:$E$21,3,FALSE())","v":4},"SC","Competición",{"$f":"VLOOKUP(C1675,Referencias!$B$24:$C$40,2,FALSE())","v":"M"}]
["2813009","Fuentes López, Patricia","Madrileña","D",{"$f":"VLOOKUP(G1676,Referencias!$C$4:$D$21,2,FALSE())","v":"Primera Picas"},{"$f":"VLOOKUP(G1676,Referencias!$C$4:$E$21,3,FALSE())","v":1},"1P","Competición",{"$f":"VLOOKUP(C1676,Referencias!$B$24:$C$40,2,FALSE())","v":"M"}]
["2813010","Tehrani , Fataneh","Madrileña","D",{"$f":"VLOOKUP(G1677,Referencias!$C$4:$D$21,2,FALSE())","v":"Tercera Picas"},{"$f":"VLOOKUP(G1677,Referencias!$C$4:$E$21,3,FALSE())","v":3},"3P","Competición",{"$f":"VLOOKUP(C1677,Referencias!$B$24:$C$40,2,FALSE())","v":"M"}]
["2813014","Ortiz González, María Rosa","Madrileña","D",{"$f":"VLOOKUP(G1678,Referencias!$C$4:$D$21,2,FALSE())","v":"Tercera Diamante"},{"$f":"VLOOKUP(G1678,Referencias!$C$4:$E$21,3,FALSE())","v":3},"3D","Honorífica",{"$f":"VLOOKUP(C1678,Referencias!$B$24:$C$40,2,FALSE())","v":"M"}]
["2813015","Saro Saiz, Concepción","Madrileña","D",{"$f":"VLOOKUP(G1679,Referencias!$C$4:$D$21,2,FALSE())","v":"Sin Categoría"},{"$f":"VLOOKUP(G1679,Referencias!$C$4:$E$21,3,FALSE())","v":4},"SC","Competición",{"$f":"VLOOKUP(C1679,Referencias!$B$24:$C$40,2,FALSE())","v":"M"}]
["2813016","Ruiz de Gámiz Arrabal, Juan Pablo","Madrileña","C",{"$f":"VLOOKUP(G1680,Referencias!$C$4:$D$21,2,FALSE())","v":"Sin Categoría"},{"$f":"VLOOKUP(G1680,Referencias!$C$4:$E$21,3,FALSE())","v":4},"SC","Competición",{"$f":"VLOOKUP(C1680,Referencias!$B$24:$C$40,2,FALSE())","v":"M"}]
["2813017","Pallarés de la Morena, María Luisa","Madrileña","D",{"$f":"VLOOKUP(G1681,Referencias!$C$4:$D$21,2,FALSE())","v":"Tercera Diamante"},{"$f":"VLOOKUP(G1681,Referencias!$C$4:$E$21,3,FALSE())","v":3},"3D","Competición",{"$f":"VLOOKUP(C1681,Referencias!$B$24:$C$40,2,FALSE())","v":"M"}]
["2813018","Fernández-Nespral Bertrand, Graciela","Madrileña","D",{"$f":"VLOOKUP(G1682,Referencias!$C$4:$D$21,2,FALSE())","v":"Sin Categoría"},{"$f":"VLOOKUP(G1682,Referencias!$C$4:$E$21,3,FALSE())","v":4},"SC","Competición",{"$f":"VLOOKUP(C1682,Referencias!$B$24:$C$40,2,FALSE())","v":"M"}]
["2813019","García-Miñaur Rotaeche, Inés","Madrileña","D",{"$f":"VLOOKUP(G1683,Referencias!$C$4:$D$21,2,FALSE())","v":"Tercera Picas"},{"$f":"VLOOKUP(G1683,Referencias!$C$4:$E$21,3,FALSE())","v":3},"3P","Competición",{"$f":"VLOOKUP(C1683,Referencias!$B$24:$C$40,2,FALSE())","v":"M"}]
["2813020","López Goicoechea, Ignacio","Madrileña","C",{"$f":"VLOOKUP(G1684,Referencias!$C$4:$D$21,2,FALSE())","v":"Sin Categoría"},{"$f":"VLOOKUP(G1684,Referencias!$C$4:$E$21,3,FALSE())","v":4},"SC","Competición",{"$f":"VLOOKUP(C1684,Referencias!$B$24:$C$40,2,FALSE())","v":"M"}]
["2813025","Georget Lassagne, Catherine","Madrileña","D",{"$f":"VLOOKUP(G1685,Referencias!$C$4:$D$21,2,FALSE())","v":"Tercera Corazón"},{"$f":"VLOOKUP(G1685,Referencias!$C$4:$E$21,3,FALSE())","v":3},"3C","Competición",{"$f":"VLOOKUP(C1685,Referencias!$B$24:$C$40,2,FALSE())","v":"M"}]
["2813026","Alcocer Pérez-España, Josefina","Madrileña","D",{"$f":"VLOOKUP(G1686,Referencias!$C$4:$D$21,2,FALSE())","v":"Tercera Picas"},{"$f":"VLOOKUP(G1686,Referencias!$C$4:$E$21,3,FALSE())","v":3},"3P","Competición",{"$f":"VLOOKUP(C1686,Referencias!$B$24:$C$40,2,FALSE())","v":"M"}]
["2813027","Mañes García, Neftalí","Madrileña","C",{"$f":"VLOOKUP(G1687,Referencias!$C$4:$D$21,2,FALSE())","v":"Sin Categoría"},{"$f":"VLOOKUP(G1687,Referencias!$C$4:$E$21,3,FALSE())","v":4},"SC","Competición",{"$f":"VLOOKUP(C1687,Referencias!$B$24:$C$40,2,FALSE())","v":"M"}]
["2813028","Guerra Galván, Antonia","Madrileña","D",{"$f":"VLOOKUP(G1688,Referencias!$C$4:$D$21,2,FALSE())","v":"Tercera Corazón"},{"$f":"VLOOKUP(G1688,Referencias!$C$4:$E$21,3,FALSE())","v":3},"3C","Competición",{"$f":"VLOOKUP(C1688,Referencias!$B$24:$C$40,2,FALSE())","v":"M"}]
["2813029","Canosa Penaba, Ángeles","Madrileña","D",{"$f":"VLOOKUP(G1689,Referencias!$C$4:$D$21,2,FALSE())","v":"Tercera Corazón"},{"$f":"VLOOKUP(G1689,Referencias!$C$4:$E$21,3,FALSE())","v":3},"3C","Honorífica",{"$f":"VLOOKUP(C1689,Referencias!$B$24:$C$40,2,FALSE())","v":"M"}]
["2813030","Sainz Muñoz, Marisa","Madrileña","D",{"$f":"VLOOKUP(G1690,Referencias!$C$4:$D$21,2,FALSE())","v":"Tercera Corazón"},{"$f":"VLOOKUP(G1690,Referencias!$C$4:$E$21,3,FALSE())","v":3},"3C","Competición",{"$f":"VLOOKUP(C1690,Referencias!$B$24:$C$40,2,FALSE())","v":"M"}]
["2813034","Rodulfo Lavilla, Carlos","Madrileña","C",{"$f":"VLOOKUP(G1691,Referencias!$C$4:$D$21,2,FALSE())","v":"Primera Corazón"},{"$f":"VLOOKUP(G1691,Referencias!$C$4:$E$21,3,FALSE())","v":1},"1C","Competición",{"$f":"VLOOKUP(C1691,Referencias!$B$24:$C$40,2,FALSE())","v":"M"}]
["2813035","Puy Fernández, Ana","Madrileña","D",{"$f":"VLOOKUP(G1692,Referencias!$C$4:$D$21,2,FALSE())","v":"Segunda Picas"},{"$f":"VLOOKUP(G1692,Referencias!$C$4:$E$21,3,FALSE())","v":2},"2P","Competición",{"$f":"VLOOKUP(C1692,Referencias!$B$24:$C$40,2,FALSE())","v":"M"}]
["2813036","Rosa Keesen, Neiva Elisabeth","Madrileña","D",{"$f":"VLOOKUP(G1693,Referencias!$C$4:$D$21,2,FALSE())","v":"Segunda Picas"},{"$f":"VLOOKUP(G1693,Referencias!$C$4:$E$21,3,FALSE())","v":2},"2P","Competición",{"$f":"VLOOKUP(C1693,Referencias!$B$24:$C$40,2,FALSE())","v":"M"}]
["2813037","Kindelán Everett, Patricia","Madrileña","D",{"$f":"VLOOKUP(G1694,Referencias!$C$4:$D$21,2,FALSE())","v":"Sin Categoría"},{"$f":"VLOOKUP(G1694,Referencias!$C$4:$E$21,3,FALSE())","v":4},"SC","Competición",{"$f":"VLOOKUP(C1694,Referencias!$B$24:$C$40,2,FALSE())","v":"M"}]
["2813041","Teran Saenz, Bertha","Madrileña","D",{"$f":"VLOOKUP(G1695,Referencias!$C$4:$D$21,2,FALSE())","v":"Segunda Corazón"},{"$f":"VLOOKUP(G1695,Referencias!$C$4:$E$21,3,FALSE())","v":2},"2C","Competición",{"$f":"VLOOKUP(C1695,Referencias!$B$24:$C$40,2,FALSE())","v":"M"}]
["2813043","Mato Rodríguez, Carmen","Madrileña","D",{"$f":"VLOOKUP(G1696,Referencias!$C$4:$D$21,2,FALSE())","v":"Sin Categoría"},{"$f":"VLOOKUP(G1696,Referencias!$C$4:$E$21,3,FALSE())","v":4},"SC","Competición",{"$f":"VLOOKUP(C1696,Referencias!$B$24:$C$40,2,FALSE())","v":"M"}]
["2813044","Sánchez-Harguindey Gobartt, Maria del Carmen","Madrileña","D",{"$f":"VLOOKUP(G1697,Referencias!$C$4:$D$21,2,FALSE())","v":"Sin Categoría"},{"$f":"VLOOKUP(G1697,Referencias!$C$4:$E$21,3,FALSE())","v":4},"SC","Competición",{"$f":"VLOOKUP(C1697,Referencias!$B$24:$C$40,2,FALSE())","v":"M"}]
["2813048","Ballestero Aguilar, Alfonso","Madrileña","C",{"$f":"VLOOKUP(G1698,Referencias!$C$4:$D$21,2,FALSE())","v":"Primera Diamante"},{"$f":"VLOOKUP(G1698,Referencias!$C$4:$E$21,3,FALSE())","v":1},"1D","Competición",{"$f":"VLOOKUP(C1698,Referencias!$B$24:$C$40,2,FALSE())","v":"M"}]
["2813049","Aguilar González, Francisco","Madrileña","C",{"$f":"VLOOKUP(G1699,Referencias!$C$4:$D$21,2,FALSE())","v":"Segunda Picas"},{"$f":"VLOOKUP(G1699,Referencias!$C$4:$E$21,3,FALSE())","v":2},"2P","Competición",{"$f":"VLOOKUP(C1699,Referencias!$B$24:$C$40,2,FALSE())","v":"M"}]
["2813050","Trevijano Grasset, Susana","Madrileña","D",{"$f":"VLOOKUP(G1700,Referencias!$C$4:$D$21,2,FALSE())","v":"Segunda Diamante"},{"$f":"VLOOKUP(G1700,Referencias!$C$4:$E$21,3,FALSE())","v":2},"2D","Competición",{"$f":"VLOOKUP(C1700,Referencias!$B$24:$C$40,2,FALSE())","v":"M"}]
["2813052","Chover Latorre, Amparo","Madrileña","D",{"$f":"VLOOKUP(G1701,Referencias!$C$4:$D$21,2,FALSE())","v":"Sin Categoría"},{"$f":"VLOOKUP(G1701,Referencias!$C$4:$E$21,3,FALSE())","v":4},"SC","Competición",{"$f":"VLOOKUP(C1701,Referencias!$B$24:$C$40,2,FALSE())","v":"M"}]
["2813055","Alarcón Torres, Esteban","Madrileña","C",{"$f":"VLOOKUP(G1702,Referencias!$C$4:$D$21,2,FALSE())","v":"Segunda Picas"},{"$f":"VLOOKUP(G1702,Referencias!$C$4:$E$21,3,FALSE())","v":2},"2P","Competición",{"$f":"VLOOKUP(C1702,Referencias!$B$24:$C$40,2,FALSE())","v":"M"}]
["2813056","Tejada, Ignacio","Madrileña","C",{"$f":"VLOOKUP(G1703,Referencias!$C$4:$D$21,2,FALSE())","v":"Segunda Picas"},{"$f":"VLOOKUP(G1703,Referencias!$C$4:$E$21,3,FALSE())","v":2},"2P","Competición",{"$f":"VLOOKUP(C1703,Referencias!$B$24:$C$40,2,FALSE())","v":"M"}]
["2813059","González-Baylin López, Luis","Madrileña","C",{"$f":"VLOOKUP(G1704,Referencias!$C$4:$D$21,2,FALSE())","v":"Sin Categoría"},{"$f":"VLOOKUP(G1704,Referencias!$C$4:$E$21,3,FALSE())","v":4},"SC","Competición",{"$f":"VLOOKUP(C1704,Referencias!$B$24:$C$40,2,FALSE())","v":"M"}]
["2813060","Nores Lorenzo, María del Carmen","Madrileña","D",{"$f":"VLOOKUP(G1705,Referencias!$C$4:$D$21,2,FALSE())","v":"Sin Categoría"},{"$f":"VLOOKUP(G1705,Referencias!$C$4:$E$21,3,FALSE())","v":4},"SC","Competición",{"$f":"VLOOKUP(C1705,Referencias!$B$24:$C$40,2,FALSE())","v":"M"}]
["2813064","Maza García, Ignacio","Madrileña","C",{"$f":"VLOOKUP(G1706,Referencias!$C$4:$D$21,2,FALSE())","v":"Sin Categoría"},{"$f":"VLOOKUP(G1706,Referencias!$C$4:$E$21,3,FALSE())","v":4},"SC","Competición",{"$f":"VLOOKUP(C1706,Referencias!$B$24:$C$40,2,FALSE())","v":"M"}]
["2813065","Aleixandre García, Almudena","Madrileña","D",{"$f":"VLOOKUP(G1707,Referencias!$C$4:$D$21,2,FALSE())","v":"Segunda Diamante"},{"$f":"VLOOKUP(G1707,Referencias!$C$4:$E$21,3,FALSE())","v":2},"2D","Competición",{"$f":"VLOOKUP(C1707,Referencias!$B$24:$C$40,2,FALSE())","v":"M"}]
["2813068","Santias Viada, Javier","Madrileña","C",{"$f":"VLOOKUP(G1708,Referencias!$C$4:$D$21,2,FALSE())","v":"Sin Categoría"},{"$f":"VLOOKUP(G1708,Referencias!$C$4:$E$21,3,FALSE())","v":4},"SC","Competición",{"$f":"VLOOKUP(C1708,Referencias!$B$24:$C$40,2,FALSE())","v":"M"}]
["2813069","Doporto Laguia, Mariano","Madrileña","C",{"$f":"VLOOKUP(G1709,Referencias!$C$4:$D$21,2,FALSE())","v":"Sin Categoría"},{"$f":"VLOOKUP(G1709,Referencias!$C$4:$E$21,3,FALSE())","v":4},"SC","Competición",{"$f":"VLOOKUP(C1709,Referencias!$B$24:$C$40,2,FALSE())","v":"M"}]
["2813070","Russo Isola, Annabelle","Madrileña","D",{"$f":"VLOOKUP(G1710,Referencias!$C$4:$D$21,2,FALSE())","v":"Primera Diamante"},{"$f":"VLOOKUP(G1710,Referencias!$C$4:$E$21,3,FALSE())","v":1},"1D","Competición",{"$f":"VLOOKUP(C1710,Referencias!$B$24:$C$40,2,FALSE())","v":"M"}]
["2813072","Casado del Castillo, María Jesús","Madrileña","D",{"$f":"VLOOKUP(G1711,Referencias!$C$4:$D$21,2,FALSE())","v":"Tercera Diamante"},{"$f":"VLOOKUP(G1711,Referencias!$C$4:$E$21,3,FALSE())","v":3},"3D","Competición",{"$f":"VLOOKUP(C1711,Referencias!$B$24:$C$40,2,FALSE())","v":"M"}]
["2813073","Riestra-Morales de los Ríos, María Dolores","Madrileña","D",{"$f":"VLOOKUP(G1712,Referencias!$C$4:$D$21,2,FALSE())","v":"Tercera Diamante"},{"$f":"VLOOKUP(G1712,Referencias!$C$4:$E$21,3,FALSE())","v":3},"3D","Competición",{"$f":"VLOOKUP(C1712,Referencias!$B$24:$C$40,2,FALSE())","v":"M"}]
["2813074","Panera López, Consuelo","Madrileña","D",{"$f":"VLOOKUP(G1713,Referencias!$C$4:$D$21,2,FALSE())","v":"Tercera Corazón"},{"$f":"VLOOKUP(G1713,Referencias!$C$4:$E$21,3,FALSE())","v":3},"3C","Competición",{"$f":"VLOOKUP(C1713,Referencias!$B$24:$C$40,2,FALSE())","v":"M"}]
["2813075","Rico Villaverde, María Luisa","Madrileña","D",{"$f":"VLOOKUP(G1714,Referencias!$C$4:$D$21,2,FALSE())","v":"Tercera Picas"},{"$f":"VLOOKUP(G1714,Referencias!$C$4:$E$21,3,FALSE())","v":3},"3P","Competición",{"$f":"VLOOKUP(C1714,Referencias!$B$24:$C$40,2,FALSE())","v":"M"}]
["2813077","Magirena Varela, María José","Madrileña","D",{"$f":"VLOOKUP(G1715,Referencias!$C$4:$D$21,2,FALSE())","v":"Primera Diamante"},{"$f":"VLOOKUP(G1715,Referencias!$C$4:$E$21,3,FALSE())","v":1},"1D","Competición",{"$f":"VLOOKUP(C1715,Referencias!$B$24:$C$40,2,FALSE())","v":"M"}]
["2813080","Muñecas Alonso, Consolación","Madrileña","D",{"$f":"VLOOKUP(G1716,Referencias!$C$4:$D$21,2,FALSE())","v":"Tercera Diamante"},{"$f":"VLOOKUP(G1716,Referencias!$C$4:$E$21,3,FALSE())","v":3},"3D","Competición",{"$f":"VLOOKUP(C1716,Referencias!$B$24:$C$40,2,FALSE())","v":"M"}]
["2813082","Ballestero Aguilar, Elena","Madrileña","D",{"$f":"VLOOKUP(G1717,Referencias!$C$4:$D$21,2,FALSE())","v":"Primera Corazón"},{"$f":"VLOOKUP(G1717,Referencias!$C$4:$E$21,3,FALSE())","v":1},"1C","Competición",{"$f":"VLOOKUP(C1717,Referencias!$B$24:$C$40,2,FALSE())","v":"M"}]
["2813083","Langdon Ruiz, Flora","Madrileña","D",{"$f":"VLOOKUP(G1718,Referencias!$C$4:$D$21,2,FALSE())","v":"Segunda Corazón"},{"$f":"VLOOKUP(G1718,Referencias!$C$4:$E$21,3,FALSE())","v":2},"2C","Competición",{"$f":"VLOOKUP(C1718,Referencias!$B$24:$C$40,2,FALSE())","v":"M"}]
["2813084","Díaz-Pedregal Gutiérrez, Aurea","Madrileña","D",{"$f":"VLOOKUP(G1719,Referencias!$C$4:$D$21,2,FALSE())","v":"Tercera Diamante"},{"$f":"VLOOKUP(G1719,Referencias!$C$4:$E$21,3,FALSE())","v":3},"3D","Competición",{"$f":"VLOOKUP(C1719,Referencias!$B$24:$C$40,2,FALSE())","v":"M"}]
["2813088","Álvarez de las Asturias Bohorques, Inés","Madrileña","D",{"$f":"VLOOKUP(G1720,Referencias!$C$4:$D$21,2,FALSE())","v":"Sin Categoría"},{"$f":"VLOOKUP(G1720,Referencias!$C$4:$E$21,3,FALSE())","v":4},"SC","Competición",{"$f":"VLOOKUP(C1720,Referencias!$B$24:$C$40,2,FALSE())","v":"M"}]
["2813090","Monllor Martí, Consuelo","Madrileña","D",{"$f":"VLOOKUP(G1721,Referencias!$C$4:$D$21,2,FALSE())","v":"Segunda Diamante"},{"$f":"VLOOKUP(G1721,Referencias!$C$4:$E$21,3,FALSE())","v":2},"2D","Competición",{"$f":"VLOOKUP(C1721,Referencias!$B$24:$C$40,2,FALSE())","v":"M"}]
["2813091","Antón López, Francisco","Madrileña","C",{"$f":"VLOOKUP(G1722,Referencias!$C$4:$D$21,2,FALSE())","v":"Tercera Picas"},{"$f":"VLOOKUP(G1722,Referencias!$C$4:$E$21,3,FALSE())","v":3},"3P","Competición",{"$f":"VLOOKUP(C1722,Referencias!$B$24:$C$40,2,FALSE())","v":"M"}]
["2813092","Zoppas Navarro, Gianna","Madrileña","C",{"$f":"VLOOKUP(G1723,Referencias!$C$4:$D$21,2,FALSE())","v":"Sin Categoría"},{"$f":"VLOOKUP(G1723,Referencias!$C$4:$E$21,3,FALSE())","v":4},"SC","Competición",{"$f":"VLOOKUP(C1723,Referencias!$B$24:$C$40,2,FALSE())","v":"M"}]
["2813093","Kapica , Krzysztof","Madrileña","C",{"$f":"VLOOKUP(G1724,Referencias!$C$4:$D$21,2,FALSE())","v":"Primera Picas"},{"$f":"VLOOKUP(G1724,Referencias!$C$4:$E$21,3,FALSE())","v":1},"1P","Competición",{"$f":"VLOOKUP(C1724,Referencias!$B$24:$C$40,2,FALSE())","v":"M"}]
["2813094","Kapica , Bárbara Lidia","Madrileña","D",{"$f":"VLOOKUP(G1725,Referencias!$C$4:$D$21,2,FALSE())","v":"Primera Picas"},{"$f":"VLOOKUP(G1725,Referencias!$C$4:$E$21,3,FALSE())","v":1},"1P","Competición",{"$f":"VLOOKUP(C1725,Referencias!$B$24:$C$40,2,FALSE())","v":"M"}]
["2813095","Palicio , Carmen","Madrileña","D",{"$f":"VLOOKUP(G1726,Referencias!$C$4:$D$21,2,FALSE())","v":"Tercera Diamante"},{"$f":"VLOOKUP(G1726,Referencias!$C$4:$E$21,3,FALSE())","v":3},"3D","Competición",{"$f":"VLOOKUP(C1726,Referencias!$B$24:$C$40,2,FALSE())","v":"M"}]
["2813096","Martínez Velez, Jorge","Madrileña","C",{"$f":"VLOOKUP(G1727,Referencias!$C$4:$D$21,2,FALSE())","v":"Sin Categoría"},{"$f":"VLOOKUP(G1727,Referencias!$C$4:$E$21,3,FALSE())","v":4},"SC","Competición",{"$f":"VLOOKUP(C1727,Referencias!$B$24:$C$40,2,FALSE())","v":"M"}]
["2813103","D´Aubarede Paya, Inés","Madrileña","D",{"$f":"VLOOKUP(G1728,Referencias!$C$4:$D$21,2,FALSE())","v":"Sin Categoría"},{"$f":"VLOOKUP(G1728,Referencias!$C$4:$E$21,3,FALSE())","v":4},"SC","Competición",{"$f":"VLOOKUP(C1728,Referencias!$B$24:$C$40,2,FALSE())","v":"M"}]
["2813104","Mendia Alcain, Ana","Madrileña","D",{"$f":"VLOOKUP(G1729,Referencias!$C$4:$D$21,2,FALSE())","v":"Segunda Corazón"},{"$f":"VLOOKUP(G1729,Referencias!$C$4:$E$21,3,FALSE())","v":2},"2C","Competición",{"$f":"VLOOKUP(C1729,Referencias!$B$24:$C$40,2,FALSE())","v":"M"}]
["2813107","Claver Madurga, Lucinda","Madrileña","D",{"$f":"VLOOKUP(G1730,Referencias!$C$4:$D$21,2,FALSE())","v":"Tercera Picas"},{"$f":"VLOOKUP(G1730,Referencias!$C$4:$E$21,3,FALSE())","v":3},"3P","Competición",{"$f":"VLOOKUP(C1730,Referencias!$B$24:$C$40,2,FALSE())","v":"M"}]
["2813108","Claver Madurga, Guadalupe","Madrileña","D",{"$f":"VLOOKUP(G1731,Referencias!$C$4:$D$21,2,FALSE())","v":"Segunda Corazón"},{"$f":"VLOOKUP(G1731,Referencias!$C$4:$E$21,3,FALSE())","v":2},"2C","Competición",{"$f":"VLOOKUP(C1731,Referencias!$B$24:$C$40,2,FALSE())","v":"M"}]
["2813109","Santesmases , María Teresa","Madrileña","D",{"$f":"VLOOKUP(G1732,Referencias!$C$4:$D$21,2,FALSE())","v":"Sin Categoría"},{"$f":"VLOOKUP(G1732,Referencias!$C$4:$E$21,3,FALSE())","v":4},"SC","Competición",{"$f":"VLOOKUP(C1732,Referencias!$B$24:$C$40,2,FALSE())","v":"M"}]
["2813110","Cardiel Vicario , Francisco José","Madrileña","C",{"$f":"VLOOKUP(G1733,Referencias!$C$4:$D$21,2,FALSE())","v":"Segunda Corazón"},{"$f":"VLOOKUP(G1733,Referencias!$C$4:$E$21,3,FALSE())","v":2},"2C","Competición",{"$f":"VLOOKUP(C1733,Referencias!$B$24:$C$40,2,FALSE())","v":"M"}]
["2813114","Sánchez Rubio, Maite","Madrileña","D",{"$f":"VLOOKUP(G1734,Referencias!$C$4:$D$21,2,FALSE())","v":"Segunda Corazón"},{"$f":"VLOOKUP(G1734,Referencias!$C$4:$E$21,3,FALSE())","v":2},"2C","Competición",{"$f":"VLOOKUP(C1734,Referencias!$B$24:$C$40,2,FALSE())","v":"M"}]
["2813116","Bermúdez de Castro Rosillo, Luis","Madrileña","C",{"$f":"VLOOKUP(G1735,Referencias!$C$4:$D$21,2,FALSE())","v":"Segunda Corazón"},{"$f":"VLOOKUP(G1735,Referencias!$C$4:$E$21,3,FALSE())","v":2},"2C","Competición",{"$f":"VLOOKUP(C1735,Referencias!$B$24:$C$40,2,FALSE())","v":"M"}]
["2813117","Rubio Liniers, Teresa","Madrileña","D",{"$f":"VLOOKUP(G1736,Referencias!$C$4:$D$21,2,FALSE())","v":"Tercera Corazón"},{"$f":"VLOOKUP(G1736,Referencias!$C$4:$E$21,3,FALSE())","v":3},"3C","Competición",{"$f":"VLOOKUP(C1736,Referencias!$B$24:$C$40,2,FALSE())","v":"M"}]
["2813118","López Socas, Constantino","Madrileña","C",{"$f":"VLOOKUP(G1737,Referencias!$C$4:$D$21,2,FALSE())","v":"Sin Categoría"},{"$f":"VLOOKUP(G1737,Referencias!$C$4:$E$21,3,FALSE())","v":4},"SC","Competición",{"$f":"VLOOKUP(C1737,Referencias!$B$24:$C$40,2,FALSE())","v":"M"}]
["2813119","Benson Betterley, Judi","Madrileña","D",{"$f":"VLOOKUP(G1738,Referencias!$C$4:$D$21,2,FALSE())","v":"Sin Categoría"},{"$f":"VLOOKUP(G1738,Referencias!$C$4:$E$21,3,FALSE())","v":4},"SC","Competición",{"$f":"VLOOKUP(C1738,Referencias!$B$24:$C$40,2,FALSE())","v":"M"}]
["2813120","Delibes Liniers, María","Madrileña","D",{"$f":"VLOOKUP(G1739,Referencias!$C$4:$D$21,2,FALSE())","v":"Primera Picas"},{"$f":"VLOOKUP(G1739,Referencias!$C$4:$E$21,3,FALSE())","v":1},"1P","Competición",{"$f":"VLOOKUP(C1739,Referencias!$B$24:$C$40,2,FALSE())","v":"M"}]
["2813121","Moreno Fernández de Córdova, Fátima","Madrileña","D",{"$f":"VLOOKUP(G1740,Referencias!$C$4:$D$21,2,FALSE())","v":"Segunda Picas"},{"$f":"VLOOKUP(G1740,Referencias!$C$4:$E$21,3,FALSE())","v":2},"2P","Competición",{"$f":"VLOOKUP(C1740,Referencias!$B$24:$C$40,2,FALSE())","v":"M"}]
["2813122","Sánchez Rubio, Paz","Madrileña","D",{"$f":"VLOOKUP(G1741,Referencias!$C$4:$D$21,2,FALSE())","v":"Segunda Corazón"},{"$f":"VLOOKUP(G1741,Referencias!$C$4:$E$21,3,FALSE())","v":2},"2C","Competición",{"$f":"VLOOKUP(C1741,Referencias!$B$24:$C$40,2,FALSE())","v":"M"}]
["2813123","Prados Martín, Paloma","Madrileña","D",{"$f":"VLOOKUP(G1742,Referencias!$C$4:$D$21,2,FALSE())","v":"Sin Categoría"},{"$f":"VLOOKUP(G1742,Referencias!$C$4:$E$21,3,FALSE())","v":4},"SC","Competición",{"$f":"VLOOKUP(C1742,Referencias!$B$24:$C$40,2,FALSE())","v":"M"}]
["2813124","García-Escudero Marquez, Teresa","Madrileña","D",{"$f":"VLOOKUP(G1743,Referencias!$C$4:$D$21,2,FALSE())","v":"Primera Picas"},{"$f":"VLOOKUP(G1743,Referencias!$C$4:$E$21,3,FALSE())","v":1},"1P","Competición",{"$f":"VLOOKUP(C1743,Referencias!$B$24:$C$40,2,FALSE())","v":"M"}]
["2813126","González Díaz, Ana María","Madrileña","D",{"$f":"VLOOKUP(G1744,Referencias!$C$4:$D$21,2,FALSE())","v":"Primera Corazón"},{"$f":"VLOOKUP(G1744,Referencias!$C$4:$E$21,3,FALSE())","v":1},"1C","Competición",{"$f":"VLOOKUP(C1744,Referencias!$B$24:$C$40,2,FALSE())","v":"M"}]
["2813128","Bielsa Ferrer, Pilar","Madrileña","D",{"$f":"VLOOKUP(G1745,Referencias!$C$4:$D$21,2,FALSE())","v":"Tercera Diamante"},{"$f":"VLOOKUP(G1745,Referencias!$C$4:$E$21,3,FALSE())","v":3},"3D","Competición",{"$f":"VLOOKUP(C1745,Referencias!$B$24:$C$40,2,FALSE())","v":"M"}]
["2813129","Blanco Rodríguez, Dolores","Madrileña","D",{"$f":"VLOOKUP(G1746,Referencias!$C$4:$D$21,2,FALSE())","v":"Tercera Picas"},{"$f":"VLOOKUP(G1746,Referencias!$C$4:$E$21,3,FALSE())","v":3},"3P","Competición",{"$f":"VLOOKUP(C1746,Referencias!$B$24:$C$40,2,FALSE())","v":"M"}]
["2813130","Creus Ramírez de Haro, María Asunción","Madrileña","D",{"$f":"VLOOKUP(G1747,Referencias!$C$4:$D$21,2,FALSE())","v":"Segunda Diamante"},{"$f":"VLOOKUP(G1747,Referencias!$C$4:$E$21,3,FALSE())","v":2},"2D","Competición",{"$f":"VLOOKUP(C1747,Referencias!$B$24:$C$40,2,FALSE())","v":"M"}]
["2813131","Krohn, Ingrid","Madrileña","D",{"$f":"VLOOKUP(G1748,Referencias!$C$4:$D$21,2,FALSE())","v":"Sin Categoría"},{"$f":"VLOOKUP(G1748,Referencias!$C$4:$E$21,3,FALSE())","v":4},"SC","Competición",{"$f":"VLOOKUP(C1748,Referencias!$B$24:$C$40,2,FALSE())","v":"M"}]
["2813132","Wendel, Ingrid","Madrileña","D",{"$f":"VLOOKUP(G1749,Referencias!$C$4:$D$21,2,FALSE())","v":"Tercera Diamante"},{"$f":"VLOOKUP(G1749,Referencias!$C$4:$E$21,3,FALSE())","v":3},"3D","Competición",{"$f":"VLOOKUP(C1749,Referencias!$B$24:$C$40,2,FALSE())","v":"M"}]
["2813133","Kremers, Marlis","Madrileña","D",{"$f":"VLOOKUP(G1750,Referencias!$C$4:$D$21,2,FALSE())","v":"Segunda Picas"},{"$f":"VLOOKUP(G1750,Referencias!$C$4:$E$21,3,FALSE())","v":2},"2P","Competición",{"$f":"VLOOKUP(C1750,Referencias!$B$24:$C$40,2,FALSE())","v":"M"}]
["2813134","Sagi-Vela Pilón, Elena","Madrileña","D",{"$f":"VLOOKUP(G1751,Referencias!$C$4:$D$21,2,FALSE())","v":"Segunda Picas"},{"$f":"VLOOKUP(G1751,Referencias!$C$4:$E$21,3,FALSE())","v":2},"2P","Competición",{"$f":"VLOOKUP(C1751,Referencias!$B$24:$C$40,2,FALSE())","v":"M"}]
["2813135","Sanz-Pastor Mingot, Miryam","Madrileña","D",{"$f":"VLOOKUP(G1752,Referencias!$C$4:$D$21,2,FALSE())","v":"Segunda Picas"},{"$f":"VLOOKUP(G1752,Referencias!$C$4:$E$21,3,FALSE())","v":2},"2P","Competición",{"$f":"VLOOKUP(C1752,Referencias!$B$24:$C$40,2,FALSE())","v":"M"}]
["2813139","Aparicio De Lázaro, Blanca","Madrileña","D",{"$f":"VLOOKUP(G1753,Referencias!$C$4:$D$21,2,FALSE())","v":"Tercera Diamante"},{"$f":"VLOOKUP(G1753,Referencias!$C$4:$E$21,3,FALSE())","v":3},"3D","Competición",{"$f":"VLOOKUP(C1753,Referencias!$B$24:$C$40,2,FALSE())","v":"M"}]
["2813140","Ivanov Zahariev, Nedeltcho","Madrileña","C",{"$f":"VLOOKUP(G1754,Referencias!$C$4:$D$21,2,FALSE())","v":"Sin Categoría"},{"$f":"VLOOKUP(G1754,Referencias!$C$4:$E$21,3,FALSE())","v":4},"SC","Competición",{"$f":"VLOOKUP(C1754,Referencias!$B$24:$C$40,2,FALSE())","v":"M"}]
["2813141","Cillero Mourelo, Antonio","Madrileña","C",{"$f":"VLOOKUP(G1755,Referencias!$C$4:$D$21,2,FALSE())","v":"Sin Categoría"},{"$f":"VLOOKUP(G1755,Referencias!$C$4:$E$21,3,FALSE())","v":4},"SC","Competición",{"$f":"VLOOKUP(C1755,Referencias!$B$24:$C$40,2,FALSE())","v":"M"}]
["2813142","Cavero Crespi, Joaquín","Madrileña","C",{"$f":"VLOOKUP(G1756,Referencias!$C$4:$D$21,2,FALSE())","v":"Primera Picas"},{"$f":"VLOOKUP(G1756,Referencias!$C$4:$E$21,3,FALSE())","v":1},"1P","Competición",{"$f":"VLOOKUP(C1756,Referencias!$B$24:$C$40,2,FALSE())","v":"M"}]
["2813144","Zamora Paguaga, Paz","Madrileña","D",{"$f":"VLOOKUP(G1757,Referencias!$C$4:$D$21,2,FALSE())","v":"Tercera Picas"},{"$f":"VLOOKUP(G1757,Referencias!$C$4:$E$21,3,FALSE())","v":3},"3P","Competición",{"$f":"VLOOKUP(C1757,Referencias!$B$24:$C$40,2,FALSE())","v":"M"}]
["2813147","Azcárraga Gonzalo, Álvaro","Madrileña","C",{"$f":"VLOOKUP(G1758,Referencias!$C$4:$D$21,2,FALSE())","v":"Segunda Picas"},{"$f":"VLOOKUP(G1758,Referencias!$C$4:$E$21,3,FALSE())","v":2},"2P","Competición",{"$f":"VLOOKUP(C1758,Referencias!$B$24:$C$40,2,FALSE())","v":"M"}]
["2813153","Falcones Jaquotot, José Miguel","Madrileña","C",{"$f":"VLOOKUP(G1759,Referencias!$C$4:$D$21,2,FALSE())","v":"Segunda Picas"},{"$f":"VLOOKUP(G1759,Referencias!$C$4:$E$21,3,FALSE())","v":2},"2P","Competición",{"$f":"VLOOKUP(C1759,Referencias!$B$24:$C$40,2,FALSE())","v":"M"}]
["2813155","Romaguera Cuevas, Luisa María","Madrileña","D",{"$f":"VLOOKUP(G1760,Referencias!$C$4:$D$21,2,FALSE())","v":"Tercera Diamante"},{"$f":"VLOOKUP(G1760,Referencias!$C$4:$E$21,3,FALSE())","v":3},"3D","Competición",{"$f":"VLOOKUP(C1760,Referencias!$B$24:$C$40,2,FALSE())","v":"M"}]
["2813156","Eizaguirre Orbe, Coro","Madrileña","D",{"$f":"VLOOKUP(G1761,Referencias!$C$4:$D$21,2,FALSE())","v":"Tercera Diamante"},{"$f":"VLOOKUP(G1761,Referencias!$C$4:$E$21,3,FALSE())","v":3},"3D","Competición",{"$f":"VLOOKUP(C1761,Referencias!$B$24:$C$40,2,FALSE())","v":"M"}]
["2813158","Larrea , Sagrario","Madrileña","D",{"$f":"VLOOKUP(G1762,Referencias!$C$4:$D$21,2,FALSE())","v":"Tercera Picas"},{"$f":"VLOOKUP(G1762,Referencias!$C$4:$E$21,3,FALSE())","v":3},"3P","Competición",{"$f":"VLOOKUP(C1762,Referencias!$B$24:$C$40,2,FALSE())","v":"M"}]
["2813160","Megias Comín, Myriam","Madrileña","D",{"$f":"VLOOKUP(G1763,Referencias!$C$4:$D$21,2,FALSE())","v":"Tercera Picas"},{"$f":"VLOOKUP(G1763,Referencias!$C$4:$E$21,3,FALSE())","v":3},"3P","Competición",{"$f":"VLOOKUP(C1763,Referencias!$B$24:$C$40,2,FALSE())","v":"M"}]
["2813161","Rodríguez Sarasa, María Luz","Madrileña","D",{"$f":"VLOOKUP(G1764,Referencias!$C$4:$D$21,2,FALSE())","v":"Sin Categoría"},{"$f":"VLOOKUP(G1764,Referencias!$C$4:$E$21,3,FALSE())","v":4},"SC","Competición",{"$f":"VLOOKUP(C1764,Referencias!$B$24:$C$40,2,FALSE())","v":"M"}]
["2813162","García de la Rasilla Domínguez, María Socorro","Madrileña","D",{"$f":"VLOOKUP(G1765,Referencias!$C$4:$D$21,2,FALSE())","v":"Tercera Corazón"},{"$f":"VLOOKUP(G1765,Referencias!$C$4:$E$21,3,FALSE())","v":3},"3C","Competición",{"$f":"VLOOKUP(C1765,Referencias!$B$24:$C$40,2,FALSE())","v":"M"}]
["2813163","Alvaro Bermejo, Ángela","Madrileña","D",{"$f":"VLOOKUP(G1766,Referencias!$C$4:$D$21,2,FALSE())","v":"Tercera Picas"},{"$f":"VLOOKUP(G1766,Referencias!$C$4:$E$21,3,FALSE())","v":3},"3P","Competición",{"$f":"VLOOKUP(C1766,Referencias!$B$24:$C$40,2,FALSE())","v":"M"}]
["2813165","de Grahl Waetjen, Ana","Madrileña","D",{"$f":"VLOOKUP(G1767,Referencias!$C$4:$D$21,2,FALSE())","v":"Tercera Diamante"},{"$f":"VLOOKUP(G1767,Referencias!$C$4:$E$21,3,FALSE())","v":3},"3D","Competición",{"$f":"VLOOKUP(C1767,Referencias!$B$24:$C$40,2,FALSE())","v":"M"}]
["2813166","Fernández Martínez, Marina","Madrileña","D",{"$f":"VLOOKUP(G1768,Referencias!$C$4:$D$21,2,FALSE())","v":"Tercera Diamante"},{"$f":"VLOOKUP(G1768,Referencias!$C$4:$E$21,3,FALSE())","v":3},"3D","Competición",{"$f":"VLOOKUP(C1768,Referencias!$B$24:$C$40,2,FALSE())","v":"M"}]
["2813167","Arranz de Lama, María Ángeles","Madrileña","D",{"$f":"VLOOKUP(G1769,Referencias!$C$4:$D$21,2,FALSE())","v":"Sin Categoría"},{"$f":"VLOOKUP(G1769,Referencias!$C$4:$E$21,3,FALSE())","v":4},"SC","Competición",{"$f":"VLOOKUP(C1769,Referencias!$B$24:$C$40,2,FALSE())","v":"M"}]
["2813170","Lamela Martínez, María Cruz","Madrileña","D",{"$f":"VLOOKUP(G1770,Referencias!$C$4:$D$21,2,FALSE())","v":"Tercera Diamante"},{"$f":"VLOOKUP(G1770,Referencias!$C$4:$E$21,3,FALSE())","v":3},"3D","Competición",{"$f":"VLOOKUP(C1770,Referencias!$B$24:$C$40,2,FALSE())","v":"M"}]
["2813171","Anglada Sant, María Ángeles","Madrileña","D",{"$f":"VLOOKUP(G1771,Referencias!$C$4:$D$21,2,FALSE())","v":"Tercera Diamante"},{"$f":"VLOOKUP(G1771,Referencias!$C$4:$E$21,3,FALSE())","v":3},"3D","Competición",{"$f":"VLOOKUP(C1771,Referencias!$B$24:$C$40,2,FALSE())","v":"M"}]
["2813175","Díaz Beltrán, María Teresa","Madrileña","D",{"$f":"VLOOKUP(G1772,Referencias!$C$4:$D$21,2,FALSE())","v":"Sin Categoría"},{"$f":"VLOOKUP(G1772,Referencias!$C$4:$E$21,3,FALSE())","v":4},"SC","Competición",{"$f":"VLOOKUP(C1772,Referencias!$B$24:$C$40,2,FALSE())","v":"M"}]
["2813176","Beneyto Garnica, Virginia","Madrileña","D",{"$f":"VLOOKUP(G1773,Referencias!$C$4:$D$21,2,FALSE())","v":"Tercera Diamante"},{"$f":"VLOOKUP(G1773,Referencias!$C$4:$E$21,3,FALSE())","v":3},"3D","Competición",{"$f":"VLOOKUP(C1773,Referencias!$B$24:$C$40,2,FALSE())","v":"M"}]
["2813177","Alonso-Buron Chaves, Mariana","Madrileña","D",{"$f":"VLOOKUP(G1774,Referencias!$C$4:$D$21,2,FALSE())","v":"Tercera Diamante"},{"$f":"VLOOKUP(G1774,Referencias!$C$4:$E$21,3,FALSE())","v":3},"3D","Competición",{"$f":"VLOOKUP(C1774,Referencias!$B$24:$C$40,2,FALSE())","v":"M"}]
["2813178","Solis Bustos, Cristina","Madrileña","D",{"$f":"VLOOKUP(G1775,Referencias!$C$4:$D$21,2,FALSE())","v":"Tercera Corazón"},{"$f":"VLOOKUP(G1775,Referencias!$C$4:$E$21,3,FALSE())","v":3},"3C","Competición",{"$f":"VLOOKUP(C1775,Referencias!$B$24:$C$40,2,FALSE())","v":"M"}]
["2813179","Miranda Roldán, Ángela","Madrileña","D",{"$f":"VLOOKUP(G1776,Referencias!$C$4:$D$21,2,FALSE())","v":"Tercera Diamante"},{"$f":"VLOOKUP(G1776,Referencias!$C$4:$E$21,3,FALSE())","v":3},"3D","Competición",{"$f":"VLOOKUP(C1776,Referencias!$B$24:$C$40,2,FALSE())","v":"M"}]
["2813180","de Lacalle Noriega, Carmen","Madrileña","D",{"$f":"VLOOKUP(G1777,Referencias!$C$4:$D$21,2,FALSE())","v":"Sin Categoría"},{"$f":"VLOOKUP(G1777,Referencias!$C$4:$E$21,3,FALSE())","v":4},"SC","Competición",{"$f":"VLOOKUP(C1777,Referencias!$B$24:$C$40,2,FALSE())","v":"M"}]
["2813181","Artola Fernández-Miranda, Susana","Madrileña","D",{"$f":"VLOOKUP(G1778,Referencias!$C$4:$D$21,2,FALSE())","v":"Sin Categoría"},{"$f":"VLOOKUP(G1778,Referencias!$C$4:$E$21,3,FALSE())","v":4},"SC","Competición",{"$f":"VLOOKUP(C1778,Referencias!$B$24:$C$40,2,FALSE())","v":"M"}]
["2813182","Torrubia Chalmeta, Pilar","Madrileña","D",{"$f":"VLOOKUP(G1779,Referencias!$C$4:$D$21,2,FALSE())","v":"Tercera Corazón"},{"$f":"VLOOKUP(G1779,Referencias!$C$4:$E$21,3,FALSE())","v":3},"3C","Competición",{"$f":"VLOOKUP(C1779,Referencias!$B$24:$C$40,2,FALSE())","v":"M"}]
["2813184","Rodríguez Andrés, Julia","Madrileña","D",{"$f":"VLOOKUP(G1780,Referencias!$C$4:$D$21,2,FALSE())","v":"Tercera Diamante"},{"$f":"VLOOKUP(G1780,Referencias!$C$4:$E$21,3,FALSE())","v":3},"3D","Competición",{"$f":"VLOOKUP(C1780,Referencias!$B$24:$C$40,2,FALSE())","v":"M"}]
["2813185","Ramírez Sánchez, Encarna","Madrileña","D",{"$f":"VLOOKUP(G1781,Referencias!$C$4:$D$21,2,FALSE())","v":"Sin Categoría"},{"$f":"VLOOKUP(G1781,Referencias!$C$4:$E$21,3,FALSE())","v":4},"SC","Competición",{"$f":"VLOOKUP(C1781,Referencias!$B$24:$C$40,2,FALSE())","v":"M"}]
["2813187","Murphy Coffey, Anne","Madrileña","D",{"$f":"VLOOKUP(G1782,Referencias!$C$4:$D$21,2,FALSE())","v":"Tercera Diamante"},{"$f":"VLOOKUP(G1782,Referencias!$C$4:$E$21,3,FALSE())","v":3},"3D","Competición",{"$f":"VLOOKUP(C1782,Referencias!$B$24:$C$40,2,FALSE())","v":"M"}]
["2813188","Trujillo Ríos, Andrés","Madrileña","C",{"$f":"VLOOKUP(G1783,Referencias!$C$4:$D$21,2,FALSE())","v":"Segunda Diamante"},{"$f":"VLOOKUP(G1783,Referencias!$C$4:$E$21,3,FALSE())","v":2},"2D","Competición",{"$f":"VLOOKUP(C1783,Referencias!$B$24:$C$40,2,FALSE())","v":"M"}]
["2813189","Basagoiti González-Trevilla, Paloma","Madrileña","D",{"$f":"VLOOKUP(G1784,Referencias!$C$4:$D$21,2,FALSE())","v":"Tercera Diamante"},{"$f":"VLOOKUP(G1784,Referencias!$C$4:$E$21,3,FALSE())","v":3},"3D","Competición",{"$f":"VLOOKUP(C1784,Referencias!$B$24:$C$40,2,FALSE())","v":"M"}]
["2813190","Cabrero Abascal, Georgiana","Madrileña","D",{"$f":"VLOOKUP(G1785,Referencias!$C$4:$D$21,2,FALSE())","v":"Sin Categoría"},{"$f":"VLOOKUP(G1785,Referencias!$C$4:$E$21,3,FALSE())","v":4},"SC","Competición",{"$f":"VLOOKUP(C1785,Referencias!$B$24:$C$40,2,FALSE())","v":"M"}]
["2813191","García-Calbelo Castellano, María Dolores","Madrileña","D",{"$f":"VLOOKUP(G1786,Referencias!$C$4:$D$21,2,FALSE())","v":"Tercera Diamante"},{"$f":"VLOOKUP(G1786,Referencias!$C$4:$E$21,3,FALSE())","v":3},"3D","Competición",{"$f":"VLOOKUP(C1786,Referencias!$B$24:$C$40,2,FALSE())","v":"M"}]
["2813192","Llarena Bastarreche, María Josefa","Madrileña","D",{"$f":"VLOOKUP(G1787,Referencias!$C$4:$D$21,2,FALSE())","v":"Tercera Corazón"},{"$f":"VLOOKUP(G1787,Referencias!$C$4:$E$21,3,FALSE())","v":3},"3C","Competición",{"$f":"VLOOKUP(C1787,Referencias!$B$24:$C$40,2,FALSE())","v":"M"}]
["2813196","López Díaz, Mercedes","Madrileña","D",{"$f":"VLOOKUP(G1788,Referencias!$C$4:$D$21,2,FALSE())","v":"Primera Corazón"},{"$f":"VLOOKUP(G1788,Referencias!$C$4:$E$21,3,FALSE())","v":1},"1C","Competición",{"$f":"VLOOKUP(C1788,Referencias!$B$24:$C$40,2,FALSE())","v":"M"}]
["2813197","González de Vega Pomar, Ramón","Madrileña","C",{"$f":"VLOOKUP(G1789,Referencias!$C$4:$D$21,2,FALSE())","v":"Primera Diamante"},{"$f":"VLOOKUP(G1789,Referencias!$C$4:$E$21,3,FALSE())","v":1},"1D","Competición",{"$f":"VLOOKUP(C1789,Referencias!$B$24:$C$40,2,FALSE())","v":"M"}]
["2813199","de Casaus Reig, Rosalía","Madrileña","D",{"$f":"VLOOKUP(G1790,Referencias!$C$4:$D$21,2,FALSE())","v":"Tercera Corazón"},{"$f":"VLOOKUP(G1790,Referencias!$C$4:$E$21,3,FALSE())","v":3},"3C","Competición",{"$f":"VLOOKUP(C1790,Referencias!$B$24:$C$40,2,FALSE())","v":"M"}]
["2813200","Felip Fernández, Enrique","Madrileña","C",{"$f":"VLOOKUP(G1791,Referencias!$C$4:$D$21,2,FALSE())","v":"Tercera Corazón"},{"$f":"VLOOKUP(G1791,Referencias!$C$4:$E$21,3,FALSE())","v":3},"3C","Competición",{"$f":"VLOOKUP(C1791,Referencias!$B$24:$C$40,2,FALSE())","v":"M"}]
["2813201","del Val Hermoso, Sol","Madrileña","D",{"$f":"VLOOKUP(G1792,Referencias!$C$4:$D$21,2,FALSE())","v":"Sin Categoría"},{"$f":"VLOOKUP(G1792,Referencias!$C$4:$E$21,3,FALSE())","v":4},"SC","Competición",{"$f":"VLOOKUP(C1792,Referencias!$B$24:$C$40,2,FALSE())","v":"M"}]
["2813205","Agustí Herrero, Agustina Dolores","Madrileña","D",{"$f":"VLOOKUP(G1793,Referencias!$C$4:$D$21,2,FALSE())","v":"Sin Categoría"},{"$f":"VLOOKUP(G1793,Referencias!$C$4:$E$21,3,FALSE())","v":4},"SC","Honorífica",{"$f":"VLOOKUP(C1793,Referencias!$B$24:$C$40,2,FALSE())","v":"M"}]
["2813206","Attias Azoulay, Odette","Madrileña","D",{"$f":"VLOOKUP(G1794,Referencias!$C$4:$D$21,2,FALSE())","v":"Sin Categoría"},{"$f":"VLOOKUP(G1794,Referencias!$C$4:$E$21,3,FALSE())","v":4},"SC","Competición",{"$f":"VLOOKUP(C1794,Referencias!$B$24:$C$40,2,FALSE())","v":"M"}]
["2813208","Domingo Bové, Monserrat","Madrileña","D",{"$f":"VLOOKUP(G1795,Referencias!$C$4:$D$21,2,FALSE())","v":"Tercera Diamante"},{"$f":"VLOOKUP(G1795,Referencias!$C$4:$E$21,3,FALSE())","v":3},"3D","Honorífica",{"$f":"VLOOKUP(C1795,Referencias!$B$24:$C$40,2,FALSE())","v":"M"}]
["2813217","Álvarez Maríz, Carmen","Madrileña","D",{"$f":"VLOOKUP(G1796,Referencias!$C$4:$D$21,2,FALSE())","v":"Tercera Picas"},{"$f":"VLOOKUP(G1796,Referencias!$C$4:$E$21,3,FALSE())","v":3},"3P","Competición",{"$f":"VLOOKUP(C1796,Referencias!$B$24:$C$40,2,FALSE())","v":"M"}]
["2813218","Grandas Alonso, Isabel","Madrileña","D",{"$f":"VLOOKUP(G1797,Referencias!$C$4:$D$21,2,FALSE())","v":"Sin Categoría"},{"$f":"VLOOKUP(G1797,Referencias!$C$4:$E$21,3,FALSE())","v":4},"SC","Competición",{"$f":"VLOOKUP(C1797,Referencias!$B$24:$C$40,2,FALSE())","v":"M"}]
["2813219","Sanz Iglesias, Amalia","Madrileña","D",{"$f":"VLOOKUP(G1798,Referencias!$C$4:$D$21,2,FALSE())","v":"Tercera Picas"},{"$f":"VLOOKUP(G1798,Referencias!$C$4:$E$21,3,FALSE())","v":3},"3P","Competición",{"$f":"VLOOKUP(C1798,Referencias!$B$24:$C$40,2,FALSE())","v":"M"}]
["2813220","Morales Motos, Isabel","Madrileña","D",{"$f":"VLOOKUP(G1799,Referencias!$C$4:$D$21,2,FALSE())","v":"Primera Diamante"},{"$f":"VLOOKUP(G1799,Referencias!$C$4:$E$21,3,FALSE())","v":1},"1D","Competición",{"$f":"VLOOKUP(C1799,Referencias!$B$24:$C$40,2,FALSE())","v":"M"}]
["2813221","Gustafsson Akerfeldt, Verónica","Madrileña","D",{"$f":"VLOOKUP(G1800,Referencias!$C$4:$D$21,2,FALSE())","v":"Sin Categoría"},{"$f":"VLOOKUP(G1800,Referencias!$C$4:$E$21,3,FALSE())","v":4},"SC","Competición",{"$f":"VLOOKUP(C1800,Referencias!$B$24:$C$40,2,FALSE())","v":"M"}]
["2813223","Leal Pérez-Olagüe, María Luisa","Madrileña","D",{"$f":"VLOOKUP(G1801,Referencias!$C$4:$D$21,2,FALSE())","v":"Tercera Corazón"},{"$f":"VLOOKUP(G1801,Referencias!$C$4:$E$21,3,FALSE())","v":3},"3C","Competición",{"$f":"VLOOKUP(C1801,Referencias!$B$24:$C$40,2,FALSE())","v":"M"}]
["2813224","Magro Mas, Inmaculada","Madrileña","D",{"$f":"VLOOKUP(G1802,Referencias!$C$4:$D$21,2,FALSE())","v":"Tercera Corazón"},{"$f":"VLOOKUP(G1802,Referencias!$C$4:$E$21,3,FALSE())","v":3},"3C","Competición",{"$f":"VLOOKUP(C1802,Referencias!$B$24:$C$40,2,FALSE())","v":"M"}]
["2813227","Ayala Hernández, José","Madrileña","C",{"$f":"VLOOKUP(G1803,Referencias!$C$4:$D$21,2,FALSE())","v":"Primera Diamante"},{"$f":"VLOOKUP(G1803,Referencias!$C$4:$E$21,3,FALSE())","v":1},"1D","Competición",{"$f":"VLOOKUP(C1803,Referencias!$B$24:$C$40,2,FALSE())","v":"M"}]
["2813228","Sanz Iglesias, Pilar","Madrileña","D",{"$f":"VLOOKUP(G1804,Referencias!$C$4:$D$21,2,FALSE())","v":"Tercera Diamante"},{"$f":"VLOOKUP(G1804,Referencias!$C$4:$E$21,3,FALSE())","v":3},"3D","Competición",{"$f":"VLOOKUP(C1804,Referencias!$B$24:$C$40,2,FALSE())","v":"M"}]
["2813229","Español Jofre de Villegas, Pilar","Madrileña","D",{"$f":"VLOOKUP(G1805,Referencias!$C$4:$D$21,2,FALSE())","v":"Sin Categoría"},{"$f":"VLOOKUP(G1805,Referencias!$C$4:$E$21,3,FALSE())","v":4},"SC","Competición",{"$f":"VLOOKUP(C1805,Referencias!$B$24:$C$40,2,FALSE())","v":"M"}]
["2813231","Grech , Paz","Madrileña","D",{"$f":"VLOOKUP(G1806,Referencias!$C$4:$D$21,2,FALSE())","v":"Primera Corazón"},{"$f":"VLOOKUP(G1806,Referencias!$C$4:$E$21,3,FALSE())","v":1},"1C","Honorífica",{"$f":"VLOOKUP(C1806,Referencias!$B$24:$C$40,2,FALSE())","v":"M"}]
["2813232","Domingo Ruano, Rosario","Madrileña","D",{"$f":"VLOOKUP(G1807,Referencias!$C$4:$D$21,2,FALSE())","v":"Tercera Diamante"},{"$f":"VLOOKUP(G1807,Referencias!$C$4:$E$21,3,FALSE())","v":3},"3D","Competición",{"$f":"VLOOKUP(C1807,Referencias!$B$24:$C$40,2,FALSE())","v":"M"}]
["2813238","Marquina Sacristán, Concepción","Madrileña","D",{"$f":"VLOOKUP(G1808,Referencias!$C$4:$D$21,2,FALSE())","v":"Tercera Picas"},{"$f":"VLOOKUP(G1808,Referencias!$C$4:$E$21,3,FALSE())","v":3},"3P","Competición",{"$f":"VLOOKUP(C1808,Referencias!$B$24:$C$40,2,FALSE())","v":"M"}]
["2813244","Sáenz Cala, María Ángeles","Madrileña","D",{"$f":"VLOOKUP(G1809,Referencias!$C$4:$D$21,2,FALSE())","v":"Sin Categoría"},{"$f":"VLOOKUP(G1809,Referencias!$C$4:$E$21,3,FALSE())","v":4},"SC","Competición",{"$f":"VLOOKUP(C1809,Referencias!$B$24:$C$40,2,FALSE())","v":"M"}]
["2813245","De la Peña González-Camino, Berta","Madrileña","D",{"$f":"VLOOKUP(G1810,Referencias!$C$4:$D$21,2,FALSE())","v":"Segunda Corazón"},{"$f":"VLOOKUP(G1810,Referencias!$C$4:$E$21,3,FALSE())","v":2},"2C","Competición",{"$f":"VLOOKUP(C1810,Referencias!$B$24:$C$40,2,FALSE())","v":"M"}]
["2813246","Perera Briones, Virginia","Madrileña","D",{"$f":"VLOOKUP(G1811,Referencias!$C$4:$D$21,2,FALSE())","v":"Tercera Corazón"},{"$f":"VLOOKUP(G1811,Referencias!$C$4:$E$21,3,FALSE())","v":3},"3C","Competición",{"$f":"VLOOKUP(C1811,Referencias!$B$24:$C$40,2,FALSE())","v":"M"}]
["2813248","Perera Briones, Cristina","Madrileña","D",{"$f":"VLOOKUP(G1812,Referencias!$C$4:$D$21,2,FALSE())","v":"Sin Categoría"},{"$f":"VLOOKUP(G1812,Referencias!$C$4:$E$21,3,FALSE())","v":4},"SC","Competición",{"$f":"VLOOKUP(C1812,Referencias!$B$24:$C$40,2,FALSE())","v":"M"}]
["2813249","Aguilar Urquijo, María","Madrileña","D",{"$f":"VLOOKUP(G1813,Referencias!$C$4:$D$21,2,FALSE())","v":"Tercera Picas"},{"$f":"VLOOKUP(G1813,Referencias!$C$4:$E$21,3,FALSE())","v":3},"3P","Competición",{"$f":"VLOOKUP(C1813,Referencias!$B$24:$C$40,2,FALSE())","v":"M"}]
["2813251","Esparza Hernández, Carmen","Madrileña","D",{"$f":"VLOOKUP(G1814,Referencias!$C$4:$D$21,2,FALSE())","v":"Segunda Corazón"},{"$f":"VLOOKUP(G1814,Referencias!$C$4:$E$21,3,FALSE())","v":2},"2C","Competición",{"$f":"VLOOKUP(C1814,Referencias!$B$24:$C$40,2,FALSE())","v":"M"}]
["2813252","Jiménez Muro, Carmen","Madrileña","D",{"$f":"VLOOKUP(G1815,Referencias!$C$4:$D$21,2,FALSE())","v":"Tercera Diamante"},{"$f":"VLOOKUP(G1815,Referencias!$C$4:$E$21,3,FALSE())","v":3},"3D","Competición",{"$f":"VLOOKUP(C1815,Referencias!$B$24:$C$40,2,FALSE())","v":"M"}]
["2813254","Zunzunegui Arocena, Zenaida","Madrileña","D",{"$f":"VLOOKUP(G1816,Referencias!$C$4:$D$21,2,FALSE())","v":"Tercera Diamante"},{"$f":"VLOOKUP(G1816,Referencias!$C$4:$E$21,3,FALSE())","v":3},"3D","Competición",{"$f":"VLOOKUP(C1816,Referencias!$B$24:$C$40,2,FALSE())","v":"M"}]
["2813256","López Gallego, Concepción","Madrileña","D",{"$f":"VLOOKUP(G1817,Referencias!$C$4:$D$21,2,FALSE())","v":"Segunda Diamante"},{"$f":"VLOOKUP(G1817,Referencias!$C$4:$E$21,3,FALSE())","v":2},"2D","Competición",{"$f":"VLOOKUP(C1817,Referencias!$B$24:$C$40,2,FALSE())","v":"M"}]
["2813259","Aguado de Corral, Myriam","Madrileña","D",{"$f":"VLOOKUP(G1818,Referencias!$C$4:$D$21,2,FALSE())","v":"Segunda Picas"},{"$f":"VLOOKUP(G1818,Referencias!$C$4:$E$21,3,FALSE())","v":2},"2P","Competición",{"$f":"VLOOKUP(C1818,Referencias!$B$24:$C$40,2,FALSE())","v":"M"}]
["2813260","de Corral Yerro, María Soledad","Madrileña","D",{"$f":"VLOOKUP(G1819,Referencias!$C$4:$D$21,2,FALSE())","v":"Tercera Diamante"},{"$f":"VLOOKUP(G1819,Referencias!$C$4:$E$21,3,FALSE())","v":3},"3D","Competición",{"$f":"VLOOKUP(C1819,Referencias!$B$24:$C$40,2,FALSE())","v":"M"}]
["2813261","Rosety Blanco, Beatríz","Madrileña","D",{"$f":"VLOOKUP(G1820,Referencias!$C$4:$D$21,2,FALSE())","v":"Primera Picas"},{"$f":"VLOOKUP(G1820,Referencias!$C$4:$E$21,3,FALSE())","v":1},"1P","Competición",{"$f":"VLOOKUP(C1820,Referencias!$B$24:$C$40,2,FALSE())","v":"M"}]
["2813262","Garate Barrenechea, José Felix","Madrileña","C",{"$f":"VLOOKUP(G1821,Referencias!$C$4:$D$21,2,FALSE())","v":"Segunda Picas"},{"$f":"VLOOKUP(G1821,Referencias!$C$4:$E$21,3,FALSE())","v":2},"2P","Competición",{"$f":"VLOOKUP(C1821,Referencias!$B$24:$C$40,2,FALSE())","v":"M"}]
["2813263","García Casado, Esther","Madrileña","D",{"$f":"VLOOKUP(G1822,Referencias!$C$4:$D$21,2,FALSE())","v":"Primera Picas"},{"$f":"VLOOKUP(G1822,Referencias!$C$4:$E$21,3,FALSE())","v":1},"1P","Competición",{"$f":"VLOOKUP(C1822,Referencias!$B$24:$C$40,2,FALSE())","v":"M"}]
["2813264","Heredero San José, María Jesús","Madrileña","D",{"$f":"VLOOKUP(G1823,Referencias!$C$4:$D$21,2,FALSE())","v":"Segunda Diamante"},{"$f":"VLOOKUP(G1823,Referencias!$C$4:$E$21,3,FALSE())","v":2},"2D","Competición",{"$f":"VLOOKUP(C1823,Referencias!$B$24:$C$40,2,FALSE())","v":"M"}]
["2813265","Menéndez Fernández, María Antonia","Madrileña","D",{"$f":"VLOOKUP(G1824,Referencias!$C$4:$D$21,2,FALSE())","v":"Tercera Diamante"},{"$f":"VLOOKUP(G1824,Referencias!$C$4:$E$21,3,FALSE())","v":3},"3D","Competición",{"$f":"VLOOKUP(C1824,Referencias!$B$24:$C$40,2,FALSE())","v":"M"}]
["2813269","González de Aguilar Alonso-Urquijo, Francisca","Madrileña","D",{"$f":"VLOOKUP(G1825,Referencias!$C$4:$D$21,2,FALSE())","v":"Sin Categoría"},{"$f":"VLOOKUP(G1825,Referencias!$C$4:$E$21,3,FALSE())","v":4},"SC","Competición",{"$f":"VLOOKUP(C1825,Referencias!$B$24:$C$40,2,FALSE())","v":"M"}]
["2813270","Gil de Santivañes de la Mora, Marta","Madrileña","D",{"$f":"VLOOKUP(G1826,Referencias!$C$4:$D$21,2,FALSE())","v":"Sin Categoría"},{"$f":"VLOOKUP(G1826,Referencias!$C$4:$E$21,3,FALSE())","v":4},"SC","Competición",{"$f":"VLOOKUP(C1826,Referencias!$B$24:$C$40,2,FALSE())","v":"M"}]
["2813271","González de Aguilar Alonso-Urquijo, Sofía","Madrileña","D",{"$f":"VLOOKUP(G1827,Referencias!$C$4:$D$21,2,FALSE())","v":"Sin Categoría"},{"$f":"VLOOKUP(G1827,Referencias!$C$4:$E$21,3,FALSE())","v":4},"SC","Competición",{"$f":"VLOOKUP(C1827,Referencias!$B$24:$C$40,2,FALSE())","v":"M"}]
["2813272","Álvarez de Espejo Mariategui, Regina","Madrileña","D",{"$f":"VLOOKUP(G1828,Referencias!$C$4:$D$21,2,FALSE())","v":"Sin Categoría"},{"$f":"VLOOKUP(G1828,Referencias!$C$4:$E$21,3,FALSE())","v":4},"SC","Competición",{"$f":"VLOOKUP(C1828,Referencias!$B$24:$C$40,2,FALSE())","v":"M"}]
["2813275","Rubio Matilla, María","Madrileña","D",{"$f":"VLOOKUP(G1829,Referencias!$C$4:$D$21,2,FALSE())","v":"Tercera Diamante"},{"$f":"VLOOKUP(G1829,Referencias!$C$4:$E$21,3,FALSE())","v":3},"3D","Competición",{"$f":"VLOOKUP(C1829,Referencias!$B$24:$C$40,2,FALSE())","v":"M"}]
["2813278","Naeder Gueutier, Virginia","Madrileña","D",{"$f":"VLOOKUP(G1830,Referencias!$C$4:$D$21,2,FALSE())","v":"Segunda Diamante"},{"$f":"VLOOKUP(G1830,Referencias!$C$4:$E$21,3,FALSE())","v":2},"2D","Competición",{"$f":"VLOOKUP(C1830,Referencias!$B$24:$C$40,2,FALSE())","v":"M"}]
["2813279","Bensadon Belicha, Larry","Madrileña","C",{"$f":"VLOOKUP(G1831,Referencias!$C$4:$D$21,2,FALSE())","v":"Segunda Diamante"},{"$f":"VLOOKUP(G1831,Referencias!$C$4:$E$21,3,FALSE())","v":2},"2D","Competición",{"$f":"VLOOKUP(C1831,Referencias!$B$24:$C$40,2,FALSE())","v":"M"}]
["2813283","Buendía García, Esther","Madrileña","D",{"$f":"VLOOKUP(G1832,Referencias!$C$4:$D$21,2,FALSE())","v":"Tercera Diamante"},{"$f":"VLOOKUP(G1832,Referencias!$C$4:$E$21,3,FALSE())","v":3},"3D","Competición",{"$f":"VLOOKUP(C1832,Referencias!$B$24:$C$40,2,FALSE())","v":"M"}]
["2813284","Teo, Carol","Madrileña","D",{"$f":"VLOOKUP(G1833,Referencias!$C$4:$D$21,2,FALSE())","v":"Tercera Diamante"},{"$f":"VLOOKUP(G1833,Referencias!$C$4:$E$21,3,FALSE())","v":3},"3D","Competición",{"$f":"VLOOKUP(C1833,Referencias!$B$24:$C$40,2,FALSE())","v":"M"}]
["2813285","Bartolomé Álvarez, José María","Madrileña","C",{"$f":"VLOOKUP(G1834,Referencias!$C$4:$D$21,2,FALSE())","v":"Tercera Diamante"},{"$f":"VLOOKUP(G1834,Referencias!$C$4:$E$21,3,FALSE())","v":3},"3D","Competición",{"$f":"VLOOKUP(C1834,Referencias!$B$24:$C$40,2,FALSE())","v":"M"}]
["2813286","Maillo Romero, Araceli","Madrileña","D",{"$f":"VLOOKUP(G1835,Referencias!$C$4:$D$21,2,FALSE())","v":"Tercera Diamante"},{"$f":"VLOOKUP(G1835,Referencias!$C$4:$E$21,3,FALSE())","v":3},"3D","Competición",{"$f":"VLOOKUP(C1835,Referencias!$B$24:$C$40,2,FALSE())","v":"M"}]
["2813287","Ripollés Moro, María del Carmen","Madrileña","D",{"$f":"VLOOKUP(G1836,Referencias!$C$4:$D$21,2,FALSE())","v":"Tercera Corazón"},{"$f":"VLOOKUP(G1836,Referencias!$C$4:$E$21,3,FALSE())","v":3},"3C","Competición",{"$f":"VLOOKUP(C1836,Referencias!$B$24:$C$40,2,FALSE())","v":"M"}]
["2813288","Arias Campo, Ana","Madrileña","D",{"$f":"VLOOKUP(G1837,Referencias!$C$4:$D$21,2,FALSE())","v":"Tercera Diamante"},{"$f":"VLOOKUP(G1837,Referencias!$C$4:$E$21,3,FALSE())","v":3},"3D","Competición",{"$f":"VLOOKUP(C1837,Referencias!$B$24:$C$40,2,FALSE())","v":"M"}]
["2813289","Villa Montes, Esperanza","Madrileña","D",{"$f":"VLOOKUP(G1838,Referencias!$C$4:$D$21,2,FALSE())","v":"Tercera Corazón"},{"$f":"VLOOKUP(G1838,Referencias!$C$4:$E$21,3,FALSE())","v":3},"3C","Competición",{"$f":"VLOOKUP(C1838,Referencias!$B$24:$C$40,2,FALSE())","v":"M"}]
["2813290","Moriyón Salomón, Roberto","Madrileña","C",{"$f":"VLOOKUP(G1839,Referencias!$C$4:$D$21,2,FALSE())","v":"Primera Diamante"},{"$f":"VLOOKUP(G1839,Referencias!$C$4:$E$21,3,FALSE())","v":1},"1D","Competición",{"$f":"VLOOKUP(C1839,Referencias!$B$24:$C$40,2,FALSE())","v":"M"}]
["2813296","López Sánchez, María Luscinda","Madrileña","D",{"$f":"VLOOKUP(G1840,Referencias!$C$4:$D$21,2,FALSE())","v":"Tercera Corazón"},{"$f":"VLOOKUP(G1840,Referencias!$C$4:$E$21,3,FALSE())","v":3},"3C","Competición",{"$f":"VLOOKUP(C1840,Referencias!$B$24:$C$40,2,FALSE())","v":"M"}]
["2813297","Martínez de Año, Julia","Madrileña","D",{"$f":"VLOOKUP(G1841,Referencias!$C$4:$D$21,2,FALSE())","v":"Tercera Picas"},{"$f":"VLOOKUP(G1841,Referencias!$C$4:$E$21,3,FALSE())","v":3},"3P","Competición",{"$f":"VLOOKUP(C1841,Referencias!$B$24:$C$40,2,FALSE())","v":"M"}]
["2813300","Montón Gil, Ana María","Madrileña","D",{"$f":"VLOOKUP(G1842,Referencias!$C$4:$D$21,2,FALSE())","v":"Primera Corazón"},{"$f":"VLOOKUP(G1842,Referencias!$C$4:$E$21,3,FALSE())","v":1},"1C","Competición",{"$f":"VLOOKUP(C1842,Referencias!$B$24:$C$40,2,FALSE())","v":"M"}]
["2813301","Tierra Serrano, Jesús","Madrileña","C",{"$f":"VLOOKUP(G1843,Referencias!$C$4:$D$21,2,FALSE())","v":"Primera Corazón"},{"$f":"VLOOKUP(G1843,Referencias!$C$4:$E$21,3,FALSE())","v":1},"1C","Competición",{"$f":"VLOOKUP(C1843,Referencias!$B$24:$C$40,2,FALSE())","v":"M"}]
["2813302","Cervera Vélez, Maite","Madrileña","D",{"$f":"VLOOKUP(G1844,Referencias!$C$4:$D$21,2,FALSE())","v":"Segunda Diamante"},{"$f":"VLOOKUP(G1844,Referencias!$C$4:$E$21,3,FALSE())","v":2},"2D","Competición",{"$f":"VLOOKUP(C1844,Referencias!$B$24:$C$40,2,FALSE())","v":"M"}]
["2813310","Temes Hernández, Elisa","Madrileña","D",{"$f":"VLOOKUP(G1845,Referencias!$C$4:$D$21,2,FALSE())","v":"Tercera Picas"},{"$f":"VLOOKUP(G1845,Referencias!$C$4:$E$21,3,FALSE())","v":3},"3P","Competición",{"$f":"VLOOKUP(C1845,Referencias!$B$24:$C$40,2,FALSE())","v":"M"}]
["2813316","Lasso de la Vega Linares, María Jesús","Madrileña","D",{"$f":"VLOOKUP(G1846,Referencias!$C$4:$D$21,2,FALSE())","v":"Sin Categoría"},{"$f":"VLOOKUP(G1846,Referencias!$C$4:$E$21,3,FALSE())","v":4},"SC","Competición",{"$f":"VLOOKUP(C1846,Referencias!$B$24:$C$40,2,FALSE())","v":"M"}]
["2813317","Ojeda Jordana de Pozas, María Luz","Madrileña","D",{"$f":"VLOOKUP(G1847,Referencias!$C$4:$D$21,2,FALSE())","v":"Sin Categoría"},{"$f":"VLOOKUP(G1847,Referencias!$C$4:$E$21,3,FALSE())","v":4},"SC","Competición",{"$f":"VLOOKUP(C1847,Referencias!$B$24:$C$40,2,FALSE())","v":"M"}]
["2813319","López Sánchez, Fuensanta","Madrileña","D",{"$f":"VLOOKUP(G1848,Referencias!$C$4:$D$21,2,FALSE())","v":"Tercera Corazón"},{"$f":"VLOOKUP(G1848,Referencias!$C$4:$E$21,3,FALSE())","v":3},"3C","Competición",{"$f":"VLOOKUP(C1848,Referencias!$B$24:$C$40,2,FALSE())","v":"M"}]
["2813320","Girón Muntadas, Santiago","Madrileña","C",{"$f":"VLOOKUP(G1849,Referencias!$C$4:$D$21,2,FALSE())","v":"Tercera Picas"},{"$f":"VLOOKUP(G1849,Referencias!$C$4:$E$21,3,FALSE())","v":3},"3P","Competición",{"$f":"VLOOKUP(C1849,Referencias!$B$24:$C$40,2,FALSE())","v":"M"}]
["2813321","Sagarra Ruiz, Isabel","Madrileña","D",{"$f":"VLOOKUP(G1850,Referencias!$C$4:$D$21,2,FALSE())","v":"Sin Categoría"},{"$f":"VLOOKUP(G1850,Referencias!$C$4:$E$21,3,FALSE())","v":4},"SC","Competición",{"$f":"VLOOKUP(C1850,Referencias!$B$24:$C$40,2,FALSE())","v":"M"}]
["2813323","Gurruchaga Ruiz, Margarita","Madrileña","D",{"$f":"VLOOKUP(G1851,Referencias!$C$4:$D$21,2,FALSE())","v":"Sin Categoría"},{"$f":"VLOOKUP(G1851,Referencias!$C$4:$E$21,3,FALSE())","v":4},"SC","Competición",{"$f":"VLOOKUP(C1851,Referencias!$B$24:$C$40,2,FALSE())","v":"M"}]
["2813325","Hornedo Noriega, Natividad","Madrileña","D",{"$f":"VLOOKUP(G1852,Referencias!$C$4:$D$21,2,FALSE())","v":"Sin Categoría"},{"$f":"VLOOKUP(G1852,Referencias!$C$4:$E$21,3,FALSE())","v":4},"SC","Competición",{"$f":"VLOOKUP(C1852,Referencias!$B$24:$C$40,2,FALSE())","v":"M"}]
["2813326","Seghers Daelemans, Frida","Madrileña","D",{"$f":"VLOOKUP(G1853,Referencias!$C$4:$D$21,2,FALSE())","v":"Sin Categoría"},{"$f":"VLOOKUP(G1853,Referencias!$C$4:$E$21,3,FALSE())","v":4},"SC","Competición",{"$f":"VLOOKUP(C1853,Referencias!$B$24:$C$40,2,FALSE())","v":"M"}]
["2813327","Cabañas Arenzana, Begoña","Madrileña","D",{"$f":"VLOOKUP(G1854,Referencias!$C$4:$D$21,2,FALSE())","v":"Segunda Corazón"},{"$f":"VLOOKUP(G1854,Referencias!$C$4:$E$21,3,FALSE())","v":2},"2C","Competición",{"$f":"VLOOKUP(C1854,Referencias!$B$24:$C$40,2,FALSE())","v":"M"}]
["2813328","Escribano García-Bosque, José Ignacio","Madrileña","C",{"$f":"VLOOKUP(G1855,Referencias!$C$4:$D$21,2,FALSE())","v":"Segunda Diamante"},{"$f":"VLOOKUP(G1855,Referencias!$C$4:$E$21,3,FALSE())","v":2},"2D","Competición",{"$f":"VLOOKUP(C1855,Referencias!$B$24:$C$40,2,FALSE())","v":"M"}]
["2813332","Blat Acacio, Raquel","Madrileña","D",{"$f":"VLOOKUP(G1856,Referencias!$C$4:$D$21,2,FALSE())","v":"Tercera Diamante"},{"$f":"VLOOKUP(G1856,Referencias!$C$4:$E$21,3,FALSE())","v":3},"3D","Competición",{"$f":"VLOOKUP(C1856,Referencias!$B$24:$C$40,2,FALSE())","v":"M"}]
["2813334","Jordán de Urries Castelo Branco, María Antonia","Madrileña","D",{"$f":"VLOOKUP(G1857,Referencias!$C$4:$D$21,2,FALSE())","v":"Tercera Diamante"},{"$f":"VLOOKUP(G1857,Referencias!$C$4:$E$21,3,FALSE())","v":3},"3D","Competición",{"$f":"VLOOKUP(C1857,Referencias!$B$24:$C$40,2,FALSE())","v":"M"}]
["2813337","Plaza de la Cuesta, María de la Paz","Madrileña","D",{"$f":"VLOOKUP(G1858,Referencias!$C$4:$D$21,2,FALSE())","v":"Tercera Diamante"},{"$f":"VLOOKUP(G1858,Referencias!$C$4:$E$21,3,FALSE())","v":3},"3D","Competición",{"$f":"VLOOKUP(C1858,Referencias!$B$24:$C$40,2,FALSE())","v":"M"}]
["2813339","Rodríguez-Vita Ferrer, Carmen","Madrileña","D",{"$f":"VLOOKUP(G1859,Referencias!$C$4:$D$21,2,FALSE())","v":"Segunda Diamante"},{"$f":"VLOOKUP(G1859,Referencias!$C$4:$E$21,3,FALSE())","v":2},"2D","Competición",{"$f":"VLOOKUP(C1859,Referencias!$B$24:$C$40,2,FALSE())","v":"M"}]
["2813340","Casanova Leyún, Mercedes","Madrileña","D",{"$f":"VLOOKUP(G1860,Referencias!$C$4:$D$21,2,FALSE())","v":"Segunda Diamante"},{"$f":"VLOOKUP(G1860,Referencias!$C$4:$E$21,3,FALSE())","v":2},"2D","Competición",{"$f":"VLOOKUP(C1860,Referencias!$B$24:$C$40,2,FALSE())","v":"M"}]
["2813342","Harmouch , Norma","Madrileña","D",{"$f":"VLOOKUP(G1861,Referencias!$C$4:$D$21,2,FALSE())","v":"Tercera Corazón"},{"$f":"VLOOKUP(G1861,Referencias!$C$4:$E$21,3,FALSE())","v":3},"3C","Competición",{"$f":"VLOOKUP(C1861,Referencias!$B$24:$C$40,2,FALSE())","v":"M"}]
["2813343","González-Orejas Fernández, María del Carmen","Madrileña","D",{"$f":"VLOOKUP(G1862,Referencias!$C$4:$D$21,2,FALSE())","v":"Tercera Corazón"},{"$f":"VLOOKUP(G1862,Referencias!$C$4:$E$21,3,FALSE())","v":3},"3C","Competición",{"$f":"VLOOKUP(C1862,Referencias!$B$24:$C$40,2,FALSE())","v":"M"}]
["2813345","Fitzgerald Mac Carthy, Jackie","Madrileña","D",{"$f":"VLOOKUP(G1863,Referencias!$C$4:$D$21,2,FALSE())","v":"Tercera Picas"},{"$f":"VLOOKUP(G1863,Referencias!$C$4:$E$21,3,FALSE())","v":3},"3P","Competición",{"$f":"VLOOKUP(C1863,Referencias!$B$24:$C$40,2,FALSE())","v":"M"}]
["2813347","Marzana Velázquez, María Eugenia","Madrileña","D",{"$f":"VLOOKUP(G1864,Referencias!$C$4:$D$21,2,FALSE())","v":"Sin Categoría"},{"$f":"VLOOKUP(G1864,Referencias!$C$4:$E$21,3,FALSE())","v":4},"SC","Competición",{"$f":"VLOOKUP(C1864,Referencias!$B$24:$C$40,2,FALSE())","v":"M"}]
["2813348","Antúnez Vidaurrazaga, Margarita","Madrileña","D",{"$f":"VLOOKUP(G1865,Referencias!$C$4:$D$21,2,FALSE())","v":"Sin Categoría"},{"$f":"VLOOKUP(G1865,Referencias!$C$4:$E$21,3,FALSE())","v":4},"SC","Competición",{"$f":"VLOOKUP(C1865,Referencias!$B$24:$C$40,2,FALSE())","v":"M"}]
["2813349","de la Serna Llera, Cristina","Madrileña","D",{"$f":"VLOOKUP(G1866,Referencias!$C$4:$D$21,2,FALSE())","v":"Primera Diamante"},{"$f":"VLOOKUP(G1866,Referencias!$C$4:$E$21,3,FALSE())","v":1},"1D","Competición",{"$f":"VLOOKUP(C1866,Referencias!$B$24:$C$40,2,FALSE())","v":"M"}]
["2813350","Moratino Alcalde, María","Madrileña","D",{"$f":"VLOOKUP(G1867,Referencias!$C$4:$D$21,2,FALSE())","v":"Sin Categoría"},{"$f":"VLOOKUP(G1867,Referencias!$C$4:$E$21,3,FALSE())","v":4},"SC","Competición",{"$f":"VLOOKUP(C1867,Referencias!$B$24:$C$40,2,FALSE())","v":"M"}]
["2813351","OlÍas Muñoz, Francisco","Madrileña","C",{"$f":"VLOOKUP(G1868,Referencias!$C$4:$D$21,2,FALSE())","v":"Sin Categoría"},{"$f":"VLOOKUP(G1868,Referencias!$C$4:$E$21,3,FALSE())","v":4},"SC","Competición",{"$f":"VLOOKUP(C1868,Referencias!$B$24:$C$40,2,FALSE())","v":"M"}]
["2813354","Rochina Adelantado, Antonia","Madrileña","D",{"$f":"VLOOKUP(G1869,Referencias!$C$4:$D$21,2,FALSE())","v":"Sin Categoría"},{"$f":"VLOOKUP(G1869,Referencias!$C$4:$E$21,3,FALSE())","v":4},"SC","Competición",{"$f":"VLOOKUP(C1869,Referencias!$B$24:$C$40,2,FALSE())","v":"M"}]
["2813356","Labrador Martín, Antonio","Madrileña","C",{"$f":"VLOOKUP(G1870,Referencias!$C$4:$D$21,2,FALSE())","v":"Sin Categoría"},{"$f":"VLOOKUP(G1870,Referencias!$C$4:$E$21,3,FALSE())","v":4},"SC","Competición",{"$f":"VLOOKUP(C1870,Referencias!$B$24:$C$40,2,FALSE())","v":"M"}]
["2813369","Albarracín Rodríguez, María del Carmen","Madrileña","D",{"$f":"VLOOKUP(G1871,Referencias!$C$4:$D$21,2,FALSE())","v":"Sin Categoría"},{"$f":"VLOOKUP(G1871,Referencias!$C$4:$E$21,3,FALSE())","v":4},"SC","Competición",{"$f":"VLOOKUP(C1871,Referencias!$B$24:$C$40,2,FALSE())","v":"M"}]
["2813370","Eguibar Galarza, María Fernanda","Madrileña","D",{"$f":"VLOOKUP(G1872,Referencias!$C$4:$D$21,2,FALSE())","v":"Segunda Diamante"},{"$f":"VLOOKUP(G1872,Referencias!$C$4:$E$21,3,FALSE())","v":2},"2D","Competición",{"$f":"VLOOKUP(C1872,Referencias!$B$24:$C$40,2,FALSE())","v":"M"}]
["2813371","Argüelles Álvarez, Ramón","Madrileña","C",{"$f":"VLOOKUP(G1873,Referencias!$C$4:$D$21,2,FALSE())","v":"Tercera Diamante"},{"$f":"VLOOKUP(G1873,Referencias!$C$4:$E$21,3,FALSE())","v":3},"3D","Competición",{"$f":"VLOOKUP(C1873,Referencias!$B$24:$C$40,2,FALSE())","v":"M"}]
["2813372","Blanco Aladro, María del Carmen","Madrileña","D",{"$f":"VLOOKUP(G1874,Referencias!$C$4:$D$21,2,FALSE())","v":"Tercera Corazón"},{"$f":"VLOOKUP(G1874,Referencias!$C$4:$E$21,3,FALSE())","v":3},"3C","Competición",{"$f":"VLOOKUP(C1874,Referencias!$B$24:$C$40,2,FALSE())","v":"M"}]
["2813373","de Antonio Chaves, Carmen","Madrileña","D",{"$f":"VLOOKUP(G1875,Referencias!$C$4:$D$21,2,FALSE())","v":"Tercera Picas"},{"$f":"VLOOKUP(G1875,Referencias!$C$4:$E$21,3,FALSE())","v":3},"3P","Competición",{"$f":"VLOOKUP(C1875,Referencias!$B$24:$C$40,2,FALSE())","v":"M"}]
["2813374","de Bustillo Delgado, Carlos","Madrileña","C",{"$f":"VLOOKUP(G1876,Referencias!$C$4:$D$21,2,FALSE())","v":"Tercera Diamante"},{"$f":"VLOOKUP(G1876,Referencias!$C$4:$E$21,3,FALSE())","v":3},"3D","Competición",{"$f":"VLOOKUP(C1876,Referencias!$B$24:$C$40,2,FALSE())","v":"M"}]
["2813377","Martín García, María Pilar","Madrileña","D",{"$f":"VLOOKUP(G1877,Referencias!$C$4:$D$21,2,FALSE())","v":"Tercera Corazón"},{"$f":"VLOOKUP(G1877,Referencias!$C$4:$E$21,3,FALSE())","v":3},"3C","Competición",{"$f":"VLOOKUP(C1877,Referencias!$B$24:$C$40,2,FALSE())","v":"M"}]
["2813378","Nieto Mengotti, Cristina","Madrileña","D",{"$f":"VLOOKUP(G1878,Referencias!$C$4:$D$21,2,FALSE())","v":"Tercera Corazón"},{"$f":"VLOOKUP(G1878,Referencias!$C$4:$E$21,3,FALSE())","v":3},"3C","Competición",{"$f":"VLOOKUP(C1878,Referencias!$B$24:$C$40,2,FALSE())","v":"M"}]
["2813383","Broz Flores, Victoria","Madrileña","D",{"$f":"VLOOKUP(G1879,Referencias!$C$4:$D$21,2,FALSE())","v":"Tercera Corazón"},{"$f":"VLOOKUP(G1879,Referencias!$C$4:$E$21,3,FALSE())","v":3},"3C","Competición",{"$f":"VLOOKUP(C1879,Referencias!$B$24:$C$40,2,FALSE())","v":"M"}]
["2813385","de Manzanos de la Escosura, Paloma","Madrileña","D",{"$f":"VLOOKUP(G1880,Referencias!$C$4:$D$21,2,FALSE())","v":"Tercera Diamante"},{"$f":"VLOOKUP(G1880,Referencias!$C$4:$E$21,3,FALSE())","v":3},"3D","Competición",{"$f":"VLOOKUP(C1880,Referencias!$B$24:$C$40,2,FALSE())","v":"M"}]
["2813387","Ruiz-Cámara Inchaurtieta, Ana","Madrileña","D",{"$f":"VLOOKUP(G1881,Referencias!$C$4:$D$21,2,FALSE())","v":"Sin Categoría"},{"$f":"VLOOKUP(G1881,Referencias!$C$4:$E$21,3,FALSE())","v":4},"SC","Competición",{"$f":"VLOOKUP(C1881,Referencias!$B$24:$C$40,2,FALSE())","v":"M"}]
["2813397","Arranz Pumar, Candelas","Madrileña","D",{"$f":"VLOOKUP(G1882,Referencias!$C$4:$D$21,2,FALSE())","v":"Tercera Corazón"},{"$f":"VLOOKUP(G1882,Referencias!$C$4:$E$21,3,FALSE())","v":3},"3C","Competición",{"$f":"VLOOKUP(C1882,Referencias!$B$24:$C$40,2,FALSE())","v":"M"}]
["2813398","Fuglestad , Finn","Madrileña","C",{"$f":"VLOOKUP(G1883,Referencias!$C$4:$D$21,2,FALSE())","v":"Tercera Corazón"},{"$f":"VLOOKUP(G1883,Referencias!$C$4:$E$21,3,FALSE())","v":3},"3C","Competición",{"$f":"VLOOKUP(C1883,Referencias!$B$24:$C$40,2,FALSE())","v":"M"}]
["2813402","Fernández Manrique, Elena","Madrileña","D",{"$f":"VLOOKUP(G1884,Referencias!$C$4:$D$21,2,FALSE())","v":"Sin Categoría"},{"$f":"VLOOKUP(G1884,Referencias!$C$4:$E$21,3,FALSE())","v":4},"SC","Competición",{"$f":"VLOOKUP(C1884,Referencias!$B$24:$C$40,2,FALSE())","v":"M"}]
["2813404","Fernández de Córdoba , Sonsoles","Madrileña","D",{"$f":"VLOOKUP(G1885,Referencias!$C$4:$D$21,2,FALSE())","v":"Tercera Picas"},{"$f":"VLOOKUP(G1885,Referencias!$C$4:$E$21,3,FALSE())","v":3},"3P","Competición",{"$f":"VLOOKUP(C1885,Referencias!$B$24:$C$40,2,FALSE())","v":"M"}]
["2813407","Fernández Taviel de Andrade, Francisco","Madrileña","C",{"$f":"VLOOKUP(G1886,Referencias!$C$4:$D$21,2,FALSE())","v":"Primera Picas"},{"$f":"VLOOKUP(G1886,Referencias!$C$4:$E$21,3,FALSE())","v":1},"1P","Competición",{"$f":"VLOOKUP(C1886,Referencias!$B$24:$C$40,2,FALSE())","v":"M"}]
["2813409","Velasco Arranz, Josefina","Madrileña","D",{"$f":"VLOOKUP(G1887,Referencias!$C$4:$D$21,2,FALSE())","v":"Tercera Corazón"},{"$f":"VLOOKUP(G1887,Referencias!$C$4:$E$21,3,FALSE())","v":3},"3C","Competición",{"$f":"VLOOKUP(C1887,Referencias!$B$24:$C$40,2,FALSE())","v":"M"}]
["2813410","García Cerdán, María Teresa","Madrileña","D",{"$f":"VLOOKUP(G1888,Referencias!$C$4:$D$21,2,FALSE())","v":"Tercera Diamante"},{"$f":"VLOOKUP(G1888,Referencias!$C$4:$E$21,3,FALSE())","v":3},"3D","Competición",{"$f":"VLOOKUP(C1888,Referencias!$B$24:$C$40,2,FALSE())","v":"M"}]
["2813412","Bernaldo de Quirós Robles, Fernando","Madrileña","C",{"$f":"VLOOKUP(G1889,Referencias!$C$4:$D$21,2,FALSE())","v":"Tercera Diamante"},{"$f":"VLOOKUP(G1889,Referencias!$C$4:$E$21,3,FALSE())","v":3},"3D","Competición",{"$f":"VLOOKUP(C1889,Referencias!$B$24:$C$40,2,FALSE())","v":"M"}]
["2813414","Cendra del Rivero, Carlos","Madrileña","C",{"$f":"VLOOKUP(G1890,Referencias!$C$4:$D$21,2,FALSE())","v":"Segunda Diamante"},{"$f":"VLOOKUP(G1890,Referencias!$C$4:$E$21,3,FALSE())","v":2},"2D","Competición",{"$f":"VLOOKUP(C1890,Referencias!$B$24:$C$40,2,FALSE())","v":"M"}]
["2813415","Soto López-Doriga, María Luisa","Madrileña","D",{"$f":"VLOOKUP(G1891,Referencias!$C$4:$D$21,2,FALSE())","v":"Sin Categoría"},{"$f":"VLOOKUP(G1891,Referencias!$C$4:$E$21,3,FALSE())","v":4},"SC","Competición",{"$f":"VLOOKUP(C1891,Referencias!$B$24:$C$40,2,FALSE())","v":"M"}]
["2813419","Echeverría Echaniz, Rosario","Madrileña","D",{"$f":"VLOOKUP(G1892,Referencias!$C$4:$D$21,2,FALSE())","v":"Tercera Diamante"},{"$f":"VLOOKUP(G1892,Referencias!$C$4:$E$21,3,FALSE())","v":3},"3D","Competición",{"$f":"VLOOKUP(C1892,Referencias!$B$24:$C$40,2,FALSE())","v":"M"}]
["2813420","Muro Domínguez, Yolanda","Madrileña","D",{"$f":"VLOOKUP(G1893,Referencias!$C$4:$D$21,2,FALSE())","v":"Sin Categoría"},{"$f":"VLOOKUP(G1893,Referencias!$C$4:$E$21,3,FALSE())","v":4},"SC","Competición",{"$f":"VLOOKUP(C1893,Referencias!$B$24:$C$40,2,FALSE())","v":"M"}]
["2813422","Justo Alonso, Pedro","Madrileña","C",{"$f":"VLOOKUP(G1894,Referencias!$C$4:$D$21,2,FALSE())","v":"Tercera Diamante"},{"$f":"VLOOKUP(G1894,Referencias!$C$4:$E$21,3,FALSE())","v":3},"3D","Competición",{"$f":"VLOOKUP(C1894,Referencias!$B$24:$C$40,2,FALSE())","v":"M"}]
["2813424","Iglesias-Sarria , Myriam","Madrileña","D",{"$f":"VLOOKUP(G1895,Referencias!$C$4:$D$21,2,FALSE())","v":"Segunda Diamante"},{"$f":"VLOOKUP(G1895,Referencias!$C$4:$E$21,3,FALSE())","v":2},"2D","Competición",{"$f":"VLOOKUP(C1895,Referencias!$B$24:$C$40,2,FALSE())","v":"M"}]
["2813425","Armijo Navarro-Reverter, Rosario","Madrileña","D",{"$f":"VLOOKUP(G1896,Referencias!$C$4:$D$21,2,FALSE())","v":"Tercera Picas"},{"$f":"VLOOKUP(G1896,Referencias!$C$4:$E$21,3,FALSE())","v":3},"3P","Competición",{"$f":"VLOOKUP(C1896,Referencias!$B$24:$C$40,2,FALSE())","v":"M"}]
["2813426","López-Ulloa Morais, Ana","Madrileña","D",{"$f":"VLOOKUP(G1897,Referencias!$C$4:$D$21,2,FALSE())","v":"Tercera Picas"},{"$f":"VLOOKUP(G1897,Referencias!$C$4:$E$21,3,FALSE())","v":3},"3P","Competición",{"$f":"VLOOKUP(C1897,Referencias!$B$24:$C$40,2,FALSE())","v":"M"}]
["2813433","López-Piña Pérez, Mª Luisa","Madrileña","D",{"$f":"VLOOKUP(G1898,Referencias!$C$4:$D$21,2,FALSE())","v":"Tercera Diamante"},{"$f":"VLOOKUP(G1898,Referencias!$C$4:$E$21,3,FALSE())","v":3},"3D","Competición",{"$f":"VLOOKUP(C1898,Referencias!$B$24:$C$40,2,FALSE())","v":"M"}]
["2813435","Casas Arruti, María José","Madrileña","D",{"$f":"VLOOKUP(G1899,Referencias!$C$4:$D$21,2,FALSE())","v":"Sin Categoría"},{"$f":"VLOOKUP(G1899,Referencias!$C$4:$E$21,3,FALSE())","v":4},"SC","Competición",{"$f":"VLOOKUP(C1899,Referencias!$B$24:$C$40,2,FALSE())","v":"M"}]
["2813436","Naranjo Romaguera, Lara","Madrileña","D",{"$f":"VLOOKUP(G1900,Referencias!$C$4:$D$21,2,FALSE())","v":"Tercera Diamante"},{"$f":"VLOOKUP(G1900,Referencias!$C$4:$E$21,3,FALSE())","v":3},"3D","Competición",{"$f":"VLOOKUP(C1900,Referencias!$B$24:$C$40,2,FALSE())","v":"M"}]
["2813437","de Vargas Moreno, Juana","Madrileña","D",{"$f":"VLOOKUP(G1901,Referencias!$C$4:$D$21,2,FALSE())","v":"Sin Categoría"},{"$f":"VLOOKUP(G1901,Referencias!$C$4:$E$21,3,FALSE())","v":4},"SC","Competición",{"$f":"VLOOKUP(C1901,Referencias!$B$24:$C$40,2,FALSE())","v":"M"}]
["2813438","Derks Hermans, Josephine","Madrileña","D",{"$f":"VLOOKUP(G1902,Referencias!$C$4:$D$21,2,FALSE())","v":"Tercera Corazón"},{"$f":"VLOOKUP(G1902,Referencias!$C$4:$E$21,3,FALSE())","v":3},"3C","Competición",{"$f":"VLOOKUP(C1902,Referencias!$B$24:$C$40,2,FALSE())","v":"M"}]
["2813440","Andrés Conde, Carmen","Madrileña","D",{"$f":"VLOOKUP(G1903,Referencias!$C$4:$D$21,2,FALSE())","v":"Sin Categoría"},{"$f":"VLOOKUP(G1903,Referencias!$C$4:$E$21,3,FALSE())","v":4},"SC","Competición",{"$f":"VLOOKUP(C1903,Referencias!$B$24:$C$40,2,FALSE())","v":"M"}]
["2813441","Pérez de Villaamil Alfaro, Teresa","Madrileña","D",{"$f":"VLOOKUP(G1904,Referencias!$C$4:$D$21,2,FALSE())","v":"Sin Categoría"},{"$f":"VLOOKUP(G1904,Referencias!$C$4:$E$21,3,FALSE())","v":4},"SC","Competición",{"$f":"VLOOKUP(C1904,Referencias!$B$24:$C$40,2,FALSE())","v":"M"}]
["2813442","Cantalapiedra Benjumea, Clotilde","Madrileña","D",{"$f":"VLOOKUP(G1905,Referencias!$C$4:$D$21,2,FALSE())","v":"Tercera Diamante"},{"$f":"VLOOKUP(G1905,Referencias!$C$4:$E$21,3,FALSE())","v":3},"3D","Competición",{"$f":"VLOOKUP(C1905,Referencias!$B$24:$C$40,2,FALSE())","v":"M"}]
["2813443","del Rosal Murga, Carmen","Madrileña","D",{"$f":"VLOOKUP(G1906,Referencias!$C$4:$D$21,2,FALSE())","v":"Tercera Diamante"},{"$f":"VLOOKUP(G1906,Referencias!$C$4:$E$21,3,FALSE())","v":3},"3D","Competición",{"$f":"VLOOKUP(C1906,Referencias!$B$24:$C$40,2,FALSE())","v":"M"}]
["2813445","Martínez-Reboredo García, Ana","Madrileña","D",{"$f":"VLOOKUP(G1907,Referencias!$C$4:$D$21,2,FALSE())","v":"Primera Picas"},{"$f":"VLOOKUP(G1907,Referencias!$C$4:$E$21,3,FALSE())","v":1},"1P","Competición",{"$f":"VLOOKUP(C1907,Referencias!$B$24:$C$40,2,FALSE())","v":"M"}]
["2813446","Luarte Bianchi, María Eugenia","Madrileña","D",{"$f":"VLOOKUP(G1908,Referencias!$C$4:$D$21,2,FALSE())","v":"Tercera Diamante"},{"$f":"VLOOKUP(G1908,Referencias!$C$4:$E$21,3,FALSE())","v":3},"3D","Competición",{"$f":"VLOOKUP(C1908,Referencias!$B$24:$C$40,2,FALSE())","v":"M"}]
["2813449","Gómez-Carrillo Carrasco, María Luisa","Madrileña","D",{"$f":"VLOOKUP(G1909,Referencias!$C$4:$D$21,2,FALSE())","v":"Tercera Diamante"},{"$f":"VLOOKUP(G1909,Referencias!$C$4:$E$21,3,FALSE())","v":3},"3D","Competición",{"$f":"VLOOKUP(C1909,Referencias!$B$24:$C$40,2,FALSE())","v":"M"}]
["2813450","García Pérez, María Teresa","Madrileña","D",{"$f":"VLOOKUP(G1910,Referencias!$C$4:$D$21,2,FALSE())","v":"Segunda Picas"},{"$f":"VLOOKUP(G1910,Referencias!$C$4:$E$21,3,FALSE())","v":2},"2P","Competición",{"$f":"VLOOKUP(C1910,Referencias!$B$24:$C$40,2,FALSE())","v":"M"}]
["2813451","Suárez Jordana, Beatriz","Madrileña","D",{"$f":"VLOOKUP(G1911,Referencias!$C$4:$D$21,2,FALSE())","v":"Sin Categoría"},{"$f":"VLOOKUP(G1911,Referencias!$C$4:$E$21,3,FALSE())","v":4},"SC","Competición",{"$f":"VLOOKUP(C1911,Referencias!$B$24:$C$40,2,FALSE())","v":"M"}]
["2813453","Aguirre Espinosa, Mercedes","Madrileña","D",{"$f":"VLOOKUP(G1912,Referencias!$C$4:$D$21,2,FALSE())","v":"Segunda Diamante"},{"$f":"VLOOKUP(G1912,Referencias!$C$4:$E$21,3,FALSE())","v":2},"2D","Competición",{"$f":"VLOOKUP(C1912,Referencias!$B$24:$C$40,2,FALSE())","v":"M"}]
["2813459","Mac Cormac Desmond, Ruth","Madrileña","D",{"$f":"VLOOKUP(G1913,Referencias!$C$4:$D$21,2,FALSE())","v":"Tercera Diamante"},{"$f":"VLOOKUP(G1913,Referencias!$C$4:$E$21,3,FALSE())","v":3},"3D","Competición",{"$f":"VLOOKUP(C1913,Referencias!$B$24:$C$40,2,FALSE())","v":"M"}]
["2813460"," de Hornachuelos , Duquesa","Madrileña","D",{"$f":"VLOOKUP(G1914,Referencias!$C$4:$D$21,2,FALSE())","v":"Tercera Corazón"},{"$f":"VLOOKUP(G1914,Referencias!$C$4:$E$21,3,FALSE())","v":3},"3C","Competición",{"$f":"VLOOKUP(C1914,Referencias!$B$24:$C$40,2,FALSE())","v":"M"}]
["2813461","Castro Rodríguez, María","Madrileña","D",{"$f":"VLOOKUP(G1915,Referencias!$C$4:$D$21,2,FALSE())","v":"Sin Categoría"},{"$f":"VLOOKUP(G1915,Referencias!$C$4:$E$21,3,FALSE())","v":4},"SC","Competición",{"$f":"VLOOKUP(C1915,Referencias!$B$24:$C$40,2,FALSE())","v":"M"}]
["2813462","Martín-Ballestero Martínez de Velasco, Mercedes","Madrileña","D",{"$f":"VLOOKUP(G1916,Referencias!$C$4:$D$21,2,FALSE())","v":"Sin Categoría"},{"$f":"VLOOKUP(G1916,Referencias!$C$4:$E$21,3,FALSE())","v":4},"SC","Competición",{"$f":"VLOOKUP(C1916,Referencias!$B$24:$C$40,2,FALSE())","v":"M"}]
["2813463","Sánchez Barriga, María Isabel","Madrileña","D",{"$f":"VLOOKUP(G1917,Referencias!$C$4:$D$21,2,FALSE())","v":"Tercera Picas"},{"$f":"VLOOKUP(G1917,Referencias!$C$4:$E$21,3,FALSE())","v":3},"3P","Competición",{"$f":"VLOOKUP(C1917,Referencias!$B$24:$C$40,2,FALSE())","v":"M"}]
["2813467","Llanas Goicoechea, Marina","Madrileña","D",{"$f":"VLOOKUP(G1918,Referencias!$C$4:$D$21,2,FALSE())","v":"Segunda Picas"},{"$f":"VLOOKUP(G1918,Referencias!$C$4:$E$21,3,FALSE())","v":2},"2P","Competición",{"$f":"VLOOKUP(C1918,Referencias!$B$24:$C$40,2,FALSE())","v":"M"}]
["2813468","Álvarez-Novoa Romero, Nuria","Madrileña","D",{"$f":"VLOOKUP(G1919,Referencias!$C$4:$D$21,2,FALSE())","v":"Tercera Picas"},{"$f":"VLOOKUP(G1919,Referencias!$C$4:$E$21,3,FALSE())","v":3},"3P","Competición",{"$f":"VLOOKUP(C1919,Referencias!$B$24:$C$40,2,FALSE())","v":"M"}]
["2813475","Fernández de Córdoba Maldonado, Isabel","Madrileña","D",{"$f":"VLOOKUP(G1920,Referencias!$C$4:$D$21,2,FALSE())","v":"Sin Categoría"},{"$f":"VLOOKUP(G1920,Referencias!$C$4:$E$21,3,FALSE())","v":4},"SC","Competición",{"$f":"VLOOKUP(C1920,Referencias!$B$24:$C$40,2,FALSE())","v":"M"}]
["2813476","Escriña Del Pozo, Rosa","Madrileña","D",{"$f":"VLOOKUP(G1921,Referencias!$C$4:$D$21,2,FALSE())","v":"Sin Categoría"},{"$f":"VLOOKUP(G1921,Referencias!$C$4:$E$21,3,FALSE())","v":4},"SC","Competición",{"$f":"VLOOKUP(C1921,Referencias!$B$24:$C$40,2,FALSE())","v":"M"}]
["2813478","Ramiro Regueira, Javier","Madrileña","C",{"$f":"VLOOKUP(G1922,Referencias!$C$4:$D$21,2,FALSE())","v":"Sin Categoría"},{"$f":"VLOOKUP(G1922,Referencias!$C$4:$E$21,3,FALSE())","v":4},"SC","Competición",{"$f":"VLOOKUP(C1922,Referencias!$B$24:$C$40,2,FALSE())","v":"M"}]
["2813480","Spinola González, Carmen","Madrileña","D",{"$f":"VLOOKUP(G1923,Referencias!$C$4:$D$21,2,FALSE())","v":"Sin Categoría"},{"$f":"VLOOKUP(G1923,Referencias!$C$4:$E$21,3,FALSE())","v":4},"SC","Competición",{"$f":"VLOOKUP(C1923,Referencias!$B$24:$C$40,2,FALSE())","v":"M"}]
["2813481","de la Mata Collados, Aurora","Madrileña","D",{"$f":"VLOOKUP(G1924,Referencias!$C$4:$D$21,2,FALSE())","v":"Tercera Diamante"},{"$f":"VLOOKUP(G1924,Referencias!$C$4:$E$21,3,FALSE())","v":3},"3D","Competición",{"$f":"VLOOKUP(C1924,Referencias!$B$24:$C$40,2,FALSE())","v":"M"}]
["2813482","Andrés Solana, Santiago","Madrileña","C",{"$f":"VLOOKUP(G1925,Referencias!$C$4:$D$21,2,FALSE())","v":"Sin Categoría"},{"$f":"VLOOKUP(G1925,Referencias!$C$4:$E$21,3,FALSE())","v":4},"SC","Competición",{"$f":"VLOOKUP(C1925,Referencias!$B$24:$C$40,2,FALSE())","v":"M"}]
["2813483","Foret Ussia, Cristina","Madrileña","D",{"$f":"VLOOKUP(G1926,Referencias!$C$4:$D$21,2,FALSE())","v":"Sin Categoría"},{"$f":"VLOOKUP(G1926,Referencias!$C$4:$E$21,3,FALSE())","v":4},"SC","Competición",{"$f":"VLOOKUP(C1926,Referencias!$B$24:$C$40,2,FALSE())","v":"M"}]
["2813484","Badrinas Amat, Ana","Madrileña","D",{"$f":"VLOOKUP(G1927,Referencias!$C$4:$D$21,2,FALSE())","v":"Tercera Diamante"},{"$f":"VLOOKUP(G1927,Referencias!$C$4:$E$21,3,FALSE())","v":3},"3D","Competición",{"$f":"VLOOKUP(C1927,Referencias!$B$24:$C$40,2,FALSE())","v":"M"}]
["2813486","Vieira Montenegro, Pilar","Madrileña","D",{"$f":"VLOOKUP(G1928,Referencias!$C$4:$D$21,2,FALSE())","v":"Tercera Diamante"},{"$f":"VLOOKUP(G1928,Referencias!$C$4:$E$21,3,FALSE())","v":3},"3D","Competición",{"$f":"VLOOKUP(C1928,Referencias!$B$24:$C$40,2,FALSE())","v":"M"}]
["2813489","Montero de Pedro, Cristina","Madrileña","D",{"$f":"VLOOKUP(G1929,Referencias!$C$4:$D$21,2,FALSE())","v":"Tercera Diamante"},{"$f":"VLOOKUP(G1929,Referencias!$C$4:$E$21,3,FALSE())","v":3},"3D","Honorífica",{"$f":"VLOOKUP(C1929,Referencias!$B$24:$C$40,2,FALSE())","v":"M"}]
["2813492","Isla Sánchez, José María","Madrileña","C",{"$f":"VLOOKUP(G1930,Referencias!$C$4:$D$21,2,FALSE())","v":"Tercera Diamante"},{"$f":"VLOOKUP(G1930,Referencias!$C$4:$E$21,3,FALSE())","v":3},"3D","Competición",{"$f":"VLOOKUP(C1930,Referencias!$B$24:$C$40,2,FALSE())","v":"M"}]
["2813494","Claver Madurga, Matilde","Madrileña","D",{"$f":"VLOOKUP(G1931,Referencias!$C$4:$D$21,2,FALSE())","v":"Segunda Corazón"},{"$f":"VLOOKUP(G1931,Referencias!$C$4:$E$21,3,FALSE())","v":2},"2C","Competición",{"$f":"VLOOKUP(C1931,Referencias!$B$24:$C$40,2,FALSE())","v":"M"}]
["2813500","García Tortosa, Blanca","Madrileña","D",{"$f":"VLOOKUP(G1932,Referencias!$C$4:$D$21,2,FALSE())","v":"Sin Categoría"},{"$f":"VLOOKUP(G1932,Referencias!$C$4:$E$21,3,FALSE())","v":4},"SC","Competición",{"$f":"VLOOKUP(C1932,Referencias!$B$24:$C$40,2,FALSE())","v":"M"}]
["2813504","Von Korff Utin, Marina","Madrileña","D",{"$f":"VLOOKUP(G1933,Referencias!$C$4:$D$21,2,FALSE())","v":"Sin Categoría"},{"$f":"VLOOKUP(G1933,Referencias!$C$4:$E$21,3,FALSE())","v":4},"SC","Honorífica",{"$f":"VLOOKUP(C1933,Referencias!$B$24:$C$40,2,FALSE())","v":"M"}]
["2813505","Salamanca Maesso, Dorys","Madrileña","D",{"$f":"VLOOKUP(G1934,Referencias!$C$4:$D$21,2,FALSE())","v":"Segunda Picas"},{"$f":"VLOOKUP(G1934,Referencias!$C$4:$E$21,3,FALSE())","v":2},"2P","Competición",{"$f":"VLOOKUP(C1934,Referencias!$B$24:$C$40,2,FALSE())","v":"M"}]
["2813507","Castresana Alonso de Prado, Mª Concepción","Madrileña","D",{"$f":"VLOOKUP(G1935,Referencias!$C$4:$D$21,2,FALSE())","v":"Tercera Picas"},{"$f":"VLOOKUP(G1935,Referencias!$C$4:$E$21,3,FALSE())","v":3},"3P","Competición",{"$f":"VLOOKUP(C1935,Referencias!$B$24:$C$40,2,FALSE())","v":"M"}]
["2813509","Ortíz de Zugasti Zumárraga, Almudena","Madrileña","D",{"$f":"VLOOKUP(G1936,Referencias!$C$4:$D$21,2,FALSE())","v":"Tercera Diamante"},{"$f":"VLOOKUP(G1936,Referencias!$C$4:$E$21,3,FALSE())","v":3},"3D","Competición",{"$f":"VLOOKUP(C1936,Referencias!$B$24:$C$40,2,FALSE())","v":"M"}]
["2813511","Torner Garrido-Espiga, Sandra","Madrileña","D",{"$f":"VLOOKUP(G1937,Referencias!$C$4:$D$21,2,FALSE())","v":"Sin Categoría"},{"$f":"VLOOKUP(G1937,Referencias!$C$4:$E$21,3,FALSE())","v":4},"SC","Competición",{"$f":"VLOOKUP(C1937,Referencias!$B$24:$C$40,2,FALSE())","v":"M"}]
["2813512","Ortiz Marcide, María Isabel","Madrileña","D",{"$f":"VLOOKUP(G1938,Referencias!$C$4:$D$21,2,FALSE())","v":"Sin Categoría"},{"$f":"VLOOKUP(G1938,Referencias!$C$4:$E$21,3,FALSE())","v":4},"SC","Competición",{"$f":"VLOOKUP(C1938,Referencias!$B$24:$C$40,2,FALSE())","v":"M"}]
["2813513","Toledano Soto, María José","Madrileña","D",{"$f":"VLOOKUP(G1939,Referencias!$C$4:$D$21,2,FALSE())","v":"Sin Categoría"},{"$f":"VLOOKUP(G1939,Referencias!$C$4:$E$21,3,FALSE())","v":4},"SC","Competición",{"$f":"VLOOKUP(C1939,Referencias!$B$24:$C$40,2,FALSE())","v":"M"}]
["2813515","López-Suevos Fernández, María del Carmen","Madrileña","D",{"$f":"VLOOKUP(G1940,Referencias!$C$4:$D$21,2,FALSE())","v":"Primera Diamante"},{"$f":"VLOOKUP(G1940,Referencias!$C$4:$E$21,3,FALSE())","v":1},"1D","Competición",{"$f":"VLOOKUP(C1940,Referencias!$B$24:$C$40,2,FALSE())","v":"M"}]
["2813516","Martín Allegue, Carlos","Madrileña","C",{"$f":"VLOOKUP(G1941,Referencias!$C$4:$D$21,2,FALSE())","v":"Tercera Picas"},{"$f":"VLOOKUP(G1941,Referencias!$C$4:$E$21,3,FALSE())","v":3},"3P","Honorífica",{"$f":"VLOOKUP(C1941,Referencias!$B$24:$C$40,2,FALSE())","v":"M"}]
["2813517","González Andrés, Concepción","Madrileña","D",{"$f":"VLOOKUP(G1942,Referencias!$C$4:$D$21,2,FALSE())","v":"Primera Corazón"},{"$f":"VLOOKUP(G1942,Referencias!$C$4:$E$21,3,FALSE())","v":1},"1C","Competición",{"$f":"VLOOKUP(C1942,Referencias!$B$24:$C$40,2,FALSE())","v":"M"}]
["2813518","Echenique Gordillo, Rodrigo","Madrileña","C",{"$f":"VLOOKUP(G1943,Referencias!$C$4:$D$21,2,FALSE())","v":"Sin Categoría"},{"$f":"VLOOKUP(G1943,Referencias!$C$4:$E$21,3,FALSE())","v":4},"SC","Competición",{"$f":"VLOOKUP(C1943,Referencias!$B$24:$C$40,2,FALSE())","v":"M"}]
["2813519","Mazarrasa Coll, Agustín","Madrileña","C",{"$f":"VLOOKUP(G1944,Referencias!$C$4:$D$21,2,FALSE())","v":"Sin Categoría"},{"$f":"VLOOKUP(G1944,Referencias!$C$4:$E$21,3,FALSE())","v":4},"SC","Competición",{"$f":"VLOOKUP(C1944,Referencias!$B$24:$C$40,2,FALSE())","v":"M"}]
["2813520","Holmer Dahl, Helene","Madrileña","D",{"$f":"VLOOKUP(G1945,Referencias!$C$4:$D$21,2,FALSE())","v":"Tercera Diamante"},{"$f":"VLOOKUP(G1945,Referencias!$C$4:$E$21,3,FALSE())","v":3},"3D","Competición",{"$f":"VLOOKUP(C1945,Referencias!$B$24:$C$40,2,FALSE())","v":"M"}]
["2813521","Laguna del Cojo, Paloma","Madrileña","D",{"$f":"VLOOKUP(G1946,Referencias!$C$4:$D$21,2,FALSE())","v":"Tercera Corazón"},{"$f":"VLOOKUP(G1946,Referencias!$C$4:$E$21,3,FALSE())","v":3},"3C","Competición",{"$f":"VLOOKUP(C1946,Referencias!$B$24:$C$40,2,FALSE())","v":"M"}]
["2813522","Pedruelo Nuche, Margarita","Madrileña","D",{"$f":"VLOOKUP(G1947,Referencias!$C$4:$D$21,2,FALSE())","v":"Tercera Diamante"},{"$f":"VLOOKUP(G1947,Referencias!$C$4:$E$21,3,FALSE())","v":3},"3D","Competición",{"$f":"VLOOKUP(C1947,Referencias!$B$24:$C$40,2,FALSE())","v":"M"}]
["2813523","Gómez de la Vega López, Luis","Madrileña","C",{"$f":"VLOOKUP(G1948,Referencias!$C$4:$D$21,2,FALSE())","v":"Tercera Diamante"},{"$f":"VLOOKUP(G1948,Referencias!$C$4:$E$21,3,FALSE())","v":3},"3D","Competición",{"$f":"VLOOKUP(C1948,Referencias!$B$24:$C$40,2,FALSE())","v":"M"}]
["2813524","de Nardiz Pino, Juan","Madrileña","C",{"$f":"VLOOKUP(G1949,Referencias!$C$4:$D$21,2,FALSE())","v":"Sin Categoría"},{"$f":"VLOOKUP(G1949,Referencias!$C$4:$E$21,3,FALSE())","v":4},"SC","Competición",{"$f":"VLOOKUP(C1949,Referencias!$B$24:$C$40,2,FALSE())","v":"M"}]
["2813525","Álvarez de Toledo Álvarez de Builla, Ana","Madrileña","D",{"$f":"VLOOKUP(G1950,Referencias!$C$4:$D$21,2,FALSE())","v":"Sin Categoría"},{"$f":"VLOOKUP(G1950,Referencias!$C$4:$E$21,3,FALSE())","v":4},"SC","Competición",{"$f":"VLOOKUP(C1950,Referencias!$B$24:$C$40,2,FALSE())","v":"M"}]
["2813527","Santiago Pérez, Carmen","Madrileña","D",{"$f":"VLOOKUP(G1951,Referencias!$C$4:$D$21,2,FALSE())","v":"Tercera Diamante"},{"$f":"VLOOKUP(G1951,Referencias!$C$4:$E$21,3,FALSE())","v":3},"3D","Competición",{"$f":"VLOOKUP(C1951,Referencias!$B$24:$C$40,2,FALSE())","v":"M"}]
["2813529","Torres-Quevedo González-Camino, Mercedes","Madrileña","D",{"$f":"VLOOKUP(G1952,Referencias!$C$4:$D$21,2,FALSE())","v":"Segunda Diamante"},{"$f":"VLOOKUP(G1952,Referencias!$C$4:$E$21,3,FALSE())","v":2},"2D","Competición",{"$f":"VLOOKUP(C1952,Referencias!$B$24:$C$40,2,FALSE())","v":"M"}]
["2813530","Acha Castresana, Ignacio","Madrileña","C",{"$f":"VLOOKUP(G1953,Referencias!$C$4:$D$21,2,FALSE())","v":"Sin Categoría"},{"$f":"VLOOKUP(G1953,Referencias!$C$4:$E$21,3,FALSE())","v":4},"SC","Competición",{"$f":"VLOOKUP(C1953,Referencias!$B$24:$C$40,2,FALSE())","v":"M"}]
["2813531","Susaeta Salichs, Rosa","Madrileña","D",{"$f":"VLOOKUP(G1954,Referencias!$C$4:$D$21,2,FALSE())","v":"Sin Categoría"},{"$f":"VLOOKUP(G1954,Referencias!$C$4:$E$21,3,FALSE())","v":4},"SC","Competición",{"$f":"VLOOKUP(C1954,Referencias!$B$24:$C$40,2,FALSE())","v":"M"}]
["2813532","Zumárraga Ortiz, Tomás","Madrileña","C",{"$f":"VLOOKUP(G1955,Referencias!$C$4:$D$21,2,FALSE())","v":"Primera Corazón"},{"$f":"VLOOKUP(G1955,Referencias!$C$4:$E$21,3,FALSE())","v":1},"1C","Competición",{"$f":"VLOOKUP(C1955,Referencias!$B$24:$C$40,2,FALSE())","v":"M"}]
["2813533","Astorqui Zabala, María Isabel","Madrileña","D",{"$f":"VLOOKUP(G1956,Referencias!$C$4:$D$21,2,FALSE())","v":"Segunda Corazón"},{"$f":"VLOOKUP(G1956,Referencias!$C$4:$E$21,3,FALSE())","v":2},"2C","Competición",{"$f":"VLOOKUP(C1956,Referencias!$B$24:$C$40,2,FALSE())","v":"M"}]
["2813534","Albiol Pau, Enrique","Madrileña","C",{"$f":"VLOOKUP(G1957,Referencias!$C$4:$D$21,2,FALSE())","v":"Tercera Corazón"},{"$f":"VLOOKUP(G1957,Referencias!$C$4:$E$21,3,FALSE())","v":3},"3C","Competición",{"$f":"VLOOKUP(C1957,Referencias!$B$24:$C$40,2,FALSE())","v":"M"}]
["2813535","del Rosal Blasco, María Teresa","Madrileña","D",{"$f":"VLOOKUP(G1958,Referencias!$C$4:$D$21,2,FALSE())","v":"Tercera Corazón"},{"$f":"VLOOKUP(G1958,Referencias!$C$4:$E$21,3,FALSE())","v":3},"3C","Competición",{"$f":"VLOOKUP(C1958,Referencias!$B$24:$C$40,2,FALSE())","v":"M"}]
["2813536","Cruz Jiménez, Marisa","Madrileña","D",{"$f":"VLOOKUP(G1959,Referencias!$C$4:$D$21,2,FALSE())","v":"Sin Categoría"},{"$f":"VLOOKUP(G1959,Referencias!$C$4:$E$21,3,FALSE())","v":4},"SC","Competición",{"$f":"VLOOKUP(C1959,Referencias!$B$24:$C$40,2,FALSE())","v":"M"}]
["2813538","Monjardín Bayo, Soledad","Madrileña","D",{"$f":"VLOOKUP(G1960,Referencias!$C$4:$D$21,2,FALSE())","v":"Sin Categoría"},{"$f":"VLOOKUP(G1960,Referencias!$C$4:$E$21,3,FALSE())","v":4},"SC","Honorífica",{"$f":"VLOOKUP(C1960,Referencias!$B$24:$C$40,2,FALSE())","v":"M"}]
["2813539","Urrestarazu Cabrero, Leoncio","Madrileña","C",{"$f":"VLOOKUP(G1961,Referencias!$C$4:$D$21,2,FALSE())","v":"Sin Categoría"},{"$f":"VLOOKUP(G1961,Referencias!$C$4:$E$21,3,FALSE())","v":4},"SC","Competición",{"$f":"VLOOKUP(C1961,Referencias!$B$24:$C$40,2,FALSE())","v":"M"}]
["2813540","González-Hontoria Velarde, José Luis","Madrileña","C",{"$f":"VLOOKUP(G1962,Referencias!$C$4:$D$21,2,FALSE())","v":"Sin Categoría"},{"$f":"VLOOKUP(G1962,Referencias!$C$4:$E$21,3,FALSE())","v":4},"SC","Competición",{"$f":"VLOOKUP(C1962,Referencias!$B$24:$C$40,2,FALSE())","v":"M"}]
["2813548","San José González, Ana María","Madrileña","D",{"$f":"VLOOKUP(G1963,Referencias!$C$4:$D$21,2,FALSE())","v":"Tercera Corazón"},{"$f":"VLOOKUP(G1963,Referencias!$C$4:$E$21,3,FALSE())","v":3},"3C","Competición",{"$f":"VLOOKUP(C1963,Referencias!$B$24:$C$40,2,FALSE())","v":"M"}]
["2813551","Gil-Casares Fernández-Montes, Patricia","Madrileña","D",{"$f":"VLOOKUP(G1964,Referencias!$C$4:$D$21,2,FALSE())","v":"Primera Corazón"},{"$f":"VLOOKUP(G1964,Referencias!$C$4:$E$21,3,FALSE())","v":1},"1C","Competición",{"$f":"VLOOKUP(C1964,Referencias!$B$24:$C$40,2,FALSE())","v":"M"}]
["2813553","de Arroquia Noves, Concepción","Madrileña","D",{"$f":"VLOOKUP(G1965,Referencias!$C$4:$D$21,2,FALSE())","v":"Tercera Picas"},{"$f":"VLOOKUP(G1965,Referencias!$C$4:$E$21,3,FALSE())","v":3},"3P","Competición",{"$f":"VLOOKUP(C1965,Referencias!$B$24:$C$40,2,FALSE())","v":"M"}]
["2813554","Martín-Moreno Sacristán, Marta","Madrileña","D",{"$f":"VLOOKUP(G1966,Referencias!$C$4:$D$21,2,FALSE())","v":"Tercera Corazón"},{"$f":"VLOOKUP(G1966,Referencias!$C$4:$E$21,3,FALSE())","v":3},"3C","Competición",{"$f":"VLOOKUP(C1966,Referencias!$B$24:$C$40,2,FALSE())","v":"M"}]
["2813555","Urien del Diego, María Concepción","Madrileña","D",{"$f":"VLOOKUP(G1967,Referencias!$C$4:$D$21,2,FALSE())","v":"Tercera Diamante"},{"$f":"VLOOKUP(G1967,Referencias!$C$4:$E$21,3,FALSE())","v":3},"3D","Competición",{"$f":"VLOOKUP(C1967,Referencias!$B$24:$C$40,2,FALSE())","v":"M"}]
["2813556","Luque Hernández, Candelaria","Madrileña","D",{"$f":"VLOOKUP(G1968,Referencias!$C$4:$D$21,2,FALSE())","v":"Tercera Corazón"},{"$f":"VLOOKUP(G1968,Referencias!$C$4:$E$21,3,FALSE())","v":3},"3C","Competición",{"$f":"VLOOKUP(C1968,Referencias!$B$24:$C$40,2,FALSE())","v":"M"}]
["2813560","Högberg , Sonia","Madrileña","D",{"$f":"VLOOKUP(G1969,Referencias!$C$4:$D$21,2,FALSE())","v":"Tercera Picas"},{"$f":"VLOOKUP(G1969,Referencias!$C$4:$E$21,3,FALSE())","v":3},"3P","Competición",{"$f":"VLOOKUP(C1969,Referencias!$B$24:$C$40,2,FALSE())","v":"M"}]
["2813561","Alfaro Aguilar, Ana","Madrileña","D",{"$f":"VLOOKUP(G1970,Referencias!$C$4:$D$21,2,FALSE())","v":"Tercera Picas"},{"$f":"VLOOKUP(G1970,Referencias!$C$4:$E$21,3,FALSE())","v":3},"3P","Competición",{"$f":"VLOOKUP(C1970,Referencias!$B$24:$C$40,2,FALSE())","v":"M"}]
["2813563","Rodríguez-Casanova González del Valle, Luz","Madrileña","D",{"$f":"VLOOKUP(G1971,Referencias!$C$4:$D$21,2,FALSE())","v":"Sin Categoría"},{"$f":"VLOOKUP(G1971,Referencias!$C$4:$E$21,3,FALSE())","v":4},"SC","Competición",{"$f":"VLOOKUP(C1971,Referencias!$B$24:$C$40,2,FALSE())","v":"M"}]
["2813564","Dolz de Espejo Arróspide, Pilar","Madrileña","D",{"$f":"VLOOKUP(G1972,Referencias!$C$4:$D$21,2,FALSE())","v":"Sin Categoría"},{"$f":"VLOOKUP(G1972,Referencias!$C$4:$E$21,3,FALSE())","v":4},"SC","Competición",{"$f":"VLOOKUP(C1972,Referencias!$B$24:$C$40,2,FALSE())","v":"M"}]
["2813565","de Olano Moliner, Chiti","Madrileña","D",{"$f":"VLOOKUP(G1973,Referencias!$C$4:$D$21,2,FALSE())","v":"Sin Categoría"},{"$f":"VLOOKUP(G1973,Referencias!$C$4:$E$21,3,FALSE())","v":4},"SC","Competición",{"$f":"VLOOKUP(C1973,Referencias!$B$24:$C$40,2,FALSE())","v":"M"}]
["2813566","Echeverría Echaniz, María","Madrileña","D",{"$f":"VLOOKUP(G1974,Referencias!$C$4:$D$21,2,FALSE())","v":"Tercera Diamante"},{"$f":"VLOOKUP(G1974,Referencias!$C$4:$E$21,3,FALSE())","v":3},"3D","Competición",{"$f":"VLOOKUP(C1974,Referencias!$B$24:$C$40,2,FALSE())","v":"M"}]
["2813567","Grunberg Cabessa, Marcia","Madrileña","D",{"$f":"VLOOKUP(G1975,Referencias!$C$4:$D$21,2,FALSE())","v":"Tercera Diamante"},{"$f":"VLOOKUP(G1975,Referencias!$C$4:$E$21,3,FALSE())","v":3},"3D","Competición",{"$f":"VLOOKUP(C1975,Referencias!$B$24:$C$40,2,FALSE())","v":"M"}]
["2813568","Ordoñez Obregón, Charo","Madrileña","D",{"$f":"VLOOKUP(G1976,Referencias!$C$4:$D$21,2,FALSE())","v":"Tercera Diamante"},{"$f":"VLOOKUP(G1976,Referencias!$C$4:$E$21,3,FALSE())","v":3},"3D","Competición",{"$f":"VLOOKUP(C1976,Referencias!$B$24:$C$40,2,FALSE())","v":"M"}]
["2813570","Milián Quílez, María Luisa","Madrileña","D",{"$f":"VLOOKUP(G1977,Referencias!$C$4:$D$21,2,FALSE())","v":"Segunda Diamante"},{"$f":"VLOOKUP(G1977,Referencias!$C$4:$E$21,3,FALSE())","v":2},"2D","Competición",{"$f":"VLOOKUP(C1977,Referencias!$B$24:$C$40,2,FALSE())","v":"M"}]
["2813571","Navarro Fernández, Ginés","Madrileña","C",{"$f":"VLOOKUP(G1978,Referencias!$C$4:$D$21,2,FALSE())","v":"Segunda Diamante"},{"$f":"VLOOKUP(G1978,Referencias!$C$4:$E$21,3,FALSE())","v":2},"2D","Competición",{"$f":"VLOOKUP(C1978,Referencias!$B$24:$C$40,2,FALSE())","v":"M"}]
["2813576","Reguengo Rodríguez, Alicia","Madrileña","D",{"$f":"VLOOKUP(G1979,Referencias!$C$4:$D$21,2,FALSE())","v":"Tercera Diamante"},{"$f":"VLOOKUP(G1979,Referencias!$C$4:$E$21,3,FALSE())","v":3},"3D","Competición",{"$f":"VLOOKUP(C1979,Referencias!$B$24:$C$40,2,FALSE())","v":"M"}]
["2813586","Medrano González de Prado, Ana Marta","Madrileña","D",{"$f":"VLOOKUP(G1980,Referencias!$C$4:$D$21,2,FALSE())","v":"Tercera Corazón"},{"$f":"VLOOKUP(G1980,Referencias!$C$4:$E$21,3,FALSE())","v":3},"3C","Competición",{"$f":"VLOOKUP(C1980,Referencias!$B$24:$C$40,2,FALSE())","v":"M"}]
["2813592","Martín-Moreno Sacristán, Esperanza","Madrileña","D",{"$f":"VLOOKUP(G1981,Referencias!$C$4:$D$21,2,FALSE())","v":"Segunda Diamante"},{"$f":"VLOOKUP(G1981,Referencias!$C$4:$E$21,3,FALSE())","v":2},"2D","Competición",{"$f":"VLOOKUP(C1981,Referencias!$B$24:$C$40,2,FALSE())","v":"M"}]
["2813594","Alabart Fernández-Cavada, Álvaro","Madrileña","C",{"$f":"VLOOKUP(G1982,Referencias!$C$4:$D$21,2,FALSE())","v":"Sin Categoría"},{"$f":"VLOOKUP(G1982,Referencias!$C$4:$E$21,3,FALSE())","v":4},"SC","Competición",{"$f":"VLOOKUP(C1982,Referencias!$B$24:$C$40,2,FALSE())","v":"M"}]
["2813597","Sintas Ponte, Pilar","Madrileña","D",{"$f":"VLOOKUP(G1983,Referencias!$C$4:$D$21,2,FALSE())","v":"Tercera Diamante"},{"$f":"VLOOKUP(G1983,Referencias!$C$4:$E$21,3,FALSE())","v":3},"3D","Competición",{"$f":"VLOOKUP(C1983,Referencias!$B$24:$C$40,2,FALSE())","v":"M"}]
["2813598","Sintas Ponte, Estrella","Madrileña","D",{"$f":"VLOOKUP(G1984,Referencias!$C$4:$D$21,2,FALSE())","v":"Tercera Diamante"},{"$f":"VLOOKUP(G1984,Referencias!$C$4:$E$21,3,FALSE())","v":3},"3D","Competición",{"$f":"VLOOKUP(C1984,Referencias!$B$24:$C$40,2,FALSE())","v":"M"}]
["2813600","Llopis Martínez, Carmen","Madrileña","D",{"$f":"VLOOKUP(G1985,Referencias!$C$4:$D$21,2,FALSE())","v":"Tercera Diamante"},{"$f":"VLOOKUP(G1985,Referencias!$C$4:$E$21,3,FALSE())","v":3},"3D","Competición",{"$f":"VLOOKUP(C1985,Referencias!$B$24:$C$40,2,FALSE())","v":"M"}]
["2813601","de la Calle Vergara, Margarita","Madrileña","D",{"$f":"VLOOKUP(G1986,Referencias!$C$4:$D$21,2,FALSE())","v":"Tercera Diamante"},{"$f":"VLOOKUP(G1986,Referencias!$C$4:$E$21,3,FALSE())","v":3},"3D","Competición",{"$f":"VLOOKUP(C1986,Referencias!$B$24:$C$40,2,FALSE())","v":"M"}]
["2813606","Gómez Muntan, Rosario","Madrileña","D",{"$f":"VLOOKUP(G1987,Referencias!$C$4:$D$21,2,FALSE())","v":"Tercera Corazón"},{"$f":"VLOOKUP(G1987,Referencias!$C$4:$E$21,3,FALSE())","v":3},"3C","Competición",{"$f":"VLOOKUP(C1987,Referencias!$B$24:$C$40,2,FALSE())","v":"M"}]
["2813607","Galbis Dolz de Espejo, Dolores","Madrileña","D",{"$f":"VLOOKUP(G1988,Referencias!$C$4:$D$21,2,FALSE())","v":"Sin Categoría"},{"$f":"VLOOKUP(G1988,Referencias!$C$4:$E$21,3,FALSE())","v":4},"SC","Competición",{"$f":"VLOOKUP(C1988,Referencias!$B$24:$C$40,2,FALSE())","v":"M"}]
["2813609","Merino Company, Elvira","Madrileña","D",{"$f":"VLOOKUP(G1989,Referencias!$C$4:$D$21,2,FALSE())","v":"Sin Categoría"},{"$f":"VLOOKUP(G1989,Referencias!$C$4:$E$21,3,FALSE())","v":4},"SC","Honorífica",{"$f":"VLOOKUP(C1989,Referencias!$B$24:$C$40,2,FALSE())","v":"M"}]
["2813610","Ortiz de Zúñiga Echeverría, Ignacio","Madrileña","C",{"$f":"VLOOKUP(G1990,Referencias!$C$4:$D$21,2,FALSE())","v":"Segunda Diamante"},{"$f":"VLOOKUP(G1990,Referencias!$C$4:$E$21,3,FALSE())","v":2},"2D","Competición",{"$f":"VLOOKUP(C1990,Referencias!$B$24:$C$40,2,FALSE())","v":"M"}]
["2813611","Mingot Aznar, Lola","Madrileña","D",{"$f":"VLOOKUP(G1991,Referencias!$C$4:$D$21,2,FALSE())","v":"Primera Picas"},{"$f":"VLOOKUP(G1991,Referencias!$C$4:$E$21,3,FALSE())","v":1},"1P","Competición",{"$f":"VLOOKUP(C1991,Referencias!$B$24:$C$40,2,FALSE())","v":"M"}]
["2813612","Szapary Hadik, Laszlo","Madrileña","C",{"$f":"VLOOKUP(G1992,Referencias!$C$4:$D$21,2,FALSE())","v":"Sin Categoría"},{"$f":"VLOOKUP(G1992,Referencias!$C$4:$E$21,3,FALSE())","v":4},"SC","Competición",{"$f":"VLOOKUP(C1992,Referencias!$B$24:$C$40,2,FALSE())","v":"M"}]
["2813613","Requejo Falceto, María del Carmen","Madrileña","D",{"$f":"VLOOKUP(G1993,Referencias!$C$4:$D$21,2,FALSE())","v":"Sin Categoría"},{"$f":"VLOOKUP(G1993,Referencias!$C$4:$E$21,3,FALSE())","v":4},"SC","Competición",{"$f":"VLOOKUP(C1993,Referencias!$B$24:$C$40,2,FALSE())","v":"M"}]
["2813616","Soto de Prado, Esperanza","Madrileña","D",{"$f":"VLOOKUP(G1994,Referencias!$C$4:$D$21,2,FALSE())","v":"Tercera Diamante"},{"$f":"VLOOKUP(G1994,Referencias!$C$4:$E$21,3,FALSE())","v":3},"3D","Competición",{"$f":"VLOOKUP(C1994,Referencias!$B$24:$C$40,2,FALSE())","v":"M"}]
["2813618","Rubio Morenés, Pilar","Madrileña","D",{"$f":"VLOOKUP(G1995,Referencias!$C$4:$D$21,2,FALSE())","v":"Sin Categoría"},{"$f":"VLOOKUP(G1995,Referencias!$C$4:$E$21,3,FALSE())","v":4},"SC","Competición",{"$f":"VLOOKUP(C1995,Referencias!$B$24:$C$40,2,FALSE())","v":"M"}]
["2813620","García Del Nero, Marisol","Madrileña","D",{"$f":"VLOOKUP(G1996,Referencias!$C$4:$D$21,2,FALSE())","v":"Sin Categoría"},{"$f":"VLOOKUP(G1996,Referencias!$C$4:$E$21,3,FALSE())","v":4},"SC","Competición",{"$f":"VLOOKUP(C1996,Referencias!$B$24:$C$40,2,FALSE())","v":"M"}]
["2813627","Espinosa de los Monteros Bernaldo de Quirós, Galinda","Madrileña","D",{"$f":"VLOOKUP(G1997,Referencias!$C$4:$D$21,2,FALSE())","v":"Tercera Corazón"},{"$f":"VLOOKUP(G1997,Referencias!$C$4:$E$21,3,FALSE())","v":3},"3C","Competición",{"$f":"VLOOKUP(C1997,Referencias!$B$24:$C$40,2,FALSE())","v":"M"}]
["2813628","Rubio Tió, Teresa","Madrileña","D",{"$f":"VLOOKUP(G1998,Referencias!$C$4:$D$21,2,FALSE())","v":"Sin Categoría"},{"$f":"VLOOKUP(G1998,Referencias!$C$4:$E$21,3,FALSE())","v":4},"SC","Competición",{"$f":"VLOOKUP(C1998,Referencias!$B$24:$C$40,2,FALSE())","v":"M"}]
["2813629","González López, Rosario","Madrileña","D",{"$f":"VLOOKUP(G1999,Referencias!$C$4:$D$21,2,FALSE())","v":"Tercera Picas"},{"$f":"VLOOKUP(G1999,Referencias!$C$4:$E$21,3,FALSE())","v":3},"3P","Competición",{"$f":"VLOOKUP(C1999,Referencias!$B$24:$C$40,2,FALSE())","v":"M"}]
["2813636","Ciancas Prieto-Puga, Santiago","Madrileña","C",{"$f":"VLOOKUP(G2000,Referencias!$C$4:$D$21,2,FALSE())","v":"Sin Categoría"},{"$f":"VLOOKUP(G2000,Referencias!$C$4:$E$21,3,FALSE())","v":4},"SC","Competición",{"$f":"VLOOKUP(C2000,Referencias!$B$24:$C$40,2,FALSE())","v":"M"}]
["2813637","Montoto Simón, Paloma","Madrileña","D",{"$f":"VLOOKUP(G2001,Referencias!$C$4:$D$21,2,FALSE())","v":"Tercera Diamante"},{"$f":"VLOOKUP(G2001,Referencias!$C$4:$E$21,3,FALSE())","v":3},"3D","Competición",{"$f":"VLOOKUP(C2001,Referencias!$B$24:$C$40,2,FALSE())","v":"M"}]
["2813638","Calderón Arana, Gonzalo","Madrileña","C",{"$f":"VLOOKUP(G2002,Referencias!$C$4:$D$21,2,FALSE())","v":"Tercera Picas"},{"$f":"VLOOKUP(G2002,Referencias!$C$4:$E$21,3,FALSE())","v":3},"3P","Competición",{"$f":"VLOOKUP(C2002,Referencias!$B$24:$C$40,2,FALSE())","v":"M"}]
["2813640","Pezzi Goytre, María del Pilar","Madrileña","D",{"$f":"VLOOKUP(G2003,Referencias!$C$4:$D$21,2,FALSE())","v":"Tercera Diamante"},{"$f":"VLOOKUP(G2003,Referencias!$C$4:$E$21,3,FALSE())","v":3},"3D","Competición",{"$f":"VLOOKUP(C2003,Referencias!$B$24:$C$40,2,FALSE())","v":"M"}]
["2813642","Cunha Reis de Olazábal, Mariana","Madrileña","D",{"$f":"VLOOKUP(G2004,Referencias!$C$4:$D$21,2,FALSE())","v":"Segunda Diamante"},{"$f":"VLOOKUP(G2004,Referencias!$C$4:$E$21,3,FALSE())","v":2},"2D","Competición",{"$f":"VLOOKUP(C2004,Referencias!$B$24:$C$40,2,FALSE())","v":"M"}]
["2813643","Peréz-Seoane Escudero, Miriam","Madrileña","D",{"$f":"VLOOKUP(G2005,Referencias!$C$4:$D$21,2,FALSE())","v":"Tercera Diamante"},{"$f":"VLOOKUP(G2005,Referencias!$C$4:$E$21,3,FALSE())","v":3},"3D","Competición",{"$f":"VLOOKUP(C2005,Referencias!$B$24:$C$40,2,FALSE())","v":"M"}]
["2813644","del Riego Campos, Rafael","Madrileña","C",{"$f":"VLOOKUP(G2006,Referencias!$C$4:$D$21,2,FALSE())","v":"Sin Categoría"},{"$f":"VLOOKUP(G2006,Referencias!$C$4:$E$21,3,FALSE())","v":4},"SC","Competición",{"$f":"VLOOKUP(C2006,Referencias!$B$24:$C$40,2,FALSE())","v":"M"}]
["2813645","Rodríguez-Marina González, María Dolores","Madrileña","D",{"$f":"VLOOKUP(G2007,Referencias!$C$4:$D$21,2,FALSE())","v":"Sin Categoría"},{"$f":"VLOOKUP(G2007,Referencias!$C$4:$E$21,3,FALSE())","v":4},"SC","Competición",{"$f":"VLOOKUP(C2007,Referencias!$B$24:$C$40,2,FALSE())","v":"M"}]
["2813649","Doussinague García-Noblejas, María Josefa","Madrileña","D",{"$f":"VLOOKUP(G2008,Referencias!$C$4:$D$21,2,FALSE())","v":"Tercera Diamante"},{"$f":"VLOOKUP(G2008,Referencias!$C$4:$E$21,3,FALSE())","v":3},"3D","Competición",{"$f":"VLOOKUP(C2008,Referencias!$B$24:$C$40,2,FALSE())","v":"M"}]
["2813652","Orueta Gaytan, Teresa","Madrileña","D",{"$f":"VLOOKUP(G2009,Referencias!$C$4:$D$21,2,FALSE())","v":"Sin Categoría"},{"$f":"VLOOKUP(G2009,Referencias!$C$4:$E$21,3,FALSE())","v":4},"SC","Competición",{"$f":"VLOOKUP(C2009,Referencias!$B$24:$C$40,2,FALSE())","v":"M"}]
["2813653","Martínez Antonino, Pilar","Madrileña","D",{"$f":"VLOOKUP(G2010,Referencias!$C$4:$D$21,2,FALSE())","v":"Tercera Diamante"},{"$f":"VLOOKUP(G2010,Referencias!$C$4:$E$21,3,FALSE())","v":3},"3D","Competición",{"$f":"VLOOKUP(C2010,Referencias!$B$24:$C$40,2,FALSE())","v":"M"}]
["2813655","de Guevara, Marqués","Madrileña","C",{"$f":"VLOOKUP(G2011,Referencias!$C$4:$D$21,2,FALSE())","v":"Sin Categoría"},{"$f":"VLOOKUP(G2011,Referencias!$C$4:$E$21,3,FALSE())","v":4},"SC","Competición",{"$f":"VLOOKUP(C2011,Referencias!$B$24:$C$40,2,FALSE())","v":"M"}]
["2813656","Fernández Giménez, Beatriz","Madrileña","D",{"$f":"VLOOKUP(G2012,Referencias!$C$4:$D$21,2,FALSE())","v":"Tercera Picas"},{"$f":"VLOOKUP(G2012,Referencias!$C$4:$E$21,3,FALSE())","v":3},"3P","Competición",{"$f":"VLOOKUP(C2012,Referencias!$B$24:$C$40,2,FALSE())","v":"M"}]
["2813657","Calamita Pérez-Mangado, Anna","Madrileña","D",{"$f":"VLOOKUP(G2013,Referencias!$C$4:$D$21,2,FALSE())","v":"Sin Categoría"},{"$f":"VLOOKUP(G2013,Referencias!$C$4:$E$21,3,FALSE())","v":4},"SC","Competición",{"$f":"VLOOKUP(C2013,Referencias!$B$24:$C$40,2,FALSE())","v":"M"}]
["2813661","Pintó Poch, Juan","Madrileña","C",{"$f":"VLOOKUP(G2014,Referencias!$C$4:$D$21,2,FALSE())","v":"Sin Categoría"},{"$f":"VLOOKUP(G2014,Referencias!$C$4:$E$21,3,FALSE())","v":4},"SC","Competición",{"$f":"VLOOKUP(C2014,Referencias!$B$24:$C$40,2,FALSE())","v":"M"}]
["2813662","Warleta Carrillo, María Rosario","Madrileña","D",{"$f":"VLOOKUP(G2015,Referencias!$C$4:$D$21,2,FALSE())","v":"Primera Diamante"},{"$f":"VLOOKUP(G2015,Referencias!$C$4:$E$21,3,FALSE())","v":1},"1D","Competición",{"$f":"VLOOKUP(C2015,Referencias!$B$24:$C$40,2,FALSE())","v":"M"}]
["2813663","Moreno Torres, Ricardo","Madrileña","C",{"$f":"VLOOKUP(G2016,Referencias!$C$4:$D$21,2,FALSE())","v":"Primera Diamante"},{"$f":"VLOOKUP(G2016,Referencias!$C$4:$E$21,3,FALSE())","v":1},"1D","Competición",{"$f":"VLOOKUP(C2016,Referencias!$B$24:$C$40,2,FALSE())","v":"M"}]
["2813665","Cavestany Vargas-Zuñiga, Paloma","Madrileña","D",{"$f":"VLOOKUP(G2017,Referencias!$C$4:$D$21,2,FALSE())","v":"Tercera Diamante"},{"$f":"VLOOKUP(G2017,Referencias!$C$4:$E$21,3,FALSE())","v":3},"3D","Competición",{"$f":"VLOOKUP(C2017,Referencias!$B$24:$C$40,2,FALSE())","v":"M"}]
["2813666","Capilla Cantó, Antonio","Madrileña","C",{"$f":"VLOOKUP(G2018,Referencias!$C$4:$D$21,2,FALSE())","v":"Tercera Corazón"},{"$f":"VLOOKUP(G2018,Referencias!$C$4:$E$21,3,FALSE())","v":3},"3C","Competición",{"$f":"VLOOKUP(C2018,Referencias!$B$24:$C$40,2,FALSE())","v":"M"}]
["2813667","Matarredona Valor, Ana","Madrileña","D",{"$f":"VLOOKUP(G2019,Referencias!$C$4:$D$21,2,FALSE())","v":"Sin Categoría"},{"$f":"VLOOKUP(G2019,Referencias!$C$4:$E$21,3,FALSE())","v":4},"SC","Competición",{"$f":"VLOOKUP(C2019,Referencias!$B$24:$C$40,2,FALSE())","v":"M"}]
["2813674","Fernández Ponte, María Luisa","Madrileña","D",{"$f":"VLOOKUP(G2020,Referencias!$C$4:$D$21,2,FALSE())","v":"Sin Categoría"},{"$f":"VLOOKUP(G2020,Referencias!$C$4:$E$21,3,FALSE())","v":4},"SC","Honorífica",{"$f":"VLOOKUP(C2020,Referencias!$B$24:$C$40,2,FALSE())","v":"M"}]
["2813682","Prieto Cabello, Teresa","Madrileña","D",{"$f":"VLOOKUP(G2021,Referencias!$C$4:$D$21,2,FALSE())","v":"Sin Categoría"},{"$f":"VLOOKUP(G2021,Referencias!$C$4:$E$21,3,FALSE())","v":4},"SC","Competición",{"$f":"VLOOKUP(C2021,Referencias!$B$24:$C$40,2,FALSE())","v":"M"}]
["2813686","Hernández Omarrentería, María Jesús","Madrileña","D",{"$f":"VLOOKUP(G2022,Referencias!$C$4:$D$21,2,FALSE())","v":"Sin Categoría"},{"$f":"VLOOKUP(G2022,Referencias!$C$4:$E$21,3,FALSE())","v":4},"SC","Competición",{"$f":"VLOOKUP(C2022,Referencias!$B$24:$C$40,2,FALSE())","v":"M"}]
["2813688","Arrieta Reboiro, María","Madrileña","D",{"$f":"VLOOKUP(G2023,Referencias!$C$4:$D$21,2,FALSE())","v":"Sin Categoría"},{"$f":"VLOOKUP(G2023,Referencias!$C$4:$E$21,3,FALSE())","v":4},"SC","Competición",{"$f":"VLOOKUP(C2023,Referencias!$B$24:$C$40,2,FALSE())","v":"M"}]
["2813691","Le Loup Bonamy, Sabine","Madrileña","D",{"$f":"VLOOKUP(G2024,Referencias!$C$4:$D$21,2,FALSE())","v":"Sin Categoría"},{"$f":"VLOOKUP(G2024,Referencias!$C$4:$E$21,3,FALSE())","v":4},"SC","Competición",{"$f":"VLOOKUP(C2024,Referencias!$B$24:$C$40,2,FALSE())","v":"M"}]
["2813694","Sánchez Leoz, María Soledad","Madrileña","D",{"$f":"VLOOKUP(G2025,Referencias!$C$4:$D$21,2,FALSE())","v":"Sin Categoría"},{"$f":"VLOOKUP(G2025,Referencias!$C$4:$E$21,3,FALSE())","v":4},"SC","Competición",{"$f":"VLOOKUP(C2025,Referencias!$B$24:$C$40,2,FALSE())","v":"M"}]
["2813697","Eusebio López, María","Madrileña","D",{"$f":"VLOOKUP(G2026,Referencias!$C$4:$D$21,2,FALSE())","v":"Tercera Diamante"},{"$f":"VLOOKUP(G2026,Referencias!$C$4:$E$21,3,FALSE())","v":3},"3D","Competición",{"$f":"VLOOKUP(C2026,Referencias!$B$24:$C$40,2,FALSE())","v":"M"}]
["2813698","Arias González, Ana María","Madrileña","D",{"$f":"VLOOKUP(G2027,Referencias!$C$4:$D$21,2,FALSE())","v":"Tercera Diamante"},{"$f":"VLOOKUP(G2027,Referencias!$C$4:$E$21,3,FALSE())","v":3},"3D","Honorífica",{"$f":"VLOOKUP(C2027,Referencias!$B$24:$C$40,2,FALSE())","v":"M"}]
["2813701","Merino Retuerta, Rufino","Madrileña","C",{"$f":"VLOOKUP(G2028,Referencias!$C$4:$D$21,2,FALSE())","v":"Sin Categoría"},{"$f":"VLOOKUP(G2028,Referencias!$C$4:$E$21,3,FALSE())","v":4},"SC","Competición",{"$f":"VLOOKUP(C2028,Referencias!$B$24:$C$40,2,FALSE())","v":"M"}]
["2813703","Sebastián Bueno, Pilar","Madrileña","D",{"$f":"VLOOKUP(G2029,Referencias!$C$4:$D$21,2,FALSE())","v":"Segunda Diamante"},{"$f":"VLOOKUP(G2029,Referencias!$C$4:$E$21,3,FALSE())","v":2},"2D","Competición",{"$f":"VLOOKUP(C2029,Referencias!$B$24:$C$40,2,FALSE())","v":"M"}]
["2813704","García Castán, Leopoldo","Madrileña","C",{"$f":"VLOOKUP(G2030,Referencias!$C$4:$D$21,2,FALSE())","v":"Sin Categoría"},{"$f":"VLOOKUP(G2030,Referencias!$C$4:$E$21,3,FALSE())","v":4},"SC","Competición",{"$f":"VLOOKUP(C2030,Referencias!$B$24:$C$40,2,FALSE())","v":"M"}]
["2813706","Fernández de Alarcón Herrero, Javier","Madrileña","C",{"$f":"VLOOKUP(G2031,Referencias!$C$4:$D$21,2,FALSE())","v":"Sin Categoría"},{"$f":"VLOOKUP(G2031,Referencias!$C$4:$E$21,3,FALSE())","v":4},"SC","Competición",{"$f":"VLOOKUP(C2031,Referencias!$B$24:$C$40,2,FALSE())","v":"M"}]
["2813707","Medina Guerrero, Clara","Madrileña","D",{"$f":"VLOOKUP(G2032,Referencias!$C$4:$D$21,2,FALSE())","v":"Sin Categoría"},{"$f":"VLOOKUP(G2032,Referencias!$C$4:$E$21,3,FALSE())","v":4},"SC","Competición",{"$f":"VLOOKUP(C2032,Referencias!$B$24:$C$40,2,FALSE())","v":"M"}]
["2813708","Rafecas Lamana, José Manuel","Madrileña","C",{"$f":"VLOOKUP(G2033,Referencias!$C$4:$D$21,2,FALSE())","v":"Sin Categoría"},{"$f":"VLOOKUP(G2033,Referencias!$C$4:$E$21,3,FALSE())","v":4},"SC","Competición",{"$f":"VLOOKUP(C2033,Referencias!$B$24:$C$40,2,FALSE())","v":"M"}]
["2813709","Tornos Martín-Fernández, Marta","Madrileña","D",{"$f":"VLOOKUP(G2034,Referencias!$C$4:$D$21,2,FALSE())","v":"Tercera Diamante"},{"$f":"VLOOKUP(G2034,Referencias!$C$4:$E$21,3,FALSE())","v":3},"3D","Competición",{"$f":"VLOOKUP(C2034,Referencias!$B$24:$C$40,2,FALSE())","v":"M"}]
["2813710","Morate León, María Fernanda","Madrileña","D",{"$f":"VLOOKUP(G2035,Referencias!$C$4:$D$21,2,FALSE())","v":"Tercera Corazón"},{"$f":"VLOOKUP(G2035,Referencias!$C$4:$E$21,3,FALSE())","v":3},"3C","Competición",{"$f":"VLOOKUP(C2035,Referencias!$B$24:$C$40,2,FALSE())","v":"M"}]
["2813712","de la Peña Juanes, Cristina","Madrileña","D",{"$f":"VLOOKUP(G2036,Referencias!$C$4:$D$21,2,FALSE())","v":"Sin Categoría"},{"$f":"VLOOKUP(G2036,Referencias!$C$4:$E$21,3,FALSE())","v":4},"SC","Competición",{"$f":"VLOOKUP(C2036,Referencias!$B$24:$C$40,2,FALSE())","v":"M"}]
["2813713","Fullana Vicens, Pilar","Madrileña","D",{"$f":"VLOOKUP(G2037,Referencias!$C$4:$D$21,2,FALSE())","v":"Tercera Picas"},{"$f":"VLOOKUP(G2037,Referencias!$C$4:$E$21,3,FALSE())","v":3},"3P","Competición",{"$f":"VLOOKUP(C2037,Referencias!$B$24:$C$40,2,FALSE())","v":"M"}]
["2813714","Meliá Goicoechea, Francisco","Madrileña","C",{"$f":"VLOOKUP(G2038,Referencias!$C$4:$D$21,2,FALSE())","v":"Tercera Diamante"},{"$f":"VLOOKUP(G2038,Referencias!$C$4:$E$21,3,FALSE())","v":3},"3D","Competición",{"$f":"VLOOKUP(C2038,Referencias!$B$24:$C$40,2,FALSE())","v":"M"}]
["2813715","de la Peña González-Camino, Carmen","Madrileña","D",{"$f":"VLOOKUP(G2039,Referencias!$C$4:$D$21,2,FALSE())","v":"Sin Categoría"},{"$f":"VLOOKUP(G2039,Referencias!$C$4:$E$21,3,FALSE())","v":4},"SC","Honorífica",{"$f":"VLOOKUP(C2039,Referencias!$B$24:$C$40,2,FALSE())","v":"M"}]
["2813718","del Portillo Rubí, Merle","Madrileña","D",{"$f":"VLOOKUP(G2040,Referencias!$C$4:$D$21,2,FALSE())","v":"Segunda Diamante"},{"$f":"VLOOKUP(G2040,Referencias!$C$4:$E$21,3,FALSE())","v":2},"2D","Competición",{"$f":"VLOOKUP(C2040,Referencias!$B$24:$C$40,2,FALSE())","v":"M"}]
["2813719","Tomás Crovetto, Ángel","Madrileña","C",{"$f":"VLOOKUP(G2041,Referencias!$C$4:$D$21,2,FALSE())","v":"Segunda Diamante"},{"$f":"VLOOKUP(G2041,Referencias!$C$4:$E$21,3,FALSE())","v":2},"2D","Competición",{"$f":"VLOOKUP(C2041,Referencias!$B$24:$C$40,2,FALSE())","v":"M"}]
["2813721","Martínez García-Azcutia, María Teresa","Madrileña","D",{"$f":"VLOOKUP(G2042,Referencias!$C$4:$D$21,2,FALSE())","v":"Tercera Corazón"},{"$f":"VLOOKUP(G2042,Referencias!$C$4:$E$21,3,FALSE())","v":3},"3C","Competición",{"$f":"VLOOKUP(C2042,Referencias!$B$24:$C$40,2,FALSE())","v":"M"}]
["2813724","Cerdá Sáinz, Concepción","Madrileña","D",{"$f":"VLOOKUP(G2043,Referencias!$C$4:$D$21,2,FALSE())","v":"Sin Categoría"},{"$f":"VLOOKUP(G2043,Referencias!$C$4:$E$21,3,FALSE())","v":4},"SC","Competición",{"$f":"VLOOKUP(C2043,Referencias!$B$24:$C$40,2,FALSE())","v":"M"}]
["2813725","Azcona Gómez, Montserrat","Madrileña","D",{"$f":"VLOOKUP(G2044,Referencias!$C$4:$D$21,2,FALSE())","v":"Tercera Diamante"},{"$f":"VLOOKUP(G2044,Referencias!$C$4:$E$21,3,FALSE())","v":3},"3D","Competición",{"$f":"VLOOKUP(C2044,Referencias!$B$24:$C$40,2,FALSE())","v":"M"}]
["2813734","Schorr Schorr, Rosa-Lina","Madrileña","D",{"$f":"VLOOKUP(G2045,Referencias!$C$4:$D$21,2,FALSE())","v":"Tercera Diamante"},{"$f":"VLOOKUP(G2045,Referencias!$C$4:$E$21,3,FALSE())","v":3},"3D","Competición",{"$f":"VLOOKUP(C2045,Referencias!$B$24:$C$40,2,FALSE())","v":"M"}]
["2813740","Leal Zabala, Natalia","Madrileña","D",{"$f":"VLOOKUP(G2046,Referencias!$C$4:$D$21,2,FALSE())","v":"Tercera Picas"},{"$f":"VLOOKUP(G2046,Referencias!$C$4:$E$21,3,FALSE())","v":3},"3P","Competición",{"$f":"VLOOKUP(C2046,Referencias!$B$24:$C$40,2,FALSE())","v":"M"}]
["2813741","Lefort Sánchez de la Mata, Ignacio","Madrileña","C",{"$f":"VLOOKUP(G2047,Referencias!$C$4:$D$21,2,FALSE())","v":"Sin Categoría"},{"$f":"VLOOKUP(G2047,Referencias!$C$4:$E$21,3,FALSE())","v":4},"SC","Competición",{"$f":"VLOOKUP(C2047,Referencias!$B$24:$C$40,2,FALSE())","v":"M"}]
["2813742","Pérez-Villar Aparicio, Rosa","Madrileña","D",{"$f":"VLOOKUP(G2048,Referencias!$C$4:$D$21,2,FALSE())","v":"Sin Categoría"},{"$f":"VLOOKUP(G2048,Referencias!$C$4:$E$21,3,FALSE())","v":4},"SC","Competición",{"$f":"VLOOKUP(C2048,Referencias!$B$24:$C$40,2,FALSE())","v":"M"}]
["2813743","Carrión Ansorena, María del Prado","Madrileña","D",{"$f":"VLOOKUP(G2049,Referencias!$C$4:$D$21,2,FALSE())","v":"Sin Categoría"},{"$f":"VLOOKUP(G2049,Referencias!$C$4:$E$21,3,FALSE())","v":4},"SC","Competición",{"$f":"VLOOKUP(C2049,Referencias!$B$24:$C$40,2,FALSE())","v":"M"}]
["2813747","García Muñoz, Felisa","Madrileña","D",{"$f":"VLOOKUP(G2050,Referencias!$C$4:$D$21,2,FALSE())","v":"Primera Diamante"},{"$f":"VLOOKUP(G2050,Referencias!$C$4:$E$21,3,FALSE())","v":1},"1D","Competición",{"$f":"VLOOKUP(C2050,Referencias!$B$24:$C$40,2,FALSE())","v":"M"}]
["2813748","Manaute Raposo, Nieves","Madrileña","D",{"$f":"VLOOKUP(G2051,Referencias!$C$4:$D$21,2,FALSE())","v":"Tercera Diamante"},{"$f":"VLOOKUP(G2051,Referencias!$C$4:$E$21,3,FALSE())","v":3},"3D","Competición",{"$f":"VLOOKUP(C2051,Referencias!$B$24:$C$40,2,FALSE())","v":"M"}]
["2813749","Vasallo Tomé, Jesús","Madrileña","C",{"$f":"VLOOKUP(G2052,Referencias!$C$4:$D$21,2,FALSE())","v":"Tercera Corazón"},{"$f":"VLOOKUP(G2052,Referencias!$C$4:$E$21,3,FALSE())","v":3},"3C","Competición",{"$f":"VLOOKUP(C2052,Referencias!$B$24:$C$40,2,FALSE())","v":"M"}]
["2813754","García del Nero, Yolanda","Madrileña","D",{"$f":"VLOOKUP(G2053,Referencias!$C$4:$D$21,2,FALSE())","v":"Tercera Diamante"},{"$f":"VLOOKUP(G2053,Referencias!$C$4:$E$21,3,FALSE())","v":3},"3D","Competición",{"$f":"VLOOKUP(C2053,Referencias!$B$24:$C$40,2,FALSE())","v":"M"}]
["2813757","Malavé Verdejo, María Victoria","Madrileña","D",{"$f":"VLOOKUP(G2054,Referencias!$C$4:$D$21,2,FALSE())","v":"Tercera Diamante"},{"$f":"VLOOKUP(G2054,Referencias!$C$4:$E$21,3,FALSE())","v":3},"3D","Competición",{"$f":"VLOOKUP(C2054,Referencias!$B$24:$C$40,2,FALSE())","v":"M"}]
["2813761","Leal Zabala, Sonsoles","Madrileña","D",{"$f":"VLOOKUP(G2055,Referencias!$C$4:$D$21,2,FALSE())","v":"Sin Categoría"},{"$f":"VLOOKUP(G2055,Referencias!$C$4:$E$21,3,FALSE())","v":4},"SC","Competición",{"$f":"VLOOKUP(C2055,Referencias!$B$24:$C$40,2,FALSE())","v":"M"}]
["2813763","Rubio Suárez-Pazos, Margarita","Madrileña","D",{"$f":"VLOOKUP(G2056,Referencias!$C$4:$D$21,2,FALSE())","v":"Sin Categoría"},{"$f":"VLOOKUP(G2056,Referencias!$C$4:$E$21,3,FALSE())","v":4},"SC","Competición",{"$f":"VLOOKUP(C2056,Referencias!$B$24:$C$40,2,FALSE())","v":"M"}]
["2813767","González de la Rocha, Pilar","Madrileña","D",{"$f":"VLOOKUP(G2057,Referencias!$C$4:$D$21,2,FALSE())","v":"Sin Categoría"},{"$f":"VLOOKUP(G2057,Referencias!$C$4:$E$21,3,FALSE())","v":4},"SC","Competición",{"$f":"VLOOKUP(C2057,Referencias!$B$24:$C$40,2,FALSE())","v":"M"}]
["2813768","Oliva Utrera, Mercedes","Madrileña","D",{"$f":"VLOOKUP(G2058,Referencias!$C$4:$D$21,2,FALSE())","v":"Tercera Diamante"},{"$f":"VLOOKUP(G2058,Referencias!$C$4:$E$21,3,FALSE())","v":3},"3D","Competición",{"$f":"VLOOKUP(C2058,Referencias!$B$24:$C$40,2,FALSE())","v":"M"}]
["2813769","Ibañez Larrauri, Francisco J","Madrileña","C",{"$f":"VLOOKUP(G2059,Referencias!$C$4:$D$21,2,FALSE())","v":"Tercera Corazón"},{"$f":"VLOOKUP(G2059,Referencias!$C$4:$E$21,3,FALSE())","v":3},"3C","Competición",{"$f":"VLOOKUP(C2059,Referencias!$B$24:$C$40,2,FALSE())","v":"M"}]
["2813771","de la Fuente de la Revilla, Cristina","Madrileña","D",{"$f":"VLOOKUP(G2060,Referencias!$C$4:$D$21,2,FALSE())","v":"Tercera Diamante"},{"$f":"VLOOKUP(G2060,Referencias!$C$4:$E$21,3,FALSE())","v":3},"3D","Competición",{"$f":"VLOOKUP(C2060,Referencias!$B$24:$C$40,2,FALSE())","v":"M"}]
["2813774","Cuenca Cot, Olga","Madrileña","D",{"$f":"VLOOKUP(G2061,Referencias!$C$4:$D$21,2,FALSE())","v":"Primera Corazón"},{"$f":"VLOOKUP(G2061,Referencias!$C$4:$E$21,3,FALSE())","v":1},"1C","Competición",{"$f":"VLOOKUP(C2061,Referencias!$B$24:$C$40,2,FALSE())","v":"M"}]
["2813777","Colomo de Larrucea y Bravo, Moisés","Madrileña","C",{"$f":"VLOOKUP(G2062,Referencias!$C$4:$D$21,2,FALSE())","v":"Tercera Diamante"},{"$f":"VLOOKUP(G2062,Referencias!$C$4:$E$21,3,FALSE())","v":3},"3D","Honorífica",{"$f":"VLOOKUP(C2062,Referencias!$B$24:$C$40,2,FALSE())","v":"M"}]
["2813778","López de Toledo Ortíz, Carlos","Madrileña","C",{"$f":"VLOOKUP(G2063,Referencias!$C$4:$D$21,2,FALSE())","v":"Tercera Picas"},{"$f":"VLOOKUP(G2063,Referencias!$C$4:$E$21,3,FALSE())","v":3},"3P","Competición",{"$f":"VLOOKUP(C2063,Referencias!$B$24:$C$40,2,FALSE())","v":"M"}]
["2813779","de la Maza Fernández, Ana María","Madrileña","D",{"$f":"VLOOKUP(G2064,Referencias!$C$4:$D$21,2,FALSE())","v":"Tercera Corazón"},{"$f":"VLOOKUP(G2064,Referencias!$C$4:$E$21,3,FALSE())","v":3},"3C","Competición",{"$f":"VLOOKUP(C2064,Referencias!$B$24:$C$40,2,FALSE())","v":"M"}]
["2813783","López Pérez, Baldomero","Madrileña","C",{"$f":"VLOOKUP(G2065,Referencias!$C$4:$D$21,2,FALSE())","v":"Tercera Diamante"},{"$f":"VLOOKUP(G2065,Referencias!$C$4:$E$21,3,FALSE())","v":3},"3D","Honorífica",{"$f":"VLOOKUP(C2065,Referencias!$B$24:$C$40,2,FALSE())","v":"M"}]
["2813784","Villagrá Blanco, María Jesús","Madrileña","C",{"$f":"VLOOKUP(G2066,Referencias!$C$4:$D$21,2,FALSE())","v":"Sin Categoría"},{"$f":"VLOOKUP(G2066,Referencias!$C$4:$E$21,3,FALSE())","v":4},"SC","Competición",{"$f":"VLOOKUP(C2066,Referencias!$B$24:$C$40,2,FALSE())","v":"M"}]
["2813785","González Dorrego, Consuelo","Madrileña","D",{"$f":"VLOOKUP(G2067,Referencias!$C$4:$D$21,2,FALSE())","v":"Tercera Diamante"},{"$f":"VLOOKUP(G2067,Referencias!$C$4:$E$21,3,FALSE())","v":3},"3D","Competición",{"$f":"VLOOKUP(C2067,Referencias!$B$24:$C$40,2,FALSE())","v":"M"}]
["2813787","Adatto de Botton, Eveline","Madrileña","D",{"$f":"VLOOKUP(G2068,Referencias!$C$4:$D$21,2,FALSE())","v":"Sin Categoría"},{"$f":"VLOOKUP(G2068,Referencias!$C$4:$E$21,3,FALSE())","v":4},"SC","Honorífica",{"$f":"VLOOKUP(C2068,Referencias!$B$24:$C$40,2,FALSE())","v":"M"}]
["2813788","Mayoral Matesanz, María José","Madrileña","D",{"$f":"VLOOKUP(G2069,Referencias!$C$4:$D$21,2,FALSE())","v":"Tercera Diamante"},{"$f":"VLOOKUP(G2069,Referencias!$C$4:$E$21,3,FALSE())","v":3},"3D","Competición",{"$f":"VLOOKUP(C2069,Referencias!$B$24:$C$40,2,FALSE())","v":"M"}]
["2813790","de Alzaga Marín, Blanca","Madrileña","D",{"$f":"VLOOKUP(G2070,Referencias!$C$4:$D$21,2,FALSE())","v":"Tercera Picas"},{"$f":"VLOOKUP(G2070,Referencias!$C$4:$E$21,3,FALSE())","v":3},"3P","Competición",{"$f":"VLOOKUP(C2070,Referencias!$B$24:$C$40,2,FALSE())","v":"M"}]
["2813793","Fuster González de la Riva, Alicia","Madrileña","D",{"$f":"VLOOKUP(G2071,Referencias!$C$4:$D$21,2,FALSE())","v":"Sin Categoría"},{"$f":"VLOOKUP(G2071,Referencias!$C$4:$E$21,3,FALSE())","v":4},"SC","Competición",{"$f":"VLOOKUP(C2071,Referencias!$B$24:$C$40,2,FALSE())","v":"M"}]
["2813795","Baselga García-Escudero, Pilar","Madrileña","D",{"$f":"VLOOKUP(G2072,Referencias!$C$4:$D$21,2,FALSE())","v":"Tercera Diamante"},{"$f":"VLOOKUP(G2072,Referencias!$C$4:$E$21,3,FALSE())","v":3},"3D","Competición",{"$f":"VLOOKUP(C2072,Referencias!$B$24:$C$40,2,FALSE())","v":"M"}]
["2813798","de Idarreta Gabilondo, Juan María","Madrileña","C",{"$f":"VLOOKUP(G2073,Referencias!$C$4:$D$21,2,FALSE())","v":"Sin Categoría"},{"$f":"VLOOKUP(G2073,Referencias!$C$4:$E$21,3,FALSE())","v":4},"SC","Competición",{"$f":"VLOOKUP(C2073,Referencias!$B$24:$C$40,2,FALSE())","v":"M"}]
["2813805","Huigens, Claire","Madrileña","D",{"$f":"VLOOKUP(G2074,Referencias!$C$4:$D$21,2,FALSE())","v":"Sin Categoría"},{"$f":"VLOOKUP(G2074,Referencias!$C$4:$E$21,3,FALSE())","v":4},"SC","Competición",{"$f":"VLOOKUP(C2074,Referencias!$B$24:$C$40,2,FALSE())","v":"M"}]
["2813811","Gispert Nolla, Isabel","Madrileña","D",{"$f":"VLOOKUP(G2075,Referencias!$C$4:$D$21,2,FALSE())","v":"Tercera Diamante"},{"$f":"VLOOKUP(G2075,Referencias!$C$4:$E$21,3,FALSE())","v":3},"3D","Competición",{"$f":"VLOOKUP(C2075,Referencias!$B$24:$C$40,2,FALSE())","v":"M"}]
["2813812","Oliver Sala, Ana","Madrileña","D",{"$f":"VLOOKUP(G2076,Referencias!$C$4:$D$21,2,FALSE())","v":"Tercera Picas"},{"$f":"VLOOKUP(G2076,Referencias!$C$4:$E$21,3,FALSE())","v":3},"3P","Competición",{"$f":"VLOOKUP(C2076,Referencias!$B$24:$C$40,2,FALSE())","v":"M"}]
["2813816","García de la Rasilla Pineda, Piedad","Madrileña","D",{"$f":"VLOOKUP(G2077,Referencias!$C$4:$D$21,2,FALSE())","v":"Tercera Diamante"},{"$f":"VLOOKUP(G2077,Referencias!$C$4:$E$21,3,FALSE())","v":3},"3D","Competición",{"$f":"VLOOKUP(C2077,Referencias!$B$24:$C$40,2,FALSE())","v":"M"}]
["2813818","Gallego Herreros, Piedad","Madrileña","D",{"$f":"VLOOKUP(G2078,Referencias!$C$4:$D$21,2,FALSE())","v":"Sin Categoría"},{"$f":"VLOOKUP(G2078,Referencias!$C$4:$E$21,3,FALSE())","v":4},"SC","Competición",{"$f":"VLOOKUP(C2078,Referencias!$B$24:$C$40,2,FALSE())","v":"M"}]
["2813820","Forero Calderón, Carolina","Madrileña","D",{"$f":"VLOOKUP(G2079,Referencias!$C$4:$D$21,2,FALSE())","v":"Sin Categoría"},{"$f":"VLOOKUP(G2079,Referencias!$C$4:$E$21,3,FALSE())","v":4},"SC","Competición",{"$f":"VLOOKUP(C2079,Referencias!$B$24:$C$40,2,FALSE())","v":"M"}]
["2813822","Schutt Elser, Ursula","Madrileña","D",{"$f":"VLOOKUP(G2080,Referencias!$C$4:$D$21,2,FALSE())","v":"Sin Categoría"},{"$f":"VLOOKUP(G2080,Referencias!$C$4:$E$21,3,FALSE())","v":4},"SC","Competición",{"$f":"VLOOKUP(C2080,Referencias!$B$24:$C$40,2,FALSE())","v":"M"}]
["2813827","de los Santos Gómez-Acebo, María Victoria","Madrileña","D",{"$f":"VLOOKUP(G2081,Referencias!$C$4:$D$21,2,FALSE())","v":"Tercera Corazón"},{"$f":"VLOOKUP(G2081,Referencias!$C$4:$E$21,3,FALSE())","v":3},"3C","Competición",{"$f":"VLOOKUP(C2081,Referencias!$B$24:$C$40,2,FALSE())","v":"M"}]
["2813829","Cano Montes, María Gracia","Madrileña","D",{"$f":"VLOOKUP(G2082,Referencias!$C$4:$D$21,2,FALSE())","v":"Sin Categoría"},{"$f":"VLOOKUP(G2082,Referencias!$C$4:$E$21,3,FALSE())","v":4},"SC","Competición",{"$f":"VLOOKUP(C2082,Referencias!$B$24:$C$40,2,FALSE())","v":"M"}]
["2813830","Tejero Montes, María Eugenia","Madrileña","D",{"$f":"VLOOKUP(G2083,Referencias!$C$4:$D$21,2,FALSE())","v":"Tercera Diamante"},{"$f":"VLOOKUP(G2083,Referencias!$C$4:$E$21,3,FALSE())","v":3},"3D","Competición",{"$f":"VLOOKUP(C2083,Referencias!$B$24:$C$40,2,FALSE())","v":"M"}]
["2813831","Martínez-Fresneda González-Anleo, Concha","Madrileña","D",{"$f":"VLOOKUP(G2084,Referencias!$C$4:$D$21,2,FALSE())","v":"Tercera Picas"},{"$f":"VLOOKUP(G2084,Referencias!$C$4:$E$21,3,FALSE())","v":3},"3P","Competición",{"$f":"VLOOKUP(C2084,Referencias!$B$24:$C$40,2,FALSE())","v":"M"}]
["2813834","Prados García, Ana María","Madrileña","D",{"$f":"VLOOKUP(G2085,Referencias!$C$4:$D$21,2,FALSE())","v":"Sin Categoría"},{"$f":"VLOOKUP(G2085,Referencias!$C$4:$E$21,3,FALSE())","v":4},"SC","Competición",{"$f":"VLOOKUP(C2085,Referencias!$B$24:$C$40,2,FALSE())","v":"M"}]
["2813840","García-Badell Muñoz, Teresa","Madrileña","D",{"$f":"VLOOKUP(G2086,Referencias!$C$4:$D$21,2,FALSE())","v":"Tercera Diamante"},{"$f":"VLOOKUP(G2086,Referencias!$C$4:$E$21,3,FALSE())","v":3},"3D","Competición",{"$f":"VLOOKUP(C2086,Referencias!$B$24:$C$40,2,FALSE())","v":"M"}]
["2813841","Menéndez Díaz, Hortensia","Madrileña","D",{"$f":"VLOOKUP(G2087,Referencias!$C$4:$D$21,2,FALSE())","v":"Sin Categoría"},{"$f":"VLOOKUP(G2087,Referencias!$C$4:$E$21,3,FALSE())","v":4},"SC","Competición",{"$f":"VLOOKUP(C2087,Referencias!$B$24:$C$40,2,FALSE())","v":"M"}]
["2813842","Spinola Venero, María ","Madrileña","D",{"$f":"VLOOKUP(G2088,Referencias!$C$4:$D$21,2,FALSE())","v":"Tercera Diamante"},{"$f":"VLOOKUP(G2088,Referencias!$C$4:$E$21,3,FALSE())","v":3},"3D","Competición",{"$f":"VLOOKUP(C2088,Referencias!$B$24:$C$40,2,FALSE())","v":"M"}]
["2813843","Fernández Caicoya, Carmen","Madrileña","D",{"$f":"VLOOKUP(G2089,Referencias!$C$4:$D$21,2,FALSE())","v":"Tercera Corazón"},{"$f":"VLOOKUP(G2089,Referencias!$C$4:$E$21,3,FALSE())","v":3},"3C","Competición",{"$f":"VLOOKUP(C2089,Referencias!$B$24:$C$40,2,FALSE())","v":"M"}]
["2813845","Rodríguez López, Carmen","Madrileña","D",{"$f":"VLOOKUP(G2090,Referencias!$C$4:$D$21,2,FALSE())","v":"Tercera Diamante"},{"$f":"VLOOKUP(G2090,Referencias!$C$4:$E$21,3,FALSE())","v":3},"3D","Competición",{"$f":"VLOOKUP(C2090,Referencias!$B$24:$C$40,2,FALSE())","v":"M"}]
["2813849","García-Badell Muñoz, Mercedes","Madrileña","D",{"$f":"VLOOKUP(G2091,Referencias!$C$4:$D$21,2,FALSE())","v":"Segunda Diamante"},{"$f":"VLOOKUP(G2091,Referencias!$C$4:$E$21,3,FALSE())","v":2},"2D","Competición",{"$f":"VLOOKUP(C2091,Referencias!$B$24:$C$40,2,FALSE())","v":"M"}]
["2813855","Pérez García, María Teresa","Madrileña","D",{"$f":"VLOOKUP(G2092,Referencias!$C$4:$D$21,2,FALSE())","v":"Tercera Diamante"},{"$f":"VLOOKUP(G2092,Referencias!$C$4:$E$21,3,FALSE())","v":3},"3D","Competición",{"$f":"VLOOKUP(C2092,Referencias!$B$24:$C$40,2,FALSE())","v":"M"}]
["2813866","Ríos Carcamo, María del Carmen","Madrileña","D",{"$f":"VLOOKUP(G2093,Referencias!$C$4:$D$21,2,FALSE())","v":"Sin Categoría"},{"$f":"VLOOKUP(G2093,Referencias!$C$4:$E$21,3,FALSE())","v":4},"SC","Competición",{"$f":"VLOOKUP(C2093,Referencias!$B$24:$C$40,2,FALSE())","v":"M"}]
["2813867","Cabo Olmos, José Manuel","Madrileña","C",{"$f":"VLOOKUP(G2094,Referencias!$C$4:$D$21,2,FALSE())","v":"Sin Categoría"},{"$f":"VLOOKUP(G2094,Referencias!$C$4:$E$21,3,FALSE())","v":4},"SC","Competición",{"$f":"VLOOKUP(C2094,Referencias!$B$24:$C$40,2,FALSE())","v":"M"}]
["2813868","Marias Cid, Paloma","Madrileña","D",{"$f":"VLOOKUP(G2095,Referencias!$C$4:$D$21,2,FALSE())","v":"Sin Categoría"},{"$f":"VLOOKUP(G2095,Referencias!$C$4:$E$21,3,FALSE())","v":4},"SC","Competición",{"$f":"VLOOKUP(C2095,Referencias!$B$24:$C$40,2,FALSE())","v":"M"}]
["2813871","Jordán de la Cruz, Eloisa","Madrileña","D",{"$f":"VLOOKUP(G2096,Referencias!$C$4:$D$21,2,FALSE())","v":"Segunda Diamante"},{"$f":"VLOOKUP(G2096,Referencias!$C$4:$E$21,3,FALSE())","v":2},"2D","Competición",{"$f":"VLOOKUP(C2096,Referencias!$B$24:$C$40,2,FALSE())","v":"M"}]
["2813873","Sánchez-Guerra Roig, María Luisa","Madrileña","D",{"$f":"VLOOKUP(G2097,Referencias!$C$4:$D$21,2,FALSE())","v":"Sin Categoría"},{"$f":"VLOOKUP(G2097,Referencias!$C$4:$E$21,3,FALSE())","v":4},"SC","Competición",{"$f":"VLOOKUP(C2097,Referencias!$B$24:$C$40,2,FALSE())","v":"M"}]
["2813877","Arroyo Cruz, Jerónimo","Madrileña","C",{"$f":"VLOOKUP(G2098,Referencias!$C$4:$D$21,2,FALSE())","v":"Sin Categoría"},{"$f":"VLOOKUP(G2098,Referencias!$C$4:$E$21,3,FALSE())","v":4},"SC","Competición",{"$f":"VLOOKUP(C2098,Referencias!$B$24:$C$40,2,FALSE())","v":"M"}]
["2813880","Márquez de la Plata García-Diego, Tomás Borja","Madrileña","C",{"$f":"VLOOKUP(G2099,Referencias!$C$4:$D$21,2,FALSE())","v":"Sin Categoría"},{"$f":"VLOOKUP(G2099,Referencias!$C$4:$E$21,3,FALSE())","v":4},"SC","Competición",{"$f":"VLOOKUP(C2099,Referencias!$B$24:$C$40,2,FALSE())","v":"M"}]
["2813882","Lucini Bayod, Mercedes","Madrileña","D",{"$f":"VLOOKUP(G2100,Referencias!$C$4:$D$21,2,FALSE())","v":"Tercera Diamante"},{"$f":"VLOOKUP(G2100,Referencias!$C$4:$E$21,3,FALSE())","v":3},"3D","Competición",{"$f":"VLOOKUP(C2100,Referencias!$B$24:$C$40,2,FALSE())","v":"M"}]
["2813888","Calvo Arguelles, Pilar","Madrileña","D",{"$f":"VLOOKUP(G2101,Referencias!$C$4:$D$21,2,FALSE())","v":"Tercera Corazón"},{"$f":"VLOOKUP(G2101,Referencias!$C$4:$E$21,3,FALSE())","v":3},"3C","Competición",{"$f":"VLOOKUP(C2101,Referencias!$B$24:$C$40,2,FALSE())","v":"M"}]
["2813889","Poyán Rodera, Milagros","Madrileña","D",{"$f":"VLOOKUP(G2102,Referencias!$C$4:$D$21,2,FALSE())","v":"Tercera Diamante"},{"$f":"VLOOKUP(G2102,Referencias!$C$4:$E$21,3,FALSE())","v":3},"3D","Competición",{"$f":"VLOOKUP(C2102,Referencias!$B$24:$C$40,2,FALSE())","v":"M"}]
["2813892","Vegas Sansalvador, Mercedes","Madrileña","D",{"$f":"VLOOKUP(G2103,Referencias!$C$4:$D$21,2,FALSE())","v":"Tercera Picas"},{"$f":"VLOOKUP(G2103,Referencias!$C$4:$E$21,3,FALSE())","v":3},"3P","Competición",{"$f":"VLOOKUP(C2103,Referencias!$B$24:$C$40,2,FALSE())","v":"M"}]
["2813893","Senac Sánchez-Anaut, Pilar","Madrileña","D",{"$f":"VLOOKUP(G2104,Referencias!$C$4:$D$21,2,FALSE())","v":"Sin Categoría"},{"$f":"VLOOKUP(G2104,Referencias!$C$4:$E$21,3,FALSE())","v":4},"SC","Competición",{"$f":"VLOOKUP(C2104,Referencias!$B$24:$C$40,2,FALSE())","v":"M"}]
["2813894","Estades Seco, Matilde","Madrileña","D",{"$f":"VLOOKUP(G2105,Referencias!$C$4:$D$21,2,FALSE())","v":"Sin Categoría"},{"$f":"VLOOKUP(G2105,Referencias!$C$4:$E$21,3,FALSE())","v":4},"SC","Competición",{"$f":"VLOOKUP(C2105,Referencias!$B$24:$C$40,2,FALSE())","v":"M"}]
["2813899","Álvarez de Toledo Bandeira, Lourdes","Madrileña","D",{"$f":"VLOOKUP(G2106,Referencias!$C$4:$D$21,2,FALSE())","v":"Sin Categoría"},{"$f":"VLOOKUP(G2106,Referencias!$C$4:$E$21,3,FALSE())","v":4},"SC","Competición",{"$f":"VLOOKUP(C2106,Referencias!$B$24:$C$40,2,FALSE())","v":"M"}]
["2813900","Matoses Catania, Araceli","Madrileña","D",{"$f":"VLOOKUP(G2107,Referencias!$C$4:$D$21,2,FALSE())","v":"Tercera Picas"},{"$f":"VLOOKUP(G2107,Referencias!$C$4:$E$21,3,FALSE())","v":3},"3P","Competición",{"$f":"VLOOKUP(C2107,Referencias!$B$24:$C$40,2,FALSE())","v":"M"}]
["2813904","Carrasco , Jean Denis","Extremeña","C",{"$f":"VLOOKUP(G2108,Referencias!$C$4:$D$21,2,FALSE())","v":"Segunda Corazón"},{"$f":"VLOOKUP(G2108,Referencias!$C$4:$E$21,3,FALSE())","v":2},"2C","Competición",{"$f":"VLOOKUP(C2108,Referencias!$B$24:$C$40,2,FALSE())","v":"E"}]
["2813905","Martorell Cafranga, Almudena","Madrileña","D",{"$f":"VLOOKUP(G2109,Referencias!$C$4:$D$21,2,FALSE())","v":"Primera Picas"},{"$f":"VLOOKUP(G2109,Referencias!$C$4:$E$21,3,FALSE())","v":1},"1P","Competición",{"$f":"VLOOKUP(C2109,Referencias!$B$24:$C$40,2,FALSE())","v":"M"}]
["2813907","Merino Merino, Javier","Madrileña","C",{"$f":"VLOOKUP(G2110,Referencias!$C$4:$D$21,2,FALSE())","v":"Tercera Corazón"},{"$f":"VLOOKUP(G2110,Referencias!$C$4:$E$21,3,FALSE())","v":3},"3C","Competición",{"$f":"VLOOKUP(C2110,Referencias!$B$24:$C$40,2,FALSE())","v":"M"}]
["2813909","Nocella , Pier Luigi","Madrileña","C",{"$f":"VLOOKUP(G2111,Referencias!$C$4:$D$21,2,FALSE())","v":"Primera Diamante"},{"$f":"VLOOKUP(G2111,Referencias!$C$4:$E$21,3,FALSE())","v":1},"1D","Competición",{"$f":"VLOOKUP(C2111,Referencias!$B$24:$C$40,2,FALSE())","v":"M"}]
["2813910","Díaz Troitiño, María Luisa","Madrileña","D",{"$f":"VLOOKUP(G2112,Referencias!$C$4:$D$21,2,FALSE())","v":"Tercera Picas"},{"$f":"VLOOKUP(G2112,Referencias!$C$4:$E$21,3,FALSE())","v":3},"3P","Competición",{"$f":"VLOOKUP(C2112,Referencias!$B$24:$C$40,2,FALSE())","v":"M"}]
["2813913","Zamácola Ballestero, Eduardo","Madrileña","C",{"$f":"VLOOKUP(G2113,Referencias!$C$4:$D$21,2,FALSE())","v":"Sin Categoría"},{"$f":"VLOOKUP(G2113,Referencias!$C$4:$E$21,3,FALSE())","v":4},"SC","Competición",{"$f":"VLOOKUP(C2113,Referencias!$B$24:$C$40,2,FALSE())","v":"M"}]
["2813915","Zamácola Ballestero, María","Madrileña","D",{"$f":"VLOOKUP(G2114,Referencias!$C$4:$D$21,2,FALSE())","v":"Sin Categoría"},{"$f":"VLOOKUP(G2114,Referencias!$C$4:$E$21,3,FALSE())","v":4},"SC","Competición",{"$f":"VLOOKUP(C2114,Referencias!$B$24:$C$40,2,FALSE())","v":"M"}]
["2813917","Aguirre Gil de Biedma, María","Madrileña","D",{"$f":"VLOOKUP(G2115,Referencias!$C$4:$D$21,2,FALSE())","v":"Tercera Corazón"},{"$f":"VLOOKUP(G2115,Referencias!$C$4:$E$21,3,FALSE())","v":3},"3C","Competición",{"$f":"VLOOKUP(C2115,Referencias!$B$24:$C$40,2,FALSE())","v":"M"}]
["2813919","García-Monsalve Escriña, Javier","Madrileña","C",{"$f":"VLOOKUP(G2116,Referencias!$C$4:$D$21,2,FALSE())","v":"Tercera Corazón"},{"$f":"VLOOKUP(G2116,Referencias!$C$4:$E$21,3,FALSE())","v":3},"3C","Competición",{"$f":"VLOOKUP(C2116,Referencias!$B$24:$C$40,2,FALSE())","v":"M"}]
["2813921","Guerrero-Burgos Pereiro, Juan","Madrileña","C",{"$f":"VLOOKUP(G2117,Referencias!$C$4:$D$21,2,FALSE())","v":"Sin Categoría"},{"$f":"VLOOKUP(G2117,Referencias!$C$4:$E$21,3,FALSE())","v":4},"SC","Competición",{"$f":"VLOOKUP(C2117,Referencias!$B$24:$C$40,2,FALSE())","v":"M"}]
["2813922","Dávila Del Cerro, Consuelo","Madrileña","D",{"$f":"VLOOKUP(G2118,Referencias!$C$4:$D$21,2,FALSE())","v":"Tercera Diamante"},{"$f":"VLOOKUP(G2118,Referencias!$C$4:$E$21,3,FALSE())","v":3},"3D","Competición",{"$f":"VLOOKUP(C2118,Referencias!$B$24:$C$40,2,FALSE())","v":"M"}]
["2813923","Capriles López, María Pía","Madrileña","D",{"$f":"VLOOKUP(G2119,Referencias!$C$4:$D$21,2,FALSE())","v":"Sin Categoría"},{"$f":"VLOOKUP(G2119,Referencias!$C$4:$E$21,3,FALSE())","v":4},"SC","Competición",{"$f":"VLOOKUP(C2119,Referencias!$B$24:$C$40,2,FALSE())","v":"M"}]
["2813933","Wes López, Ángela","Madrileña","D",{"$f":"VLOOKUP(G2120,Referencias!$C$4:$D$21,2,FALSE())","v":"Tercera Diamante"},{"$f":"VLOOKUP(G2120,Referencias!$C$4:$E$21,3,FALSE())","v":3},"3D","Competición",{"$f":"VLOOKUP(C2120,Referencias!$B$24:$C$40,2,FALSE())","v":"M"}]
["2813934","Creus Lechaga, Ana","Madrileña","D",{"$f":"VLOOKUP(G2121,Referencias!$C$4:$D$21,2,FALSE())","v":"Tercera Corazón"},{"$f":"VLOOKUP(G2121,Referencias!$C$4:$E$21,3,FALSE())","v":3},"3C","Competición",{"$f":"VLOOKUP(C2121,Referencias!$B$24:$C$40,2,FALSE())","v":"M"}]
["2813936","De Laiglesia Kaifer, Concepción","Madrileña","D",{"$f":"VLOOKUP(G2122,Referencias!$C$4:$D$21,2,FALSE())","v":"Tercera Corazón"},{"$f":"VLOOKUP(G2122,Referencias!$C$4:$E$21,3,FALSE())","v":3},"3C","Competición",{"$f":"VLOOKUP(C2122,Referencias!$B$24:$C$40,2,FALSE())","v":"M"}]
["2813939","Fernández Gómez, Celia","Madrileña","D",{"$f":"VLOOKUP(G2123,Referencias!$C$4:$D$21,2,FALSE())","v":"Sin Categoría"},{"$f":"VLOOKUP(G2123,Referencias!$C$4:$E$21,3,FALSE())","v":4},"SC","Competición",{"$f":"VLOOKUP(C2123,Referencias!$B$24:$C$40,2,FALSE())","v":"M"}]
["2813940","Marlia Navas, Carmen","Madrileña","D",{"$f":"VLOOKUP(G2124,Referencias!$C$4:$D$21,2,FALSE())","v":"Tercera Diamante"},{"$f":"VLOOKUP(G2124,Referencias!$C$4:$E$21,3,FALSE())","v":3},"3D","Competición",{"$f":"VLOOKUP(C2124,Referencias!$B$24:$C$40,2,FALSE())","v":"M"}]
["2813942","Isla Álvarez de Tejera, Fernando","Madrileña","C",{"$f":"VLOOKUP(G2125,Referencias!$C$4:$D$21,2,FALSE())","v":"Tercera Diamante"},{"$f":"VLOOKUP(G2125,Referencias!$C$4:$E$21,3,FALSE())","v":3},"3D","Competición",{"$f":"VLOOKUP(C2125,Referencias!$B$24:$C$40,2,FALSE())","v":"M"}]
["2813943","Domínguez Bautista, Gertrudis","Madrileña","D",{"$f":"VLOOKUP(G2126,Referencias!$C$4:$D$21,2,FALSE())","v":"Tercera Diamante"},{"$f":"VLOOKUP(G2126,Referencias!$C$4:$E$21,3,FALSE())","v":3},"3D","Competición",{"$f":"VLOOKUP(C2126,Referencias!$B$24:$C$40,2,FALSE())","v":"M"}]
["2813948","Martínez Fernández, José Ignacio","Madrileña","C",{"$f":"VLOOKUP(G2127,Referencias!$C$4:$D$21,2,FALSE())","v":"Tercera Corazón"},{"$f":"VLOOKUP(G2127,Referencias!$C$4:$E$21,3,FALSE())","v":3},"3C","Competición",{"$f":"VLOOKUP(C2127,Referencias!$B$24:$C$40,2,FALSE())","v":"M"}]
["2813950","Rojo Izquierdo, Paloma","Madrileña","D",{"$f":"VLOOKUP(G2128,Referencias!$C$4:$D$21,2,FALSE())","v":"Sin Categoría"},{"$f":"VLOOKUP(G2128,Referencias!$C$4:$E$21,3,FALSE())","v":4},"SC","Competición",{"$f":"VLOOKUP(C2128,Referencias!$B$24:$C$40,2,FALSE())","v":"M"}]
["2813952","Verduras Alonso, Isabel","Madrileña","D",{"$f":"VLOOKUP(G2129,Referencias!$C$4:$D$21,2,FALSE())","v":"Tercera Diamante"},{"$f":"VLOOKUP(G2129,Referencias!$C$4:$E$21,3,FALSE())","v":3},"3D","Competición",{"$f":"VLOOKUP(C2129,Referencias!$B$24:$C$40,2,FALSE())","v":"M"}]
["2813954","Cañizares Camacho, María Isabel","Madrileña","D",{"$f":"VLOOKUP(G2130,Referencias!$C$4:$D$21,2,FALSE())","v":"Sin Categoría"},{"$f":"VLOOKUP(G2130,Referencias!$C$4:$E$21,3,FALSE())","v":4},"SC","Competición",{"$f":"VLOOKUP(C2130,Referencias!$B$24:$C$40,2,FALSE())","v":"M"}]
["2813955","Sánchez-Capuchino Santos, Luis","Madrileña","C",{"$f":"VLOOKUP(G2131,Referencias!$C$4:$D$21,2,FALSE())","v":"Sin Categoría"},{"$f":"VLOOKUP(G2131,Referencias!$C$4:$E$21,3,FALSE())","v":4},"SC","Competición",{"$f":"VLOOKUP(C2131,Referencias!$B$24:$C$40,2,FALSE())","v":"M"}]
["2813958","Sánchez Gil, Miryam Lourdes","Madrileña","D",{"$f":"VLOOKUP(G2132,Referencias!$C$4:$D$21,2,FALSE())","v":"Sin Categoría"},{"$f":"VLOOKUP(G2132,Referencias!$C$4:$E$21,3,FALSE())","v":4},"SC","Competición",{"$f":"VLOOKUP(C2132,Referencias!$B$24:$C$40,2,FALSE())","v":"M"}]
["2813961","Rivera Álvarez, Nieves","Madrileña","D",{"$f":"VLOOKUP(G2133,Referencias!$C$4:$D$21,2,FALSE())","v":"Tercera Diamante"},{"$f":"VLOOKUP(G2133,Referencias!$C$4:$E$21,3,FALSE())","v":3},"3D","Competición",{"$f":"VLOOKUP(C2133,Referencias!$B$24:$C$40,2,FALSE())","v":"M"}]
["2813966","Meiggs Corbellá, Lidia","Madrileña","D",{"$f":"VLOOKUP(G2134,Referencias!$C$4:$D$21,2,FALSE())","v":"Tercera Diamante"},{"$f":"VLOOKUP(G2134,Referencias!$C$4:$E$21,3,FALSE())","v":3},"3D","Competición",{"$f":"VLOOKUP(C2134,Referencias!$B$24:$C$40,2,FALSE())","v":"M"}]
["2813970","Aleixandre García-Pescador, Dolores","Madrileña","D",{"$f":"VLOOKUP(G2135,Referencias!$C$4:$D$21,2,FALSE())","v":"Tercera Diamante"},{"$f":"VLOOKUP(G2135,Referencias!$C$4:$E$21,3,FALSE())","v":3},"3D","Competición",{"$f":"VLOOKUP(C2135,Referencias!$B$24:$C$40,2,FALSE())","v":"M"}]
["2813974","Martín Gil, Francisco","Madrileña","C",{"$f":"VLOOKUP(G2136,Referencias!$C$4:$D$21,2,FALSE())","v":"Tercera Diamante"},{"$f":"VLOOKUP(G2136,Referencias!$C$4:$E$21,3,FALSE())","v":3},"3D","Competición",{"$f":"VLOOKUP(C2136,Referencias!$B$24:$C$40,2,FALSE())","v":"M"}]
["2813977","Gallego Arcos, Teresa","Madrileña","D",{"$f":"VLOOKUP(G2137,Referencias!$C$4:$D$21,2,FALSE())","v":"Tercera Diamante"},{"$f":"VLOOKUP(G2137,Referencias!$C$4:$E$21,3,FALSE())","v":3},"3D","Competición",{"$f":"VLOOKUP(C2137,Referencias!$B$24:$C$40,2,FALSE())","v":"M"}]
["2813981","Porras Delgado, María José","Madrileña","D",{"$f":"VLOOKUP(G2138,Referencias!$C$4:$D$21,2,FALSE())","v":"Segunda Diamante"},{"$f":"VLOOKUP(G2138,Referencias!$C$4:$E$21,3,FALSE())","v":2},"2D","Competición",{"$f":"VLOOKUP(C2138,Referencias!$B$24:$C$40,2,FALSE())","v":"M"}]
["2813983","Ladrón de Guevara Muñoz-Cobo, Teresa","Madrileña","D",{"$f":"VLOOKUP(G2139,Referencias!$C$4:$D$21,2,FALSE())","v":"Tercera Corazón"},{"$f":"VLOOKUP(G2139,Referencias!$C$4:$E$21,3,FALSE())","v":3},"3C","Competición",{"$f":"VLOOKUP(C2139,Referencias!$B$24:$C$40,2,FALSE())","v":"M"}]
["2813986","Arias Romero, Ana Mª","Madrileña","D",{"$f":"VLOOKUP(G2140,Referencias!$C$4:$D$21,2,FALSE())","v":"Sin Categoría"},{"$f":"VLOOKUP(G2140,Referencias!$C$4:$E$21,3,FALSE())","v":4},"SC","Competición",{"$f":"VLOOKUP(C2140,Referencias!$B$24:$C$40,2,FALSE())","v":"M"}]
["2813987","Apalategui Carasa, Marisa","Madrileña","D",{"$f":"VLOOKUP(G2141,Referencias!$C$4:$D$21,2,FALSE())","v":"Sin Categoría"},{"$f":"VLOOKUP(G2141,Referencias!$C$4:$E$21,3,FALSE())","v":4},"SC","Competición",{"$f":"VLOOKUP(C2141,Referencias!$B$24:$C$40,2,FALSE())","v":"M"}]
["2813988","Martínez-Gil Fluxá, Darío","Madrileña","C",{"$f":"VLOOKUP(G2142,Referencias!$C$4:$D$21,2,FALSE())","v":"Segunda Corazón"},{"$f":"VLOOKUP(G2142,Referencias!$C$4:$E$21,3,FALSE())","v":2},"2C","Competición",{"$f":"VLOOKUP(C2142,Referencias!$B$24:$C$40,2,FALSE())","v":"M"}]
["2813994","Vaquero Hernández, Purificación","Madrileña","D",{"$f":"VLOOKUP(G2143,Referencias!$C$4:$D$21,2,FALSE())","v":"Sin Categoría"},{"$f":"VLOOKUP(G2143,Referencias!$C$4:$E$21,3,FALSE())","v":4},"SC","Competición",{"$f":"VLOOKUP(C2143,Referencias!$B$24:$C$40,2,FALSE())","v":"M"}]
["2813996","Baeza Ochoa de Ocariz, María Concepción","Madrileña","D",{"$f":"VLOOKUP(G2144,Referencias!$C$4:$D$21,2,FALSE())","v":"Tercera Picas"},{"$f":"VLOOKUP(G2144,Referencias!$C$4:$E$21,3,FALSE())","v":3},"3P","Competición",{"$f":"VLOOKUP(C2144,Referencias!$B$24:$C$40,2,FALSE())","v":"M"}]
["2813997","Rincón Salas, Purificación","Madrileña","D",{"$f":"VLOOKUP(G2145,Referencias!$C$4:$D$21,2,FALSE())","v":"Sin Categoría"},{"$f":"VLOOKUP(G2145,Referencias!$C$4:$E$21,3,FALSE())","v":4},"SC","Competición",{"$f":"VLOOKUP(C2145,Referencias!$B$24:$C$40,2,FALSE())","v":"M"}]
["2814001","Gaviña Pérez-Pardo, Juana","Madrileña","D",{"$f":"VLOOKUP(G2146,Referencias!$C$4:$D$21,2,FALSE())","v":"Sin Categoría"},{"$f":"VLOOKUP(G2146,Referencias!$C$4:$E$21,3,FALSE())","v":4},"SC","Competición",{"$f":"VLOOKUP(C2146,Referencias!$B$24:$C$40,2,FALSE())","v":"M"}]
["2814002","Rute Macías, Elena","Madrileña","D",{"$f":"VLOOKUP(G2147,Referencias!$C$4:$D$21,2,FALSE())","v":"Tercera Diamante"},{"$f":"VLOOKUP(G2147,Referencias!$C$4:$E$21,3,FALSE())","v":3},"3D","Competición",{"$f":"VLOOKUP(C2147,Referencias!$B$24:$C$40,2,FALSE())","v":"M"}]
["2814005","de la Vega Gaytan de Ayala, Santiago","Madrileña","C",{"$f":"VLOOKUP(G2148,Referencias!$C$4:$D$21,2,FALSE())","v":"Sin Categoría"},{"$f":"VLOOKUP(G2148,Referencias!$C$4:$E$21,3,FALSE())","v":4},"SC","Competición",{"$f":"VLOOKUP(C2148,Referencias!$B$24:$C$40,2,FALSE())","v":"M"}]
["2814006","Oriol Díaz de Bustamante, María","Madrileña","D",{"$f":"VLOOKUP(G2149,Referencias!$C$4:$D$21,2,FALSE())","v":"Tercera Corazón"},{"$f":"VLOOKUP(G2149,Referencias!$C$4:$E$21,3,FALSE())","v":3},"3C","Competición",{"$f":"VLOOKUP(C2149,Referencias!$B$24:$C$40,2,FALSE())","v":"M"}]
["2814008","Solera Gutiérrez, Luis","Madrileña","C",{"$f":"VLOOKUP(G2150,Referencias!$C$4:$D$21,2,FALSE())","v":"Sin Categoría"},{"$f":"VLOOKUP(G2150,Referencias!$C$4:$E$21,3,FALSE())","v":4},"SC","Competición",{"$f":"VLOOKUP(C2150,Referencias!$B$24:$C$40,2,FALSE())","v":"M"}]
["2814009","Cereceda López-Gil, Carmen","Madrileña","D",{"$f":"VLOOKUP(G2151,Referencias!$C$4:$D$21,2,FALSE())","v":"Tercera Corazón"},{"$f":"VLOOKUP(G2151,Referencias!$C$4:$E$21,3,FALSE())","v":3},"3C","Competición",{"$f":"VLOOKUP(C2151,Referencias!$B$24:$C$40,2,FALSE())","v":"M"}]
["2814011","Lafita Togores, María Victoria","Madrileña","D",{"$f":"VLOOKUP(G2152,Referencias!$C$4:$D$21,2,FALSE())","v":"Sin Categoría"},{"$f":"VLOOKUP(G2152,Referencias!$C$4:$E$21,3,FALSE())","v":4},"SC","Competición",{"$f":"VLOOKUP(C2152,Referencias!$B$24:$C$40,2,FALSE())","v":"M"}]
["2814014","Ruíz Cecilia, Emilio","Madrileña","C",{"$f":"VLOOKUP(G2153,Referencias!$C$4:$D$21,2,FALSE())","v":"Sin Categoría"},{"$f":"VLOOKUP(G2153,Referencias!$C$4:$E$21,3,FALSE())","v":4},"SC","Competición",{"$f":"VLOOKUP(C2153,Referencias!$B$24:$C$40,2,FALSE())","v":"M"}]
["2814019","Armada Martínez-Campos, Teresa","Madrileña","D",{"$f":"VLOOKUP(G2154,Referencias!$C$4:$D$21,2,FALSE())","v":"Sin Categoría"},{"$f":"VLOOKUP(G2154,Referencias!$C$4:$E$21,3,FALSE())","v":4},"SC","Competición",{"$f":"VLOOKUP(C2154,Referencias!$B$24:$C$40,2,FALSE())","v":"M"}]
["2814020","Pons Senent, Araceli","Madrileña","D",{"$f":"VLOOKUP(G2155,Referencias!$C$4:$D$21,2,FALSE())","v":"Sin Categoría"},{"$f":"VLOOKUP(G2155,Referencias!$C$4:$E$21,3,FALSE())","v":4},"SC","Competición",{"$f":"VLOOKUP(C2155,Referencias!$B$24:$C$40,2,FALSE())","v":"M"}]
["2814022","del Alcázar Armada, María","Madrileña","D",{"$f":"VLOOKUP(G2156,Referencias!$C$4:$D$21,2,FALSE())","v":"Sin Categoría"},{"$f":"VLOOKUP(G2156,Referencias!$C$4:$E$21,3,FALSE())","v":4},"SC","Competición",{"$f":"VLOOKUP(C2156,Referencias!$B$24:$C$40,2,FALSE())","v":"M"}]
["2814023","Herránz Martínez, María del Carmen","Madrileña","D",{"$f":"VLOOKUP(G2157,Referencias!$C$4:$D$21,2,FALSE())","v":"Sin Categoría"},{"$f":"VLOOKUP(G2157,Referencias!$C$4:$E$21,3,FALSE())","v":4},"SC","Competición",{"$f":"VLOOKUP(C2157,Referencias!$B$24:$C$40,2,FALSE())","v":"M"}]
["2814027","Serrano Milans del Bosch, María Teresa","Madrileña","D",{"$f":"VLOOKUP(G2158,Referencias!$C$4:$D$21,2,FALSE())","v":"Tercera Corazón"},{"$f":"VLOOKUP(G2158,Referencias!$C$4:$E$21,3,FALSE())","v":3},"3C","Competición",{"$f":"VLOOKUP(C2158,Referencias!$B$24:$C$40,2,FALSE())","v":"M"}]
["2814028","Álvarez-Novoa Romero, Isabel","Madrileña","D",{"$f":"VLOOKUP(G2159,Referencias!$C$4:$D$21,2,FALSE())","v":"Sin Categoría"},{"$f":"VLOOKUP(G2159,Referencias!$C$4:$E$21,3,FALSE())","v":4},"SC","Competición",{"$f":"VLOOKUP(C2159,Referencias!$B$24:$C$40,2,FALSE())","v":"M"}]
["2814031","Pancorbo de Rato, Pilar","Asturiana","D",{"$f":"VLOOKUP(G2160,Referencias!$C$4:$D$21,2,FALSE())","v":"Tercera Diamante"},{"$f":"VLOOKUP(G2160,Referencias!$C$4:$E$21,3,FALSE())","v":3},"3D","Competición",{"$f":"VLOOKUP(C2160,Referencias!$B$24:$C$40,2,FALSE())","v":"PA"}]
["2814039","Cendán Lasheras, Ricardo","Madrileña","C",{"$f":"VLOOKUP(G2161,Referencias!$C$4:$D$21,2,FALSE())","v":"Sin Categoría"},{"$f":"VLOOKUP(G2161,Referencias!$C$4:$E$21,3,FALSE())","v":4},"SC","Competición",{"$f":"VLOOKUP(C2161,Referencias!$B$24:$C$40,2,FALSE())","v":"M"}]
["2814043","Madero Ambrojo, Salud","Madrileña","C",{"$f":"VLOOKUP(G2162,Referencias!$C$4:$D$21,2,FALSE())","v":"Tercera Corazón"},{"$f":"VLOOKUP(G2162,Referencias!$C$4:$E$21,3,FALSE())","v":3},"3C","Competición",{"$f":"VLOOKUP(C2162,Referencias!$B$24:$C$40,2,FALSE())","v":"M"}]
["2814048","Morcillo Mestre, Maria Luisa","Madrileña","D",{"$f":"VLOOKUP(G2163,Referencias!$C$4:$D$21,2,FALSE())","v":"Sin Categoría"},{"$f":"VLOOKUP(G2163,Referencias!$C$4:$E$21,3,FALSE())","v":4},"SC","Competición",{"$f":"VLOOKUP(C2163,Referencias!$B$24:$C$40,2,FALSE())","v":"M"}]
["2814054","Angulo Morales, Concepción","Madrileña","D",{"$f":"VLOOKUP(G2164,Referencias!$C$4:$D$21,2,FALSE())","v":"Sin Categoría"},{"$f":"VLOOKUP(G2164,Referencias!$C$4:$E$21,3,FALSE())","v":4},"SC","Competición",{"$f":"VLOOKUP(C2164,Referencias!$B$24:$C$40,2,FALSE())","v":"M"}]
["2814055","Oriol López-Montenegro, Lucas","Madrileña","C",{"$f":"VLOOKUP(G2165,Referencias!$C$4:$D$21,2,FALSE())","v":"Sin Categoría"},{"$f":"VLOOKUP(G2165,Referencias!$C$4:$E$21,3,FALSE())","v":4},"SC","Competición",{"$f":"VLOOKUP(C2165,Referencias!$B$24:$C$40,2,FALSE())","v":"M"}]
["2814056","Sanz Mendiola, Irene","Madrileña","D",{"$f":"VLOOKUP(G2166,Referencias!$C$4:$D$21,2,FALSE())","v":"Tercera Corazón"},{"$f":"VLOOKUP(G2166,Referencias!$C$4:$E$21,3,FALSE())","v":3},"3C","Competición",{"$f":"VLOOKUP(C2166,Referencias!$B$24:$C$40,2,FALSE())","v":"M"}]
["2814060","De las Cuevas Castresana, Fernando","Madrileña","C",{"$f":"VLOOKUP(G2167,Referencias!$C$4:$D$21,2,FALSE())","v":"Sin Categoría"},{"$f":"VLOOKUP(G2167,Referencias!$C$4:$E$21,3,FALSE())","v":4},"SC","Competición",{"$f":"VLOOKUP(C2167,Referencias!$B$24:$C$40,2,FALSE())","v":"M"}]
["2814063","Estévez Eguiagaray, Victoria","Madrileña","D",{"$f":"VLOOKUP(G2168,Referencias!$C$4:$D$21,2,FALSE())","v":"Sin Categoría"},{"$f":"VLOOKUP(G2168,Referencias!$C$4:$E$21,3,FALSE())","v":4},"SC","Competición",{"$f":"VLOOKUP(C2168,Referencias!$B$24:$C$40,2,FALSE())","v":"M"}]
["2814065","Francés Goicoechea, Isabel","Madrileña","D",{"$f":"VLOOKUP(G2169,Referencias!$C$4:$D$21,2,FALSE())","v":"Sin Categoría"},{"$f":"VLOOKUP(G2169,Referencias!$C$4:$E$21,3,FALSE())","v":4},"SC","Competición",{"$f":"VLOOKUP(C2169,Referencias!$B$24:$C$40,2,FALSE())","v":"M"}]
["2814067","Entrecanales Vicinay, Ana María","Madrileña","D",{"$f":"VLOOKUP(G2170,Referencias!$C$4:$D$21,2,FALSE())","v":"Tercera Diamante"},{"$f":"VLOOKUP(G2170,Referencias!$C$4:$E$21,3,FALSE())","v":3},"3D","Competición",{"$f":"VLOOKUP(C2170,Referencias!$B$24:$C$40,2,FALSE())","v":"M"}]
["2814070","González de Prada, María Jesús","Madrileña","D",{"$f":"VLOOKUP(G2171,Referencias!$C$4:$D$21,2,FALSE())","v":"Segunda Diamante"},{"$f":"VLOOKUP(G2171,Referencias!$C$4:$E$21,3,FALSE())","v":2},"2D","Competición",{"$f":"VLOOKUP(C2171,Referencias!$B$24:$C$40,2,FALSE())","v":"M"}]
["2814074","Rodríguez Vignote, Ignacio","Madrileña","C",{"$f":"VLOOKUP(G2172,Referencias!$C$4:$D$21,2,FALSE())","v":"Segunda Picas"},{"$f":"VLOOKUP(G2172,Referencias!$C$4:$E$21,3,FALSE())","v":2},"2P","Competición",{"$f":"VLOOKUP(C2172,Referencias!$B$24:$C$40,2,FALSE())","v":"M"}]
["2814075","Martín Gutiérrez de Cabiedes, Belén","Madrileña","D",{"$f":"VLOOKUP(G2173,Referencias!$C$4:$D$21,2,FALSE())","v":"Sin Categoría"},{"$f":"VLOOKUP(G2173,Referencias!$C$4:$E$21,3,FALSE())","v":4},"SC","Competición",{"$f":"VLOOKUP(C2173,Referencias!$B$24:$C$40,2,FALSE())","v":"M"}]
["2814076","Santibañes Umeres, Carmen","Madrileña","D",{"$f":"VLOOKUP(G2174,Referencias!$C$4:$D$21,2,FALSE())","v":"Sin Categoría"},{"$f":"VLOOKUP(G2174,Referencias!$C$4:$E$21,3,FALSE())","v":4},"SC","Competición",{"$f":"VLOOKUP(C2174,Referencias!$B$24:$C$40,2,FALSE())","v":"M"}]
["2814078","Molina Aragón, Ana","Madrileña","D",{"$f":"VLOOKUP(G2175,Referencias!$C$4:$D$21,2,FALSE())","v":"Tercera Diamante"},{"$f":"VLOOKUP(G2175,Referencias!$C$4:$E$21,3,FALSE())","v":3},"3D","Competición",{"$f":"VLOOKUP(C2175,Referencias!$B$24:$C$40,2,FALSE())","v":"M"}]
["2814079","Velarde Pujadas, Teresa","Madrileña","D",{"$f":"VLOOKUP(G2176,Referencias!$C$4:$D$21,2,FALSE())","v":"Tercera Diamante"},{"$f":"VLOOKUP(G2176,Referencias!$C$4:$E$21,3,FALSE())","v":3},"3D","Competición",{"$f":"VLOOKUP(C2176,Referencias!$B$24:$C$40,2,FALSE())","v":"M"}]
["2814080","Sahagún Fernández, Carmen Rosa","Madrileña","D",{"$f":"VLOOKUP(G2177,Referencias!$C$4:$D$21,2,FALSE())","v":"Tercera Diamante"},{"$f":"VLOOKUP(G2177,Referencias!$C$4:$E$21,3,FALSE())","v":3},"3D","Competición",{"$f":"VLOOKUP(C2177,Referencias!$B$24:$C$40,2,FALSE())","v":"M"}]
["2814082","Bravo Urraca, María Dolores","Madrileña","D",{"$f":"VLOOKUP(G2178,Referencias!$C$4:$D$21,2,FALSE())","v":"Tercera Diamante"},{"$f":"VLOOKUP(G2178,Referencias!$C$4:$E$21,3,FALSE())","v":3},"3D","Competición",{"$f":"VLOOKUP(C2178,Referencias!$B$24:$C$40,2,FALSE())","v":"M"}]
["2814085","Moreno de Barreda Moreno, Consuelo","Madrileña","D",{"$f":"VLOOKUP(G2179,Referencias!$C$4:$D$21,2,FALSE())","v":"Tercera Diamante"},{"$f":"VLOOKUP(G2179,Referencias!$C$4:$E$21,3,FALSE())","v":3},"3D","Competición",{"$f":"VLOOKUP(C2179,Referencias!$B$24:$C$40,2,FALSE())","v":"M"}]
["2814086","Israel Benchimol, David","Madrileña","C",{"$f":"VLOOKUP(G2180,Referencias!$C$4:$D$21,2,FALSE())","v":"Primera Picas"},{"$f":"VLOOKUP(G2180,Referencias!$C$4:$E$21,3,FALSE())","v":1},"1P","Competición",{"$f":"VLOOKUP(C2180,Referencias!$B$24:$C$40,2,FALSE())","v":"M"}]
["2814094","Zafrani Israel, Zari","Madrileña","D",{"$f":"VLOOKUP(G2181,Referencias!$C$4:$D$21,2,FALSE())","v":"Tercera Corazón"},{"$f":"VLOOKUP(G2181,Referencias!$C$4:$E$21,3,FALSE())","v":3},"3C","Competición",{"$f":"VLOOKUP(C2181,Referencias!$B$24:$C$40,2,FALSE())","v":"M"}]
["2814095","Soler González del Valle, Ángeles","Madrileña","D",{"$f":"VLOOKUP(G2182,Referencias!$C$4:$D$21,2,FALSE())","v":"Tercera Picas"},{"$f":"VLOOKUP(G2182,Referencias!$C$4:$E$21,3,FALSE())","v":3},"3P","Competición",{"$f":"VLOOKUP(C2182,Referencias!$B$24:$C$40,2,FALSE())","v":"M"}]
["2814096","Torrente García de la Mata, Pedro","Madrileña","C",{"$f":"VLOOKUP(G2183,Referencias!$C$4:$D$21,2,FALSE())","v":"Segunda Diamante"},{"$f":"VLOOKUP(G2183,Referencias!$C$4:$E$21,3,FALSE())","v":2},"2D","Competición",{"$f":"VLOOKUP(C2183,Referencias!$B$24:$C$40,2,FALSE())","v":"M"}]
["2814097","Costa Cuadrench, Alfonso","Madrileña","C",{"$f":"VLOOKUP(G2184,Referencias!$C$4:$D$21,2,FALSE())","v":"Sin Categoría"},{"$f":"VLOOKUP(G2184,Referencias!$C$4:$E$21,3,FALSE())","v":4},"SC","Competición",{"$f":"VLOOKUP(C2184,Referencias!$B$24:$C$40,2,FALSE())","v":"M"}]
["2814098","Quijano Barroso, Juan José","Madrileña","C",{"$f":"VLOOKUP(G2185,Referencias!$C$4:$D$21,2,FALSE())","v":"Segunda Picas"},{"$f":"VLOOKUP(G2185,Referencias!$C$4:$E$21,3,FALSE())","v":2},"2P","Competición",{"$f":"VLOOKUP(C2185,Referencias!$B$24:$C$40,2,FALSE())","v":"M"}]
["2814099","Aguirre Fernández-Cobaleda, Natividad","Madrileña","D",{"$f":"VLOOKUP(G2186,Referencias!$C$4:$D$21,2,FALSE())","v":"Sin Categoría"},{"$f":"VLOOKUP(G2186,Referencias!$C$4:$E$21,3,FALSE())","v":4},"SC","Competición",{"$f":"VLOOKUP(C2186,Referencias!$B$24:$C$40,2,FALSE())","v":"M"}]
["2814103","Helain Mouquet, Françoise","Madrileña","C",{"$f":"VLOOKUP(G2187,Referencias!$C$4:$D$21,2,FALSE())","v":"Tercera Diamante"},{"$f":"VLOOKUP(G2187,Referencias!$C$4:$E$21,3,FALSE())","v":3},"3D","Competición",{"$f":"VLOOKUP(C2187,Referencias!$B$24:$C$40,2,FALSE())","v":"M"}]
["2814104","Latorre Cagigas, Alicia","Madrileña","D",{"$f":"VLOOKUP(G2188,Referencias!$C$4:$D$21,2,FALSE())","v":"Tercera Diamante"},{"$f":"VLOOKUP(G2188,Referencias!$C$4:$E$21,3,FALSE())","v":3},"3D","Competición",{"$f":"VLOOKUP(C2188,Referencias!$B$24:$C$40,2,FALSE())","v":"M"}]
["2814106","Sobrado Pérez, Pilar","Madrileña","D",{"$f":"VLOOKUP(G2189,Referencias!$C$4:$D$21,2,FALSE())","v":"Sin Categoría"},{"$f":"VLOOKUP(G2189,Referencias!$C$4:$E$21,3,FALSE())","v":4},"SC","Competición",{"$f":"VLOOKUP(C2189,Referencias!$B$24:$C$40,2,FALSE())","v":"M"}]
["2814107","Sánchez-Terán Hernández, Miguel Ángel","Madrileña","C",{"$f":"VLOOKUP(G2190,Referencias!$C$4:$D$21,2,FALSE())","v":"Tercera Corazón"},{"$f":"VLOOKUP(G2190,Referencias!$C$4:$E$21,3,FALSE())","v":3},"3C","Competición",{"$f":"VLOOKUP(C2190,Referencias!$B$24:$C$40,2,FALSE())","v":"M"}]
["2814108","Espallardo Menor, José Antonio","Madrileña","C",{"$f":"VLOOKUP(G2191,Referencias!$C$4:$D$21,2,FALSE())","v":"Tercera Picas"},{"$f":"VLOOKUP(G2191,Referencias!$C$4:$E$21,3,FALSE())","v":3},"3P","Competición",{"$f":"VLOOKUP(C2191,Referencias!$B$24:$C$40,2,FALSE())","v":"M"}]
["2814109","Martínez Barreiro, Laura","Madrileña","D",{"$f":"VLOOKUP(G2192,Referencias!$C$4:$D$21,2,FALSE())","v":"Tercera Picas"},{"$f":"VLOOKUP(G2192,Referencias!$C$4:$E$21,3,FALSE())","v":3},"3P","Competición",{"$f":"VLOOKUP(C2192,Referencias!$B$24:$C$40,2,FALSE())","v":"M"}]
["2814110","Manzano-Monis Caruncho, Cinta","Madrileña","D",{"$f":"VLOOKUP(G2193,Referencias!$C$4:$D$21,2,FALSE())","v":"Sin Categoría"},{"$f":"VLOOKUP(G2193,Referencias!$C$4:$E$21,3,FALSE())","v":4},"SC","Competición",{"$f":"VLOOKUP(C2193,Referencias!$B$24:$C$40,2,FALSE())","v":"M"}]
["2814111","Vijande Brees, Pablo","Madrileña","C",{"$f":"VLOOKUP(G2194,Referencias!$C$4:$D$21,2,FALSE())","v":"Sin Categoría"},{"$f":"VLOOKUP(G2194,Referencias!$C$4:$E$21,3,FALSE())","v":4},"SC","Competición",{"$f":"VLOOKUP(C2194,Referencias!$B$24:$C$40,2,FALSE())","v":"M"}]
["2814112","Alcocer Torra, Carlos","Madrileña","C",{"$f":"VLOOKUP(G2195,Referencias!$C$4:$D$21,2,FALSE())","v":"Tercera Picas"},{"$f":"VLOOKUP(G2195,Referencias!$C$4:$E$21,3,FALSE())","v":3},"3P","Competición",{"$f":"VLOOKUP(C2195,Referencias!$B$24:$C$40,2,FALSE())","v":"M"}]
["2814113","Zobel de Ayala Miranda, Cristina","Madrileña","D",{"$f":"VLOOKUP(G2196,Referencias!$C$4:$D$21,2,FALSE())","v":"Primera Corazón"},{"$f":"VLOOKUP(G2196,Referencias!$C$4:$E$21,3,FALSE())","v":1},"1C","Competición",{"$f":"VLOOKUP(C2196,Referencias!$B$24:$C$40,2,FALSE())","v":"M"}]
["2814114","Chapa Cañedo, Enrique","Madrileña","C",{"$f":"VLOOKUP(G2197,Referencias!$C$4:$D$21,2,FALSE())","v":"Tercera Corazón"},{"$f":"VLOOKUP(G2197,Referencias!$C$4:$E$21,3,FALSE())","v":3},"3C","Competición",{"$f":"VLOOKUP(C2197,Referencias!$B$24:$C$40,2,FALSE())","v":"M"}]
["2814115","Sáinz de Vicuña Primo de Rivera, María","Madrileña","D",{"$f":"VLOOKUP(G2198,Referencias!$C$4:$D$21,2,FALSE())","v":"Primera Picas"},{"$f":"VLOOKUP(G2198,Referencias!$C$4:$E$21,3,FALSE())","v":1},"1P","Competición",{"$f":"VLOOKUP(C2198,Referencias!$B$24:$C$40,2,FALSE())","v":"M"}]
["2814116","Espinosa de los Monteros Pitarque, Javier","Madrileña","C",{"$f":"VLOOKUP(G2199,Referencias!$C$4:$D$21,2,FALSE())","v":"Segunda Diamante"},{"$f":"VLOOKUP(G2199,Referencias!$C$4:$E$21,3,FALSE())","v":2},"2D","Competición",{"$f":"VLOOKUP(C2199,Referencias!$B$24:$C$40,2,FALSE())","v":"M"}]
["2814119","Gasset Loring, Marta","Madrileña","D",{"$f":"VLOOKUP(G2200,Referencias!$C$4:$D$21,2,FALSE())","v":"Tercera Diamante"},{"$f":"VLOOKUP(G2200,Referencias!$C$4:$E$21,3,FALSE())","v":3},"3D","Competición",{"$f":"VLOOKUP(C2200,Referencias!$B$24:$C$40,2,FALSE())","v":"M"}]
["2814120","Tomé Rodríguez, Sara","Madrileña","D",{"$f":"VLOOKUP(G2201,Referencias!$C$4:$D$21,2,FALSE())","v":"Sin Categoría"},{"$f":"VLOOKUP(G2201,Referencias!$C$4:$E$21,3,FALSE())","v":4},"SC","Competición",{"$f":"VLOOKUP(C2201,Referencias!$B$24:$C$40,2,FALSE())","v":"M"}]
["2814121","Rodríguez Carrasco, Mary Carmen","Madrileña","D",{"$f":"VLOOKUP(G2202,Referencias!$C$4:$D$21,2,FALSE())","v":"Sin Categoría"},{"$f":"VLOOKUP(G2202,Referencias!$C$4:$E$21,3,FALSE())","v":4},"SC","Competición",{"$f":"VLOOKUP(C2202,Referencias!$B$24:$C$40,2,FALSE())","v":"M"}]
["2814124","Parra Serrano, María del Carmen","Madrileña","D",{"$f":"VLOOKUP(G2203,Referencias!$C$4:$D$21,2,FALSE())","v":"Tercera Diamante"},{"$f":"VLOOKUP(G2203,Referencias!$C$4:$E$21,3,FALSE())","v":3},"3D","Competición",{"$f":"VLOOKUP(C2203,Referencias!$B$24:$C$40,2,FALSE())","v":"M"}]
["2814125","Garrido-Lestache Cabrera, Jesús María","Madrileña","C",{"$f":"VLOOKUP(G2204,Referencias!$C$4:$D$21,2,FALSE())","v":"Sin Categoría"},{"$f":"VLOOKUP(G2204,Referencias!$C$4:$E$21,3,FALSE())","v":4},"SC","Competición",{"$f":"VLOOKUP(C2204,Referencias!$B$24:$C$40,2,FALSE())","v":"M"}]
["2814126","Hervada Yáñez, Joaquín","Madrileña","C",{"$f":"VLOOKUP(G2205,Referencias!$C$4:$D$21,2,FALSE())","v":"Sin Categoría"},{"$f":"VLOOKUP(G2205,Referencias!$C$4:$E$21,3,FALSE())","v":4},"SC","Competición",{"$f":"VLOOKUP(C2205,Referencias!$B$24:$C$40,2,FALSE())","v":"M"}]
["2814127","Sierra Rocafort, María","Madrileña","D",{"$f":"VLOOKUP(G2206,Referencias!$C$4:$D$21,2,FALSE())","v":"Sin Categoría"},{"$f":"VLOOKUP(G2206,Referencias!$C$4:$E$21,3,FALSE())","v":4},"SC","Competición",{"$f":"VLOOKUP(C2206,Referencias!$B$24:$C$40,2,FALSE())","v":"M"}]
["2814129","Alcocer Magirena, Carlos","Madrileña","C",{"$f":"VLOOKUP(G2207,Referencias!$C$4:$D$21,2,FALSE())","v":"Tercera Picas"},{"$f":"VLOOKUP(G2207,Referencias!$C$4:$E$21,3,FALSE())","v":3},"3P","Competición",{"$f":"VLOOKUP(C2207,Referencias!$B$24:$C$40,2,FALSE())","v":"M"}]
["2814131","Aguirre Gil de Biedma, Piedad","Madrileña","D",{"$f":"VLOOKUP(G2208,Referencias!$C$4:$D$21,2,FALSE())","v":"Sin Categoría"},{"$f":"VLOOKUP(G2208,Referencias!$C$4:$E$21,3,FALSE())","v":4},"SC","Competición",{"$f":"VLOOKUP(C2208,Referencias!$B$24:$C$40,2,FALSE())","v":"M"}]
["2814134","Crespo Estefanía, Isabel","Madrileña","D",{"$f":"VLOOKUP(G2209,Referencias!$C$4:$D$21,2,FALSE())","v":"Sin Categoría"},{"$f":"VLOOKUP(G2209,Referencias!$C$4:$E$21,3,FALSE())","v":4},"SC","Competición",{"$f":"VLOOKUP(C2209,Referencias!$B$24:$C$40,2,FALSE())","v":"M"}]
["2814138","Heathcote Sapey, James","Madrileña","C",{"$f":"VLOOKUP(G2210,Referencias!$C$4:$D$21,2,FALSE())","v":"Primera Picas"},{"$f":"VLOOKUP(G2210,Referencias!$C$4:$E$21,3,FALSE())","v":1},"1P","Competición",{"$f":"VLOOKUP(C2210,Referencias!$B$24:$C$40,2,FALSE())","v":"M"}]
["2814140","Cuito Sabaté, Ramón","Madrileña","C",{"$f":"VLOOKUP(G2211,Referencias!$C$4:$D$21,2,FALSE())","v":"Tercera Corazón"},{"$f":"VLOOKUP(G2211,Referencias!$C$4:$E$21,3,FALSE())","v":3},"3C","Competición",{"$f":"VLOOKUP(C2211,Referencias!$B$24:$C$40,2,FALSE())","v":"M"}]
["2814141","Martín Tejedor, Mª del Rosario","Madrileña","D",{"$f":"VLOOKUP(G2212,Referencias!$C$4:$D$21,2,FALSE())","v":"Tercera Corazón"},{"$f":"VLOOKUP(G2212,Referencias!$C$4:$E$21,3,FALSE())","v":3},"3C","Competición",{"$f":"VLOOKUP(C2212,Referencias!$B$24:$C$40,2,FALSE())","v":"M"}]
["2814145","España Saz, Josefina","Madrileña","D",{"$f":"VLOOKUP(G2213,Referencias!$C$4:$D$21,2,FALSE())","v":"Sin Categoría"},{"$f":"VLOOKUP(G2213,Referencias!$C$4:$E$21,3,FALSE())","v":4},"SC","Competición",{"$f":"VLOOKUP(C2213,Referencias!$B$24:$C$40,2,FALSE())","v":"M"}]
["2814149","Benítez Jurado, Carmen","Madrileña","D",{"$f":"VLOOKUP(G2214,Referencias!$C$4:$D$21,2,FALSE())","v":"Sin Categoría"},{"$f":"VLOOKUP(G2214,Referencias!$C$4:$E$21,3,FALSE())","v":4},"SC","Competición",{"$f":"VLOOKUP(C2214,Referencias!$B$24:$C$40,2,FALSE())","v":"M"}]
["2814151","Sánchez de Neyra Espuch, Teresa","Madrileña","D",{"$f":"VLOOKUP(G2215,Referencias!$C$4:$D$21,2,FALSE())","v":"Sin Categoría"},{"$f":"VLOOKUP(G2215,Referencias!$C$4:$E$21,3,FALSE())","v":4},"SC","Competición",{"$f":"VLOOKUP(C2215,Referencias!$B$24:$C$40,2,FALSE())","v":"M"}]
["2814152","Sánchez Torres, María Consolación","Madrileña","D",{"$f":"VLOOKUP(G2216,Referencias!$C$4:$D$21,2,FALSE())","v":"Sin Categoría"},{"$f":"VLOOKUP(G2216,Referencias!$C$4:$E$21,3,FALSE())","v":4},"SC","Competición",{"$f":"VLOOKUP(C2216,Referencias!$B$24:$C$40,2,FALSE())","v":"M"}]
["2814153","Ruiz García, Concepción","Madrileña","D",{"$f":"VLOOKUP(G2217,Referencias!$C$4:$D$21,2,FALSE())","v":"Tercera Diamante"},{"$f":"VLOOKUP(G2217,Referencias!$C$4:$E$21,3,FALSE())","v":3},"3D","Competición",{"$f":"VLOOKUP(C2217,Referencias!$B$24:$C$40,2,FALSE())","v":"M"}]
["2814155","Cinta , Mónica Andreea","Madrileña","D",{"$f":"VLOOKUP(G2218,Referencias!$C$4:$D$21,2,FALSE())","v":"Sin Categoría"},{"$f":"VLOOKUP(G2218,Referencias!$C$4:$E$21,3,FALSE())","v":4},"SC","Competición",{"$f":"VLOOKUP(C2218,Referencias!$B$24:$C$40,2,FALSE())","v":"M"}]
["2814156","Serra Carbonell, Pilar","Madrileña","D",{"$f":"VLOOKUP(G2219,Referencias!$C$4:$D$21,2,FALSE())","v":"Tercera Diamante"},{"$f":"VLOOKUP(G2219,Referencias!$C$4:$E$21,3,FALSE())","v":3},"3D","Competición",{"$f":"VLOOKUP(C2219,Referencias!$B$24:$C$40,2,FALSE())","v":"M"}]
["2814157","Zubiría Arana, Carolina","Madrileña","D",{"$f":"VLOOKUP(G2220,Referencias!$C$4:$D$21,2,FALSE())","v":"Tercera Picas"},{"$f":"VLOOKUP(G2220,Referencias!$C$4:$E$21,3,FALSE())","v":3},"3P","Competición",{"$f":"VLOOKUP(C2220,Referencias!$B$24:$C$40,2,FALSE())","v":"M"}]
["2814159","López Nicolás, Eduardo","Madrileña","C",{"$f":"VLOOKUP(G2221,Referencias!$C$4:$D$21,2,FALSE())","v":"Sin Categoría"},{"$f":"VLOOKUP(G2221,Referencias!$C$4:$E$21,3,FALSE())","v":4},"SC","Competición",{"$f":"VLOOKUP(C2221,Referencias!$B$24:$C$40,2,FALSE())","v":"M"}]
["2814160","Díaz-Agero De Pineda, Gabriel","Madrileña","C",{"$f":"VLOOKUP(G2222,Referencias!$C$4:$D$21,2,FALSE())","v":"Segunda Picas"},{"$f":"VLOOKUP(G2222,Referencias!$C$4:$E$21,3,FALSE())","v":2},"2P","Competición",{"$f":"VLOOKUP(C2222,Referencias!$B$24:$C$40,2,FALSE())","v":"M"}]
["2814162","Cepa Caneja, María José","Madrileña","D",{"$f":"VLOOKUP(G2223,Referencias!$C$4:$D$21,2,FALSE())","v":"Tercera Picas"},{"$f":"VLOOKUP(G2223,Referencias!$C$4:$E$21,3,FALSE())","v":3},"3P","Competición",{"$f":"VLOOKUP(C2223,Referencias!$B$24:$C$40,2,FALSE())","v":"M"}]
["2814163","Arana Monreal, Ana","Madrileña","D",{"$f":"VLOOKUP(G2224,Referencias!$C$4:$D$21,2,FALSE())","v":"Sin Categoría"},{"$f":"VLOOKUP(G2224,Referencias!$C$4:$E$21,3,FALSE())","v":4},"SC","Competición",{"$f":"VLOOKUP(C2224,Referencias!$B$24:$C$40,2,FALSE())","v":"M"}]
["2814164","Knap , Margarita","Madrileña","D",{"$f":"VLOOKUP(G2225,Referencias!$C$4:$D$21,2,FALSE())","v":"Tercera Picas"},{"$f":"VLOOKUP(G2225,Referencias!$C$4:$E$21,3,FALSE())","v":3},"3P","Competición",{"$f":"VLOOKUP(C2225,Referencias!$B$24:$C$40,2,FALSE())","v":"M"}]
["2814166","de la Plata Villoslada, Pilar","Madrileña","D",{"$f":"VLOOKUP(G2226,Referencias!$C$4:$D$21,2,FALSE())","v":"Tercera Diamante"},{"$f":"VLOOKUP(G2226,Referencias!$C$4:$E$21,3,FALSE())","v":3},"3D","Competición",{"$f":"VLOOKUP(C2226,Referencias!$B$24:$C$40,2,FALSE())","v":"M"}]
["2814167","Brujó Pfitz, Dolores","Madrileña","D",{"$f":"VLOOKUP(G2227,Referencias!$C$4:$D$21,2,FALSE())","v":"Tercera Diamante"},{"$f":"VLOOKUP(G2227,Referencias!$C$4:$E$21,3,FALSE())","v":3},"3D","Competición",{"$f":"VLOOKUP(C2227,Referencias!$B$24:$C$40,2,FALSE())","v":"M"}]
["2814168","Castan Bailo, Ana María","Madrileña","D",{"$f":"VLOOKUP(G2228,Referencias!$C$4:$D$21,2,FALSE())","v":"Sin Categoría"},{"$f":"VLOOKUP(G2228,Referencias!$C$4:$E$21,3,FALSE())","v":4},"SC","Competición",{"$f":"VLOOKUP(C2228,Referencias!$B$24:$C$40,2,FALSE())","v":"M"}]
["2814169","Cortés López, José Luis","Madrileña","C",{"$f":"VLOOKUP(G2229,Referencias!$C$4:$D$21,2,FALSE())","v":"Sin Categoría"},{"$f":"VLOOKUP(G2229,Referencias!$C$4:$E$21,3,FALSE())","v":4},"SC","Competición",{"$f":"VLOOKUP(C2229,Referencias!$B$24:$C$40,2,FALSE())","v":"M"}]
["2814172","Amatriain Corbi, Beatriz","Madrileña","D",{"$f":"VLOOKUP(G2230,Referencias!$C$4:$D$21,2,FALSE())","v":"Tercera Diamante"},{"$f":"VLOOKUP(G2230,Referencias!$C$4:$E$21,3,FALSE())","v":3},"3D","Competición",{"$f":"VLOOKUP(C2230,Referencias!$B$24:$C$40,2,FALSE())","v":"M"}]
["2814175","Malumbres Vicente, Almudena","Madrileña","D",{"$f":"VLOOKUP(G2231,Referencias!$C$4:$D$21,2,FALSE())","v":"Primera Diamante"},{"$f":"VLOOKUP(G2231,Referencias!$C$4:$E$21,3,FALSE())","v":1},"1D","Competición",{"$f":"VLOOKUP(C2231,Referencias!$B$24:$C$40,2,FALSE())","v":"M"}]
["2814176","De Estepa , Marqués","Madrileña","C",{"$f":"VLOOKUP(G2232,Referencias!$C$4:$D$21,2,FALSE())","v":"Primera Picas"},{"$f":"VLOOKUP(G2232,Referencias!$C$4:$E$21,3,FALSE())","v":1},"1P","Competición",{"$f":"VLOOKUP(C2232,Referencias!$B$24:$C$40,2,FALSE())","v":"M"}]
["2814178","Portillo Rubí, Carlos","Madrileña","D",{"$f":"VLOOKUP(G2233,Referencias!$C$4:$D$21,2,FALSE())","v":"Sin Categoría"},{"$f":"VLOOKUP(G2233,Referencias!$C$4:$E$21,3,FALSE())","v":4},"SC","Competición",{"$f":"VLOOKUP(C2233,Referencias!$B$24:$C$40,2,FALSE())","v":"M"}]
["2814179","Pironti Lubrano, Filippo","Madrileña","C",{"$f":"VLOOKUP(G2234,Referencias!$C$4:$D$21,2,FALSE())","v":"Segunda Diamante"},{"$f":"VLOOKUP(G2234,Referencias!$C$4:$E$21,3,FALSE())","v":2},"2D","Competición",{"$f":"VLOOKUP(C2234,Referencias!$B$24:$C$40,2,FALSE())","v":"M"}]
["2814180","Cuesta Adrados, Isabel","Madrileña","D",{"$f":"VLOOKUP(G2235,Referencias!$C$4:$D$21,2,FALSE())","v":"Tercera Corazón"},{"$f":"VLOOKUP(G2235,Referencias!$C$4:$E$21,3,FALSE())","v":3},"3C","Competición",{"$f":"VLOOKUP(C2235,Referencias!$B$24:$C$40,2,FALSE())","v":"M"}]
["2814184","Oriol Spinola, Borja","Madrileña","C",{"$f":"VLOOKUP(G2236,Referencias!$C$4:$D$21,2,FALSE())","v":"Sin Categoría"},{"$f":"VLOOKUP(G2236,Referencias!$C$4:$E$21,3,FALSE())","v":4},"SC","Competición",{"$f":"VLOOKUP(C2236,Referencias!$B$24:$C$40,2,FALSE())","v":"M"}]
["2814186","Fernández Ongil, Concepción","Madrileña","D",{"$f":"VLOOKUP(G2237,Referencias!$C$4:$D$21,2,FALSE())","v":"Sin Categoría"},{"$f":"VLOOKUP(G2237,Referencias!$C$4:$E$21,3,FALSE())","v":4},"SC","Competición",{"$f":"VLOOKUP(C2237,Referencias!$B$24:$C$40,2,FALSE())","v":"M"}]
["2814187","Mac-Crohon Pellón, Juan José","Madrileña","C",{"$f":"VLOOKUP(G2238,Referencias!$C$4:$D$21,2,FALSE())","v":"Tercera Corazón"},{"$f":"VLOOKUP(G2238,Referencias!$C$4:$E$21,3,FALSE())","v":3},"3C","Competición",{"$f":"VLOOKUP(C2238,Referencias!$B$24:$C$40,2,FALSE())","v":"M"}]
["2814188","Rodríguez Martín, Carmen","Madrileña","D",{"$f":"VLOOKUP(G2239,Referencias!$C$4:$D$21,2,FALSE())","v":"Tercera Diamante"},{"$f":"VLOOKUP(G2239,Referencias!$C$4:$E$21,3,FALSE())","v":3},"3D","Competición",{"$f":"VLOOKUP(C2239,Referencias!$B$24:$C$40,2,FALSE())","v":"M"}]
["2814189","Lobo Rico, Elena","Madrileña","D",{"$f":"VLOOKUP(G2240,Referencias!$C$4:$D$21,2,FALSE())","v":"Tercera Diamante"},{"$f":"VLOOKUP(G2240,Referencias!$C$4:$E$21,3,FALSE())","v":3},"3D","Competición",{"$f":"VLOOKUP(C2240,Referencias!$B$24:$C$40,2,FALSE())","v":"M"}]
["2814190","de la Joya Enríquez, Adela","Madrileña","D",{"$f":"VLOOKUP(G2241,Referencias!$C$4:$D$21,2,FALSE())","v":"Tercera Diamante"},{"$f":"VLOOKUP(G2241,Referencias!$C$4:$E$21,3,FALSE())","v":3},"3D","Competición",{"$f":"VLOOKUP(C2241,Referencias!$B$24:$C$40,2,FALSE())","v":"M"}]
["2814193","Cabanas Ansorena, María Pureza","Madrileña","D",{"$f":"VLOOKUP(G2242,Referencias!$C$4:$D$21,2,FALSE())","v":"Segunda Picas"},{"$f":"VLOOKUP(G2242,Referencias!$C$4:$E$21,3,FALSE())","v":2},"2P","Competición",{"$f":"VLOOKUP(C2242,Referencias!$B$24:$C$40,2,FALSE())","v":"M"}]
["2814194","Navarro Sánchez-Sicilia, Almudena","Madrileña","D",{"$f":"VLOOKUP(G2243,Referencias!$C$4:$D$21,2,FALSE())","v":"Sin Categoría"},{"$f":"VLOOKUP(G2243,Referencias!$C$4:$E$21,3,FALSE())","v":4},"SC","Competición",{"$f":"VLOOKUP(C2243,Referencias!$B$24:$C$40,2,FALSE())","v":"M"}]
["2814195","Mor Mazin, Atara","Madrileña","D",{"$f":"VLOOKUP(G2244,Referencias!$C$4:$D$21,2,FALSE())","v":"Sin Categoría"},{"$f":"VLOOKUP(G2244,Referencias!$C$4:$E$21,3,FALSE())","v":4},"SC","Competición",{"$f":"VLOOKUP(C2244,Referencias!$B$24:$C$40,2,FALSE())","v":"M"}]
["2814199","Sáez-Benito Godino, María Teresa","Madrileña","D",{"$f":"VLOOKUP(G2245,Referencias!$C$4:$D$21,2,FALSE())","v":"Tercera Picas"},{"$f":"VLOOKUP(G2245,Referencias!$C$4:$E$21,3,FALSE())","v":3},"3P","Competición",{"$f":"VLOOKUP(C2245,Referencias!$B$24:$C$40,2,FALSE())","v":"M"}]
["2814200","Herrera Santa María, Fernando","Madrileña","C",{"$f":"VLOOKUP(G2246,Referencias!$C$4:$D$21,2,FALSE())","v":"Sin Categoría"},{"$f":"VLOOKUP(G2246,Referencias!$C$4:$E$21,3,FALSE())","v":4},"SC","Competición",{"$f":"VLOOKUP(C2246,Referencias!$B$24:$C$40,2,FALSE())","v":"M"}]
["2814201","Ibáñez Hernández, Victoria","Madrileña","D",{"$f":"VLOOKUP(G2247,Referencias!$C$4:$D$21,2,FALSE())","v":"Sin Categoría"},{"$f":"VLOOKUP(G2247,Referencias!$C$4:$E$21,3,FALSE())","v":4},"SC","Competición",{"$f":"VLOOKUP(C2247,Referencias!$B$24:$C$40,2,FALSE())","v":"M"}]
["2814202","Gómez Gómez, María Victoria","Madrileña","D",{"$f":"VLOOKUP(G2248,Referencias!$C$4:$D$21,2,FALSE())","v":"Sin Categoría"},{"$f":"VLOOKUP(G2248,Referencias!$C$4:$E$21,3,FALSE())","v":4},"SC","Competición",{"$f":"VLOOKUP(C2248,Referencias!$B$24:$C$40,2,FALSE())","v":"M"}]
["2814203","Carmona Villaverde, Rosario","Madrileña","D",{"$f":"VLOOKUP(G2249,Referencias!$C$4:$D$21,2,FALSE())","v":"Tercera Diamante"},{"$f":"VLOOKUP(G2249,Referencias!$C$4:$E$21,3,FALSE())","v":3},"3D","Competición",{"$f":"VLOOKUP(C2249,Referencias!$B$24:$C$40,2,FALSE())","v":"M"}]
["2814204","Viudes de Carlos, Amparo","Madrileña","D",{"$f":"VLOOKUP(G2250,Referencias!$C$4:$D$21,2,FALSE())","v":"Tercera Diamante"},{"$f":"VLOOKUP(G2250,Referencias!$C$4:$E$21,3,FALSE())","v":3},"3D","Competición",{"$f":"VLOOKUP(C2250,Referencias!$B$24:$C$40,2,FALSE())","v":"M"}]
["2814207","García Martos, Carlos","Madrileña","C",{"$f":"VLOOKUP(G2251,Referencias!$C$4:$D$21,2,FALSE())","v":"Sin Categoría"},{"$f":"VLOOKUP(G2251,Referencias!$C$4:$E$21,3,FALSE())","v":4},"SC","Competición",{"$f":"VLOOKUP(C2251,Referencias!$B$24:$C$40,2,FALSE())","v":"M"}]
["2814208","de Mingo Azcárate, María","Madrileña","D",{"$f":"VLOOKUP(G2252,Referencias!$C$4:$D$21,2,FALSE())","v":"Tercera Diamante"},{"$f":"VLOOKUP(G2252,Referencias!$C$4:$E$21,3,FALSE())","v":3},"3D","Competición",{"$f":"VLOOKUP(C2252,Referencias!$B$24:$C$40,2,FALSE())","v":"M"}]
["2814209","Orozco Ulloa, Cristina","Madrileña","D",{"$f":"VLOOKUP(G2253,Referencias!$C$4:$D$21,2,FALSE())","v":"Tercera Diamante"},{"$f":"VLOOKUP(G2253,Referencias!$C$4:$E$21,3,FALSE())","v":3},"3D","Competición",{"$f":"VLOOKUP(C2253,Referencias!$B$24:$C$40,2,FALSE())","v":"M"}]
["2814210","Garre Murua, Isabel","Madrileña","D",{"$f":"VLOOKUP(G2254,Referencias!$C$4:$D$21,2,FALSE())","v":"Sin Categoría"},{"$f":"VLOOKUP(G2254,Referencias!$C$4:$E$21,3,FALSE())","v":4},"SC","Competición",{"$f":"VLOOKUP(C2254,Referencias!$B$24:$C$40,2,FALSE())","v":"M"}]
["2814212","Gómez Purón, Mercedes","Madrileña","D",{"$f":"VLOOKUP(G2255,Referencias!$C$4:$D$21,2,FALSE())","v":"Tercera Diamante"},{"$f":"VLOOKUP(G2255,Referencias!$C$4:$E$21,3,FALSE())","v":3},"3D","Competición",{"$f":"VLOOKUP(C2255,Referencias!$B$24:$C$40,2,FALSE())","v":"M"}]
["2814214","De Estepa , Marquesa","Madrileña","D",{"$f":"VLOOKUP(G2256,Referencias!$C$4:$D$21,2,FALSE())","v":"Tercera Picas"},{"$f":"VLOOKUP(G2256,Referencias!$C$4:$E$21,3,FALSE())","v":3},"3P","Competición",{"$f":"VLOOKUP(C2256,Referencias!$B$24:$C$40,2,FALSE())","v":"M"}]
["2814215","Salto Sánchez, Conchita","Madrileña","D",{"$f":"VLOOKUP(G2257,Referencias!$C$4:$D$21,2,FALSE())","v":"Tercera Diamante"},{"$f":"VLOOKUP(G2257,Referencias!$C$4:$E$21,3,FALSE())","v":3},"3D","Competición",{"$f":"VLOOKUP(C2257,Referencias!$B$24:$C$40,2,FALSE())","v":"M"}]
["2814216","de Carlos Bertrán, Luis","Madrileña","C",{"$f":"VLOOKUP(G2258,Referencias!$C$4:$D$21,2,FALSE())","v":"Primera Diamante"},{"$f":"VLOOKUP(G2258,Referencias!$C$4:$E$21,3,FALSE())","v":1},"1D","Competición",{"$f":"VLOOKUP(C2258,Referencias!$B$24:$C$40,2,FALSE())","v":"M"}]
["2814218","Grutter Fuchs, Ursula","Madrileña","D",{"$f":"VLOOKUP(G2259,Referencias!$C$4:$D$21,2,FALSE())","v":"Sin Categoría"},{"$f":"VLOOKUP(G2259,Referencias!$C$4:$E$21,3,FALSE())","v":4},"SC","Competición",{"$f":"VLOOKUP(C2259,Referencias!$B$24:$C$40,2,FALSE())","v":"M"}]
["2814222","Rivero Guzmán, Marta","Madrileña","D",{"$f":"VLOOKUP(G2260,Referencias!$C$4:$D$21,2,FALSE())","v":"Tercera Diamante"},{"$f":"VLOOKUP(G2260,Referencias!$C$4:$E$21,3,FALSE())","v":3},"3D","Competición",{"$f":"VLOOKUP(C2260,Referencias!$B$24:$C$40,2,FALSE())","v":"M"}]
["2814226","Jaúdenes Argüelles, Isabel","Madrileña","D",{"$f":"VLOOKUP(G2261,Referencias!$C$4:$D$21,2,FALSE())","v":"Sin Categoría"},{"$f":"VLOOKUP(G2261,Referencias!$C$4:$E$21,3,FALSE())","v":4},"SC","Competición",{"$f":"VLOOKUP(C2261,Referencias!$B$24:$C$40,2,FALSE())","v":"M"}]
["2814227","Balaguer López, Teresa","Madrileña","D",{"$f":"VLOOKUP(G2262,Referencias!$C$4:$D$21,2,FALSE())","v":"Sin Categoría"},{"$f":"VLOOKUP(G2262,Referencias!$C$4:$E$21,3,FALSE())","v":4},"SC","Competición",{"$f":"VLOOKUP(C2262,Referencias!$B$24:$C$40,2,FALSE())","v":"M"}]
["2814228","Núñez de Villavicencio de Soto, Cristina","Madrileña","D",{"$f":"VLOOKUP(G2263,Referencias!$C$4:$D$21,2,FALSE())","v":"Sin Categoría"},{"$f":"VLOOKUP(G2263,Referencias!$C$4:$E$21,3,FALSE())","v":4},"SC","Competición",{"$f":"VLOOKUP(C2263,Referencias!$B$24:$C$40,2,FALSE())","v":"M"}]
["2814230","López Peña, María Luisa","Madrileña","D",{"$f":"VLOOKUP(G2264,Referencias!$C$4:$D$21,2,FALSE())","v":"Tercera Diamante"},{"$f":"VLOOKUP(G2264,Referencias!$C$4:$E$21,3,FALSE())","v":3},"3D","Competición",{"$f":"VLOOKUP(C2264,Referencias!$B$24:$C$40,2,FALSE())","v":"M"}]
["2814232","Martínez Mena, María del Carmen","Madrileña","D",{"$f":"VLOOKUP(G2265,Referencias!$C$4:$D$21,2,FALSE())","v":"Tercera Diamante"},{"$f":"VLOOKUP(G2265,Referencias!$C$4:$E$21,3,FALSE())","v":3},"3D","Competición",{"$f":"VLOOKUP(C2265,Referencias!$B$24:$C$40,2,FALSE())","v":"M"}]
["2814234","Díaz-Agero De Pineda, Feliciana","Madrileña","D",{"$f":"VLOOKUP(G2266,Referencias!$C$4:$D$21,2,FALSE())","v":"Sin Categoría"},{"$f":"VLOOKUP(G2266,Referencias!$C$4:$E$21,3,FALSE())","v":4},"SC","Competición",{"$f":"VLOOKUP(C2266,Referencias!$B$24:$C$40,2,FALSE())","v":"M"}]
["2814235","Sepúlveda Martín, María Ángeles","Madrileña","D",{"$f":"VLOOKUP(G2267,Referencias!$C$4:$D$21,2,FALSE())","v":"Segunda Picas"},{"$f":"VLOOKUP(G2267,Referencias!$C$4:$E$21,3,FALSE())","v":2},"2P","Competición",{"$f":"VLOOKUP(C2267,Referencias!$B$24:$C$40,2,FALSE())","v":"M"}]
["2814236","Sevillano García, Carlos","Madrileña","C",{"$f":"VLOOKUP(G2268,Referencias!$C$4:$D$21,2,FALSE())","v":"Segunda Corazón"},{"$f":"VLOOKUP(G2268,Referencias!$C$4:$E$21,3,FALSE())","v":2},"2C","Competición",{"$f":"VLOOKUP(C2268,Referencias!$B$24:$C$40,2,FALSE())","v":"M"}]
["2814237","Toscano Cleva, María Josefa","Madrileña","D",{"$f":"VLOOKUP(G2269,Referencias!$C$4:$D$21,2,FALSE())","v":"Segunda Diamante"},{"$f":"VLOOKUP(G2269,Referencias!$C$4:$E$21,3,FALSE())","v":2},"2D","Honorífica",{"$f":"VLOOKUP(C2269,Referencias!$B$24:$C$40,2,FALSE())","v":"M"}]
["2814238","Lucerga Revuelta, Teresa","Madrileña","D",{"$f":"VLOOKUP(G2270,Referencias!$C$4:$D$21,2,FALSE())","v":"Tercera Diamante"},{"$f":"VLOOKUP(G2270,Referencias!$C$4:$E$21,3,FALSE())","v":3},"3D","Competición",{"$f":"VLOOKUP(C2270,Referencias!$B$24:$C$40,2,FALSE())","v":"M"}]
["2814239","Dolz de Espejo Arróspide, Isabel","Madrileña","D",{"$f":"VLOOKUP(G2271,Referencias!$C$4:$D$21,2,FALSE())","v":"Sin Categoría"},{"$f":"VLOOKUP(G2271,Referencias!$C$4:$E$21,3,FALSE())","v":4},"SC","Competición",{"$f":"VLOOKUP(C2271,Referencias!$B$24:$C$40,2,FALSE())","v":"M"}]
["2814240","Martiarena Aguilar, Eduardo","Madrileña","C",{"$f":"VLOOKUP(G2272,Referencias!$C$4:$D$21,2,FALSE())","v":"Sin Categoría"},{"$f":"VLOOKUP(G2272,Referencias!$C$4:$E$21,3,FALSE())","v":4},"SC","Competición",{"$f":"VLOOKUP(C2272,Referencias!$B$24:$C$40,2,FALSE())","v":"M"}]
["2814242","Morenes Giles, Carmen","Madrileña","D",{"$f":"VLOOKUP(G2273,Referencias!$C$4:$D$21,2,FALSE())","v":"Sin Categoría"},{"$f":"VLOOKUP(G2273,Referencias!$C$4:$E$21,3,FALSE())","v":4},"SC","Competición",{"$f":"VLOOKUP(C2273,Referencias!$B$24:$C$40,2,FALSE())","v":"M"}]
["2814244","Entrena Grijalba, Marimi","Madrileña","D",{"$f":"VLOOKUP(G2274,Referencias!$C$4:$D$21,2,FALSE())","v":"Sin Categoría"},{"$f":"VLOOKUP(G2274,Referencias!$C$4:$E$21,3,FALSE())","v":4},"SC","Competición",{"$f":"VLOOKUP(C2274,Referencias!$B$24:$C$40,2,FALSE())","v":"M"}]
["2814245","Rubio González, Rafael","Madrileña","C",{"$f":"VLOOKUP(G2275,Referencias!$C$4:$D$21,2,FALSE())","v":"Sin Categoría"},{"$f":"VLOOKUP(G2275,Referencias!$C$4:$E$21,3,FALSE())","v":4},"SC","Competición",{"$f":"VLOOKUP(C2275,Referencias!$B$24:$C$40,2,FALSE())","v":"M"}]
["2814247","Fernández de Soignie Lelaboureur, Ana","Madrileña","D",{"$f":"VLOOKUP(G2276,Referencias!$C$4:$D$21,2,FALSE())","v":"Sin Categoría"},{"$f":"VLOOKUP(G2276,Referencias!$C$4:$E$21,3,FALSE())","v":4},"SC","Competición",{"$f":"VLOOKUP(C2276,Referencias!$B$24:$C$40,2,FALSE())","v":"M"}]
["2814248","Suárez-Inclán Martínez, Ramón","Madrileña","C",{"$f":"VLOOKUP(G2277,Referencias!$C$4:$D$21,2,FALSE())","v":"Sin Categoría"},{"$f":"VLOOKUP(G2277,Referencias!$C$4:$E$21,3,FALSE())","v":4},"SC","Competición",{"$f":"VLOOKUP(C2277,Referencias!$B$24:$C$40,2,FALSE())","v":"M"}]
["2814249","Escribano Nicolás, Carlota","Madrileña","D",{"$f":"VLOOKUP(G2278,Referencias!$C$4:$D$21,2,FALSE())","v":"Sin Categoría"},{"$f":"VLOOKUP(G2278,Referencias!$C$4:$E$21,3,FALSE())","v":4},"SC","Competición",{"$f":"VLOOKUP(C2278,Referencias!$B$24:$C$40,2,FALSE())","v":"M"}]
["2814251","de Alós Balderrabano, Carmen","Madrileña","D",{"$f":"VLOOKUP(G2279,Referencias!$C$4:$D$21,2,FALSE())","v":"Sin Categoría"},{"$f":"VLOOKUP(G2279,Referencias!$C$4:$E$21,3,FALSE())","v":4},"SC","Competición",{"$f":"VLOOKUP(C2279,Referencias!$B$24:$C$40,2,FALSE())","v":"M"}]
["2814252","Rodríguez Inciarte, Juan","Madrileña","C",{"$f":"VLOOKUP(G2280,Referencias!$C$4:$D$21,2,FALSE())","v":"Sin Categoría"},{"$f":"VLOOKUP(G2280,Referencias!$C$4:$E$21,3,FALSE())","v":4},"SC","Competición",{"$f":"VLOOKUP(C2280,Referencias!$B$24:$C$40,2,FALSE())","v":"M"}]
["2814254","Solaz García, Juan","Madrileña","C",{"$f":"VLOOKUP(G2281,Referencias!$C$4:$D$21,2,FALSE())","v":"Tercera Picas"},{"$f":"VLOOKUP(G2281,Referencias!$C$4:$E$21,3,FALSE())","v":3},"3P","Competición",{"$f":"VLOOKUP(C2281,Referencias!$B$24:$C$40,2,FALSE())","v":"M"}]
["2814255","Delage Comella, Javier","Madrileña","C",{"$f":"VLOOKUP(G2282,Referencias!$C$4:$D$21,2,FALSE())","v":"Segunda Diamante"},{"$f":"VLOOKUP(G2282,Referencias!$C$4:$E$21,3,FALSE())","v":2},"2D","Competición",{"$f":"VLOOKUP(C2282,Referencias!$B$24:$C$40,2,FALSE())","v":"M"}]
["2814257","Guardo Santamaría, María Jesús","Madrileña","D",{"$f":"VLOOKUP(G2283,Referencias!$C$4:$D$21,2,FALSE())","v":"Sin Categoría"},{"$f":"VLOOKUP(G2283,Referencias!$C$4:$E$21,3,FALSE())","v":4},"SC","Competición",{"$f":"VLOOKUP(C2283,Referencias!$B$24:$C$40,2,FALSE())","v":"M"}]
["2814262","Colás de Casso, Carmen","Madrileña","D",{"$f":"VLOOKUP(G2284,Referencias!$C$4:$D$21,2,FALSE())","v":"Sin Categoría"},{"$f":"VLOOKUP(G2284,Referencias!$C$4:$E$21,3,FALSE())","v":4},"SC","Competición",{"$f":"VLOOKUP(C2284,Referencias!$B$24:$C$40,2,FALSE())","v":"M"}]
["2814266","de Cardona, Duquesa ","Madrileña","D",{"$f":"VLOOKUP(G2285,Referencias!$C$4:$D$21,2,FALSE())","v":"Primera Picas"},{"$f":"VLOOKUP(G2285,Referencias!$C$4:$E$21,3,FALSE())","v":1},"1P","Competición",{"$f":"VLOOKUP(C2285,Referencias!$B$24:$C$40,2,FALSE())","v":"M"}]
["2814275","Calderón Bastos, María Teresa","Madrileña","D",{"$f":"VLOOKUP(G2286,Referencias!$C$4:$D$21,2,FALSE())","v":"Sin Categoría"},{"$f":"VLOOKUP(G2286,Referencias!$C$4:$E$21,3,FALSE())","v":4},"SC","Competición",{"$f":"VLOOKUP(C2286,Referencias!$B$24:$C$40,2,FALSE())","v":"M"}]
["2814276","García Ramal López de Haro, María del Carmen","Madrileña","D",{"$f":"VLOOKUP(G2287,Referencias!$C$4:$D$21,2,FALSE())","v":"Tercera Corazón"},{"$f":"VLOOKUP(G2287,Referencias!$C$4:$E$21,3,FALSE())","v":3},"3C","Competición",{"$f":"VLOOKUP(C2287,Referencias!$B$24:$C$40,2,FALSE())","v":"M"}]
["2814278","Larriu Azpilicueta, Sylvia","Madrileña","C",{"$f":"VLOOKUP(G2288,Referencias!$C$4:$D$21,2,FALSE())","v":"Sin Categoría"},{"$f":"VLOOKUP(G2288,Referencias!$C$4:$E$21,3,FALSE())","v":4},"SC","Competición",{"$f":"VLOOKUP(C2288,Referencias!$B$24:$C$40,2,FALSE())","v":"M"}]
["2814280","Rodríguez Inciarte, Marta","Madrileña","D",{"$f":"VLOOKUP(G2289,Referencias!$C$4:$D$21,2,FALSE())","v":"Tercera Corazón"},{"$f":"VLOOKUP(G2289,Referencias!$C$4:$E$21,3,FALSE())","v":3},"3C","Competición",{"$f":"VLOOKUP(C2289,Referencias!$B$24:$C$40,2,FALSE())","v":"M"}]
["2814281","Moreno Martínez, Maria Luisa","Madrileña","D",{"$f":"VLOOKUP(G2290,Referencias!$C$4:$D$21,2,FALSE())","v":"Tercera Diamante"},{"$f":"VLOOKUP(G2290,Referencias!$C$4:$E$21,3,FALSE())","v":3},"3D","Competición",{"$f":"VLOOKUP(C2290,Referencias!$B$24:$C$40,2,FALSE())","v":"M"}]
["2814283","Moliner Carbó, Gema","Madrileña","D",{"$f":"VLOOKUP(G2291,Referencias!$C$4:$D$21,2,FALSE())","v":"Sin Categoría"},{"$f":"VLOOKUP(G2291,Referencias!$C$4:$E$21,3,FALSE())","v":4},"SC","Competición",{"$f":"VLOOKUP(C2291,Referencias!$B$24:$C$40,2,FALSE())","v":"M"}]
["2814284","Rozpide Orbegozo, Carmen","Madrileña","D",{"$f":"VLOOKUP(G2292,Referencias!$C$4:$D$21,2,FALSE())","v":"Tercera Corazón"},{"$f":"VLOOKUP(G2292,Referencias!$C$4:$E$21,3,FALSE())","v":3},"3C","Competición",{"$f":"VLOOKUP(C2292,Referencias!$B$24:$C$40,2,FALSE())","v":"M"}]
["2814286","Sánchez Ortega, Pedro","Madrileña","C",{"$f":"VLOOKUP(G2293,Referencias!$C$4:$D$21,2,FALSE())","v":"Sin Categoría"},{"$f":"VLOOKUP(G2293,Referencias!$C$4:$E$21,3,FALSE())","v":4},"SC","Competición",{"$f":"VLOOKUP(C2293,Referencias!$B$24:$C$40,2,FALSE())","v":"M"}]
["2814291","Aerny Perreten, Nicole","Madrileña","C",{"$f":"VLOOKUP(G2294,Referencias!$C$4:$D$21,2,FALSE())","v":"Tercera Diamante"},{"$f":"VLOOKUP(G2294,Referencias!$C$4:$E$21,3,FALSE())","v":3},"3D","Competición",{"$f":"VLOOKUP(C2294,Referencias!$B$24:$C$40,2,FALSE())","v":"M"}]
["2814292","Bueno Martín, Eugenio","Madrileña","C",{"$f":"VLOOKUP(G2295,Referencias!$C$4:$D$21,2,FALSE())","v":"Tercera Diamante"},{"$f":"VLOOKUP(G2295,Referencias!$C$4:$E$21,3,FALSE())","v":3},"3D","Competición",{"$f":"VLOOKUP(C2295,Referencias!$B$24:$C$40,2,FALSE())","v":"M"}]
["2814293","García Zurdo, José","Madrileña","C",{"$f":"VLOOKUP(G2296,Referencias!$C$4:$D$21,2,FALSE())","v":"Tercera Diamante"},{"$f":"VLOOKUP(G2296,Referencias!$C$4:$E$21,3,FALSE())","v":3},"3D","Competición",{"$f":"VLOOKUP(C2296,Referencias!$B$24:$C$40,2,FALSE())","v":"M"}]
["2814299","Fernández de Mesa Temboury, Cristina","Madrileña","D",{"$f":"VLOOKUP(G2297,Referencias!$C$4:$D$21,2,FALSE())","v":"Segunda Picas"},{"$f":"VLOOKUP(G2297,Referencias!$C$4:$E$21,3,FALSE())","v":2},"2P","Competición",{"$f":"VLOOKUP(C2297,Referencias!$B$24:$C$40,2,FALSE())","v":"M"}]
["2814304","Armijo Torres, Marta","Madrileña","D",{"$f":"VLOOKUP(G2298,Referencias!$C$4:$D$21,2,FALSE())","v":"Segunda Picas"},{"$f":"VLOOKUP(G2298,Referencias!$C$4:$E$21,3,FALSE())","v":2},"2P","Competición",{"$f":"VLOOKUP(C2298,Referencias!$B$24:$C$40,2,FALSE())","v":"M"}]
["2814306","Llorente Navarro, Olga","C. Valenciana","D",{"$f":"VLOOKUP(G2299,Referencias!$C$4:$D$21,2,FALSE())","v":"Sin Categoría"},{"$f":"VLOOKUP(G2299,Referencias!$C$4:$E$21,3,FALSE())","v":4},"SC","Competición",{"$f":"VLOOKUP(C2299,Referencias!$B$24:$C$40,2,FALSE())","v":"V"}]
["2814309","Serra López de Chicheri, María Dolores","Madrileña","D",{"$f":"VLOOKUP(G2300,Referencias!$C$4:$D$21,2,FALSE())","v":"Segunda Diamante"},{"$f":"VLOOKUP(G2300,Referencias!$C$4:$E$21,3,FALSE())","v":2},"2D","Competición",{"$f":"VLOOKUP(C2300,Referencias!$B$24:$C$40,2,FALSE())","v":"M"}]
["2814312","Muñoz Noguera, Carmen","Madrileña","D",{"$f":"VLOOKUP(G2301,Referencias!$C$4:$D$21,2,FALSE())","v":"Sin Categoría"},{"$f":"VLOOKUP(G2301,Referencias!$C$4:$E$21,3,FALSE())","v":4},"SC","Competición",{"$f":"VLOOKUP(C2301,Referencias!$B$24:$C$40,2,FALSE())","v":"M"}]
["2814313","Benito Bardot, Isabel","Madrileña","D",{"$f":"VLOOKUP(G2302,Referencias!$C$4:$D$21,2,FALSE())","v":"Sin Categoría"},{"$f":"VLOOKUP(G2302,Referencias!$C$4:$E$21,3,FALSE())","v":4},"SC","Competición",{"$f":"VLOOKUP(C2302,Referencias!$B$24:$C$40,2,FALSE())","v":"M"}]
["2814317","Lozano García, Francisco","Madrileña","C",{"$f":"VLOOKUP(G2303,Referencias!$C$4:$D$21,2,FALSE())","v":"Segunda Diamante"},{"$f":"VLOOKUP(G2303,Referencias!$C$4:$E$21,3,FALSE())","v":2},"2D","Competición",{"$f":"VLOOKUP(C2303,Referencias!$B$24:$C$40,2,FALSE())","v":"M"}]
["2814329","Figueroa Arevalo, Marta","Madrileña","D",{"$f":"VLOOKUP(G2304,Referencias!$C$4:$D$21,2,FALSE())","v":"Tercera Corazón"},{"$f":"VLOOKUP(G2304,Referencias!$C$4:$E$21,3,FALSE())","v":3},"3C","Competición",{"$f":"VLOOKUP(C2304,Referencias!$B$24:$C$40,2,FALSE())","v":"M"}]
["2814330","Aguirrebengoa Garay, Myriam","Madrileña","D",{"$f":"VLOOKUP(G2305,Referencias!$C$4:$D$21,2,FALSE())","v":"Tercera Picas"},{"$f":"VLOOKUP(G2305,Referencias!$C$4:$E$21,3,FALSE())","v":3},"3P","Competición",{"$f":"VLOOKUP(C2305,Referencias!$B$24:$C$40,2,FALSE())","v":"M"}]
["2814331","Vázquez Salinero, Cristina","Madrileña","D",{"$f":"VLOOKUP(G2306,Referencias!$C$4:$D$21,2,FALSE())","v":"Sin Categoría"},{"$f":"VLOOKUP(G2306,Referencias!$C$4:$E$21,3,FALSE())","v":4},"SC","Competición",{"$f":"VLOOKUP(C2306,Referencias!$B$24:$C$40,2,FALSE())","v":"M"}]
["2814336","Santolalla Fernández de Bobadilla, Victoria","Madrileña","D",{"$f":"VLOOKUP(G2307,Referencias!$C$4:$D$21,2,FALSE())","v":"Sin Categoría"},{"$f":"VLOOKUP(G2307,Referencias!$C$4:$E$21,3,FALSE())","v":4},"SC","Competición",{"$f":"VLOOKUP(C2307,Referencias!$B$24:$C$40,2,FALSE())","v":"M"}]
["2814338","de Villemandy de la Mesniere, Patrick","Madrileña","C",{"$f":"VLOOKUP(G2308,Referencias!$C$4:$D$21,2,FALSE())","v":"Tercera Diamante"},{"$f":"VLOOKUP(G2308,Referencias!$C$4:$E$21,3,FALSE())","v":3},"3D","Competición",{"$f":"VLOOKUP(C2308,Referencias!$B$24:$C$40,2,FALSE())","v":"M"}]
["2814340","Juarranz de la Fuente, Corona","Madrileña","D",{"$f":"VLOOKUP(G2309,Referencias!$C$4:$D$21,2,FALSE())","v":"Sin Categoría"},{"$f":"VLOOKUP(G2309,Referencias!$C$4:$E$21,3,FALSE())","v":4},"SC","Competición",{"$f":"VLOOKUP(C2309,Referencias!$B$24:$C$40,2,FALSE())","v":"M"}]
["2814341","García Nuñez, María Luisa","Madrileña","D",{"$f":"VLOOKUP(G2310,Referencias!$C$4:$D$21,2,FALSE())","v":"Sin Categoría"},{"$f":"VLOOKUP(G2310,Referencias!$C$4:$E$21,3,FALSE())","v":4},"SC","Competición",{"$f":"VLOOKUP(C2310,Referencias!$B$24:$C$40,2,FALSE())","v":"M"}]
["2814342","García Muñoz, Jose María","Madrileña","C",{"$f":"VLOOKUP(G2311,Referencias!$C$4:$D$21,2,FALSE())","v":"Tercera Diamante"},{"$f":"VLOOKUP(G2311,Referencias!$C$4:$E$21,3,FALSE())","v":3},"3D","Competición",{"$f":"VLOOKUP(C2311,Referencias!$B$24:$C$40,2,FALSE())","v":"M"}]
["2814343","Villagrá Blanco, María Pilar","Madrileña","D",{"$f":"VLOOKUP(G2312,Referencias!$C$4:$D$21,2,FALSE())","v":"Tercera Diamante"},{"$f":"VLOOKUP(G2312,Referencias!$C$4:$E$21,3,FALSE())","v":3},"3D","Competición",{"$f":"VLOOKUP(C2312,Referencias!$B$24:$C$40,2,FALSE())","v":"M"}]
["2814346","Rubio Gónzalez, Regina","Madrileña","D",{"$f":"VLOOKUP(G2313,Referencias!$C$4:$D$21,2,FALSE())","v":"Sin Categoría"},{"$f":"VLOOKUP(G2313,Referencias!$C$4:$E$21,3,FALSE())","v":4},"SC","Competición",{"$f":"VLOOKUP(C2313,Referencias!$B$24:$C$40,2,FALSE())","v":"M"}]
["2814348","Livianos Martín, Teresa","Madrileña","D",{"$f":"VLOOKUP(G2314,Referencias!$C$4:$D$21,2,FALSE())","v":"Tercera Diamante"},{"$f":"VLOOKUP(G2314,Referencias!$C$4:$E$21,3,FALSE())","v":3},"3D","Competición",{"$f":"VLOOKUP(C2314,Referencias!$B$24:$C$40,2,FALSE())","v":"M"}]
["2814349","Gímenez Días-Oyelos, Concepción","Madrileña","D",{"$f":"VLOOKUP(G2315,Referencias!$C$4:$D$21,2,FALSE())","v":"Tercera Diamante"},{"$f":"VLOOKUP(G2315,Referencias!$C$4:$E$21,3,FALSE())","v":3},"3D","Competición",{"$f":"VLOOKUP(C2315,Referencias!$B$24:$C$40,2,FALSE())","v":"M"}]
["2814350","Carceller Carceller, Patrocinio","Madrileña","D",{"$f":"VLOOKUP(G2316,Referencias!$C$4:$D$21,2,FALSE())","v":"Tercera Diamante"},{"$f":"VLOOKUP(G2316,Referencias!$C$4:$E$21,3,FALSE())","v":3},"3D","Competición",{"$f":"VLOOKUP(C2316,Referencias!$B$24:$C$40,2,FALSE())","v":"M"}]
["2814351","de Orueta Pemartín, María","Madrileña","D",{"$f":"VLOOKUP(G2317,Referencias!$C$4:$D$21,2,FALSE())","v":"Tercera Picas"},{"$f":"VLOOKUP(G2317,Referencias!$C$4:$E$21,3,FALSE())","v":3},"3P","Competición",{"$f":"VLOOKUP(C2317,Referencias!$B$24:$C$40,2,FALSE())","v":"M"}]
["2814352","Tinao Toledano, Sylvia","Madrileña","D",{"$f":"VLOOKUP(G2318,Referencias!$C$4:$D$21,2,FALSE())","v":"Tercera Corazón"},{"$f":"VLOOKUP(G2318,Referencias!$C$4:$E$21,3,FALSE())","v":3},"3C","Competición",{"$f":"VLOOKUP(C2318,Referencias!$B$24:$C$40,2,FALSE())","v":"M"}]
["2814353","Jaúdenes Argüelles, Rosa María","Madrileña","D",{"$f":"VLOOKUP(G2319,Referencias!$C$4:$D$21,2,FALSE())","v":"Tercera Corazón"},{"$f":"VLOOKUP(G2319,Referencias!$C$4:$E$21,3,FALSE())","v":3},"3C","Competición",{"$f":"VLOOKUP(C2319,Referencias!$B$24:$C$40,2,FALSE())","v":"M"}]
["2814354","Fernández Durán, Reyes","Madrileña","D",{"$f":"VLOOKUP(G2320,Referencias!$C$4:$D$21,2,FALSE())","v":"Sin Categoría"},{"$f":"VLOOKUP(G2320,Referencias!$C$4:$E$21,3,FALSE())","v":4},"SC","Competición",{"$f":"VLOOKUP(C2320,Referencias!$B$24:$C$40,2,FALSE())","v":"M"}]
["2814355","Salcedo, Jose María","Madrileña","C",{"$f":"VLOOKUP(G2321,Referencias!$C$4:$D$21,2,FALSE())","v":"Sin Categoría"},{"$f":"VLOOKUP(G2321,Referencias!$C$4:$E$21,3,FALSE())","v":4},"SC","Competición",{"$f":"VLOOKUP(C2321,Referencias!$B$24:$C$40,2,FALSE())","v":"M"}]
["2814356","Merino Enseñat, Maria Luisa","Madrileña","D",{"$f":"VLOOKUP(G2322,Referencias!$C$4:$D$21,2,FALSE())","v":"Sin Categoría"},{"$f":"VLOOKUP(G2322,Referencias!$C$4:$E$21,3,FALSE())","v":4},"SC","Competición",{"$f":"VLOOKUP(C2322,Referencias!$B$24:$C$40,2,FALSE())","v":"M"}]
["2814357","Enciso Bergé, Ramón","Madrileña","C",{"$f":"VLOOKUP(G2323,Referencias!$C$4:$D$21,2,FALSE())","v":"Sin Categoría"},{"$f":"VLOOKUP(G2323,Referencias!$C$4:$E$21,3,FALSE())","v":4},"SC","Competición",{"$f":"VLOOKUP(C2323,Referencias!$B$24:$C$40,2,FALSE())","v":"M"}]
["2814358","Blanco García, María Eugenia","Madrileña","D",{"$f":"VLOOKUP(G2324,Referencias!$C$4:$D$21,2,FALSE())","v":"Tercera Diamante"},{"$f":"VLOOKUP(G2324,Referencias!$C$4:$E$21,3,FALSE())","v":3},"3D","Competición",{"$f":"VLOOKUP(C2324,Referencias!$B$24:$C$40,2,FALSE())","v":"M"}]
["2814359","Soria Vidal, Ignacio","Madrileña","C",{"$f":"VLOOKUP(G2325,Referencias!$C$4:$D$21,2,FALSE())","v":"Tercera Picas"},{"$f":"VLOOKUP(G2325,Referencias!$C$4:$E$21,3,FALSE())","v":3},"3P","Competición",{"$f":"VLOOKUP(C2325,Referencias!$B$24:$C$40,2,FALSE())","v":"M"}]
["2814361","García Lantero, Carmen Dolores","Madrileña","D",{"$f":"VLOOKUP(G2326,Referencias!$C$4:$D$21,2,FALSE())","v":"Sin Categoría"},{"$f":"VLOOKUP(G2326,Referencias!$C$4:$E$21,3,FALSE())","v":4},"SC","Competición",{"$f":"VLOOKUP(C2326,Referencias!$B$24:$C$40,2,FALSE())","v":"M"}]
["2814362","Richi Alberti, Manuel","Madrileña","C",{"$f":"VLOOKUP(G2327,Referencias!$C$4:$D$21,2,FALSE())","v":"Sin Categoría"},{"$f":"VLOOKUP(G2327,Referencias!$C$4:$E$21,3,FALSE())","v":4},"SC","Competición",{"$f":"VLOOKUP(C2327,Referencias!$B$24:$C$40,2,FALSE())","v":"M"}]
["2814363","Junco Aguado, Mercedes","Madrileña","D",{"$f":"VLOOKUP(G2328,Referencias!$C$4:$D$21,2,FALSE())","v":"Sin Categoría"},{"$f":"VLOOKUP(G2328,Referencias!$C$4:$E$21,3,FALSE())","v":4},"SC","Competición",{"$f":"VLOOKUP(C2328,Referencias!$B$24:$C$40,2,FALSE())","v":"M"}]
["2814364","Riera de Prada, Javier","Madrileña","C",{"$f":"VLOOKUP(G2329,Referencias!$C$4:$D$21,2,FALSE())","v":"Sin Categoría"},{"$f":"VLOOKUP(G2329,Referencias!$C$4:$E$21,3,FALSE())","v":4},"SC","Competición",{"$f":"VLOOKUP(C2329,Referencias!$B$24:$C$40,2,FALSE())","v":"M"}]
["2814365","Gubianes Pol, Isabel","Madrileña","D",{"$f":"VLOOKUP(G2330,Referencias!$C$4:$D$21,2,FALSE())","v":"Tercera Corazón"},{"$f":"VLOOKUP(G2330,Referencias!$C$4:$E$21,3,FALSE())","v":3},"3C","Competición",{"$f":"VLOOKUP(C2330,Referencias!$B$24:$C$40,2,FALSE())","v":"M"}]
["2814366","Vázquez de la Cueva, José Manuel","Madrileña","C",{"$f":"VLOOKUP(G2331,Referencias!$C$4:$D$21,2,FALSE())","v":"Tercera Diamante"},{"$f":"VLOOKUP(G2331,Referencias!$C$4:$E$21,3,FALSE())","v":3},"3D","Competición",{"$f":"VLOOKUP(C2331,Referencias!$B$24:$C$40,2,FALSE())","v":"M"}]
["2814368","Vivas López, Santiago","Madrileña","C",{"$f":"VLOOKUP(G2332,Referencias!$C$4:$D$21,2,FALSE())","v":"Sin Categoría"},{"$f":"VLOOKUP(G2332,Referencias!$C$4:$E$21,3,FALSE())","v":4},"SC","Competición",{"$f":"VLOOKUP(C2332,Referencias!$B$24:$C$40,2,FALSE())","v":"M"}]
["2814369","Hinojosa Fernández de Angulo, Carmen","Madrileña","D",{"$f":"VLOOKUP(G2333,Referencias!$C$4:$D$21,2,FALSE())","v":"Segunda Diamante"},{"$f":"VLOOKUP(G2333,Referencias!$C$4:$E$21,3,FALSE())","v":2},"2D","Competición",{"$f":"VLOOKUP(C2333,Referencias!$B$24:$C$40,2,FALSE())","v":"M"}]
["2814375","Castells Cuadrillero, Álvaro","Madrileña","C",{"$f":"VLOOKUP(G2334,Referencias!$C$4:$D$21,2,FALSE())","v":"Primera Picas"},{"$f":"VLOOKUP(G2334,Referencias!$C$4:$E$21,3,FALSE())","v":1},"1P","Competición",{"$f":"VLOOKUP(C2334,Referencias!$B$24:$C$40,2,FALSE())","v":"M"}]
["2814376","Rodulfo Puy, Pablo","Madrileña","C",{"$f":"VLOOKUP(G2335,Referencias!$C$4:$D$21,2,FALSE())","v":"Sin Categoría"},{"$f":"VLOOKUP(G2335,Referencias!$C$4:$E$21,3,FALSE())","v":4},"SC","Competición",{"$f":"VLOOKUP(C2335,Referencias!$B$24:$C$40,2,FALSE())","v":"M"}]
["2814378","Laiglesia Nieto, Pilar","Madrileña","D",{"$f":"VLOOKUP(G2336,Referencias!$C$4:$D$21,2,FALSE())","v":"Tercera Diamante"},{"$f":"VLOOKUP(G2336,Referencias!$C$4:$E$21,3,FALSE())","v":3},"3D","Competición",{"$f":"VLOOKUP(C2336,Referencias!$B$24:$C$40,2,FALSE())","v":"M"}]
["2814379","Orbegozo Laborde, Elena","Vasca","D",{"$f":"VLOOKUP(G2337,Referencias!$C$4:$D$21,2,FALSE())","v":"Segunda Corazón"},{"$f":"VLOOKUP(G2337,Referencias!$C$4:$E$21,3,FALSE())","v":2},"2C","Competición",{"$f":"VLOOKUP(C2337,Referencias!$B$24:$C$40,2,FALSE())","v":"PV"}]
["2814380","Gutiérrez Sánchez, Amparo","Madrileña","D",{"$f":"VLOOKUP(G2338,Referencias!$C$4:$D$21,2,FALSE())","v":"Tercera Corazón"},{"$f":"VLOOKUP(G2338,Referencias!$C$4:$E$21,3,FALSE())","v":3},"3C","Competición",{"$f":"VLOOKUP(C2338,Referencias!$B$24:$C$40,2,FALSE())","v":"M"}]
["2814382","Soroa Gutiérrez, José Manuel","Madrileña","C",{"$f":"VLOOKUP(G2339,Referencias!$C$4:$D$21,2,FALSE())","v":"Segunda Diamante"},{"$f":"VLOOKUP(G2339,Referencias!$C$4:$E$21,3,FALSE())","v":2},"2D","Competición",{"$f":"VLOOKUP(C2339,Referencias!$B$24:$C$40,2,FALSE())","v":"M"}]
["2814383","de Van Hofwegen, Myrna Lauw","Madrileña","D",{"$f":"VLOOKUP(G2340,Referencias!$C$4:$D$21,2,FALSE())","v":"Sin Categoría"},{"$f":"VLOOKUP(G2340,Referencias!$C$4:$E$21,3,FALSE())","v":4},"SC","Competición",{"$f":"VLOOKUP(C2340,Referencias!$B$24:$C$40,2,FALSE())","v":"M"}]
["2814384","Méndez Férnandez, Carmen","Madrileña","D",{"$f":"VLOOKUP(G2341,Referencias!$C$4:$D$21,2,FALSE())","v":"Segunda Corazón"},{"$f":"VLOOKUP(G2341,Referencias!$C$4:$E$21,3,FALSE())","v":2},"2C","Competición",{"$f":"VLOOKUP(C2341,Referencias!$B$24:$C$40,2,FALSE())","v":"M"}]
["2814385","Castro Martínez, Carmen","Madrileña","D",{"$f":"VLOOKUP(G2342,Referencias!$C$4:$D$21,2,FALSE())","v":"Tercera Diamante"},{"$f":"VLOOKUP(G2342,Referencias!$C$4:$E$21,3,FALSE())","v":3},"3D","Competición",{"$f":"VLOOKUP(C2342,Referencias!$B$24:$C$40,2,FALSE())","v":"M"}]
["2814386","Luque Hernández, Aída","Madrileña","D",{"$f":"VLOOKUP(G2343,Referencias!$C$4:$D$21,2,FALSE())","v":"Segunda Diamante"},{"$f":"VLOOKUP(G2343,Referencias!$C$4:$E$21,3,FALSE())","v":2},"2D","Competición",{"$f":"VLOOKUP(C2343,Referencias!$B$24:$C$40,2,FALSE())","v":"M"}]
["2814388","Beltrán Garay, María","Madrileña","D",{"$f":"VLOOKUP(G2344,Referencias!$C$4:$D$21,2,FALSE())","v":"Primera Diamante"},{"$f":"VLOOKUP(G2344,Referencias!$C$4:$E$21,3,FALSE())","v":1},"1D","Competición",{"$f":"VLOOKUP(C2344,Referencias!$B$24:$C$40,2,FALSE())","v":"M"}]
["2814391","Martín Romero, Eva","Madrileña","D",{"$f":"VLOOKUP(G2345,Referencias!$C$4:$D$21,2,FALSE())","v":"Sin Categoría"},{"$f":"VLOOKUP(G2345,Referencias!$C$4:$E$21,3,FALSE())","v":4},"SC","Competición",{"$f":"VLOOKUP(C2345,Referencias!$B$24:$C$40,2,FALSE())","v":"M"}]
["2814392","Gajate Plasencia, Alfonso","Madrileña","C",{"$f":"VLOOKUP(G2346,Referencias!$C$4:$D$21,2,FALSE())","v":"Sin Categoría"},{"$f":"VLOOKUP(G2346,Referencias!$C$4:$E$21,3,FALSE())","v":4},"SC","Competición",{"$f":"VLOOKUP(C2346,Referencias!$B$24:$C$40,2,FALSE())","v":"M"}]
["2814393","Sebastián de Erice Sánchez -Ocaña, María","Madrileña","D",{"$f":"VLOOKUP(G2347,Referencias!$C$4:$D$21,2,FALSE())","v":"Tercera Diamante"},{"$f":"VLOOKUP(G2347,Referencias!$C$4:$E$21,3,FALSE())","v":3},"3D","Competición",{"$f":"VLOOKUP(C2347,Referencias!$B$24:$C$40,2,FALSE())","v":"M"}]
["2814394","Urizar Zubiria, María","Madrileña","D",{"$f":"VLOOKUP(G2348,Referencias!$C$4:$D$21,2,FALSE())","v":"Tercera Diamante"},{"$f":"VLOOKUP(G2348,Referencias!$C$4:$E$21,3,FALSE())","v":3},"3D","Competición",{"$f":"VLOOKUP(C2348,Referencias!$B$24:$C$40,2,FALSE())","v":"M"}]
["2814397","Subinas Landa, Rafael","Madrileña","C",{"$f":"VLOOKUP(G2349,Referencias!$C$4:$D$21,2,FALSE())","v":"Sin Categoría"},{"$f":"VLOOKUP(G2349,Referencias!$C$4:$E$21,3,FALSE())","v":4},"SC","Competición",{"$f":"VLOOKUP(C2349,Referencias!$B$24:$C$40,2,FALSE())","v":"M"}]
["2814400","Belenda Justo, Beatriz","Madrileña","D",{"$f":"VLOOKUP(G2350,Referencias!$C$4:$D$21,2,FALSE())","v":"Tercera Picas"},{"$f":"VLOOKUP(G2350,Referencias!$C$4:$E$21,3,FALSE())","v":3},"3P","Competición",{"$f":"VLOOKUP(C2350,Referencias!$B$24:$C$40,2,FALSE())","v":"M"}]
["2814401","Travesí Cabetas, Alfonso","Madrileña","C",{"$f":"VLOOKUP(G2351,Referencias!$C$4:$D$21,2,FALSE())","v":"Tercera Picas"},{"$f":"VLOOKUP(G2351,Referencias!$C$4:$E$21,3,FALSE())","v":3},"3P","Competición",{"$f":"VLOOKUP(C2351,Referencias!$B$24:$C$40,2,FALSE())","v":"M"}]
["2814403","García-Seisdedos Durante, María","Madrileña","D",{"$f":"VLOOKUP(G2352,Referencias!$C$4:$D$21,2,FALSE())","v":"Tercera Diamante"},{"$f":"VLOOKUP(G2352,Referencias!$C$4:$E$21,3,FALSE())","v":3},"3D","Competición",{"$f":"VLOOKUP(C2352,Referencias!$B$24:$C$40,2,FALSE())","v":"M"}]
["2814404","Corral Ruiz, Lucila","Madrileña","D",{"$f":"VLOOKUP(G2353,Referencias!$C$4:$D$21,2,FALSE())","v":"Tercera Diamante"},{"$f":"VLOOKUP(G2353,Referencias!$C$4:$E$21,3,FALSE())","v":3},"3D","Competición",{"$f":"VLOOKUP(C2353,Referencias!$B$24:$C$40,2,FALSE())","v":"M"}]
["2814405","Sancho López, Manuel","Madrileña","C",{"$f":"VLOOKUP(G2354,Referencias!$C$4:$D$21,2,FALSE())","v":"Sin Categoría"},{"$f":"VLOOKUP(G2354,Referencias!$C$4:$E$21,3,FALSE())","v":4},"SC","Competición",{"$f":"VLOOKUP(C2354,Referencias!$B$24:$C$40,2,FALSE())","v":"M"}]
["2814406","Urbasos Tapia, Cristina","Madrileña","D",{"$f":"VLOOKUP(G2355,Referencias!$C$4:$D$21,2,FALSE())","v":"Segunda Diamante"},{"$f":"VLOOKUP(G2355,Referencias!$C$4:$E$21,3,FALSE())","v":2},"2D","Competición",{"$f":"VLOOKUP(C2355,Referencias!$B$24:$C$40,2,FALSE())","v":"M"}]
["2814407","Almela Hijalva, José Vicente","Madrileña","C",{"$f":"VLOOKUP(G2356,Referencias!$C$4:$D$21,2,FALSE())","v":"Tercera Diamante"},{"$f":"VLOOKUP(G2356,Referencias!$C$4:$E$21,3,FALSE())","v":3},"3D","Competición",{"$f":"VLOOKUP(C2356,Referencias!$B$24:$C$40,2,FALSE())","v":"M"}]
["2814409","Celdrán Kuhl, Christian","Madrileña","C",{"$f":"VLOOKUP(G2357,Referencias!$C$4:$D$21,2,FALSE())","v":"Tercera Picas"},{"$f":"VLOOKUP(G2357,Referencias!$C$4:$E$21,3,FALSE())","v":3},"3P","Competición",{"$f":"VLOOKUP(C2357,Referencias!$B$24:$C$40,2,FALSE())","v":"M"}]
["2814410","Aizpurua Garzón, Soledad","Madrileña","D",{"$f":"VLOOKUP(G2358,Referencias!$C$4:$D$21,2,FALSE())","v":"Tercera Corazón"},{"$f":"VLOOKUP(G2358,Referencias!$C$4:$E$21,3,FALSE())","v":3},"3C","Competición",{"$f":"VLOOKUP(C2358,Referencias!$B$24:$C$40,2,FALSE())","v":"M"}]
["2814413","Biedma Sevilla, Alfredo","Madrileña","C",{"$f":"VLOOKUP(G2359,Referencias!$C$4:$D$21,2,FALSE())","v":"Tercera Diamante"},{"$f":"VLOOKUP(G2359,Referencias!$C$4:$E$21,3,FALSE())","v":3},"3D","Competición",{"$f":"VLOOKUP(C2359,Referencias!$B$24:$C$40,2,FALSE())","v":"M"}]
["2814416","Zamorano Gómez, Begoña","Madrileña","D",{"$f":"VLOOKUP(G2360,Referencias!$C$4:$D$21,2,FALSE())","v":"Sin Categoría"},{"$f":"VLOOKUP(G2360,Referencias!$C$4:$E$21,3,FALSE())","v":4},"SC","Competición",{"$f":"VLOOKUP(C2360,Referencias!$B$24:$C$40,2,FALSE())","v":"M"}]
["2814418","de la Cruz Oñate, María Vega","Madrileña","D",{"$f":"VLOOKUP(G2361,Referencias!$C$4:$D$21,2,FALSE())","v":"Sin Categoría"},{"$f":"VLOOKUP(G2361,Referencias!$C$4:$E$21,3,FALSE())","v":4},"SC","Competición",{"$f":"VLOOKUP(C2361,Referencias!$B$24:$C$40,2,FALSE())","v":"M"}]
["2814419","Buerba Martín, Rita","Madrileña","D",{"$f":"VLOOKUP(G2362,Referencias!$C$4:$D$21,2,FALSE())","v":"Sin Categoría"},{"$f":"VLOOKUP(G2362,Referencias!$C$4:$E$21,3,FALSE())","v":4},"SC","Competición",{"$f":"VLOOKUP(C2362,Referencias!$B$24:$C$40,2,FALSE())","v":"M"}]
["2814420","Huici Díaz, Araceli","Madrileña","D",{"$f":"VLOOKUP(G2363,Referencias!$C$4:$D$21,2,FALSE())","v":"Tercera Corazón"},{"$f":"VLOOKUP(G2363,Referencias!$C$4:$E$21,3,FALSE())","v":3},"3C","Competición",{"$f":"VLOOKUP(C2363,Referencias!$B$24:$C$40,2,FALSE())","v":"M"}]
["2814421","García Lecuona, Jesús","Madrileña","C",{"$f":"VLOOKUP(G2364,Referencias!$C$4:$D$21,2,FALSE())","v":"Segunda Diamante"},{"$f":"VLOOKUP(G2364,Referencias!$C$4:$E$21,3,FALSE())","v":2},"2D","Competición",{"$f":"VLOOKUP(C2364,Referencias!$B$24:$C$40,2,FALSE())","v":"M"}]
["2814422","Bernad Moreno, María Angeles","Madrileña","D",{"$f":"VLOOKUP(G2365,Referencias!$C$4:$D$21,2,FALSE())","v":"Sin Categoría"},{"$f":"VLOOKUP(G2365,Referencias!$C$4:$E$21,3,FALSE())","v":4},"SC","Competición",{"$f":"VLOOKUP(C2365,Referencias!$B$24:$C$40,2,FALSE())","v":"M"}]
["2814423","Calderón Bastos, Luz María","Madrileña","D",{"$f":"VLOOKUP(G2366,Referencias!$C$4:$D$21,2,FALSE())","v":"Sin Categoría"},{"$f":"VLOOKUP(G2366,Referencias!$C$4:$E$21,3,FALSE())","v":4},"SC","Competición",{"$f":"VLOOKUP(C2366,Referencias!$B$24:$C$40,2,FALSE())","v":"M"}]
["2814424","Ayala Muñoz, Rocio","Madrileña","D",{"$f":"VLOOKUP(G2367,Referencias!$C$4:$D$21,2,FALSE())","v":"Tercera Corazón"},{"$f":"VLOOKUP(G2367,Referencias!$C$4:$E$21,3,FALSE())","v":3},"3C","Competición",{"$f":"VLOOKUP(C2367,Referencias!$B$24:$C$40,2,FALSE())","v":"M"}]
["2814425","Velilla Arias, Pilar","Madrileña","D",{"$f":"VLOOKUP(G2368,Referencias!$C$4:$D$21,2,FALSE())","v":"Sin Categoría"},{"$f":"VLOOKUP(G2368,Referencias!$C$4:$E$21,3,FALSE())","v":4},"SC","Competición",{"$f":"VLOOKUP(C2368,Referencias!$B$24:$C$40,2,FALSE())","v":"M"}]
["2814426","Oriol Hoyos, Lucas","Madrileña","C",{"$f":"VLOOKUP(G2369,Referencias!$C$4:$D$21,2,FALSE())","v":"Sin Categoría"},{"$f":"VLOOKUP(G2369,Referencias!$C$4:$E$21,3,FALSE())","v":4},"SC","Competición",{"$f":"VLOOKUP(C2369,Referencias!$B$24:$C$40,2,FALSE())","v":"M"}]
["2814428","Peñalba Herraiz, Esther","Madrileña","D",{"$f":"VLOOKUP(G2370,Referencias!$C$4:$D$21,2,FALSE())","v":"Segunda Picas"},{"$f":"VLOOKUP(G2370,Referencias!$C$4:$E$21,3,FALSE())","v":2},"2P","Competición",{"$f":"VLOOKUP(C2370,Referencias!$B$24:$C$40,2,FALSE())","v":"M"}]
["2814429","Carrión Garzarán, María Dolores","Madrileña","D",{"$f":"VLOOKUP(G2371,Referencias!$C$4:$D$21,2,FALSE())","v":"Sin Categoría"},{"$f":"VLOOKUP(G2371,Referencias!$C$4:$E$21,3,FALSE())","v":4},"SC","Competición",{"$f":"VLOOKUP(C2371,Referencias!$B$24:$C$40,2,FALSE())","v":"M"}]
["2814430","Martínez Pradel, Begoña","Madrileña","D",{"$f":"VLOOKUP(G2372,Referencias!$C$4:$D$21,2,FALSE())","v":"Sin Categoría"},{"$f":"VLOOKUP(G2372,Referencias!$C$4:$E$21,3,FALSE())","v":4},"SC","Competición",{"$f":"VLOOKUP(C2372,Referencias!$B$24:$C$40,2,FALSE())","v":"M"}]
["2814431","Portero Arfsten, Francisco Manuel","Madrileña","C",{"$f":"VLOOKUP(G2373,Referencias!$C$4:$D$21,2,FALSE())","v":"Sin Categoría"},{"$f":"VLOOKUP(G2373,Referencias!$C$4:$E$21,3,FALSE())","v":4},"SC","Competición",{"$f":"VLOOKUP(C2373,Referencias!$B$24:$C$40,2,FALSE())","v":"M"}]
["2814432","Mira Ruiz, Nieves","Madrileña","D",{"$f":"VLOOKUP(G2374,Referencias!$C$4:$D$21,2,FALSE())","v":"Segunda Diamante"},{"$f":"VLOOKUP(G2374,Referencias!$C$4:$E$21,3,FALSE())","v":2},"2D","Competición",{"$f":"VLOOKUP(C2374,Referencias!$B$24:$C$40,2,FALSE())","v":"M"}]
["2814434","García de Oteyza Llansó, Enrique","Madrileña","C",{"$f":"VLOOKUP(G2375,Referencias!$C$4:$D$21,2,FALSE())","v":"Primera Picas"},{"$f":"VLOOKUP(G2375,Referencias!$C$4:$E$21,3,FALSE())","v":1},"1P","Competición",{"$f":"VLOOKUP(C2375,Referencias!$B$24:$C$40,2,FALSE())","v":"M"}]
["2814435","González-Hontoria Velarde, Pilar","Madrileña","D",{"$f":"VLOOKUP(G2376,Referencias!$C$4:$D$21,2,FALSE())","v":"Primera Picas"},{"$f":"VLOOKUP(G2376,Referencias!$C$4:$E$21,3,FALSE())","v":1},"1P","Competición",{"$f":"VLOOKUP(C2376,Referencias!$B$24:$C$40,2,FALSE())","v":"M"}]
["2814438","Gómez Abajo, Pablo","Madrileña","C",{"$f":"VLOOKUP(G2377,Referencias!$C$4:$D$21,2,FALSE())","v":"Sin Categoría"},{"$f":"VLOOKUP(G2377,Referencias!$C$4:$E$21,3,FALSE())","v":4},"SC","Competición",{"$f":"VLOOKUP(C2377,Referencias!$B$24:$C$40,2,FALSE())","v":"M"}]
["2814439","Sánchez Serrano, Antonio","Madrileña","C",{"$f":"VLOOKUP(G2378,Referencias!$C$4:$D$21,2,FALSE())","v":"Tercera Picas"},{"$f":"VLOOKUP(G2378,Referencias!$C$4:$E$21,3,FALSE())","v":3},"3P","Competición",{"$f":"VLOOKUP(C2378,Referencias!$B$24:$C$40,2,FALSE())","v":"M"}]
["2814440","Aguilar Urquijo, Bruno","Madrileña","C",{"$f":"VLOOKUP(G2379,Referencias!$C$4:$D$21,2,FALSE())","v":"Tercera Corazón"},{"$f":"VLOOKUP(G2379,Referencias!$C$4:$E$21,3,FALSE())","v":3},"3C","Competición",{"$f":"VLOOKUP(C2379,Referencias!$B$24:$C$40,2,FALSE())","v":"M"}]
["2814442","Espinosa de los Monteros Pitarque, Carlos","Madrileña","C",{"$f":"VLOOKUP(G2380,Referencias!$C$4:$D$21,2,FALSE())","v":"Tercera Corazón"},{"$f":"VLOOKUP(G2380,Referencias!$C$4:$E$21,3,FALSE())","v":3},"3C","Competición",{"$f":"VLOOKUP(C2380,Referencias!$B$24:$C$40,2,FALSE())","v":"M"}]
["2814444","Valera de Vargas, Carla","Madrileña","D",{"$f":"VLOOKUP(G2381,Referencias!$C$4:$D$21,2,FALSE())","v":"Segunda Corazón"},{"$f":"VLOOKUP(G2381,Referencias!$C$4:$E$21,3,FALSE())","v":2},"2C","Competición",{"$f":"VLOOKUP(C2381,Referencias!$B$24:$C$40,2,FALSE())","v":"M"}]
["2814445","González Casaus, María Luisa","Madrileña","D",{"$f":"VLOOKUP(G2382,Referencias!$C$4:$D$21,2,FALSE())","v":"Sin Categoría"},{"$f":"VLOOKUP(G2382,Referencias!$C$4:$E$21,3,FALSE())","v":4},"SC","Competición",{"$f":"VLOOKUP(C2382,Referencias!$B$24:$C$40,2,FALSE())","v":"M"}]
["2814446","Conde Salazar, Joaquín","Madrileña","C",{"$f":"VLOOKUP(G2383,Referencias!$C$4:$D$21,2,FALSE())","v":"Sin Categoría"},{"$f":"VLOOKUP(G2383,Referencias!$C$4:$E$21,3,FALSE())","v":4},"SC","Competición",{"$f":"VLOOKUP(C2383,Referencias!$B$24:$C$40,2,FALSE())","v":"M"}]
["2814448","Collado Gutiérrez, María Luisa","Madrileña","D",{"$f":"VLOOKUP(G2384,Referencias!$C$4:$D$21,2,FALSE())","v":"Sin Categoría"},{"$f":"VLOOKUP(G2384,Referencias!$C$4:$E$21,3,FALSE())","v":4},"SC","Competición",{"$f":"VLOOKUP(C2384,Referencias!$B$24:$C$40,2,FALSE())","v":"M"}]
["2814449","Fernández de Luz, Graziella","Madrileña","D",{"$f":"VLOOKUP(G2385,Referencias!$C$4:$D$21,2,FALSE())","v":"Primera Picas"},{"$f":"VLOOKUP(G2385,Referencias!$C$4:$E$21,3,FALSE())","v":1},"1P","Competición",{"$f":"VLOOKUP(C2385,Referencias!$B$24:$C$40,2,FALSE())","v":"M"}]
["2814450","Stevens, Beatrijs","Madrileña","D",{"$f":"VLOOKUP(G2386,Referencias!$C$4:$D$21,2,FALSE())","v":"Tercera Diamante"},{"$f":"VLOOKUP(G2386,Referencias!$C$4:$E$21,3,FALSE())","v":3},"3D","Competición",{"$f":"VLOOKUP(C2386,Referencias!$B$24:$C$40,2,FALSE())","v":"M"}]
["2814451","Arambarri Álvarez, Brigi","Madrileña","D",{"$f":"VLOOKUP(G2387,Referencias!$C$4:$D$21,2,FALSE())","v":"Sin Categoría"},{"$f":"VLOOKUP(G2387,Referencias!$C$4:$E$21,3,FALSE())","v":4},"SC","Competición",{"$f":"VLOOKUP(C2387,Referencias!$B$24:$C$40,2,FALSE())","v":"M"}]
["2814452","Castillo Dolagaray, Pilar","Madrileña","D",{"$f":"VLOOKUP(G2388,Referencias!$C$4:$D$21,2,FALSE())","v":"Segunda Picas"},{"$f":"VLOOKUP(G2388,Referencias!$C$4:$E$21,3,FALSE())","v":2},"2P","Competición",{"$f":"VLOOKUP(C2388,Referencias!$B$24:$C$40,2,FALSE())","v":"M"}]
["2814453","Torres de la Calle, Enrique","Madrileña","C",{"$f":"VLOOKUP(G2389,Referencias!$C$4:$D$21,2,FALSE())","v":"Sin Categoría"},{"$f":"VLOOKUP(G2389,Referencias!$C$4:$E$21,3,FALSE())","v":4},"SC","Competición",{"$f":"VLOOKUP(C2389,Referencias!$B$24:$C$40,2,FALSE())","v":"M"}]
["2814454","Dancausa García-Moya, Virginia","Madrileña","D",{"$f":"VLOOKUP(G2390,Referencias!$C$4:$D$21,2,FALSE())","v":"Sin Categoría"},{"$f":"VLOOKUP(G2390,Referencias!$C$4:$E$21,3,FALSE())","v":4},"SC","Junior",{"$f":"VLOOKUP(C2390,Referencias!$B$24:$C$40,2,FALSE())","v":"M"}]
["2814455","Temes Hernández, Antonio","Madrileña","C",{"$f":"VLOOKUP(G2391,Referencias!$C$4:$D$21,2,FALSE())","v":"Tercera Diamante"},{"$f":"VLOOKUP(G2391,Referencias!$C$4:$E$21,3,FALSE())","v":3},"3D","Competición",{"$f":"VLOOKUP(C2391,Referencias!$B$24:$C$40,2,FALSE())","v":"M"}]
["2814456","Vassallo Castells, Cristina","Madrileña","D",{"$f":"VLOOKUP(G2392,Referencias!$C$4:$D$21,2,FALSE())","v":"Tercera Picas"},{"$f":"VLOOKUP(G2392,Referencias!$C$4:$E$21,3,FALSE())","v":3},"3P","Competición",{"$f":"VLOOKUP(C2392,Referencias!$B$24:$C$40,2,FALSE())","v":"M"}]
["2814457","Espinosa de los Monteros Bernaldo d Quiros, Fernanda","Madrileña","D",{"$f":"VLOOKUP(G2393,Referencias!$C$4:$D$21,2,FALSE())","v":"Sin Categoría"},{"$f":"VLOOKUP(G2393,Referencias!$C$4:$E$21,3,FALSE())","v":4},"SC","Competición",{"$f":"VLOOKUP(C2393,Referencias!$B$24:$C$40,2,FALSE())","v":"M"}]
["2814458","Gómez-Acebo Carvajal, Blanca","Madrileña","D",{"$f":"VLOOKUP(G2394,Referencias!$C$4:$D$21,2,FALSE())","v":"Sin Categoría"},{"$f":"VLOOKUP(G2394,Referencias!$C$4:$E$21,3,FALSE())","v":4},"SC","Competición",{"$f":"VLOOKUP(C2394,Referencias!$B$24:$C$40,2,FALSE())","v":"M"}]
["2814460","Montiel Armada, Rosario","Madrileña","D",{"$f":"VLOOKUP(G2395,Referencias!$C$4:$D$21,2,FALSE())","v":"Sin Categoría"},{"$f":"VLOOKUP(G2395,Referencias!$C$4:$E$21,3,FALSE())","v":4},"SC","Competición",{"$f":"VLOOKUP(C2395,Referencias!$B$24:$C$40,2,FALSE())","v":"M"}]
["2814461","Montiel Armada, Victoria","Madrileña","D",{"$f":"VLOOKUP(G2396,Referencias!$C$4:$D$21,2,FALSE())","v":"Tercera Corazón"},{"$f":"VLOOKUP(G2396,Referencias!$C$4:$E$21,3,FALSE())","v":3},"3C","Competición",{"$f":"VLOOKUP(C2396,Referencias!$B$24:$C$40,2,FALSE())","v":"M"}]
["2814462","Suinaga Espin, Carmen","Madrileña","D",{"$f":"VLOOKUP(G2397,Referencias!$C$4:$D$21,2,FALSE())","v":"Sin Categoría"},{"$f":"VLOOKUP(G2397,Referencias!$C$4:$E$21,3,FALSE())","v":4},"SC","Competición",{"$f":"VLOOKUP(C2397,Referencias!$B$24:$C$40,2,FALSE())","v":"M"}]
["2814465","Vilalta Pallarés, Eduardo","Madrileña","C",{"$f":"VLOOKUP(G2398,Referencias!$C$4:$D$21,2,FALSE())","v":"Tercera Diamante"},{"$f":"VLOOKUP(G2398,Referencias!$C$4:$E$21,3,FALSE())","v":3},"3D","Competición",{"$f":"VLOOKUP(C2398,Referencias!$B$24:$C$40,2,FALSE())","v":"M"}]
["2814466","de la Paz Serrano García, María Victoría","Madrileña","D",{"$f":"VLOOKUP(G2399,Referencias!$C$4:$D$21,2,FALSE())","v":"Sin Categoría"},{"$f":"VLOOKUP(G2399,Referencias!$C$4:$E$21,3,FALSE())","v":4},"SC","Competición",{"$f":"VLOOKUP(C2399,Referencias!$B$24:$C$40,2,FALSE())","v":"M"}]
["2814467","Madrid Serrano, María del Mar","Madrileña","D",{"$f":"VLOOKUP(G2400,Referencias!$C$4:$D$21,2,FALSE())","v":"Sin Categoría"},{"$f":"VLOOKUP(G2400,Referencias!$C$4:$E$21,3,FALSE())","v":4},"SC","Competición",{"$f":"VLOOKUP(C2400,Referencias!$B$24:$C$40,2,FALSE())","v":"M"}]
["2814468","de la Mata Pobes, Blanca","Madrileña","D",{"$f":"VLOOKUP(G2401,Referencias!$C$4:$D$21,2,FALSE())","v":"Tercera Diamante"},{"$f":"VLOOKUP(G2401,Referencias!$C$4:$E$21,3,FALSE())","v":3},"3D","Competición",{"$f":"VLOOKUP(C2401,Referencias!$B$24:$C$40,2,FALSE())","v":"M"}]
["2814470","Caro de Figueroa, María del Campanar","Madrileña","D",{"$f":"VLOOKUP(G2402,Referencias!$C$4:$D$21,2,FALSE())","v":"Tercera Diamante"},{"$f":"VLOOKUP(G2402,Referencias!$C$4:$E$21,3,FALSE())","v":3},"3D","Competición",{"$f":"VLOOKUP(C2402,Referencias!$B$24:$C$40,2,FALSE())","v":"M"}]
["2814471","López Granados, Patricia","Madrileña","D",{"$f":"VLOOKUP(G2403,Referencias!$C$4:$D$21,2,FALSE())","v":"Primera Corazón"},{"$f":"VLOOKUP(G2403,Referencias!$C$4:$E$21,3,FALSE())","v":1},"1C","Competición",{"$f":"VLOOKUP(C2403,Referencias!$B$24:$C$40,2,FALSE())","v":"M"}]
["2814472","Smith Basterra, Jaime","Madrileña","C",{"$f":"VLOOKUP(G2404,Referencias!$C$4:$D$21,2,FALSE())","v":"Tercera Corazón"},{"$f":"VLOOKUP(G2404,Referencias!$C$4:$E$21,3,FALSE())","v":3},"3C","Competición",{"$f":"VLOOKUP(C2404,Referencias!$B$24:$C$40,2,FALSE())","v":"M"}]
["2814475","Sintes Pascual, Carmen","Madrileña","D",{"$f":"VLOOKUP(G2405,Referencias!$C$4:$D$21,2,FALSE())","v":"Sin Categoría"},{"$f":"VLOOKUP(G2405,Referencias!$C$4:$E$21,3,FALSE())","v":4},"SC","Competición",{"$f":"VLOOKUP(C2405,Referencias!$B$24:$C$40,2,FALSE())","v":"M"}]
["2814476","Herrero Mateo, Elvira","Madrileña","D",{"$f":"VLOOKUP(G2406,Referencias!$C$4:$D$21,2,FALSE())","v":"Tercera Picas"},{"$f":"VLOOKUP(G2406,Referencias!$C$4:$E$21,3,FALSE())","v":3},"3P","Competición",{"$f":"VLOOKUP(C2406,Referencias!$B$24:$C$40,2,FALSE())","v":"M"}]
["2814478","Yañez Soto, Flora","Madrileña","D",{"$f":"VLOOKUP(G2407,Referencias!$C$4:$D$21,2,FALSE())","v":"Tercera Diamante"},{"$f":"VLOOKUP(G2407,Referencias!$C$4:$E$21,3,FALSE())","v":3},"3D","Competición",{"$f":"VLOOKUP(C2407,Referencias!$B$24:$C$40,2,FALSE())","v":"M"}]
["2814479","Conde Salazar, Susana","Madrileña","D",{"$f":"VLOOKUP(G2408,Referencias!$C$4:$D$21,2,FALSE())","v":"Tercera Diamante"},{"$f":"VLOOKUP(G2408,Referencias!$C$4:$E$21,3,FALSE())","v":3},"3D","Competición",{"$f":"VLOOKUP(C2408,Referencias!$B$24:$C$40,2,FALSE())","v":"M"}]
["2814481","Navarro Iglesias, Jose Luis","Madrileña","C",{"$f":"VLOOKUP(G2409,Referencias!$C$4:$D$21,2,FALSE())","v":"Sin Categoría"},{"$f":"VLOOKUP(G2409,Referencias!$C$4:$E$21,3,FALSE())","v":4},"SC","Competición",{"$f":"VLOOKUP(C2409,Referencias!$B$24:$C$40,2,FALSE())","v":"M"}]
["2814483","Gemeno Díaz, Guzmán","Madrileña","C",{"$f":"VLOOKUP(G2410,Referencias!$C$4:$D$21,2,FALSE())","v":"Segunda Diamante"},{"$f":"VLOOKUP(G2410,Referencias!$C$4:$E$21,3,FALSE())","v":2},"2D","Competición",{"$f":"VLOOKUP(C2410,Referencias!$B$24:$C$40,2,FALSE())","v":"M"}]
["2814484","Fernández Izard, Marcela","Madrileña","D",{"$f":"VLOOKUP(G2411,Referencias!$C$4:$D$21,2,FALSE())","v":"Sin Categoría"},{"$f":"VLOOKUP(G2411,Referencias!$C$4:$E$21,3,FALSE())","v":4},"SC","Competición",{"$f":"VLOOKUP(C2411,Referencias!$B$24:$C$40,2,FALSE())","v":"M"}]
["2814485","Girard McDermott, Mary","Madrileña","D",{"$f":"VLOOKUP(G2412,Referencias!$C$4:$D$21,2,FALSE())","v":"Tercera Diamante"},{"$f":"VLOOKUP(G2412,Referencias!$C$4:$E$21,3,FALSE())","v":3},"3D","Competición",{"$f":"VLOOKUP(C2412,Referencias!$B$24:$C$40,2,FALSE())","v":"M"}]
["2814486","Corchado Ruiz-Jarabo, Francisco","Madrileña","C",{"$f":"VLOOKUP(G2413,Referencias!$C$4:$D$21,2,FALSE())","v":"Tercera Corazón"},{"$f":"VLOOKUP(G2413,Referencias!$C$4:$E$21,3,FALSE())","v":3},"3C","Competición",{"$f":"VLOOKUP(C2413,Referencias!$B$24:$C$40,2,FALSE())","v":"M"}]
["2814487","Bueso-Inchausti Toro, Edgar","Madrileña","C",{"$f":"VLOOKUP(G2414,Referencias!$C$4:$D$21,2,FALSE())","v":"Segunda Diamante"},{"$f":"VLOOKUP(G2414,Referencias!$C$4:$E$21,3,FALSE())","v":2},"2D","Competición",{"$f":"VLOOKUP(C2414,Referencias!$B$24:$C$40,2,FALSE())","v":"M"}]
["2814488","Bueso-Inchausti Toro, Daniel","Madrileña","C",{"$f":"VLOOKUP(G2415,Referencias!$C$4:$D$21,2,FALSE())","v":"Primera Corazón"},{"$f":"VLOOKUP(G2415,Referencias!$C$4:$E$21,3,FALSE())","v":1},"1C","Competición",{"$f":"VLOOKUP(C2415,Referencias!$B$24:$C$40,2,FALSE())","v":"M"}]
["2814493","García García-Heras, Maria Teresa","Madrileña","D",{"$f":"VLOOKUP(G2416,Referencias!$C$4:$D$21,2,FALSE())","v":"Tercera Corazón"},{"$f":"VLOOKUP(G2416,Referencias!$C$4:$E$21,3,FALSE())","v":3},"3C","Competición",{"$f":"VLOOKUP(C2416,Referencias!$B$24:$C$40,2,FALSE())","v":"M"}]
["2814494","Ortúzar Abando, Belén","Madrileña","D",{"$f":"VLOOKUP(G2417,Referencias!$C$4:$D$21,2,FALSE())","v":"Tercera Corazón"},{"$f":"VLOOKUP(G2417,Referencias!$C$4:$E$21,3,FALSE())","v":3},"3C","Competición",{"$f":"VLOOKUP(C2417,Referencias!$B$24:$C$40,2,FALSE())","v":"M"}]
["2814497","Salas Collantes, José Ignacio","Madrileña","C",{"$f":"VLOOKUP(G2418,Referencias!$C$4:$D$21,2,FALSE())","v":"Sin Categoría"},{"$f":"VLOOKUP(G2418,Referencias!$C$4:$E$21,3,FALSE())","v":4},"SC","Competición",{"$f":"VLOOKUP(C2418,Referencias!$B$24:$C$40,2,FALSE())","v":"M"}]
["2814498","Ferrandiz Josa, María Luisa","Madrileña","D",{"$f":"VLOOKUP(G2419,Referencias!$C$4:$D$21,2,FALSE())","v":"Sin Categoría"},{"$f":"VLOOKUP(G2419,Referencias!$C$4:$E$21,3,FALSE())","v":4},"SC","Competición",{"$f":"VLOOKUP(C2419,Referencias!$B$24:$C$40,2,FALSE())","v":"M"}]
["2814499","Alcaide Guido, Julio Antonio","Madrileña","C",{"$f":"VLOOKUP(G2420,Referencias!$C$4:$D$21,2,FALSE())","v":"Tercera Diamante"},{"$f":"VLOOKUP(G2420,Referencias!$C$4:$E$21,3,FALSE())","v":3},"3D","Competición",{"$f":"VLOOKUP(C2420,Referencias!$B$24:$C$40,2,FALSE())","v":"M"}]
["2814500","Menéndez Bernardo, Menéndez Bernardo","Madrileña","D",{"$f":"VLOOKUP(G2421,Referencias!$C$4:$D$21,2,FALSE())","v":"Sin Categoría"},{"$f":"VLOOKUP(G2421,Referencias!$C$4:$E$21,3,FALSE())","v":4},"SC","Competición",{"$f":"VLOOKUP(C2421,Referencias!$B$24:$C$40,2,FALSE())","v":"M"}]
["2814502","Andrés Villareal, María Pilar","Madrileña","D",{"$f":"VLOOKUP(G2422,Referencias!$C$4:$D$21,2,FALSE())","v":"Tercera Diamante"},{"$f":"VLOOKUP(G2422,Referencias!$C$4:$E$21,3,FALSE())","v":3},"3D","Competición",{"$f":"VLOOKUP(C2422,Referencias!$B$24:$C$40,2,FALSE())","v":"M"}]
["2814503","Beamonte de Cominges, Paloma","Madrileña","D",{"$f":"VLOOKUP(G2423,Referencias!$C$4:$D$21,2,FALSE())","v":"Tercera Picas"},{"$f":"VLOOKUP(G2423,Referencias!$C$4:$E$21,3,FALSE())","v":3},"3P","Competición",{"$f":"VLOOKUP(C2423,Referencias!$B$24:$C$40,2,FALSE())","v":"M"}]
["2814504","Navarro López-Chicheri, Mercedes","Madrileña","D",{"$f":"VLOOKUP(G2424,Referencias!$C$4:$D$21,2,FALSE())","v":"Sin Categoría"},{"$f":"VLOOKUP(G2424,Referencias!$C$4:$E$21,3,FALSE())","v":4},"SC","Competición",{"$f":"VLOOKUP(C2424,Referencias!$B$24:$C$40,2,FALSE())","v":"M"}]
["2814505","Los Arcos Galbete, Francisco Javier","Madrileña","C",{"$f":"VLOOKUP(G2425,Referencias!$C$4:$D$21,2,FALSE())","v":"Tercera Corazón"},{"$f":"VLOOKUP(G2425,Referencias!$C$4:$E$21,3,FALSE())","v":3},"3C","Competición",{"$f":"VLOOKUP(C2425,Referencias!$B$24:$C$40,2,FALSE())","v":"M"}]
["2814506","Peña Morientes, Belén","Madrileña","D",{"$f":"VLOOKUP(G2426,Referencias!$C$4:$D$21,2,FALSE())","v":"Sin Categoría"},{"$f":"VLOOKUP(G2426,Referencias!$C$4:$E$21,3,FALSE())","v":4},"SC","Competición",{"$f":"VLOOKUP(C2426,Referencias!$B$24:$C$40,2,FALSE())","v":"M"}]
["2814507","Olarra Zorrozúa, Juan Carlos","Madrileña","C",{"$f":"VLOOKUP(G2427,Referencias!$C$4:$D$21,2,FALSE())","v":"Sin Categoría"},{"$f":"VLOOKUP(G2427,Referencias!$C$4:$E$21,3,FALSE())","v":4},"SC","Competición",{"$f":"VLOOKUP(C2427,Referencias!$B$24:$C$40,2,FALSE())","v":"M"}]
["2814508","Alonso Rodríguez, José Antonio","Madrileña","C",{"$f":"VLOOKUP(G2428,Referencias!$C$4:$D$21,2,FALSE())","v":"Sin Categoría"},{"$f":"VLOOKUP(G2428,Referencias!$C$4:$E$21,3,FALSE())","v":4},"SC","Competición",{"$f":"VLOOKUP(C2428,Referencias!$B$24:$C$40,2,FALSE())","v":"M"}]
["2814509","Poyatos Adeva, Paloma Juana","Madrileña","D",{"$f":"VLOOKUP(G2429,Referencias!$C$4:$D$21,2,FALSE())","v":"Sin Categoría"},{"$f":"VLOOKUP(G2429,Referencias!$C$4:$E$21,3,FALSE())","v":4},"SC","Competición",{"$f":"VLOOKUP(C2429,Referencias!$B$24:$C$40,2,FALSE())","v":"M"}]
["2814510","Gómez Gómez, Natividad","Madrileña","D",{"$f":"VLOOKUP(G2430,Referencias!$C$4:$D$21,2,FALSE())","v":"Tercera Diamante"},{"$f":"VLOOKUP(G2430,Referencias!$C$4:$E$21,3,FALSE())","v":3},"3D","Competición",{"$f":"VLOOKUP(C2430,Referencias!$B$24:$C$40,2,FALSE())","v":"M"}]
["2814511","Sánchez Broto, José Manuel","Madrileña","C",{"$f":"VLOOKUP(G2431,Referencias!$C$4:$D$21,2,FALSE())","v":"Segunda Corazón"},{"$f":"VLOOKUP(G2431,Referencias!$C$4:$E$21,3,FALSE())","v":2},"2C","Competición",{"$f":"VLOOKUP(C2431,Referencias!$B$24:$C$40,2,FALSE())","v":"M"}]
["2814512","Catalá Ena, Carmen","Madrileña","D",{"$f":"VLOOKUP(G2432,Referencias!$C$4:$D$21,2,FALSE())","v":"Tercera Picas"},{"$f":"VLOOKUP(G2432,Referencias!$C$4:$E$21,3,FALSE())","v":3},"3P","Competición",{"$f":"VLOOKUP(C2432,Referencias!$B$24:$C$40,2,FALSE())","v":"M"}]
["2814513","Vicente Bermúdez, Marín","Madrileña","C",{"$f":"VLOOKUP(G2433,Referencias!$C$4:$D$21,2,FALSE())","v":"Sin Categoría"},{"$f":"VLOOKUP(G2433,Referencias!$C$4:$E$21,3,FALSE())","v":4},"SC","Competición",{"$f":"VLOOKUP(C2433,Referencias!$B$24:$C$40,2,FALSE())","v":"M"}]
["2814514","Martín Villegas, María del Carmen","Madrileña","D",{"$f":"VLOOKUP(G2434,Referencias!$C$4:$D$21,2,FALSE())","v":"Sin Categoría"},{"$f":"VLOOKUP(G2434,Referencias!$C$4:$E$21,3,FALSE())","v":4},"SC","Competición",{"$f":"VLOOKUP(C2434,Referencias!$B$24:$C$40,2,FALSE())","v":"M"}]
["2814515","Rodríguez González, María Pilar","Madrileña","D",{"$f":"VLOOKUP(G2435,Referencias!$C$4:$D$21,2,FALSE())","v":"Sin Categoría"},{"$f":"VLOOKUP(G2435,Referencias!$C$4:$E$21,3,FALSE())","v":4},"SC","Competición",{"$f":"VLOOKUP(C2435,Referencias!$B$24:$C$40,2,FALSE())","v":"M"}]
["2814521","Álvarez Gala, José Ramón","Madrileña","C",{"$f":"VLOOKUP(G2436,Referencias!$C$4:$D$21,2,FALSE())","v":"Sin Categoría"},{"$f":"VLOOKUP(G2436,Referencias!$C$4:$E$21,3,FALSE())","v":4},"SC","Competición",{"$f":"VLOOKUP(C2436,Referencias!$B$24:$C$40,2,FALSE())","v":"M"}]
["2814522","Calvo Haro, Rosa María","Madrileña","D",{"$f":"VLOOKUP(G2437,Referencias!$C$4:$D$21,2,FALSE())","v":"Tercera Diamante"},{"$f":"VLOOKUP(G2437,Referencias!$C$4:$E$21,3,FALSE())","v":3},"3D","Competición",{"$f":"VLOOKUP(C2437,Referencias!$B$24:$C$40,2,FALSE())","v":"M"}]
["2814523","Rebollo Cuadro, África","Madrileña","D",{"$f":"VLOOKUP(G2438,Referencias!$C$4:$D$21,2,FALSE())","v":"Sin Categoría"},{"$f":"VLOOKUP(G2438,Referencias!$C$4:$E$21,3,FALSE())","v":4},"SC","Competición",{"$f":"VLOOKUP(C2438,Referencias!$B$24:$C$40,2,FALSE())","v":"M"}]
["2814526","Danés de Castro, Cristina","Madrileña","D",{"$f":"VLOOKUP(G2439,Referencias!$C$4:$D$21,2,FALSE())","v":"Sin Categoría"},{"$f":"VLOOKUP(G2439,Referencias!$C$4:$E$21,3,FALSE())","v":4},"SC","Competición",{"$f":"VLOOKUP(C2439,Referencias!$B$24:$C$40,2,FALSE())","v":"M"}]
["2814527","Cuartero Martínez, Enriqueta","Madrileña","D",{"$f":"VLOOKUP(G2440,Referencias!$C$4:$D$21,2,FALSE())","v":"Sin Categoría"},{"$f":"VLOOKUP(G2440,Referencias!$C$4:$E$21,3,FALSE())","v":4},"SC","Competición",{"$f":"VLOOKUP(C2440,Referencias!$B$24:$C$40,2,FALSE())","v":"M"}]
["2814528","Alpañes Ramos, Ana","Madrileña","D",{"$f":"VLOOKUP(G2441,Referencias!$C$4:$D$21,2,FALSE())","v":"Sin Categoría"},{"$f":"VLOOKUP(G2441,Referencias!$C$4:$E$21,3,FALSE())","v":4},"SC","Competición",{"$f":"VLOOKUP(C2441,Referencias!$B$24:$C$40,2,FALSE())","v":"M"}]
["2814529","Pérez de Villaamil Lapiedra, Mercedes","Madrileña","D",{"$f":"VLOOKUP(G2442,Referencias!$C$4:$D$21,2,FALSE())","v":"Sin Categoría"},{"$f":"VLOOKUP(G2442,Referencias!$C$4:$E$21,3,FALSE())","v":4},"SC","Competición",{"$f":"VLOOKUP(C2442,Referencias!$B$24:$C$40,2,FALSE())","v":"M"}]
["2814532","Cabrera Castells, Sylvia","Madrileña","D",{"$f":"VLOOKUP(G2443,Referencias!$C$4:$D$21,2,FALSE())","v":"Tercera Corazón"},{"$f":"VLOOKUP(G2443,Referencias!$C$4:$E$21,3,FALSE())","v":3},"3C","Competición",{"$f":"VLOOKUP(C2443,Referencias!$B$24:$C$40,2,FALSE())","v":"M"}]
["2814533","Pérez de Villaamil Lapiedra, Patricia","Madrileña","D",{"$f":"VLOOKUP(G2444,Referencias!$C$4:$D$21,2,FALSE())","v":"Sin Categoría"},{"$f":"VLOOKUP(G2444,Referencias!$C$4:$E$21,3,FALSE())","v":4},"SC","Competición",{"$f":"VLOOKUP(C2444,Referencias!$B$24:$C$40,2,FALSE())","v":"M"}]
["2814534","Campal Rubio, Sofia","Madrileña","D",{"$f":"VLOOKUP(G2445,Referencias!$C$4:$D$21,2,FALSE())","v":"Sin Categoría"},{"$f":"VLOOKUP(G2445,Referencias!$C$4:$E$21,3,FALSE())","v":4},"SC","Competición",{"$f":"VLOOKUP(C2445,Referencias!$B$24:$C$40,2,FALSE())","v":"M"}]
["2814536","Cervera Miralles, María Dolores","Madrileña","D",{"$f":"VLOOKUP(G2446,Referencias!$C$4:$D$21,2,FALSE())","v":"Segunda Diamante"},{"$f":"VLOOKUP(G2446,Referencias!$C$4:$E$21,3,FALSE())","v":2},"2D","Competición",{"$f":"VLOOKUP(C2446,Referencias!$B$24:$C$40,2,FALSE())","v":"M"}]
["2814538","Álvarez Veiga, Carmen","Madrileña","D",{"$f":"VLOOKUP(G2447,Referencias!$C$4:$D$21,2,FALSE())","v":"Tercera Diamante"},{"$f":"VLOOKUP(G2447,Referencias!$C$4:$E$21,3,FALSE())","v":3},"3D","Competición",{"$f":"VLOOKUP(C2447,Referencias!$B$24:$C$40,2,FALSE())","v":"M"}]
["2814539","Osuna Chambón, Jose María","Madrileña","C",{"$f":"VLOOKUP(G2448,Referencias!$C$4:$D$21,2,FALSE())","v":"Tercera Corazón"},{"$f":"VLOOKUP(G2448,Referencias!$C$4:$E$21,3,FALSE())","v":3},"3C","Competición",{"$f":"VLOOKUP(C2448,Referencias!$B$24:$C$40,2,FALSE())","v":"M"}]
["2814540","Menéndez de Luarca Navia-Osorio, Margarita","Madrileña","D",{"$f":"VLOOKUP(G2449,Referencias!$C$4:$D$21,2,FALSE())","v":"Sin Categoría"},{"$f":"VLOOKUP(G2449,Referencias!$C$4:$E$21,3,FALSE())","v":4},"SC","Competición",{"$f":"VLOOKUP(C2449,Referencias!$B$24:$C$40,2,FALSE())","v":"M"}]
["2814541","Rosales García, Teresa","Madrileña","D",{"$f":"VLOOKUP(G2450,Referencias!$C$4:$D$21,2,FALSE())","v":"Tercera Corazón"},{"$f":"VLOOKUP(G2450,Referencias!$C$4:$E$21,3,FALSE())","v":3},"3C","Competición",{"$f":"VLOOKUP(C2450,Referencias!$B$24:$C$40,2,FALSE())","v":"M"}]
["2814543","González Sánchez, María Mercedes","Madrileña","D",{"$f":"VLOOKUP(G2451,Referencias!$C$4:$D$21,2,FALSE())","v":"Tercera Diamante"},{"$f":"VLOOKUP(G2451,Referencias!$C$4:$E$21,3,FALSE())","v":3},"3D","Competición",{"$f":"VLOOKUP(C2451,Referencias!$B$24:$C$40,2,FALSE())","v":"M"}]
["2814544","Garaizabal del Valle, María Eugenia","Madrileña","D",{"$f":"VLOOKUP(G2452,Referencias!$C$4:$D$21,2,FALSE())","v":"Tercera Diamante"},{"$f":"VLOOKUP(G2452,Referencias!$C$4:$E$21,3,FALSE())","v":3},"3D","Competición",{"$f":"VLOOKUP(C2452,Referencias!$B$24:$C$40,2,FALSE())","v":"M"}]
["2814545","Díaz Múgica, María Asunción","Madrileña","D",{"$f":"VLOOKUP(G2453,Referencias!$C$4:$D$21,2,FALSE())","v":"Sin Categoría"},{"$f":"VLOOKUP(G2453,Referencias!$C$4:$E$21,3,FALSE())","v":4},"SC","Competición",{"$f":"VLOOKUP(C2453,Referencias!$B$24:$C$40,2,FALSE())","v":"M"}]
["2814547","Fernández Mourelle, Guadalupe","Madrileña","D",{"$f":"VLOOKUP(G2454,Referencias!$C$4:$D$21,2,FALSE())","v":"Sin Categoría"},{"$f":"VLOOKUP(G2454,Referencias!$C$4:$E$21,3,FALSE())","v":4},"SC","Competición",{"$f":"VLOOKUP(C2454,Referencias!$B$24:$C$40,2,FALSE())","v":"M"}]
["2814548","González Bastos, Paloma","Madrileña","D",{"$f":"VLOOKUP(G2455,Referencias!$C$4:$D$21,2,FALSE())","v":"Sin Categoría"},{"$f":"VLOOKUP(G2455,Referencias!$C$4:$E$21,3,FALSE())","v":4},"SC","Competición",{"$f":"VLOOKUP(C2455,Referencias!$B$24:$C$40,2,FALSE())","v":"M"}]
["2814550","Candela Agut, Mariví","Madrileña","D",{"$f":"VLOOKUP(G2456,Referencias!$C$4:$D$21,2,FALSE())","v":"Tercera Diamante"},{"$f":"VLOOKUP(G2456,Referencias!$C$4:$E$21,3,FALSE())","v":3},"3D","Competición",{"$f":"VLOOKUP(C2456,Referencias!$B$24:$C$40,2,FALSE())","v":"M"}]
["2814551","Aboy Oquendo, Carmen","Madrileña","D",{"$f":"VLOOKUP(G2457,Referencias!$C$4:$D$21,2,FALSE())","v":"Tercera Diamante"},{"$f":"VLOOKUP(G2457,Referencias!$C$4:$E$21,3,FALSE())","v":3},"3D","Competición",{"$f":"VLOOKUP(C2457,Referencias!$B$24:$C$40,2,FALSE())","v":"M"}]
["2814552","Arrate Fernández-Castaño, Juan","Madrileña","C",{"$f":"VLOOKUP(G2458,Referencias!$C$4:$D$21,2,FALSE())","v":"Tercera Diamante"},{"$f":"VLOOKUP(G2458,Referencias!$C$4:$E$21,3,FALSE())","v":3},"3D","Competición",{"$f":"VLOOKUP(C2458,Referencias!$B$24:$C$40,2,FALSE())","v":"M"}]
["2814555","Cavanilles Cavanilles, Roselia","Madrileña","D",{"$f":"VLOOKUP(G2459,Referencias!$C$4:$D$21,2,FALSE())","v":"Tercera Corazón"},{"$f":"VLOOKUP(G2459,Referencias!$C$4:$E$21,3,FALSE())","v":3},"3C","Competición",{"$f":"VLOOKUP(C2459,Referencias!$B$24:$C$40,2,FALSE())","v":"M"}]
["2814556","Marin Riaño, Almudena","Madrileña","D",{"$f":"VLOOKUP(G2460,Referencias!$C$4:$D$21,2,FALSE())","v":"Tercera Corazón"},{"$f":"VLOOKUP(G2460,Referencias!$C$4:$E$21,3,FALSE())","v":3},"3C","Competición",{"$f":"VLOOKUP(C2460,Referencias!$B$24:$C$40,2,FALSE())","v":"M"}]
["2814557","González de Aguilar de la Peña, Elvira","Madrileña","D",{"$f":"VLOOKUP(G2461,Referencias!$C$4:$D$21,2,FALSE())","v":"Tercera Picas"},{"$f":"VLOOKUP(G2461,Referencias!$C$4:$E$21,3,FALSE())","v":3},"3P","Competición",{"$f":"VLOOKUP(C2461,Referencias!$B$24:$C$40,2,FALSE())","v":"M"}]
["2814559","Corchado Ruiz-Jarabo, Cecilia","Madrileña","D",{"$f":"VLOOKUP(G2462,Referencias!$C$4:$D$21,2,FALSE())","v":"Tercera Diamante"},{"$f":"VLOOKUP(G2462,Referencias!$C$4:$E$21,3,FALSE())","v":3},"3D","Competición",{"$f":"VLOOKUP(C2462,Referencias!$B$24:$C$40,2,FALSE())","v":"M"}]
["2814561","Guerra Arabolaza, Mapi","Madrileña","D",{"$f":"VLOOKUP(G2463,Referencias!$C$4:$D$21,2,FALSE())","v":"Tercera Diamante"},{"$f":"VLOOKUP(G2463,Referencias!$C$4:$E$21,3,FALSE())","v":3},"3D","Competición",{"$f":"VLOOKUP(C2463,Referencias!$B$24:$C$40,2,FALSE())","v":"M"}]
["2814562","Pascual Santamaría, Carmen","Madrileña","D",{"$f":"VLOOKUP(G2464,Referencias!$C$4:$D$21,2,FALSE())","v":"Sin Categoría"},{"$f":"VLOOKUP(G2464,Referencias!$C$4:$E$21,3,FALSE())","v":4},"SC","Competición",{"$f":"VLOOKUP(C2464,Referencias!$B$24:$C$40,2,FALSE())","v":"M"}]
["2814563","Muñoz Sánz, Ana Isabel","Madrileña","D",{"$f":"VLOOKUP(G2465,Referencias!$C$4:$D$21,2,FALSE())","v":"Tercera Diamante"},{"$f":"VLOOKUP(G2465,Referencias!$C$4:$E$21,3,FALSE())","v":3},"3D","Competición",{"$f":"VLOOKUP(C2465,Referencias!$B$24:$C$40,2,FALSE())","v":"M"}]
["2814564","Marín Romero, José Carlos","Madrileña","C",{"$f":"VLOOKUP(G2466,Referencias!$C$4:$D$21,2,FALSE())","v":"Tercera Picas"},{"$f":"VLOOKUP(G2466,Referencias!$C$4:$E$21,3,FALSE())","v":3},"3P","Competición",{"$f":"VLOOKUP(C2466,Referencias!$B$24:$C$40,2,FALSE())","v":"M"}]
["2814565","Arteche Pidal, Maravillas","Madrileña","D",{"$f":"VLOOKUP(G2467,Referencias!$C$4:$D$21,2,FALSE())","v":"Tercera Corazón"},{"$f":"VLOOKUP(G2467,Referencias!$C$4:$E$21,3,FALSE())","v":3},"3C","Competición",{"$f":"VLOOKUP(C2467,Referencias!$B$24:$C$40,2,FALSE())","v":"M"}]
["2814566","Cabezas de Herrera García de la Rosa, Begoña","Madrileña","D",{"$f":"VLOOKUP(G2468,Referencias!$C$4:$D$21,2,FALSE())","v":"Tercera Diamante"},{"$f":"VLOOKUP(G2468,Referencias!$C$4:$E$21,3,FALSE())","v":3},"3D","Competición",{"$f":"VLOOKUP(C2468,Referencias!$B$24:$C$40,2,FALSE())","v":"M"}]
["2814567","Fernández de Córdoba Ruiz-Ocejo, Beatriz","Madrileña","D",{"$f":"VLOOKUP(G2469,Referencias!$C$4:$D$21,2,FALSE())","v":"Sin Categoría"},{"$f":"VLOOKUP(G2469,Referencias!$C$4:$E$21,3,FALSE())","v":4},"SC","Competición",{"$f":"VLOOKUP(C2469,Referencias!$B$24:$C$40,2,FALSE())","v":"M"}]
["2814568","Maraver Cortezo, Lola","Madrileña","D",{"$f":"VLOOKUP(G2470,Referencias!$C$4:$D$21,2,FALSE())","v":"Sin Categoría"},{"$f":"VLOOKUP(G2470,Referencias!$C$4:$E$21,3,FALSE())","v":4},"SC","Competición",{"$f":"VLOOKUP(C2470,Referencias!$B$24:$C$40,2,FALSE())","v":"M"}]
["2814569","Morales de la Cova, Aida","Madrileña","D",{"$f":"VLOOKUP(G2471,Referencias!$C$4:$D$21,2,FALSE())","v":"Tercera Diamante"},{"$f":"VLOOKUP(G2471,Referencias!$C$4:$E$21,3,FALSE())","v":3},"3D","Competición",{"$f":"VLOOKUP(C2471,Referencias!$B$24:$C$40,2,FALSE())","v":"M"}]
["2814572","de Ena de la Cuesta, María","Madrileña","D",{"$f":"VLOOKUP(G2472,Referencias!$C$4:$D$21,2,FALSE())","v":"Tercera Diamante"},{"$f":"VLOOKUP(G2472,Referencias!$C$4:$E$21,3,FALSE())","v":3},"3D","Competición",{"$f":"VLOOKUP(C2472,Referencias!$B$24:$C$40,2,FALSE())","v":"M"}]
["2814573","Gómez- Acebo Borbón, Simoneta","Madrileña","D",{"$f":"VLOOKUP(G2473,Referencias!$C$4:$D$21,2,FALSE())","v":"Segunda Diamante"},{"$f":"VLOOKUP(G2473,Referencias!$C$4:$E$21,3,FALSE())","v":2},"2D","Competición",{"$f":"VLOOKUP(C2473,Referencias!$B$24:$C$40,2,FALSE())","v":"M"}]
["2814575","Eiroa Guillén, María Pilar","Madrileña","D",{"$f":"VLOOKUP(G2474,Referencias!$C$4:$D$21,2,FALSE())","v":"Sin Categoría"},{"$f":"VLOOKUP(G2474,Referencias!$C$4:$E$21,3,FALSE())","v":4},"SC","Competición",{"$f":"VLOOKUP(C2474,Referencias!$B$24:$C$40,2,FALSE())","v":"M"}]
["2814576","Zuazo Rosado, Marisa","Madrileña","D",{"$f":"VLOOKUP(G2475,Referencias!$C$4:$D$21,2,FALSE())","v":"Tercera Picas"},{"$f":"VLOOKUP(G2475,Referencias!$C$4:$E$21,3,FALSE())","v":3},"3P","Competición",{"$f":"VLOOKUP(C2475,Referencias!$B$24:$C$40,2,FALSE())","v":"M"}]
["2814577","Rumeu Cruzat, Patricia","Madrileña","D",{"$f":"VLOOKUP(G2476,Referencias!$C$4:$D$21,2,FALSE())","v":"Tercera Corazón"},{"$f":"VLOOKUP(G2476,Referencias!$C$4:$E$21,3,FALSE())","v":3},"3C","Competición",{"$f":"VLOOKUP(C2476,Referencias!$B$24:$C$40,2,FALSE())","v":"M"}]
["2814578","Campomanes De Labra, Carmen","Madrileña","D",{"$f":"VLOOKUP(G2477,Referencias!$C$4:$D$21,2,FALSE())","v":"Tercera Diamante"},{"$f":"VLOOKUP(G2477,Referencias!$C$4:$E$21,3,FALSE())","v":3},"3D","Competición",{"$f":"VLOOKUP(C2477,Referencias!$B$24:$C$40,2,FALSE())","v":"M"}]
["2814579","Eulate Gómez Rubiera, María ","Madrileña","D",{"$f":"VLOOKUP(G2478,Referencias!$C$4:$D$21,2,FALSE())","v":"Sin Categoría"},{"$f":"VLOOKUP(G2478,Referencias!$C$4:$E$21,3,FALSE())","v":4},"SC","Competición",{"$f":"VLOOKUP(C2478,Referencias!$B$24:$C$40,2,FALSE())","v":"M"}]
["2814580","Millán Mateo, Julio","Madrileña","C",{"$f":"VLOOKUP(G2479,Referencias!$C$4:$D$21,2,FALSE())","v":"Tercera Picas"},{"$f":"VLOOKUP(G2479,Referencias!$C$4:$E$21,3,FALSE())","v":3},"3P","Competición",{"$f":"VLOOKUP(C2479,Referencias!$B$24:$C$40,2,FALSE())","v":"M"}]
["2814581","Basabe Armijo, José Raimundo","Madrileña","C",{"$f":"VLOOKUP(G2480,Referencias!$C$4:$D$21,2,FALSE())","v":"Tercera Corazón"},{"$f":"VLOOKUP(G2480,Referencias!$C$4:$E$21,3,FALSE())","v":3},"3C","Competición",{"$f":"VLOOKUP(C2480,Referencias!$B$24:$C$40,2,FALSE())","v":"M"}]
["2814582","Vila Riudavets, Blanca","Madrileña","D",{"$f":"VLOOKUP(G2481,Referencias!$C$4:$D$21,2,FALSE())","v":"Sin Categoría"},{"$f":"VLOOKUP(G2481,Referencias!$C$4:$E$21,3,FALSE())","v":4},"SC","Competición",{"$f":"VLOOKUP(C2481,Referencias!$B$24:$C$40,2,FALSE())","v":"M"}]
["2814583","Riudavets Montes, Blanca","Madrileña","D",{"$f":"VLOOKUP(G2482,Referencias!$C$4:$D$21,2,FALSE())","v":"Sin Categoría"},{"$f":"VLOOKUP(G2482,Referencias!$C$4:$E$21,3,FALSE())","v":4},"SC","Competición",{"$f":"VLOOKUP(C2482,Referencias!$B$24:$C$40,2,FALSE())","v":"M"}]
["2814584","Thams Lorey, Ulf","Madrileña","C",{"$f":"VLOOKUP(G2483,Referencias!$C$4:$D$21,2,FALSE())","v":"Tercera Diamante"},{"$f":"VLOOKUP(G2483,Referencias!$C$4:$E$21,3,FALSE())","v":3},"3D","Competición",{"$f":"VLOOKUP(C2483,Referencias!$B$24:$C$40,2,FALSE())","v":"M"}]
["2814586","Suárez del Villar Ruiz de Huidobro, Álvaro","Madrileña","C",{"$f":"VLOOKUP(G2484,Referencias!$C$4:$D$21,2,FALSE())","v":"Tercera Diamante"},{"$f":"VLOOKUP(G2484,Referencias!$C$4:$E$21,3,FALSE())","v":3},"3D","Competición",{"$f":"VLOOKUP(C2484,Referencias!$B$24:$C$40,2,FALSE())","v":"M"}]
["2814588","Montiel Allendesalazar, Luis","Madrileña","C",{"$f":"VLOOKUP(G2485,Referencias!$C$4:$D$21,2,FALSE())","v":"Sin Categoría"},{"$f":"VLOOKUP(G2485,Referencias!$C$4:$E$21,3,FALSE())","v":4},"SC","Competición",{"$f":"VLOOKUP(C2485,Referencias!$B$24:$C$40,2,FALSE())","v":"M"}]
["2814589","Muro Domínguez, Mónica","Madrileña","D",{"$f":"VLOOKUP(G2486,Referencias!$C$4:$D$21,2,FALSE())","v":"Tercera Diamante"},{"$f":"VLOOKUP(G2486,Referencias!$C$4:$E$21,3,FALSE())","v":3},"3D","Competición",{"$f":"VLOOKUP(C2486,Referencias!$B$24:$C$40,2,FALSE())","v":"M"}]
["2814591","Cueto Puertas, Juan","Madrileña","C",{"$f":"VLOOKUP(G2487,Referencias!$C$4:$D$21,2,FALSE())","v":"Sin Categoría"},{"$f":"VLOOKUP(G2487,Referencias!$C$4:$E$21,3,FALSE())","v":4},"SC","Competición",{"$f":"VLOOKUP(C2487,Referencias!$B$24:$C$40,2,FALSE())","v":"M"}]
["2814593","Querol Quadras, Carmen","Madrileña","D",{"$f":"VLOOKUP(G2488,Referencias!$C$4:$D$21,2,FALSE())","v":"Sin Categoría"},{"$f":"VLOOKUP(G2488,Referencias!$C$4:$E$21,3,FALSE())","v":4},"SC","Competición",{"$f":"VLOOKUP(C2488,Referencias!$B$24:$C$40,2,FALSE())","v":"M"}]
["2814594","Moreno de Barreda Moreno, Antonio","Madrileña","C",{"$f":"VLOOKUP(G2489,Referencias!$C$4:$D$21,2,FALSE())","v":"Sin Categoría"},{"$f":"VLOOKUP(G2489,Referencias!$C$4:$E$21,3,FALSE())","v":4},"SC","Competición",{"$f":"VLOOKUP(C2489,Referencias!$B$24:$C$40,2,FALSE())","v":"M"}]
["2814595","García-Germán Pedregal, Patricia","Madrileña","D",{"$f":"VLOOKUP(G2490,Referencias!$C$4:$D$21,2,FALSE())","v":"Segunda Diamante"},{"$f":"VLOOKUP(G2490,Referencias!$C$4:$E$21,3,FALSE())","v":2},"2D","Competición",{"$f":"VLOOKUP(C2490,Referencias!$B$24:$C$40,2,FALSE())","v":"M"}]
["2814597","Arrechea Fúster, Victoria","Madrileña","D",{"$f":"VLOOKUP(G2491,Referencias!$C$4:$D$21,2,FALSE())","v":"Tercera Diamante"},{"$f":"VLOOKUP(G2491,Referencias!$C$4:$E$21,3,FALSE())","v":3},"3D","Competición",{"$f":"VLOOKUP(C2491,Referencias!$B$24:$C$40,2,FALSE())","v":"M"}]
["2814598","Gómez Oriol, José Rafael","Madrileña","C",{"$f":"VLOOKUP(G2492,Referencias!$C$4:$D$21,2,FALSE())","v":"Tercera Picas"},{"$f":"VLOOKUP(G2492,Referencias!$C$4:$E$21,3,FALSE())","v":3},"3P","Competición",{"$f":"VLOOKUP(C2492,Referencias!$B$24:$C$40,2,FALSE())","v":"M"}]
["2814603","Lumbreras De Azanza, Juan Carlos","Madrileña","C",{"$f":"VLOOKUP(G2493,Referencias!$C$4:$D$21,2,FALSE())","v":"Sin Categoría"},{"$f":"VLOOKUP(G2493,Referencias!$C$4:$E$21,3,FALSE())","v":4},"SC","Competición",{"$f":"VLOOKUP(C2493,Referencias!$B$24:$C$40,2,FALSE())","v":"M"}]
["2814604","Gil - Casares Trigo, María","Madrileña","D",{"$f":"VLOOKUP(G2494,Referencias!$C$4:$D$21,2,FALSE())","v":"Sin Categoría"},{"$f":"VLOOKUP(G2494,Referencias!$C$4:$E$21,3,FALSE())","v":4},"SC","Competición",{"$f":"VLOOKUP(C2494,Referencias!$B$24:$C$40,2,FALSE())","v":"M"}]
["2814606","Hernando Grande, Amparo","Madrileña","D",{"$f":"VLOOKUP(G2495,Referencias!$C$4:$D$21,2,FALSE())","v":"Sin Categoría"},{"$f":"VLOOKUP(G2495,Referencias!$C$4:$E$21,3,FALSE())","v":4},"SC","Competición",{"$f":"VLOOKUP(C2495,Referencias!$B$24:$C$40,2,FALSE())","v":"M"}]
["2814607","Armijo Torres, Elena","Madrileña","D",{"$f":"VLOOKUP(G2496,Referencias!$C$4:$D$21,2,FALSE())","v":"Tercera Diamante"},{"$f":"VLOOKUP(G2496,Referencias!$C$4:$E$21,3,FALSE())","v":3},"3D","Competición",{"$f":"VLOOKUP(C2496,Referencias!$B$24:$C$40,2,FALSE())","v":"M"}]
["2814609","Maiza Urbieta, Margarita","Madrileña","D",{"$f":"VLOOKUP(G2497,Referencias!$C$4:$D$21,2,FALSE())","v":"Sin Categoría"},{"$f":"VLOOKUP(G2497,Referencias!$C$4:$E$21,3,FALSE())","v":4},"SC","Competición",{"$f":"VLOOKUP(C2497,Referencias!$B$24:$C$40,2,FALSE())","v":"M"}]
["2814610","López-Belmonte Rubira, Juan Luis","Madrileña","C",{"$f":"VLOOKUP(G2498,Referencias!$C$4:$D$21,2,FALSE())","v":"Tercera Diamante"},{"$f":"VLOOKUP(G2498,Referencias!$C$4:$E$21,3,FALSE())","v":3},"3D","Competición",{"$f":"VLOOKUP(C2498,Referencias!$B$24:$C$40,2,FALSE())","v":"M"}]
["2814612","González-Chaves García de Villegas, María","Madrileña","D",{"$f":"VLOOKUP(G2499,Referencias!$C$4:$D$21,2,FALSE())","v":"Tercera Picas"},{"$f":"VLOOKUP(G2499,Referencias!$C$4:$E$21,3,FALSE())","v":3},"3P","Competición",{"$f":"VLOOKUP(C2499,Referencias!$B$24:$C$40,2,FALSE())","v":"M"}]
["2814613","Herrera de Gómez, Carmen","Madrileña","D",{"$f":"VLOOKUP(G2500,Referencias!$C$4:$D$21,2,FALSE())","v":"Tercera Diamante"},{"$f":"VLOOKUP(G2500,Referencias!$C$4:$E$21,3,FALSE())","v":3},"3D","Competición",{"$f":"VLOOKUP(C2500,Referencias!$B$24:$C$40,2,FALSE())","v":"M"}]
["2814614","Gimeno Robledano, Esperanza","Madrileña","D",{"$f":"VLOOKUP(G2501,Referencias!$C$4:$D$21,2,FALSE())","v":"Tercera Picas"},{"$f":"VLOOKUP(G2501,Referencias!$C$4:$E$21,3,FALSE())","v":3},"3P","Competición",{"$f":"VLOOKUP(C2501,Referencias!$B$24:$C$40,2,FALSE())","v":"M"}]
["2814615","del Campo Zunzunegui, Mónica","Madrileña","D",{"$f":"VLOOKUP(G2502,Referencias!$C$4:$D$21,2,FALSE())","v":"Tercera Diamante"},{"$f":"VLOOKUP(G2502,Referencias!$C$4:$E$21,3,FALSE())","v":3},"3D","Competición",{"$f":"VLOOKUP(C2502,Referencias!$B$24:$C$40,2,FALSE())","v":"M"}]
["2814616","Saénz de Miera Gutierrez, María José","Madrileña","D",{"$f":"VLOOKUP(G2503,Referencias!$C$4:$D$21,2,FALSE())","v":"Sin Categoría"},{"$f":"VLOOKUP(G2503,Referencias!$C$4:$E$21,3,FALSE())","v":4},"SC","Competición",{"$f":"VLOOKUP(C2503,Referencias!$B$24:$C$40,2,FALSE())","v":"M"}]
["2814618","Nuñez Robles, Marian","Madrileña","D",{"$f":"VLOOKUP(G2504,Referencias!$C$4:$D$21,2,FALSE())","v":"Sin Categoría"},{"$f":"VLOOKUP(G2504,Referencias!$C$4:$E$21,3,FALSE())","v":4},"SC","Competición",{"$f":"VLOOKUP(C2504,Referencias!$B$24:$C$40,2,FALSE())","v":"M"}]
["2814619","Bustos Pardo Manuel de Villena, Xavier","Madrileña","C",{"$f":"VLOOKUP(G2505,Referencias!$C$4:$D$21,2,FALSE())","v":"Sin Categoría"},{"$f":"VLOOKUP(G2505,Referencias!$C$4:$E$21,3,FALSE())","v":4},"SC","Competición",{"$f":"VLOOKUP(C2505,Referencias!$B$24:$C$40,2,FALSE())","v":"M"}]
["2814620","Oteyza Paúl, Maria","Madrileña","D",{"$f":"VLOOKUP(G2506,Referencias!$C$4:$D$21,2,FALSE())","v":"Tercera Diamante"},{"$f":"VLOOKUP(G2506,Referencias!$C$4:$E$21,3,FALSE())","v":3},"3D","Competición",{"$f":"VLOOKUP(C2506,Referencias!$B$24:$C$40,2,FALSE())","v":"M"}]
["2814621","del Pino O´Shea, Cristina","Madrileña","D",{"$f":"VLOOKUP(G2507,Referencias!$C$4:$D$21,2,FALSE())","v":"Tercera Diamante"},{"$f":"VLOOKUP(G2507,Referencias!$C$4:$E$21,3,FALSE())","v":3},"3D","Competición",{"$f":"VLOOKUP(C2507,Referencias!$B$24:$C$40,2,FALSE())","v":"M"}]
["2814622","Blázquez Guillén, Isabel","Madrileña","D",{"$f":"VLOOKUP(G2508,Referencias!$C$4:$D$21,2,FALSE())","v":"Tercera Diamante"},{"$f":"VLOOKUP(G2508,Referencias!$C$4:$E$21,3,FALSE())","v":3},"3D","Competición",{"$f":"VLOOKUP(C2508,Referencias!$B$24:$C$40,2,FALSE())","v":"M"}]
["2814623","Basabe O´Shea, Lourdes","Madrileña","D",{"$f":"VLOOKUP(G2509,Referencias!$C$4:$D$21,2,FALSE())","v":"Tercera Diamante"},{"$f":"VLOOKUP(G2509,Referencias!$C$4:$E$21,3,FALSE())","v":3},"3D","Competición",{"$f":"VLOOKUP(C2509,Referencias!$B$24:$C$40,2,FALSE())","v":"M"}]
["2814625","de la Vega Bergé, Begoña","Madrileña","D",{"$f":"VLOOKUP(G2510,Referencias!$C$4:$D$21,2,FALSE())","v":"Tercera Picas"},{"$f":"VLOOKUP(G2510,Referencias!$C$4:$E$21,3,FALSE())","v":3},"3P","Competición",{"$f":"VLOOKUP(C2510,Referencias!$B$24:$C$40,2,FALSE())","v":"M"}]
["2814628","Zuloaga Gallego, Carmen","Madrileña","D",{"$f":"VLOOKUP(G2511,Referencias!$C$4:$D$21,2,FALSE())","v":"Sin Categoría"},{"$f":"VLOOKUP(G2511,Referencias!$C$4:$E$21,3,FALSE())","v":4},"SC","Competición",{"$f":"VLOOKUP(C2511,Referencias!$B$24:$C$40,2,FALSE())","v":"M"}]
["2814629","Herrán Fernández, Alicia","Madrileña","D",{"$f":"VLOOKUP(G2512,Referencias!$C$4:$D$21,2,FALSE())","v":"Sin Categoría"},{"$f":"VLOOKUP(G2512,Referencias!$C$4:$E$21,3,FALSE())","v":4},"SC","Competición",{"$f":"VLOOKUP(C2512,Referencias!$B$24:$C$40,2,FALSE())","v":"M"}]
["2814630","Delgado Escofet, Estela","Madrileña","D",{"$f":"VLOOKUP(G2513,Referencias!$C$4:$D$21,2,FALSE())","v":"Segunda Corazón"},{"$f":"VLOOKUP(G2513,Referencias!$C$4:$E$21,3,FALSE())","v":2},"2C","Competición",{"$f":"VLOOKUP(C2513,Referencias!$B$24:$C$40,2,FALSE())","v":"M"}]
["2814631","Reh López-Dóriga, Beatriz","Madrileña","D",{"$f":"VLOOKUP(G2514,Referencias!$C$4:$D$21,2,FALSE())","v":"Sin Categoría"},{"$f":"VLOOKUP(G2514,Referencias!$C$4:$E$21,3,FALSE())","v":4},"SC","Competición",{"$f":"VLOOKUP(C2514,Referencias!$B$24:$C$40,2,FALSE())","v":"M"}]
["2814634","Herránz Pérez, Luis Antonio","Madrileña","C",{"$f":"VLOOKUP(G2515,Referencias!$C$4:$D$21,2,FALSE())","v":"Tercera Picas"},{"$f":"VLOOKUP(G2515,Referencias!$C$4:$E$21,3,FALSE())","v":3},"3P","Competición",{"$f":"VLOOKUP(C2515,Referencias!$B$24:$C$40,2,FALSE())","v":"M"}]
["2814636","Gómez-Tejedor Ortiz, Concepción","Madrileña","D",{"$f":"VLOOKUP(G2516,Referencias!$C$4:$D$21,2,FALSE())","v":"Sin Categoría"},{"$f":"VLOOKUP(G2516,Referencias!$C$4:$E$21,3,FALSE())","v":4},"SC","Competición",{"$f":"VLOOKUP(C2516,Referencias!$B$24:$C$40,2,FALSE())","v":"M"}]
["2814637","Llebot Majo, Rosa","Madrileña","D",{"$f":"VLOOKUP(G2517,Referencias!$C$4:$D$21,2,FALSE())","v":"Primera Picas"},{"$f":"VLOOKUP(G2517,Referencias!$C$4:$E$21,3,FALSE())","v":1},"1P","Competición",{"$f":"VLOOKUP(C2517,Referencias!$B$24:$C$40,2,FALSE())","v":"M"}]
["2814638","Guizy del Rio, Antonio","Madrileña","C",{"$f":"VLOOKUP(G2518,Referencias!$C$4:$D$21,2,FALSE())","v":"Primera Corazón"},{"$f":"VLOOKUP(G2518,Referencias!$C$4:$E$21,3,FALSE())","v":1},"1C","Competición",{"$f":"VLOOKUP(C2518,Referencias!$B$24:$C$40,2,FALSE())","v":"M"}]
["2814639","Simon, Pilar","Madrileña","D",{"$f":"VLOOKUP(G2519,Referencias!$C$4:$D$21,2,FALSE())","v":"Sin Categoría"},{"$f":"VLOOKUP(G2519,Referencias!$C$4:$E$21,3,FALSE())","v":4},"SC","Competición",{"$f":"VLOOKUP(C2519,Referencias!$B$24:$C$40,2,FALSE())","v":"M"}]
["2814640","Escoriaza St. John, Florencia","Madrileña","D",{"$f":"VLOOKUP(G2520,Referencias!$C$4:$D$21,2,FALSE())","v":"Tercera Diamante"},{"$f":"VLOOKUP(G2520,Referencias!$C$4:$E$21,3,FALSE())","v":3},"3D","Competición",{"$f":"VLOOKUP(C2520,Referencias!$B$24:$C$40,2,FALSE())","v":"M"}]
["2814641","Fernández Granda, Susana","Madrileña","D",{"$f":"VLOOKUP(G2521,Referencias!$C$4:$D$21,2,FALSE())","v":"Tercera Corazón"},{"$f":"VLOOKUP(G2521,Referencias!$C$4:$E$21,3,FALSE())","v":3},"3C","Competición",{"$f":"VLOOKUP(C2521,Referencias!$B$24:$C$40,2,FALSE())","v":"M"}]
["2814642","Benarroch Israel, Elena","Madrileña","D",{"$f":"VLOOKUP(G2522,Referencias!$C$4:$D$21,2,FALSE())","v":"Sin Categoría"},{"$f":"VLOOKUP(G2522,Referencias!$C$4:$E$21,3,FALSE())","v":4},"SC","Competición",{"$f":"VLOOKUP(C2522,Referencias!$B$24:$C$40,2,FALSE())","v":"M"}]
["2814651","Miguel Carnerero, Alicia","Madrileña","D",{"$f":"VLOOKUP(G2523,Referencias!$C$4:$D$21,2,FALSE())","v":"Sin Categoría"},{"$f":"VLOOKUP(G2523,Referencias!$C$4:$E$21,3,FALSE())","v":4},"SC","Competición",{"$f":"VLOOKUP(C2523,Referencias!$B$24:$C$40,2,FALSE())","v":"M"}]
["2814652","Espinosa de los Monteros Sánz-Tovar, María","Madrileña","D",{"$f":"VLOOKUP(G2524,Referencias!$C$4:$D$21,2,FALSE())","v":"Sin Categoría"},{"$f":"VLOOKUP(G2524,Referencias!$C$4:$E$21,3,FALSE())","v":4},"SC","Competición",{"$f":"VLOOKUP(C2524,Referencias!$B$24:$C$40,2,FALSE())","v":"M"}]
["2814653","Fernández López, Gloria","Madrileña","D",{"$f":"VLOOKUP(G2525,Referencias!$C$4:$D$21,2,FALSE())","v":"Tercera Corazón"},{"$f":"VLOOKUP(G2525,Referencias!$C$4:$E$21,3,FALSE())","v":3},"3C","Competición",{"$f":"VLOOKUP(C2525,Referencias!$B$24:$C$40,2,FALSE())","v":"M"}]
["2814656","Arpón de Mendivil Aldama, Alejandra","Madrileña","D",{"$f":"VLOOKUP(G2526,Referencias!$C$4:$D$21,2,FALSE())","v":"Tercera Picas"},{"$f":"VLOOKUP(G2526,Referencias!$C$4:$E$21,3,FALSE())","v":3},"3P","Competición",{"$f":"VLOOKUP(C2526,Referencias!$B$24:$C$40,2,FALSE())","v":"M"}]
["2814659","Vitale, María Rosaria","Madrileña","D",{"$f":"VLOOKUP(G2527,Referencias!$C$4:$D$21,2,FALSE())","v":"Sin Categoría"},{"$f":"VLOOKUP(G2527,Referencias!$C$4:$E$21,3,FALSE())","v":4},"SC","Competición",{"$f":"VLOOKUP(C2527,Referencias!$B$24:$C$40,2,FALSE())","v":"M"}]
["2814665","Zinger, Vladik","Madrileña","D",{"$f":"VLOOKUP(G2528,Referencias!$C$4:$D$21,2,FALSE())","v":"Primera Picas"},{"$f":"VLOOKUP(G2528,Referencias!$C$4:$E$21,3,FALSE())","v":1},"1P","Competición",{"$f":"VLOOKUP(C2528,Referencias!$B$24:$C$40,2,FALSE())","v":"M"}]
["2814666","Burgos Belascoain, Ana","Madrileña","D",{"$f":"VLOOKUP(G2529,Referencias!$C$4:$D$21,2,FALSE())","v":"Sin Categoría"},{"$f":"VLOOKUP(G2529,Referencias!$C$4:$E$21,3,FALSE())","v":4},"SC","Competición",{"$f":"VLOOKUP(C2529,Referencias!$B$24:$C$40,2,FALSE())","v":"M"}]
["2814667","García Lombardía, María Dolores","Madrileña","D",{"$f":"VLOOKUP(G2530,Referencias!$C$4:$D$21,2,FALSE())","v":"Primera Diamante"},{"$f":"VLOOKUP(G2530,Referencias!$C$4:$E$21,3,FALSE())","v":1},"1D","Competición",{"$f":"VLOOKUP(C2530,Referencias!$B$24:$C$40,2,FALSE())","v":"M"}]
["2814669","Avello Prendes, Alfredo","Madrileña","C",{"$f":"VLOOKUP(G2531,Referencias!$C$4:$D$21,2,FALSE())","v":"Tercera Diamante"},{"$f":"VLOOKUP(G2531,Referencias!$C$4:$E$21,3,FALSE())","v":3},"3D","Competición",{"$f":"VLOOKUP(C2531,Referencias!$B$24:$C$40,2,FALSE())","v":"M"}]
["2814671","Tomé Arias, Alicia","Madrileña","D",{"$f":"VLOOKUP(G2532,Referencias!$C$4:$D$21,2,FALSE())","v":"Sin Categoría"},{"$f":"VLOOKUP(G2532,Referencias!$C$4:$E$21,3,FALSE())","v":4},"SC","Competición",{"$f":"VLOOKUP(C2532,Referencias!$B$24:$C$40,2,FALSE())","v":"M"}]
["2814672","Antolin Navarro, Ana","Madrileña","D",{"$f":"VLOOKUP(G2533,Referencias!$C$4:$D$21,2,FALSE())","v":"Tercera Picas"},{"$f":"VLOOKUP(G2533,Referencias!$C$4:$E$21,3,FALSE())","v":3},"3P","Competición",{"$f":"VLOOKUP(C2533,Referencias!$B$24:$C$40,2,FALSE())","v":"M"}]
["2814673","Masaveu Cardin, Inés","Madrileña","D",{"$f":"VLOOKUP(G2534,Referencias!$C$4:$D$21,2,FALSE())","v":"Sin Categoría"},{"$f":"VLOOKUP(G2534,Referencias!$C$4:$E$21,3,FALSE())","v":4},"SC","Competición",{"$f":"VLOOKUP(C2534,Referencias!$B$24:$C$40,2,FALSE())","v":"M"}]
["2814675","Alarcó Canosa, Pablo","Madrileña","C",{"$f":"VLOOKUP(G2535,Referencias!$C$4:$D$21,2,FALSE())","v":"Sin Categoría"},{"$f":"VLOOKUP(G2535,Referencias!$C$4:$E$21,3,FALSE())","v":4},"SC","Competición",{"$f":"VLOOKUP(C2535,Referencias!$B$24:$C$40,2,FALSE())","v":"M"}]
["2814676","Nieto de la Cierva, María","Madrileña","D",{"$f":"VLOOKUP(G2536,Referencias!$C$4:$D$21,2,FALSE())","v":"Tercera Picas"},{"$f":"VLOOKUP(G2536,Referencias!$C$4:$E$21,3,FALSE())","v":3},"3P","Competición",{"$f":"VLOOKUP(C2536,Referencias!$B$24:$C$40,2,FALSE())","v":"M"}]
["2814677","Milano Manias, Alexander","Madrileña","C",{"$f":"VLOOKUP(G2537,Referencias!$C$4:$D$21,2,FALSE())","v":"Sin Categoría"},{"$f":"VLOOKUP(G2537,Referencias!$C$4:$E$21,3,FALSE())","v":4},"SC","Competición",{"$f":"VLOOKUP(C2537,Referencias!$B$24:$C$40,2,FALSE())","v":"M"}]
["2814680","de Torres Escudero, Sonsoles","Madrileña","D",{"$f":"VLOOKUP(G2538,Referencias!$C$4:$D$21,2,FALSE())","v":"Sin Categoría"},{"$f":"VLOOKUP(G2538,Referencias!$C$4:$E$21,3,FALSE())","v":4},"SC","Junior",{"$f":"VLOOKUP(C2538,Referencias!$B$24:$C$40,2,FALSE())","v":"M"}]
["2814684","Jané Marimón, Sara","Madrileña","D",{"$f":"VLOOKUP(G2539,Referencias!$C$4:$D$21,2,FALSE())","v":"Sin Categoría"},{"$f":"VLOOKUP(G2539,Referencias!$C$4:$E$21,3,FALSE())","v":4},"SC","Junior",{"$f":"VLOOKUP(C2539,Referencias!$B$24:$C$40,2,FALSE())","v":"M"}]
["2814690","Oscoz Prim, Ana","Madrileña","D",{"$f":"VLOOKUP(G2540,Referencias!$C$4:$D$21,2,FALSE())","v":"Segunda Diamante"},{"$f":"VLOOKUP(G2540,Referencias!$C$4:$E$21,3,FALSE())","v":2},"2D","Competición",{"$f":"VLOOKUP(C2540,Referencias!$B$24:$C$40,2,FALSE())","v":"M"}]
["2814691","Delgado Bellón, María José","Madrileña","D",{"$f":"VLOOKUP(G2541,Referencias!$C$4:$D$21,2,FALSE())","v":"Segunda Diamante"},{"$f":"VLOOKUP(G2541,Referencias!$C$4:$E$21,3,FALSE())","v":2},"2D","Competición",{"$f":"VLOOKUP(C2541,Referencias!$B$24:$C$40,2,FALSE())","v":"M"}]
["2814692","Marín Romano, María","Madrileña","D",{"$f":"VLOOKUP(G2542,Referencias!$C$4:$D$21,2,FALSE())","v":"Sin Categoría"},{"$f":"VLOOKUP(G2542,Referencias!$C$4:$E$21,3,FALSE())","v":4},"SC","Competición",{"$f":"VLOOKUP(C2542,Referencias!$B$24:$C$40,2,FALSE())","v":"M"}]
["2814693","Alonso de Noriega Muñiz, Lucia","Madrileña","D",{"$f":"VLOOKUP(G2543,Referencias!$C$4:$D$21,2,FALSE())","v":"Tercera Corazón"},{"$f":"VLOOKUP(G2543,Referencias!$C$4:$E$21,3,FALSE())","v":3},"3C","Competición",{"$f":"VLOOKUP(C2543,Referencias!$B$24:$C$40,2,FALSE())","v":"M"}]
["2814694","Melgarejo Nardiz, Covadonga","Madrileña","D",{"$f":"VLOOKUP(G2544,Referencias!$C$4:$D$21,2,FALSE())","v":"Sin Categoría"},{"$f":"VLOOKUP(G2544,Referencias!$C$4:$E$21,3,FALSE())","v":4},"SC","Competición",{"$f":"VLOOKUP(C2544,Referencias!$B$24:$C$40,2,FALSE())","v":"M"}]
["2814695","Romero Castaño, Lidia","Madrileña","D",{"$f":"VLOOKUP(G2545,Referencias!$C$4:$D$21,2,FALSE())","v":"Tercera Corazón"},{"$f":"VLOOKUP(G2545,Referencias!$C$4:$E$21,3,FALSE())","v":3},"3C","Competición",{"$f":"VLOOKUP(C2545,Referencias!$B$24:$C$40,2,FALSE())","v":"M"}]
["2814696","López Pereira, Luz María","Madrileña","D",{"$f":"VLOOKUP(G2546,Referencias!$C$4:$D$21,2,FALSE())","v":"Sin Categoría"},{"$f":"VLOOKUP(G2546,Referencias!$C$4:$E$21,3,FALSE())","v":4},"SC","Competición",{"$f":"VLOOKUP(C2546,Referencias!$B$24:$C$40,2,FALSE())","v":"M"}]
["2814698","Bigeriego Suárez-Blanco, Leticia","Madrileña","D",{"$f":"VLOOKUP(G2547,Referencias!$C$4:$D$21,2,FALSE())","v":"Primera Diamante"},{"$f":"VLOOKUP(G2547,Referencias!$C$4:$E$21,3,FALSE())","v":1},"1D","Competición",{"$f":"VLOOKUP(C2547,Referencias!$B$24:$C$40,2,FALSE())","v":"M"}]
["2814699","Fernández Benito, Almudena","Madrileña","D",{"$f":"VLOOKUP(G2548,Referencias!$C$4:$D$21,2,FALSE())","v":"Sin Categoría"},{"$f":"VLOOKUP(G2548,Referencias!$C$4:$E$21,3,FALSE())","v":4},"SC","Competición",{"$f":"VLOOKUP(C2548,Referencias!$B$24:$C$40,2,FALSE())","v":"M"}]
["2814700","Bigeriego Súarez-Blanco, Isabel","Madrileña","D",{"$f":"VLOOKUP(G2549,Referencias!$C$4:$D$21,2,FALSE())","v":"Segunda Picas"},{"$f":"VLOOKUP(G2549,Referencias!$C$4:$E$21,3,FALSE())","v":2},"2P","Competición",{"$f":"VLOOKUP(C2549,Referencias!$B$24:$C$40,2,FALSE())","v":"M"}]
["2814701","Tamames Redondo, Carlota","Madrileña","D",{"$f":"VLOOKUP(G2550,Referencias!$C$4:$D$21,2,FALSE())","v":"Sin Categoría"},{"$f":"VLOOKUP(G2550,Referencias!$C$4:$E$21,3,FALSE())","v":4},"SC","Competición",{"$f":"VLOOKUP(C2550,Referencias!$B$24:$C$40,2,FALSE())","v":"M"}]
["2814702","Hollegha, Daniel","Madrileña","C",{"$f":"VLOOKUP(G2551,Referencias!$C$4:$D$21,2,FALSE())","v":"Sin Categoría"},{"$f":"VLOOKUP(G2551,Referencias!$C$4:$E$21,3,FALSE())","v":4},"SC","Competición",{"$f":"VLOOKUP(C2551,Referencias!$B$24:$C$40,2,FALSE())","v":"M"}]
["2814703","Basagoiti González-Trevilla, Belén","Madrileña","D",{"$f":"VLOOKUP(G2552,Referencias!$C$4:$D$21,2,FALSE())","v":"Tercera Picas"},{"$f":"VLOOKUP(G2552,Referencias!$C$4:$E$21,3,FALSE())","v":3},"3P","Competición",{"$f":"VLOOKUP(C2552,Referencias!$B$24:$C$40,2,FALSE())","v":"M"}]
["2814704","Chicharro Vaca de Osma, María","Madrileña","D",{"$f":"VLOOKUP(G2553,Referencias!$C$4:$D$21,2,FALSE())","v":"Sin Categoría"},{"$f":"VLOOKUP(G2553,Referencias!$C$4:$E$21,3,FALSE())","v":4},"SC","Junior",{"$f":"VLOOKUP(C2553,Referencias!$B$24:$C$40,2,FALSE())","v":"M"}]
["2814705","Uriarte Petrini, Camila","Madrileña","D",{"$f":"VLOOKUP(G2554,Referencias!$C$4:$D$21,2,FALSE())","v":"Sin Categoría"},{"$f":"VLOOKUP(G2554,Referencias!$C$4:$E$21,3,FALSE())","v":4},"SC","Junior",{"$f":"VLOOKUP(C2554,Referencias!$B$24:$C$40,2,FALSE())","v":"M"}]
["2814706","Romero Puerto, Jimena","Madrileña","D",{"$f":"VLOOKUP(G2555,Referencias!$C$4:$D$21,2,FALSE())","v":"Sin Categoría"},{"$f":"VLOOKUP(G2555,Referencias!$C$4:$E$21,3,FALSE())","v":4},"SC","Junior",{"$f":"VLOOKUP(C2555,Referencias!$B$24:$C$40,2,FALSE())","v":"M"}]
["2814707","Marín Navarro, Almudena","Madrileña","D",{"$f":"VLOOKUP(G2556,Referencias!$C$4:$D$21,2,FALSE())","v":"Sin Categoría"},{"$f":"VLOOKUP(G2556,Referencias!$C$4:$E$21,3,FALSE())","v":4},"SC","Junior",{"$f":"VLOOKUP(C2556,Referencias!$B$24:$C$40,2,FALSE())","v":"M"}]
["2814708","de la Lastra Alvear, Javier","Madrileña","C",{"$f":"VLOOKUP(G2557,Referencias!$C$4:$D$21,2,FALSE())","v":"Sin Categoría"},{"$f":"VLOOKUP(G2557,Referencias!$C$4:$E$21,3,FALSE())","v":4},"SC","Junior",{"$f":"VLOOKUP(C2557,Referencias!$B$24:$C$40,2,FALSE())","v":"M"}]
["2814709","de la Lastra Alvear, Lourdes","Madrileña","D",{"$f":"VLOOKUP(G2558,Referencias!$C$4:$D$21,2,FALSE())","v":"Sin Categoría"},{"$f":"VLOOKUP(G2558,Referencias!$C$4:$E$21,3,FALSE())","v":4},"SC","Junior",{"$f":"VLOOKUP(C2558,Referencias!$B$24:$C$40,2,FALSE())","v":"M"}]
["2814711","de la Lastra Alvear, Borja","Madrileña","C",{"$f":"VLOOKUP(G2559,Referencias!$C$4:$D$21,2,FALSE())","v":"Sin Categoría"},{"$f":"VLOOKUP(G2559,Referencias!$C$4:$E$21,3,FALSE())","v":4},"SC","Junior",{"$f":"VLOOKUP(C2559,Referencias!$B$24:$C$40,2,FALSE())","v":"M"}]
["2814712","Torres Basabe, Gabriel","Madrileña","C",{"$f":"VLOOKUP(G2560,Referencias!$C$4:$D$21,2,FALSE())","v":"Tercera Corazón"},{"$f":"VLOOKUP(G2560,Referencias!$C$4:$E$21,3,FALSE())","v":3},"3C","Competición",{"$f":"VLOOKUP(C2560,Referencias!$B$24:$C$40,2,FALSE())","v":"M"}]
["2814713","Rivera Ysasi-Ysasmendi, Joaquin","Madrileña","C",{"$f":"VLOOKUP(G2561,Referencias!$C$4:$D$21,2,FALSE())","v":"Tercera Picas"},{"$f":"VLOOKUP(G2561,Referencias!$C$4:$E$21,3,FALSE())","v":3},"3P","Competición",{"$f":"VLOOKUP(C2561,Referencias!$B$24:$C$40,2,FALSE())","v":"M"}]
["2814714","Amo Fernández, Paloma","Madrileña","D",{"$f":"VLOOKUP(G2562,Referencias!$C$4:$D$21,2,FALSE())","v":"Sin Categoría"},{"$f":"VLOOKUP(G2562,Referencias!$C$4:$E$21,3,FALSE())","v":4},"SC","Competición",{"$f":"VLOOKUP(C2562,Referencias!$B$24:$C$40,2,FALSE())","v":"M"}]
["2814715","Amo Fernández, Inmaculada","Madrileña","D",{"$f":"VLOOKUP(G2563,Referencias!$C$4:$D$21,2,FALSE())","v":"Sin Categoría"},{"$f":"VLOOKUP(G2563,Referencias!$C$4:$E$21,3,FALSE())","v":4},"SC","Competición",{"$f":"VLOOKUP(C2563,Referencias!$B$24:$C$40,2,FALSE())","v":"M"}]
["2814716","Isla Álvarez de Tejera, Paloma","Madrileña","D",{"$f":"VLOOKUP(G2564,Referencias!$C$4:$D$21,2,FALSE())","v":"Tercera Picas"},{"$f":"VLOOKUP(G2564,Referencias!$C$4:$E$21,3,FALSE())","v":3},"3P","Competición",{"$f":"VLOOKUP(C2564,Referencias!$B$24:$C$40,2,FALSE())","v":"M"}]
["2814717","Salto Sánchez, Fernando","Madrileña","C",{"$f":"VLOOKUP(G2565,Referencias!$C$4:$D$21,2,FALSE())","v":"Segunda Diamante"},{"$f":"VLOOKUP(G2565,Referencias!$C$4:$E$21,3,FALSE())","v":2},"2D","Competición",{"$f":"VLOOKUP(C2565,Referencias!$B$24:$C$40,2,FALSE())","v":"M"}]
["2814718","Gila Herranz, Inés","Madrileña","D",{"$f":"VLOOKUP(G2566,Referencias!$C$4:$D$21,2,FALSE())","v":"Sin Categoría"},{"$f":"VLOOKUP(G2566,Referencias!$C$4:$E$21,3,FALSE())","v":4},"SC","Junior",{"$f":"VLOOKUP(C2566,Referencias!$B$24:$C$40,2,FALSE())","v":"M"}]
["2814719","Bisdikian, Diana","Madrileña","D",{"$f":"VLOOKUP(G2567,Referencias!$C$4:$D$21,2,FALSE())","v":"Primera Diamante"},{"$f":"VLOOKUP(G2567,Referencias!$C$4:$E$21,3,FALSE())","v":1},"1D","Competición",{"$f":"VLOOKUP(C2567,Referencias!$B$24:$C$40,2,FALSE())","v":"M"}]
["2814720","de la Cierva Moreno, Sofía","Madrileña","D",{"$f":"VLOOKUP(G2568,Referencias!$C$4:$D$21,2,FALSE())","v":"Segunda Picas"},{"$f":"VLOOKUP(G2568,Referencias!$C$4:$E$21,3,FALSE())","v":2},"2P","Competición",{"$f":"VLOOKUP(C2568,Referencias!$B$24:$C$40,2,FALSE())","v":"M"}]
["2814721","Moreno de Borbón, Clara","Madrileña","D",{"$f":"VLOOKUP(G2569,Referencias!$C$4:$D$21,2,FALSE())","v":"Tercera Diamante"},{"$f":"VLOOKUP(G2569,Referencias!$C$4:$E$21,3,FALSE())","v":3},"3D","Competición",{"$f":"VLOOKUP(C2569,Referencias!$B$24:$C$40,2,FALSE())","v":"M"}]
["2814722","Cesteros Fernández, Miguel","Madrileña","C",{"$f":"VLOOKUP(G2570,Referencias!$C$4:$D$21,2,FALSE())","v":"Tercera Diamante"},{"$f":"VLOOKUP(G2570,Referencias!$C$4:$E$21,3,FALSE())","v":3},"3D","Competición",{"$f":"VLOOKUP(C2570,Referencias!$B$24:$C$40,2,FALSE())","v":"M"}]
["2814723","Soriano de Torres, Amelia","Madrileña","D",{"$f":"VLOOKUP(G2571,Referencias!$C$4:$D$21,2,FALSE())","v":"Tercera Diamante"},{"$f":"VLOOKUP(G2571,Referencias!$C$4:$E$21,3,FALSE())","v":3},"3D","Competición",{"$f":"VLOOKUP(C2571,Referencias!$B$24:$C$40,2,FALSE())","v":"M"}]
["2814725","Fraile Rodríguez, Guadalupe","Madrileña","D",{"$f":"VLOOKUP(G2572,Referencias!$C$4:$D$21,2,FALSE())","v":"Tercera Diamante"},{"$f":"VLOOKUP(G2572,Referencias!$C$4:$E$21,3,FALSE())","v":3},"3D","Competición",{"$f":"VLOOKUP(C2572,Referencias!$B$24:$C$40,2,FALSE())","v":"M"}]
["2814726","Saínz Armada, Pilar","Madrileña","D",{"$f":"VLOOKUP(G2573,Referencias!$C$4:$D$21,2,FALSE())","v":"Tercera Picas"},{"$f":"VLOOKUP(G2573,Referencias!$C$4:$E$21,3,FALSE())","v":3},"3P","Competición",{"$f":"VLOOKUP(C2573,Referencias!$B$24:$C$40,2,FALSE())","v":"M"}]
["2814727","Fernández de Bobadilla Ivisón, Blanca","Madrileña","D",{"$f":"VLOOKUP(G2574,Referencias!$C$4:$D$21,2,FALSE())","v":"Tercera Diamante"},{"$f":"VLOOKUP(G2574,Referencias!$C$4:$E$21,3,FALSE())","v":3},"3D","Competición",{"$f":"VLOOKUP(C2574,Referencias!$B$24:$C$40,2,FALSE())","v":"M"}]
["2814728","Ozores Aguirre, Pastora","Madrileña","D",{"$f":"VLOOKUP(G2575,Referencias!$C$4:$D$21,2,FALSE())","v":"Tercera Diamante"},{"$f":"VLOOKUP(G2575,Referencias!$C$4:$E$21,3,FALSE())","v":3},"3D","Competición",{"$f":"VLOOKUP(C2575,Referencias!$B$24:$C$40,2,FALSE())","v":"M"}]
["2814731","Sánz-Briz Quijano, Pilar","Madrileña","D",{"$f":"VLOOKUP(G2576,Referencias!$C$4:$D$21,2,FALSE())","v":"Sin Categoría"},{"$f":"VLOOKUP(G2576,Referencias!$C$4:$E$21,3,FALSE())","v":4},"SC","Competición",{"$f":"VLOOKUP(C2576,Referencias!$B$24:$C$40,2,FALSE())","v":"M"}]
["2814732","Wilda, Krzysztof Marek","Madrileña","C",{"$f":"VLOOKUP(G2577,Referencias!$C$4:$D$21,2,FALSE())","v":"Tercera Picas"},{"$f":"VLOOKUP(G2577,Referencias!$C$4:$E$21,3,FALSE())","v":3},"3P","Competición",{"$f":"VLOOKUP(C2577,Referencias!$B$24:$C$40,2,FALSE())","v":"M"}]
["2814735","Simión, Cristina-Elena","Madrileña","D",{"$f":"VLOOKUP(G2578,Referencias!$C$4:$D$21,2,FALSE())","v":"Primera Picas"},{"$f":"VLOOKUP(G2578,Referencias!$C$4:$E$21,3,FALSE())","v":1},"1P","Competición",{"$f":"VLOOKUP(C2578,Referencias!$B$24:$C$40,2,FALSE())","v":"M"}]
["2814736","De Jaureguízar, Marquesa","Madrileña","D",{"$f":"VLOOKUP(G2579,Referencias!$C$4:$D$21,2,FALSE())","v":"Segunda Corazón"},{"$f":"VLOOKUP(G2579,Referencias!$C$4:$E$21,3,FALSE())","v":2},"2C","Competición",{"$f":"VLOOKUP(C2579,Referencias!$B$24:$C$40,2,FALSE())","v":"M"}]
["2814738","Portal Antón, Ceferino","Madrileña","C",{"$f":"VLOOKUP(G2580,Referencias!$C$4:$D$21,2,FALSE())","v":"Sin Categoría"},{"$f":"VLOOKUP(G2580,Referencias!$C$4:$E$21,3,FALSE())","v":4},"SC","Competición",{"$f":"VLOOKUP(C2580,Referencias!$B$24:$C$40,2,FALSE())","v":"M"}]
["2814739","Ladrón de Guevara Rovira, Lina","Madrileña","D",{"$f":"VLOOKUP(G2581,Referencias!$C$4:$D$21,2,FALSE())","v":"Sin Categoría"},{"$f":"VLOOKUP(G2581,Referencias!$C$4:$E$21,3,FALSE())","v":4},"SC","Competición",{"$f":"VLOOKUP(C2581,Referencias!$B$24:$C$40,2,FALSE())","v":"M"}]
["2814740","Quintian Rodríguez, María Antonia","Madrileña","D",{"$f":"VLOOKUP(G2582,Referencias!$C$4:$D$21,2,FALSE())","v":"Primera Diamante"},{"$f":"VLOOKUP(G2582,Referencias!$C$4:$E$21,3,FALSE())","v":1},"1D","Competición",{"$f":"VLOOKUP(C2582,Referencias!$B$24:$C$40,2,FALSE())","v":"M"}]
["2814741","Suárez García, Paloma","Madrileña","D",{"$f":"VLOOKUP(G2583,Referencias!$C$4:$D$21,2,FALSE())","v":"Primera Diamante"},{"$f":"VLOOKUP(G2583,Referencias!$C$4:$E$21,3,FALSE())","v":1},"1D","Competición",{"$f":"VLOOKUP(C2583,Referencias!$B$24:$C$40,2,FALSE())","v":"M"}]
["2814742","Buteica, Amelia Persida","Madrileña","D",{"$f":"VLOOKUP(G2584,Referencias!$C$4:$D$21,2,FALSE())","v":"Primera Picas"},{"$f":"VLOOKUP(G2584,Referencias!$C$4:$E$21,3,FALSE())","v":1},"1P","Competición",{"$f":"VLOOKUP(C2584,Referencias!$B$24:$C$40,2,FALSE())","v":"M"}]
["2814743","Fernández-Hontoria Botín, María Luisa","Madrileña","D",{"$f":"VLOOKUP(G2585,Referencias!$C$4:$D$21,2,FALSE())","v":"Sin Categoría"},{"$f":"VLOOKUP(G2585,Referencias!$C$4:$E$21,3,FALSE())","v":4},"SC","Competición",{"$f":"VLOOKUP(C2585,Referencias!$B$24:$C$40,2,FALSE())","v":"M"}]
["2814745","Pagola Saenz, José","Madrileña","C",{"$f":"VLOOKUP(G2586,Referencias!$C$4:$D$21,2,FALSE())","v":"Tercera Diamante"},{"$f":"VLOOKUP(G2586,Referencias!$C$4:$E$21,3,FALSE())","v":3},"3D","Competición",{"$f":"VLOOKUP(C2586,Referencias!$B$24:$C$40,2,FALSE())","v":"M"}]
["2814746","García Romero, Ernestina","Madrileña","D",{"$f":"VLOOKUP(G2587,Referencias!$C$4:$D$21,2,FALSE())","v":"Segunda Picas"},{"$f":"VLOOKUP(G2587,Referencias!$C$4:$E$21,3,FALSE())","v":2},"2P","Competición",{"$f":"VLOOKUP(C2587,Referencias!$B$24:$C$40,2,FALSE())","v":"M"}]
["2814747","Alonso Álvarez, María","Madrileña","D",{"$f":"VLOOKUP(G2588,Referencias!$C$4:$D$21,2,FALSE())","v":"Tercera Diamante"},{"$f":"VLOOKUP(G2588,Referencias!$C$4:$E$21,3,FALSE())","v":3},"3D","Competición",{"$f":"VLOOKUP(C2588,Referencias!$B$24:$C$40,2,FALSE())","v":"M"}]
["2814749","Herranz Méndez, María José","Madrileña","D",{"$f":"VLOOKUP(G2589,Referencias!$C$4:$D$21,2,FALSE())","v":"Sin Categoría"},{"$f":"VLOOKUP(G2589,Referencias!$C$4:$E$21,3,FALSE())","v":4},"SC","Competición",{"$f":"VLOOKUP(C2589,Referencias!$B$24:$C$40,2,FALSE())","v":"M"}]
["2814750","Potsch, Andreas","Madrileña","C",{"$f":"VLOOKUP(G2590,Referencias!$C$4:$D$21,2,FALSE())","v":"Tercera Picas"},{"$f":"VLOOKUP(G2590,Referencias!$C$4:$E$21,3,FALSE())","v":3},"3P","Competición",{"$f":"VLOOKUP(C2590,Referencias!$B$24:$C$40,2,FALSE())","v":"M"}]
["2814752","Barrios Robredo, María Jesús","Madrileña","D",{"$f":"VLOOKUP(G2591,Referencias!$C$4:$D$21,2,FALSE())","v":"Sin Categoría"},{"$f":"VLOOKUP(G2591,Referencias!$C$4:$E$21,3,FALSE())","v":4},"SC","Competición",{"$f":"VLOOKUP(C2591,Referencias!$B$24:$C$40,2,FALSE())","v":"M"}]
["2814753","Sierra Pizarro, Raquel","Madrileña","D",{"$f":"VLOOKUP(G2592,Referencias!$C$4:$D$21,2,FALSE())","v":"Tercera Diamante"},{"$f":"VLOOKUP(G2592,Referencias!$C$4:$E$21,3,FALSE())","v":3},"3D","Competición",{"$f":"VLOOKUP(C2592,Referencias!$B$24:$C$40,2,FALSE())","v":"M"}]
["2814754","Díaz Rodríguez -Valdés, Clara","Madrileña","D",{"$f":"VLOOKUP(G2593,Referencias!$C$4:$D$21,2,FALSE())","v":"Tercera Diamante"},{"$f":"VLOOKUP(G2593,Referencias!$C$4:$E$21,3,FALSE())","v":3},"3D","Competición",{"$f":"VLOOKUP(C2593,Referencias!$B$24:$C$40,2,FALSE())","v":"M"}]
["2814755","Gómez-Pallete Alonso, Pilar","Madrileña","D",{"$f":"VLOOKUP(G2594,Referencias!$C$4:$D$21,2,FALSE())","v":"Tercera Corazón"},{"$f":"VLOOKUP(G2594,Referencias!$C$4:$E$21,3,FALSE())","v":3},"3C","Competición",{"$f":"VLOOKUP(C2594,Referencias!$B$24:$C$40,2,FALSE())","v":"M"}]
["2814756","Labayen Latorre, Pilar","Madrileña","D",{"$f":"VLOOKUP(G2595,Referencias!$C$4:$D$21,2,FALSE())","v":"Segunda Corazón"},{"$f":"VLOOKUP(G2595,Referencias!$C$4:$E$21,3,FALSE())","v":2},"2C","Competición",{"$f":"VLOOKUP(C2595,Referencias!$B$24:$C$40,2,FALSE())","v":"M"}]
["2814757","Martí Navarro, Pilar","Madrileña","D",{"$f":"VLOOKUP(G2596,Referencias!$C$4:$D$21,2,FALSE())","v":"Sin Categoría"},{"$f":"VLOOKUP(G2596,Referencias!$C$4:$E$21,3,FALSE())","v":4},"SC","Competición",{"$f":"VLOOKUP(C2596,Referencias!$B$24:$C$40,2,FALSE())","v":"M"}]
["2814758","de la Vega Berge, Rosario","Madrileña","D",{"$f":"VLOOKUP(G2597,Referencias!$C$4:$D$21,2,FALSE())","v":"Sin Categoría"},{"$f":"VLOOKUP(G2597,Referencias!$C$4:$E$21,3,FALSE())","v":4},"SC","Competición",{"$f":"VLOOKUP(C2597,Referencias!$B$24:$C$40,2,FALSE())","v":"M"}]
["2814760","Buendia Urbano, Pilar","Madrileña","D",{"$f":"VLOOKUP(G2598,Referencias!$C$4:$D$21,2,FALSE())","v":"Sin Categoría"},{"$f":"VLOOKUP(G2598,Referencias!$C$4:$E$21,3,FALSE())","v":4},"SC","Competición",{"$f":"VLOOKUP(C2598,Referencias!$B$24:$C$40,2,FALSE())","v":"M"}]
["2814762","Burgo García, Agustina","Madrileña","D",{"$f":"VLOOKUP(G2599,Referencias!$C$4:$D$21,2,FALSE())","v":"Tercera Diamante"},{"$f":"VLOOKUP(G2599,Referencias!$C$4:$E$21,3,FALSE())","v":3},"3D","Competición",{"$f":"VLOOKUP(C2599,Referencias!$B$24:$C$40,2,FALSE())","v":"M"}]
["2814764","Jiménez Sanches, María Luz","Madrileña","D",{"$f":"VLOOKUP(G2600,Referencias!$C$4:$D$21,2,FALSE())","v":"Sin Categoría"},{"$f":"VLOOKUP(G2600,Referencias!$C$4:$E$21,3,FALSE())","v":4},"SC","Competición",{"$f":"VLOOKUP(C2600,Referencias!$B$24:$C$40,2,FALSE())","v":"M"}]
["2814766","Lasso de la Vega Borja, Gonzalo","Madrileña","C",{"$f":"VLOOKUP(G2601,Referencias!$C$4:$D$21,2,FALSE())","v":"Tercera Picas"},{"$f":"VLOOKUP(G2601,Referencias!$C$4:$E$21,3,FALSE())","v":3},"3P","Competición",{"$f":"VLOOKUP(C2601,Referencias!$B$24:$C$40,2,FALSE())","v":"M"}]
["2814767","Lafuente Blanco, Ana María","Madrileña","D",{"$f":"VLOOKUP(G2602,Referencias!$C$4:$D$21,2,FALSE())","v":"Sin Categoría"},{"$f":"VLOOKUP(G2602,Referencias!$C$4:$E$21,3,FALSE())","v":4},"SC","Competición",{"$f":"VLOOKUP(C2602,Referencias!$B$24:$C$40,2,FALSE())","v":"M"}]
["2814768","Liang Zhou, Jianguo","Madrileña","C",{"$f":"VLOOKUP(G2603,Referencias!$C$4:$D$21,2,FALSE())","v":"Sin Categoría"},{"$f":"VLOOKUP(G2603,Referencias!$C$4:$E$21,3,FALSE())","v":4},"SC","Competición",{"$f":"VLOOKUP(C2603,Referencias!$B$24:$C$40,2,FALSE())","v":"M"}]
["2814771","Azcárraga Gonzalo, Paz","Madrileña","D",{"$f":"VLOOKUP(G2604,Referencias!$C$4:$D$21,2,FALSE())","v":"Tercera Picas"},{"$f":"VLOOKUP(G2604,Referencias!$C$4:$E$21,3,FALSE())","v":3},"3P","Competición",{"$f":"VLOOKUP(C2604,Referencias!$B$24:$C$40,2,FALSE())","v":"M"}]
["2814772","de Ena de La Cuesta, Sol","Madrileña","D",{"$f":"VLOOKUP(G2605,Referencias!$C$4:$D$21,2,FALSE())","v":"Tercera Picas"},{"$f":"VLOOKUP(G2605,Referencias!$C$4:$E$21,3,FALSE())","v":3},"3P","Competición",{"$f":"VLOOKUP(C2605,Referencias!$B$24:$C$40,2,FALSE())","v":"M"}]
["2814774","Soriano Saavedra, María Eugenia","Madrileña","D",{"$f":"VLOOKUP(G2606,Referencias!$C$4:$D$21,2,FALSE())","v":"Sin Categoría"},{"$f":"VLOOKUP(G2606,Referencias!$C$4:$E$21,3,FALSE())","v":4},"SC","Competición",{"$f":"VLOOKUP(C2606,Referencias!$B$24:$C$40,2,FALSE())","v":"M"}]
["2814777","Barandica Fernández, Ana María","Madrileña","D",{"$f":"VLOOKUP(G2607,Referencias!$C$4:$D$21,2,FALSE())","v":"Sin Categoría"},{"$f":"VLOOKUP(G2607,Referencias!$C$4:$E$21,3,FALSE())","v":4},"SC","Competición",{"$f":"VLOOKUP(C2607,Referencias!$B$24:$C$40,2,FALSE())","v":"M"}]
["2814778","Hernández Santonja, Jorge","Madrileña","C",{"$f":"VLOOKUP(G2608,Referencias!$C$4:$D$21,2,FALSE())","v":"Sin Categoría"},{"$f":"VLOOKUP(G2608,Referencias!$C$4:$E$21,3,FALSE())","v":4},"SC","Competición",{"$f":"VLOOKUP(C2608,Referencias!$B$24:$C$40,2,FALSE())","v":"M"}]
["2814779","Martínez Chapa, Álvaro","Madrileña","C",{"$f":"VLOOKUP(G2609,Referencias!$C$4:$D$21,2,FALSE())","v":"Tercera Picas"},{"$f":"VLOOKUP(G2609,Referencias!$C$4:$E$21,3,FALSE())","v":3},"3P","Competición",{"$f":"VLOOKUP(C2609,Referencias!$B$24:$C$40,2,FALSE())","v":"M"}]
["2814780","Barrera Pérez-Seoane, Isabel","Madrileña","D",{"$f":"VLOOKUP(G2610,Referencias!$C$4:$D$21,2,FALSE())","v":"Tercera Picas"},{"$f":"VLOOKUP(G2610,Referencias!$C$4:$E$21,3,FALSE())","v":3},"3P","Competición",{"$f":"VLOOKUP(C2610,Referencias!$B$24:$C$40,2,FALSE())","v":"M"}]
["2814781","Cubillo Rivera, Teresa","Madrileña","D",{"$f":"VLOOKUP(G2611,Referencias!$C$4:$D$21,2,FALSE())","v":"Sin Categoría"},{"$f":"VLOOKUP(G2611,Referencias!$C$4:$E$21,3,FALSE())","v":4},"SC","Junior",{"$f":"VLOOKUP(C2611,Referencias!$B$24:$C$40,2,FALSE())","v":"M"}]
["2814782","Pardo Serrano, Leopoldo","Madrileña","C",{"$f":"VLOOKUP(G2612,Referencias!$C$4:$D$21,2,FALSE())","v":"Sin Categoría"},{"$f":"VLOOKUP(G2612,Referencias!$C$4:$E$21,3,FALSE())","v":4},"SC","Competición",{"$f":"VLOOKUP(C2612,Referencias!$B$24:$C$40,2,FALSE())","v":"M"}]
["2814783","Sáez de Ocariz Díaz de Otazu, Lola","Madrileña","D",{"$f":"VLOOKUP(G2613,Referencias!$C$4:$D$21,2,FALSE())","v":"Tercera Corazón"},{"$f":"VLOOKUP(G2613,Referencias!$C$4:$E$21,3,FALSE())","v":3},"3C","Competición",{"$f":"VLOOKUP(C2613,Referencias!$B$24:$C$40,2,FALSE())","v":"M"}]
["2814784","Espinosa de los Monteros, María Eugenía","Madrileña","D",{"$f":"VLOOKUP(G2614,Referencias!$C$4:$D$21,2,FALSE())","v":"Sin Categoría"},{"$f":"VLOOKUP(G2614,Referencias!$C$4:$E$21,3,FALSE())","v":4},"SC","Competición",{"$f":"VLOOKUP(C2614,Referencias!$B$24:$C$40,2,FALSE())","v":"M"}]
["2814785","Arce Montiel, Carmen","Madrileña","D",{"$f":"VLOOKUP(G2615,Referencias!$C$4:$D$21,2,FALSE())","v":"Sin Categoría"},{"$f":"VLOOKUP(G2615,Referencias!$C$4:$E$21,3,FALSE())","v":4},"SC","Competición",{"$f":"VLOOKUP(C2615,Referencias!$B$24:$C$40,2,FALSE())","v":"M"}]
["2814786","Rodríguez Olmedilla, Cristina","Madrileña","D",{"$f":"VLOOKUP(G2616,Referencias!$C$4:$D$21,2,FALSE())","v":"Sin Categoría"},{"$f":"VLOOKUP(G2616,Referencias!$C$4:$E$21,3,FALSE())","v":4},"SC","Competición",{"$f":"VLOOKUP(C2616,Referencias!$B$24:$C$40,2,FALSE())","v":"M"}]
["2814787","Ruiz-Jarabo Ferrán, Emilio","Madrileña","C",{"$f":"VLOOKUP(G2617,Referencias!$C$4:$D$21,2,FALSE())","v":"Tercera Picas"},{"$f":"VLOOKUP(G2617,Referencias!$C$4:$E$21,3,FALSE())","v":3},"3P","Competición",{"$f":"VLOOKUP(C2617,Referencias!$B$24:$C$40,2,FALSE())","v":"M"}]
["2814789","Marin Riaño, Fernando","Madrileña","C",{"$f":"VLOOKUP(G2618,Referencias!$C$4:$D$21,2,FALSE())","v":"Sin Categoría"},{"$f":"VLOOKUP(G2618,Referencias!$C$4:$E$21,3,FALSE())","v":4},"SC","Competición",{"$f":"VLOOKUP(C2618,Referencias!$B$24:$C$40,2,FALSE())","v":"M"}]
["2814790","Pérez Marcos, Regina","Madrileña","D",{"$f":"VLOOKUP(G2619,Referencias!$C$4:$D$21,2,FALSE())","v":"Sin Categoría"},{"$f":"VLOOKUP(G2619,Referencias!$C$4:$E$21,3,FALSE())","v":4},"SC","Competición",{"$f":"VLOOKUP(C2619,Referencias!$B$24:$C$40,2,FALSE())","v":"M"}]
["2814791","Muñoz Jaureguialzo, Irene","Madrileña","D",{"$f":"VLOOKUP(G2620,Referencias!$C$4:$D$21,2,FALSE())","v":"Sin Categoría"},{"$f":"VLOOKUP(G2620,Referencias!$C$4:$E$21,3,FALSE())","v":4},"SC","Competición",{"$f":"VLOOKUP(C2620,Referencias!$B$24:$C$40,2,FALSE())","v":"M"}]
["2814792","Larsen, Folke","Madrileña","C",{"$f":"VLOOKUP(G2621,Referencias!$C$4:$D$21,2,FALSE())","v":"Sin Categoría"},{"$f":"VLOOKUP(G2621,Referencias!$C$4:$E$21,3,FALSE())","v":4},"SC","Competición",{"$f":"VLOOKUP(C2621,Referencias!$B$24:$C$40,2,FALSE())","v":"M"}]
["2814794","Martín, Marta","Madrileña","D",{"$f":"VLOOKUP(G2622,Referencias!$C$4:$D$21,2,FALSE())","v":"Tercera Corazón"},{"$f":"VLOOKUP(G2622,Referencias!$C$4:$E$21,3,FALSE())","v":3},"3C","Competición",{"$f":"VLOOKUP(C2622,Referencias!$B$24:$C$40,2,FALSE())","v":"M"}]
["2814797","Ulla Marguita, Larsen","Madrileña","D",{"$f":"VLOOKUP(G2623,Referencias!$C$4:$D$21,2,FALSE())","v":"Sin Categoría"},{"$f":"VLOOKUP(G2623,Referencias!$C$4:$E$21,3,FALSE())","v":4},"SC","Competición",{"$f":"VLOOKUP(C2623,Referencias!$B$24:$C$40,2,FALSE())","v":"M"}]
["2814798","García de Ceca Benito, Paloma","Madrileña","D",{"$f":"VLOOKUP(G2624,Referencias!$C$4:$D$21,2,FALSE())","v":"Tercera Diamante"},{"$f":"VLOOKUP(G2624,Referencias!$C$4:$E$21,3,FALSE())","v":3},"3D","Competición",{"$f":"VLOOKUP(C2624,Referencias!$B$24:$C$40,2,FALSE())","v":"M"}]
["2814799","Ansa Urnoz, Uxua","Madrileña","D",{"$f":"VLOOKUP(G2625,Referencias!$C$4:$D$21,2,FALSE())","v":"Sin Categoría"},{"$f":"VLOOKUP(G2625,Referencias!$C$4:$E$21,3,FALSE())","v":4},"SC","Competición",{"$f":"VLOOKUP(C2625,Referencias!$B$24:$C$40,2,FALSE())","v":"M"}]
["2814800","Cendra Aparicio, Paloma","Madrileña","D",{"$f":"VLOOKUP(G2626,Referencias!$C$4:$D$21,2,FALSE())","v":"Sin Categoría"},{"$f":"VLOOKUP(G2626,Referencias!$C$4:$E$21,3,FALSE())","v":4},"SC","Competición",{"$f":"VLOOKUP(C2626,Referencias!$B$24:$C$40,2,FALSE())","v":"M"}]
["2814801","Moriano Mallo, Lucia","Madrileña","D",{"$f":"VLOOKUP(G2627,Referencias!$C$4:$D$21,2,FALSE())","v":"Sin Categoría"},{"$f":"VLOOKUP(G2627,Referencias!$C$4:$E$21,3,FALSE())","v":4},"SC","Competición",{"$f":"VLOOKUP(C2627,Referencias!$B$24:$C$40,2,FALSE())","v":"M"}]
["2814802","Merry del Val Diez de Rivera, Pedro","Madrileña","C",{"$f":"VLOOKUP(G2628,Referencias!$C$4:$D$21,2,FALSE())","v":"Sin Categoría"},{"$f":"VLOOKUP(G2628,Referencias!$C$4:$E$21,3,FALSE())","v":4},"SC","Competición",{"$f":"VLOOKUP(C2628,Referencias!$B$24:$C$40,2,FALSE())","v":"M"}]
["2814803","Fernández del Castillo Suardiaz, Virginia","Madrileña","D",{"$f":"VLOOKUP(G2629,Referencias!$C$4:$D$21,2,FALSE())","v":"Sin Categoría"},{"$f":"VLOOKUP(G2629,Referencias!$C$4:$E$21,3,FALSE())","v":4},"SC","Competición",{"$f":"VLOOKUP(C2629,Referencias!$B$24:$C$40,2,FALSE())","v":"M"}]
["2814804","Bauluz Sabras, María Luisa","Madrileña","D",{"$f":"VLOOKUP(G2630,Referencias!$C$4:$D$21,2,FALSE())","v":"Sin Categoría"},{"$f":"VLOOKUP(G2630,Referencias!$C$4:$E$21,3,FALSE())","v":4},"SC","Competición",{"$f":"VLOOKUP(C2630,Referencias!$B$24:$C$40,2,FALSE())","v":"M"}]
["2814805","Frowein López de Arenosa, Carmen","Madrileña","D",{"$f":"VLOOKUP(G2631,Referencias!$C$4:$D$21,2,FALSE())","v":"Tercera Picas"},{"$f":"VLOOKUP(G2631,Referencias!$C$4:$E$21,3,FALSE())","v":3},"3P","Competición",{"$f":"VLOOKUP(C2631,Referencias!$B$24:$C$40,2,FALSE())","v":"M"}]
["2814806","Díaz Cremades, Miguel Angel","Madrileña","C",{"$f":"VLOOKUP(G2632,Referencias!$C$4:$D$21,2,FALSE())","v":"Sin Categoría"},{"$f":"VLOOKUP(G2632,Referencias!$C$4:$E$21,3,FALSE())","v":4},"SC","Competición",{"$f":"VLOOKUP(C2632,Referencias!$B$24:$C$40,2,FALSE())","v":"M"}]
["2814807","García de la Vega Ysasi-Ysasmendi, Mercedes","Madrileña","D",{"$f":"VLOOKUP(G2633,Referencias!$C$4:$D$21,2,FALSE())","v":"Tercera Diamante"},{"$f":"VLOOKUP(G2633,Referencias!$C$4:$E$21,3,FALSE())","v":3},"3D","Competición",{"$f":"VLOOKUP(C2633,Referencias!$B$24:$C$40,2,FALSE())","v":"M"}]
["2814808","Aparicio Alonso, María Paloma","Madrileña","D",{"$f":"VLOOKUP(G2634,Referencias!$C$4:$D$21,2,FALSE())","v":"Tercera Picas"},{"$f":"VLOOKUP(G2634,Referencias!$C$4:$E$21,3,FALSE())","v":3},"3P","Competición",{"$f":"VLOOKUP(C2634,Referencias!$B$24:$C$40,2,FALSE())","v":"M"}]
["2814809","García de la Vega Ysasi Ysasmendi, Pachela","Madrileña","D",{"$f":"VLOOKUP(G2635,Referencias!$C$4:$D$21,2,FALSE())","v":"Tercera Picas"},{"$f":"VLOOKUP(G2635,Referencias!$C$4:$E$21,3,FALSE())","v":3},"3P","Competición",{"$f":"VLOOKUP(C2635,Referencias!$B$24:$C$40,2,FALSE())","v":"M"}]
["2814811","Igartúa Narvaiza, María Luisa","Madrileña","D",{"$f":"VLOOKUP(G2636,Referencias!$C$4:$D$21,2,FALSE())","v":"Sin Categoría"},{"$f":"VLOOKUP(G2636,Referencias!$C$4:$E$21,3,FALSE())","v":4},"SC","Competición",{"$f":"VLOOKUP(C2636,Referencias!$B$24:$C$40,2,FALSE())","v":"M"}]
["2814812","Muela Pérez, María Victoria","Madrileña","D",{"$f":"VLOOKUP(G2637,Referencias!$C$4:$D$21,2,FALSE())","v":"Sin Categoría"},{"$f":"VLOOKUP(G2637,Referencias!$C$4:$E$21,3,FALSE())","v":4},"SC","Competición",{"$f":"VLOOKUP(C2637,Referencias!$B$24:$C$40,2,FALSE())","v":"M"}]
["2814813","García Bergas, Guadalupe","Madrileña","D",{"$f":"VLOOKUP(G2638,Referencias!$C$4:$D$21,2,FALSE())","v":"Tercera Diamante"},{"$f":"VLOOKUP(G2638,Referencias!$C$4:$E$21,3,FALSE())","v":3},"3D","Competición",{"$f":"VLOOKUP(C2638,Referencias!$B$24:$C$40,2,FALSE())","v":"M"}]
["2814814","Chico de Guzmán Girón, Concepción","Madrileña","D",{"$f":"VLOOKUP(G2639,Referencias!$C$4:$D$21,2,FALSE())","v":"Sin Categoría"},{"$f":"VLOOKUP(G2639,Referencias!$C$4:$E$21,3,FALSE())","v":4},"SC","Competición",{"$f":"VLOOKUP(C2639,Referencias!$B$24:$C$40,2,FALSE())","v":"M"}]
["2814815","de la Peña Robles, Almudena","Madrileña","D",{"$f":"VLOOKUP(G2640,Referencias!$C$4:$D$21,2,FALSE())","v":"Tercera Corazón"},{"$f":"VLOOKUP(G2640,Referencias!$C$4:$E$21,3,FALSE())","v":3},"3C","Competición",{"$f":"VLOOKUP(C2640,Referencias!$B$24:$C$40,2,FALSE())","v":"M"}]
["2814816","González-Aller Jurado, Rocío","Madrileña","D",{"$f":"VLOOKUP(G2641,Referencias!$C$4:$D$21,2,FALSE())","v":"Sin Categoría"},{"$f":"VLOOKUP(G2641,Referencias!$C$4:$E$21,3,FALSE())","v":4},"SC","Competición",{"$f":"VLOOKUP(C2641,Referencias!$B$24:$C$40,2,FALSE())","v":"M"}]
["2814818","Tornos Oliveros, Begoña","Madrileña","D",{"$f":"VLOOKUP(G2642,Referencias!$C$4:$D$21,2,FALSE())","v":"Tercera Diamante"},{"$f":"VLOOKUP(G2642,Referencias!$C$4:$E$21,3,FALSE())","v":3},"3D","Competición",{"$f":"VLOOKUP(C2642,Referencias!$B$24:$C$40,2,FALSE())","v":"M"}]
["2814819","Piñero Dalmau, María Julia","Madrileña","D",{"$f":"VLOOKUP(G2643,Referencias!$C$4:$D$21,2,FALSE())","v":"Tercera Diamante"},{"$f":"VLOOKUP(G2643,Referencias!$C$4:$E$21,3,FALSE())","v":3},"3D","Competición",{"$f":"VLOOKUP(C2643,Referencias!$B$24:$C$40,2,FALSE())","v":"M"}]
["2814821","Ruiz Castellano, Matilde","Madrileña","D",{"$f":"VLOOKUP(G2644,Referencias!$C$4:$D$21,2,FALSE())","v":"Tercera Corazón"},{"$f":"VLOOKUP(G2644,Referencias!$C$4:$E$21,3,FALSE())","v":3},"3C","Competición",{"$f":"VLOOKUP(C2644,Referencias!$B$24:$C$40,2,FALSE())","v":"M"}]
["2814822","Lorente Marín, Javier","Madrileña","C",{"$f":"VLOOKUP(G2645,Referencias!$C$4:$D$21,2,FALSE())","v":"Tercera Diamante"},{"$f":"VLOOKUP(G2645,Referencias!$C$4:$E$21,3,FALSE())","v":3},"3D","Competición",{"$f":"VLOOKUP(C2645,Referencias!$B$24:$C$40,2,FALSE())","v":"M"}]
["2814823","Merino Sánz, María Victoria","Madrileña","D",{"$f":"VLOOKUP(G2646,Referencias!$C$4:$D$21,2,FALSE())","v":"Sin Categoría"},{"$f":"VLOOKUP(G2646,Referencias!$C$4:$E$21,3,FALSE())","v":4},"SC","Competición",{"$f":"VLOOKUP(C2646,Referencias!$B$24:$C$40,2,FALSE())","v":"M"}]
["2814824","Lucena Cuerda, Concha","Madrileña","D",{"$f":"VLOOKUP(G2647,Referencias!$C$4:$D$21,2,FALSE())","v":"Tercera Diamante"},{"$f":"VLOOKUP(G2647,Referencias!$C$4:$E$21,3,FALSE())","v":3},"3D","Competición",{"$f":"VLOOKUP(C2647,Referencias!$B$24:$C$40,2,FALSE())","v":"M"}]
["2814825","de Olano Moliner, María Jesús","Madrileña","D",{"$f":"VLOOKUP(G2648,Referencias!$C$4:$D$21,2,FALSE())","v":"Tercera Diamante"},{"$f":"VLOOKUP(G2648,Referencias!$C$4:$E$21,3,FALSE())","v":3},"3D","Competición",{"$f":"VLOOKUP(C2648,Referencias!$B$24:$C$40,2,FALSE())","v":"M"}]
["2814828","Alonso Fernández, María Aurora","Madrileña","D",{"$f":"VLOOKUP(G2649,Referencias!$C$4:$D$21,2,FALSE())","v":"Sin Categoría"},{"$f":"VLOOKUP(G2649,Referencias!$C$4:$E$21,3,FALSE())","v":4},"SC","Competición",{"$f":"VLOOKUP(C2649,Referencias!$B$24:$C$40,2,FALSE())","v":"M"}]
["2814829","Foulquie Usan, Juan Miguel","Madrileña","C",{"$f":"VLOOKUP(G2650,Referencias!$C$4:$D$21,2,FALSE())","v":"Tercera Diamante"},{"$f":"VLOOKUP(G2650,Referencias!$C$4:$E$21,3,FALSE())","v":3},"3D","Competición",{"$f":"VLOOKUP(C2650,Referencias!$B$24:$C$40,2,FALSE())","v":"M"}]
["2814830","Chesa Padrón, María Dolores","Madrileña","D",{"$f":"VLOOKUP(G2651,Referencias!$C$4:$D$21,2,FALSE())","v":"Tercera Corazón"},{"$f":"VLOOKUP(G2651,Referencias!$C$4:$E$21,3,FALSE())","v":3},"3C","Competición",{"$f":"VLOOKUP(C2651,Referencias!$B$24:$C$40,2,FALSE())","v":"M"}]
["2814833","de la Mora Ojanguren, Virginia","Madrileña","D",{"$f":"VLOOKUP(G2652,Referencias!$C$4:$D$21,2,FALSE())","v":"Sin Categoría"},{"$f":"VLOOKUP(G2652,Referencias!$C$4:$E$21,3,FALSE())","v":4},"SC","Competición",{"$f":"VLOOKUP(C2652,Referencias!$B$24:$C$40,2,FALSE())","v":"M"}]
["2814834","Aresti Múgica, Leonor","Madrileña","D",{"$f":"VLOOKUP(G2653,Referencias!$C$4:$D$21,2,FALSE())","v":"Tercera Corazón"},{"$f":"VLOOKUP(G2653,Referencias!$C$4:$E$21,3,FALSE())","v":3},"3C","Competición",{"$f":"VLOOKUP(C2653,Referencias!$B$24:$C$40,2,FALSE())","v":"M"}]
["2814837","Fernández Rodríguez, María Jesús","Madrileña","D",{"$f":"VLOOKUP(G2654,Referencias!$C$4:$D$21,2,FALSE())","v":"Sin Categoría"},{"$f":"VLOOKUP(G2654,Referencias!$C$4:$E$21,3,FALSE())","v":4},"SC","Competición",{"$f":"VLOOKUP(C2654,Referencias!$B$24:$C$40,2,FALSE())","v":"M"}]
["2814838","Cubillo Sagüés, Mercedes","Madrileña","D",{"$f":"VLOOKUP(G2655,Referencias!$C$4:$D$21,2,FALSE())","v":"Segunda Picas"},{"$f":"VLOOKUP(G2655,Referencias!$C$4:$E$21,3,FALSE())","v":2},"2P","Competición",{"$f":"VLOOKUP(C2655,Referencias!$B$24:$C$40,2,FALSE())","v":"M"}]
["2814839","Casian, Andrés","Madrileña","C",{"$f":"VLOOKUP(G2656,Referencias!$C$4:$D$21,2,FALSE())","v":"Segunda Corazón"},{"$f":"VLOOKUP(G2656,Referencias!$C$4:$E$21,3,FALSE())","v":2},"2C","Competición",{"$f":"VLOOKUP(C2656,Referencias!$B$24:$C$40,2,FALSE())","v":"M"}]
["2814842","Perez Magariños, Isabel","Madrileña","D",{"$f":"VLOOKUP(G2657,Referencias!$C$4:$D$21,2,FALSE())","v":"Tercera Diamante"},{"$f":"VLOOKUP(G2657,Referencias!$C$4:$E$21,3,FALSE())","v":3},"3D","Competición",{"$f":"VLOOKUP(C2657,Referencias!$B$24:$C$40,2,FALSE())","v":"M"}]
["2814844","Fernández-Cid Alcolea, María Dolores","Madrileña","D",{"$f":"VLOOKUP(G2658,Referencias!$C$4:$D$21,2,FALSE())","v":"Sin Categoría"},{"$f":"VLOOKUP(G2658,Referencias!$C$4:$E$21,3,FALSE())","v":4},"SC","Competición",{"$f":"VLOOKUP(C2658,Referencias!$B$24:$C$40,2,FALSE())","v":"M"}]
["2814846","Vaca de Osma Zunzunegui, Ana Isabel","Madrileña","D",{"$f":"VLOOKUP(G2659,Referencias!$C$4:$D$21,2,FALSE())","v":"Sin Categoría"},{"$f":"VLOOKUP(G2659,Referencias!$C$4:$E$21,3,FALSE())","v":4},"SC","Competición",{"$f":"VLOOKUP(C2659,Referencias!$B$24:$C$40,2,FALSE())","v":"M"}]
["2814847","Palacios Santaella, Javier ","Madrileña","C",{"$f":"VLOOKUP(G2660,Referencias!$C$4:$D$21,2,FALSE())","v":"Segunda Picas"},{"$f":"VLOOKUP(G2660,Referencias!$C$4:$E$21,3,FALSE())","v":2},"2P","Competición",{"$f":"VLOOKUP(C2660,Referencias!$B$24:$C$40,2,FALSE())","v":"M"}]
["2814848","Olaso Sainz, Jorge José","Madrileña","C",{"$f":"VLOOKUP(G2661,Referencias!$C$4:$D$21,2,FALSE())","v":"Sin Categoría"},{"$f":"VLOOKUP(G2661,Referencias!$C$4:$E$21,3,FALSE())","v":4},"SC","Competición",{"$f":"VLOOKUP(C2661,Referencias!$B$24:$C$40,2,FALSE())","v":"M"}]
["2814849","de Lorenzo Riestra, Iria","Madrileña","D",{"$f":"VLOOKUP(G2662,Referencias!$C$4:$D$21,2,FALSE())","v":"Tercera Diamante"},{"$f":"VLOOKUP(G2662,Referencias!$C$4:$E$21,3,FALSE())","v":3},"3D","Junior",{"$f":"VLOOKUP(C2662,Referencias!$B$24:$C$40,2,FALSE())","v":"M"}]
["2814850","Churruca Marin, Isabel","Madrileña","D",{"$f":"VLOOKUP(G2663,Referencias!$C$4:$D$21,2,FALSE())","v":"Sin Categoría"},{"$f":"VLOOKUP(G2663,Referencias!$C$4:$E$21,3,FALSE())","v":4},"SC","Competición",{"$f":"VLOOKUP(C2663,Referencias!$B$24:$C$40,2,FALSE())","v":"M"}]
["2814852","Gonzalez Targhetta, Begoña","Madrileña","D",{"$f":"VLOOKUP(G2664,Referencias!$C$4:$D$21,2,FALSE())","v":"Sin Categoría"},{"$f":"VLOOKUP(G2664,Referencias!$C$4:$E$21,3,FALSE())","v":4},"SC","Competición",{"$f":"VLOOKUP(C2664,Referencias!$B$24:$C$40,2,FALSE())","v":"M"}]
["2814853","Rua Morte, Elena","Madrileña","D",{"$f":"VLOOKUP(G2665,Referencias!$C$4:$D$21,2,FALSE())","v":"Tercera Diamante"},{"$f":"VLOOKUP(G2665,Referencias!$C$4:$E$21,3,FALSE())","v":3},"3D","Competición",{"$f":"VLOOKUP(C2665,Referencias!$B$24:$C$40,2,FALSE())","v":"M"}]
["2814854","Guillén Cortés, Joaquin","Madrileña","C",{"$f":"VLOOKUP(G2666,Referencias!$C$4:$D$21,2,FALSE())","v":"Sin Categoría"},{"$f":"VLOOKUP(G2666,Referencias!$C$4:$E$21,3,FALSE())","v":4},"SC","Competición",{"$f":"VLOOKUP(C2666,Referencias!$B$24:$C$40,2,FALSE())","v":"M"}]
["2814855","Arce Alonso, Sol","Madrileña","D",{"$f":"VLOOKUP(G2667,Referencias!$C$4:$D$21,2,FALSE())","v":"Tercera Diamante"},{"$f":"VLOOKUP(G2667,Referencias!$C$4:$E$21,3,FALSE())","v":3},"3D","Competición",{"$f":"VLOOKUP(C2667,Referencias!$B$24:$C$40,2,FALSE())","v":"M"}]
["2814856","Roxas Olgado, Marta","Madrileña","D",{"$f":"VLOOKUP(G2668,Referencias!$C$4:$D$21,2,FALSE())","v":"Sin Categoría"},{"$f":"VLOOKUP(G2668,Referencias!$C$4:$E$21,3,FALSE())","v":4},"SC","Competición",{"$f":"VLOOKUP(C2668,Referencias!$B$24:$C$40,2,FALSE())","v":"M"}]
["2814857","Basabe Armijo, Rosario","Madrileña","D",{"$f":"VLOOKUP(G2669,Referencias!$C$4:$D$21,2,FALSE())","v":"Tercera Corazón"},{"$f":"VLOOKUP(G2669,Referencias!$C$4:$E$21,3,FALSE())","v":3},"3C","Competición",{"$f":"VLOOKUP(C2669,Referencias!$B$24:$C$40,2,FALSE())","v":"M"}]
["2814858","García de la Oliva, José Luis","Madrileña","C",{"$f":"VLOOKUP(G2670,Referencias!$C$4:$D$21,2,FALSE())","v":"Sin Categoría"},{"$f":"VLOOKUP(G2670,Referencias!$C$4:$E$21,3,FALSE())","v":4},"SC","Competición",{"$f":"VLOOKUP(C2670,Referencias!$B$24:$C$40,2,FALSE())","v":"M"}]
["2814859","Tapia Puche, María Luisa","Madrileña","D",{"$f":"VLOOKUP(G2671,Referencias!$C$4:$D$21,2,FALSE())","v":"Segunda Corazón"},{"$f":"VLOOKUP(G2671,Referencias!$C$4:$E$21,3,FALSE())","v":2},"2C","Competición",{"$f":"VLOOKUP(C2671,Referencias!$B$24:$C$40,2,FALSE())","v":"M"}]
["2814860","Demmi Fasoli, Graciela","Madrileña","D",{"$f":"VLOOKUP(G2672,Referencias!$C$4:$D$21,2,FALSE())","v":"Sin Categoría"},{"$f":"VLOOKUP(G2672,Referencias!$C$4:$E$21,3,FALSE())","v":4},"SC","Competición",{"$f":"VLOOKUP(C2672,Referencias!$B$24:$C$40,2,FALSE())","v":"M"}]
["2814861","Sánchez García, José","Madrileña","C",{"$f":"VLOOKUP(G2673,Referencias!$C$4:$D$21,2,FALSE())","v":"Sin Categoría"},{"$f":"VLOOKUP(G2673,Referencias!$C$4:$E$21,3,FALSE())","v":4},"SC","Competición",{"$f":"VLOOKUP(C2673,Referencias!$B$24:$C$40,2,FALSE())","v":"M"}]
["2814862","Gómez de las Cortinas Moreno de Barreda, Alonso","Madrileña","C",{"$f":"VLOOKUP(G2674,Referencias!$C$4:$D$21,2,FALSE())","v":"Sin Categoría"},{"$f":"VLOOKUP(G2674,Referencias!$C$4:$E$21,3,FALSE())","v":4},"SC","Competición",{"$f":"VLOOKUP(C2674,Referencias!$B$24:$C$40,2,FALSE())","v":"M"}]
["2814864","Herrero Peire, Juan Manuel","Madrileña","C",{"$f":"VLOOKUP(G2675,Referencias!$C$4:$D$21,2,FALSE())","v":"Segunda Corazón"},{"$f":"VLOOKUP(G2675,Referencias!$C$4:$E$21,3,FALSE())","v":2},"2C","Competición",{"$f":"VLOOKUP(C2675,Referencias!$B$24:$C$40,2,FALSE())","v":"M"}]
["2814865","Iglesias-Sarria Fernández de Navarrete, Cristina","Madrileña","D",{"$f":"VLOOKUP(G2676,Referencias!$C$4:$D$21,2,FALSE())","v":"Sin Categoría"},{"$f":"VLOOKUP(G2676,Referencias!$C$4:$E$21,3,FALSE())","v":4},"SC","Competición",{"$f":"VLOOKUP(C2676,Referencias!$B$24:$C$40,2,FALSE())","v":"M"}]
["2814867","De Blas Fernández-Fontecha, Antonio","Madrileña","C",{"$f":"VLOOKUP(G2677,Referencias!$C$4:$D$21,2,FALSE())","v":"Sin Categoría"},{"$f":"VLOOKUP(G2677,Referencias!$C$4:$E$21,3,FALSE())","v":4},"SC","Competición",{"$f":"VLOOKUP(C2677,Referencias!$B$24:$C$40,2,FALSE())","v":"M"}]
["2814868","Zanón Ballesteros, María Ángeles","Madrileña","D",{"$f":"VLOOKUP(G2678,Referencias!$C$4:$D$21,2,FALSE())","v":"Tercera Diamante"},{"$f":"VLOOKUP(G2678,Referencias!$C$4:$E$21,3,FALSE())","v":3},"3D","Competición",{"$f":"VLOOKUP(C2678,Referencias!$B$24:$C$40,2,FALSE())","v":"M"}]
["2814869","Morales Osete, María Teresa","Madrileña","D",{"$f":"VLOOKUP(G2679,Referencias!$C$4:$D$21,2,FALSE())","v":"Tercera Diamante"},{"$f":"VLOOKUP(G2679,Referencias!$C$4:$E$21,3,FALSE())","v":3},"3D","Competición",{"$f":"VLOOKUP(C2679,Referencias!$B$24:$C$40,2,FALSE())","v":"M"}]
["2814870","Dobao Fraile, María Victoria","Madrileña","D",{"$f":"VLOOKUP(G2680,Referencias!$C$4:$D$21,2,FALSE())","v":"Tercera Diamante"},{"$f":"VLOOKUP(G2680,Referencias!$C$4:$E$21,3,FALSE())","v":3},"3D","Competición",{"$f":"VLOOKUP(C2680,Referencias!$B$24:$C$40,2,FALSE())","v":"M"}]
["2814871","Ligués Creus, Leonardo","Madrileña","C",{"$f":"VLOOKUP(G2681,Referencias!$C$4:$D$21,2,FALSE())","v":"Sin Categoría"},{"$f":"VLOOKUP(G2681,Referencias!$C$4:$E$21,3,FALSE())","v":4},"SC","Competición",{"$f":"VLOOKUP(C2681,Referencias!$B$24:$C$40,2,FALSE())","v":"M"}]
["2814872","Núnez-Arenas Blat, Alfonso","Madrileña","C",{"$f":"VLOOKUP(G2682,Referencias!$C$4:$D$21,2,FALSE())","v":"Sin Categoría"},{"$f":"VLOOKUP(G2682,Referencias!$C$4:$E$21,3,FALSE())","v":4},"SC","Competición",{"$f":"VLOOKUP(C2682,Referencias!$B$24:$C$40,2,FALSE())","v":"M"}]
["2814874","García Parames, Francisco","Madrileña","C",{"$f":"VLOOKUP(G2683,Referencias!$C$4:$D$21,2,FALSE())","v":"Tercera Diamante"},{"$f":"VLOOKUP(G2683,Referencias!$C$4:$E$21,3,FALSE())","v":3},"3D","Competición",{"$f":"VLOOKUP(C2683,Referencias!$B$24:$C$40,2,FALSE())","v":"M"}]
["2814878","Mendioroz Jauge, Ricardo","Madrileña","C",{"$f":"VLOOKUP(G2684,Referencias!$C$4:$D$21,2,FALSE())","v":"Segunda Corazón"},{"$f":"VLOOKUP(G2684,Referencias!$C$4:$E$21,3,FALSE())","v":2},"2C","Competición",{"$f":"VLOOKUP(C2684,Referencias!$B$24:$C$40,2,FALSE())","v":"M"}]
["2814879","Ruiz Castell, Luis","Madrileña","C",{"$f":"VLOOKUP(G2685,Referencias!$C$4:$D$21,2,FALSE())","v":"Segunda Picas"},{"$f":"VLOOKUP(G2685,Referencias!$C$4:$E$21,3,FALSE())","v":2},"2P","Competición",{"$f":"VLOOKUP(C2685,Referencias!$B$24:$C$40,2,FALSE())","v":"M"}]
["2814882","Espinosa de los Monteros Jáudenes, Eugenio","Madrileña","C",{"$f":"VLOOKUP(G2686,Referencias!$C$4:$D$21,2,FALSE())","v":"Sin Categoría"},{"$f":"VLOOKUP(G2686,Referencias!$C$4:$E$21,3,FALSE())","v":4},"SC","Competición",{"$f":"VLOOKUP(C2686,Referencias!$B$24:$C$40,2,FALSE())","v":"M"}]
["2814883","Rodríguez Marizcurrena, Gonzalo","Madrileña","C",{"$f":"VLOOKUP(G2687,Referencias!$C$4:$D$21,2,FALSE())","v":"Tercera Diamante"},{"$f":"VLOOKUP(G2687,Referencias!$C$4:$E$21,3,FALSE())","v":3},"3D","Competición",{"$f":"VLOOKUP(C2687,Referencias!$B$24:$C$40,2,FALSE())","v":"M"}]
["2814884","Bejar Ochoa, María José","Madrileña","D",{"$f":"VLOOKUP(G2688,Referencias!$C$4:$D$21,2,FALSE())","v":"Tercera Diamante"},{"$f":"VLOOKUP(G2688,Referencias!$C$4:$E$21,3,FALSE())","v":3},"3D","Competición",{"$f":"VLOOKUP(C2688,Referencias!$B$24:$C$40,2,FALSE())","v":"M"}]
["2814885","Antonio García , Maite","Madrileña","C",{"$f":"VLOOKUP(G2689,Referencias!$C$4:$D$21,2,FALSE())","v":"Tercera Diamante"},{"$f":"VLOOKUP(G2689,Referencias!$C$4:$E$21,3,FALSE())","v":3},"3D","Competición",{"$f":"VLOOKUP(C2689,Referencias!$B$24:$C$40,2,FALSE())","v":"M"}]
["2814887","Aguado del Corral, Blanca","Madrileña","D",{"$f":"VLOOKUP(G2690,Referencias!$C$4:$D$21,2,FALSE())","v":"Sin Categoría"},{"$f":"VLOOKUP(G2690,Referencias!$C$4:$E$21,3,FALSE())","v":4},"SC","Competición",{"$f":"VLOOKUP(C2690,Referencias!$B$24:$C$40,2,FALSE())","v":"M"}]
["2814888","Merino Castells, Teresa","Madrileña","D",{"$f":"VLOOKUP(G2691,Referencias!$C$4:$D$21,2,FALSE())","v":"Sin Categoría"},{"$f":"VLOOKUP(G2691,Referencias!$C$4:$E$21,3,FALSE())","v":4},"SC","Competición",{"$f":"VLOOKUP(C2691,Referencias!$B$24:$C$40,2,FALSE())","v":"M"}]
["2814889","Rios Pérez, Calixto","Madrileña","C",{"$f":"VLOOKUP(G2692,Referencias!$C$4:$D$21,2,FALSE())","v":"Sin Categoría"},{"$f":"VLOOKUP(G2692,Referencias!$C$4:$E$21,3,FALSE())","v":4},"SC","Competición",{"$f":"VLOOKUP(C2692,Referencias!$B$24:$C$40,2,FALSE())","v":"M"}]
["2814891","Múgica Inciarte, Teresa","Madrileña","D",{"$f":"VLOOKUP(G2693,Referencias!$C$4:$D$21,2,FALSE())","v":"Sin Categoría"},{"$f":"VLOOKUP(G2693,Referencias!$C$4:$E$21,3,FALSE())","v":4},"SC","Competición",{"$f":"VLOOKUP(C2693,Referencias!$B$24:$C$40,2,FALSE())","v":"M"}]
["2814892","Múgica Inciarte, Marta","Madrileña","D",{"$f":"VLOOKUP(G2694,Referencias!$C$4:$D$21,2,FALSE())","v":"Sin Categoría"},{"$f":"VLOOKUP(G2694,Referencias!$C$4:$E$21,3,FALSE())","v":4},"SC","Competición",{"$f":"VLOOKUP(C2694,Referencias!$B$24:$C$40,2,FALSE())","v":"M"}]
["2814893","Porres López, Elvira","Madrileña","D",{"$f":"VLOOKUP(G2695,Referencias!$C$4:$D$21,2,FALSE())","v":"Tercera Diamante"},{"$f":"VLOOKUP(G2695,Referencias!$C$4:$E$21,3,FALSE())","v":3},"3D","Competición",{"$f":"VLOOKUP(C2695,Referencias!$B$24:$C$40,2,FALSE())","v":"M"}]
["2814895","Morales-Arce Crespi de Valldaura, Manuel","Madrileña","C",{"$f":"VLOOKUP(G2696,Referencias!$C$4:$D$21,2,FALSE())","v":"Sin Categoría"},{"$f":"VLOOKUP(G2696,Referencias!$C$4:$E$21,3,FALSE())","v":4},"SC","Competición",{"$f":"VLOOKUP(C2696,Referencias!$B$24:$C$40,2,FALSE())","v":"M"}]
["2814897","Rodriguez Inciarte, Matias","Madrileña","C",{"$f":"VLOOKUP(G2697,Referencias!$C$4:$D$21,2,FALSE())","v":"Sin Categoría"},{"$f":"VLOOKUP(G2697,Referencias!$C$4:$E$21,3,FALSE())","v":4},"SC","Competición",{"$f":"VLOOKUP(C2697,Referencias!$B$24:$C$40,2,FALSE())","v":"M"}]
["2814898","Vidal Verdia, Daniel","Madrileña","C",{"$f":"VLOOKUP(G2698,Referencias!$C$4:$D$21,2,FALSE())","v":"Tercera Diamante"},{"$f":"VLOOKUP(G2698,Referencias!$C$4:$E$21,3,FALSE())","v":3},"3D","Competición",{"$f":"VLOOKUP(C2698,Referencias!$B$24:$C$40,2,FALSE())","v":"M"}]
["2814899","Diz Acero, Fernanda","Madrileña","D",{"$f":"VLOOKUP(G2699,Referencias!$C$4:$D$21,2,FALSE())","v":"Sin Categoría"},{"$f":"VLOOKUP(G2699,Referencias!$C$4:$E$21,3,FALSE())","v":4},"SC","Competición",{"$f":"VLOOKUP(C2699,Referencias!$B$24:$C$40,2,FALSE())","v":"M"}]
["2814900","Sánchez-Lozano Moreno, Fatima","Madrileña","D",{"$f":"VLOOKUP(G2700,Referencias!$C$4:$D$21,2,FALSE())","v":"Sin Categoría"},{"$f":"VLOOKUP(G2700,Referencias!$C$4:$E$21,3,FALSE())","v":4},"SC","Competición",{"$f":"VLOOKUP(C2700,Referencias!$B$24:$C$40,2,FALSE())","v":"M"}]
["2814901","Valle Vacas, Yolanda","Madrileña","D",{"$f":"VLOOKUP(G2701,Referencias!$C$4:$D$21,2,FALSE())","v":"Tercera Diamante"},{"$f":"VLOOKUP(G2701,Referencias!$C$4:$E$21,3,FALSE())","v":3},"3D","Competición",{"$f":"VLOOKUP(C2701,Referencias!$B$24:$C$40,2,FALSE())","v":"M"}]
["2814902","Benevides Salas, Ignacio","Madrileña","C",{"$f":"VLOOKUP(G2702,Referencias!$C$4:$D$21,2,FALSE())","v":"Sin Categoría"},{"$f":"VLOOKUP(G2702,Referencias!$C$4:$E$21,3,FALSE())","v":4},"SC","Competición",{"$f":"VLOOKUP(C2702,Referencias!$B$24:$C$40,2,FALSE())","v":"M"}]
["2814904","Vassallo Castells, Alberto","Madrileña","C",{"$f":"VLOOKUP(G2703,Referencias!$C$4:$D$21,2,FALSE())","v":"Tercera Picas"},{"$f":"VLOOKUP(G2703,Referencias!$C$4:$E$21,3,FALSE())","v":3},"3P","Junior",{"$f":"VLOOKUP(C2703,Referencias!$B$24:$C$40,2,FALSE())","v":"M"}]
["2814908","Martínez Montes, Ana María","Madrileña","D",{"$f":"VLOOKUP(G2704,Referencias!$C$4:$D$21,2,FALSE())","v":"Sin Categoría"},{"$f":"VLOOKUP(G2704,Referencias!$C$4:$E$21,3,FALSE())","v":4},"SC","Competición",{"$f":"VLOOKUP(C2704,Referencias!$B$24:$C$40,2,FALSE())","v":"M"}]
["2814909","Muro Santiago, Ana","Madrileña","D",{"$f":"VLOOKUP(G2705,Referencias!$C$4:$D$21,2,FALSE())","v":"Sin Categoría"},{"$f":"VLOOKUP(G2705,Referencias!$C$4:$E$21,3,FALSE())","v":4},"SC","Competición",{"$f":"VLOOKUP(C2705,Referencias!$B$24:$C$40,2,FALSE())","v":"M"}]
["2814910","Garcia de Oteyza Ballester, Esperanza ","Madrileña","D",{"$f":"VLOOKUP(G2706,Referencias!$C$4:$D$21,2,FALSE())","v":"Tercera Diamante"},{"$f":"VLOOKUP(G2706,Referencias!$C$4:$E$21,3,FALSE())","v":3},"3D","Competición",{"$f":"VLOOKUP(C2706,Referencias!$B$24:$C$40,2,FALSE())","v":"M"}]
["2814911","Garcia de Oteyza Ballester, Fatima","Madrileña","D",{"$f":"VLOOKUP(G2707,Referencias!$C$4:$D$21,2,FALSE())","v":"Tercera Diamante"},{"$f":"VLOOKUP(G2707,Referencias!$C$4:$E$21,3,FALSE())","v":3},"3D","Competición",{"$f":"VLOOKUP(C2707,Referencias!$B$24:$C$40,2,FALSE())","v":"M"}]
["2814912","Pérez-Durias, Adela ","Madrileña","D",{"$f":"VLOOKUP(G2708,Referencias!$C$4:$D$21,2,FALSE())","v":"Sin Categoría"},{"$f":"VLOOKUP(G2708,Referencias!$C$4:$E$21,3,FALSE())","v":4},"SC","Competición",{"$f":"VLOOKUP(C2708,Referencias!$B$24:$C$40,2,FALSE())","v":"M"}]
["2814913","Cordón Plaza, Carmen","Madrileña","D",{"$f":"VLOOKUP(G2709,Referencias!$C$4:$D$21,2,FALSE())","v":"Tercera Diamante"},{"$f":"VLOOKUP(G2709,Referencias!$C$4:$E$21,3,FALSE())","v":3},"3D","Competición",{"$f":"VLOOKUP(C2709,Referencias!$B$24:$C$40,2,FALSE())","v":"M"}]
["2814915","Gavrik, Olga","Madrileña","D",{"$f":"VLOOKUP(G2710,Referencias!$C$4:$D$21,2,FALSE())","v":"Primera Diamante"},{"$f":"VLOOKUP(G2710,Referencias!$C$4:$E$21,3,FALSE())","v":1},"1D","Competición",{"$f":"VLOOKUP(C2710,Referencias!$B$24:$C$40,2,FALSE())","v":"M"}]
["2814917","Gareze Herrero, Carlos","Madrileña","C",{"$f":"VLOOKUP(G2711,Referencias!$C$4:$D$21,2,FALSE())","v":"Tercera Picas"},{"$f":"VLOOKUP(G2711,Referencias!$C$4:$E$21,3,FALSE())","v":3},"3P","Competición",{"$f":"VLOOKUP(C2711,Referencias!$B$24:$C$40,2,FALSE())","v":"M"}]
["2814918","Azqueta Churruca, Carmen","Madrileña","D",{"$f":"VLOOKUP(G2712,Referencias!$C$4:$D$21,2,FALSE())","v":"Sin Categoría"},{"$f":"VLOOKUP(G2712,Referencias!$C$4:$E$21,3,FALSE())","v":4},"SC","Competición",{"$f":"VLOOKUP(C2712,Referencias!$B$24:$C$40,2,FALSE())","v":"M"}]
["2814920","Niharra Martín, José Ignacio","Madrileña","C",{"$f":"VLOOKUP(G2713,Referencias!$C$4:$D$21,2,FALSE())","v":"Tercera Corazón"},{"$f":"VLOOKUP(G2713,Referencias!$C$4:$E$21,3,FALSE())","v":3},"3C","Competición",{"$f":"VLOOKUP(C2713,Referencias!$B$24:$C$40,2,FALSE())","v":"M"}]
["2814921","Olias Jarava, Belen","Madrileña","D",{"$f":"VLOOKUP(G2714,Referencias!$C$4:$D$21,2,FALSE())","v":"Tercera Picas"},{"$f":"VLOOKUP(G2714,Referencias!$C$4:$E$21,3,FALSE())","v":3},"3P","Competición",{"$f":"VLOOKUP(C2714,Referencias!$B$24:$C$40,2,FALSE())","v":"M"}]
["2814922","Sánchez Velasco, Blanca","Madrileña","D",{"$f":"VLOOKUP(G2715,Referencias!$C$4:$D$21,2,FALSE())","v":"Tercera Corazón"},{"$f":"VLOOKUP(G2715,Referencias!$C$4:$E$21,3,FALSE())","v":3},"3C","Competición",{"$f":"VLOOKUP(C2715,Referencias!$B$24:$C$40,2,FALSE())","v":"M"}]
["2814923","Gonçalves Pereira, Paulo ","Madrileña","C",{"$f":"VLOOKUP(G2716,Referencias!$C$4:$D$21,2,FALSE())","v":"Maestro Mundial Open"},{"$f":"VLOOKUP(G2716,Referencias!$C$4:$E$21,3,FALSE())","v":0},"MM-O","Competición",{"$f":"VLOOKUP(C2716,Referencias!$B$24:$C$40,2,FALSE())","v":"M"}]
["2814924","Rupérez Pérez, Benjamin","Madrileña","C",{"$f":"VLOOKUP(G2717,Referencias!$C$4:$D$21,2,FALSE())","v":"Tercera Diamante"},{"$f":"VLOOKUP(G2717,Referencias!$C$4:$E$21,3,FALSE())","v":3},"3D","Competición",{"$f":"VLOOKUP(C2717,Referencias!$B$24:$C$40,2,FALSE())","v":"M"}]
["2814925","Alonso Fernández, Juan Aurelio","Madrileña","C",{"$f":"VLOOKUP(G2718,Referencias!$C$4:$D$21,2,FALSE())","v":"Sin Categoría"},{"$f":"VLOOKUP(G2718,Referencias!$C$4:$E$21,3,FALSE())","v":4},"SC","Competición",{"$f":"VLOOKUP(C2718,Referencias!$B$24:$C$40,2,FALSE())","v":"M"}]
["2814926","Martín Puerta,  María José ","Madrileña","D",{"$f":"VLOOKUP(G2719,Referencias!$C$4:$D$21,2,FALSE())","v":"Tercera Diamante"},{"$f":"VLOOKUP(G2719,Referencias!$C$4:$E$21,3,FALSE())","v":3},"3D","Competición",{"$f":"VLOOKUP(C2719,Referencias!$B$24:$C$40,2,FALSE())","v":"M"}]
["2814927","Puig Montserrat, Pedro","Madrileña","C",{"$f":"VLOOKUP(G2720,Referencias!$C$4:$D$21,2,FALSE())","v":"Tercera Diamante"},{"$f":"VLOOKUP(G2720,Referencias!$C$4:$E$21,3,FALSE())","v":3},"3D","Competición",{"$f":"VLOOKUP(C2720,Referencias!$B$24:$C$40,2,FALSE())","v":"M"}]
["2814928","Garcia de la Vega Ysasi-Ysasmendi, Paloma","Madrileña","D",{"$f":"VLOOKUP(G2721,Referencias!$C$4:$D$21,2,FALSE())","v":"Tercera Diamante"},{"$f":"VLOOKUP(G2721,Referencias!$C$4:$E$21,3,FALSE())","v":3},"3D","Competición",{"$f":"VLOOKUP(C2721,Referencias!$B$24:$C$40,2,FALSE())","v":"M"}]
["2814929","de Cardona, Duque","Madrileña","C",{"$f":"VLOOKUP(G2722,Referencias!$C$4:$D$21,2,FALSE())","v":"Sin Categoría"},{"$f":"VLOOKUP(G2722,Referencias!$C$4:$E$21,3,FALSE())","v":4},"SC","Competición",{"$f":"VLOOKUP(C2722,Referencias!$B$24:$C$40,2,FALSE())","v":"M"}]
["2814932","Moro Cabezas de Herrera, Felix","Madrileña","C",{"$f":"VLOOKUP(G2723,Referencias!$C$4:$D$21,2,FALSE())","v":"Tercera Diamante"},{"$f":"VLOOKUP(G2723,Referencias!$C$4:$E$21,3,FALSE())","v":3},"3D","Competición",{"$f":"VLOOKUP(C2723,Referencias!$B$24:$C$40,2,FALSE())","v":"M"}]
["2814933","Rodrigo Zarza, Marian","Madrileña","D",{"$f":"VLOOKUP(G2724,Referencias!$C$4:$D$21,2,FALSE())","v":"Tercera Diamante"},{"$f":"VLOOKUP(G2724,Referencias!$C$4:$E$21,3,FALSE())","v":3},"3D","Competición",{"$f":"VLOOKUP(C2724,Referencias!$B$24:$C$40,2,FALSE())","v":"M"}]
["2814934","Viada Fernandez-Velilla, Socorro","Madrileña","D",{"$f":"VLOOKUP(G2725,Referencias!$C$4:$D$21,2,FALSE())","v":"Sin Categoría"},{"$f":"VLOOKUP(G2725,Referencias!$C$4:$E$21,3,FALSE())","v":4},"SC","Competición",{"$f":"VLOOKUP(C2725,Referencias!$B$24:$C$40,2,FALSE())","v":"M"}]
["2814935","Ruiz-Jarabo Vicedo,  Jorge","Madrileña","C",{"$f":"VLOOKUP(G2726,Referencias!$C$4:$D$21,2,FALSE())","v":"Segunda Diamante"},{"$f":"VLOOKUP(G2726,Referencias!$C$4:$E$21,3,FALSE())","v":2},"2D","Competición",{"$f":"VLOOKUP(C2726,Referencias!$B$24:$C$40,2,FALSE())","v":"M"}]
["2814936","Pérez Fernández, Ángeles","Madrileña","D",{"$f":"VLOOKUP(G2727,Referencias!$C$4:$D$21,2,FALSE())","v":"Sin Categoría"},{"$f":"VLOOKUP(G2727,Referencias!$C$4:$E$21,3,FALSE())","v":4},"SC","Competición",{"$f":"VLOOKUP(C2727,Referencias!$B$24:$C$40,2,FALSE())","v":"M"}]
["2814937","González Ruiz, Antonio","Madrileña","C",{"$f":"VLOOKUP(G2728,Referencias!$C$4:$D$21,2,FALSE())","v":"Tercera Picas"},{"$f":"VLOOKUP(G2728,Referencias!$C$4:$E$21,3,FALSE())","v":3},"3P","Competición",{"$f":"VLOOKUP(C2728,Referencias!$B$24:$C$40,2,FALSE())","v":"M"}]
["2814938","Cubillo Muñoz de Baena, Teresa ","Madrileña","D",{"$f":"VLOOKUP(G2729,Referencias!$C$4:$D$21,2,FALSE())","v":"Tercera Diamante"},{"$f":"VLOOKUP(G2729,Referencias!$C$4:$E$21,3,FALSE())","v":3},"3D","Competición",{"$f":"VLOOKUP(C2729,Referencias!$B$24:$C$40,2,FALSE())","v":"M"}]
["2814939","Serrano Herrero, José Antonio ","Madrileña","C",{"$f":"VLOOKUP(G2730,Referencias!$C$4:$D$21,2,FALSE())","v":"Tercera Diamante"},{"$f":"VLOOKUP(G2730,Referencias!$C$4:$E$21,3,FALSE())","v":3},"3D","Competición",{"$f":"VLOOKUP(C2730,Referencias!$B$24:$C$40,2,FALSE())","v":"M"}]
["2814942","García de la Vega Ysasi-Ysasmendi, Marta","Madrileña","D",{"$f":"VLOOKUP(G2731,Referencias!$C$4:$D$21,2,FALSE())","v":"Tercera Diamante"},{"$f":"VLOOKUP(G2731,Referencias!$C$4:$E$21,3,FALSE())","v":3},"3D","Competición",{"$f":"VLOOKUP(C2731,Referencias!$B$24:$C$40,2,FALSE())","v":"M"}]
["2814943","Pedroso Aldasoro, Isabel","Madrileña","D",{"$f":"VLOOKUP(G2732,Referencias!$C$4:$D$21,2,FALSE())","v":"Sin Categoría"},{"$f":"VLOOKUP(G2732,Referencias!$C$4:$E$21,3,FALSE())","v":4},"SC","Competición",{"$f":"VLOOKUP(C2732,Referencias!$B$24:$C$40,2,FALSE())","v":"M"}]
["2814944","Zapico Goñi, Teresa ","Madrileña","D",{"$f":"VLOOKUP(G2733,Referencias!$C$4:$D$21,2,FALSE())","v":"Tercera Diamante"},{"$f":"VLOOKUP(G2733,Referencias!$C$4:$E$21,3,FALSE())","v":3},"3D","Competición",{"$f":"VLOOKUP(C2733,Referencias!$B$24:$C$40,2,FALSE())","v":"M"}]
["2814945","Basterrechea Varela, Beatriz","Madrileña","D",{"$f":"VLOOKUP(G2734,Referencias!$C$4:$D$21,2,FALSE())","v":"Sin Categoría"},{"$f":"VLOOKUP(G2734,Referencias!$C$4:$E$21,3,FALSE())","v":4},"SC","Honorífica",{"$f":"VLOOKUP(C2734,Referencias!$B$24:$C$40,2,FALSE())","v":"M"}]
["2814947","Alonso Suau, Amelia","Madrileña","D",{"$f":"VLOOKUP(G2735,Referencias!$C$4:$D$21,2,FALSE())","v":"Sin Categoría"},{"$f":"VLOOKUP(G2735,Referencias!$C$4:$E$21,3,FALSE())","v":4},"SC","Competición",{"$f":"VLOOKUP(C2735,Referencias!$B$24:$C$40,2,FALSE())","v":"M"}]
["2814948","Garcia de Lago de la Guardia, Arral","Madrileña","D",{"$f":"VLOOKUP(G2736,Referencias!$C$4:$D$21,2,FALSE())","v":"Tercera Corazón"},{"$f":"VLOOKUP(G2736,Referencias!$C$4:$E$21,3,FALSE())","v":3},"3C","Competición",{"$f":"VLOOKUP(C2736,Referencias!$B$24:$C$40,2,FALSE())","v":"M"}]
["2814949","Romero López de Ceballos, Elena","Madrileña","C",{"$f":"VLOOKUP(G2737,Referencias!$C$4:$D$21,2,FALSE())","v":"Tercera Diamante"},{"$f":"VLOOKUP(G2737,Referencias!$C$4:$E$21,3,FALSE())","v":3},"3D","Competición",{"$f":"VLOOKUP(C2737,Referencias!$B$24:$C$40,2,FALSE())","v":"M"}]
["2814950","de la Lastra Moreno de Barreda, José Ramón","Madrileña","C",{"$f":"VLOOKUP(G2738,Referencias!$C$4:$D$21,2,FALSE())","v":"Tercera Diamante"},{"$f":"VLOOKUP(G2738,Referencias!$C$4:$E$21,3,FALSE())","v":3},"3D","Competición",{"$f":"VLOOKUP(C2738,Referencias!$B$24:$C$40,2,FALSE())","v":"M"}]
["2814951","de Burgos Buil, Mercedes","Madrileña","D",{"$f":"VLOOKUP(G2739,Referencias!$C$4:$D$21,2,FALSE())","v":"Tercera Diamante"},{"$f":"VLOOKUP(G2739,Referencias!$C$4:$E$21,3,FALSE())","v":3},"3D","Competición",{"$f":"VLOOKUP(C2739,Referencias!$B$24:$C$40,2,FALSE())","v":"M"}]
["2814952","Villanueva Vigil de Quiñones, Maria Luisa","Madrileña","D",{"$f":"VLOOKUP(G2740,Referencias!$C$4:$D$21,2,FALSE())","v":"Tercera Diamante"},{"$f":"VLOOKUP(G2740,Referencias!$C$4:$E$21,3,FALSE())","v":3},"3D","Competición",{"$f":"VLOOKUP(C2740,Referencias!$B$24:$C$40,2,FALSE())","v":"M"}]
["2814955","Torres García, Maria Isabel","Madrileña","D",{"$f":"VLOOKUP(G2741,Referencias!$C$4:$D$21,2,FALSE())","v":"Tercera Picas"},{"$f":"VLOOKUP(G2741,Referencias!$C$4:$E$21,3,FALSE())","v":3},"3P","Competición",{"$f":"VLOOKUP(C2741,Referencias!$B$24:$C$40,2,FALSE())","v":"M"}]
["2814956","Abele, Dennis","Madrileña","C",{"$f":"VLOOKUP(G2742,Referencias!$C$4:$D$21,2,FALSE())","v":"Segunda Corazón"},{"$f":"VLOOKUP(G2742,Referencias!$C$4:$E$21,3,FALSE())","v":2},"2C","Competición",{"$f":"VLOOKUP(C2742,Referencias!$B$24:$C$40,2,FALSE())","v":"M"}]
["2814957","Enamorado Sanchez, Ana","Madrileña","D",{"$f":"VLOOKUP(G2743,Referencias!$C$4:$D$21,2,FALSE())","v":"Sin Categoría"},{"$f":"VLOOKUP(G2743,Referencias!$C$4:$E$21,3,FALSE())","v":4},"SC","Competición",{"$f":"VLOOKUP(C2743,Referencias!$B$24:$C$40,2,FALSE())","v":"M"}]
["2814959","Gonzalez-Baylin Nores, Pilar","Madrileña","D",{"$f":"VLOOKUP(G2744,Referencias!$C$4:$D$21,2,FALSE())","v":"Sin Categoría"},{"$f":"VLOOKUP(G2744,Referencias!$C$4:$E$21,3,FALSE())","v":4},"SC","Competición",{"$f":"VLOOKUP(C2744,Referencias!$B$24:$C$40,2,FALSE())","v":"M"}]
["2814960","Abadal Isasmendi, José María","Madrileña","C",{"$f":"VLOOKUP(G2745,Referencias!$C$4:$D$21,2,FALSE())","v":"Tercera Diamante"},{"$f":"VLOOKUP(G2745,Referencias!$C$4:$E$21,3,FALSE())","v":3},"3D","Competición",{"$f":"VLOOKUP(C2745,Referencias!$B$24:$C$40,2,FALSE())","v":"M"}]
["2814961","Villayandre Fornies, María José","Madrileña","D",{"$f":"VLOOKUP(G2746,Referencias!$C$4:$D$21,2,FALSE())","v":"Sin Categoría"},{"$f":"VLOOKUP(G2746,Referencias!$C$4:$E$21,3,FALSE())","v":4},"SC","Competición",{"$f":"VLOOKUP(C2746,Referencias!$B$24:$C$40,2,FALSE())","v":"M"}]
["2814962","Rodríguez-Carreño de Cominges, Gloria","Madrileña","D",{"$f":"VLOOKUP(G2747,Referencias!$C$4:$D$21,2,FALSE())","v":"Sin Categoría"},{"$f":"VLOOKUP(G2747,Referencias!$C$4:$E$21,3,FALSE())","v":4},"SC","Competición",{"$f":"VLOOKUP(C2747,Referencias!$B$24:$C$40,2,FALSE())","v":"M"}]
["2814963","Miranda López, Marta","Madrileña","D",{"$f":"VLOOKUP(G2748,Referencias!$C$4:$D$21,2,FALSE())","v":"Tercera Corazón"},{"$f":"VLOOKUP(G2748,Referencias!$C$4:$E$21,3,FALSE())","v":3},"3C","Competición",{"$f":"VLOOKUP(C2748,Referencias!$B$24:$C$40,2,FALSE())","v":"M"}]
["2814964","Sánchez Jiménez, Maria A. ","Madrileña","D",{"$f":"VLOOKUP(G2749,Referencias!$C$4:$D$21,2,FALSE())","v":"Tercera Diamante"},{"$f":"VLOOKUP(G2749,Referencias!$C$4:$E$21,3,FALSE())","v":3},"3D","Competición",{"$f":"VLOOKUP(C2749,Referencias!$B$24:$C$40,2,FALSE())","v":"M"}]
["2814965","Rodríguez Viña, Rosa ","Madrileña","D",{"$f":"VLOOKUP(G2750,Referencias!$C$4:$D$21,2,FALSE())","v":"Sin Categoría"},{"$f":"VLOOKUP(G2750,Referencias!$C$4:$E$21,3,FALSE())","v":4},"SC","Competición",{"$f":"VLOOKUP(C2750,Referencias!$B$24:$C$40,2,FALSE())","v":"M"}]
["2814966","Donovan, Sheila","Madrileña","D",{"$f":"VLOOKUP(G2751,Referencias!$C$4:$D$21,2,FALSE())","v":"Sin Categoría"},{"$f":"VLOOKUP(G2751,Referencias!$C$4:$E$21,3,FALSE())","v":4},"SC","Competición",{"$f":"VLOOKUP(C2751,Referencias!$B$24:$C$40,2,FALSE())","v":"M"}]
["2814967","Figuerola Santos, María Ángeles","Madrileña","D",{"$f":"VLOOKUP(G2752,Referencias!$C$4:$D$21,2,FALSE())","v":"Sin Categoría"},{"$f":"VLOOKUP(G2752,Referencias!$C$4:$E$21,3,FALSE())","v":4},"SC","Competición",{"$f":"VLOOKUP(C2752,Referencias!$B$24:$C$40,2,FALSE())","v":"M"}]
["2814968","Palacín Rodriguez, Pilar","Madrileña","D",{"$f":"VLOOKUP(G2753,Referencias!$C$4:$D$21,2,FALSE())","v":"Sin Categoría"},{"$f":"VLOOKUP(G2753,Referencias!$C$4:$E$21,3,FALSE())","v":4},"SC","Competición",{"$f":"VLOOKUP(C2753,Referencias!$B$24:$C$40,2,FALSE())","v":"M"}]
["2814969","Fernández Pérez, Cristina","Madrileña","C",{"$f":"VLOOKUP(G2754,Referencias!$C$4:$D$21,2,FALSE())","v":"Sin Categoría"},{"$f":"VLOOKUP(G2754,Referencias!$C$4:$E$21,3,FALSE())","v":4},"SC","Competición",{"$f":"VLOOKUP(C2754,Referencias!$B$24:$C$40,2,FALSE())","v":"M"}]
["2814970","Calderón Torres, Javier","Madrileña","C",{"$f":"VLOOKUP(G2755,Referencias!$C$4:$D$21,2,FALSE())","v":"Sin Categoría"},{"$f":"VLOOKUP(G2755,Referencias!$C$4:$E$21,3,FALSE())","v":4},"SC","Competición",{"$f":"VLOOKUP(C2755,Referencias!$B$24:$C$40,2,FALSE())","v":"M"}]
["2814971","Ruiz de Velasco Echeverría, Esperanza","Madrileña","D",{"$f":"VLOOKUP(G2756,Referencias!$C$4:$D$21,2,FALSE())","v":"Tercera Diamante"},{"$f":"VLOOKUP(G2756,Referencias!$C$4:$E$21,3,FALSE())","v":3},"3D","Competición",{"$f":"VLOOKUP(C2756,Referencias!$B$24:$C$40,2,FALSE())","v":"M"}]
["2814972","Santos-Suárez Márquez, Pía","Madrileña","D",{"$f":"VLOOKUP(G2757,Referencias!$C$4:$D$21,2,FALSE())","v":"Sin Categoría"},{"$f":"VLOOKUP(G2757,Referencias!$C$4:$E$21,3,FALSE())","v":4},"SC","Competición",{"$f":"VLOOKUP(C2757,Referencias!$B$24:$C$40,2,FALSE())","v":"M"}]
["2814973","Guirao Perez, Marta","Madrileña","D",{"$f":"VLOOKUP(G2758,Referencias!$C$4:$D$21,2,FALSE())","v":"Tercera Diamante"},{"$f":"VLOOKUP(G2758,Referencias!$C$4:$E$21,3,FALSE())","v":3},"3D","Competición",{"$f":"VLOOKUP(C2758,Referencias!$B$24:$C$40,2,FALSE())","v":"M"}]
["2814974","Estalella Girón, Rodrigo","Madrileña","C",{"$f":"VLOOKUP(G2759,Referencias!$C$4:$D$21,2,FALSE())","v":"Sin Categoría"},{"$f":"VLOOKUP(G2759,Referencias!$C$4:$E$21,3,FALSE())","v":4},"SC","Junior",{"$f":"VLOOKUP(C2759,Referencias!$B$24:$C$40,2,FALSE())","v":"M"}]
["2814975","Martin Cobo, Laura","Madrileña","D",{"$f":"VLOOKUP(G2760,Referencias!$C$4:$D$21,2,FALSE())","v":"Sin Categoría"},{"$f":"VLOOKUP(G2760,Referencias!$C$4:$E$21,3,FALSE())","v":4},"SC","Competición",{"$f":"VLOOKUP(C2760,Referencias!$B$24:$C$40,2,FALSE())","v":"M"}]
["2814976","Corsini Freese, Margarita","Madrileña","D",{"$f":"VLOOKUP(G2761,Referencias!$C$4:$D$21,2,FALSE())","v":"Sin Categoría"},{"$f":"VLOOKUP(G2761,Referencias!$C$4:$E$21,3,FALSE())","v":4},"SC","Competición",{"$f":"VLOOKUP(C2761,Referencias!$B$24:$C$40,2,FALSE())","v":"M"}]
["2814977","Gimenez-Arnau Puente, Patricia","Madrileña","D",{"$f":"VLOOKUP(G2762,Referencias!$C$4:$D$21,2,FALSE())","v":"Tercera Diamante"},{"$f":"VLOOKUP(G2762,Referencias!$C$4:$E$21,3,FALSE())","v":3},"3D","Competición",{"$f":"VLOOKUP(C2762,Referencias!$B$24:$C$40,2,FALSE())","v":"M"}]
["2814978","Girón Dávila, Maria Eugenia ","Madrileña","D",{"$f":"VLOOKUP(G2763,Referencias!$C$4:$D$21,2,FALSE())","v":"Sin Categoría"},{"$f":"VLOOKUP(G2763,Referencias!$C$4:$E$21,3,FALSE())","v":4},"SC","Competición",{"$f":"VLOOKUP(C2763,Referencias!$B$24:$C$40,2,FALSE())","v":"M"}]
["2814979","Oliveras Zalce, Adriana","Madrileña","D",{"$f":"VLOOKUP(G2764,Referencias!$C$4:$D$21,2,FALSE())","v":"Tercera Diamante"},{"$f":"VLOOKUP(G2764,Referencias!$C$4:$E$21,3,FALSE())","v":3},"3D","Competición",{"$f":"VLOOKUP(C2764,Referencias!$B$24:$C$40,2,FALSE())","v":"M"}]
["2814980","García Fidalgo, Beatriz","Madrileña","D",{"$f":"VLOOKUP(G2765,Referencias!$C$4:$D$21,2,FALSE())","v":"Sin Categoría"},{"$f":"VLOOKUP(G2765,Referencias!$C$4:$E$21,3,FALSE())","v":4},"SC","Competición",{"$f":"VLOOKUP(C2765,Referencias!$B$24:$C$40,2,FALSE())","v":"M"}]
["2814981","López-Igor Aliño, Maria José","Madrileña","D",{"$f":"VLOOKUP(G2766,Referencias!$C$4:$D$21,2,FALSE())","v":"Sin Categoría"},{"$f":"VLOOKUP(G2766,Referencias!$C$4:$E$21,3,FALSE())","v":4},"SC","Competición",{"$f":"VLOOKUP(C2766,Referencias!$B$24:$C$40,2,FALSE())","v":"M"}]
["2814982","Laynez Aspenberg, Joaquín","Madrileña","C",{"$f":"VLOOKUP(G2767,Referencias!$C$4:$D$21,2,FALSE())","v":"Tercera Diamante"},{"$f":"VLOOKUP(G2767,Referencias!$C$4:$E$21,3,FALSE())","v":3},"3D","Competición",{"$f":"VLOOKUP(C2767,Referencias!$B$24:$C$40,2,FALSE())","v":"M"}]
["2814983","Moreno Gonzalez, Margarita","Madrileña","D",{"$f":"VLOOKUP(G2768,Referencias!$C$4:$D$21,2,FALSE())","v":"Tercera Diamante"},{"$f":"VLOOKUP(G2768,Referencias!$C$4:$E$21,3,FALSE())","v":3},"3D","Competición",{"$f":"VLOOKUP(C2768,Referencias!$B$24:$C$40,2,FALSE())","v":"M"}]
["2814984","Saiz de Arce Amigo, Isabel","Madrileña","D",{"$f":"VLOOKUP(G2769,Referencias!$C$4:$D$21,2,FALSE())","v":"Tercera Diamante"},{"$f":"VLOOKUP(G2769,Referencias!$C$4:$E$21,3,FALSE())","v":3},"3D","Competición",{"$f":"VLOOKUP(C2769,Referencias!$B$24:$C$40,2,FALSE())","v":"M"}]
["2814985","Álvarez Barreiro, Caridad","Madrileña","D",{"$f":"VLOOKUP(G2770,Referencias!$C$4:$D$21,2,FALSE())","v":"Tercera Diamante"},{"$f":"VLOOKUP(G2770,Referencias!$C$4:$E$21,3,FALSE())","v":3},"3D","Competición",{"$f":"VLOOKUP(C2770,Referencias!$B$24:$C$40,2,FALSE())","v":"M"}]
["2814986","Tortajada Suils, Belén","Madrileña","D",{"$f":"VLOOKUP(G2771,Referencias!$C$4:$D$21,2,FALSE())","v":"Tercera Diamante"},{"$f":"VLOOKUP(G2771,Referencias!$C$4:$E$21,3,FALSE())","v":3},"3D","Competición",{"$f":"VLOOKUP(C2771,Referencias!$B$24:$C$40,2,FALSE())","v":"M"}]
["2814987","Rodriguez Hergueta, Carmen","Madrileña","D",{"$f":"VLOOKUP(G2772,Referencias!$C$4:$D$21,2,FALSE())","v":"Tercera Diamante"},{"$f":"VLOOKUP(G2772,Referencias!$C$4:$E$21,3,FALSE())","v":3},"3D","Competición",{"$f":"VLOOKUP(C2772,Referencias!$B$24:$C$40,2,FALSE())","v":"M"}]
["2814988","Magirena Varela, Marisol ","Madrileña","D",{"$f":"VLOOKUP(G2773,Referencias!$C$4:$D$21,2,FALSE())","v":"Tercera Diamante"},{"$f":"VLOOKUP(G2773,Referencias!$C$4:$E$21,3,FALSE())","v":3},"3D","Competición",{"$f":"VLOOKUP(C2773,Referencias!$B$24:$C$40,2,FALSE())","v":"M"}]
["2814989","Lope-Garnica Marin, María Cristina ","Madrileña","D",{"$f":"VLOOKUP(G2774,Referencias!$C$4:$D$21,2,FALSE())","v":"Tercera Diamante"},{"$f":"VLOOKUP(G2774,Referencias!$C$4:$E$21,3,FALSE())","v":3},"3D","Competición",{"$f":"VLOOKUP(C2774,Referencias!$B$24:$C$40,2,FALSE())","v":"M"}]
["2814990","Usera Cano, José","Madrileña","C",{"$f":"VLOOKUP(G2775,Referencias!$C$4:$D$21,2,FALSE())","v":"Tercera Diamante"},{"$f":"VLOOKUP(G2775,Referencias!$C$4:$E$21,3,FALSE())","v":3},"3D","Competición",{"$f":"VLOOKUP(C2775,Referencias!$B$24:$C$40,2,FALSE())","v":"M"}]
["2814991","Rodriguez Sobrino, Edmundo","Madrileña","C",{"$f":"VLOOKUP(G2776,Referencias!$C$4:$D$21,2,FALSE())","v":"Tercera Diamante"},{"$f":"VLOOKUP(G2776,Referencias!$C$4:$E$21,3,FALSE())","v":3},"3D","Competición",{"$f":"VLOOKUP(C2776,Referencias!$B$24:$C$40,2,FALSE())","v":"M"}]
["2814992","Fuster Fuster, José Antonio ","Madrileña","C",{"$f":"VLOOKUP(G2777,Referencias!$C$4:$D$21,2,FALSE())","v":"Tercera Corazón"},{"$f":"VLOOKUP(G2777,Referencias!$C$4:$E$21,3,FALSE())","v":3},"3C","Competición",{"$f":"VLOOKUP(C2777,Referencias!$B$24:$C$40,2,FALSE())","v":"M"}]
["2814993","Aresti Aldasoro, Alvaro","Madrileña","C",{"$f":"VLOOKUP(G2778,Referencias!$C$4:$D$21,2,FALSE())","v":"Tercera Corazón"},{"$f":"VLOOKUP(G2778,Referencias!$C$4:$E$21,3,FALSE())","v":3},"3C","Competición",{"$f":"VLOOKUP(C2778,Referencias!$B$24:$C$40,2,FALSE())","v":"M"}]
["2814994","Churruca Diez de Rivera, Pilar","Madrileña","D",{"$f":"VLOOKUP(G2779,Referencias!$C$4:$D$21,2,FALSE())","v":"Sin Categoría"},{"$f":"VLOOKUP(G2779,Referencias!$C$4:$E$21,3,FALSE())","v":4},"SC","Competición",{"$f":"VLOOKUP(C2779,Referencias!$B$24:$C$40,2,FALSE())","v":"M"}]
["2814995","Perez de Rada Cavanilles, Maria Covadonga","Madrileña","D",{"$f":"VLOOKUP(G2780,Referencias!$C$4:$D$21,2,FALSE())","v":"Tercera Diamante"},{"$f":"VLOOKUP(G2780,Referencias!$C$4:$E$21,3,FALSE())","v":3},"3D","Competición",{"$f":"VLOOKUP(C2780,Referencias!$B$24:$C$40,2,FALSE())","v":"M"}]
["2814996","Iglesias de Guisasola, Beatriz","Madrileña","D",{"$f":"VLOOKUP(G2781,Referencias!$C$4:$D$21,2,FALSE())","v":"Tercera Diamante"},{"$f":"VLOOKUP(G2781,Referencias!$C$4:$E$21,3,FALSE())","v":3},"3D","Competición",{"$f":"VLOOKUP(C2781,Referencias!$B$24:$C$40,2,FALSE())","v":"M"}]
["2814997","Carreño García, Natalia","Madrileña","D",{"$f":"VLOOKUP(G2782,Referencias!$C$4:$D$21,2,FALSE())","v":"Tercera Diamante"},{"$f":"VLOOKUP(G2782,Referencias!$C$4:$E$21,3,FALSE())","v":3},"3D","Competición",{"$f":"VLOOKUP(C2782,Referencias!$B$24:$C$40,2,FALSE())","v":"M"}]
["2814998","Vaca Fernández, Roberto","Madrileña","C",{"$f":"VLOOKUP(G2783,Referencias!$C$4:$D$21,2,FALSE())","v":"Tercera Diamante"},{"$f":"VLOOKUP(G2783,Referencias!$C$4:$E$21,3,FALSE())","v":3},"3D","Competición",{"$f":"VLOOKUP(C2783,Referencias!$B$24:$C$40,2,FALSE())","v":"M"}]
["2814999","Lamothe Torres, Paloma","Madrileña","D",{"$f":"VLOOKUP(G2784,Referencias!$C$4:$D$21,2,FALSE())","v":"Tercera Diamante"},{"$f":"VLOOKUP(G2784,Referencias!$C$4:$E$21,3,FALSE())","v":3},"3D","Competición",{"$f":"VLOOKUP(C2784,Referencias!$B$24:$C$40,2,FALSE())","v":"M"}]
["2815000","García de Oteyza Ballester, Paloma ","Madrileña","D",{"$f":"VLOOKUP(G2785,Referencias!$C$4:$D$21,2,FALSE())","v":"Tercera Diamante"},{"$f":"VLOOKUP(G2785,Referencias!$C$4:$E$21,3,FALSE())","v":3},"3D","Competición",{"$f":"VLOOKUP(C2785,Referencias!$B$24:$C$40,2,FALSE())","v":"M"}]
["2815001","Huertas Urosa, Margarita","Madrileña","D",{"$f":"VLOOKUP(G2786,Referencias!$C$4:$D$21,2,FALSE())","v":"Tercera Diamante"},{"$f":"VLOOKUP(G2786,Referencias!$C$4:$E$21,3,FALSE())","v":3},"3D","Competición",{"$f":"VLOOKUP(C2786,Referencias!$B$24:$C$40,2,FALSE())","v":"M"}]
["2815002","Muelas Mayor, Ana María","Madrileña","D",{"$f":"VLOOKUP(G2787,Referencias!$C$4:$D$21,2,FALSE())","v":"Tercera Diamante"},{"$f":"VLOOKUP(G2787,Referencias!$C$4:$E$21,3,FALSE())","v":3},"3D","Competición",{"$f":"VLOOKUP(C2787,Referencias!$B$24:$C$40,2,FALSE())","v":"M"}]
["2815003","Serrahima Bartolome, Patricia","Madrileña","D",{"$f":"VLOOKUP(G2788,Referencias!$C$4:$D$21,2,FALSE())","v":"Tercera Corazón"},{"$f":"VLOOKUP(G2788,Referencias!$C$4:$E$21,3,FALSE())","v":3},"3C","Competición",{"$f":"VLOOKUP(C2788,Referencias!$B$24:$C$40,2,FALSE())","v":"M"}]
["2815004","Marín de la Barcena Folache, María Isabel","Madrileña","D",{"$f":"VLOOKUP(G2789,Referencias!$C$4:$D$21,2,FALSE())","v":"Tercera Diamante"},{"$f":"VLOOKUP(G2789,Referencias!$C$4:$E$21,3,FALSE())","v":3},"3D","Competición",{"$f":"VLOOKUP(C2789,Referencias!$B$24:$C$40,2,FALSE())","v":"M"}]
["2815005","Garelly Compte, Margarita","Madrileña","D",{"$f":"VLOOKUP(G2790,Referencias!$C$4:$D$21,2,FALSE())","v":"Tercera Diamante"},{"$f":"VLOOKUP(G2790,Referencias!$C$4:$E$21,3,FALSE())","v":3},"3D","Competición",{"$f":"VLOOKUP(C2790,Referencias!$B$24:$C$40,2,FALSE())","v":"M"}]
["2815007","de Frutos Benés, Olga","Madrileña","D",{"$f":"VLOOKUP(G2791,Referencias!$C$4:$D$21,2,FALSE())","v":"Tercera Diamante"},{"$f":"VLOOKUP(G2791,Referencias!$C$4:$E$21,3,FALSE())","v":3},"3D","Competición",{"$f":"VLOOKUP(C2791,Referencias!$B$24:$C$40,2,FALSE())","v":"M"}]
["2815008","Dominguez Nafría, Andrés","Madrileña","C",{"$f":"VLOOKUP(G2792,Referencias!$C$4:$D$21,2,FALSE())","v":"Tercera Diamante"},{"$f":"VLOOKUP(G2792,Referencias!$C$4:$E$21,3,FALSE())","v":3},"3D","Competición",{"$f":"VLOOKUP(C2792,Referencias!$B$24:$C$40,2,FALSE())","v":"M"}]
["2815009","Capaz Ruiz, Concepción","Madrileña","D",{"$f":"VLOOKUP(G2793,Referencias!$C$4:$D$21,2,FALSE())","v":"Tercera Diamante"},{"$f":"VLOOKUP(G2793,Referencias!$C$4:$E$21,3,FALSE())","v":3},"3D","Competición",{"$f":"VLOOKUP(C2793,Referencias!$B$24:$C$40,2,FALSE())","v":"M"}]
["2815010","Zamarriego Sedeño, María Pilar","Madrileña","D",{"$f":"VLOOKUP(G2794,Referencias!$C$4:$D$21,2,FALSE())","v":"Tercera Diamante"},{"$f":"VLOOKUP(G2794,Referencias!$C$4:$E$21,3,FALSE())","v":3},"3D","Competición",{"$f":"VLOOKUP(C2794,Referencias!$B$24:$C$40,2,FALSE())","v":"M"}]
["2815011","Robledo Robledo, Rodrigo","Madrileña","C",{"$f":"VLOOKUP(G2795,Referencias!$C$4:$D$21,2,FALSE())","v":"Tercera Diamante"},{"$f":"VLOOKUP(G2795,Referencias!$C$4:$E$21,3,FALSE())","v":3},"3D","Competición",{"$f":"VLOOKUP(C2795,Referencias!$B$24:$C$40,2,FALSE())","v":"M"}]
["2815012","Urech Díaz, Elena","Madrileña","D",{"$f":"VLOOKUP(G2796,Referencias!$C$4:$D$21,2,FALSE())","v":"Tercera Diamante"},{"$f":"VLOOKUP(G2796,Referencias!$C$4:$E$21,3,FALSE())","v":3},"3D","Competición",{"$f":"VLOOKUP(C2796,Referencias!$B$24:$C$40,2,FALSE())","v":"M"}]
["2815013","Casal Velasco, Paloma","Madrileña","D",{"$f":"VLOOKUP(G2797,Referencias!$C$4:$D$21,2,FALSE())","v":"Tercera Diamante"},{"$f":"VLOOKUP(G2797,Referencias!$C$4:$E$21,3,FALSE())","v":3},"3D","Competición",{"$f":"VLOOKUP(C2797,Referencias!$B$24:$C$40,2,FALSE())","v":"M"}]
["2815014","Coiduras Martínez, Carmen","Madrileña","D",{"$f":"VLOOKUP(G2798,Referencias!$C$4:$D$21,2,FALSE())","v":"Tercera Diamante"},{"$f":"VLOOKUP(G2798,Referencias!$C$4:$E$21,3,FALSE())","v":3},"3D","Competición",{"$f":"VLOOKUP(C2798,Referencias!$B$24:$C$40,2,FALSE())","v":"M"}]
["2815015","Segura Barrios, Susana","Madrileña","D",{"$f":"VLOOKUP(G2799,Referencias!$C$4:$D$21,2,FALSE())","v":"Tercera Diamante"},{"$f":"VLOOKUP(G2799,Referencias!$C$4:$E$21,3,FALSE())","v":3},"3D","Competición",{"$f":"VLOOKUP(C2799,Referencias!$B$24:$C$40,2,FALSE())","v":"M"}]
["2815017","Pedrajas Moreno, María ","Madrileña","D",{"$f":"VLOOKUP(G2800,Referencias!$C$4:$D$21,2,FALSE())","v":"Tercera Diamante"},{"$f":"VLOOKUP(G2800,Referencias!$C$4:$E$21,3,FALSE())","v":3},"3D","Competición",{"$f":"VLOOKUP(C2800,Referencias!$B$24:$C$40,2,FALSE())","v":"M"}]
["2815018","González Ardevinez, Paloma","Madrileña","D",{"$f":"VLOOKUP(G2801,Referencias!$C$4:$D$21,2,FALSE())","v":"Tercera Diamante"},{"$f":"VLOOKUP(G2801,Referencias!$C$4:$E$21,3,FALSE())","v":3},"3D","Competición",{"$f":"VLOOKUP(C2801,Referencias!$B$24:$C$40,2,FALSE())","v":"M"}]
["2815019","Vigueras Miralles, Fuensanta","Madrileña","D",{"$f":"VLOOKUP(G2802,Referencias!$C$4:$D$21,2,FALSE())","v":"Tercera Diamante"},{"$f":"VLOOKUP(G2802,Referencias!$C$4:$E$21,3,FALSE())","v":3},"3D","Competición",{"$f":"VLOOKUP(C2802,Referencias!$B$24:$C$40,2,FALSE())","v":"M"}]
["2815020","García del Pino , Bernardo ","Madrileña","C",{"$f":"VLOOKUP(G2803,Referencias!$C$4:$D$21,2,FALSE())","v":"Tercera Corazón"},{"$f":"VLOOKUP(G2803,Referencias!$C$4:$E$21,3,FALSE())","v":3},"3C","Competición",{"$f":"VLOOKUP(C2803,Referencias!$B$24:$C$40,2,FALSE())","v":"M"}]
["2815021","Esteban Ortega, Aurora","Madrileña","D",{"$f":"VLOOKUP(G2804,Referencias!$C$4:$D$21,2,FALSE())","v":"Tercera Corazón"},{"$f":"VLOOKUP(G2804,Referencias!$C$4:$E$21,3,FALSE())","v":3},"3C","Competición",{"$f":"VLOOKUP(C2804,Referencias!$B$24:$C$40,2,FALSE())","v":"M"}]
["2815023","Lorenzo-Arroyo Poullet, María del Rocío","Madrileña","D",{"$f":"VLOOKUP(G2805,Referencias!$C$4:$D$21,2,FALSE())","v":"Tercera Diamante"},{"$f":"VLOOKUP(G2805,Referencias!$C$4:$E$21,3,FALSE())","v":3},"3D","Competición",{"$f":"VLOOKUP(C2805,Referencias!$B$24:$C$40,2,FALSE())","v":"M"}]
["2815024","Martorell Amengual, Vicente ","Madrileña","C",{"$f":"VLOOKUP(G2806,Referencias!$C$4:$D$21,2,FALSE())","v":"Tercera Diamante"},{"$f":"VLOOKUP(G2806,Referencias!$C$4:$E$21,3,FALSE())","v":3},"3D","Competición",{"$f":"VLOOKUP(C2806,Referencias!$B$24:$C$40,2,FALSE())","v":"M"}]
["2815025","Caro Moreno, Ana","Madrileña","D",{"$f":"VLOOKUP(G2807,Referencias!$C$4:$D$21,2,FALSE())","v":"Tercera Diamante"},{"$f":"VLOOKUP(G2807,Referencias!$C$4:$E$21,3,FALSE())","v":3},"3D","Competición",{"$f":"VLOOKUP(C2807,Referencias!$B$24:$C$40,2,FALSE())","v":"M"}]
["2815026","García Martínez, Pilar","Madrileña","D",{"$f":"VLOOKUP(G2808,Referencias!$C$4:$D$21,2,FALSE())","v":"Tercera Diamante"},{"$f":"VLOOKUP(G2808,Referencias!$C$4:$E$21,3,FALSE())","v":3},"3D","Competición",{"$f":"VLOOKUP(C2808,Referencias!$B$24:$C$40,2,FALSE())","v":"M"}]
["2815027","García Delgado, Pura","Madrileña","D",{"$f":"VLOOKUP(G2809,Referencias!$C$4:$D$21,2,FALSE())","v":"Tercera Diamante"},{"$f":"VLOOKUP(G2809,Referencias!$C$4:$E$21,3,FALSE())","v":3},"3D","Competición",{"$f":"VLOOKUP(C2809,Referencias!$B$24:$C$40,2,FALSE())","v":"M"}]
["2815029","Dolado Lobregad, Carmen","Madrileña","D",{"$f":"VLOOKUP(G2810,Referencias!$C$4:$D$21,2,FALSE())","v":"Tercera Diamante"},{"$f":"VLOOKUP(G2810,Referencias!$C$4:$E$21,3,FALSE())","v":3},"3D","Competición",{"$f":"VLOOKUP(C2810,Referencias!$B$24:$C$40,2,FALSE())","v":"M"}]
["2815030","Forero Calderón, Rosario","Madrileña","D",{"$f":"VLOOKUP(G2811,Referencias!$C$4:$D$21,2,FALSE())","v":"Tercera Diamante"},{"$f":"VLOOKUP(G2811,Referencias!$C$4:$E$21,3,FALSE())","v":3},"3D","Competición",{"$f":"VLOOKUP(C2811,Referencias!$B$24:$C$40,2,FALSE())","v":"M"}]
["2815031","Borman Ugarte, Michael","Madrileña","NULL",{"$f":"VLOOKUP(G2812,Referencias!$C$4:$D$21,2,FALSE())","v":"Tercera Diamante"},{"$f":"VLOOKUP(G2812,Referencias!$C$4:$E$21,3,FALSE())","v":3},"3D","Competición",{"$f":"VLOOKUP(C2812,Referencias!$B$24:$C$40,2,FALSE())","v":"M"}]
["2815032","Suárez-Llanos Rovira, Mar","Madrileña","D",{"$f":"VLOOKUP(G2813,Referencias!$C$4:$D$21,2,FALSE())","v":"Tercera Diamante"},{"$f":"VLOOKUP(G2813,Referencias!$C$4:$E$21,3,FALSE())","v":3},"3D","Competición",{"$f":"VLOOKUP(C2813,Referencias!$B$24:$C$40,2,FALSE())","v":"M"}]
["2815033","De la Torre García de la Rasilla, Lourdes","Madrileña","D",{"$f":"VLOOKUP(G2814,Referencias!$C$4:$D$21,2,FALSE())","v":"Tercera Diamante"},{"$f":"VLOOKUP(G2814,Referencias!$C$4:$E$21,3,FALSE())","v":3},"3D","Competición",{"$f":"VLOOKUP(C2814,Referencias!$B$24:$C$40,2,FALSE())","v":"M"}]
["2815034","Pérez de Rada Cavanilles, Beroiz ","Madrileña","D",{"$f":"VLOOKUP(G2815,Referencias!$C$4:$D$21,2,FALSE())","v":"Tercera Diamante"},{"$f":"VLOOKUP(G2815,Referencias!$C$4:$E$21,3,FALSE())","v":3},"3D","Competición",{"$f":"VLOOKUP(C2815,Referencias!$B$24:$C$40,2,FALSE())","v":"M"}]
["2815035","Galatas Escat,  Juan","Madrileña","C",{"$f":"VLOOKUP(G2816,Referencias!$C$4:$D$21,2,FALSE())","v":"Tercera Diamante"},{"$f":"VLOOKUP(G2816,Referencias!$C$4:$E$21,3,FALSE())","v":3},"3D","Competición",{"$f":"VLOOKUP(C2816,Referencias!$B$24:$C$40,2,FALSE())","v":"M"}]
["2815036","García González-Herrero, Sonia","Madrileña","D",{"$f":"VLOOKUP(G2817,Referencias!$C$4:$D$21,2,FALSE())","v":"Tercera Diamante"},{"$f":"VLOOKUP(G2817,Referencias!$C$4:$E$21,3,FALSE())","v":3},"3D","Competición",{"$f":"VLOOKUP(C2817,Referencias!$B$24:$C$40,2,FALSE())","v":"M"}]
["2815037","Amann Ostos, María José","Madrileña","D",{"$f":"VLOOKUP(G2818,Referencias!$C$4:$D$21,2,FALSE())","v":"Tercera Diamante"},{"$f":"VLOOKUP(G2818,Referencias!$C$4:$E$21,3,FALSE())","v":3},"3D","Competición",{"$f":"VLOOKUP(C2818,Referencias!$B$24:$C$40,2,FALSE())","v":"M"}]
["2815038","Blasco Blanco, María Jesús ","Madrileña","D",{"$f":"VLOOKUP(G2819,Referencias!$C$4:$D$21,2,FALSE())","v":"Tercera Diamante"},{"$f":"VLOOKUP(G2819,Referencias!$C$4:$E$21,3,FALSE())","v":3},"3D","Competición",{"$f":"VLOOKUP(C2819,Referencias!$B$24:$C$40,2,FALSE())","v":"M"}]
["2815039","Folguera Crespo,  Jaime","Madrileña","C",{"$f":"VLOOKUP(G2820,Referencias!$C$4:$D$21,2,FALSE())","v":"Tercera Diamante"},{"$f":"VLOOKUP(G2820,Referencias!$C$4:$E$21,3,FALSE())","v":3},"3D","Competición",{"$f":"VLOOKUP(C2820,Referencias!$B$24:$C$40,2,FALSE())","v":"M"}]
["2815040","Gonzalo Bonilla, Inmaculada","Madrileña","D",{"$f":"VLOOKUP(G2821,Referencias!$C$4:$D$21,2,FALSE())","v":"Tercera Diamante"},{"$f":"VLOOKUP(G2821,Referencias!$C$4:$E$21,3,FALSE())","v":3},"3D","Competición",{"$f":"VLOOKUP(C2821,Referencias!$B$24:$C$40,2,FALSE())","v":"M"}]
["2815041","Clemente Sánchez, Francisco","Madrileña","NULL",{"$f":"VLOOKUP(G2822,Referencias!$C$4:$D$21,2,FALSE())","v":"Tercera Diamante"},{"$f":"VLOOKUP(G2822,Referencias!$C$4:$E$21,3,FALSE())","v":3},"3D","Competición",{"$f":"VLOOKUP(C2822,Referencias!$B$24:$C$40,2,FALSE())","v":"M"}]
["2815042","Alvarez Valentín, Gonzalo","Madrileña","D",{"$f":"VLOOKUP(G2823,Referencias!$C$4:$D$21,2,FALSE())","v":"Tercera Corazón"},{"$f":"VLOOKUP(G2823,Referencias!$C$4:$E$21,3,FALSE())","v":3},"3C","Competición",{"$f":"VLOOKUP(C2823,Referencias!$B$24:$C$40,2,FALSE())","v":"M"}]
["2815043","de Corral Yerro, Diego","Madrileña","D",{"$f":"VLOOKUP(G2824,Referencias!$C$4:$D$21,2,FALSE())","v":"Tercera Diamante"},{"$f":"VLOOKUP(G2824,Referencias!$C$4:$E$21,3,FALSE())","v":3},"3D","Competición",{"$f":"VLOOKUP(C2824,Referencias!$B$24:$C$40,2,FALSE())","v":"M"}]
["2815044","Sainz González, Marta","Madrileña","D",{"$f":"VLOOKUP(G2825,Referencias!$C$4:$D$21,2,FALSE())","v":"Tercera Diamante"},{"$f":"VLOOKUP(G2825,Referencias!$C$4:$E$21,3,FALSE())","v":3},"3D","Competición",{"$f":"VLOOKUP(C2825,Referencias!$B$24:$C$40,2,FALSE())","v":"M"}]
["2815046","Garate Barrenechea, Nieves","Madrileña","D",{"$f":"VLOOKUP(G2826,Referencias!$C$4:$D$21,2,FALSE())","v":"Tercera Diamante"},{"$f":"VLOOKUP(G2826,Referencias!$C$4:$E$21,3,FALSE())","v":3},"3D","Competición",{"$f":"VLOOKUP(C2826,Referencias!$B$24:$C$40,2,FALSE())","v":"M"}]
["2815047","Greciano García, Nieves","Madrileña","D",{"$f":"VLOOKUP(G2827,Referencias!$C$4:$D$21,2,FALSE())","v":"Tercera Diamante"},{"$f":"VLOOKUP(G2827,Referencias!$C$4:$E$21,3,FALSE())","v":3},"3D","Competición",{"$f":"VLOOKUP(C2827,Referencias!$B$24:$C$40,2,FALSE())","v":"M"}]
["2815048","Saba Graziati, José María","Madrileña","C",{"$f":"VLOOKUP(G2828,Referencias!$C$4:$D$21,2,FALSE())","v":"Tercera Diamante"},{"$f":"VLOOKUP(G2828,Referencias!$C$4:$E$21,3,FALSE())","v":3},"3D","Competición",{"$f":"VLOOKUP(C2828,Referencias!$B$24:$C$40,2,FALSE())","v":"M"}]
["2815049","Jiménez Díaz, Silvia","Madrileña","D",{"$f":"VLOOKUP(G2829,Referencias!$C$4:$D$21,2,FALSE())","v":"Tercera Diamante"},{"$f":"VLOOKUP(G2829,Referencias!$C$4:$E$21,3,FALSE())","v":3},"3D","Competición",{"$f":"VLOOKUP(C2829,Referencias!$B$24:$C$40,2,FALSE())","v":"M"}]
["2815050","Monsalve Ballesteros, Ignacio","Madrileña","C",{"$f":"VLOOKUP(G2830,Referencias!$C$4:$D$21,2,FALSE())","v":"Tercera Diamante"},{"$f":"VLOOKUP(G2830,Referencias!$C$4:$E$21,3,FALSE())","v":3},"3D","Competición",{"$f":"VLOOKUP(C2830,Referencias!$B$24:$C$40,2,FALSE())","v":"M"}]
["2815051","De Delas-Vigo Padrones, Paola","Madrileña","D",{"$f":"VLOOKUP(G2831,Referencias!$C$4:$D$21,2,FALSE())","v":"Tercera Diamante"},{"$f":"VLOOKUP(G2831,Referencias!$C$4:$E$21,3,FALSE())","v":3},"3D","Competición",{"$f":"VLOOKUP(C2831,Referencias!$B$24:$C$40,2,FALSE())","v":"M"}]
["2815052","Rodriguez Chantada, Diana Emilce","Madrileña","D",{"$f":"VLOOKUP(G2832,Referencias!$C$4:$D$21,2,FALSE())","v":"Tercera Diamante"},{"$f":"VLOOKUP(G2832,Referencias!$C$4:$E$21,3,FALSE())","v":3},"3D","Competición",{"$f":"VLOOKUP(C2832,Referencias!$B$24:$C$40,2,FALSE())","v":"M"}]
["2815053","Izard Pereda , Ana ","Madrileña","D",{"$f":"VLOOKUP(G2833,Referencias!$C$4:$D$21,2,FALSE())","v":"Tercera Diamante"},{"$f":"VLOOKUP(G2833,Referencias!$C$4:$E$21,3,FALSE())","v":3},"3D","Competición",{"$f":"VLOOKUP(C2833,Referencias!$B$24:$C$40,2,FALSE())","v":"M"}]
["2815054","Esayag Bendrao, Franklin","Madrileña","C",{"$f":"VLOOKUP(G2834,Referencias!$C$4:$D$21,2,FALSE())","v":"Tercera Picas"},{"$f":"VLOOKUP(G2834,Referencias!$C$4:$E$21,3,FALSE())","v":3},"3P","Competición",{"$f":"VLOOKUP(C2834,Referencias!$B$24:$C$40,2,FALSE())","v":"M"}]
["2815055","Pérez Saiz, Julián","Madrileña","D",{"$f":"VLOOKUP(G2835,Referencias!$C$4:$D$21,2,FALSE())","v":"Tercera Diamante"},{"$f":"VLOOKUP(G2835,Referencias!$C$4:$E$21,3,FALSE())","v":3},"3D","Competición",{"$f":"VLOOKUP(C2835,Referencias!$B$24:$C$40,2,FALSE())","v":"M"}]
["2815056","García de Quesada Fort, Ignacio","Madrileña","C",{"$f":"VLOOKUP(G2836,Referencias!$C$4:$D$21,2,FALSE())","v":"Tercera Picas"},{"$f":"VLOOKUP(G2836,Referencias!$C$4:$E$21,3,FALSE())","v":3},"3P","Competición",{"$f":"VLOOKUP(C2836,Referencias!$B$24:$C$40,2,FALSE())","v":"M"}]
["2815057","Muro Aguilar, Sonia","Madrileña","D",{"$f":"VLOOKUP(G2837,Referencias!$C$4:$D$21,2,FALSE())","v":"Tercera Diamante"},{"$f":"VLOOKUP(G2837,Referencias!$C$4:$E$21,3,FALSE())","v":3},"3D","Competición",{"$f":"VLOOKUP(C2837,Referencias!$B$24:$C$40,2,FALSE())","v":"M"}]
["2815058","Pinedo Sucre, Diana ","Madrileña","D",{"$f":"VLOOKUP(G2838,Referencias!$C$4:$D$21,2,FALSE())","v":"Tercera Diamante"},{"$f":"VLOOKUP(G2838,Referencias!$C$4:$E$21,3,FALSE())","v":3},"3D","Competición",{"$f":"VLOOKUP(C2838,Referencias!$B$24:$C$40,2,FALSE())","v":"M"}]
["2815060","Serrano Trigueros, Maria Eugenia","Madrileña","D",{"$f":"VLOOKUP(G2839,Referencias!$C$4:$D$21,2,FALSE())","v":"Tercera Diamante"},{"$f":"VLOOKUP(G2839,Referencias!$C$4:$E$21,3,FALSE())","v":3},"3D","Competición",{"$f":"VLOOKUP(C2839,Referencias!$B$24:$C$40,2,FALSE())","v":"M"}]
["2815061","Isla Duarte, Maria Amparo","Madrileña","D",{"$f":"VLOOKUP(G2840,Referencias!$C$4:$D$21,2,FALSE())","v":"Tercera Diamante"},{"$f":"VLOOKUP(G2840,Referencias!$C$4:$E$21,3,FALSE())","v":3},"3D","Competición",{"$f":"VLOOKUP(C2840,Referencias!$B$24:$C$40,2,FALSE())","v":"M"}]
["2815062","De Buerba Pando, Adriana ","Madrileña","D",{"$f":"VLOOKUP(G2841,Referencias!$C$4:$D$21,2,FALSE())","v":"Tercera Corazón"},{"$f":"VLOOKUP(G2841,Referencias!$C$4:$E$21,3,FALSE())","v":3},"3C","Competición",{"$f":"VLOOKUP(C2841,Referencias!$B$24:$C$40,2,FALSE())","v":"M"}]
["2815063","Campaña Ceballos, Maria del Cariño","Madrileña","D",{"$f":"VLOOKUP(G2842,Referencias!$C$4:$D$21,2,FALSE())","v":"Tercera Diamante"},{"$f":"VLOOKUP(G2842,Referencias!$C$4:$E$21,3,FALSE())","v":3},"3D","Competición",{"$f":"VLOOKUP(C2842,Referencias!$B$24:$C$40,2,FALSE())","v":"M"}]
["2815064","González de Vega López, Ana","Madrileña","D",{"$f":"VLOOKUP(G2843,Referencias!$C$4:$D$21,2,FALSE())","v":"Tercera Corazón"},{"$f":"VLOOKUP(G2843,Referencias!$C$4:$E$21,3,FALSE())","v":3},"3C","Competición",{"$f":"VLOOKUP(C2843,Referencias!$B$24:$C$40,2,FALSE())","v":"M"}]
["2815065","Bastarreche Sagüés,  Ana ","Madrileña","D",{"$f":"VLOOKUP(G2844,Referencias!$C$4:$D$21,2,FALSE())","v":"Tercera Picas"},{"$f":"VLOOKUP(G2844,Referencias!$C$4:$E$21,3,FALSE())","v":3},"3P","Competición",{"$f":"VLOOKUP(C2844,Referencias!$B$24:$C$40,2,FALSE())","v":"M"}]
["2815066","Rotaeche Ozores, Beatriz","Madrileña","D",{"$f":"VLOOKUP(G2845,Referencias!$C$4:$D$21,2,FALSE())","v":"Tercera Diamante"},{"$f":"VLOOKUP(G2845,Referencias!$C$4:$E$21,3,FALSE())","v":3},"3D","Competición",{"$f":"VLOOKUP(C2845,Referencias!$B$24:$C$40,2,FALSE())","v":"M"}]
["2815067","Moreno de Barreda Moreno, Ignacio","Madrileña","C",{"$f":"VLOOKUP(G2846,Referencias!$C$4:$D$21,2,FALSE())","v":"Tercera Diamante"},{"$f":"VLOOKUP(G2846,Referencias!$C$4:$E$21,3,FALSE())","v":3},"3D","Competición",{"$f":"VLOOKUP(C2846,Referencias!$B$24:$C$40,2,FALSE())","v":"M"}]
["2815068","San Martín García, María del Carmen","Madrileña","D",{"$f":"VLOOKUP(G2847,Referencias!$C$4:$D$21,2,FALSE())","v":"Tercera Diamante"},{"$f":"VLOOKUP(G2847,Referencias!$C$4:$E$21,3,FALSE())","v":3},"3D","Competición",{"$f":"VLOOKUP(C2847,Referencias!$B$24:$C$40,2,FALSE())","v":"M"}]
["2815069","Puiggros Asensio, Marta","Madrileña","D",{"$f":"VLOOKUP(G2848,Referencias!$C$4:$D$21,2,FALSE())","v":"Tercera Corazón"},{"$f":"VLOOKUP(G2848,Referencias!$C$4:$E$21,3,FALSE())","v":3},"3C","Competición",{"$f":"VLOOKUP(C2848,Referencias!$B$24:$C$40,2,FALSE())","v":"M"}]
["2815070","Cobacho López, Alicia","Madrileña","D",{"$f":"VLOOKUP(G2849,Referencias!$C$4:$D$21,2,FALSE())","v":"Tercera Picas"},{"$f":"VLOOKUP(G2849,Referencias!$C$4:$E$21,3,FALSE())","v":3},"3P","Competición",{"$f":"VLOOKUP(C2849,Referencias!$B$24:$C$40,2,FALSE())","v":"M"}]
["2815071","Calero González, Guadalupe","Madrileña","D",{"$f":"VLOOKUP(G2850,Referencias!$C$4:$D$21,2,FALSE())","v":"Tercera Diamante"},{"$f":"VLOOKUP(G2850,Referencias!$C$4:$E$21,3,FALSE())","v":3},"3D","Competición",{"$f":"VLOOKUP(C2850,Referencias!$B$24:$C$40,2,FALSE())","v":"M"}]
["2815072","Gómez Domingo, Carmen","Madrileña","D",{"$f":"VLOOKUP(G2851,Referencias!$C$4:$D$21,2,FALSE())","v":"Tercera Diamante"},{"$f":"VLOOKUP(G2851,Referencias!$C$4:$E$21,3,FALSE())","v":3},"3D","Competición",{"$f":"VLOOKUP(C2851,Referencias!$B$24:$C$40,2,FALSE())","v":"M"}]
["2815073","Espinosa García, María Angeles","Madrileña","D",{"$f":"VLOOKUP(G2852,Referencias!$C$4:$D$21,2,FALSE())","v":"Tercera Diamante"},{"$f":"VLOOKUP(G2852,Referencias!$C$4:$E$21,3,FALSE())","v":3},"3D","Competición",{"$f":"VLOOKUP(C2852,Referencias!$B$24:$C$40,2,FALSE())","v":"M"}]
["2815074","Cepedano Beteta, Asún","Madrileña","D",{"$f":"VLOOKUP(G2853,Referencias!$C$4:$D$21,2,FALSE())","v":"Tercera Diamante"},{"$f":"VLOOKUP(G2853,Referencias!$C$4:$E$21,3,FALSE())","v":3},"3D","Competición",{"$f":"VLOOKUP(C2853,Referencias!$B$24:$C$40,2,FALSE())","v":"M"}]
["2815075","Rotaeche Ozores, Iria","Madrileña","D",{"$f":"VLOOKUP(G2854,Referencias!$C$4:$D$21,2,FALSE())","v":"Tercera Diamante"},{"$f":"VLOOKUP(G2854,Referencias!$C$4:$E$21,3,FALSE())","v":3},"3D","Competición",{"$f":"VLOOKUP(C2854,Referencias!$B$24:$C$40,2,FALSE())","v":"M"}]
["2815076","Riaño Ibañez, Marta","Madrileña","D",{"$f":"VLOOKUP(G2855,Referencias!$C$4:$D$21,2,FALSE())","v":"Tercera Diamante"},{"$f":"VLOOKUP(G2855,Referencias!$C$4:$E$21,3,FALSE())","v":3},"3D","Competición",{"$f":"VLOOKUP(C2855,Referencias!$B$24:$C$40,2,FALSE())","v":"M"}]
["2815077","DÍEZ DE POLANCO, JAVIER","Madrileña","C",{"$f":"VLOOKUP(G2856,Referencias!$C$4:$D$21,2,FALSE())","v":"Tercera Diamante"},{"$f":"VLOOKUP(G2856,Referencias!$C$4:$E$21,3,FALSE())","v":3},"3D","Competición",{"$f":"VLOOKUP(C2856,Referencias!$B$24:$C$40,2,FALSE())","v":"M"}]
["2815078","Martín-González Hernán, María Luisa","Madrileña","C",{"$f":"VLOOKUP(G2857,Referencias!$C$4:$D$21,2,FALSE())","v":"Tercera Diamante"},{"$f":"VLOOKUP(G2857,Referencias!$C$4:$E$21,3,FALSE())","v":3},"3D","Competición",{"$f":"VLOOKUP(C2857,Referencias!$B$24:$C$40,2,FALSE())","v":"M"}]
["2815079","Ruiz Marentes, Flor de Lis","Madrileña","D",{"$f":"VLOOKUP(G2858,Referencias!$C$4:$D$21,2,FALSE())","v":"Tercera Diamante"},{"$f":"VLOOKUP(G2858,Referencias!$C$4:$E$21,3,FALSE())","v":3},"3D","Competición",{"$f":"VLOOKUP(C2858,Referencias!$B$24:$C$40,2,FALSE())","v":"M"}]
["2815080","De San Roman Pais, Paloma","Madrileña","D",{"$f":"VLOOKUP(G2859,Referencias!$C$4:$D$21,2,FALSE())","v":"Tercera Diamante"},{"$f":"VLOOKUP(G2859,Referencias!$C$4:$E$21,3,FALSE())","v":3},"3D","Competición",{"$f":"VLOOKUP(C2859,Referencias!$B$24:$C$40,2,FALSE())","v":"M"}]
["2815081","Alonso González, Isabel","Madrileña","D",{"$f":"VLOOKUP(G2860,Referencias!$C$4:$D$21,2,FALSE())","v":"Tercera Diamante"},{"$f":"VLOOKUP(G2860,Referencias!$C$4:$E$21,3,FALSE())","v":3},"3D","Competición",{"$f":"VLOOKUP(C2860,Referencias!$B$24:$C$40,2,FALSE())","v":"M"}]
["2815082","Carriles Díaz de Bustamante, Carolina","Madrileña","D",{"$f":"VLOOKUP(G2861,Referencias!$C$4:$D$21,2,FALSE())","v":"Tercera Diamante"},{"$f":"VLOOKUP(G2861,Referencias!$C$4:$E$21,3,FALSE())","v":3},"3D","Competición",{"$f":"VLOOKUP(C2861,Referencias!$B$24:$C$40,2,FALSE())","v":"M"}]
["2815083","Espluga Gallart, Josefa","Madrileña","D",{"$f":"VLOOKUP(G2862,Referencias!$C$4:$D$21,2,FALSE())","v":"Tercera Diamante"},{"$f":"VLOOKUP(G2862,Referencias!$C$4:$E$21,3,FALSE())","v":3},"3D","Competición",{"$f":"VLOOKUP(C2862,Referencias!$B$24:$C$40,2,FALSE())","v":"M"}]
["2815084","Palau Depoli, Mirta","Madrileña","D",{"$f":"VLOOKUP(G2863,Referencias!$C$4:$D$21,2,FALSE())","v":"Tercera Diamante"},{"$f":"VLOOKUP(G2863,Referencias!$C$4:$E$21,3,FALSE())","v":3},"3D","Competición",{"$f":"VLOOKUP(C2863,Referencias!$B$24:$C$40,2,FALSE())","v":"M"}]
["2815085","Laguna Roldán, Constanza","Madrileña","D",{"$f":"VLOOKUP(G2864,Referencias!$C$4:$D$21,2,FALSE())","v":"Tercera Diamante"},{"$f":"VLOOKUP(G2864,Referencias!$C$4:$E$21,3,FALSE())","v":3},"3D","Competición",{"$f":"VLOOKUP(C2864,Referencias!$B$24:$C$40,2,FALSE())","v":"M"}]
["2815086","Vidal Verdasco, Maria Teresa","Madrileña","D",{"$f":"VLOOKUP(G2865,Referencias!$C$4:$D$21,2,FALSE())","v":"Tercera Diamante"},{"$f":"VLOOKUP(G2865,Referencias!$C$4:$E$21,3,FALSE())","v":3},"3D","Competición",{"$f":"VLOOKUP(C2865,Referencias!$B$24:$C$40,2,FALSE())","v":"M"}]
["2815087","Garate Barrenechea, Iciar","Madrileña","D",{"$f":"VLOOKUP(G2866,Referencias!$C$4:$D$21,2,FALSE())","v":"Tercera Diamante"},{"$f":"VLOOKUP(G2866,Referencias!$C$4:$E$21,3,FALSE())","v":3},"3D","Competición",{"$f":"VLOOKUP(C2866,Referencias!$B$24:$C$40,2,FALSE())","v":"M"}]
["2815089","Baeza Martín, Maite","Madrileña","D",{"$f":"VLOOKUP(G2867,Referencias!$C$4:$D$21,2,FALSE())","v":"Tercera Diamante"},{"$f":"VLOOKUP(G2867,Referencias!$C$4:$E$21,3,FALSE())","v":3},"3D","Competición",{"$f":"VLOOKUP(C2867,Referencias!$B$24:$C$40,2,FALSE())","v":"M"}]
["2815090","García Martín, María del Carmen","Madrileña","D",{"$f":"VLOOKUP(G2868,Referencias!$C$4:$D$21,2,FALSE())","v":"Tercera Diamante"},{"$f":"VLOOKUP(G2868,Referencias!$C$4:$E$21,3,FALSE())","v":3},"3D","Competición",{"$f":"VLOOKUP(C2868,Referencias!$B$24:$C$40,2,FALSE())","v":"M"}]
["2815091","Gargallo del Río , Ana María","Madrileña","D",{"$f":"VLOOKUP(G2869,Referencias!$C$4:$D$21,2,FALSE())","v":"Tercera Diamante"},{"$f":"VLOOKUP(G2869,Referencias!$C$4:$E$21,3,FALSE())","v":3},"3D","Competición",{"$f":"VLOOKUP(C2869,Referencias!$B$24:$C$40,2,FALSE())","v":"M"}]
["2815092","Pérez García, Javier","Madrileña","C",{"$f":"VLOOKUP(G2870,Referencias!$C$4:$D$21,2,FALSE())","v":"Tercera Diamante"},{"$f":"VLOOKUP(G2870,Referencias!$C$4:$E$21,3,FALSE())","v":3},"3D","Competición",{"$f":"VLOOKUP(C2870,Referencias!$B$24:$C$40,2,FALSE())","v":"M"}]
["2815093","Mendoza Díaz-Aguado, Paz","Madrileña","D",{"$f":"VLOOKUP(G2871,Referencias!$C$4:$D$21,2,FALSE())","v":"Tercera Diamante"},{"$f":"VLOOKUP(G2871,Referencias!$C$4:$E$21,3,FALSE())","v":3},"3D","Competición",{"$f":"VLOOKUP(C2871,Referencias!$B$24:$C$40,2,FALSE())","v":"M"}]
["2815094","Blanco Marenco, María Gemma","Madrileña","D",{"$f":"VLOOKUP(G2872,Referencias!$C$4:$D$21,2,FALSE())","v":"Tercera Diamante"},{"$f":"VLOOKUP(G2872,Referencias!$C$4:$E$21,3,FALSE())","v":3},"3D","Honorífica",{"$f":"VLOOKUP(C2872,Referencias!$B$24:$C$40,2,FALSE())","v":"M"}]
["2815095","Goicoechea Rodriguez, Iciar","Madrileña","D",{"$f":"VLOOKUP(G2873,Referencias!$C$4:$D$21,2,FALSE())","v":"Tercera Diamante"},{"$f":"VLOOKUP(G2873,Referencias!$C$4:$E$21,3,FALSE())","v":3},"3D","Competición",{"$f":"VLOOKUP(C2873,Referencias!$B$24:$C$40,2,FALSE())","v":"M"}]
["2815096","Ruiz Rodero, Maria Luisa","Madrileña","D",{"$f":"VLOOKUP(G2874,Referencias!$C$4:$D$21,2,FALSE())","v":"Tercera Diamante"},{"$f":"VLOOKUP(G2874,Referencias!$C$4:$E$21,3,FALSE())","v":3},"3D","Competición",{"$f":"VLOOKUP(C2874,Referencias!$B$24:$C$40,2,FALSE())","v":"M"}]
["2815097","Sicilia Fernández-Shaw, Paloma","Madrileña","D",{"$f":"VLOOKUP(G2875,Referencias!$C$4:$D$21,2,FALSE())","v":"Tercera Diamante"},{"$f":"VLOOKUP(G2875,Referencias!$C$4:$E$21,3,FALSE())","v":3},"3D","Competición",{"$f":"VLOOKUP(C2875,Referencias!$B$24:$C$40,2,FALSE())","v":"M"}]
["2815098","Molina Pérez, María Antonia","Madrileña","D",{"$f":"VLOOKUP(G2876,Referencias!$C$4:$D$21,2,FALSE())","v":"Tercera Diamante"},{"$f":"VLOOKUP(G2876,Referencias!$C$4:$E$21,3,FALSE())","v":3},"3D","Competición",{"$f":"VLOOKUP(C2876,Referencias!$B$24:$C$40,2,FALSE())","v":"M"}]
["2815099","Cortina Moreno, Begoña","Madrileña","D",{"$f":"VLOOKUP(G2877,Referencias!$C$4:$D$21,2,FALSE())","v":"Tercera Diamante"},{"$f":"VLOOKUP(G2877,Referencias!$C$4:$E$21,3,FALSE())","v":3},"3D","Competición",{"$f":"VLOOKUP(C2877,Referencias!$B$24:$C$40,2,FALSE())","v":"M"}]
["2815100","Pillado Fernández, Elena","Madrileña","D",{"$f":"VLOOKUP(G2878,Referencias!$C$4:$D$21,2,FALSE())","v":"Tercera Diamante"},{"$f":"VLOOKUP(G2878,Referencias!$C$4:$E$21,3,FALSE())","v":3},"3D","Competición",{"$f":"VLOOKUP(C2878,Referencias!$B$24:$C$40,2,FALSE())","v":"M"}]
["2815101","de la Iglesia Mata, María","Madrileña","D",{"$f":"VLOOKUP(G2879,Referencias!$C$4:$D$21,2,FALSE())","v":"Tercera Diamante"},{"$f":"VLOOKUP(G2879,Referencias!$C$4:$E$21,3,FALSE())","v":3},"3D","Competición",{"$f":"VLOOKUP(C2879,Referencias!$B$24:$C$40,2,FALSE())","v":"M"}]
["2815102","Tejera Valdivia, Rosa","Madrileña","D",{"$f":"VLOOKUP(G2880,Referencias!$C$4:$D$21,2,FALSE())","v":"Tercera Diamante"},{"$f":"VLOOKUP(G2880,Referencias!$C$4:$E$21,3,FALSE())","v":3},"3D","Competición",{"$f":"VLOOKUP(C2880,Referencias!$B$24:$C$40,2,FALSE())","v":"M"}]
["2815103","Arsuaga Serrats, Esther","Madrileña","D",{"$f":"VLOOKUP(G2881,Referencias!$C$4:$D$21,2,FALSE())","v":"Tercera Diamante"},{"$f":"VLOOKUP(G2881,Referencias!$C$4:$E$21,3,FALSE())","v":3},"3D","Competición",{"$f":"VLOOKUP(C2881,Referencias!$B$24:$C$40,2,FALSE())","v":"M"}]
["2815104","González Rosaenz, Teresa","Madrileña","D",{"$f":"VLOOKUP(G2882,Referencias!$C$4:$D$21,2,FALSE())","v":"Tercera Diamante"},{"$f":"VLOOKUP(G2882,Referencias!$C$4:$E$21,3,FALSE())","v":3},"3D","Competición",{"$f":"VLOOKUP(C2882,Referencias!$B$24:$C$40,2,FALSE())","v":"M"}]
["2815105","Cano Alonso-Carriazo, Paloma","Madrileña","D",{"$f":"VLOOKUP(G2883,Referencias!$C$4:$D$21,2,FALSE())","v":"Tercera Diamante"},{"$f":"VLOOKUP(G2883,Referencias!$C$4:$E$21,3,FALSE())","v":3},"3D","Competición",{"$f":"VLOOKUP(C2883,Referencias!$B$24:$C$40,2,FALSE())","v":"M"}]
["2815106","Fernández Mora, Ana María","Madrileña","D",{"$f":"VLOOKUP(G2884,Referencias!$C$4:$D$21,2,FALSE())","v":"Tercera Diamante"},{"$f":"VLOOKUP(G2884,Referencias!$C$4:$E$21,3,FALSE())","v":3},"3D","Competición",{"$f":"VLOOKUP(C2884,Referencias!$B$24:$C$40,2,FALSE())","v":"M"}]
["2815107","Rigal Mengibar, Juan José ","Madrileña","C",{"$f":"VLOOKUP(G2885,Referencias!$C$4:$D$21,2,FALSE())","v":"Tercera Diamante"},{"$f":"VLOOKUP(G2885,Referencias!$C$4:$E$21,3,FALSE())","v":3},"3D","Competición",{"$f":"VLOOKUP(C2885,Referencias!$B$24:$C$40,2,FALSE())","v":"M"}]
["2815108","Uzel, Nathalie","Madrileña","D",{"$f":"VLOOKUP(G2886,Referencias!$C$4:$D$21,2,FALSE())","v":"Tercera Diamante"},{"$f":"VLOOKUP(G2886,Referencias!$C$4:$E$21,3,FALSE())","v":3},"3D","Competición",{"$f":"VLOOKUP(C2886,Referencias!$B$24:$C$40,2,FALSE())","v":"M"}]
["2815110","Muñoz Bayo, Ángeles","Madrileña","D",{"$f":"VLOOKUP(G2887,Referencias!$C$4:$D$21,2,FALSE())","v":"Tercera Diamante"},{"$f":"VLOOKUP(G2887,Referencias!$C$4:$E$21,3,FALSE())","v":3},"3D","Competición",{"$f":"VLOOKUP(C2887,Referencias!$B$24:$C$40,2,FALSE())","v":"M"}]
["2815111","Pérez García, Begoña","Madrileña","D",{"$f":"VLOOKUP(G2888,Referencias!$C$4:$D$21,2,FALSE())","v":"Tercera Diamante"},{"$f":"VLOOKUP(G2888,Referencias!$C$4:$E$21,3,FALSE())","v":3},"3D","Competición",{"$f":"VLOOKUP(C2888,Referencias!$B$24:$C$40,2,FALSE())","v":"M"}]
["2815112","Pardo de Santayana Vidal-Abarca, Bárbara","Madrileña","D",{"$f":"VLOOKUP(G2889,Referencias!$C$4:$D$21,2,FALSE())","v":"Tercera Diamante"},{"$f":"VLOOKUP(G2889,Referencias!$C$4:$E$21,3,FALSE())","v":3},"3D","Competición",{"$f":"VLOOKUP(C2889,Referencias!$B$24:$C$40,2,FALSE())","v":"M"}]
["2815113","Gil Muñiz, María Jesús ","Madrileña","D",{"$f":"VLOOKUP(G2890,Referencias!$C$4:$D$21,2,FALSE())","v":"Tercera Diamante"},{"$f":"VLOOKUP(G2890,Referencias!$C$4:$E$21,3,FALSE())","v":3},"3D","Competición",{"$f":"VLOOKUP(C2890,Referencias!$B$24:$C$40,2,FALSE())","v":"M"}]
["2815114","Arias Neira, María Cruz","Madrileña","D",{"$f":"VLOOKUP(G2891,Referencias!$C$4:$D$21,2,FALSE())","v":"Tercera Diamante"},{"$f":"VLOOKUP(G2891,Referencias!$C$4:$E$21,3,FALSE())","v":3},"3D","Competición",{"$f":"VLOOKUP(C2891,Referencias!$B$24:$C$40,2,FALSE())","v":"M"}]
["2815115","Miralles Manresa, Miriam","Madrileña","D",{"$f":"VLOOKUP(G2892,Referencias!$C$4:$D$21,2,FALSE())","v":"Tercera Diamante"},{"$f":"VLOOKUP(G2892,Referencias!$C$4:$E$21,3,FALSE())","v":3},"3D","Competición",{"$f":"VLOOKUP(C2892,Referencias!$B$24:$C$40,2,FALSE())","v":"M"}]
["2815116","Navarro Tome, Ana","Madrileña","D",{"$f":"VLOOKUP(G2893,Referencias!$C$4:$D$21,2,FALSE())","v":"Tercera Diamante"},{"$f":"VLOOKUP(G2893,Referencias!$C$4:$E$21,3,FALSE())","v":3},"3D","Competición",{"$f":"VLOOKUP(C2893,Referencias!$B$24:$C$40,2,FALSE())","v":"M"}]
["2815117","Maldonado Luque, Marta","Madrileña","D",{"$f":"VLOOKUP(G2894,Referencias!$C$4:$D$21,2,FALSE())","v":"Tercera Diamante"},{"$f":"VLOOKUP(G2894,Referencias!$C$4:$E$21,3,FALSE())","v":3},"3D","Competición",{"$f":"VLOOKUP(C2894,Referencias!$B$24:$C$40,2,FALSE())","v":"M"}]
["2815118","Castro Valdivia, Mónica","Madrileña","D",{"$f":"VLOOKUP(G2895,Referencias!$C$4:$D$21,2,FALSE())","v":"Tercera Diamante"},{"$f":"VLOOKUP(G2895,Referencias!$C$4:$E$21,3,FALSE())","v":3},"3D","Competición",{"$f":"VLOOKUP(C2895,Referencias!$B$24:$C$40,2,FALSE())","v":"M"}]
["2815119","Melero Aloy, Julio","Madrileña","C",{"$f":"VLOOKUP(G2896,Referencias!$C$4:$D$21,2,FALSE())","v":"Tercera Diamante"},{"$f":"VLOOKUP(G2896,Referencias!$C$4:$E$21,3,FALSE())","v":3},"3D","Competición",{"$f":"VLOOKUP(C2896,Referencias!$B$24:$C$40,2,FALSE())","v":"M"}]
["2815120","Morea Rodríguez, Antonio Javier","Madrileña","C",{"$f":"VLOOKUP(G2897,Referencias!$C$4:$D$21,2,FALSE())","v":"Tercera Diamante"},{"$f":"VLOOKUP(G2897,Referencias!$C$4:$E$21,3,FALSE())","v":3},"3D","Competición",{"$f":"VLOOKUP(C2897,Referencias!$B$24:$C$40,2,FALSE())","v":"M"}]
["2815121","Orlando Ascaso, Carmen","Madrileña","D",{"$f":"VLOOKUP(G2898,Referencias!$C$4:$D$21,2,FALSE())","v":"Tercera Corazón"},{"$f":"VLOOKUP(G2898,Referencias!$C$4:$E$21,3,FALSE())","v":3},"3C","Competición",{"$f":"VLOOKUP(C2898,Referencias!$B$24:$C$40,2,FALSE())","v":"M"}]
["2815122","López Díaz, Elvira","Madrileña","D",{"$f":"VLOOKUP(G2899,Referencias!$C$4:$D$21,2,FALSE())","v":"Tercera Diamante"},{"$f":"VLOOKUP(G2899,Referencias!$C$4:$E$21,3,FALSE())","v":3},"3D","Competición",{"$f":"VLOOKUP(C2899,Referencias!$B$24:$C$40,2,FALSE())","v":"M"}]
["2815124","de Carlos Mendoza, Concepción","Madrileña","D",{"$f":"VLOOKUP(G2900,Referencias!$C$4:$D$21,2,FALSE())","v":"Tercera Diamante"},{"$f":"VLOOKUP(G2900,Referencias!$C$4:$E$21,3,FALSE())","v":3},"3D","Competición",{"$f":"VLOOKUP(C2900,Referencias!$B$24:$C$40,2,FALSE())","v":"M"}]
["2815125","Stott, Andrew ","Madrileña","C",{"$f":"VLOOKUP(G2901,Referencias!$C$4:$D$21,2,FALSE())","v":"Tercera Diamante"},{"$f":"VLOOKUP(G2901,Referencias!$C$4:$E$21,3,FALSE())","v":3},"3D","Competición",{"$f":"VLOOKUP(C2901,Referencias!$B$24:$C$40,2,FALSE())","v":"M"}]
["2815126","Rojas de la Cruz, Diego","Madrileña","C",{"$f":"VLOOKUP(G2902,Referencias!$C$4:$D$21,2,FALSE())","v":"Tercera Diamante"},{"$f":"VLOOKUP(G2902,Referencias!$C$4:$E$21,3,FALSE())","v":3},"3D","Competición",{"$f":"VLOOKUP(C2902,Referencias!$B$24:$C$40,2,FALSE())","v":"M"}]
["2815127","Redondo Rodríguez, María Isabel","Madrileña","D",{"$f":"VLOOKUP(G2903,Referencias!$C$4:$D$21,2,FALSE())","v":"Tercera Diamante"},{"$f":"VLOOKUP(G2903,Referencias!$C$4:$E$21,3,FALSE())","v":3},"3D","Competición",{"$f":"VLOOKUP(C2903,Referencias!$B$24:$C$40,2,FALSE())","v":"M"}]
["2815128","Lozano Artolachipi, Mónica ","Madrileña","D",{"$f":"VLOOKUP(G2904,Referencias!$C$4:$D$21,2,FALSE())","v":"Tercera Diamante"},{"$f":"VLOOKUP(G2904,Referencias!$C$4:$E$21,3,FALSE())","v":3},"3D","Competición",{"$f":"VLOOKUP(C2904,Referencias!$B$24:$C$40,2,FALSE())","v":"M"}]
["2815129","Fernández-Shaw Zulueta, Blanca","Madrileña","D",{"$f":"VLOOKUP(G2905,Referencias!$C$4:$D$21,2,FALSE())","v":"Tercera Diamante"},{"$f":"VLOOKUP(G2905,Referencias!$C$4:$E$21,3,FALSE())","v":3},"3D","Competición",{"$f":"VLOOKUP(C2905,Referencias!$B$24:$C$40,2,FALSE())","v":"M"}]
["2815130","Noheda Ubach, Alicia","Madrileña","C",{"$f":"VLOOKUP(G2906,Referencias!$C$4:$D$21,2,FALSE())","v":"Tercera Corazón"},{"$f":"VLOOKUP(G2906,Referencias!$C$4:$E$21,3,FALSE())","v":3},"3C","Competición",{"$f":"VLOOKUP(C2906,Referencias!$B$24:$C$40,2,FALSE())","v":"M"}]
["2815131","Denia Lafuente, Mercedes","Madrileña","D",{"$f":"VLOOKUP(G2907,Referencias!$C$4:$D$21,2,FALSE())","v":"Tercera Diamante"},{"$f":"VLOOKUP(G2907,Referencias!$C$4:$E$21,3,FALSE())","v":3},"3D","Competición",{"$f":"VLOOKUP(C2907,Referencias!$B$24:$C$40,2,FALSE())","v":"M"}]
["2815132","Pérez-Ardá Criado, Javier ","Madrileña","C",{"$f":"VLOOKUP(G2908,Referencias!$C$4:$D$21,2,FALSE())","v":"Tercera Diamante"},{"$f":"VLOOKUP(G2908,Referencias!$C$4:$E$21,3,FALSE())","v":3},"3D","Competición",{"$f":"VLOOKUP(C2908,Referencias!$B$24:$C$40,2,FALSE())","v":"M"}]
["2815133","Precioso de Murga, Isabel ","Madrileña","D",{"$f":"VLOOKUP(G2909,Referencias!$C$4:$D$21,2,FALSE())","v":"Tercera Diamante"},{"$f":"VLOOKUP(G2909,Referencias!$C$4:$E$21,3,FALSE())","v":3},"3D","Competición",{"$f":"VLOOKUP(C2909,Referencias!$B$24:$C$40,2,FALSE())","v":"M"}]
["2815134","Barco Gorostegui, Sofia","Madrileña","D",{"$f":"VLOOKUP(G2910,Referencias!$C$4:$D$21,2,FALSE())","v":"Tercera Diamante"},{"$f":"VLOOKUP(G2910,Referencias!$C$4:$E$21,3,FALSE())","v":3},"3D","Competición",{"$f":"VLOOKUP(C2910,Referencias!$B$24:$C$40,2,FALSE())","v":"M"}]
["2815136","Pardo Vigo, Ana ","Madrileña","D",{"$f":"VLOOKUP(G2911,Referencias!$C$4:$D$21,2,FALSE())","v":"Tercera Diamante"},{"$f":"VLOOKUP(G2911,Referencias!$C$4:$E$21,3,FALSE())","v":3},"3D","Competición",{"$f":"VLOOKUP(C2911,Referencias!$B$24:$C$40,2,FALSE())","v":"M"}]
["2815137","Tortajada Suils, Cristina ","Madrileña","D",{"$f":"VLOOKUP(G2912,Referencias!$C$4:$D$21,2,FALSE())","v":"Tercera Diamante"},{"$f":"VLOOKUP(G2912,Referencias!$C$4:$E$21,3,FALSE())","v":3},"3D","Competición",{"$f":"VLOOKUP(C2912,Referencias!$B$24:$C$40,2,FALSE())","v":"M"}]
["2815138","Pérez Iturriaga, José Luis ","Madrileña","C",{"$f":"VLOOKUP(G2913,Referencias!$C$4:$D$21,2,FALSE())","v":"Tercera Diamante"},{"$f":"VLOOKUP(G2913,Referencias!$C$4:$E$21,3,FALSE())","v":3},"3D","Competición",{"$f":"VLOOKUP(C2913,Referencias!$B$24:$C$40,2,FALSE())","v":"M"}]
["2815139","Moreu de la Vega, Covadonga Inés","Madrileña","D",{"$f":"VLOOKUP(G2914,Referencias!$C$4:$D$21,2,FALSE())","v":"Tercera Diamante"},{"$f":"VLOOKUP(G2914,Referencias!$C$4:$E$21,3,FALSE())","v":3},"3D","Competición",{"$f":"VLOOKUP(C2914,Referencias!$B$24:$C$40,2,FALSE())","v":"M"}]
["2815140","Basabe Valor, Fco. Javier","Madrileña","C",{"$f":"VLOOKUP(G2915,Referencias!$C$4:$D$21,2,FALSE())","v":"Tercera Diamante"},{"$f":"VLOOKUP(G2915,Referencias!$C$4:$E$21,3,FALSE())","v":3},"3D","Competición",{"$f":"VLOOKUP(C2915,Referencias!$B$24:$C$40,2,FALSE())","v":"M"}]
["2815141","Sanz-Ramos Cruz, María Victoria","Madrileña","D",{"$f":"VLOOKUP(G2916,Referencias!$C$4:$D$21,2,FALSE())","v":"Tercera Diamante"},{"$f":"VLOOKUP(G2916,Referencias!$C$4:$E$21,3,FALSE())","v":3},"3D","Competición",{"$f":"VLOOKUP(C2916,Referencias!$B$24:$C$40,2,FALSE())","v":"M"}]
["2815142","Gabeiras Vazquez, Rafael","Madrileña","C",{"$f":"VLOOKUP(G2917,Referencias!$C$4:$D$21,2,FALSE())","v":"Tercera Diamante"},{"$f":"VLOOKUP(G2917,Referencias!$C$4:$E$21,3,FALSE())","v":3},"3D","Competición",{"$f":"VLOOKUP(C2917,Referencias!$B$24:$C$40,2,FALSE())","v":"M"}]
["2815143","Rovira Ruiz, Javier ","Madrileña","C",{"$f":"VLOOKUP(G2918,Referencias!$C$4:$D$21,2,FALSE())","v":"Tercera Diamante"},{"$f":"VLOOKUP(G2918,Referencias!$C$4:$E$21,3,FALSE())","v":3},"3D","Competición",{"$f":"VLOOKUP(C2918,Referencias!$B$24:$C$40,2,FALSE())","v":"M"}]
["2815144","Busto Cuervas-Mons, Carmen ","Madrileña","D",{"$f":"VLOOKUP(G2919,Referencias!$C$4:$D$21,2,FALSE())","v":"Tercera Diamante"},{"$f":"VLOOKUP(G2919,Referencias!$C$4:$E$21,3,FALSE())","v":3},"3D","Competición",{"$f":"VLOOKUP(C2919,Referencias!$B$24:$C$40,2,FALSE())","v":"M"}]
["2815145","Portes Fernández, Cynthia  ","Madrileña","D",{"$f":"VLOOKUP(G2920,Referencias!$C$4:$D$21,2,FALSE())","v":"Tercera Diamante"},{"$f":"VLOOKUP(G2920,Referencias!$C$4:$E$21,3,FALSE())","v":3},"3D","Competición",{"$f":"VLOOKUP(C2920,Referencias!$B$24:$C$40,2,FALSE())","v":"M"}]
["2815146","Laumans de Haes, Martina ","Madrileña","D",{"$f":"VLOOKUP(G2921,Referencias!$C$4:$D$21,2,FALSE())","v":"Tercera Diamante"},{"$f":"VLOOKUP(G2921,Referencias!$C$4:$E$21,3,FALSE())","v":3},"3D","Competición",{"$f":"VLOOKUP(C2921,Referencias!$B$24:$C$40,2,FALSE())","v":"M"}]
["2815147","de Zulueta Velázquez-Duro, Luz ","Madrileña","D",{"$f":"VLOOKUP(G2922,Referencias!$C$4:$D$21,2,FALSE())","v":"Tercera Corazón"},{"$f":"VLOOKUP(G2922,Referencias!$C$4:$E$21,3,FALSE())","v":3},"3C","Competición",{"$f":"VLOOKUP(C2922,Referencias!$B$24:$C$40,2,FALSE())","v":"M"}]
["2815148","Borrego Hernando, Raquel ","Madrileña","D",{"$f":"VLOOKUP(G2923,Referencias!$C$4:$D$21,2,FALSE())","v":"Tercera Diamante"},{"$f":"VLOOKUP(G2923,Referencias!$C$4:$E$21,3,FALSE())","v":3},"3D","Competición",{"$f":"VLOOKUP(C2923,Referencias!$B$24:$C$40,2,FALSE())","v":"M"}]
["2815149","Hidalgo González, María del Carmen ","Madrileña","D",{"$f":"VLOOKUP(G2924,Referencias!$C$4:$D$21,2,FALSE())","v":"Tercera Diamante"},{"$f":"VLOOKUP(G2924,Referencias!$C$4:$E$21,3,FALSE())","v":3},"3D","Competición",{"$f":"VLOOKUP(C2924,Referencias!$B$24:$C$40,2,FALSE())","v":"M"}]
["2815150","Escudero Diez, Pedro Jesús ","Madrileña","C",{"$f":"VLOOKUP(G2925,Referencias!$C$4:$D$21,2,FALSE())","v":"Tercera Diamante"},{"$f":"VLOOKUP(G2925,Referencias!$C$4:$E$21,3,FALSE())","v":3},"3D","Competición",{"$f":"VLOOKUP(C2925,Referencias!$B$24:$C$40,2,FALSE())","v":"M"}]
["2815151","Ribeiro Pidal, Soledad ","Madrileña","D",{"$f":"VLOOKUP(G2926,Referencias!$C$4:$D$21,2,FALSE())","v":"Tercera Diamante"},{"$f":"VLOOKUP(G2926,Referencias!$C$4:$E$21,3,FALSE())","v":3},"3D","Competición",{"$f":"VLOOKUP(C2926,Referencias!$B$24:$C$40,2,FALSE())","v":"M"}]
["2815152","Ybarra Coello de Portugal, Teresa ","Madrileña","D",{"$f":"VLOOKUP(G2927,Referencias!$C$4:$D$21,2,FALSE())","v":"Tercera Diamante"},{"$f":"VLOOKUP(G2927,Referencias!$C$4:$E$21,3,FALSE())","v":3},"3D","Competición",{"$f":"VLOOKUP(C2927,Referencias!$B$24:$C$40,2,FALSE())","v":"M"}]
["2815153","García-Pardo García-Lorenzana, Beatriz ","Madrileña","D",{"$f":"VLOOKUP(G2928,Referencias!$C$4:$D$21,2,FALSE())","v":"Tercera Diamante"},{"$f":"VLOOKUP(G2928,Referencias!$C$4:$E$21,3,FALSE())","v":3},"3D","Competición",{"$f":"VLOOKUP(C2928,Referencias!$B$24:$C$40,2,FALSE())","v":"M"}]
["2815154","Martín Valladolid, Inmaculada","Madrileña","D",{"$f":"VLOOKUP(G2929,Referencias!$C$4:$D$21,2,FALSE())","v":"Tercera Diamante"},{"$f":"VLOOKUP(G2929,Referencias!$C$4:$E$21,3,FALSE())","v":3},"3D","Competición",{"$f":"VLOOKUP(C2929,Referencias!$B$24:$C$40,2,FALSE())","v":"M"}]
["2815155","Martín-Moreno Sacristán, María ","Madrileña","D",{"$f":"VLOOKUP(G2930,Referencias!$C$4:$D$21,2,FALSE())","v":"Tercera Diamante"},{"$f":"VLOOKUP(G2930,Referencias!$C$4:$E$21,3,FALSE())","v":3},"3D","Competición",{"$f":"VLOOKUP(C2930,Referencias!$B$24:$C$40,2,FALSE())","v":"M"}]
["2815156","Queipo de Llano Mazzuchelli, Fátima ","Madrileña","D",{"$f":"VLOOKUP(G2931,Referencias!$C$4:$D$21,2,FALSE())","v":"Tercera Diamante"},{"$f":"VLOOKUP(G2931,Referencias!$C$4:$E$21,3,FALSE())","v":3},"3D","Junior",{"$f":"VLOOKUP(C2931,Referencias!$B$24:$C$40,2,FALSE())","v":"M"}]
["2815157","de la Lastra Romero, José Ramón","Madrileña","C",{"$f":"VLOOKUP(G2932,Referencias!$C$4:$D$21,2,FALSE())","v":"Tercera Diamante"},{"$f":"VLOOKUP(G2932,Referencias!$C$4:$E$21,3,FALSE())","v":3},"3D","Junior",{"$f":"VLOOKUP(C2932,Referencias!$B$24:$C$40,2,FALSE())","v":"M"}]
["2815158","de la Lastra Romero, Almudena ","Madrileña","D",{"$f":"VLOOKUP(G2933,Referencias!$C$4:$D$21,2,FALSE())","v":"Tercera Diamante"},{"$f":"VLOOKUP(G2933,Referencias!$C$4:$E$21,3,FALSE())","v":3},"3D","Junior",{"$f":"VLOOKUP(C2933,Referencias!$B$24:$C$40,2,FALSE())","v":"M"}]
["2815159","de la Lastra Romero, Cristina ","Madrileña","D",{"$f":"VLOOKUP(G2934,Referencias!$C$4:$D$21,2,FALSE())","v":"Tercera Diamante"},{"$f":"VLOOKUP(G2934,Referencias!$C$4:$E$21,3,FALSE())","v":3},"3D","Junior",{"$f":"VLOOKUP(C2934,Referencias!$B$24:$C$40,2,FALSE())","v":"M"}]
["2815160","Gómez Tolcheff, Iñigo ","Madrileña","C",{"$f":"VLOOKUP(G2935,Referencias!$C$4:$D$21,2,FALSE())","v":"Tercera Diamante"},{"$f":"VLOOKUP(G2935,Referencias!$C$4:$E$21,3,FALSE())","v":3},"3D","Junior",{"$f":"VLOOKUP(C2935,Referencias!$B$24:$C$40,2,FALSE())","v":"M"}]
["2815161","Gómez Tolcheff, Katia","Madrileña","D",{"$f":"VLOOKUP(G2936,Referencias!$C$4:$D$21,2,FALSE())","v":"Tercera Diamante"},{"$f":"VLOOKUP(G2936,Referencias!$C$4:$E$21,3,FALSE())","v":3},"3D","Junior",{"$f":"VLOOKUP(C2936,Referencias!$B$24:$C$40,2,FALSE())","v":"M"}]
["2815162","Gómez Tolcheff, Martín ","Madrileña","C",{"$f":"VLOOKUP(G2937,Referencias!$C$4:$D$21,2,FALSE())","v":"Tercera Diamante"},{"$f":"VLOOKUP(G2937,Referencias!$C$4:$E$21,3,FALSE())","v":3},"3D","Junior",{"$f":"VLOOKUP(C2937,Referencias!$B$24:$C$40,2,FALSE())","v":"M"}]
["2815163","Garrido Hevia, Teresa ","Madrileña","D",{"$f":"VLOOKUP(G2938,Referencias!$C$4:$D$21,2,FALSE())","v":"Tercera Diamante"},{"$f":"VLOOKUP(G2938,Referencias!$C$4:$E$21,3,FALSE())","v":3},"3D","Junior",{"$f":"VLOOKUP(C2938,Referencias!$B$24:$C$40,2,FALSE())","v":"M"}]
["2815164","Moreno Rabanal, Inés ","Madrileña","D",{"$f":"VLOOKUP(G2939,Referencias!$C$4:$D$21,2,FALSE())","v":"Tercera Diamante"},{"$f":"VLOOKUP(G2939,Referencias!$C$4:$E$21,3,FALSE())","v":3},"3D","Junior",{"$f":"VLOOKUP(C2939,Referencias!$B$24:$C$40,2,FALSE())","v":"M"}]
["2815165","Moreno Marín, Javier ","Madrileña","C",{"$f":"VLOOKUP(G2940,Referencias!$C$4:$D$21,2,FALSE())","v":"Tercera Diamante"},{"$f":"VLOOKUP(G2940,Referencias!$C$4:$E$21,3,FALSE())","v":3},"3D","Junior",{"$f":"VLOOKUP(C2940,Referencias!$B$24:$C$40,2,FALSE())","v":"M"}]
["2815166","Herrera Torquemada, María Asunción ","Madrileña","D",{"$f":"VLOOKUP(G2941,Referencias!$C$4:$D$21,2,FALSE())","v":"Tercera Diamante"},{"$f":"VLOOKUP(G2941,Referencias!$C$4:$E$21,3,FALSE())","v":3},"3D","Junior",{"$f":"VLOOKUP(C2941,Referencias!$B$24:$C$40,2,FALSE())","v":"M"}]
["2815167","de Cárcer Serrahima, Cayetana ","Madrileña","D",{"$f":"VLOOKUP(G2942,Referencias!$C$4:$D$21,2,FALSE())","v":"Tercera Diamante"},{"$f":"VLOOKUP(G2942,Referencias!$C$4:$E$21,3,FALSE())","v":3},"3D","Junior",{"$f":"VLOOKUP(C2942,Referencias!$B$24:$C$40,2,FALSE())","v":"M"}]
["2815168","Manzaneque Palau, Marta ","Madrileña","D",{"$f":"VLOOKUP(G2943,Referencias!$C$4:$D$21,2,FALSE())","v":"Tercera Diamante"},{"$f":"VLOOKUP(G2943,Referencias!$C$4:$E$21,3,FALSE())","v":3},"3D","Junior",{"$f":"VLOOKUP(C2943,Referencias!$B$24:$C$40,2,FALSE())","v":"M"}]
["2815169","Lobo Peralta, Artur ","Madrileña","C",{"$f":"VLOOKUP(G2944,Referencias!$C$4:$D$21,2,FALSE())","v":"Tercera Diamante"},{"$f":"VLOOKUP(G2944,Referencias!$C$4:$E$21,3,FALSE())","v":3},"3D","Junior",{"$f":"VLOOKUP(C2944,Referencias!$B$24:$C$40,2,FALSE())","v":"M"}]
["2815170","Rivas-Micoud Gutiérrez, Miguel ","Madrileña","C",{"$f":"VLOOKUP(G2945,Referencias!$C$4:$D$21,2,FALSE())","v":"Tercera Diamante"},{"$f":"VLOOKUP(G2945,Referencias!$C$4:$E$21,3,FALSE())","v":3},"3D","Junior",{"$f":"VLOOKUP(C2945,Referencias!$B$24:$C$40,2,FALSE())","v":"M"}]
["2815171","Maldonado Alama, Jaime ","Madrileña","C",{"$f":"VLOOKUP(G2946,Referencias!$C$4:$D$21,2,FALSE())","v":"Tercera Diamante"},{"$f":"VLOOKUP(G2946,Referencias!$C$4:$E$21,3,FALSE())","v":3},"3D","Junior",{"$f":"VLOOKUP(C2946,Referencias!$B$24:$C$40,2,FALSE())","v":"M"}]
["2815172","García Alonso-Burón, Juan ","Madrileña","C",{"$f":"VLOOKUP(G2947,Referencias!$C$4:$D$21,2,FALSE())","v":"Tercera Diamante"},{"$f":"VLOOKUP(G2947,Referencias!$C$4:$E$21,3,FALSE())","v":3},"3D","Junior",{"$f":"VLOOKUP(C2947,Referencias!$B$24:$C$40,2,FALSE())","v":"M"}]
["2815173","Rodríguez-Marín Moreira, Martina","Madrileña","D",{"$f":"VLOOKUP(G2948,Referencias!$C$4:$D$21,2,FALSE())","v":"Tercera Diamante"},{"$f":"VLOOKUP(G2948,Referencias!$C$4:$E$21,3,FALSE())","v":3},"3D","Junior",{"$f":"VLOOKUP(C2948,Referencias!$B$24:$C$40,2,FALSE())","v":"M"}]
["2815174","Santaolalla López, María Cristina ","Madrileña","D",{"$f":"VLOOKUP(G2949,Referencias!$C$4:$D$21,2,FALSE())","v":"Tercera Diamante"},{"$f":"VLOOKUP(G2949,Referencias!$C$4:$E$21,3,FALSE())","v":3},"3D","Competición",{"$f":"VLOOKUP(C2949,Referencias!$B$24:$C$40,2,FALSE())","v":"M"}]
["2815175","van Thiel Coovels, Léontine ","Madrileña","D",{"$f":"VLOOKUP(G2950,Referencias!$C$4:$D$21,2,FALSE())","v":"Tercera Diamante"},{"$f":"VLOOKUP(G2950,Referencias!$C$4:$E$21,3,FALSE())","v":3},"3D","Competición",{"$f":"VLOOKUP(C2950,Referencias!$B$24:$C$40,2,FALSE())","v":"M"}]
["2815176","Navarro López-Chicheri, Manuel ","Madrileña","C",{"$f":"VLOOKUP(G2951,Referencias!$C$4:$D$21,2,FALSE())","v":"Tercera Diamante"},{"$f":"VLOOKUP(G2951,Referencias!$C$4:$E$21,3,FALSE())","v":3},"3D","Competición",{"$f":"VLOOKUP(C2951,Referencias!$B$24:$C$40,2,FALSE())","v":"M"}]
["2815177","García Aragonés, Mª Luisa ","Madrileña","D",{"$f":"VLOOKUP(G2952,Referencias!$C$4:$D$21,2,FALSE())","v":"Tercera Diamante"},{"$f":"VLOOKUP(G2952,Referencias!$C$4:$E$21,3,FALSE())","v":3},"3D","Competición",{"$f":"VLOOKUP(C2952,Referencias!$B$24:$C$40,2,FALSE())","v":"M"}]
["2815178","Peña Bergas, Silvia ","Madrileña","D",{"$f":"VLOOKUP(G2953,Referencias!$C$4:$D$21,2,FALSE())","v":"Tercera Diamante"},{"$f":"VLOOKUP(G2953,Referencias!$C$4:$E$21,3,FALSE())","v":3},"3D","Competición",{"$f":"VLOOKUP(C2953,Referencias!$B$24:$C$40,2,FALSE())","v":"M"}]
["2815179","Sánz de León, Olga María","Madrileña","D",{"$f":"VLOOKUP(G2954,Referencias!$C$4:$D$21,2,FALSE())","v":"Tercera Diamante"},{"$f":"VLOOKUP(G2954,Referencias!$C$4:$E$21,3,FALSE())","v":3},"3D","Competición",{"$f":"VLOOKUP(C2954,Referencias!$B$24:$C$40,2,FALSE())","v":"M"}]
["2815180","Llorens Casado, Maria Luisa","Madrileña","D",{"$f":"VLOOKUP(G2955,Referencias!$C$4:$D$21,2,FALSE())","v":"Tercera Diamante"},{"$f":"VLOOKUP(G2955,Referencias!$C$4:$E$21,3,FALSE())","v":3},"3D","Competición",{"$f":"VLOOKUP(C2955,Referencias!$B$24:$C$40,2,FALSE())","v":"M"}]
["2815181","Lueches Talavera, Loreto","Madrileña","D",{"$f":"VLOOKUP(G2956,Referencias!$C$4:$D$21,2,FALSE())","v":"Tercera Diamante"},{"$f":"VLOOKUP(G2956,Referencias!$C$4:$E$21,3,FALSE())","v":3},"3D","Competición",{"$f":"VLOOKUP(C2956,Referencias!$B$24:$C$40,2,FALSE())","v":"M"}]
["2815182","Tolcheff Alvarez, Natalia","Madrileña","D",{"$f":"VLOOKUP(G2957,Referencias!$C$4:$D$21,2,FALSE())","v":"Tercera Diamante"},{"$f":"VLOOKUP(G2957,Referencias!$C$4:$E$21,3,FALSE())","v":3},"3D","Competición",{"$f":"VLOOKUP(C2957,Referencias!$B$24:$C$40,2,FALSE())","v":"M"}]
["2815183","Bullón Alemán, Mar","Madrileña","D",{"$f":"VLOOKUP(G2958,Referencias!$C$4:$D$21,2,FALSE())","v":"Tercera Diamante"},{"$f":"VLOOKUP(G2958,Referencias!$C$4:$E$21,3,FALSE())","v":3},"3D","Competición",{"$f":"VLOOKUP(C2958,Referencias!$B$24:$C$40,2,FALSE())","v":"M"}]
["2815184","Rodríguez-Arguelles Riva, Sara","Madrileña","D",{"$f":"VLOOKUP(G2959,Referencias!$C$4:$D$21,2,FALSE())","v":"Tercera Diamante"},{"$f":"VLOOKUP(G2959,Referencias!$C$4:$E$21,3,FALSE())","v":3},"3D","Competición",{"$f":"VLOOKUP(C2959,Referencias!$B$24:$C$40,2,FALSE())","v":"M"}]
["2815185","Barandica Fernández, Luis","Madrileña","C",{"$f":"VLOOKUP(G2960,Referencias!$C$4:$D$21,2,FALSE())","v":"Tercera Diamante"},{"$f":"VLOOKUP(G2960,Referencias!$C$4:$E$21,3,FALSE())","v":3},"3D","Competición",{"$f":"VLOOKUP(C2960,Referencias!$B$24:$C$40,2,FALSE())","v":"M"}]
["2815186","Sicilia de la Torre, Ana","Madrileña","D",{"$f":"VLOOKUP(G2961,Referencias!$C$4:$D$21,2,FALSE())","v":"Tercera Diamante"},{"$f":"VLOOKUP(G2961,Referencias!$C$4:$E$21,3,FALSE())","v":3},"3D","Competición",{"$f":"VLOOKUP(C2961,Referencias!$B$24:$C$40,2,FALSE())","v":"M"}]
["2815187","Martínez Fernández, Raquel","Madrileña","D",{"$f":"VLOOKUP(G2962,Referencias!$C$4:$D$21,2,FALSE())","v":"Tercera Diamante"},{"$f":"VLOOKUP(G2962,Referencias!$C$4:$E$21,3,FALSE())","v":3},"3D","Competición",{"$f":"VLOOKUP(C2962,Referencias!$B$24:$C$40,2,FALSE())","v":"M"}]
["2815188","Casanueva de la Colina, Natalia","Madrileña","D",{"$f":"VLOOKUP(G2963,Referencias!$C$4:$D$21,2,FALSE())","v":"Tercera Diamante"},{"$f":"VLOOKUP(G2963,Referencias!$C$4:$E$21,3,FALSE())","v":3},"3D","Competición",{"$f":"VLOOKUP(C2963,Referencias!$B$24:$C$40,2,FALSE())","v":"M"}]
["2815189","Peralta Lechuga, Beatriz","Madrileña","D",{"$f":"VLOOKUP(G2964,Referencias!$C$4:$D$21,2,FALSE())","v":"Tercera Diamante"},{"$f":"VLOOKUP(G2964,Referencias!$C$4:$E$21,3,FALSE())","v":3},"3D","Competición",{"$f":"VLOOKUP(C2964,Referencias!$B$24:$C$40,2,FALSE())","v":"M"}]
["2815190","Fernández López, Amelia","Madrileña","D",{"$f":"VLOOKUP(G2965,Referencias!$C$4:$D$21,2,FALSE())","v":"Tercera Diamante"},{"$f":"VLOOKUP(G2965,Referencias!$C$4:$E$21,3,FALSE())","v":3},"3D","Competición",{"$f":"VLOOKUP(C2965,Referencias!$B$24:$C$40,2,FALSE())","v":"M"}]
["2815191","Clavería González, Pilar","Madrileña","D",{"$f":"VLOOKUP(G2966,Referencias!$C$4:$D$21,2,FALSE())","v":"Tercera Diamante"},{"$f":"VLOOKUP(G2966,Referencias!$C$4:$E$21,3,FALSE())","v":3},"3D","Competición",{"$f":"VLOOKUP(C2966,Referencias!$B$24:$C$40,2,FALSE())","v":"M"}]
["2815192","Malo de Molina Martín-Montalvo, Almudena","Madrileña","D",{"$f":"VLOOKUP(G2967,Referencias!$C$4:$D$21,2,FALSE())","v":"Tercera Diamante"},{"$f":"VLOOKUP(G2967,Referencias!$C$4:$E$21,3,FALSE())","v":3},"3D","Competición",{"$f":"VLOOKUP(C2967,Referencias!$B$24:$C$40,2,FALSE())","v":"M"}]
["2815193","Chaves Guerrero, Martha Cecilia","Madrileña","D",{"$f":"VLOOKUP(G2968,Referencias!$C$4:$D$21,2,FALSE())","v":"Tercera Diamante"},{"$f":"VLOOKUP(G2968,Referencias!$C$4:$E$21,3,FALSE())","v":3},"3D","Competición",{"$f":"VLOOKUP(C2968,Referencias!$B$24:$C$40,2,FALSE())","v":"M"}]
["2815194","Herrería de la Lastra, Leticia","Madrileña","D",{"$f":"VLOOKUP(G2969,Referencias!$C$4:$D$21,2,FALSE())","v":"Tercera Diamante"},{"$f":"VLOOKUP(G2969,Referencias!$C$4:$E$21,3,FALSE())","v":3},"3D","Competición",{"$f":"VLOOKUP(C2969,Referencias!$B$24:$C$40,2,FALSE())","v":"M"}]
["2815195","Conejero Martínez, Ana","Madrileña","D",{"$f":"VLOOKUP(G2970,Referencias!$C$4:$D$21,2,FALSE())","v":"Tercera Diamante"},{"$f":"VLOOKUP(G2970,Referencias!$C$4:$E$21,3,FALSE())","v":3},"3D","Competición",{"$f":"VLOOKUP(C2970,Referencias!$B$24:$C$40,2,FALSE())","v":"M"}]
["2815196","Hall, Mark","Madrileña","D",{"$f":"VLOOKUP(G2971,Referencias!$C$4:$D$21,2,FALSE())","v":"Tercera Diamante"},{"$f":"VLOOKUP(G2971,Referencias!$C$4:$E$21,3,FALSE())","v":3},"3D","Competición",{"$f":"VLOOKUP(C2971,Referencias!$B$24:$C$40,2,FALSE())","v":"M"}]
["2815197","Gálvez del Hierro, Ignacio","Madrileña","C",{"$f":"VLOOKUP(G2972,Referencias!$C$4:$D$21,2,FALSE())","v":"Tercera Diamante"},{"$f":"VLOOKUP(G2972,Referencias!$C$4:$E$21,3,FALSE())","v":3},"3D","Competición",{"$f":"VLOOKUP(C2972,Referencias!$B$24:$C$40,2,FALSE())","v":"M"}]
["2815198","Santos Alonso, Roberto","Madrileña","C",{"$f":"VLOOKUP(G2973,Referencias!$C$4:$D$21,2,FALSE())","v":"Tercera Diamante"},{"$f":"VLOOKUP(G2973,Referencias!$C$4:$E$21,3,FALSE())","v":3},"3D","Competición",{"$f":"VLOOKUP(C2973,Referencias!$B$24:$C$40,2,FALSE())","v":"M"}]
["2815199","García Alonso-Burón, Fernando","Madrileña","C",{"$f":"VLOOKUP(G2974,Referencias!$C$4:$D$21,2,FALSE())","v":"Tercera Diamante"},{"$f":"VLOOKUP(G2974,Referencias!$C$4:$E$21,3,FALSE())","v":3},"3D","Junior",{"$f":"VLOOKUP(C2974,Referencias!$B$24:$C$40,2,FALSE())","v":"M"}]
["2815200","Gómez Tolcheff, Luis","Madrileña","C",{"$f":"VLOOKUP(G2975,Referencias!$C$4:$D$21,2,FALSE())","v":"Tercera Diamante"},{"$f":"VLOOKUP(G2975,Referencias!$C$4:$E$21,3,FALSE())","v":3},"3D","Junior",{"$f":"VLOOKUP(C2975,Referencias!$B$24:$C$40,2,FALSE())","v":"M"}]
["2815201","Milano Hernández, Nicole Alexandra","Madrileña","C",{"$f":"VLOOKUP(G2976,Referencias!$C$4:$D$21,2,FALSE())","v":"Tercera Diamante"},{"$f":"VLOOKUP(G2976,Referencias!$C$4:$E$21,3,FALSE())","v":3},"3D","Junior",{"$f":"VLOOKUP(C2976,Referencias!$B$24:$C$40,2,FALSE())","v":"M"}]
["2815202","del Rio Merino, Isabel","Madrileña","D",{"$f":"VLOOKUP(G2977,Referencias!$C$4:$D$21,2,FALSE())","v":"Tercera Diamante"},{"$f":"VLOOKUP(G2977,Referencias!$C$4:$E$21,3,FALSE())","v":3},"3D","Competición",{"$f":"VLOOKUP(C2977,Referencias!$B$24:$C$40,2,FALSE())","v":"M"}]
["2815203","Izquierdo Barthelemy, Sara","Madrileña","D",{"$f":"VLOOKUP(G2978,Referencias!$C$4:$D$21,2,FALSE())","v":"Tercera Diamante"},{"$f":"VLOOKUP(G2978,Referencias!$C$4:$E$21,3,FALSE())","v":3},"3D","Competición",{"$f":"VLOOKUP(C2978,Referencias!$B$24:$C$40,2,FALSE())","v":"M"}]
["2815204","Martín García, María","Madrileña","D",{"$f":"VLOOKUP(G2979,Referencias!$C$4:$D$21,2,FALSE())","v":"Tercera Diamante"},{"$f":"VLOOKUP(G2979,Referencias!$C$4:$E$21,3,FALSE())","v":3},"3D","Competición",{"$f":"VLOOKUP(C2979,Referencias!$B$24:$C$40,2,FALSE())","v":"M"}]
["2815205","de Regnauld Bellescize, Stanislas","Madrileña","D",{"$f":"VLOOKUP(G2980,Referencias!$C$4:$D$21,2,FALSE())","v":"Tercera Diamante"},{"$f":"VLOOKUP(G2980,Referencias!$C$4:$E$21,3,FALSE())","v":3},"3D","Competición",{"$f":"VLOOKUP(C2980,Referencias!$B$24:$C$40,2,FALSE())","v":"M"}]
["2815206","Labayen López, Carmen","Madrileña","D",{"$f":"VLOOKUP(G2981,Referencias!$C$4:$D$21,2,FALSE())","v":"Tercera Diamante"},{"$f":"VLOOKUP(G2981,Referencias!$C$4:$E$21,3,FALSE())","v":3},"3D","Competición",{"$f":"VLOOKUP(C2981,Referencias!$B$24:$C$40,2,FALSE())","v":"M"}]
["2815207","Mora Navarro, Noelia","Madrileña","D",{"$f":"VLOOKUP(G2982,Referencias!$C$4:$D$21,2,FALSE())","v":"Tercera Diamante"},{"$f":"VLOOKUP(G2982,Referencias!$C$4:$E$21,3,FALSE())","v":3},"3D","Competición",{"$f":"VLOOKUP(C2982,Referencias!$B$24:$C$40,2,FALSE())","v":"M"}]
["2815208","Hernanz García-Cuenca, Esther","Madrileña","D",{"$f":"VLOOKUP(G2983,Referencias!$C$4:$D$21,2,FALSE())","v":"Tercera Diamante"},{"$f":"VLOOKUP(G2983,Referencias!$C$4:$E$21,3,FALSE())","v":3},"3D","Competición",{"$f":"VLOOKUP(C2983,Referencias!$B$24:$C$40,2,FALSE())","v":"M"}]
["2815209","Rodríguez González de Canales, Almudena","Madrileña","D",{"$f":"VLOOKUP(G2984,Referencias!$C$4:$D$21,2,FALSE())","v":"Tercera Diamante"},{"$f":"VLOOKUP(G2984,Referencias!$C$4:$E$21,3,FALSE())","v":3},"3D","Competición",{"$f":"VLOOKUP(C2984,Referencias!$B$24:$C$40,2,FALSE())","v":"M"}]
["2815210","Pacheco García-Germán, Emma","Madrileña","D",{"$f":"VLOOKUP(G2985,Referencias!$C$4:$D$21,2,FALSE())","v":"Tercera Diamante"},{"$f":"VLOOKUP(G2985,Referencias!$C$4:$E$21,3,FALSE())","v":3},"3D","Competición",{"$f":"VLOOKUP(C2985,Referencias!$B$24:$C$40,2,FALSE())","v":"M"}]
["2815211","Torres de Castro Pardo de Andrade, Beatriz","Madrileña","D",{"$f":"VLOOKUP(G2986,Referencias!$C$4:$D$21,2,FALSE())","v":"Tercera Diamante"},{"$f":"VLOOKUP(G2986,Referencias!$C$4:$E$21,3,FALSE())","v":3},"3D","Competición",{"$f":"VLOOKUP(C2986,Referencias!$B$24:$C$40,2,FALSE())","v":"M"}]
["2815212","González Prieto, Isabel","Madrileña","D",{"$f":"VLOOKUP(G2987,Referencias!$C$4:$D$21,2,FALSE())","v":"Tercera Diamante"},{"$f":"VLOOKUP(G2987,Referencias!$C$4:$E$21,3,FALSE())","v":3},"3D","Competición",{"$f":"VLOOKUP(C2987,Referencias!$B$24:$C$40,2,FALSE())","v":"M"}]
["2815213","González Prieto, Camino","Madrileña","D",{"$f":"VLOOKUP(G2988,Referencias!$C$4:$D$21,2,FALSE())","v":"Tercera Diamante"},{"$f":"VLOOKUP(G2988,Referencias!$C$4:$E$21,3,FALSE())","v":3},"3D","Competición",{"$f":"VLOOKUP(C2988,Referencias!$B$24:$C$40,2,FALSE())","v":"M"}]
["2815214","García González-Valerio, Conchita","Madrileña","D",{"$f":"VLOOKUP(G2989,Referencias!$C$4:$D$21,2,FALSE())","v":"Tercera Diamante"},{"$f":"VLOOKUP(G2989,Referencias!$C$4:$E$21,3,FALSE())","v":3},"3D","Competición",{"$f":"VLOOKUP(C2989,Referencias!$B$24:$C$40,2,FALSE())","v":"M"}]
["2815215","Nieto Guillermo, María Angeles","Madrileña","D",{"$f":"VLOOKUP(G2990,Referencias!$C$4:$D$21,2,FALSE())","v":"Tercera Diamante"},{"$f":"VLOOKUP(G2990,Referencias!$C$4:$E$21,3,FALSE())","v":3},"3D","Competición",{"$f":"VLOOKUP(C2990,Referencias!$B$24:$C$40,2,FALSE())","v":"M"}]
["2815216","Caja Santiago, Rosa Inmaculada","Madrileña","D",{"$f":"VLOOKUP(G2991,Referencias!$C$4:$D$21,2,FALSE())","v":"Tercera Diamante"},{"$f":"VLOOKUP(G2991,Referencias!$C$4:$E$21,3,FALSE())","v":3},"3D","Competición",{"$f":"VLOOKUP(C2991,Referencias!$B$24:$C$40,2,FALSE())","v":"M"}]
["2815217","Villas Torrubia, Victor Manuel","Madrileña","C",{"$f":"VLOOKUP(G2992,Referencias!$C$4:$D$21,2,FALSE())","v":"Tercera Diamante"},{"$f":"VLOOKUP(G2992,Referencias!$C$4:$E$21,3,FALSE())","v":3},"3D","Competición",{"$f":"VLOOKUP(C2992,Referencias!$B$24:$C$40,2,FALSE())","v":"M"}]
["2815218","Carazo Fornieles, María del Mar","Madrileña","D",{"$f":"VLOOKUP(G2993,Referencias!$C$4:$D$21,2,FALSE())","v":"Tercera Diamante"},{"$f":"VLOOKUP(G2993,Referencias!$C$4:$E$21,3,FALSE())","v":3},"3D","Competición",{"$f":"VLOOKUP(C2993,Referencias!$B$24:$C$40,2,FALSE())","v":"M"}]
["2815219","Sánchez de la Rosa Fernández, Gemma","Madrileña","D",{"$f":"VLOOKUP(G2994,Referencias!$C$4:$D$21,2,FALSE())","v":"Tercera Diamante"},{"$f":"VLOOKUP(G2994,Referencias!$C$4:$E$21,3,FALSE())","v":3},"3D","Competición",{"$f":"VLOOKUP(C2994,Referencias!$B$24:$C$40,2,FALSE())","v":"M"}]
["2815220","García Rodríguez, Marta","Madrileña","D",{"$f":"VLOOKUP(G2995,Referencias!$C$4:$D$21,2,FALSE())","v":"Tercera Diamante"},{"$f":"VLOOKUP(G2995,Referencias!$C$4:$E$21,3,FALSE())","v":3},"3D","Competición",{"$f":"VLOOKUP(C2995,Referencias!$B$24:$C$40,2,FALSE())","v":"M"}]
["2815221","Porras Blanco, Fco. Javier","Madrileña","C",{"$f":"VLOOKUP(G2996,Referencias!$C$4:$D$21,2,FALSE())","v":"Tercera Diamante"},{"$f":"VLOOKUP(G2996,Referencias!$C$4:$E$21,3,FALSE())","v":3},"3D","Competición",{"$f":"VLOOKUP(C2996,Referencias!$B$24:$C$40,2,FALSE())","v":"M"}]
["2815222","Pujadas Descartín, Ana","Madrileña","D",{"$f":"VLOOKUP(G2997,Referencias!$C$4:$D$21,2,FALSE())","v":"Tercera Diamante"},{"$f":"VLOOKUP(G2997,Referencias!$C$4:$E$21,3,FALSE())","v":3},"3D","Competición",{"$f":"VLOOKUP(C2997,Referencias!$B$24:$C$40,2,FALSE())","v":"M"}]
["2815223","Andreo Gabán, Mayte","Madrileña","D",{"$f":"VLOOKUP(G2998,Referencias!$C$4:$D$21,2,FALSE())","v":"Tercera Diamante"},{"$f":"VLOOKUP(G2998,Referencias!$C$4:$E$21,3,FALSE())","v":3},"3D","Competición",{"$f":"VLOOKUP(C2998,Referencias!$B$24:$C$40,2,FALSE())","v":"M"}]
["2815224","Fernández Villena, Lucia","Madrileña","D",{"$f":"VLOOKUP(G2999,Referencias!$C$4:$D$21,2,FALSE())","v":"Tercera Diamante"},{"$f":"VLOOKUP(G2999,Referencias!$C$4:$E$21,3,FALSE())","v":3},"3D","Competición",{"$f":"VLOOKUP(C2999,Referencias!$B$24:$C$40,2,FALSE())","v":"M"}]
["2815225","Muñoz Lázaro, Felix","Madrileña","C",{"$f":"VLOOKUP(G3000,Referencias!$C$4:$D$21,2,FALSE())","v":"Tercera Diamante"},{"$f":"VLOOKUP(G3000,Referencias!$C$4:$E$21,3,FALSE())","v":3},"3D","Competición",{"$f":"VLOOKUP(C3000,Referencias!$B$24:$C$40,2,FALSE())","v":"M"}]
["2815226","del Olmo López, María","Madrileña","D",{"$f":"VLOOKUP(G3001,Referencias!$C$4:$D$21,2,FALSE())","v":"Tercera Diamante"},{"$f":"VLOOKUP(G3001,Referencias!$C$4:$E$21,3,FALSE())","v":3},"3D","Competición",{"$f":"VLOOKUP(C3001,Referencias!$B$24:$C$40,2,FALSE())","v":"M"}]
["2815227","Losada Gómez, Aurora","Madrileña","D",{"$f":"VLOOKUP(G3002,Referencias!$C$4:$D$21,2,FALSE())","v":"Tercera Diamante"},{"$f":"VLOOKUP(G3002,Referencias!$C$4:$E$21,3,FALSE())","v":3},"3D","Competición",{"$f":"VLOOKUP(C3002,Referencias!$B$24:$C$40,2,FALSE())","v":"M"}]
["2815228","Galvache Gómez, José","Madrileña","C",{"$f":"VLOOKUP(G3003,Referencias!$C$4:$D$21,2,FALSE())","v":"Tercera Diamante"},{"$f":"VLOOKUP(G3003,Referencias!$C$4:$E$21,3,FALSE())","v":3},"3D","Competición",{"$f":"VLOOKUP(C3003,Referencias!$B$24:$C$40,2,FALSE())","v":"M"}]
["2815229","Torroja Gascón, Carlos","Madrileña","C",{"$f":"VLOOKUP(G3004,Referencias!$C$4:$D$21,2,FALSE())","v":"Tercera Diamante"},{"$f":"VLOOKUP(G3004,Referencias!$C$4:$E$21,3,FALSE())","v":3},"3D","Competición",{"$f":"VLOOKUP(C3004,Referencias!$B$24:$C$40,2,FALSE())","v":"M"}]
["2815230","Sorela Pouget, Solange","Madrileña","D",{"$f":"VLOOKUP(G3005,Referencias!$C$4:$D$21,2,FALSE())","v":"Tercera Diamante"},{"$f":"VLOOKUP(G3005,Referencias!$C$4:$E$21,3,FALSE())","v":3},"3D","Competición",{"$f":"VLOOKUP(C3005,Referencias!$B$24:$C$40,2,FALSE())","v":"M"}]
["2815231","de Pablo de Andrés, María","Madrileña","D",{"$f":"VLOOKUP(G3006,Referencias!$C$4:$D$21,2,FALSE())","v":"Tercera Diamante"},{"$f":"VLOOKUP(G3006,Referencias!$C$4:$E$21,3,FALSE())","v":3},"3D","Competición",{"$f":"VLOOKUP(C3006,Referencias!$B$24:$C$40,2,FALSE())","v":"M"}]
["2815232","Malison, Marina","Madrileña","D",{"$f":"VLOOKUP(G3007,Referencias!$C$4:$D$21,2,FALSE())","v":"Tercera Diamante"},{"$f":"VLOOKUP(G3007,Referencias!$C$4:$E$21,3,FALSE())","v":3},"3D","Competición",{"$f":"VLOOKUP(C3007,Referencias!$B$24:$C$40,2,FALSE())","v":"M"}]
["2815233","Gómez Sánchez, Elena Beatriz","Madrileña","D",{"$f":"VLOOKUP(G3008,Referencias!$C$4:$D$21,2,FALSE())","v":"Tercera Diamante"},{"$f":"VLOOKUP(G3008,Referencias!$C$4:$E$21,3,FALSE())","v":3},"3D","Competición",{"$f":"VLOOKUP(C3008,Referencias!$B$24:$C$40,2,FALSE())","v":"M"}]
["2815234","de la Torre Zorrilla , Lucia","Madrileña","D",{"$f":"VLOOKUP(G3009,Referencias!$C$4:$D$21,2,FALSE())","v":"Tercera Diamante"},{"$f":"VLOOKUP(G3009,Referencias!$C$4:$E$21,3,FALSE())","v":3},"3D","Competición",{"$f":"VLOOKUP(C3009,Referencias!$B$24:$C$40,2,FALSE())","v":"M"}]
["2815235","Canovas del Castillo Pascual, Beatriz","Madrileña","D",{"$f":"VLOOKUP(G3010,Referencias!$C$4:$D$21,2,FALSE())","v":"Tercera Diamante"},{"$f":"VLOOKUP(G3010,Referencias!$C$4:$E$21,3,FALSE())","v":3},"3D","Competición",{"$f":"VLOOKUP(C3010,Referencias!$B$24:$C$40,2,FALSE())","v":"M"}]
["2815236","Soriano Trujillo, Flor","Madrileña","D",{"$f":"VLOOKUP(G3011,Referencias!$C$4:$D$21,2,FALSE())","v":"Tercera Diamante"},{"$f":"VLOOKUP(G3011,Referencias!$C$4:$E$21,3,FALSE())","v":3},"3D","Competición",{"$f":"VLOOKUP(C3011,Referencias!$B$24:$C$40,2,FALSE())","v":"M"}]
["2815237","Cabredo Anta, Paloma","Madrileña","D",{"$f":"VLOOKUP(G3012,Referencias!$C$4:$D$21,2,FALSE())","v":"Tercera Diamante"},{"$f":"VLOOKUP(G3012,Referencias!$C$4:$E$21,3,FALSE())","v":3},"3D","Competición",{"$f":"VLOOKUP(C3012,Referencias!$B$24:$C$40,2,FALSE())","v":"M"}]
["2815238","Orejas Rodríguez, Julia Beatriz","Madrileña","D",{"$f":"VLOOKUP(G3013,Referencias!$C$4:$D$21,2,FALSE())","v":"Tercera Diamante"},{"$f":"VLOOKUP(G3013,Referencias!$C$4:$E$21,3,FALSE())","v":3},"3D","Competición",{"$f":"VLOOKUP(C3013,Referencias!$B$24:$C$40,2,FALSE())","v":"M"}]
["2815239","Jardón Beamonte, Andrés ","Madrileña","C",{"$f":"VLOOKUP(G3014,Referencias!$C$4:$D$21,2,FALSE())","v":"Tercera Diamante"},{"$f":"VLOOKUP(G3014,Referencias!$C$4:$E$21,3,FALSE())","v":3},"3D","Competición",{"$f":"VLOOKUP(C3014,Referencias!$B$24:$C$40,2,FALSE())","v":"M"}]
["2815240","Martín Hernández, Maria del Carmen ","Madrileña","D",{"$f":"VLOOKUP(G3015,Referencias!$C$4:$D$21,2,FALSE())","v":"Tercera Diamante"},{"$f":"VLOOKUP(G3015,Referencias!$C$4:$E$21,3,FALSE())","v":3},"3D","Competición",{"$f":"VLOOKUP(C3015,Referencias!$B$24:$C$40,2,FALSE())","v":"M"}]
["2815241","Ferreiro Carrobles, Ana","Madrileña","D",{"$f":"VLOOKUP(G3016,Referencias!$C$4:$D$21,2,FALSE())","v":"Tercera Diamante"},{"$f":"VLOOKUP(G3016,Referencias!$C$4:$E$21,3,FALSE())","v":3},"3D","Competición",{"$f":"VLOOKUP(C3016,Referencias!$B$24:$C$40,2,FALSE())","v":"M"}]
["2815242","Molina González, Pilar","Madrileña","D",{"$f":"VLOOKUP(G3017,Referencias!$C$4:$D$21,2,FALSE())","v":"Tercera Diamante"},{"$f":"VLOOKUP(G3017,Referencias!$C$4:$E$21,3,FALSE())","v":3},"3D","Competición",{"$f":"VLOOKUP(C3017,Referencias!$B$24:$C$40,2,FALSE())","v":"M"}]
["2815243","Mesa Muñoz-Cobo, Rosa María","Madrileña","D",{"$f":"VLOOKUP(G3018,Referencias!$C$4:$D$21,2,FALSE())","v":"Tercera Diamante"},{"$f":"VLOOKUP(G3018,Referencias!$C$4:$E$21,3,FALSE())","v":3},"3D","Competición",{"$f":"VLOOKUP(C3018,Referencias!$B$24:$C$40,2,FALSE())","v":"M"}]
["2815244","Vargas Vignoli, Alejandro ","Madrileña","C",{"$f":"VLOOKUP(G3019,Referencias!$C$4:$D$21,2,FALSE())","v":"Segunda Picas"},{"$f":"VLOOKUP(G3019,Referencias!$C$4:$E$21,3,FALSE())","v":2},"2P","Competición",{"$f":"VLOOKUP(C3019,Referencias!$B$24:$C$40,2,FALSE())","v":"M"}]
["2815245","Rueda García, Eva María","Madrileña","D",{"$f":"VLOOKUP(G3020,Referencias!$C$4:$D$21,2,FALSE())","v":"Tercera Diamante"},{"$f":"VLOOKUP(G3020,Referencias!$C$4:$E$21,3,FALSE())","v":3},"3D","Competición",{"$f":"VLOOKUP(C3020,Referencias!$B$24:$C$40,2,FALSE())","v":"M"}]
["2815246","Rodríguez-Arias Delgado, Dolores","Madrileña","D",{"$f":"VLOOKUP(G3021,Referencias!$C$4:$D$21,2,FALSE())","v":"Tercera Diamante"},{"$f":"VLOOKUP(G3021,Referencias!$C$4:$E$21,3,FALSE())","v":3},"3D","Competición",{"$f":"VLOOKUP(C3021,Referencias!$B$24:$C$40,2,FALSE())","v":"M"}]
["2815247","Pérez-Jaraiz Masa, María del Mar","Madrileña","D",{"$f":"VLOOKUP(G3022,Referencias!$C$4:$D$21,2,FALSE())","v":"Tercera Diamante"},{"$f":"VLOOKUP(G3022,Referencias!$C$4:$E$21,3,FALSE())","v":3},"3D","Competición",{"$f":"VLOOKUP(C3022,Referencias!$B$24:$C$40,2,FALSE())","v":"M"}]
["2815248","Vilas Gómez, Ángeles ","Madrileña","D",{"$f":"VLOOKUP(G3023,Referencias!$C$4:$D$21,2,FALSE())","v":"Tercera Diamante"},{"$f":"VLOOKUP(G3023,Referencias!$C$4:$E$21,3,FALSE())","v":3},"3D","Competición",{"$f":"VLOOKUP(C3023,Referencias!$B$24:$C$40,2,FALSE())","v":"M"}]
["2815249","Sandoval, Enrique ","Madrileña","D",{"$f":"VLOOKUP(G3024,Referencias!$C$4:$D$21,2,FALSE())","v":"Tercera Diamante"},{"$f":"VLOOKUP(G3024,Referencias!$C$4:$E$21,3,FALSE())","v":3},"3D","Competición",{"$f":"VLOOKUP(C3024,Referencias!$B$24:$C$40,2,FALSE())","v":"M"}]
["2815250","Pérez Millán, Gloria","Madrileña","D",{"$f":"VLOOKUP(G3025,Referencias!$C$4:$D$21,2,FALSE())","v":"Tercera Diamante"},{"$f":"VLOOKUP(G3025,Referencias!$C$4:$E$21,3,FALSE())","v":3},"3D","Competición",{"$f":"VLOOKUP(C3025,Referencias!$B$24:$C$40,2,FALSE())","v":"M"}]
["2815251","Bachmeier Winter, Virginia","Madrileña","D",{"$f":"VLOOKUP(G3026,Referencias!$C$4:$D$21,2,FALSE())","v":"Tercera Diamante"},{"$f":"VLOOKUP(G3026,Referencias!$C$4:$E$21,3,FALSE())","v":3},"3D","Competición",{"$f":"VLOOKUP(C3026,Referencias!$B$24:$C$40,2,FALSE())","v":"M"}]
["2815252","de Oteyza Slull, Silvia","Madrileña","D",{"$f":"VLOOKUP(G3027,Referencias!$C$4:$D$21,2,FALSE())","v":"Tercera Diamante"},{"$f":"VLOOKUP(G3027,Referencias!$C$4:$E$21,3,FALSE())","v":3},"3D","Competición",{"$f":"VLOOKUP(C3027,Referencias!$B$24:$C$40,2,FALSE())","v":"M"}]
["2815253","Iglesias Gil de Bernabé , María Luisa","Madrileña","D",{"$f":"VLOOKUP(G3028,Referencias!$C$4:$D$21,2,FALSE())","v":"Tercera Diamante"},{"$f":"VLOOKUP(G3028,Referencias!$C$4:$E$21,3,FALSE())","v":3},"3D","Competición",{"$f":"VLOOKUP(C3028,Referencias!$B$24:$C$40,2,FALSE())","v":"M"}]
["2815254","Rodriguez Añino, Rafael","Madrileña","C",{"$f":"VLOOKUP(G3029,Referencias!$C$4:$D$21,2,FALSE())","v":"Tercera Diamante"},{"$f":"VLOOKUP(G3029,Referencias!$C$4:$E$21,3,FALSE())","v":3},"3D","Competición",{"$f":"VLOOKUP(C3029,Referencias!$B$24:$C$40,2,FALSE())","v":"M"}]
["2815255","Aguado Álvarez, Adela ","Madrileña","D",{"$f":"VLOOKUP(G3030,Referencias!$C$4:$D$21,2,FALSE())","v":"Tercera Diamante"},{"$f":"VLOOKUP(G3030,Referencias!$C$4:$E$21,3,FALSE())","v":3},"3D","Competición",{"$f":"VLOOKUP(C3030,Referencias!$B$24:$C$40,2,FALSE())","v":"M"}]
["2815256","Rodríguez-Arias Olleros, María ","Madrileña","D",{"$f":"VLOOKUP(G3031,Referencias!$C$4:$D$21,2,FALSE())","v":"Tercera Diamante"},{"$f":"VLOOKUP(G3031,Referencias!$C$4:$E$21,3,FALSE())","v":3},"3D","Competición",{"$f":"VLOOKUP(C3031,Referencias!$B$24:$C$40,2,FALSE())","v":"M"}]
["2815257","Puig García de la Vega, Clara","Madrileña","D",{"$f":"VLOOKUP(G3032,Referencias!$C$4:$D$21,2,FALSE())","v":"Tercera Diamante"},{"$f":"VLOOKUP(G3032,Referencias!$C$4:$E$21,3,FALSE())","v":3},"3D","Junior",{"$f":"VLOOKUP(C3032,Referencias!$B$24:$C$40,2,FALSE())","v":"M"}]
["2815258","Casado González, Pilar","Madrileña","D",{"$f":"VLOOKUP(G3033,Referencias!$C$4:$D$21,2,FALSE())","v":"Tercera Diamante"},{"$f":"VLOOKUP(G3033,Referencias!$C$4:$E$21,3,FALSE())","v":3},"3D","Competición",{"$f":"VLOOKUP(C3033,Referencias!$B$24:$C$40,2,FALSE())","v":"M"}]
["2815259","Barneto Hernández, Gala Teresa ","Madrileña","D",{"$f":"VLOOKUP(G3034,Referencias!$C$4:$D$21,2,FALSE())","v":"Tercera Diamante"},{"$f":"VLOOKUP(G3034,Referencias!$C$4:$E$21,3,FALSE())","v":3},"3D","Competición",{"$f":"VLOOKUP(C3034,Referencias!$B$24:$C$40,2,FALSE())","v":"M"}]
["2815260","Arjona Castro, María Auxiliadora ","Madrileña","D",{"$f":"VLOOKUP(G3035,Referencias!$C$4:$D$21,2,FALSE())","v":"Tercera Diamante"},{"$f":"VLOOKUP(G3035,Referencias!$C$4:$E$21,3,FALSE())","v":3},"3D","Competición",{"$f":"VLOOKUP(C3035,Referencias!$B$24:$C$40,2,FALSE())","v":"M"}]
["2815261","Sánchez-Cortés Ramírez, Belén","Madrileña","D",{"$f":"VLOOKUP(G3036,Referencias!$C$4:$D$21,2,FALSE())","v":"Tercera Diamante"},{"$f":"VLOOKUP(G3036,Referencias!$C$4:$E$21,3,FALSE())","v":3},"3D","Competición",{"$f":"VLOOKUP(C3036,Referencias!$B$24:$C$40,2,FALSE())","v":"M"}]
["2815262","Lewis, Anna","Madrileña","D",{"$f":"VLOOKUP(G3037,Referencias!$C$4:$D$21,2,FALSE())","v":"Sin Categoría"},{"$f":"VLOOKUP(G3037,Referencias!$C$4:$E$21,3,FALSE())","v":4},"SC","Competición",{"$f":"VLOOKUP(C3037,Referencias!$B$24:$C$40,2,FALSE())","v":"M"}]
["2815263","Lewis, Graeme","Madrileña","C",{"$f":"VLOOKUP(G3038,Referencias!$C$4:$D$21,2,FALSE())","v":"Sin Categoría"},{"$f":"VLOOKUP(G3038,Referencias!$C$4:$E$21,3,FALSE())","v":4},"SC","Competición",{"$f":"VLOOKUP(C3038,Referencias!$B$24:$C$40,2,FALSE())","v":"M"}]
["2815264","Elizari Garayoa, María Soledad ","Madrileña","D",{"$f":"VLOOKUP(G3039,Referencias!$C$4:$D$21,2,FALSE())","v":"Tercera Diamante"},{"$f":"VLOOKUP(G3039,Referencias!$C$4:$E$21,3,FALSE())","v":3},"3D","Competición",{"$f":"VLOOKUP(C3039,Referencias!$B$24:$C$40,2,FALSE())","v":"M"}]
["2815265","Machin Calle, Jesús ","Madrileña","C",{"$f":"VLOOKUP(G3040,Referencias!$C$4:$D$21,2,FALSE())","v":"Tercera Diamante"},{"$f":"VLOOKUP(G3040,Referencias!$C$4:$E$21,3,FALSE())","v":3},"3D","Competición",{"$f":"VLOOKUP(C3040,Referencias!$B$24:$C$40,2,FALSE())","v":"M"}]
["2815266","Aguado Martínez, Ramón ","Madrileña","C",{"$f":"VLOOKUP(G3041,Referencias!$C$4:$D$21,2,FALSE())","v":"Tercera Diamante"},{"$f":"VLOOKUP(G3041,Referencias!$C$4:$E$21,3,FALSE())","v":3},"3D","Competición",{"$f":"VLOOKUP(C3041,Referencias!$B$24:$C$40,2,FALSE())","v":"M"}]
["2815267","Cristobal López, Asunción ","Madrileña","D",{"$f":"VLOOKUP(G3042,Referencias!$C$4:$D$21,2,FALSE())","v":"Tercera Diamante"},{"$f":"VLOOKUP(G3042,Referencias!$C$4:$E$21,3,FALSE())","v":3},"3D","Competición",{"$f":"VLOOKUP(C3042,Referencias!$B$24:$C$40,2,FALSE())","v":"M"}]
["2815268","Reinoso Martín, Abelardo ","Madrileña","C",{"$f":"VLOOKUP(G3043,Referencias!$C$4:$D$21,2,FALSE())","v":"Tercera Diamante"},{"$f":"VLOOKUP(G3043,Referencias!$C$4:$E$21,3,FALSE())","v":3},"3D","Competición",{"$f":"VLOOKUP(C3043,Referencias!$B$24:$C$40,2,FALSE())","v":"M"}]
["2815269","Nuñez-Lagos Bau, Belén ","Madrileña","C",{"$f":"VLOOKUP(G3044,Referencias!$C$4:$D$21,2,FALSE())","v":"Tercera Diamante"},{"$f":"VLOOKUP(G3044,Referencias!$C$4:$E$21,3,FALSE())","v":3},"3D","Competición",{"$f":"VLOOKUP(C3044,Referencias!$B$24:$C$40,2,FALSE())","v":"M"}]
["2815270","Molina Granado, Nuria","Madrileña","D",{"$f":"VLOOKUP(G3045,Referencias!$C$4:$D$21,2,FALSE())","v":"Tercera Diamante"},{"$f":"VLOOKUP(G3045,Referencias!$C$4:$E$21,3,FALSE())","v":3},"3D","Competición",{"$f":"VLOOKUP(C3045,Referencias!$B$24:$C$40,2,FALSE())","v":"M"}]
["2815271","Sánchez Lizarralde, Aranzazu","Madrileña","D",{"$f":"VLOOKUP(G3046,Referencias!$C$4:$D$21,2,FALSE())","v":"Tercera Diamante"},{"$f":"VLOOKUP(G3046,Referencias!$C$4:$E$21,3,FALSE())","v":3},"3D","Competición",{"$f":"VLOOKUP(C3046,Referencias!$B$24:$C$40,2,FALSE())","v":"M"}]
["2815272","Sánchez Lizarralde, Carmen","Madrileña","D",{"$f":"VLOOKUP(G3047,Referencias!$C$4:$D$21,2,FALSE())","v":"Tercera Diamante"},{"$f":"VLOOKUP(G3047,Referencias!$C$4:$E$21,3,FALSE())","v":3},"3D","Competición",{"$f":"VLOOKUP(C3047,Referencias!$B$24:$C$40,2,FALSE())","v":"M"}]
["2815273","Rengifo Abbad, Alvaro","Madrileña","C",{"$f":"VLOOKUP(G3048,Referencias!$C$4:$D$21,2,FALSE())","v":"Tercera Diamante"},{"$f":"VLOOKUP(G3048,Referencias!$C$4:$E$21,3,FALSE())","v":3},"3D","Competición",{"$f":"VLOOKUP(C3048,Referencias!$B$24:$C$40,2,FALSE())","v":"M"}]
["2815274","Merry del Val Roca de Togores, María","Madrileña","D",{"$f":"VLOOKUP(G3049,Referencias!$C$4:$D$21,2,FALSE())","v":"Tercera Diamante"},{"$f":"VLOOKUP(G3049,Referencias!$C$4:$E$21,3,FALSE())","v":3},"3D","Competición",{"$f":"VLOOKUP(C3049,Referencias!$B$24:$C$40,2,FALSE())","v":"M"}]
["2815275","Menéndez Menchaca, Juan María","Madrileña","C",{"$f":"VLOOKUP(G3050,Referencias!$C$4:$D$21,2,FALSE())","v":"Tercera Diamante"},{"$f":"VLOOKUP(G3050,Referencias!$C$4:$E$21,3,FALSE())","v":3},"3D","Competición",{"$f":"VLOOKUP(C3050,Referencias!$B$24:$C$40,2,FALSE())","v":"M"}]
["2815276","López-Galvez Hernández-Ros, Paloma","Madrileña","D",{"$f":"VLOOKUP(G3051,Referencias!$C$4:$D$21,2,FALSE())","v":"Tercera Diamante"},{"$f":"VLOOKUP(G3051,Referencias!$C$4:$E$21,3,FALSE())","v":3},"3D","Competición",{"$f":"VLOOKUP(C3051,Referencias!$B$24:$C$40,2,FALSE())","v":"M"}]
["2815277","Plaza Tejera, José Alberto","Madrileña","C",{"$f":"VLOOKUP(G3052,Referencias!$C$4:$D$21,2,FALSE())","v":"Tercera Diamante"},{"$f":"VLOOKUP(G3052,Referencias!$C$4:$E$21,3,FALSE())","v":3},"3D","Competición",{"$f":"VLOOKUP(C3052,Referencias!$B$24:$C$40,2,FALSE())","v":"M"}]
["2815278","Martín Torres, Victor ","Madrileña","C",{"$f":"VLOOKUP(G3053,Referencias!$C$4:$D$21,2,FALSE())","v":"Tercera Diamante"},{"$f":"VLOOKUP(G3053,Referencias!$C$4:$E$21,3,FALSE())","v":3},"3D","Competición",{"$f":"VLOOKUP(C3053,Referencias!$B$24:$C$40,2,FALSE())","v":"M"}]
["2815279","Pérez-Ilzarbe, Rosario Arias ","Madrileña","D",{"$f":"VLOOKUP(G3054,Referencias!$C$4:$D$21,2,FALSE())","v":"Tercera Diamante"},{"$f":"VLOOKUP(G3054,Referencias!$C$4:$E$21,3,FALSE())","v":3},"3D","Competición",{"$f":"VLOOKUP(C3054,Referencias!$B$24:$C$40,2,FALSE())","v":"M"}]
["2815280","Costales Ortiz, Gonzalo ","Madrileña","C",{"$f":"VLOOKUP(G3055,Referencias!$C$4:$D$21,2,FALSE())","v":"Tercera Diamante"},{"$f":"VLOOKUP(G3055,Referencias!$C$4:$E$21,3,FALSE())","v":3},"3D","Competición",{"$f":"VLOOKUP(C3055,Referencias!$B$24:$C$40,2,FALSE())","v":"M"}]
["2815281","de Ledesma Thalheimer, Ana Sofia","Madrileña","D",{"$f":"VLOOKUP(G3056,Referencias!$C$4:$D$21,2,FALSE())","v":"Tercera Diamante"},{"$f":"VLOOKUP(G3056,Referencias!$C$4:$E$21,3,FALSE())","v":3},"3D","Competición",{"$f":"VLOOKUP(C3056,Referencias!$B$24:$C$40,2,FALSE())","v":"M"}]
["2815282","Adriani Mirapuri, Karina ","Madrileña","D",{"$f":"VLOOKUP(G3057,Referencias!$C$4:$D$21,2,FALSE())","v":"Tercera Diamante"},{"$f":"VLOOKUP(G3057,Referencias!$C$4:$E$21,3,FALSE())","v":3},"3D","Competición",{"$f":"VLOOKUP(C3057,Referencias!$B$24:$C$40,2,FALSE())","v":"M"}]
["2815283","Oliver Cerrada, Carmen ","Madrileña","D",{"$f":"VLOOKUP(G3058,Referencias!$C$4:$D$21,2,FALSE())","v":"Tercera Diamante"},{"$f":"VLOOKUP(G3058,Referencias!$C$4:$E$21,3,FALSE())","v":3},"3D","Competición",{"$f":"VLOOKUP(C3058,Referencias!$B$24:$C$40,2,FALSE())","v":"M"}]
["2815284","Puig Garcia de la Vega, Ignacio","Madrileña","C",{"$f":"VLOOKUP(G3059,Referencias!$C$4:$D$21,2,FALSE())","v":"Tercera Diamante"},{"$f":"VLOOKUP(G3059,Referencias!$C$4:$E$21,3,FALSE())","v":3},"3D","Competición",{"$f":"VLOOKUP(C3059,Referencias!$B$24:$C$40,2,FALSE())","v":"M"}]
["2815285","Hernández de Briones, María Paz","Castellano-Manchega","D",{"$f":"VLOOKUP(G3060,Referencias!$C$4:$D$21,2,FALSE())","v":"Tercera Diamante"},{"$f":"VLOOKUP(G3060,Referencias!$C$4:$E$21,3,FALSE())","v":3},"3D","Competición",{"$f":"VLOOKUP(C3060,Referencias!$B$24:$C$40,2,FALSE())","v":"CM"}]
["2815286","González Teijido, Ana Beatriz","Madrileña","D",{"$f":"VLOOKUP(G3061,Referencias!$C$4:$D$21,2,FALSE())","v":"Tercera Diamante"},{"$f":"VLOOKUP(G3061,Referencias!$C$4:$E$21,3,FALSE())","v":3},"3D","Competición",{"$f":"VLOOKUP(C3061,Referencias!$B$24:$C$40,2,FALSE())","v":"M"}]
["2815287","Gutiérrez-Jodra Gamboa, Luis","Madrileña","C",{"$f":"VLOOKUP(G3062,Referencias!$C$4:$D$21,2,FALSE())","v":"Tercera Diamante"},{"$f":"VLOOKUP(G3062,Referencias!$C$4:$E$21,3,FALSE())","v":3},"3D","Competición",{"$f":"VLOOKUP(C3062,Referencias!$B$24:$C$40,2,FALSE())","v":"M"}]
["2815288","Pérez-Nievas Sánz, María Luisa","Madrileña","D",{"$f":"VLOOKUP(G3063,Referencias!$C$4:$D$21,2,FALSE())","v":"Tercera Diamante"},{"$f":"VLOOKUP(G3063,Referencias!$C$4:$E$21,3,FALSE())","v":3},"3D","Competición",{"$f":"VLOOKUP(C3063,Referencias!$B$24:$C$40,2,FALSE())","v":"M"}]
["2815289","Hector González, Alvaro","Madrileña","C",{"$f":"VLOOKUP(G3064,Referencias!$C$4:$D$21,2,FALSE())","v":"Tercera Diamante"},{"$f":"VLOOKUP(G3064,Referencias!$C$4:$E$21,3,FALSE())","v":3},"3D","Competición",{"$f":"VLOOKUP(C3064,Referencias!$B$24:$C$40,2,FALSE())","v":"M"}]
["2815290","Amores González, Alberto","Madrileña","C",{"$f":"VLOOKUP(G3065,Referencias!$C$4:$D$21,2,FALSE())","v":"Tercera Diamante"},{"$f":"VLOOKUP(G3065,Referencias!$C$4:$E$21,3,FALSE())","v":3},"3D","Competición",{"$f":"VLOOKUP(C3065,Referencias!$B$24:$C$40,2,FALSE())","v":"M"}]
["2815291","Bueno Martín, Carmen","Madrileña","D",{"$f":"VLOOKUP(G3066,Referencias!$C$4:$D$21,2,FALSE())","v":"Tercera Diamante"},{"$f":"VLOOKUP(G3066,Referencias!$C$4:$E$21,3,FALSE())","v":3},"3D","Competición",{"$f":"VLOOKUP(C3066,Referencias!$B$24:$C$40,2,FALSE())","v":"M"}]
["2815292","Liaño López-Puigcerver, Gabriel","Madrileña","C",{"$f":"VLOOKUP(G3067,Referencias!$C$4:$D$21,2,FALSE())","v":"Tercera Diamante"},{"$f":"VLOOKUP(G3067,Referencias!$C$4:$E$21,3,FALSE())","v":3},"3D","Competición",{"$f":"VLOOKUP(C3067,Referencias!$B$24:$C$40,2,FALSE())","v":"M"}]
["2815293","Sánz-Díez de Ulzurrun Lluch , María Dolores","Madrileña","D",{"$f":"VLOOKUP(G3068,Referencias!$C$4:$D$21,2,FALSE())","v":"Tercera Diamante"},{"$f":"VLOOKUP(G3068,Referencias!$C$4:$E$21,3,FALSE())","v":3},"3D","Competición",{"$f":"VLOOKUP(C3068,Referencias!$B$24:$C$40,2,FALSE())","v":"M"}]
["2815294","Vukmirovic Galli, Elena","Madrileña","D",{"$f":"VLOOKUP(G3069,Referencias!$C$4:$D$21,2,FALSE())","v":"Tercera Diamante"},{"$f":"VLOOKUP(G3069,Referencias!$C$4:$E$21,3,FALSE())","v":3},"3D","Competición",{"$f":"VLOOKUP(C3069,Referencias!$B$24:$C$40,2,FALSE())","v":"M"}]
["2815295","Candia Fernández, Victoria","Madrileña","D",{"$f":"VLOOKUP(G3070,Referencias!$C$4:$D$21,2,FALSE())","v":"Tercera Diamante"},{"$f":"VLOOKUP(G3070,Referencias!$C$4:$E$21,3,FALSE())","v":3},"3D","Competición",{"$f":"VLOOKUP(C3070,Referencias!$B$24:$C$40,2,FALSE())","v":"M"}]
["2815296","Torralbo Pérez, Gonzalo","Madrileña","C",{"$f":"VLOOKUP(G3071,Referencias!$C$4:$D$21,2,FALSE())","v":"Tercera Diamante"},{"$f":"VLOOKUP(G3071,Referencias!$C$4:$E$21,3,FALSE())","v":3},"3D","Competición",{"$f":"VLOOKUP(C3071,Referencias!$B$24:$C$40,2,FALSE())","v":"M"}]
["2815297","Arias Pérez-Ilzarbe, Esther","Madrileña","D",{"$f":"VLOOKUP(G3072,Referencias!$C$4:$D$21,2,FALSE())","v":"Tercera Diamante"},{"$f":"VLOOKUP(G3072,Referencias!$C$4:$E$21,3,FALSE())","v":3},"3D","Competición",{"$f":"VLOOKUP(C3072,Referencias!$B$24:$C$40,2,FALSE())","v":"M"}]
["2815298","Quintanal Meléndez, Soledad","Madrileña","D",{"$f":"VLOOKUP(G3073,Referencias!$C$4:$D$21,2,FALSE())","v":"Tercera Diamante"},{"$f":"VLOOKUP(G3073,Referencias!$C$4:$E$21,3,FALSE())","v":3},"3D","Competición",{"$f":"VLOOKUP(C3073,Referencias!$B$24:$C$40,2,FALSE())","v":"M"}]
["2815299","Junco Aguado, Manuel","Madrileña","C",{"$f":"VLOOKUP(G3074,Referencias!$C$4:$D$21,2,FALSE())","v":"Tercera Diamante"},{"$f":"VLOOKUP(G3074,Referencias!$C$4:$E$21,3,FALSE())","v":3},"3D","Competición",{"$f":"VLOOKUP(C3074,Referencias!$B$24:$C$40,2,FALSE())","v":"M"}]
["2815300","de la Fuente Matas, José Javier","Madrileña","C",{"$f":"VLOOKUP(G3075,Referencias!$C$4:$D$21,2,FALSE())","v":"Tercera Diamante"},{"$f":"VLOOKUP(G3075,Referencias!$C$4:$E$21,3,FALSE())","v":3},"3D","Competición",{"$f":"VLOOKUP(C3075,Referencias!$B$24:$C$40,2,FALSE())","v":"M"}]
["2815301","Junco Aguado, Ángeles","Madrileña","D",{"$f":"VLOOKUP(G3076,Referencias!$C$4:$D$21,2,FALSE())","v":"Tercera Diamante"},{"$f":"VLOOKUP(G3076,Referencias!$C$4:$E$21,3,FALSE())","v":3},"3D","Competición",{"$f":"VLOOKUP(C3076,Referencias!$B$24:$C$40,2,FALSE())","v":"M"}]
["2815302","Casas Cardenal, Bruno","Madrileña","C",{"$f":"VLOOKUP(G3077,Referencias!$C$4:$D$21,2,FALSE())","v":"Tercera Diamante"},{"$f":"VLOOKUP(G3077,Referencias!$C$4:$E$21,3,FALSE())","v":3},"3D","Competición",{"$f":"VLOOKUP(C3077,Referencias!$B$24:$C$40,2,FALSE())","v":"M"}]
["2815303","Aurelle, Antoine","Madrileña","C",{"$f":"VLOOKUP(G3078,Referencias!$C$4:$D$21,2,FALSE())","v":"Tercera Diamante"},{"$f":"VLOOKUP(G3078,Referencias!$C$4:$E$21,3,FALSE())","v":3},"3D","Competición",{"$f":"VLOOKUP(C3078,Referencias!$B$24:$C$40,2,FALSE())","v":"M"}]
["2815304","Fernández-Shaw Toda, Rocio","Madrileña","D",{"$f":"VLOOKUP(G3079,Referencias!$C$4:$D$21,2,FALSE())","v":"Tercera Diamante"},{"$f":"VLOOKUP(G3079,Referencias!$C$4:$E$21,3,FALSE())","v":3},"3D","Competición",{"$f":"VLOOKUP(C3079,Referencias!$B$24:$C$40,2,FALSE())","v":"M"}]
["2815305","Gomendio López de Asiain, Ana","Madrileña","D",{"$f":"VLOOKUP(G3080,Referencias!$C$4:$D$21,2,FALSE())","v":"Tercera Diamante"},{"$f":"VLOOKUP(G3080,Referencias!$C$4:$E$21,3,FALSE())","v":3},"3D","Competición",{"$f":"VLOOKUP(C3080,Referencias!$B$24:$C$40,2,FALSE())","v":"M"}]
["2815306","Martínez González, Luis","Madrileña","C",{"$f":"VLOOKUP(G3081,Referencias!$C$4:$D$21,2,FALSE())","v":"Tercera Diamante"},{"$f":"VLOOKUP(G3081,Referencias!$C$4:$E$21,3,FALSE())","v":3},"3D","Competición",{"$f":"VLOOKUP(C3081,Referencias!$B$24:$C$40,2,FALSE())","v":"M"}]
["2815307","García Magro , Ana","Madrileña","D",{"$f":"VLOOKUP(G3082,Referencias!$C$4:$D$21,2,FALSE())","v":"Tercera Diamante"},{"$f":"VLOOKUP(G3082,Referencias!$C$4:$E$21,3,FALSE())","v":3},"3D","Competición",{"$f":"VLOOKUP(C3082,Referencias!$B$24:$C$40,2,FALSE())","v":"M"}]
["2815308","Aparicio Molina, Juan Manuel","Madrileña","D",{"$f":"VLOOKUP(G3083,Referencias!$C$4:$D$21,2,FALSE())","v":"Tercera Diamante"},{"$f":"VLOOKUP(G3083,Referencias!$C$4:$E$21,3,FALSE())","v":3},"3D","Competición",{"$f":"VLOOKUP(C3083,Referencias!$B$24:$C$40,2,FALSE())","v":"M"}]
["2815309","Defarges Pons, Regina","Madrileña","D",{"$f":"VLOOKUP(G3084,Referencias!$C$4:$D$21,2,FALSE())","v":"Tercera Diamante"},{"$f":"VLOOKUP(G3084,Referencias!$C$4:$E$21,3,FALSE())","v":3},"3D","Competición",{"$f":"VLOOKUP(C3084,Referencias!$B$24:$C$40,2,FALSE())","v":"M"}]
["2815310","Bernedo Arzac, Marta","Madrileña","D",{"$f":"VLOOKUP(G3085,Referencias!$C$4:$D$21,2,FALSE())","v":"Tercera Diamante"},{"$f":"VLOOKUP(G3085,Referencias!$C$4:$E$21,3,FALSE())","v":3},"3D","Competición",{"$f":"VLOOKUP(C3085,Referencias!$B$24:$C$40,2,FALSE())","v":"M"}]
["2815311","Escarzo Rosello, Almudena","Madrileña","D",{"$f":"VLOOKUP(G3086,Referencias!$C$4:$D$21,2,FALSE())","v":"Tercera Diamante"},{"$f":"VLOOKUP(G3086,Referencias!$C$4:$E$21,3,FALSE())","v":3},"3D","Competición",{"$f":"VLOOKUP(C3086,Referencias!$B$24:$C$40,2,FALSE())","v":"M"}]
["2815312","Caballero Rubiato, Nieves","Madrileña","D",{"$f":"VLOOKUP(G3087,Referencias!$C$4:$D$21,2,FALSE())","v":"Tercera Diamante"},{"$f":"VLOOKUP(G3087,Referencias!$C$4:$E$21,3,FALSE())","v":3},"3D","Competición",{"$f":"VLOOKUP(C3087,Referencias!$B$24:$C$40,2,FALSE())","v":"M"}]
["2815313","Puertas García, Julia ","Madrileña","D",{"$f":"VLOOKUP(G3088,Referencias!$C$4:$D$21,2,FALSE())","v":"Tercera Diamante"},{"$f":"VLOOKUP(G3088,Referencias!$C$4:$E$21,3,FALSE())","v":3},"3D","Competición",{"$f":"VLOOKUP(C3088,Referencias!$B$24:$C$40,2,FALSE())","v":"M"}]
["2815314","Pérez del Castillo, Gracia ","Madrileña","D",{"$f":"VLOOKUP(G3089,Referencias!$C$4:$D$21,2,FALSE())","v":"Tercera Diamante"},{"$f":"VLOOKUP(G3089,Referencias!$C$4:$E$21,3,FALSE())","v":3},"3D","Competición",{"$f":"VLOOKUP(C3089,Referencias!$B$24:$C$40,2,FALSE())","v":"M"}]
["2815315","Martín Zumárraga, Isabel","Madrileña","D",{"$f":"VLOOKUP(G3090,Referencias!$C$4:$D$21,2,FALSE())","v":"Tercera Diamante"},{"$f":"VLOOKUP(G3090,Referencias!$C$4:$E$21,3,FALSE())","v":3},"3D","Competición",{"$f":"VLOOKUP(C3090,Referencias!$B$24:$C$40,2,FALSE())","v":"M"}]
["2815316","Blasco Espin, Sandra","Madrileña","D",{"$f":"VLOOKUP(G3091,Referencias!$C$4:$D$21,2,FALSE())","v":"Tercera Diamante"},{"$f":"VLOOKUP(G3091,Referencias!$C$4:$E$21,3,FALSE())","v":3},"3D","Competición",{"$f":"VLOOKUP(C3091,Referencias!$B$24:$C$40,2,FALSE())","v":"M"}]
["2815317","Nuñez-Lagos, Paz","Madrileña","D",{"$f":"VLOOKUP(G3092,Referencias!$C$4:$D$21,2,FALSE())","v":"Tercera Diamante"},{"$f":"VLOOKUP(G3092,Referencias!$C$4:$E$21,3,FALSE())","v":3},"3D","Competición",{"$f":"VLOOKUP(C3092,Referencias!$B$24:$C$40,2,FALSE())","v":"M"}]
["2815318","Arribas Castelló, Mª Belén","Madrileña","D",{"$f":"VLOOKUP(G3093,Referencias!$C$4:$D$21,2,FALSE())","v":"Tercera Diamante"},{"$f":"VLOOKUP(G3093,Referencias!$C$4:$E$21,3,FALSE())","v":3},"3D","Competición",{"$f":"VLOOKUP(C3093,Referencias!$B$24:$C$40,2,FALSE())","v":"M"}]
["2815319","Arribas Castelló, María Jesús","Madrileña","D",{"$f":"VLOOKUP(G3094,Referencias!$C$4:$D$21,2,FALSE())","v":"Tercera Diamante"},{"$f":"VLOOKUP(G3094,Referencias!$C$4:$E$21,3,FALSE())","v":3},"3D","Competición",{"$f":"VLOOKUP(C3094,Referencias!$B$24:$C$40,2,FALSE())","v":"M"}]
["2815320","del Riego de la Peña, Antonio","Madrileña","C",{"$f":"VLOOKUP(G3095,Referencias!$C$4:$D$21,2,FALSE())","v":"Tercera Diamante"},{"$f":"VLOOKUP(G3095,Referencias!$C$4:$E$21,3,FALSE())","v":3},"3D","Competición",{"$f":"VLOOKUP(C3095,Referencias!$B$24:$C$40,2,FALSE())","v":"M"}]
["2815321","Dorsch Oli, Concepción","Madrileña","D",{"$f":"VLOOKUP(G3096,Referencias!$C$4:$D$21,2,FALSE())","v":"Tercera Diamante"},{"$f":"VLOOKUP(G3096,Referencias!$C$4:$E$21,3,FALSE())","v":3},"3D","Competición",{"$f":"VLOOKUP(C3096,Referencias!$B$24:$C$40,2,FALSE())","v":"M"}]
["2815322","Piñuela de Pablos, Miguel Angel","Madrileña","C",{"$f":"VLOOKUP(G3097,Referencias!$C$4:$D$21,2,FALSE())","v":"Tercera Diamante"},{"$f":"VLOOKUP(G3097,Referencias!$C$4:$E$21,3,FALSE())","v":3},"3D","Competición",{"$f":"VLOOKUP(C3097,Referencias!$B$24:$C$40,2,FALSE())","v":"M"}]
["2815323","Dader Fernández, Manuel","Madrileña","C",{"$f":"VLOOKUP(G3098,Referencias!$C$4:$D$21,2,FALSE())","v":"Tercera Diamante"},{"$f":"VLOOKUP(G3098,Referencias!$C$4:$E$21,3,FALSE())","v":3},"3D","Competición",{"$f":"VLOOKUP(C3098,Referencias!$B$24:$C$40,2,FALSE())","v":"M"}]
["2815324","Jiménez Marín, Carmina","Madrileña","D",{"$f":"VLOOKUP(G3099,Referencias!$C$4:$D$21,2,FALSE())","v":"Tercera Diamante"},{"$f":"VLOOKUP(G3099,Referencias!$C$4:$E$21,3,FALSE())","v":3},"3D","Competición",{"$f":"VLOOKUP(C3099,Referencias!$B$24:$C$40,2,FALSE())","v":"M"}]
["2815325","Ramírez Nuñez de Prado, Mercedes","Madrileña","D",{"$f":"VLOOKUP(G3100,Referencias!$C$4:$D$21,2,FALSE())","v":"Tercera Diamante"},{"$f":"VLOOKUP(G3100,Referencias!$C$4:$E$21,3,FALSE())","v":3},"3D","Competición",{"$f":"VLOOKUP(C3100,Referencias!$B$24:$C$40,2,FALSE())","v":"M"}]
["2815326","Alonso-Gamo Sandoval, José María","Madrileña","C",{"$f":"VLOOKUP(G3101,Referencias!$C$4:$D$21,2,FALSE())","v":"Tercera Diamante"},{"$f":"VLOOKUP(G3101,Referencias!$C$4:$E$21,3,FALSE())","v":3},"3D","Competición",{"$f":"VLOOKUP(C3101,Referencias!$B$24:$C$40,2,FALSE())","v":"M"}]
["2815327","Fernández de Córdoba Moncada, Isabel","Madrileña","D",{"$f":"VLOOKUP(G3102,Referencias!$C$4:$D$21,2,FALSE())","v":"Tercera Diamante"},{"$f":"VLOOKUP(G3102,Referencias!$C$4:$E$21,3,FALSE())","v":3},"3D","Competición",{"$f":"VLOOKUP(C3102,Referencias!$B$24:$C$40,2,FALSE())","v":"M"}]
["2815328","Ferrando, Laura","Madrileña","D",{"$f":"VLOOKUP(G3103,Referencias!$C$4:$D$21,2,FALSE())","v":"Tercera Diamante"},{"$f":"VLOOKUP(G3103,Referencias!$C$4:$E$21,3,FALSE())","v":3},"3D","Competición",{"$f":"VLOOKUP(C3103,Referencias!$B$24:$C$40,2,FALSE())","v":"M"}]
["2815329","Córdoba Toledo, Cristina","Madrileña","D",{"$f":"VLOOKUP(G3104,Referencias!$C$4:$D$21,2,FALSE())","v":"Tercera Diamante"},{"$f":"VLOOKUP(G3104,Referencias!$C$4:$E$21,3,FALSE())","v":3},"3D","Competición",{"$f":"VLOOKUP(C3104,Referencias!$B$24:$C$40,2,FALSE())","v":"M"}]
["2815330","Estevez Zurita, Javier","Madrileña","C",{"$f":"VLOOKUP(G3105,Referencias!$C$4:$D$21,2,FALSE())","v":"Tercera Diamante"},{"$f":"VLOOKUP(G3105,Referencias!$C$4:$E$21,3,FALSE())","v":3},"3D","Competición",{"$f":"VLOOKUP(C3105,Referencias!$B$24:$C$40,2,FALSE())","v":"M"}]
["2815331","Ciccione, Paolo","Madrileña","C",{"$f":"VLOOKUP(G3106,Referencias!$C$4:$D$21,2,FALSE())","v":"Tercera Diamante"},{"$f":"VLOOKUP(G3106,Referencias!$C$4:$E$21,3,FALSE())","v":3},"3D","Competición",{"$f":"VLOOKUP(C3106,Referencias!$B$24:$C$40,2,FALSE())","v":"M"}]
["2815332","Ruiperez Zomeño, Mª Teresa","Madrileña","D",{"$f":"VLOOKUP(G3107,Referencias!$C$4:$D$21,2,FALSE())","v":"Tercera Diamante"},{"$f":"VLOOKUP(G3107,Referencias!$C$4:$E$21,3,FALSE())","v":3},"3D","Competición",{"$f":"VLOOKUP(C3107,Referencias!$B$24:$C$40,2,FALSE())","v":"M"}]
["2815333","Rodríguez Pérez-Enciso, Leticia","Madrileña","D",{"$f":"VLOOKUP(G3108,Referencias!$C$4:$D$21,2,FALSE())","v":"Tercera Diamante"},{"$f":"VLOOKUP(G3108,Referencias!$C$4:$E$21,3,FALSE())","v":3},"3D","Competición",{"$f":"VLOOKUP(C3108,Referencias!$B$24:$C$40,2,FALSE())","v":"M"}]
["2815334","González Cantora, Emma ","Madrileña","D",{"$f":"VLOOKUP(G3109,Referencias!$C$4:$D$21,2,FALSE())","v":"Tercera Diamante"},{"$f":"VLOOKUP(G3109,Referencias!$C$4:$E$21,3,FALSE())","v":3},"3D","Competición",{"$f":"VLOOKUP(C3109,Referencias!$B$24:$C$40,2,FALSE())","v":"M"}]
["2815335","Sukhwani Mohandas, Mahesh","Madrileña","C",{"$f":"VLOOKUP(G3110,Referencias!$C$4:$D$21,2,FALSE())","v":"Tercera Diamante"},{"$f":"VLOOKUP(G3110,Referencias!$C$4:$E$21,3,FALSE())","v":3},"3D","Competición",{"$f":"VLOOKUP(C3110,Referencias!$B$24:$C$40,2,FALSE())","v":"M"}]
["2815336","Manghnani Kishinchand, Anmol","Madrileña","D",{"$f":"VLOOKUP(G3111,Referencias!$C$4:$D$21,2,FALSE())","v":"Tercera Diamante"},{"$f":"VLOOKUP(G3111,Referencias!$C$4:$E$21,3,FALSE())","v":3},"3D","Competición",{"$f":"VLOOKUP(C3111,Referencias!$B$24:$C$40,2,FALSE())","v":"M"}]
["2815337","Fernández-Pacheco Seijas, Maria Dolores","Madrileña","D",{"$f":"VLOOKUP(G3112,Referencias!$C$4:$D$21,2,FALSE())","v":"Tercera Diamante"},{"$f":"VLOOKUP(G3112,Referencias!$C$4:$E$21,3,FALSE())","v":3},"3D","Competición",{"$f":"VLOOKUP(C3112,Referencias!$B$24:$C$40,2,FALSE())","v":"M"}]
["2815338","Tavera Otero, Paloma","Madrileña","D",{"$f":"VLOOKUP(G3113,Referencias!$C$4:$D$21,2,FALSE())","v":"Tercera Diamante"},{"$f":"VLOOKUP(G3113,Referencias!$C$4:$E$21,3,FALSE())","v":3},"3D","Competición",{"$f":"VLOOKUP(C3113,Referencias!$B$24:$C$40,2,FALSE())","v":"M"}]
["2815339","Pujol de Lara, Cristina","Madrileña","D",{"$f":"VLOOKUP(G3114,Referencias!$C$4:$D$21,2,FALSE())","v":"Tercera Diamante"},{"$f":"VLOOKUP(G3114,Referencias!$C$4:$E$21,3,FALSE())","v":3},"3D","Competición",{"$f":"VLOOKUP(C3114,Referencias!$B$24:$C$40,2,FALSE())","v":"M"}]
["2815340","Gutiérrez de Luis, Luis María","Madrileña","C",{"$f":"VLOOKUP(G3115,Referencias!$C$4:$D$21,2,FALSE())","v":"Tercera Diamante"},{"$f":"VLOOKUP(G3115,Referencias!$C$4:$E$21,3,FALSE())","v":3},"3D","Competición",{"$f":"VLOOKUP(C3115,Referencias!$B$24:$C$40,2,FALSE())","v":"M"}]
["2815341","Zaragoza, Joseph ","Madrileña","C",{"$f":"VLOOKUP(G3116,Referencias!$C$4:$D$21,2,FALSE())","v":"Segunda Diamante"},{"$f":"VLOOKUP(G3116,Referencias!$C$4:$E$21,3,FALSE())","v":2},"2D","Competición",{"$f":"VLOOKUP(C3116,Referencias!$B$24:$C$40,2,FALSE())","v":"M"}]
["2815342","Fontes Muñoz, Carmen","Madrileña","D",{"$f":"VLOOKUP(G3117,Referencias!$C$4:$D$21,2,FALSE())","v":"Tercera Diamante"},{"$f":"VLOOKUP(G3117,Referencias!$C$4:$E$21,3,FALSE())","v":3},"3D","Competición",{"$f":"VLOOKUP(C3117,Referencias!$B$24:$C$40,2,FALSE())","v":"M"}]
["2815343","Pardo de Santayana Montes, María Eugenia","Madrileña","D",{"$f":"VLOOKUP(G3118,Referencias!$C$4:$D$21,2,FALSE())","v":"Tercera Diamante"},{"$f":"VLOOKUP(G3118,Referencias!$C$4:$E$21,3,FALSE())","v":3},"3D","Competición",{"$f":"VLOOKUP(C3118,Referencias!$B$24:$C$40,2,FALSE())","v":"M"}]
["2815344","Verde Abella, Penélope","Madrileña","D",{"$f":"VLOOKUP(G3119,Referencias!$C$4:$D$21,2,FALSE())","v":"Tercera Diamante"},{"$f":"VLOOKUP(G3119,Referencias!$C$4:$E$21,3,FALSE())","v":3},"3D","Competición",{"$f":"VLOOKUP(C3119,Referencias!$B$24:$C$40,2,FALSE())","v":"M"}]
["2815345","Rodríguez Baptista, Luis","Madrileña","C",{"$f":"VLOOKUP(G3120,Referencias!$C$4:$D$21,2,FALSE())","v":"Tercera Diamante"},{"$f":"VLOOKUP(G3120,Referencias!$C$4:$E$21,3,FALSE())","v":3},"3D","Competición",{"$f":"VLOOKUP(C3120,Referencias!$B$24:$C$40,2,FALSE())","v":"M"}]
["2815346","Alphonse, Dominique","Madrileña","D",{"$f":"VLOOKUP(G3121,Referencias!$C$4:$D$21,2,FALSE())","v":"Tercera Diamante"},{"$f":"VLOOKUP(G3121,Referencias!$C$4:$E$21,3,FALSE())","v":3},"3D","Competición",{"$f":"VLOOKUP(C3121,Referencias!$B$24:$C$40,2,FALSE())","v":"M"}]
["2815347","Guzmán Prenk, Dianny","Madrileña","D",{"$f":"VLOOKUP(G3122,Referencias!$C$4:$D$21,2,FALSE())","v":"Tercera Diamante"},{"$f":"VLOOKUP(G3122,Referencias!$C$4:$E$21,3,FALSE())","v":3},"3D","Competición",{"$f":"VLOOKUP(C3122,Referencias!$B$24:$C$40,2,FALSE())","v":"M"}]
["2815348","Turiel Cerezo, Marino","Madrileña","C",{"$f":"VLOOKUP(G3123,Referencias!$C$4:$D$21,2,FALSE())","v":"Tercera Diamante"},{"$f":"VLOOKUP(G3123,Referencias!$C$4:$E$21,3,FALSE())","v":3},"3D","Competición",{"$f":"VLOOKUP(C3123,Referencias!$B$24:$C$40,2,FALSE())","v":"M"}]
["2815349","Albi Piquer, Concha","Madrileña","D",{"$f":"VLOOKUP(G3124,Referencias!$C$4:$D$21,2,FALSE())","v":"Tercera Diamante"},{"$f":"VLOOKUP(G3124,Referencias!$C$4:$E$21,3,FALSE())","v":3},"3D","Competición",{"$f":"VLOOKUP(C3124,Referencias!$B$24:$C$40,2,FALSE())","v":"M"}]
["2815350","Anaya Tapia, Mónica","Madrileña","D",{"$f":"VLOOKUP(G3125,Referencias!$C$4:$D$21,2,FALSE())","v":"Tercera Diamante"},{"$f":"VLOOKUP(G3125,Referencias!$C$4:$E$21,3,FALSE())","v":3},"3D","Competición",{"$f":"VLOOKUP(C3125,Referencias!$B$24:$C$40,2,FALSE())","v":"M"}]
["2815351","Gómez-Acebo Temes, José María","Madrileña","C",{"$f":"VLOOKUP(G3126,Referencias!$C$4:$D$21,2,FALSE())","v":"Tercera Diamante"},{"$f":"VLOOKUP(G3126,Referencias!$C$4:$E$21,3,FALSE())","v":3},"3D","Competición",{"$f":"VLOOKUP(C3126,Referencias!$B$24:$C$40,2,FALSE())","v":"M"}]
["2815352","González-Baylin Monge, Ana","Madrileña","D",{"$f":"VLOOKUP(G3127,Referencias!$C$4:$D$21,2,FALSE())","v":"Tercera Diamante"},{"$f":"VLOOKUP(G3127,Referencias!$C$4:$E$21,3,FALSE())","v":3},"3D","Competición",{"$f":"VLOOKUP(C3127,Referencias!$B$24:$C$40,2,FALSE())","v":"M"}]
["2815353","Wanders, Michael","Madrileña","C",{"$f":"VLOOKUP(G3128,Referencias!$C$4:$D$21,2,FALSE())","v":"Tercera Diamante"},{"$f":"VLOOKUP(G3128,Referencias!$C$4:$E$21,3,FALSE())","v":3},"3D","Competición",{"$f":"VLOOKUP(C3128,Referencias!$B$24:$C$40,2,FALSE())","v":"M"}]
["2815354","Guerrero Meseguer, Fernando","Madrileña","C",{"$f":"VLOOKUP(G3129,Referencias!$C$4:$D$21,2,FALSE())","v":"Tercera Diamante"},{"$f":"VLOOKUP(G3129,Referencias!$C$4:$E$21,3,FALSE())","v":3},"3D","Competición",{"$f":"VLOOKUP(C3129,Referencias!$B$24:$C$40,2,FALSE())","v":"M"}]
["2815510","Pidal Vives, Agatha","Asturiana","D",{"$f":"VLOOKUP(G3130,Referencias!$C$4:$D$21,2,FALSE())","v":"Primera Picas"},{"$f":"VLOOKUP(G3130,Referencias!$C$4:$E$21,3,FALSE())","v":1},"1P","Competición",{"$f":"VLOOKUP(C3130,Referencias!$B$24:$C$40,2,FALSE())","v":"PA"}]
["2961186","Chaudhuri, Amit","Andaluza","C",{"$f":"VLOOKUP(G3131,Referencias!$C$4:$D$21,2,FALSE())","v":"Segunda Picas"},{"$f":"VLOOKUP(G3131,Referencias!$C$4:$E$21,3,FALSE())","v":2},"2P","Competición",{"$f":"VLOOKUP(C3131,Referencias!$B$24:$C$40,2,FALSE())","v":"A"}]
["2961269","Bjerre, Troels","Andaluza","C",{"$f":"VLOOKUP(G3132,Referencias!$C$4:$D$21,2,FALSE())","v":"Sin Categoría"},{"$f":"VLOOKUP(G3132,Referencias!$C$4:$E$21,3,FALSE())","v":4},"SC","Competición",{"$f":"VLOOKUP(C3132,Referencias!$B$24:$C$40,2,FALSE())","v":"A"}]
["2961364","Engstrom, Eva","Andaluza","D",{"$f":"VLOOKUP(G3133,Referencias!$C$4:$D$21,2,FALSE())","v":"Sin Categoría"},{"$f":"VLOOKUP(G3133,Referencias!$C$4:$E$21,3,FALSE())","v":4},"SC","Competición",{"$f":"VLOOKUP(C3133,Referencias!$B$24:$C$40,2,FALSE())","v":"A"}]
["2961394","López Llorca, María Teresa","Andaluza","D",{"$f":"VLOOKUP(G3134,Referencias!$C$4:$D$21,2,FALSE())","v":"Sin Categoría"},{"$f":"VLOOKUP(G3134,Referencias!$C$4:$E$21,3,FALSE())","v":4},"SC","Competición",{"$f":"VLOOKUP(C3134,Referencias!$B$24:$C$40,2,FALSE())","v":"A"}]
["2961540","Preetzmann-Aggerholm, Per","Andaluza","C",{"$f":"VLOOKUP(G3135,Referencias!$C$4:$D$21,2,FALSE())","v":"Sin Categoría"},{"$f":"VLOOKUP(G3135,Referencias!$C$4:$E$21,3,FALSE())","v":4},"SC","Competición",{"$f":"VLOOKUP(C3135,Referencias!$B$24:$C$40,2,FALSE())","v":"A"}]
["2961652","Alvarez-Ossorio Serrano, Margarita","Andaluza","D",{"$f":"VLOOKUP(G3136,Referencias!$C$4:$D$21,2,FALSE())","v":"Sin Categoría"},{"$f":"VLOOKUP(G3136,Referencias!$C$4:$E$21,3,FALSE())","v":4},"SC","Competición",{"$f":"VLOOKUP(C3136,Referencias!$B$24:$C$40,2,FALSE())","v":"A"}]
["2961681","Gadol, Patricia","Andaluza","D",{"$f":"VLOOKUP(G3137,Referencias!$C$4:$D$21,2,FALSE())","v":"Sin Categoría"},{"$f":"VLOOKUP(G3137,Referencias!$C$4:$E$21,3,FALSE())","v":4},"SC","Competición",{"$f":"VLOOKUP(C3137,Referencias!$B$24:$C$40,2,FALSE())","v":"A"}]
["2961694","Aizpurua Garzón, María Isabel","Andaluza","D",{"$f":"VLOOKUP(G3138,Referencias!$C$4:$D$21,2,FALSE())","v":"Sin Categoría"},{"$f":"VLOOKUP(G3138,Referencias!$C$4:$E$21,3,FALSE())","v":4},"SC","Competición",{"$f":"VLOOKUP(C3138,Referencias!$B$24:$C$40,2,FALSE())","v":"A"}]
["2961728","Sánz Marcelo, Jorge","Andaluza","C",{"$f":"VLOOKUP(G3139,Referencias!$C$4:$D$21,2,FALSE())","v":"Sin Categoría"},{"$f":"VLOOKUP(G3139,Referencias!$C$4:$E$21,3,FALSE())","v":4},"SC","Competición",{"$f":"VLOOKUP(C3139,Referencias!$B$24:$C$40,2,FALSE())","v":"A"}]
["2961729","De Briones Segovia, Alicia","Andaluza","D",{"$f":"VLOOKUP(G3140,Referencias!$C$4:$D$21,2,FALSE())","v":"Sin Categoría"},{"$f":"VLOOKUP(G3140,Referencias!$C$4:$E$21,3,FALSE())","v":4},"SC","Competición",{"$f":"VLOOKUP(C3140,Referencias!$B$24:$C$40,2,FALSE())","v":"A"}]
["2961754","Lambrot, Jean Paul","Andaluza","C",{"$f":"VLOOKUP(G3141,Referencias!$C$4:$D$21,2,FALSE())","v":"Segunda Corazón"},{"$f":"VLOOKUP(G3141,Referencias!$C$4:$E$21,3,FALSE())","v":2},"2C","Competición",{"$f":"VLOOKUP(C3141,Referencias!$B$24:$C$40,2,FALSE())","v":"A"}]
["2961772","Mono, Roy","Andaluza","C",{"$f":"VLOOKUP(G3142,Referencias!$C$4:$D$21,2,FALSE())","v":"Sin Categoría"},{"$f":"VLOOKUP(G3142,Referencias!$C$4:$E$21,3,FALSE())","v":4},"SC","Competición",{"$f":"VLOOKUP(C3142,Referencias!$B$24:$C$40,2,FALSE())","v":"A"}]
["2961773","Pollak, Evelyn","Andaluza","C",{"$f":"VLOOKUP(G3143,Referencias!$C$4:$D$21,2,FALSE())","v":"Sin Categoría"},{"$f":"VLOOKUP(G3143,Referencias!$C$4:$E$21,3,FALSE())","v":4},"SC","Competición",{"$f":"VLOOKUP(C3143,Referencias!$B$24:$C$40,2,FALSE())","v":"A"}]
["2961775","Van Dam, Cornelius","Andaluza","C",{"$f":"VLOOKUP(G3144,Referencias!$C$4:$D$21,2,FALSE())","v":"Segunda Corazón"},{"$f":"VLOOKUP(G3144,Referencias!$C$4:$E$21,3,FALSE())","v":2},"2C","Competición",{"$f":"VLOOKUP(C3144,Referencias!$B$24:$C$40,2,FALSE())","v":"A"}]
["2961776","Requejo Aedo, Carmina","Andaluza","D",{"$f":"VLOOKUP(G3145,Referencias!$C$4:$D$21,2,FALSE())","v":"Sin Categoría"},{"$f":"VLOOKUP(G3145,Referencias!$C$4:$E$21,3,FALSE())","v":4},"SC","Competición",{"$f":"VLOOKUP(C3145,Referencias!$B$24:$C$40,2,FALSE())","v":"A"}]
["2961795","Mutter, Deanne Armstrong","Andaluza","C",{"$f":"VLOOKUP(G3146,Referencias!$C$4:$D$21,2,FALSE())","v":"Tercera Diamante"},{"$f":"VLOOKUP(G3146,Referencias!$C$4:$E$21,3,FALSE())","v":3},"3D","Competición",{"$f":"VLOOKUP(C3146,Referencias!$B$24:$C$40,2,FALSE())","v":"A"}]
["3004054","Fermín Corchero, Jesús","Murciana","C",{"$f":"VLOOKUP(G3147,Referencias!$C$4:$D$21,2,FALSE())","v":"Sin Categoría"},{"$f":"VLOOKUP(G3147,Referencias!$C$4:$E$21,3,FALSE())","v":4},"SC","Competición",{"$f":"VLOOKUP(C3147,Referencias!$B$24:$C$40,2,FALSE())","v":"MU"}]
["3004074","Gudiño Sarto, María Esperanza","Murciana","D",{"$f":"VLOOKUP(G3148,Referencias!$C$4:$D$21,2,FALSE())","v":"Tercera Diamante"},{"$f":"VLOOKUP(G3148,Referencias!$C$4:$E$21,3,FALSE())","v":3},"3D","Competición",{"$f":"VLOOKUP(C3148,Referencias!$B$24:$C$40,2,FALSE())","v":"MU"}]
["3004612","Corchero Méndez, Isabel","Murciana","D",{"$f":"VLOOKUP(G3149,Referencias!$C$4:$D$21,2,FALSE())","v":"Sin Categoría"},{"$f":"VLOOKUP(G3149,Referencias!$C$4:$E$21,3,FALSE())","v":4},"SC","Competición",{"$f":"VLOOKUP(C3149,Referencias!$B$24:$C$40,2,FALSE())","v":"MU"}]
["3004938","Herrero Londres, Rosa María","Murciana","D",{"$f":"VLOOKUP(G3150,Referencias!$C$4:$D$21,2,FALSE())","v":"Segunda Picas"},{"$f":"VLOOKUP(G3150,Referencias!$C$4:$E$21,3,FALSE())","v":2},"2P","Competición",{"$f":"VLOOKUP(C3150,Referencias!$B$24:$C$40,2,FALSE())","v":"MU"}]
["3105002","Orue Lecue, Maite","Navarra","D",{"$f":"VLOOKUP(G3151,Referencias!$C$4:$D$21,2,FALSE())","v":"Sin Categoría"},{"$f":"VLOOKUP(G3151,Referencias!$C$4:$E$21,3,FALSE())","v":4},"SC","Competición",{"$f":"VLOOKUP(C3151,Referencias!$B$24:$C$40,2,FALSE())","v":"N"}]
["3105003","Mina Apat, Sagrario","Navarra","D",{"$f":"VLOOKUP(G3152,Referencias!$C$4:$D$21,2,FALSE())","v":"Tercera Picas"},{"$f":"VLOOKUP(G3152,Referencias!$C$4:$E$21,3,FALSE())","v":3},"3P","Competición",{"$f":"VLOOKUP(C3152,Referencias!$B$24:$C$40,2,FALSE())","v":"N"}]
["3105005","García Mina Tuero, Fernando","Navarra","C",{"$f":"VLOOKUP(G3153,Referencias!$C$4:$D$21,2,FALSE())","v":"Sin Categoría"},{"$f":"VLOOKUP(G3153,Referencias!$C$4:$E$21,3,FALSE())","v":4},"SC","Competición",{"$f":"VLOOKUP(C3153,Referencias!$B$24:$C$40,2,FALSE())","v":"N"}]
["3105015","Alegre Bosch, Carmen","Navarra","D",{"$f":"VLOOKUP(G3154,Referencias!$C$4:$D$21,2,FALSE())","v":"Sin Categoría"},{"$f":"VLOOKUP(G3154,Referencias!$C$4:$E$21,3,FALSE())","v":4},"SC","Competición",{"$f":"VLOOKUP(C3154,Referencias!$B$24:$C$40,2,FALSE())","v":"N"}]
["3105017","Martínez de Azagra Irujo, María Dolores","Navarra","D",{"$f":"VLOOKUP(G3155,Referencias!$C$4:$D$21,2,FALSE())","v":"Sin Categoría"},{"$f":"VLOOKUP(G3155,Referencias!$C$4:$E$21,3,FALSE())","v":4},"SC","Competición",{"$f":"VLOOKUP(C3155,Referencias!$B$24:$C$40,2,FALSE())","v":"N"}]
["3105025","Elizari Garayoa, María Nieves","Navarra","D",{"$f":"VLOOKUP(G3156,Referencias!$C$4:$D$21,2,FALSE())","v":"Sin Categoría"},{"$f":"VLOOKUP(G3156,Referencias!$C$4:$E$21,3,FALSE())","v":4},"SC","Competición",{"$f":"VLOOKUP(C3156,Referencias!$B$24:$C$40,2,FALSE())","v":"N"}]
["3105029","San Martín Urdaniz, María Eugenia","Navarra","D",{"$f":"VLOOKUP(G3157,Referencias!$C$4:$D$21,2,FALSE())","v":"Tercera Corazón"},{"$f":"VLOOKUP(G3157,Referencias!$C$4:$E$21,3,FALSE())","v":3},"3C","Competición",{"$f":"VLOOKUP(C3157,Referencias!$B$24:$C$40,2,FALSE())","v":"N"}]
["3105030","Franquet Casas, Carmen María","Navarra","D",{"$f":"VLOOKUP(G3158,Referencias!$C$4:$D$21,2,FALSE())","v":"Sin Categoría"},{"$f":"VLOOKUP(G3158,Referencias!$C$4:$E$21,3,FALSE())","v":4},"SC","Competición",{"$f":"VLOOKUP(C3158,Referencias!$B$24:$C$40,2,FALSE())","v":"N"}]
["3105031","Martinicorena Beruete, Santiago","Navarra","C",{"$f":"VLOOKUP(G3159,Referencias!$C$4:$D$21,2,FALSE())","v":"Tercera Picas"},{"$f":"VLOOKUP(G3159,Referencias!$C$4:$E$21,3,FALSE())","v":3},"3P","Competición",{"$f":"VLOOKUP(C3159,Referencias!$B$24:$C$40,2,FALSE())","v":"N"}]
["3105032","Navarro Ochoa, Victoria","Riojana","D",{"$f":"VLOOKUP(G3160,Referencias!$C$4:$D$21,2,FALSE())","v":"Tercera Diamante"},{"$f":"VLOOKUP(G3160,Referencias!$C$4:$E$21,3,FALSE())","v":3},"3D","Competición",{"$f":"VLOOKUP(C3160,Referencias!$B$24:$C$40,2,FALSE())","v":"R"}]
["3105033","Ruiz de Alda de Carlos, Maria Puy ","Navarra","D",{"$f":"VLOOKUP(G3161,Referencias!$C$4:$D$21,2,FALSE())","v":"Tercera Corazón"},{"$f":"VLOOKUP(G3161,Referencias!$C$4:$E$21,3,FALSE())","v":3},"3C","Competición",{"$f":"VLOOKUP(C3161,Referencias!$B$24:$C$40,2,FALSE())","v":"N"}]
["3105034","Garisoain , Alicia ","Navarra","D",{"$f":"VLOOKUP(G3162,Referencias!$C$4:$D$21,2,FALSE())","v":"Sin Categoría"},{"$f":"VLOOKUP(G3162,Referencias!$C$4:$E$21,3,FALSE())","v":4},"SC","Competición",{"$f":"VLOOKUP(C3162,Referencias!$B$24:$C$40,2,FALSE())","v":"N"}]
["3105035","Martinicorena Beruete, Angelina","Navarra","D",{"$f":"VLOOKUP(G3163,Referencias!$C$4:$D$21,2,FALSE())","v":"Sin Categoría"},{"$f":"VLOOKUP(G3163,Referencias!$C$4:$E$21,3,FALSE())","v":4},"SC","Competición",{"$f":"VLOOKUP(C3163,Referencias!$B$24:$C$40,2,FALSE())","v":"N"}]
["3105036","Beunza Domeño, Mª Teresa ","Navarra","D",{"$f":"VLOOKUP(G3164,Referencias!$C$4:$D$21,2,FALSE())","v":"Tercera Diamante"},{"$f":"VLOOKUP(G3164,Referencias!$C$4:$E$21,3,FALSE())","v":3},"3D","Competición",{"$f":"VLOOKUP(C3164,Referencias!$B$24:$C$40,2,FALSE())","v":"N"}]
["3105037","Montes Fuentes, María Teresa","Riojana","D",{"$f":"VLOOKUP(G3165,Referencias!$C$4:$D$21,2,FALSE())","v":"Sin Categoría"},{"$f":"VLOOKUP(G3165,Referencias!$C$4:$E$21,3,FALSE())","v":4},"SC","Competición",{"$f":"VLOOKUP(C3165,Referencias!$B$24:$C$40,2,FALSE())","v":"R"}]
["3105038","Ilarraz Prieto, Beatriz","Navarra","D",{"$f":"VLOOKUP(G3166,Referencias!$C$4:$D$21,2,FALSE())","v":"Sin Categoría"},{"$f":"VLOOKUP(G3166,Referencias!$C$4:$E$21,3,FALSE())","v":4},"SC","Competición",{"$f":"VLOOKUP(C3166,Referencias!$B$24:$C$40,2,FALSE())","v":"N"}]
["3105039","Mozaz Garde, Mª Jesús","Navarra","D",{"$f":"VLOOKUP(G3167,Referencias!$C$4:$D$21,2,FALSE())","v":"Tercera Diamante"},{"$f":"VLOOKUP(G3167,Referencias!$C$4:$E$21,3,FALSE())","v":3},"3D","Competición",{"$f":"VLOOKUP(C3167,Referencias!$B$24:$C$40,2,FALSE())","v":"N"}]
["3105040","Laseca Martínez, José Bernardo","Navarra","C",{"$f":"VLOOKUP(G3168,Referencias!$C$4:$D$21,2,FALSE())","v":"Tercera Diamante"},{"$f":"VLOOKUP(G3168,Referencias!$C$4:$E$21,3,FALSE())","v":3},"3D","Competición",{"$f":"VLOOKUP(C3168,Referencias!$B$24:$C$40,2,FALSE())","v":"N"}]
["3105041","Laseca Martínez, Alberto","Navarra","C",{"$f":"VLOOKUP(G3169,Referencias!$C$4:$D$21,2,FALSE())","v":"Tercera Diamante"},{"$f":"VLOOKUP(G3169,Referencias!$C$4:$E$21,3,FALSE())","v":3},"3D","Competición",{"$f":"VLOOKUP(C3169,Referencias!$B$24:$C$40,2,FALSE())","v":"N"}]
["3105042","Marin Navarro, Carmen","Navarra","D",{"$f":"VLOOKUP(G3170,Referencias!$C$4:$D$21,2,FALSE())","v":"Sin Categoría"},{"$f":"VLOOKUP(G3170,Referencias!$C$4:$E$21,3,FALSE())","v":4},"SC","Competición",{"$f":"VLOOKUP(C3170,Referencias!$B$24:$C$40,2,FALSE())","v":"N"}]
["3105043","Belzunce Martínez , María Luisa","Navarra","D",{"$f":"VLOOKUP(G3171,Referencias!$C$4:$D$21,2,FALSE())","v":"Sin Categoría"},{"$f":"VLOOKUP(G3171,Referencias!$C$4:$E$21,3,FALSE())","v":4},"SC","Competición",{"$f":"VLOOKUP(C3171,Referencias!$B$24:$C$40,2,FALSE())","v":"N"}]
["3105210","Alzugaray de Huarte, Blanca","Navarra","D",{"$f":"VLOOKUP(G3172,Referencias!$C$4:$D$21,2,FALSE())","v":"Segunda Diamante"},{"$f":"VLOOKUP(G3172,Referencias!$C$4:$E$21,3,FALSE())","v":2},"2D","Competición",{"$f":"VLOOKUP(C3172,Referencias!$B$24:$C$40,2,FALSE())","v":"N"}]
["3231236","Montes Tojo, Julia María","Gallega","D",{"$f":"VLOOKUP(G3173,Referencias!$C$4:$D$21,2,FALSE())","v":"Sin Categoría"},{"$f":"VLOOKUP(G3173,Referencias!$C$4:$E$21,3,FALSE())","v":4},"SC","Competición",{"$f":"VLOOKUP(C3173,Referencias!$B$24:$C$40,2,FALSE())","v":"G"}]
["3231456","Abades Alvárez, Constantino","Gallega","C",{"$f":"VLOOKUP(G3174,Referencias!$C$4:$D$21,2,FALSE())","v":"Sin Categoría"},{"$f":"VLOOKUP(G3174,Referencias!$C$4:$E$21,3,FALSE())","v":4},"SC","Competición",{"$f":"VLOOKUP(C3174,Referencias!$B$24:$C$40,2,FALSE())","v":"G"}]
["3301006","Guernica Otero, Carmen","Asturiana","D",{"$f":"VLOOKUP(G3175,Referencias!$C$4:$D$21,2,FALSE())","v":"Primera Picas"},{"$f":"VLOOKUP(G3175,Referencias!$C$4:$E$21,3,FALSE())","v":1},"1P","Competición",{"$f":"VLOOKUP(C3175,Referencias!$B$24:$C$40,2,FALSE())","v":"PA"}]
["3301009","LLaneza García, Carmen","Asturiana","D",{"$f":"VLOOKUP(G3176,Referencias!$C$4:$D$21,2,FALSE())","v":"Primera Diamante"},{"$f":"VLOOKUP(G3176,Referencias!$C$4:$E$21,3,FALSE())","v":1},"1D","Competición",{"$f":"VLOOKUP(C3176,Referencias!$B$24:$C$40,2,FALSE())","v":"PA"}]
["3301012","Fresno Aza, María Luz","Asturiana","D",{"$f":"VLOOKUP(G3177,Referencias!$C$4:$D$21,2,FALSE())","v":"Sin Categoría"},{"$f":"VLOOKUP(G3177,Referencias!$C$4:$E$21,3,FALSE())","v":4},"SC","Honorífica",{"$f":"VLOOKUP(C3177,Referencias!$B$24:$C$40,2,FALSE())","v":"PA"}]
["3301016","Escudero Martínez, Carmina","Asturiana","D",{"$f":"VLOOKUP(G3178,Referencias!$C$4:$D$21,2,FALSE())","v":"Tercera Diamante"},{"$f":"VLOOKUP(G3178,Referencias!$C$4:$E$21,3,FALSE())","v":3},"3D","Competición",{"$f":"VLOOKUP(C3178,Referencias!$B$24:$C$40,2,FALSE())","v":"PA"}]
["3301017","Arias Fernández, María José","Asturiana","D",{"$f":"VLOOKUP(G3179,Referencias!$C$4:$D$21,2,FALSE())","v":"Primera Picas"},{"$f":"VLOOKUP(G3179,Referencias!$C$4:$E$21,3,FALSE())","v":1},"1P","Competición",{"$f":"VLOOKUP(C3179,Referencias!$B$24:$C$40,2,FALSE())","v":"PA"}]
["3301020","Pendas García, María Rosa","Asturiana","D",{"$f":"VLOOKUP(G3180,Referencias!$C$4:$D$21,2,FALSE())","v":"Primera Corazón"},{"$f":"VLOOKUP(G3180,Referencias!$C$4:$E$21,3,FALSE())","v":1},"1C","Competición",{"$f":"VLOOKUP(C3180,Referencias!$B$24:$C$40,2,FALSE())","v":"PA"}]
["3301027","Álvarez Prieto, María Cristina","Asturiana","D",{"$f":"VLOOKUP(G3181,Referencias!$C$4:$D$21,2,FALSE())","v":"Sin Categoría"},{"$f":"VLOOKUP(G3181,Referencias!$C$4:$E$21,3,FALSE())","v":4},"SC","Competición",{"$f":"VLOOKUP(C3181,Referencias!$B$24:$C$40,2,FALSE())","v":"PA"}]
["3301028","Arrieta González, Beatriz","Asturiana","D",{"$f":"VLOOKUP(G3182,Referencias!$C$4:$D$21,2,FALSE())","v":"Segunda Corazón"},{"$f":"VLOOKUP(G3182,Referencias!$C$4:$E$21,3,FALSE())","v":2},"2C","Competición",{"$f":"VLOOKUP(C3182,Referencias!$B$24:$C$40,2,FALSE())","v":"PA"}]
["3301031","Barrero García, Rosalía","Asturiana","D",{"$f":"VLOOKUP(G3183,Referencias!$C$4:$D$21,2,FALSE())","v":"Primera Picas"},{"$f":"VLOOKUP(G3183,Referencias!$C$4:$E$21,3,FALSE())","v":1},"1P","Competición",{"$f":"VLOOKUP(C3183,Referencias!$B$24:$C$40,2,FALSE())","v":"PA"}]
["3301033","Caso de los Cobos Pascual, María Dolores","Asturiana","D",{"$f":"VLOOKUP(G3184,Referencias!$C$4:$D$21,2,FALSE())","v":"Sin Categoría"},{"$f":"VLOOKUP(G3184,Referencias!$C$4:$E$21,3,FALSE())","v":4},"SC","Competición",{"$f":"VLOOKUP(C3184,Referencias!$B$24:$C$40,2,FALSE())","v":"PA"}]
["3301037","Fanjul García, Virginia","Asturiana","D",{"$f":"VLOOKUP(G3185,Referencias!$C$4:$D$21,2,FALSE())","v":"Primera Picas"},{"$f":"VLOOKUP(G3185,Referencias!$C$4:$E$21,3,FALSE())","v":1},"1P","Competición",{"$f":"VLOOKUP(C3185,Referencias!$B$24:$C$40,2,FALSE())","v":"PA"}]
["3301046","Martínez de la Vega Leguina, Covadonga","Asturiana","D",{"$f":"VLOOKUP(G3186,Referencias!$C$4:$D$21,2,FALSE())","v":"Segunda Picas"},{"$f":"VLOOKUP(G3186,Referencias!$C$4:$E$21,3,FALSE())","v":2},"2P","Competición",{"$f":"VLOOKUP(C3186,Referencias!$B$24:$C$40,2,FALSE())","v":"PA"}]
["3301050","Pérez del Busto, Rosa Elisa","Asturiana","D",{"$f":"VLOOKUP(G3187,Referencias!$C$4:$D$21,2,FALSE())","v":"Segunda Picas"},{"$f":"VLOOKUP(G3187,Referencias!$C$4:$E$21,3,FALSE())","v":2},"2P","Competición",{"$f":"VLOOKUP(C3187,Referencias!$B$24:$C$40,2,FALSE())","v":"PA"}]
["3301055","Soubrier, Carmen","Asturiana","D",{"$f":"VLOOKUP(G3188,Referencias!$C$4:$D$21,2,FALSE())","v":"Primera Picas"},{"$f":"VLOOKUP(G3188,Referencias!$C$4:$E$21,3,FALSE())","v":1},"1P","Competición",{"$f":"VLOOKUP(C3188,Referencias!$B$24:$C$40,2,FALSE())","v":"PA"}]
["3301060","Raposo Botana, María Rafaela","Asturiana","D",{"$f":"VLOOKUP(G3189,Referencias!$C$4:$D$21,2,FALSE())","v":"Tercera Corazón"},{"$f":"VLOOKUP(G3189,Referencias!$C$4:$E$21,3,FALSE())","v":3},"3C","Honorífica",{"$f":"VLOOKUP(C3189,Referencias!$B$24:$C$40,2,FALSE())","v":"PA"}]
["3301062","Rodríguez García, María Inés","Asturiana","D",{"$f":"VLOOKUP(G3190,Referencias!$C$4:$D$21,2,FALSE())","v":"Sin Categoría"},{"$f":"VLOOKUP(G3190,Referencias!$C$4:$E$21,3,FALSE())","v":4},"SC","Competición",{"$f":"VLOOKUP(C3190,Referencias!$B$24:$C$40,2,FALSE())","v":"PA"}]
["3301064","Prieto Fernández, María Ángeles","Asturiana","D",{"$f":"VLOOKUP(G3191,Referencias!$C$4:$D$21,2,FALSE())","v":"Primera Picas"},{"$f":"VLOOKUP(G3191,Referencias!$C$4:$E$21,3,FALSE())","v":1},"1P","Competición",{"$f":"VLOOKUP(C3191,Referencias!$B$24:$C$40,2,FALSE())","v":"PA"}]
["3301068","López Lamela, Encarnación","Asturiana","D",{"$f":"VLOOKUP(G3192,Referencias!$C$4:$D$21,2,FALSE())","v":"Primera Corazón"},{"$f":"VLOOKUP(G3192,Referencias!$C$4:$E$21,3,FALSE())","v":1},"1C","Competición",{"$f":"VLOOKUP(C3192,Referencias!$B$24:$C$40,2,FALSE())","v":"PA"}]
["3301069","Blanco García, Marta","Asturiana","D",{"$f":"VLOOKUP(G3193,Referencias!$C$4:$D$21,2,FALSE())","v":"Sin Categoría"},{"$f":"VLOOKUP(G3193,Referencias!$C$4:$E$21,3,FALSE())","v":4},"SC","Competición",{"$f":"VLOOKUP(C3193,Referencias!$B$24:$C$40,2,FALSE())","v":"PA"}]
["3301071","Montero González, Amparo","Asturiana","D",{"$f":"VLOOKUP(G3194,Referencias!$C$4:$D$21,2,FALSE())","v":"Tercera Diamante"},{"$f":"VLOOKUP(G3194,Referencias!$C$4:$E$21,3,FALSE())","v":3},"3D","Competición",{"$f":"VLOOKUP(C3194,Referencias!$B$24:$C$40,2,FALSE())","v":"PA"}]
["3301072","Fresno Baquero, Luz Mari","Asturiana","D",{"$f":"VLOOKUP(G3195,Referencias!$C$4:$D$21,2,FALSE())","v":"Primera Picas"},{"$f":"VLOOKUP(G3195,Referencias!$C$4:$E$21,3,FALSE())","v":1},"1P","Competición",{"$f":"VLOOKUP(C3195,Referencias!$B$24:$C$40,2,FALSE())","v":"PA"}]
["3301074","de Santiago Díez, María Elena","Asturiana","D",{"$f":"VLOOKUP(G3196,Referencias!$C$4:$D$21,2,FALSE())","v":"Segunda Picas"},{"$f":"VLOOKUP(G3196,Referencias!$C$4:$E$21,3,FALSE())","v":2},"2P","Competición",{"$f":"VLOOKUP(C3196,Referencias!$B$24:$C$40,2,FALSE())","v":"PA"}]
["3301076","Canzobre Boedo, Purificación","Asturiana","D",{"$f":"VLOOKUP(G3197,Referencias!$C$4:$D$21,2,FALSE())","v":"Tercera Diamante"},{"$f":"VLOOKUP(G3197,Referencias!$C$4:$E$21,3,FALSE())","v":3},"3D","Competición",{"$f":"VLOOKUP(C3197,Referencias!$B$24:$C$40,2,FALSE())","v":"PA"}]
["3301077","Fernández Martínez, María Teresa","Asturiana","D",{"$f":"VLOOKUP(G3198,Referencias!$C$4:$D$21,2,FALSE())","v":"Segunda Corazón"},{"$f":"VLOOKUP(G3198,Referencias!$C$4:$E$21,3,FALSE())","v":2},"2C","Competición",{"$f":"VLOOKUP(C3198,Referencias!$B$24:$C$40,2,FALSE())","v":"PA"}]
["3301080","Castrillo Zubeldia, María Victoria","Asturiana","D",{"$f":"VLOOKUP(G3199,Referencias!$C$4:$D$21,2,FALSE())","v":"Sin Categoría"},{"$f":"VLOOKUP(G3199,Referencias!$C$4:$E$21,3,FALSE())","v":4},"SC","Competición",{"$f":"VLOOKUP(C3199,Referencias!$B$24:$C$40,2,FALSE())","v":"PA"}]
["3301082","Aguirre Fernández, Nieves","Asturiana","D",{"$f":"VLOOKUP(G3200,Referencias!$C$4:$D$21,2,FALSE())","v":"Sin Categoría"},{"$f":"VLOOKUP(G3200,Referencias!$C$4:$E$21,3,FALSE())","v":4},"SC","Competición",{"$f":"VLOOKUP(C3200,Referencias!$B$24:$C$40,2,FALSE())","v":"PA"}]
["3301083","Croissier López, María Jesús","Asturiana","D",{"$f":"VLOOKUP(G3201,Referencias!$C$4:$D$21,2,FALSE())","v":"Tercera Picas"},{"$f":"VLOOKUP(G3201,Referencias!$C$4:$E$21,3,FALSE())","v":3},"3P","Competición",{"$f":"VLOOKUP(C3201,Referencias!$B$24:$C$40,2,FALSE())","v":"PA"}]
["3301086","De la LLana González, Raquel","Asturiana","D",{"$f":"VLOOKUP(G3202,Referencias!$C$4:$D$21,2,FALSE())","v":"Tercera Diamante"},{"$f":"VLOOKUP(G3202,Referencias!$C$4:$E$21,3,FALSE())","v":3},"3D","Honorífica",{"$f":"VLOOKUP(C3202,Referencias!$B$24:$C$40,2,FALSE())","v":"PA"}]
["3301087","Díaz Solano, Mª Antonia","Asturiana","D",{"$f":"VLOOKUP(G3203,Referencias!$C$4:$D$21,2,FALSE())","v":"Segunda Corazón"},{"$f":"VLOOKUP(G3203,Referencias!$C$4:$E$21,3,FALSE())","v":2},"2C","Competición",{"$f":"VLOOKUP(C3203,Referencias!$B$24:$C$40,2,FALSE())","v":"PA"}]
["3301088","Garnung Varela, María Dolores","Asturiana","D",{"$f":"VLOOKUP(G3204,Referencias!$C$4:$D$21,2,FALSE())","v":"Primera Picas"},{"$f":"VLOOKUP(G3204,Referencias!$C$4:$E$21,3,FALSE())","v":1},"1P","Competición",{"$f":"VLOOKUP(C3204,Referencias!$B$24:$C$40,2,FALSE())","v":"PA"}]
["3301090","Ablanedo Rodríguez, Marinita","Asturiana","D",{"$f":"VLOOKUP(G3205,Referencias!$C$4:$D$21,2,FALSE())","v":"Primera Corazón"},{"$f":"VLOOKUP(G3205,Referencias!$C$4:$E$21,3,FALSE())","v":1},"1C","Competición",{"$f":"VLOOKUP(C3205,Referencias!$B$24:$C$40,2,FALSE())","v":"PA"}]
["3301091","Álvarez Varela, Mary Nieves","Asturiana","D",{"$f":"VLOOKUP(G3206,Referencias!$C$4:$D$21,2,FALSE())","v":"Segunda Diamante"},{"$f":"VLOOKUP(G3206,Referencias!$C$4:$E$21,3,FALSE())","v":2},"2D","Competición",{"$f":"VLOOKUP(C3206,Referencias!$B$24:$C$40,2,FALSE())","v":"PA"}]
["3301096","Arques Simón, Francisco","Asturiana","C",{"$f":"VLOOKUP(G3207,Referencias!$C$4:$D$21,2,FALSE())","v":"Sin Categoría"},{"$f":"VLOOKUP(G3207,Referencias!$C$4:$E$21,3,FALSE())","v":4},"SC","Competición",{"$f":"VLOOKUP(C3207,Referencias!$B$24:$C$40,2,FALSE())","v":"PA"}]
["3301097","Suárez de Luis, Alicia","Asturiana","D",{"$f":"VLOOKUP(G3208,Referencias!$C$4:$D$21,2,FALSE())","v":"Tercera Corazón"},{"$f":"VLOOKUP(G3208,Referencias!$C$4:$E$21,3,FALSE())","v":3},"3C","Competición",{"$f":"VLOOKUP(C3208,Referencias!$B$24:$C$40,2,FALSE())","v":"PA"}]
["3301100","Vidal Sanjurjo, Olga","Asturiana","D",{"$f":"VLOOKUP(G3209,Referencias!$C$4:$D$21,2,FALSE())","v":"Sin Categoría"},{"$f":"VLOOKUP(G3209,Referencias!$C$4:$E$21,3,FALSE())","v":4},"SC","Competición",{"$f":"VLOOKUP(C3209,Referencias!$B$24:$C$40,2,FALSE())","v":"PA"}]
["3301104","Verduras Alonso, Santos","Asturiana","C",{"$f":"VLOOKUP(G3210,Referencias!$C$4:$D$21,2,FALSE())","v":"Primera Picas"},{"$f":"VLOOKUP(G3210,Referencias!$C$4:$E$21,3,FALSE())","v":1},"1P","Competición",{"$f":"VLOOKUP(C3210,Referencias!$B$24:$C$40,2,FALSE())","v":"PA"}]
["3301105","Yañez Alvarez, Alfonso","Asturiana","C",{"$f":"VLOOKUP(G3211,Referencias!$C$4:$D$21,2,FALSE())","v":"Primera Corazón"},{"$f":"VLOOKUP(G3211,Referencias!$C$4:$E$21,3,FALSE())","v":1},"1C","Competición",{"$f":"VLOOKUP(C3211,Referencias!$B$24:$C$40,2,FALSE())","v":"PA"}]
["3301109","Perancho Casas, Miguel","Asturiana","C",{"$f":"VLOOKUP(G3212,Referencias!$C$4:$D$21,2,FALSE())","v":"Segunda Corazón"},{"$f":"VLOOKUP(G3212,Referencias!$C$4:$E$21,3,FALSE())","v":2},"2C","Competición",{"$f":"VLOOKUP(C3212,Referencias!$B$24:$C$40,2,FALSE())","v":"PA"}]
["3301111","Barrero García, Teresa","Asturiana","D",{"$f":"VLOOKUP(G3213,Referencias!$C$4:$D$21,2,FALSE())","v":"Segunda Diamante"},{"$f":"VLOOKUP(G3213,Referencias!$C$4:$E$21,3,FALSE())","v":2},"2D","Competición",{"$f":"VLOOKUP(C3213,Referencias!$B$24:$C$40,2,FALSE())","v":"PA"}]
["3301112","Veiguela Dellera, María Inés","Asturiana","D",{"$f":"VLOOKUP(G3214,Referencias!$C$4:$D$21,2,FALSE())","v":"Segunda Diamante"},{"$f":"VLOOKUP(G3214,Referencias!$C$4:$E$21,3,FALSE())","v":2},"2D","Competición",{"$f":"VLOOKUP(C3214,Referencias!$B$24:$C$40,2,FALSE())","v":"PA"}]
["3301113","Olay Villasanjurjo, Pilar","Asturiana","D",{"$f":"VLOOKUP(G3215,Referencias!$C$4:$D$21,2,FALSE())","v":"Tercera Corazón"},{"$f":"VLOOKUP(G3215,Referencias!$C$4:$E$21,3,FALSE())","v":3},"3C","Competición",{"$f":"VLOOKUP(C3215,Referencias!$B$24:$C$40,2,FALSE())","v":"PA"}]
["3301114","Gil Bonmatí, María Ángeles","Asturiana","D",{"$f":"VLOOKUP(G3216,Referencias!$C$4:$D$21,2,FALSE())","v":"Primera Picas"},{"$f":"VLOOKUP(G3216,Referencias!$C$4:$E$21,3,FALSE())","v":1},"1P","Competición",{"$f":"VLOOKUP(C3216,Referencias!$B$24:$C$40,2,FALSE())","v":"PA"}]
["3301115","Galán Martín, María Antonia","Asturiana","D",{"$f":"VLOOKUP(G3217,Referencias!$C$4:$D$21,2,FALSE())","v":"Sin Categoría"},{"$f":"VLOOKUP(G3217,Referencias!$C$4:$E$21,3,FALSE())","v":4},"SC","Competición",{"$f":"VLOOKUP(C3217,Referencias!$B$24:$C$40,2,FALSE())","v":"PA"}]
["3301116","Martínez-Hombre, Isabel","Asturiana","D",{"$f":"VLOOKUP(G3218,Referencias!$C$4:$D$21,2,FALSE())","v":"Tercera Picas"},{"$f":"VLOOKUP(G3218,Referencias!$C$4:$E$21,3,FALSE())","v":3},"3P","Competición",{"$f":"VLOOKUP(C3218,Referencias!$B$24:$C$40,2,FALSE())","v":"PA"}]
["3301117","Alonso Gigosos, Loren","Asturiana","D",{"$f":"VLOOKUP(G3219,Referencias!$C$4:$D$21,2,FALSE())","v":"Tercera Diamante"},{"$f":"VLOOKUP(G3219,Referencias!$C$4:$E$21,3,FALSE())","v":3},"3D","Competición",{"$f":"VLOOKUP(C3219,Referencias!$B$24:$C$40,2,FALSE())","v":"PA"}]
["3301118","Alonso Gigosos, Mª Loli","Asturiana","D",{"$f":"VLOOKUP(G3220,Referencias!$C$4:$D$21,2,FALSE())","v":"Tercera Diamante"},{"$f":"VLOOKUP(G3220,Referencias!$C$4:$E$21,3,FALSE())","v":3},"3D","Competición",{"$f":"VLOOKUP(C3220,Referencias!$B$24:$C$40,2,FALSE())","v":"PA"}]
["3301124","Suarez Beltran, Rosina","Asturiana","D",{"$f":"VLOOKUP(G3221,Referencias!$C$4:$D$21,2,FALSE())","v":"Sin Categoría"},{"$f":"VLOOKUP(G3221,Referencias!$C$4:$E$21,3,FALSE())","v":4},"SC","Competición",{"$f":"VLOOKUP(C3221,Referencias!$B$24:$C$40,2,FALSE())","v":"PA"}]
["3301125","Rodríguez Melo, Carmen","Asturiana","D",{"$f":"VLOOKUP(G3222,Referencias!$C$4:$D$21,2,FALSE())","v":"Tercera Diamante"},{"$f":"VLOOKUP(G3222,Referencias!$C$4:$E$21,3,FALSE())","v":3},"3D","Competición",{"$f":"VLOOKUP(C3222,Referencias!$B$24:$C$40,2,FALSE())","v":"PA"}]
["3301127","Sabino García, Antonio","Asturiana","C",{"$f":"VLOOKUP(G3223,Referencias!$C$4:$D$21,2,FALSE())","v":"Sin Categoría"},{"$f":"VLOOKUP(G3223,Referencias!$C$4:$E$21,3,FALSE())","v":4},"SC","Competición",{"$f":"VLOOKUP(C3223,Referencias!$B$24:$C$40,2,FALSE())","v":"PA"}]
["3301129","Cuesta Fernández, Gonzalo","Asturiana","C",{"$f":"VLOOKUP(G3224,Referencias!$C$4:$D$21,2,FALSE())","v":"Tercera Corazón"},{"$f":"VLOOKUP(G3224,Referencias!$C$4:$E$21,3,FALSE())","v":3},"3C","Competición",{"$f":"VLOOKUP(C3224,Referencias!$B$24:$C$40,2,FALSE())","v":"PA"}]
["3301130","Gil Cortés, Conchita","Asturiana","D",{"$f":"VLOOKUP(G3225,Referencias!$C$4:$D$21,2,FALSE())","v":"Sin Categoría"},{"$f":"VLOOKUP(G3225,Referencias!$C$4:$E$21,3,FALSE())","v":4},"SC","Competición",{"$f":"VLOOKUP(C3225,Referencias!$B$24:$C$40,2,FALSE())","v":"PA"}]
["3301131","Bernaldo de Quirós, Nieves","Asturiana","D",{"$f":"VLOOKUP(G3226,Referencias!$C$4:$D$21,2,FALSE())","v":"Primera Diamante"},{"$f":"VLOOKUP(G3226,Referencias!$C$4:$E$21,3,FALSE())","v":1},"1D","Competición",{"$f":"VLOOKUP(C3226,Referencias!$B$24:$C$40,2,FALSE())","v":"PA"}]
["3301132","Sigüenza Amichís, Maria Isabel","Asturiana","D",{"$f":"VLOOKUP(G3227,Referencias!$C$4:$D$21,2,FALSE())","v":"Primera Corazón"},{"$f":"VLOOKUP(G3227,Referencias!$C$4:$E$21,3,FALSE())","v":1},"1C","Competición",{"$f":"VLOOKUP(C3227,Referencias!$B$24:$C$40,2,FALSE())","v":"PA"}]
["3301135","Fernández Alvarez, Luisa María","Asturiana","D",{"$f":"VLOOKUP(G3228,Referencias!$C$4:$D$21,2,FALSE())","v":"Sin Categoría"},{"$f":"VLOOKUP(G3228,Referencias!$C$4:$E$21,3,FALSE())","v":4},"SC","Competición",{"$f":"VLOOKUP(C3228,Referencias!$B$24:$C$40,2,FALSE())","v":"PA"}]
["3301137","Adrián Pando, María Pilar","Asturiana","D",{"$f":"VLOOKUP(G3229,Referencias!$C$4:$D$21,2,FALSE())","v":"Tercera Corazón"},{"$f":"VLOOKUP(G3229,Referencias!$C$4:$E$21,3,FALSE())","v":3},"3C","Competición",{"$f":"VLOOKUP(C3229,Referencias!$B$24:$C$40,2,FALSE())","v":"PA"}]
["3301138","Álvarez-Requejo, Beatriz","Asturiana","D",{"$f":"VLOOKUP(G3230,Referencias!$C$4:$D$21,2,FALSE())","v":"Primera Picas"},{"$f":"VLOOKUP(G3230,Referencias!$C$4:$E$21,3,FALSE())","v":1},"1P","Competición",{"$f":"VLOOKUP(C3230,Referencias!$B$24:$C$40,2,FALSE())","v":"PA"}]
["3301139","González García, Isabel","Asturiana","D",{"$f":"VLOOKUP(G3231,Referencias!$C$4:$D$21,2,FALSE())","v":"Tercera Picas"},{"$f":"VLOOKUP(G3231,Referencias!$C$4:$E$21,3,FALSE())","v":3},"3P","Competición",{"$f":"VLOOKUP(C3231,Referencias!$B$24:$C$40,2,FALSE())","v":"PA"}]
["3301145","Argüelles Camino, Nieves","Asturiana","D",{"$f":"VLOOKUP(G3232,Referencias!$C$4:$D$21,2,FALSE())","v":"Tercera Picas"},{"$f":"VLOOKUP(G3232,Referencias!$C$4:$E$21,3,FALSE())","v":3},"3P","Competición",{"$f":"VLOOKUP(C3232,Referencias!$B$24:$C$40,2,FALSE())","v":"PA"}]
["3301146","Teleña, Carmen","Asturiana","D",{"$f":"VLOOKUP(G3233,Referencias!$C$4:$D$21,2,FALSE())","v":"Tercera Corazón"},{"$f":"VLOOKUP(G3233,Referencias!$C$4:$E$21,3,FALSE())","v":3},"3C","Competición",{"$f":"VLOOKUP(C3233,Referencias!$B$24:$C$40,2,FALSE())","v":"PA"}]
["3301154","Alvarez Cuervo, María del Carmen","Asturiana","D",{"$f":"VLOOKUP(G3234,Referencias!$C$4:$D$21,2,FALSE())","v":"Segunda Diamante"},{"$f":"VLOOKUP(G3234,Referencias!$C$4:$E$21,3,FALSE())","v":2},"2D","Competición",{"$f":"VLOOKUP(C3234,Referencias!$B$24:$C$40,2,FALSE())","v":"PA"}]
["3301156","Manjarín Rebolledo, José María","Asturiana","C",{"$f":"VLOOKUP(G3235,Referencias!$C$4:$D$21,2,FALSE())","v":"Sin Categoría"},{"$f":"VLOOKUP(G3235,Referencias!$C$4:$E$21,3,FALSE())","v":4},"SC","Competición",{"$f":"VLOOKUP(C3235,Referencias!$B$24:$C$40,2,FALSE())","v":"PA"}]
["3301157","García Valiente, Lilia","Asturiana","D",{"$f":"VLOOKUP(G3236,Referencias!$C$4:$D$21,2,FALSE())","v":"Tercera Picas"},{"$f":"VLOOKUP(G3236,Referencias!$C$4:$E$21,3,FALSE())","v":3},"3P","Competición",{"$f":"VLOOKUP(C3236,Referencias!$B$24:$C$40,2,FALSE())","v":"PA"}]
["3301163","Fermín Jiménez, Jesús","Asturiana","C",{"$f":"VLOOKUP(G3237,Referencias!$C$4:$D$21,2,FALSE())","v":"Primera Picas"},{"$f":"VLOOKUP(G3237,Referencias!$C$4:$E$21,3,FALSE())","v":1},"1P","Competición",{"$f":"VLOOKUP(C3237,Referencias!$B$24:$C$40,2,FALSE())","v":"PA"}]
["3301165","Martín Angulo, Jesús","Asturiana","C",{"$f":"VLOOKUP(G3238,Referencias!$C$4:$D$21,2,FALSE())","v":"Primera Picas"},{"$f":"VLOOKUP(G3238,Referencias!$C$4:$E$21,3,FALSE())","v":1},"1P","Competición",{"$f":"VLOOKUP(C3238,Referencias!$B$24:$C$40,2,FALSE())","v":"PA"}]
["3301168","López Glez.-Escalada, Eugenia","Asturiana","D",{"$f":"VLOOKUP(G3239,Referencias!$C$4:$D$21,2,FALSE())","v":"Segunda Diamante"},{"$f":"VLOOKUP(G3239,Referencias!$C$4:$E$21,3,FALSE())","v":2},"2D","Competición",{"$f":"VLOOKUP(C3239,Referencias!$B$24:$C$40,2,FALSE())","v":"PA"}]
["3301169","Fernández Alvarez, Aída","Asturiana","D",{"$f":"VLOOKUP(G3240,Referencias!$C$4:$D$21,2,FALSE())","v":"Tercera Corazón"},{"$f":"VLOOKUP(G3240,Referencias!$C$4:$E$21,3,FALSE())","v":3},"3C","Competición",{"$f":"VLOOKUP(C3240,Referencias!$B$24:$C$40,2,FALSE())","v":"PA"}]
["3301171","Montes Araluce, Maribel","Asturiana","D",{"$f":"VLOOKUP(G3241,Referencias!$C$4:$D$21,2,FALSE())","v":"Tercera Corazón"},{"$f":"VLOOKUP(G3241,Referencias!$C$4:$E$21,3,FALSE())","v":3},"3C","Competición",{"$f":"VLOOKUP(C3241,Referencias!$B$24:$C$40,2,FALSE())","v":"PA"}]
["3301172","Mtnez. De la Vega Leguina, María Antonia","Asturiana","D",{"$f":"VLOOKUP(G3242,Referencias!$C$4:$D$21,2,FALSE())","v":"Segunda Picas"},{"$f":"VLOOKUP(G3242,Referencias!$C$4:$E$21,3,FALSE())","v":2},"2P","Competición",{"$f":"VLOOKUP(C3242,Referencias!$B$24:$C$40,2,FALSE())","v":"PA"}]
["3301173","Sánchez Caro, Guadalupe","Asturiana","D",{"$f":"VLOOKUP(G3243,Referencias!$C$4:$D$21,2,FALSE())","v":"Segunda Corazón"},{"$f":"VLOOKUP(G3243,Referencias!$C$4:$E$21,3,FALSE())","v":2},"2C","Competición",{"$f":"VLOOKUP(C3243,Referencias!$B$24:$C$40,2,FALSE())","v":"PA"}]
["3301175","González-Babé Pita, Mercedes","Asturiana","D",{"$f":"VLOOKUP(G3244,Referencias!$C$4:$D$21,2,FALSE())","v":"Segunda Diamante"},{"$f":"VLOOKUP(G3244,Referencias!$C$4:$E$21,3,FALSE())","v":2},"2D","Competición",{"$f":"VLOOKUP(C3244,Referencias!$B$24:$C$40,2,FALSE())","v":"PA"}]
["3301176","Hardisson Rumeu, Carlos","Asturiana","C",{"$f":"VLOOKUP(G3245,Referencias!$C$4:$D$21,2,FALSE())","v":"Tercera Corazón"},{"$f":"VLOOKUP(G3245,Referencias!$C$4:$E$21,3,FALSE())","v":3},"3C","Competición",{"$f":"VLOOKUP(C3245,Referencias!$B$24:$C$40,2,FALSE())","v":"PA"}]
["3301178","Hernáez Ruiz de Palacios, Ana María","Asturiana","D",{"$f":"VLOOKUP(G3246,Referencias!$C$4:$D$21,2,FALSE())","v":"Tercera Corazón"},{"$f":"VLOOKUP(G3246,Referencias!$C$4:$E$21,3,FALSE())","v":3},"3C","Competición",{"$f":"VLOOKUP(C3246,Referencias!$B$24:$C$40,2,FALSE())","v":"PA"}]
["3301179","Ronderos González, José Leandro","Asturiana","C",{"$f":"VLOOKUP(G3247,Referencias!$C$4:$D$21,2,FALSE())","v":"Primera Picas"},{"$f":"VLOOKUP(G3247,Referencias!$C$4:$E$21,3,FALSE())","v":1},"1P","Competición",{"$f":"VLOOKUP(C3247,Referencias!$B$24:$C$40,2,FALSE())","v":"PA"}]
["3301180","Álvarez Fernández, María Eugenia","Asturiana","D",{"$f":"VLOOKUP(G3248,Referencias!$C$4:$D$21,2,FALSE())","v":"Segunda Diamante"},{"$f":"VLOOKUP(G3248,Referencias!$C$4:$E$21,3,FALSE())","v":2},"2D","Competición",{"$f":"VLOOKUP(C3248,Referencias!$B$24:$C$40,2,FALSE())","v":"PA"}]
["3301182","Herrero Menéndez, Margarita","Asturiana","D",{"$f":"VLOOKUP(G3249,Referencias!$C$4:$D$21,2,FALSE())","v":"Segunda Diamante"},{"$f":"VLOOKUP(G3249,Referencias!$C$4:$E$21,3,FALSE())","v":2},"2D","Competición",{"$f":"VLOOKUP(C3249,Referencias!$B$24:$C$40,2,FALSE())","v":"PA"}]
["3301183","Rivas Gándara, José Antonio","Asturiana","C",{"$f":"VLOOKUP(G3250,Referencias!$C$4:$D$21,2,FALSE())","v":"Sin Categoría"},{"$f":"VLOOKUP(G3250,Referencias!$C$4:$E$21,3,FALSE())","v":4},"SC","Competición",{"$f":"VLOOKUP(C3250,Referencias!$B$24:$C$40,2,FALSE())","v":"PA"}]
["3301185","Merediz Vidal, Dolores","Asturiana","D",{"$f":"VLOOKUP(G3251,Referencias!$C$4:$D$21,2,FALSE())","v":"Segunda Picas"},{"$f":"VLOOKUP(G3251,Referencias!$C$4:$E$21,3,FALSE())","v":2},"2P","Competición",{"$f":"VLOOKUP(C3251,Referencias!$B$24:$C$40,2,FALSE())","v":"PA"}]
["3301188","Escobar Quirós, María Oliva","Asturiana","D",{"$f":"VLOOKUP(G3252,Referencias!$C$4:$D$21,2,FALSE())","v":"Tercera Picas"},{"$f":"VLOOKUP(G3252,Referencias!$C$4:$E$21,3,FALSE())","v":3},"3P","Competición",{"$f":"VLOOKUP(C3252,Referencias!$B$24:$C$40,2,FALSE())","v":"PA"}]
["3301190","González Fernández, Carmen","Asturiana","D",{"$f":"VLOOKUP(G3253,Referencias!$C$4:$D$21,2,FALSE())","v":"Segunda Corazón"},{"$f":"VLOOKUP(G3253,Referencias!$C$4:$E$21,3,FALSE())","v":2},"2C","Competición",{"$f":"VLOOKUP(C3253,Referencias!$B$24:$C$40,2,FALSE())","v":"PA"}]
["3301191","del Truébano Quirce, María Noemí","Asturiana","D",{"$f":"VLOOKUP(G3254,Referencias!$C$4:$D$21,2,FALSE())","v":"Sin Categoría"},{"$f":"VLOOKUP(G3254,Referencias!$C$4:$E$21,3,FALSE())","v":4},"SC","Competición",{"$f":"VLOOKUP(C3254,Referencias!$B$24:$C$40,2,FALSE())","v":"PA"}]
["3301192","Llerandi González, Laura","Asturiana","D",{"$f":"VLOOKUP(G3255,Referencias!$C$4:$D$21,2,FALSE())","v":"Tercera Corazón"},{"$f":"VLOOKUP(G3255,Referencias!$C$4:$E$21,3,FALSE())","v":3},"3C","Competición",{"$f":"VLOOKUP(C3255,Referencias!$B$24:$C$40,2,FALSE())","v":"PA"}]
["3301193","Cadavieco Corripio, Montserrat","Asturiana","D",{"$f":"VLOOKUP(G3256,Referencias!$C$4:$D$21,2,FALSE())","v":"Segunda Diamante"},{"$f":"VLOOKUP(G3256,Referencias!$C$4:$E$21,3,FALSE())","v":2},"2D","Competición",{"$f":"VLOOKUP(C3256,Referencias!$B$24:$C$40,2,FALSE())","v":"PA"}]
["3301194","Tuya González, Conchita","Asturiana","D",{"$f":"VLOOKUP(G3257,Referencias!$C$4:$D$21,2,FALSE())","v":"Tercera Corazón"},{"$f":"VLOOKUP(G3257,Referencias!$C$4:$E$21,3,FALSE())","v":3},"3C","Competición",{"$f":"VLOOKUP(C3257,Referencias!$B$24:$C$40,2,FALSE())","v":"PA"}]
["3301199","Rodríguez Díaz, María Teresa","Asturiana","D",{"$f":"VLOOKUP(G3258,Referencias!$C$4:$D$21,2,FALSE())","v":"Sin Categoría"},{"$f":"VLOOKUP(G3258,Referencias!$C$4:$E$21,3,FALSE())","v":4},"SC","Competición",{"$f":"VLOOKUP(C3258,Referencias!$B$24:$C$40,2,FALSE())","v":"PA"}]
["3301200","Pérez García, Tarsila","Asturiana","D",{"$f":"VLOOKUP(G3259,Referencias!$C$4:$D$21,2,FALSE())","v":"Tercera Corazón"},{"$f":"VLOOKUP(G3259,Referencias!$C$4:$E$21,3,FALSE())","v":3},"3C","Competición",{"$f":"VLOOKUP(C3259,Referencias!$B$24:$C$40,2,FALSE())","v":"PA"}]
["3301201","Cid Alonso, María Rosario","Asturiana","D",{"$f":"VLOOKUP(G3260,Referencias!$C$4:$D$21,2,FALSE())","v":"Tercera Picas"},{"$f":"VLOOKUP(G3260,Referencias!$C$4:$E$21,3,FALSE())","v":3},"3P","Competición",{"$f":"VLOOKUP(C3260,Referencias!$B$24:$C$40,2,FALSE())","v":"PA"}]
["3301206","Gutiérrez Alonso, Mª Jesús","Asturiana","D",{"$f":"VLOOKUP(G3261,Referencias!$C$4:$D$21,2,FALSE())","v":"Sin Categoría"},{"$f":"VLOOKUP(G3261,Referencias!$C$4:$E$21,3,FALSE())","v":4},"SC","Competición",{"$f":"VLOOKUP(C3261,Referencias!$B$24:$C$40,2,FALSE())","v":"PA"}]
["3301210","Fernández Hoyo, Josefina","Asturiana","D",{"$f":"VLOOKUP(G3262,Referencias!$C$4:$D$21,2,FALSE())","v":"Tercera Diamante"},{"$f":"VLOOKUP(G3262,Referencias!$C$4:$E$21,3,FALSE())","v":3},"3D","Competición",{"$f":"VLOOKUP(C3262,Referencias!$B$24:$C$40,2,FALSE())","v":"PA"}]
["3301211","García Medina, Mª Dolores","Asturiana","D",{"$f":"VLOOKUP(G3263,Referencias!$C$4:$D$21,2,FALSE())","v":"Segunda Corazón"},{"$f":"VLOOKUP(G3263,Referencias!$C$4:$E$21,3,FALSE())","v":2},"2C","Competición",{"$f":"VLOOKUP(C3263,Referencias!$B$24:$C$40,2,FALSE())","v":"PA"}]
["3301212","Del Castro Serrano, Irene","Asturiana","D",{"$f":"VLOOKUP(G3264,Referencias!$C$4:$D$21,2,FALSE())","v":"Segunda Corazón"},{"$f":"VLOOKUP(G3264,Referencias!$C$4:$E$21,3,FALSE())","v":2},"2C","Competición",{"$f":"VLOOKUP(C3264,Referencias!$B$24:$C$40,2,FALSE())","v":"PA"}]
["3301213","Díaz Pulido, Mª del Rosario","Asturiana","D",{"$f":"VLOOKUP(G3265,Referencias!$C$4:$D$21,2,FALSE())","v":"Tercera Diamante"},{"$f":"VLOOKUP(G3265,Referencias!$C$4:$E$21,3,FALSE())","v":3},"3D","Competición",{"$f":"VLOOKUP(C3265,Referencias!$B$24:$C$40,2,FALSE())","v":"PA"}]
["3301214","Arellano Conejos, María Teresa","Asturiana","D",{"$f":"VLOOKUP(G3266,Referencias!$C$4:$D$21,2,FALSE())","v":"Tercera Picas"},{"$f":"VLOOKUP(G3266,Referencias!$C$4:$E$21,3,FALSE())","v":3},"3P","Competición",{"$f":"VLOOKUP(C3266,Referencias!$B$24:$C$40,2,FALSE())","v":"PA"}]
["3301215","Valderrábano Nuñez, María Teresa","Asturiana","D",{"$f":"VLOOKUP(G3267,Referencias!$C$4:$D$21,2,FALSE())","v":"Tercera Diamante"},{"$f":"VLOOKUP(G3267,Referencias!$C$4:$E$21,3,FALSE())","v":3},"3D","Competición",{"$f":"VLOOKUP(C3267,Referencias!$B$24:$C$40,2,FALSE())","v":"PA"}]
["3301216","Gavela Martínez, Mónica","Asturiana","D",{"$f":"VLOOKUP(G3268,Referencias!$C$4:$D$21,2,FALSE())","v":"Primera Picas"},{"$f":"VLOOKUP(G3268,Referencias!$C$4:$E$21,3,FALSE())","v":1},"1P","Competición",{"$f":"VLOOKUP(C3268,Referencias!$B$24:$C$40,2,FALSE())","v":"PA"}]
["3301217","González Valderrábano, Jaime","Asturiana","C",{"$f":"VLOOKUP(G3269,Referencias!$C$4:$D$21,2,FALSE())","v":"Primera Picas"},{"$f":"VLOOKUP(G3269,Referencias!$C$4:$E$21,3,FALSE())","v":1},"1P","Competición",{"$f":"VLOOKUP(C3269,Referencias!$B$24:$C$40,2,FALSE())","v":"PA"}]
["3301218","Muñiz Girón, Carlos","Asturiana","C",{"$f":"VLOOKUP(G3270,Referencias!$C$4:$D$21,2,FALSE())","v":"Tercera Picas"},{"$f":"VLOOKUP(G3270,Referencias!$C$4:$E$21,3,FALSE())","v":3},"3P","Competición",{"$f":"VLOOKUP(C3270,Referencias!$B$24:$C$40,2,FALSE())","v":"PA"}]
["3301220","González González, María Esther","Asturiana","D",{"$f":"VLOOKUP(G3271,Referencias!$C$4:$D$21,2,FALSE())","v":"Segunda Corazón"},{"$f":"VLOOKUP(G3271,Referencias!$C$4:$E$21,3,FALSE())","v":2},"2C","Competición",{"$f":"VLOOKUP(C3271,Referencias!$B$24:$C$40,2,FALSE())","v":"PA"}]
["3301221","Gómez de la Torre Carderera, Socorro","Asturiana","D",{"$f":"VLOOKUP(G3272,Referencias!$C$4:$D$21,2,FALSE())","v":"Tercera Diamante"},{"$f":"VLOOKUP(G3272,Referencias!$C$4:$E$21,3,FALSE())","v":3},"3D","Competición",{"$f":"VLOOKUP(C3272,Referencias!$B$24:$C$40,2,FALSE())","v":"PA"}]
["3301225","García Celadilla, Raquel","Asturiana","D",{"$f":"VLOOKUP(G3273,Referencias!$C$4:$D$21,2,FALSE())","v":"Tercera Corazón"},{"$f":"VLOOKUP(G3273,Referencias!$C$4:$E$21,3,FALSE())","v":3},"3C","Competición",{"$f":"VLOOKUP(C3273,Referencias!$B$24:$C$40,2,FALSE())","v":"PA"}]
["3301226","Segura Junquera, Angeles","Asturiana","D",{"$f":"VLOOKUP(G3274,Referencias!$C$4:$D$21,2,FALSE())","v":"Tercera Diamante"},{"$f":"VLOOKUP(G3274,Referencias!$C$4:$E$21,3,FALSE())","v":3},"3D","Competición",{"$f":"VLOOKUP(C3274,Referencias!$B$24:$C$40,2,FALSE())","v":"PA"}]
["3301229","García-Morán, Covadonga","Asturiana","D",{"$f":"VLOOKUP(G3275,Referencias!$C$4:$D$21,2,FALSE())","v":"Tercera Diamante"},{"$f":"VLOOKUP(G3275,Referencias!$C$4:$E$21,3,FALSE())","v":3},"3D","Competición",{"$f":"VLOOKUP(C3275,Referencias!$B$24:$C$40,2,FALSE())","v":"PA"}]
["3301230","Alvarez-Uría, Gerardo","Asturiana","C",{"$f":"VLOOKUP(G3276,Referencias!$C$4:$D$21,2,FALSE())","v":"Primera Diamante"},{"$f":"VLOOKUP(G3276,Referencias!$C$4:$E$21,3,FALSE())","v":1},"1D","Competición",{"$f":"VLOOKUP(C3276,Referencias!$B$24:$C$40,2,FALSE())","v":"PA"}]
["3301232","Estrada Alvarez, Carmen","Asturiana","D",{"$f":"VLOOKUP(G3277,Referencias!$C$4:$D$21,2,FALSE())","v":"Segunda Corazón"},{"$f":"VLOOKUP(G3277,Referencias!$C$4:$E$21,3,FALSE())","v":2},"2C","Competición",{"$f":"VLOOKUP(C3277,Referencias!$B$24:$C$40,2,FALSE())","v":"PA"}]
["3301233","Menéndez Callejo, María del Rosario","Asturiana","D",{"$f":"VLOOKUP(G3278,Referencias!$C$4:$D$21,2,FALSE())","v":"Tercera Corazón"},{"$f":"VLOOKUP(G3278,Referencias!$C$4:$E$21,3,FALSE())","v":3},"3C","Competición",{"$f":"VLOOKUP(C3278,Referencias!$B$24:$C$40,2,FALSE())","v":"PA"}]
["3301234","Rascón Peláez, Magdalena","Asturiana","D",{"$f":"VLOOKUP(G3279,Referencias!$C$4:$D$21,2,FALSE())","v":"Sin Categoría"},{"$f":"VLOOKUP(G3279,Referencias!$C$4:$E$21,3,FALSE())","v":4},"SC","Competición",{"$f":"VLOOKUP(C3279,Referencias!$B$24:$C$40,2,FALSE())","v":"PA"}]
["3301237","López Pende, Aurora","Asturiana","D",{"$f":"VLOOKUP(G3280,Referencias!$C$4:$D$21,2,FALSE())","v":"Tercera Diamante"},{"$f":"VLOOKUP(G3280,Referencias!$C$4:$E$21,3,FALSE())","v":3},"3D","Competición",{"$f":"VLOOKUP(C3280,Referencias!$B$24:$C$40,2,FALSE())","v":"PA"}]
["3301239","Argüelles González, Manuela","Asturiana","D",{"$f":"VLOOKUP(G3281,Referencias!$C$4:$D$21,2,FALSE())","v":"Sin Categoría"},{"$f":"VLOOKUP(G3281,Referencias!$C$4:$E$21,3,FALSE())","v":4},"SC","Competición",{"$f":"VLOOKUP(C3281,Referencias!$B$24:$C$40,2,FALSE())","v":"PA"}]
["3301240","Alvarez Suárez, Herminia","Asturiana","D",{"$f":"VLOOKUP(G3282,Referencias!$C$4:$D$21,2,FALSE())","v":"Sin Categoría"},{"$f":"VLOOKUP(G3282,Referencias!$C$4:$E$21,3,FALSE())","v":4},"SC","Competición",{"$f":"VLOOKUP(C3282,Referencias!$B$24:$C$40,2,FALSE())","v":"PA"}]
["3301243","Pérez Carbajal, Ana Julia","Asturiana","D",{"$f":"VLOOKUP(G3283,Referencias!$C$4:$D$21,2,FALSE())","v":"Primera Picas"},{"$f":"VLOOKUP(G3283,Referencias!$C$4:$E$21,3,FALSE())","v":1},"1P","Competición",{"$f":"VLOOKUP(C3283,Referencias!$B$24:$C$40,2,FALSE())","v":"PA"}]
["3301245","Fernández-Peña Rodríguez, María Amelia","Asturiana","D",{"$f":"VLOOKUP(G3284,Referencias!$C$4:$D$21,2,FALSE())","v":"Tercera Corazón"},{"$f":"VLOOKUP(G3284,Referencias!$C$4:$E$21,3,FALSE())","v":3},"3C","Competición",{"$f":"VLOOKUP(C3284,Referencias!$B$24:$C$40,2,FALSE())","v":"PA"}]
["3301247","Zabaleta Aristegui, Pepa","Navarra","D",{"$f":"VLOOKUP(G3285,Referencias!$C$4:$D$21,2,FALSE())","v":"Sin Categoría"},{"$f":"VLOOKUP(G3285,Referencias!$C$4:$E$21,3,FALSE())","v":4},"SC","Competición",{"$f":"VLOOKUP(C3285,Referencias!$B$24:$C$40,2,FALSE())","v":"N"}]
["3301248","Ballesteros Navas, Julia","Asturiana","D",{"$f":"VLOOKUP(G3286,Referencias!$C$4:$D$21,2,FALSE())","v":"Tercera Corazón"},{"$f":"VLOOKUP(G3286,Referencias!$C$4:$E$21,3,FALSE())","v":3},"3C","Competición",{"$f":"VLOOKUP(C3286,Referencias!$B$24:$C$40,2,FALSE())","v":"PA"}]
["3301249","Basterrechea Cabello, Antonio","Asturiana","C",{"$f":"VLOOKUP(G3287,Referencias!$C$4:$D$21,2,FALSE())","v":"Tercera Corazón"},{"$f":"VLOOKUP(G3287,Referencias!$C$4:$E$21,3,FALSE())","v":3},"3C","Competición",{"$f":"VLOOKUP(C3287,Referencias!$B$24:$C$40,2,FALSE())","v":"PA"}]
["3301251","Maillo Suarez, Ana","Asturiana","D",{"$f":"VLOOKUP(G3288,Referencias!$C$4:$D$21,2,FALSE())","v":"Segunda Corazón"},{"$f":"VLOOKUP(G3288,Referencias!$C$4:$E$21,3,FALSE())","v":2},"2C","Competición",{"$f":"VLOOKUP(C3288,Referencias!$B$24:$C$40,2,FALSE())","v":"PA"}]
["3301253","Martín de Diego, Lourdes","Asturiana","D",{"$f":"VLOOKUP(G3289,Referencias!$C$4:$D$21,2,FALSE())","v":"Tercera Diamante"},{"$f":"VLOOKUP(G3289,Referencias!$C$4:$E$21,3,FALSE())","v":3},"3D","Competición",{"$f":"VLOOKUP(C3289,Referencias!$B$24:$C$40,2,FALSE())","v":"PA"}]
["3301255","Marturet Azcona, María Jesús","Asturiana","D",{"$f":"VLOOKUP(G3290,Referencias!$C$4:$D$21,2,FALSE())","v":"Tercera Picas"},{"$f":"VLOOKUP(G3290,Referencias!$C$4:$E$21,3,FALSE())","v":3},"3P","Competición",{"$f":"VLOOKUP(C3290,Referencias!$B$24:$C$40,2,FALSE())","v":"PA"}]
["3301256","Jordán de Urries Senante, Inmaculada","Asturiana","D",{"$f":"VLOOKUP(G3291,Referencias!$C$4:$D$21,2,FALSE())","v":"Tercera Diamante"},{"$f":"VLOOKUP(G3291,Referencias!$C$4:$E$21,3,FALSE())","v":3},"3D","Competición",{"$f":"VLOOKUP(C3291,Referencias!$B$24:$C$40,2,FALSE())","v":"PA"}]
["3301257","Montero Luna, María del Carmen","Asturiana","D",{"$f":"VLOOKUP(G3292,Referencias!$C$4:$D$21,2,FALSE())","v":"Tercera Corazón"},{"$f":"VLOOKUP(G3292,Referencias!$C$4:$E$21,3,FALSE())","v":3},"3C","Competición",{"$f":"VLOOKUP(C3292,Referencias!$B$24:$C$40,2,FALSE())","v":"PA"}]
["3301258","Ceñal Berjano, Teresa","Asturiana","D",{"$f":"VLOOKUP(G3293,Referencias!$C$4:$D$21,2,FALSE())","v":"Tercera Corazón"},{"$f":"VLOOKUP(G3293,Referencias!$C$4:$E$21,3,FALSE())","v":3},"3C","Competición",{"$f":"VLOOKUP(C3293,Referencias!$B$24:$C$40,2,FALSE())","v":"PA"}]
["3301260","Bada Bada, Covadonga","Asturiana","D",{"$f":"VLOOKUP(G3294,Referencias!$C$4:$D$21,2,FALSE())","v":"Tercera Corazón"},{"$f":"VLOOKUP(G3294,Referencias!$C$4:$E$21,3,FALSE())","v":3},"3C","Competición",{"$f":"VLOOKUP(C3294,Referencias!$B$24:$C$40,2,FALSE())","v":"PA"}]
["3301261","García Orvíz, Ana María","Asturiana","D",{"$f":"VLOOKUP(G3295,Referencias!$C$4:$D$21,2,FALSE())","v":"Primera Picas"},{"$f":"VLOOKUP(G3295,Referencias!$C$4:$E$21,3,FALSE())","v":1},"1P","Competición",{"$f":"VLOOKUP(C3295,Referencias!$B$24:$C$40,2,FALSE())","v":"PA"}]
["3301263","Moré Rodríguez, Mercedes","Asturiana","D",{"$f":"VLOOKUP(G3296,Referencias!$C$4:$D$21,2,FALSE())","v":"Tercera Picas"},{"$f":"VLOOKUP(G3296,Referencias!$C$4:$E$21,3,FALSE())","v":3},"3P","Competición",{"$f":"VLOOKUP(C3296,Referencias!$B$24:$C$40,2,FALSE())","v":"PA"}]
["3301264","Labiano Nuin, María Elena","Asturiana","D",{"$f":"VLOOKUP(G3297,Referencias!$C$4:$D$21,2,FALSE())","v":"Tercera Corazón"},{"$f":"VLOOKUP(G3297,Referencias!$C$4:$E$21,3,FALSE())","v":3},"3C","Competición",{"$f":"VLOOKUP(C3297,Referencias!$B$24:$C$40,2,FALSE())","v":"PA"}]
["3301269","Tartiere Pidal, Carlota","Asturiana","D",{"$f":"VLOOKUP(G3298,Referencias!$C$4:$D$21,2,FALSE())","v":"Sin Categoría"},{"$f":"VLOOKUP(G3298,Referencias!$C$4:$E$21,3,FALSE())","v":4},"SC","Competición",{"$f":"VLOOKUP(C3298,Referencias!$B$24:$C$40,2,FALSE())","v":"PA"}]
["3301271","Llenín Iglesias, María del Carmen","Asturiana","D",{"$f":"VLOOKUP(G3299,Referencias!$C$4:$D$21,2,FALSE())","v":"Tercera Diamante"},{"$f":"VLOOKUP(G3299,Referencias!$C$4:$E$21,3,FALSE())","v":3},"3D","Competición",{"$f":"VLOOKUP(C3299,Referencias!$B$24:$C$40,2,FALSE())","v":"PA"}]
["3301272","Riera Palacio, María Esther","Asturiana","D",{"$f":"VLOOKUP(G3300,Referencias!$C$4:$D$21,2,FALSE())","v":"Sin Categoría"},{"$f":"VLOOKUP(G3300,Referencias!$C$4:$E$21,3,FALSE())","v":4},"SC","Competición",{"$f":"VLOOKUP(C3300,Referencias!$B$24:$C$40,2,FALSE())","v":"PA"}]
["3301275","Bárcena Suárez, Carmen","Asturiana","D",{"$f":"VLOOKUP(G3301,Referencias!$C$4:$D$21,2,FALSE())","v":"Segunda Corazón"},{"$f":"VLOOKUP(G3301,Referencias!$C$4:$E$21,3,FALSE())","v":2},"2C","Competición",{"$f":"VLOOKUP(C3301,Referencias!$B$24:$C$40,2,FALSE())","v":"PA"}]
["3301276","Abad González, Angeles","Asturiana","D",{"$f":"VLOOKUP(G3302,Referencias!$C$4:$D$21,2,FALSE())","v":"Sin Categoría"},{"$f":"VLOOKUP(G3302,Referencias!$C$4:$E$21,3,FALSE())","v":4},"SC","Competición",{"$f":"VLOOKUP(C3302,Referencias!$B$24:$C$40,2,FALSE())","v":"PA"}]
["3301277","García Vega, Mercedes","Asturiana","D",{"$f":"VLOOKUP(G3303,Referencias!$C$4:$D$21,2,FALSE())","v":"Primera Picas"},{"$f":"VLOOKUP(G3303,Referencias!$C$4:$E$21,3,FALSE())","v":1},"1P","Competición",{"$f":"VLOOKUP(C3303,Referencias!$B$24:$C$40,2,FALSE())","v":"PA"}]
["3301281","Felgueroso León, María Antonia","Asturiana","D",{"$f":"VLOOKUP(G3304,Referencias!$C$4:$D$21,2,FALSE())","v":"Sin Categoría"},{"$f":"VLOOKUP(G3304,Referencias!$C$4:$E$21,3,FALSE())","v":4},"SC","Competición",{"$f":"VLOOKUP(C3304,Referencias!$B$24:$C$40,2,FALSE())","v":"PA"}]
["3301282","Arce Solares, Amparo","Asturiana","D",{"$f":"VLOOKUP(G3305,Referencias!$C$4:$D$21,2,FALSE())","v":"Tercera Diamante"},{"$f":"VLOOKUP(G3305,Referencias!$C$4:$E$21,3,FALSE())","v":3},"3D","Competición",{"$f":"VLOOKUP(C3305,Referencias!$B$24:$C$40,2,FALSE())","v":"PA"}]
["3301283","García Adaro, María Teresa","Asturiana","D",{"$f":"VLOOKUP(G3306,Referencias!$C$4:$D$21,2,FALSE())","v":"Tercera Diamante"},{"$f":"VLOOKUP(G3306,Referencias!$C$4:$E$21,3,FALSE())","v":3},"3D","Competición",{"$f":"VLOOKUP(C3306,Referencias!$B$24:$C$40,2,FALSE())","v":"PA"}]
["3301286","Campa García, Margarita","Asturiana","D",{"$f":"VLOOKUP(G3307,Referencias!$C$4:$D$21,2,FALSE())","v":"Tercera Diamante"},{"$f":"VLOOKUP(G3307,Referencias!$C$4:$E$21,3,FALSE())","v":3},"3D","Competición",{"$f":"VLOOKUP(C3307,Referencias!$B$24:$C$40,2,FALSE())","v":"PA"}]
["3301289","Medal García, Ana","Asturiana","D",{"$f":"VLOOKUP(G3308,Referencias!$C$4:$D$21,2,FALSE())","v":"Tercera Corazón"},{"$f":"VLOOKUP(G3308,Referencias!$C$4:$E$21,3,FALSE())","v":3},"3C","Competición",{"$f":"VLOOKUP(C3308,Referencias!$B$24:$C$40,2,FALSE())","v":"PA"}]
["3301290","Menéndez Muñiz, María Luisa","Asturiana","D",{"$f":"VLOOKUP(G3309,Referencias!$C$4:$D$21,2,FALSE())","v":"Primera Picas"},{"$f":"VLOOKUP(G3309,Referencias!$C$4:$E$21,3,FALSE())","v":1},"1P","Competición",{"$f":"VLOOKUP(C3309,Referencias!$B$24:$C$40,2,FALSE())","v":"PA"}]
["3301291","Cortina Frade, José Carlos","Asturiana","C",{"$f":"VLOOKUP(G3310,Referencias!$C$4:$D$21,2,FALSE())","v":"Sin Categoría"},{"$f":"VLOOKUP(G3310,Referencias!$C$4:$E$21,3,FALSE())","v":4},"SC","Competición",{"$f":"VLOOKUP(C3310,Referencias!$B$24:$C$40,2,FALSE())","v":"PA"}]
["3301292","Cimadevilla Artime, Fernanda","Asturiana","D",{"$f":"VLOOKUP(G3311,Referencias!$C$4:$D$21,2,FALSE())","v":"Tercera Diamante"},{"$f":"VLOOKUP(G3311,Referencias!$C$4:$E$21,3,FALSE())","v":3},"3D","Competición",{"$f":"VLOOKUP(C3311,Referencias!$B$24:$C$40,2,FALSE())","v":"PA"}]
["3301295","Fernández Granda, Pilar","Asturiana","D",{"$f":"VLOOKUP(G3312,Referencias!$C$4:$D$21,2,FALSE())","v":"Tercera Picas"},{"$f":"VLOOKUP(G3312,Referencias!$C$4:$E$21,3,FALSE())","v":3},"3P","Competición",{"$f":"VLOOKUP(C3312,Referencias!$B$24:$C$40,2,FALSE())","v":"PA"}]
["3301296","Escandón Díaz, María Teresa","Asturiana","D",{"$f":"VLOOKUP(G3313,Referencias!$C$4:$D$21,2,FALSE())","v":"Tercera Diamante"},{"$f":"VLOOKUP(G3313,Referencias!$C$4:$E$21,3,FALSE())","v":3},"3D","Competición",{"$f":"VLOOKUP(C3313,Referencias!$B$24:$C$40,2,FALSE())","v":"PA"}]
["3301299","Chacón Pérez, Carmen","Asturiana","D",{"$f":"VLOOKUP(G3314,Referencias!$C$4:$D$21,2,FALSE())","v":"Sin Categoría"},{"$f":"VLOOKUP(G3314,Referencias!$C$4:$E$21,3,FALSE())","v":4},"SC","Competición",{"$f":"VLOOKUP(C3314,Referencias!$B$24:$C$40,2,FALSE())","v":"PA"}]
["3301300","Perez-Campoamor Navarro, Reyes","Asturiana","D",{"$f":"VLOOKUP(G3315,Referencias!$C$4:$D$21,2,FALSE())","v":"Tercera Picas"},{"$f":"VLOOKUP(G3315,Referencias!$C$4:$E$21,3,FALSE())","v":3},"3P","Competición",{"$f":"VLOOKUP(C3315,Referencias!$B$24:$C$40,2,FALSE())","v":"PA"}]
["3301301","De Manuel Galán, María Antonia","Asturiana","D",{"$f":"VLOOKUP(G3316,Referencias!$C$4:$D$21,2,FALSE())","v":"Sin Categoría"},{"$f":"VLOOKUP(G3316,Referencias!$C$4:$E$21,3,FALSE())","v":4},"SC","Competición",{"$f":"VLOOKUP(C3316,Referencias!$B$24:$C$40,2,FALSE())","v":"PA"}]
["3301302","Pérez Tárrega, Paz","Asturiana","D",{"$f":"VLOOKUP(G3317,Referencias!$C$4:$D$21,2,FALSE())","v":"Tercera Diamante"},{"$f":"VLOOKUP(G3317,Referencias!$C$4:$E$21,3,FALSE())","v":3},"3D","Competición",{"$f":"VLOOKUP(C3317,Referencias!$B$24:$C$40,2,FALSE())","v":"PA"}]
["3301305","López Alvarez, Montserrat","Asturiana","D",{"$f":"VLOOKUP(G3318,Referencias!$C$4:$D$21,2,FALSE())","v":"Sin Categoría"},{"$f":"VLOOKUP(G3318,Referencias!$C$4:$E$21,3,FALSE())","v":4},"SC","Competición",{"$f":"VLOOKUP(C3318,Referencias!$B$24:$C$40,2,FALSE())","v":"PA"}]
["3301309","Miyares González-Coto, María Antonia","Asturiana","D",{"$f":"VLOOKUP(G3319,Referencias!$C$4:$D$21,2,FALSE())","v":"Segunda Corazón"},{"$f":"VLOOKUP(G3319,Referencias!$C$4:$E$21,3,FALSE())","v":2},"2C","Competición",{"$f":"VLOOKUP(C3319,Referencias!$B$24:$C$40,2,FALSE())","v":"PA"}]
["3301310","Martinez Sanchez, Miguel Angel","Asturiana","C",{"$f":"VLOOKUP(G3320,Referencias!$C$4:$D$21,2,FALSE())","v":"Segunda Diamante"},{"$f":"VLOOKUP(G3320,Referencias!$C$4:$E$21,3,FALSE())","v":2},"2D","Competición",{"$f":"VLOOKUP(C3320,Referencias!$B$24:$C$40,2,FALSE())","v":"PA"}]
["3301322","Felgueroso Fernández, María Eladia","Asturiana","D",{"$f":"VLOOKUP(G3321,Referencias!$C$4:$D$21,2,FALSE())","v":"Tercera Diamante"},{"$f":"VLOOKUP(G3321,Referencias!$C$4:$E$21,3,FALSE())","v":3},"3D","Competición",{"$f":"VLOOKUP(C3321,Referencias!$B$24:$C$40,2,FALSE())","v":"PA"}]
["3301324","Peña Guiney, Leonor","Asturiana","D",{"$f":"VLOOKUP(G3322,Referencias!$C$4:$D$21,2,FALSE())","v":"Tercera Diamante"},{"$f":"VLOOKUP(G3322,Referencias!$C$4:$E$21,3,FALSE())","v":3},"3D","Competición",{"$f":"VLOOKUP(C3322,Referencias!$B$24:$C$40,2,FALSE())","v":"PA"}]
["3301325","Morenés Falcó, Livia","Asturiana","D",{"$f":"VLOOKUP(G3323,Referencias!$C$4:$D$21,2,FALSE())","v":"Sin Categoría"},{"$f":"VLOOKUP(G3323,Referencias!$C$4:$E$21,3,FALSE())","v":4},"SC","Competición",{"$f":"VLOOKUP(C3323,Referencias!$B$24:$C$40,2,FALSE())","v":"PA"}]
["3301326","García Álvarez, María del Carmen","Asturiana","D",{"$f":"VLOOKUP(G3324,Referencias!$C$4:$D$21,2,FALSE())","v":"Tercera Diamante"},{"$f":"VLOOKUP(G3324,Referencias!$C$4:$E$21,3,FALSE())","v":3},"3D","Competición",{"$f":"VLOOKUP(C3324,Referencias!$B$24:$C$40,2,FALSE())","v":"PA"}]
["3301328","Rionda Fernández, Ana María","Asturiana","D",{"$f":"VLOOKUP(G3325,Referencias!$C$4:$D$21,2,FALSE())","v":"Tercera Picas"},{"$f":"VLOOKUP(G3325,Referencias!$C$4:$E$21,3,FALSE())","v":3},"3P","Competición",{"$f":"VLOOKUP(C3325,Referencias!$B$24:$C$40,2,FALSE())","v":"PA"}]
["3301331","García Muñiz, Luisa María","Asturiana","D",{"$f":"VLOOKUP(G3326,Referencias!$C$4:$D$21,2,FALSE())","v":"Segunda Diamante"},{"$f":"VLOOKUP(G3326,Referencias!$C$4:$E$21,3,FALSE())","v":2},"2D","Competición",{"$f":"VLOOKUP(C3326,Referencias!$B$24:$C$40,2,FALSE())","v":"PA"}]
["3301338","Aranguren Ispizua, Mónica","Asturiana","D",{"$f":"VLOOKUP(G3327,Referencias!$C$4:$D$21,2,FALSE())","v":"Sin Categoría"},{"$f":"VLOOKUP(G3327,Referencias!$C$4:$E$21,3,FALSE())","v":4},"SC","Competición",{"$f":"VLOOKUP(C3327,Referencias!$B$24:$C$40,2,FALSE())","v":"PA"}]
["3301339","García García, Amparo","Asturiana","D",{"$f":"VLOOKUP(G3328,Referencias!$C$4:$D$21,2,FALSE())","v":"Tercera Diamante"},{"$f":"VLOOKUP(G3328,Referencias!$C$4:$E$21,3,FALSE())","v":3},"3D","Competición",{"$f":"VLOOKUP(C3328,Referencias!$B$24:$C$40,2,FALSE())","v":"PA"}]
["3301344","Sánz Llaneza, María Trinidad","Asturiana","D",{"$f":"VLOOKUP(G3329,Referencias!$C$4:$D$21,2,FALSE())","v":"Sin Categoría"},{"$f":"VLOOKUP(G3329,Referencias!$C$4:$E$21,3,FALSE())","v":4},"SC","Competición",{"$f":"VLOOKUP(C3329,Referencias!$B$24:$C$40,2,FALSE())","v":"PA"}]
["3301348","Olay Villasanjurjo, María del Carmen","Asturiana","D",{"$f":"VLOOKUP(G3330,Referencias!$C$4:$D$21,2,FALSE())","v":"Segunda Diamante"},{"$f":"VLOOKUP(G3330,Referencias!$C$4:$E$21,3,FALSE())","v":2},"2D","Competición",{"$f":"VLOOKUP(C3330,Referencias!$B$24:$C$40,2,FALSE())","v":"PA"}]
["3301349","Sánchez - Ocaña Olay, Susana","Asturiana","D",{"$f":"VLOOKUP(G3331,Referencias!$C$4:$D$21,2,FALSE())","v":"Tercera Picas"},{"$f":"VLOOKUP(G3331,Referencias!$C$4:$E$21,3,FALSE())","v":3},"3P","Competición",{"$f":"VLOOKUP(C3331,Referencias!$B$24:$C$40,2,FALSE())","v":"PA"}]
["3301350","Del Palacio Blanco, Carolina","Asturiana","D",{"$f":"VLOOKUP(G3332,Referencias!$C$4:$D$21,2,FALSE())","v":"Tercera Picas"},{"$f":"VLOOKUP(G3332,Referencias!$C$4:$E$21,3,FALSE())","v":3},"3P","Competición",{"$f":"VLOOKUP(C3332,Referencias!$B$24:$C$40,2,FALSE())","v":"PA"}]
["3301357","Calvo Aladro, Rosa","Asturiana","D",{"$f":"VLOOKUP(G3333,Referencias!$C$4:$D$21,2,FALSE())","v":"Tercera Diamante"},{"$f":"VLOOKUP(G3333,Referencias!$C$4:$E$21,3,FALSE())","v":3},"3D","Competición",{"$f":"VLOOKUP(C3333,Referencias!$B$24:$C$40,2,FALSE())","v":"PA"}]
["3301358","Gordon, Mick","Asturiana","C",{"$f":"VLOOKUP(G3334,Referencias!$C$4:$D$21,2,FALSE())","v":"Sin Categoría"},{"$f":"VLOOKUP(G3334,Referencias!$C$4:$E$21,3,FALSE())","v":4},"SC","Competición",{"$f":"VLOOKUP(C3334,Referencias!$B$24:$C$40,2,FALSE())","v":"PA"}]
["3301359","Galbis Dolz de Espejo, María","Asturiana","D",{"$f":"VLOOKUP(G3335,Referencias!$C$4:$D$21,2,FALSE())","v":"Sin Categoría"},{"$f":"VLOOKUP(G3335,Referencias!$C$4:$E$21,3,FALSE())","v":4},"SC","Competición",{"$f":"VLOOKUP(C3335,Referencias!$B$24:$C$40,2,FALSE())","v":"PA"}]
["3301360","Díaz Solano, Mª Dolores","Asturiana","D",{"$f":"VLOOKUP(G3336,Referencias!$C$4:$D$21,2,FALSE())","v":"Primera Corazón"},{"$f":"VLOOKUP(G3336,Referencias!$C$4:$E$21,3,FALSE())","v":1},"1C","Competición",{"$f":"VLOOKUP(C3336,Referencias!$B$24:$C$40,2,FALSE())","v":"PA"}]
["3301361","Díaz Solano, Ana","Asturiana","D",{"$f":"VLOOKUP(G3337,Referencias!$C$4:$D$21,2,FALSE())","v":"Segunda Corazón"},{"$f":"VLOOKUP(G3337,Referencias!$C$4:$E$21,3,FALSE())","v":2},"2C","Competición",{"$f":"VLOOKUP(C3337,Referencias!$B$24:$C$40,2,FALSE())","v":"PA"}]
["3301362","Fernández Bustillo, María","Asturiana","D",{"$f":"VLOOKUP(G3338,Referencias!$C$4:$D$21,2,FALSE())","v":"Segunda Diamante"},{"$f":"VLOOKUP(G3338,Referencias!$C$4:$E$21,3,FALSE())","v":2},"2D","Competición",{"$f":"VLOOKUP(C3338,Referencias!$B$24:$C$40,2,FALSE())","v":"PA"}]
["3301363","Astudillo González, Armando","Asturiana","C",{"$f":"VLOOKUP(G3339,Referencias!$C$4:$D$21,2,FALSE())","v":"Segunda Diamante"},{"$f":"VLOOKUP(G3339,Referencias!$C$4:$E$21,3,FALSE())","v":2},"2D","Competición",{"$f":"VLOOKUP(C3339,Referencias!$B$24:$C$40,2,FALSE())","v":"PA"}]
["3301364","Beheshti Tonos, Soraya","Asturiana","D",{"$f":"VLOOKUP(G3340,Referencias!$C$4:$D$21,2,FALSE())","v":"Tercera Diamante"},{"$f":"VLOOKUP(G3340,Referencias!$C$4:$E$21,3,FALSE())","v":3},"3D","Competición",{"$f":"VLOOKUP(C3340,Referencias!$B$24:$C$40,2,FALSE())","v":"PA"}]
["3301365","Tonos Galik, Robert-John","Asturiana","C",{"$f":"VLOOKUP(G3341,Referencias!$C$4:$D$21,2,FALSE())","v":"Tercera Diamante"},{"$f":"VLOOKUP(G3341,Referencias!$C$4:$E$21,3,FALSE())","v":3},"3D","Competición",{"$f":"VLOOKUP(C3341,Referencias!$B$24:$C$40,2,FALSE())","v":"PA"}]
["3301366","Martín Sánchez, Matilde Isabel","Asturiana","D",{"$f":"VLOOKUP(G3342,Referencias!$C$4:$D$21,2,FALSE())","v":"Tercera Picas"},{"$f":"VLOOKUP(G3342,Referencias!$C$4:$E$21,3,FALSE())","v":3},"3P","Competición",{"$f":"VLOOKUP(C3342,Referencias!$B$24:$C$40,2,FALSE())","v":"PA"}]
["3301368","Navarro Suárez, María del Mar","Asturiana","D",{"$f":"VLOOKUP(G3343,Referencias!$C$4:$D$21,2,FALSE())","v":"Tercera Diamante"},{"$f":"VLOOKUP(G3343,Referencias!$C$4:$E$21,3,FALSE())","v":3},"3D","Competición",{"$f":"VLOOKUP(C3343,Referencias!$B$24:$C$40,2,FALSE())","v":"PA"}]
["3301369","Álvarez López, Maria Isabel","Asturiana","D",{"$f":"VLOOKUP(G3344,Referencias!$C$4:$D$21,2,FALSE())","v":"Segunda Corazón"},{"$f":"VLOOKUP(G3344,Referencias!$C$4:$E$21,3,FALSE())","v":2},"2C","Competición",{"$f":"VLOOKUP(C3344,Referencias!$B$24:$C$40,2,FALSE())","v":"PA"}]
["3301372","Rodríguez López, María Cristina","Asturiana","D",{"$f":"VLOOKUP(G3345,Referencias!$C$4:$D$21,2,FALSE())","v":"Segunda Corazón"},{"$f":"VLOOKUP(G3345,Referencias!$C$4:$E$21,3,FALSE())","v":2},"2C","Competición",{"$f":"VLOOKUP(C3345,Referencias!$B$24:$C$40,2,FALSE())","v":"PA"}]
["3301374","Ventura Alvárez- Arenas, María Africa","Asturiana","D",{"$f":"VLOOKUP(G3346,Referencias!$C$4:$D$21,2,FALSE())","v":"Tercera Diamante"},{"$f":"VLOOKUP(G3346,Referencias!$C$4:$E$21,3,FALSE())","v":3},"3D","Competición",{"$f":"VLOOKUP(C3346,Referencias!$B$24:$C$40,2,FALSE())","v":"PA"}]
["3301375","Amez Ventura, Maria Africa","Asturiana","D",{"$f":"VLOOKUP(G3347,Referencias!$C$4:$D$21,2,FALSE())","v":"Tercera Diamante"},{"$f":"VLOOKUP(G3347,Referencias!$C$4:$E$21,3,FALSE())","v":3},"3D","Competición",{"$f":"VLOOKUP(C3347,Referencias!$B$24:$C$40,2,FALSE())","v":"PA"}]
["3301378","García Pérez, Jose Ramón","Asturiana","C",{"$f":"VLOOKUP(G3348,Referencias!$C$4:$D$21,2,FALSE())","v":"Tercera Picas"},{"$f":"VLOOKUP(G3348,Referencias!$C$4:$E$21,3,FALSE())","v":3},"3P","Competición",{"$f":"VLOOKUP(C3348,Referencias!$B$24:$C$40,2,FALSE())","v":"PA"}]
["3301379","Vinagre Castaño, Jose Antonio","Asturiana","C",{"$f":"VLOOKUP(G3349,Referencias!$C$4:$D$21,2,FALSE())","v":"Segunda Corazón"},{"$f":"VLOOKUP(G3349,Referencias!$C$4:$E$21,3,FALSE())","v":2},"2C","Competición",{"$f":"VLOOKUP(C3349,Referencias!$B$24:$C$40,2,FALSE())","v":"PA"}]
["3301380","Domínguez Pequeño, Beatriz","Asturiana","D",{"$f":"VLOOKUP(G3350,Referencias!$C$4:$D$21,2,FALSE())","v":"Tercera Corazón"},{"$f":"VLOOKUP(G3350,Referencias!$C$4:$E$21,3,FALSE())","v":3},"3C","Competición",{"$f":"VLOOKUP(C3350,Referencias!$B$24:$C$40,2,FALSE())","v":"PA"}]
["3301382","Petrelli Carlocchia, Marta Beatriz","Asturiana","D",{"$f":"VLOOKUP(G3351,Referencias!$C$4:$D$21,2,FALSE())","v":"Tercera Corazón"},{"$f":"VLOOKUP(G3351,Referencias!$C$4:$E$21,3,FALSE())","v":3},"3C","Competición",{"$f":"VLOOKUP(C3351,Referencias!$B$24:$C$40,2,FALSE())","v":"PA"}]
["3301383","Singer, Jenny","Asturiana","D",{"$f":"VLOOKUP(G3352,Referencias!$C$4:$D$21,2,FALSE())","v":"Tercera Diamante"},{"$f":"VLOOKUP(G3352,Referencias!$C$4:$E$21,3,FALSE())","v":3},"3D","Competición",{"$f":"VLOOKUP(C3352,Referencias!$B$24:$C$40,2,FALSE())","v":"PA"}]
["3301384","Castaño García, A. Fernando","Asturiana","C",{"$f":"VLOOKUP(G3353,Referencias!$C$4:$D$21,2,FALSE())","v":"Tercera Diamante"},{"$f":"VLOOKUP(G3353,Referencias!$C$4:$E$21,3,FALSE())","v":3},"3D","Competición",{"$f":"VLOOKUP(C3353,Referencias!$B$24:$C$40,2,FALSE())","v":"PA"}]
["3301385","Lueje Beltrán, Carlos","Asturiana","C",{"$f":"VLOOKUP(G3354,Referencias!$C$4:$D$21,2,FALSE())","v":"Tercera Picas"},{"$f":"VLOOKUP(G3354,Referencias!$C$4:$E$21,3,FALSE())","v":3},"3P","Competición",{"$f":"VLOOKUP(C3354,Referencias!$B$24:$C$40,2,FALSE())","v":"PA"}]
["3301386","Fenor Luque, Consuelo","Asturiana","D",{"$f":"VLOOKUP(G3355,Referencias!$C$4:$D$21,2,FALSE())","v":"Tercera Diamante"},{"$f":"VLOOKUP(G3355,Referencias!$C$4:$E$21,3,FALSE())","v":3},"3D","Competición",{"$f":"VLOOKUP(C3355,Referencias!$B$24:$C$40,2,FALSE())","v":"PA"}]
["3301388","González Álvarez, María Luisa","Asturiana","D",{"$f":"VLOOKUP(G3356,Referencias!$C$4:$D$21,2,FALSE())","v":"Tercera Picas"},{"$f":"VLOOKUP(G3356,Referencias!$C$4:$E$21,3,FALSE())","v":3},"3P","Competición",{"$f":"VLOOKUP(C3356,Referencias!$B$24:$C$40,2,FALSE())","v":"PA"}]
["3301389","Loredo Sierra, Beatriz","Asturiana","D",{"$f":"VLOOKUP(G3357,Referencias!$C$4:$D$21,2,FALSE())","v":"Segunda Corazón"},{"$f":"VLOOKUP(G3357,Referencias!$C$4:$E$21,3,FALSE())","v":2},"2C","Competición",{"$f":"VLOOKUP(C3357,Referencias!$B$24:$C$40,2,FALSE())","v":"PA"}]
["3301390","Parapar Pérez, Carmen","Asturiana","D",{"$f":"VLOOKUP(G3358,Referencias!$C$4:$D$21,2,FALSE())","v":"Tercera Corazón"},{"$f":"VLOOKUP(G3358,Referencias!$C$4:$E$21,3,FALSE())","v":3},"3C","Competición",{"$f":"VLOOKUP(C3358,Referencias!$B$24:$C$40,2,FALSE())","v":"PA"}]
["3301392","Coya González, Patricia","Asturiana","D",{"$f":"VLOOKUP(G3359,Referencias!$C$4:$D$21,2,FALSE())","v":"Tercera Corazón"},{"$f":"VLOOKUP(G3359,Referencias!$C$4:$E$21,3,FALSE())","v":3},"3C","Competición",{"$f":"VLOOKUP(C3359,Referencias!$B$24:$C$40,2,FALSE())","v":"PA"}]
["3301393","López González, Juan Luis","Asturiana","C",{"$f":"VLOOKUP(G3360,Referencias!$C$4:$D$21,2,FALSE())","v":"Tercera Picas"},{"$f":"VLOOKUP(G3360,Referencias!$C$4:$E$21,3,FALSE())","v":3},"3P","Competición",{"$f":"VLOOKUP(C3360,Referencias!$B$24:$C$40,2,FALSE())","v":"PA"}]
["3301394","Martins Silva, Jose Julio","Asturiana","C",{"$f":"VLOOKUP(G3361,Referencias!$C$4:$D$21,2,FALSE())","v":"Primera Corazón"},{"$f":"VLOOKUP(G3361,Referencias!$C$4:$E$21,3,FALSE())","v":1},"1C","Competición",{"$f":"VLOOKUP(C3361,Referencias!$B$24:$C$40,2,FALSE())","v":"PA"}]
["3301395","Fernández-Villanueva González, María Dolores","Asturiana","D",{"$f":"VLOOKUP(G3362,Referencias!$C$4:$D$21,2,FALSE())","v":"Tercera Corazón"},{"$f":"VLOOKUP(G3362,Referencias!$C$4:$E$21,3,FALSE())","v":3},"3C","Competición",{"$f":"VLOOKUP(C3362,Referencias!$B$24:$C$40,2,FALSE())","v":"PA"}]
["3301396","Río Elías, Maria Jesús","Asturiana","D",{"$f":"VLOOKUP(G3363,Referencias!$C$4:$D$21,2,FALSE())","v":"Tercera Diamante"},{"$f":"VLOOKUP(G3363,Referencias!$C$4:$E$21,3,FALSE())","v":3},"3D","Competición",{"$f":"VLOOKUP(C3363,Referencias!$B$24:$C$40,2,FALSE())","v":"PA"}]
["3301397","González Alonso, María Isabel","Asturiana","D",{"$f":"VLOOKUP(G3364,Referencias!$C$4:$D$21,2,FALSE())","v":"Tercera Corazón"},{"$f":"VLOOKUP(G3364,Referencias!$C$4:$E$21,3,FALSE())","v":3},"3C","Competición",{"$f":"VLOOKUP(C3364,Referencias!$B$24:$C$40,2,FALSE())","v":"PA"}]
["3301399","Costales Caso, María del Mar","Asturiana","D",{"$f":"VLOOKUP(G3365,Referencias!$C$4:$D$21,2,FALSE())","v":"Sin Categoría"},{"$f":"VLOOKUP(G3365,Referencias!$C$4:$E$21,3,FALSE())","v":4},"SC","Competición",{"$f":"VLOOKUP(C3365,Referencias!$B$24:$C$40,2,FALSE())","v":"PA"}]
["3301400","Jiménez Pruneda, Rosa María","Asturiana","D",{"$f":"VLOOKUP(G3366,Referencias!$C$4:$D$21,2,FALSE())","v":"Segunda Corazón"},{"$f":"VLOOKUP(G3366,Referencias!$C$4:$E$21,3,FALSE())","v":2},"2C","Competición",{"$f":"VLOOKUP(C3366,Referencias!$B$24:$C$40,2,FALSE())","v":"PA"}]
["3301401","Canseco González, Carmen","Asturiana","D",{"$f":"VLOOKUP(G3367,Referencias!$C$4:$D$21,2,FALSE())","v":"Tercera Diamante"},{"$f":"VLOOKUP(G3367,Referencias!$C$4:$E$21,3,FALSE())","v":3},"3D","Competición",{"$f":"VLOOKUP(C3367,Referencias!$B$24:$C$40,2,FALSE())","v":"PA"}]
["3301402","De Santiago Díez, Angeles","Asturiana","D",{"$f":"VLOOKUP(G3368,Referencias!$C$4:$D$21,2,FALSE())","v":"Tercera Diamante"},{"$f":"VLOOKUP(G3368,Referencias!$C$4:$E$21,3,FALSE())","v":3},"3D","Competición",{"$f":"VLOOKUP(C3368,Referencias!$B$24:$C$40,2,FALSE())","v":"PA"}]
["3301403","Durán Ayala, Jerónimo","Asturiana","C",{"$f":"VLOOKUP(G3369,Referencias!$C$4:$D$21,2,FALSE())","v":"Tercera Diamante"},{"$f":"VLOOKUP(G3369,Referencias!$C$4:$E$21,3,FALSE())","v":3},"3D","Competición",{"$f":"VLOOKUP(C3369,Referencias!$B$24:$C$40,2,FALSE())","v":"PA"}]
["3301404","Sánchez Sobrino, Yolanda","Asturiana","D",{"$f":"VLOOKUP(G3370,Referencias!$C$4:$D$21,2,FALSE())","v":"Tercera Diamante"},{"$f":"VLOOKUP(G3370,Referencias!$C$4:$E$21,3,FALSE())","v":3},"3D","Competición",{"$f":"VLOOKUP(C3370,Referencias!$B$24:$C$40,2,FALSE())","v":"PA"}]
["3301405","Miguez García, Irene","Asturiana","D",{"$f":"VLOOKUP(G3371,Referencias!$C$4:$D$21,2,FALSE())","v":"Tercera Diamante"},{"$f":"VLOOKUP(G3371,Referencias!$C$4:$E$21,3,FALSE())","v":3},"3D","Competición",{"$f":"VLOOKUP(C3371,Referencias!$B$24:$C$40,2,FALSE())","v":"PA"}]
["3301406","Fernández Ovies, Francisco Javier","Asturiana","C",{"$f":"VLOOKUP(G3372,Referencias!$C$4:$D$21,2,FALSE())","v":"Tercera Corazón"},{"$f":"VLOOKUP(G3372,Referencias!$C$4:$E$21,3,FALSE())","v":3},"3C","Competición",{"$f":"VLOOKUP(C3372,Referencias!$B$24:$C$40,2,FALSE())","v":"PA"}]
["3301407","Alonso de Medina, Francisco Javier","Asturiana","C",{"$f":"VLOOKUP(G3373,Referencias!$C$4:$D$21,2,FALSE())","v":"Sin Categoría"},{"$f":"VLOOKUP(G3373,Referencias!$C$4:$E$21,3,FALSE())","v":4},"SC","Competición",{"$f":"VLOOKUP(C3373,Referencias!$B$24:$C$40,2,FALSE())","v":"PA"}]
["3301408","Aguilar Fajardo, María Josefa","Asturiana","D",{"$f":"VLOOKUP(G3374,Referencias!$C$4:$D$21,2,FALSE())","v":"Tercera Diamante"},{"$f":"VLOOKUP(G3374,Referencias!$C$4:$E$21,3,FALSE())","v":3},"3D","Competición",{"$f":"VLOOKUP(C3374,Referencias!$B$24:$C$40,2,FALSE())","v":"PA"}]
["3301409","Ontañon González-Fierro, Cristina","Asturiana","D",{"$f":"VLOOKUP(G3375,Referencias!$C$4:$D$21,2,FALSE())","v":"Tercera Diamante"},{"$f":"VLOOKUP(G3375,Referencias!$C$4:$E$21,3,FALSE())","v":3},"3D","Competición",{"$f":"VLOOKUP(C3375,Referencias!$B$24:$C$40,2,FALSE())","v":"PA"}]
["3301412","García-Vega, Maria Elena","Asturiana","D",{"$f":"VLOOKUP(G3376,Referencias!$C$4:$D$21,2,FALSE())","v":"Sin Categoría"},{"$f":"VLOOKUP(G3376,Referencias!$C$4:$E$21,3,FALSE())","v":4},"SC","Competición",{"$f":"VLOOKUP(C3376,Referencias!$B$24:$C$40,2,FALSE())","v":"PA"}]
["3301413","Simarro Martín-Ambrosio, María Isabel","Asturiana","D",{"$f":"VLOOKUP(G3377,Referencias!$C$4:$D$21,2,FALSE())","v":"Tercera Diamante"},{"$f":"VLOOKUP(G3377,Referencias!$C$4:$E$21,3,FALSE())","v":3},"3D","Competición",{"$f":"VLOOKUP(C3377,Referencias!$B$24:$C$40,2,FALSE())","v":"PA"}]
["3301414","Herrero Cuevas, María Lucía","Asturiana","D",{"$f":"VLOOKUP(G3378,Referencias!$C$4:$D$21,2,FALSE())","v":"Tercera Diamante"},{"$f":"VLOOKUP(G3378,Referencias!$C$4:$E$21,3,FALSE())","v":3},"3D","Competición",{"$f":"VLOOKUP(C3378,Referencias!$B$24:$C$40,2,FALSE())","v":"PA"}]
["3301415","Diz Astray, Babila","Asturiana","D",{"$f":"VLOOKUP(G3379,Referencias!$C$4:$D$21,2,FALSE())","v":"Tercera Diamante"},{"$f":"VLOOKUP(G3379,Referencias!$C$4:$E$21,3,FALSE())","v":3},"3D","Competición",{"$f":"VLOOKUP(C3379,Referencias!$B$24:$C$40,2,FALSE())","v":"PA"}]
["3301416","Canal Sastre, Ana ","Asturiana","D",{"$f":"VLOOKUP(G3380,Referencias!$C$4:$D$21,2,FALSE())","v":"Tercera Diamante"},{"$f":"VLOOKUP(G3380,Referencias!$C$4:$E$21,3,FALSE())","v":3},"3D","Competición",{"$f":"VLOOKUP(C3380,Referencias!$B$24:$C$40,2,FALSE())","v":"PA"}]
["3301417","Quiros Montes de Oca, Francisco","Asturiana","C",{"$f":"VLOOKUP(G3381,Referencias!$C$4:$D$21,2,FALSE())","v":"Tercera Diamante"},{"$f":"VLOOKUP(G3381,Referencias!$C$4:$E$21,3,FALSE())","v":3},"3D","Competición",{"$f":"VLOOKUP(C3381,Referencias!$B$24:$C$40,2,FALSE())","v":"PA"}]
["3301418","Liñero de Azcárate, Liliana","Asturiana","D",{"$f":"VLOOKUP(G3382,Referencias!$C$4:$D$21,2,FALSE())","v":"Tercera Diamante"},{"$f":"VLOOKUP(G3382,Referencias!$C$4:$E$21,3,FALSE())","v":3},"3D","Competición",{"$f":"VLOOKUP(C3382,Referencias!$B$24:$C$40,2,FALSE())","v":"PA"}]
["3301419","González Martínez, Cristina","Asturiana","D",{"$f":"VLOOKUP(G3383,Referencias!$C$4:$D$21,2,FALSE())","v":"Tercera Diamante"},{"$f":"VLOOKUP(G3383,Referencias!$C$4:$E$21,3,FALSE())","v":3},"3D","Competición",{"$f":"VLOOKUP(C3383,Referencias!$B$24:$C$40,2,FALSE())","v":"PA"}]
["3301420","Ortiz Rey, Raquel","Asturiana","D",{"$f":"VLOOKUP(G3384,Referencias!$C$4:$D$21,2,FALSE())","v":"Tercera Diamante"},{"$f":"VLOOKUP(G3384,Referencias!$C$4:$E$21,3,FALSE())","v":3},"3D","Competición",{"$f":"VLOOKUP(C3384,Referencias!$B$24:$C$40,2,FALSE())","v":"PA"}]
["3301421","Olmos Fernández-Corugedo, Elena","Asturiana","D",{"$f":"VLOOKUP(G3385,Referencias!$C$4:$D$21,2,FALSE())","v":"Sin Categoría"},{"$f":"VLOOKUP(G3385,Referencias!$C$4:$E$21,3,FALSE())","v":4},"SC","Competición",{"$f":"VLOOKUP(C3385,Referencias!$B$24:$C$40,2,FALSE())","v":"PA"}]
["3301423","Rodriguez - Rovira, Gemma ","Asturiana","D",{"$f":"VLOOKUP(G3386,Referencias!$C$4:$D$21,2,FALSE())","v":"Tercera Diamante"},{"$f":"VLOOKUP(G3386,Referencias!$C$4:$E$21,3,FALSE())","v":3},"3D","Competición",{"$f":"VLOOKUP(C3386,Referencias!$B$24:$C$40,2,FALSE())","v":"PA"}]
["3301424","Cristos Bonal, Isabel","Asturiana","D",{"$f":"VLOOKUP(G3387,Referencias!$C$4:$D$21,2,FALSE())","v":"Tercera Diamante"},{"$f":"VLOOKUP(G3387,Referencias!$C$4:$E$21,3,FALSE())","v":3},"3D","Competición",{"$f":"VLOOKUP(C3387,Referencias!$B$24:$C$40,2,FALSE())","v":"PA"}]
["3301425","Ripoll Pernas, María Dolores","Asturiana","D",{"$f":"VLOOKUP(G3388,Referencias!$C$4:$D$21,2,FALSE())","v":"Tercera Diamante"},{"$f":"VLOOKUP(G3388,Referencias!$C$4:$E$21,3,FALSE())","v":3},"3D","Competición",{"$f":"VLOOKUP(C3388,Referencias!$B$24:$C$40,2,FALSE())","v":"PA"}]
["3301426","Suárez de Luis, Laura","Asturiana","D",{"$f":"VLOOKUP(G3389,Referencias!$C$4:$D$21,2,FALSE())","v":"Segunda Diamante"},{"$f":"VLOOKUP(G3389,Referencias!$C$4:$E$21,3,FALSE())","v":2},"2D","Competición",{"$f":"VLOOKUP(C3389,Referencias!$B$24:$C$40,2,FALSE())","v":"PA"}]
["3301427","González Fernández, Ana María","Asturiana","D",{"$f":"VLOOKUP(G3390,Referencias!$C$4:$D$21,2,FALSE())","v":"Sin Categoría"},{"$f":"VLOOKUP(G3390,Referencias!$C$4:$E$21,3,FALSE())","v":4},"SC","Competición",{"$f":"VLOOKUP(C3390,Referencias!$B$24:$C$40,2,FALSE())","v":"PA"}]
["3301428","Muñiz Cueto, María Genoveva","Asturiana","D",{"$f":"VLOOKUP(G3391,Referencias!$C$4:$D$21,2,FALSE())","v":"Sin Categoría"},{"$f":"VLOOKUP(G3391,Referencias!$C$4:$E$21,3,FALSE())","v":4},"SC","Competición",{"$f":"VLOOKUP(C3391,Referencias!$B$24:$C$40,2,FALSE())","v":"PA"}]
["3301429","Martínez Álvarez, Carla","Asturiana","D",{"$f":"VLOOKUP(G3392,Referencias!$C$4:$D$21,2,FALSE())","v":"Sin Categoría"},{"$f":"VLOOKUP(G3392,Referencias!$C$4:$E$21,3,FALSE())","v":4},"SC","Competición",{"$f":"VLOOKUP(C3392,Referencias!$B$24:$C$40,2,FALSE())","v":"PA"}]
["3301430","Pérez de Rada Cavanilles, Teresa","Asturiana","D",{"$f":"VLOOKUP(G3393,Referencias!$C$4:$D$21,2,FALSE())","v":"Sin Categoría"},{"$f":"VLOOKUP(G3393,Referencias!$C$4:$E$21,3,FALSE())","v":4},"SC","Competición",{"$f":"VLOOKUP(C3393,Referencias!$B$24:$C$40,2,FALSE())","v":"PA"}]
["3301431","Cueto Felgueroso Botas, Maria Victoria ","Asturiana","D",{"$f":"VLOOKUP(G3394,Referencias!$C$4:$D$21,2,FALSE())","v":"Sin Categoría"},{"$f":"VLOOKUP(G3394,Referencias!$C$4:$E$21,3,FALSE())","v":4},"SC","Competición",{"$f":"VLOOKUP(C3394,Referencias!$B$24:$C$40,2,FALSE())","v":"PA"}]
["3301432","Soriano Combarro, Montserrat ","Asturiana","D",{"$f":"VLOOKUP(G3395,Referencias!$C$4:$D$21,2,FALSE())","v":"Tercera Diamante"},{"$f":"VLOOKUP(G3395,Referencias!$C$4:$E$21,3,FALSE())","v":3},"3D","Competición",{"$f":"VLOOKUP(C3395,Referencias!$B$24:$C$40,2,FALSE())","v":"PA"}]
["3301433","González López, Sanda ","Asturiana","D",{"$f":"VLOOKUP(G3396,Referencias!$C$4:$D$21,2,FALSE())","v":"Tercera Diamante"},{"$f":"VLOOKUP(G3396,Referencias!$C$4:$E$21,3,FALSE())","v":3},"3D","Competición",{"$f":"VLOOKUP(C3396,Referencias!$B$24:$C$40,2,FALSE())","v":"PA"}]
["3301434","Buruaga Larrauri, Begoña","Asturiana","D",{"$f":"VLOOKUP(G3397,Referencias!$C$4:$D$21,2,FALSE())","v":"Tercera Corazón"},{"$f":"VLOOKUP(G3397,Referencias!$C$4:$E$21,3,FALSE())","v":3},"3C","Competición",{"$f":"VLOOKUP(C3397,Referencias!$B$24:$C$40,2,FALSE())","v":"PA"}]
["3301435","Lobo Rodriguez, Luis Miguel","Asturiana","C",{"$f":"VLOOKUP(G3398,Referencias!$C$4:$D$21,2,FALSE())","v":"Sin Categoría"},{"$f":"VLOOKUP(G3398,Referencias!$C$4:$E$21,3,FALSE())","v":4},"SC","Competición",{"$f":"VLOOKUP(C3398,Referencias!$B$24:$C$40,2,FALSE())","v":"PA"}]
["3301436","Fernández Pantiga, Belinda","Asturiana","D",{"$f":"VLOOKUP(G3399,Referencias!$C$4:$D$21,2,FALSE())","v":"Tercera Diamante"},{"$f":"VLOOKUP(G3399,Referencias!$C$4:$E$21,3,FALSE())","v":3},"3D","Competición",{"$f":"VLOOKUP(C3399,Referencias!$B$24:$C$40,2,FALSE())","v":"PA"}]
["3301437","Alvarez  Fernández, Mª Elena ","Asturiana","D",{"$f":"VLOOKUP(G3400,Referencias!$C$4:$D$21,2,FALSE())","v":"Tercera Diamante"},{"$f":"VLOOKUP(G3400,Referencias!$C$4:$E$21,3,FALSE())","v":3},"3D","Competición",{"$f":"VLOOKUP(C3400,Referencias!$B$24:$C$40,2,FALSE())","v":"PA"}]
["3301438","Ortea Tugnoli, María Beatriz","Asturiana","D",{"$f":"VLOOKUP(G3401,Referencias!$C$4:$D$21,2,FALSE())","v":"Tercera Diamante"},{"$f":"VLOOKUP(G3401,Referencias!$C$4:$E$21,3,FALSE())","v":3},"3D","Competición",{"$f":"VLOOKUP(C3401,Referencias!$B$24:$C$40,2,FALSE())","v":"PA"}]
["3301439","González Dorrego, Beatriz","Asturiana","D",{"$f":"VLOOKUP(G3402,Referencias!$C$4:$D$21,2,FALSE())","v":"Sin Categoría"},{"$f":"VLOOKUP(G3402,Referencias!$C$4:$E$21,3,FALSE())","v":4},"SC","Competición",{"$f":"VLOOKUP(C3402,Referencias!$B$24:$C$40,2,FALSE())","v":"PA"}]
["3301440","Cavanilles Martínez, Margarita","Asturiana","D",{"$f":"VLOOKUP(G3403,Referencias!$C$4:$D$21,2,FALSE())","v":"Tercera Diamante"},{"$f":"VLOOKUP(G3403,Referencias!$C$4:$E$21,3,FALSE())","v":3},"3D","Competición",{"$f":"VLOOKUP(C3403,Referencias!$B$24:$C$40,2,FALSE())","v":"PA"}]
["3301441","Pérez Payo, Eduardo ","Asturiana","C",{"$f":"VLOOKUP(G3404,Referencias!$C$4:$D$21,2,FALSE())","v":"Tercera Diamante"},{"$f":"VLOOKUP(G3404,Referencias!$C$4:$E$21,3,FALSE())","v":3},"3D","Competición",{"$f":"VLOOKUP(C3404,Referencias!$B$24:$C$40,2,FALSE())","v":"PA"}]
["3301442","Carrera Muñoz, Gloria ","Asturiana","D",{"$f":"VLOOKUP(G3405,Referencias!$C$4:$D$21,2,FALSE())","v":"Tercera Diamante"},{"$f":"VLOOKUP(G3405,Referencias!$C$4:$E$21,3,FALSE())","v":3},"3D","Competición",{"$f":"VLOOKUP(C3405,Referencias!$B$24:$C$40,2,FALSE())","v":"PA"}]
["3301443","Alonso Fernández, Josefina ","Asturiana","D",{"$f":"VLOOKUP(G3406,Referencias!$C$4:$D$21,2,FALSE())","v":"Tercera Diamante"},{"$f":"VLOOKUP(G3406,Referencias!$C$4:$E$21,3,FALSE())","v":3},"3D","Competición",{"$f":"VLOOKUP(C3406,Referencias!$B$24:$C$40,2,FALSE())","v":"PA"}]
["3301445","González Lobato, Ludi","Asturiana","D",{"$f":"VLOOKUP(G3407,Referencias!$C$4:$D$21,2,FALSE())","v":"Tercera Diamante"},{"$f":"VLOOKUP(G3407,Referencias!$C$4:$E$21,3,FALSE())","v":3},"3D","Competición",{"$f":"VLOOKUP(C3407,Referencias!$B$24:$C$40,2,FALSE())","v":"PA"}]
["3301446","Gestera Álvarez, Ana ","Asturiana","D",{"$f":"VLOOKUP(G3408,Referencias!$C$4:$D$21,2,FALSE())","v":"Tercera Diamante"},{"$f":"VLOOKUP(G3408,Referencias!$C$4:$E$21,3,FALSE())","v":3},"3D","Competición",{"$f":"VLOOKUP(C3408,Referencias!$B$24:$C$40,2,FALSE())","v":"PA"}]
["3301447","Díaz Múgica, María Teresa ","Asturiana","D",{"$f":"VLOOKUP(G3409,Referencias!$C$4:$D$21,2,FALSE())","v":"Tercera Diamante"},{"$f":"VLOOKUP(G3409,Referencias!$C$4:$E$21,3,FALSE())","v":3},"3D","Competición",{"$f":"VLOOKUP(C3409,Referencias!$B$24:$C$40,2,FALSE())","v":"PA"}]
["3301448","Arenas Fuertes, Montserrat ","Asturiana","D",{"$f":"VLOOKUP(G3410,Referencias!$C$4:$D$21,2,FALSE())","v":"Tercera Diamante"},{"$f":"VLOOKUP(G3410,Referencias!$C$4:$E$21,3,FALSE())","v":3},"3D","Competición",{"$f":"VLOOKUP(C3410,Referencias!$B$24:$C$40,2,FALSE())","v":"PA"}]
["3301449","López Argüelles, José Manuel","Asturiana","C",{"$f":"VLOOKUP(G3411,Referencias!$C$4:$D$21,2,FALSE())","v":"Tercera Diamante"},{"$f":"VLOOKUP(G3411,Referencias!$C$4:$E$21,3,FALSE())","v":3},"3D","Competición",{"$f":"VLOOKUP(C3411,Referencias!$B$24:$C$40,2,FALSE())","v":"PA"}]
["3301450","Menéndez de Luarca Navia-Osorio , Marta","Asturiana","D",{"$f":"VLOOKUP(G3412,Referencias!$C$4:$D$21,2,FALSE())","v":"Tercera Diamante"},{"$f":"VLOOKUP(G3412,Referencias!$C$4:$E$21,3,FALSE())","v":3},"3D","Competición",{"$f":"VLOOKUP(C3412,Referencias!$B$24:$C$40,2,FALSE())","v":"PA"}]
["3301451","Balbín Aldama, María Mercedes ","Asturiana","D",{"$f":"VLOOKUP(G3413,Referencias!$C$4:$D$21,2,FALSE())","v":"Tercera Diamante"},{"$f":"VLOOKUP(G3413,Referencias!$C$4:$E$21,3,FALSE())","v":3},"3D","Competición",{"$f":"VLOOKUP(C3413,Referencias!$B$24:$C$40,2,FALSE())","v":"PA"}]
["3301452","Cuetos Cuetos, María Covadonga ","Asturiana","D",{"$f":"VLOOKUP(G3414,Referencias!$C$4:$D$21,2,FALSE())","v":"Tercera Diamante"},{"$f":"VLOOKUP(G3414,Referencias!$C$4:$E$21,3,FALSE())","v":3},"3D","Competición",{"$f":"VLOOKUP(C3414,Referencias!$B$24:$C$40,2,FALSE())","v":"PA"}]
["3301453","Fontaneda Fernández, Alfredo","Asturiana","C",{"$f":"VLOOKUP(G3415,Referencias!$C$4:$D$21,2,FALSE())","v":"Sin Categoría"},{"$f":"VLOOKUP(G3415,Referencias!$C$4:$E$21,3,FALSE())","v":4},"SC","Competición",{"$f":"VLOOKUP(C3415,Referencias!$B$24:$C$40,2,FALSE())","v":"PA"}]
["3301454","Garcia Morales, Marisa","Asturiana","D",{"$f":"VLOOKUP(G3416,Referencias!$C$4:$D$21,2,FALSE())","v":"Tercera Diamante"},{"$f":"VLOOKUP(G3416,Referencias!$C$4:$E$21,3,FALSE())","v":3},"3D","Competición",{"$f":"VLOOKUP(C3416,Referencias!$B$24:$C$40,2,FALSE())","v":"PA"}]
["3301455","García-Bernardo Pendas, Beatriz ","Asturiana","D",{"$f":"VLOOKUP(G3417,Referencias!$C$4:$D$21,2,FALSE())","v":"Tercera Diamante"},{"$f":"VLOOKUP(G3417,Referencias!$C$4:$E$21,3,FALSE())","v":3},"3D","Competición",{"$f":"VLOOKUP(C3417,Referencias!$B$24:$C$40,2,FALSE())","v":"PA"}]
["3301456","Lara González, María José","Asturiana","D",{"$f":"VLOOKUP(G3418,Referencias!$C$4:$D$21,2,FALSE())","v":"Tercera Diamante"},{"$f":"VLOOKUP(G3418,Referencias!$C$4:$E$21,3,FALSE())","v":3},"3D","Competición",{"$f":"VLOOKUP(C3418,Referencias!$B$24:$C$40,2,FALSE())","v":"PA"}]
["3301457","Oliva Junquera, Amparo ","Asturiana","D",{"$f":"VLOOKUP(G3419,Referencias!$C$4:$D$21,2,FALSE())","v":"Tercera Diamante"},{"$f":"VLOOKUP(G3419,Referencias!$C$4:$E$21,3,FALSE())","v":3},"3D","Competición",{"$f":"VLOOKUP(C3419,Referencias!$B$24:$C$40,2,FALSE())","v":"PA"}]
["3301458","López Pérez, María Eugenia ","Asturiana","D",{"$f":"VLOOKUP(G3420,Referencias!$C$4:$D$21,2,FALSE())","v":"Tercera Diamante"},{"$f":"VLOOKUP(G3420,Referencias!$C$4:$E$21,3,FALSE())","v":3},"3D","Competición",{"$f":"VLOOKUP(C3420,Referencias!$B$24:$C$40,2,FALSE())","v":"PA"}]
["3301459","Argüelles González, María de los Angeles ","Asturiana","D",{"$f":"VLOOKUP(G3421,Referencias!$C$4:$D$21,2,FALSE())","v":"Tercera Diamante"},{"$f":"VLOOKUP(G3421,Referencias!$C$4:$E$21,3,FALSE())","v":3},"3D","Competición",{"$f":"VLOOKUP(C3421,Referencias!$B$24:$C$40,2,FALSE())","v":"PA"}]
["3305520","Bonal Salanova, María Ángeles","Asturiana","D",{"$f":"VLOOKUP(G3422,Referencias!$C$4:$D$21,2,FALSE())","v":"Primera Picas"},{"$f":"VLOOKUP(G3422,Referencias!$C$4:$E$21,3,FALSE())","v":1},"1P","Competición",{"$f":"VLOOKUP(C3422,Referencias!$B$24:$C$40,2,FALSE())","v":"PA"}]
["3305521","Prendes de Artigas, Ana","Asturiana","D",{"$f":"VLOOKUP(G3423,Referencias!$C$4:$D$21,2,FALSE())","v":"Primera Picas"},{"$f":"VLOOKUP(G3423,Referencias!$C$4:$E$21,3,FALSE())","v":1},"1P","Competición",{"$f":"VLOOKUP(C3423,Referencias!$B$24:$C$40,2,FALSE())","v":"PA"}]
["3305526","Urquiola Permisán, Carmen","Asturiana","D",{"$f":"VLOOKUP(G3424,Referencias!$C$4:$D$21,2,FALSE())","v":"Tercera Picas"},{"$f":"VLOOKUP(G3424,Referencias!$C$4:$E$21,3,FALSE())","v":3},"3P","Competición",{"$f":"VLOOKUP(C3424,Referencias!$B$24:$C$40,2,FALSE())","v":"PA"}]
["3305530","Fernández-Corugedo, Concepción","Asturiana","D",{"$f":"VLOOKUP(G3425,Referencias!$C$4:$D$21,2,FALSE())","v":"Primera Diamante"},{"$f":"VLOOKUP(G3425,Referencias!$C$4:$E$21,3,FALSE())","v":1},"1D","Competición",{"$f":"VLOOKUP(C3425,Referencias!$B$24:$C$40,2,FALSE())","v":"PA"}]
["3305539","Bonal Salanova, Dolores","Asturiana","D",{"$f":"VLOOKUP(G3426,Referencias!$C$4:$D$21,2,FALSE())","v":"Primera Picas"},{"$f":"VLOOKUP(G3426,Referencias!$C$4:$E$21,3,FALSE())","v":1},"1P","Honorífica",{"$f":"VLOOKUP(C3426,Referencias!$B$24:$C$40,2,FALSE())","v":"PA"}]
["3305545","Zueras de López-Acha, Cristina","Asturiana","D",{"$f":"VLOOKUP(G3427,Referencias!$C$4:$D$21,2,FALSE())","v":"Primera Picas"},{"$f":"VLOOKUP(G3427,Referencias!$C$4:$E$21,3,FALSE())","v":1},"1P","Competición",{"$f":"VLOOKUP(C3427,Referencias!$B$24:$C$40,2,FALSE())","v":"PA"}]
["3305546","Sempau Bárcena, Amparo","Asturiana","D",{"$f":"VLOOKUP(G3428,Referencias!$C$4:$D$21,2,FALSE())","v":"Primera Picas"},{"$f":"VLOOKUP(G3428,Referencias!$C$4:$E$21,3,FALSE())","v":1},"1P","Competición",{"$f":"VLOOKUP(C3428,Referencias!$B$24:$C$40,2,FALSE())","v":"PA"}]
["3305547","García-Morán, Manuel","Asturiana","C",{"$f":"VLOOKUP(G3429,Referencias!$C$4:$D$21,2,FALSE())","v":"Primera Corazón"},{"$f":"VLOOKUP(G3429,Referencias!$C$4:$E$21,3,FALSE())","v":1},"1C","Competición",{"$f":"VLOOKUP(C3429,Referencias!$B$24:$C$40,2,FALSE())","v":"PA"}]
["3305562","Rodríguez Rodríguez, Aurelio","Asturiana","C",{"$f":"VLOOKUP(G3430,Referencias!$C$4:$D$21,2,FALSE())","v":"Primera Picas"},{"$f":"VLOOKUP(G3430,Referencias!$C$4:$E$21,3,FALSE())","v":1},"1P","Competición",{"$f":"VLOOKUP(C3430,Referencias!$B$24:$C$40,2,FALSE())","v":"PA"}]
["3305570","Sempau Bárcena, Manuel","Asturiana","C",{"$f":"VLOOKUP(G3431,Referencias!$C$4:$D$21,2,FALSE())","v":"Sin Categoría"},{"$f":"VLOOKUP(G3431,Referencias!$C$4:$E$21,3,FALSE())","v":4},"SC","Competición",{"$f":"VLOOKUP(C3431,Referencias!$B$24:$C$40,2,FALSE())","v":"PA"}]
["3305575","Díaz Rubin Moreno, Josefa","Asturiana","D",{"$f":"VLOOKUP(G3432,Referencias!$C$4:$D$21,2,FALSE())","v":"Primera Picas"},{"$f":"VLOOKUP(G3432,Referencias!$C$4:$E$21,3,FALSE())","v":1},"1P","Competición",{"$f":"VLOOKUP(C3432,Referencias!$B$24:$C$40,2,FALSE())","v":"PA"}]
["3305589","Grande Oran, María Dolores","Asturiana","D",{"$f":"VLOOKUP(G3433,Referencias!$C$4:$D$21,2,FALSE())","v":"Segunda Diamante"},{"$f":"VLOOKUP(G3433,Referencias!$C$4:$E$21,3,FALSE())","v":2},"2D","Competición",{"$f":"VLOOKUP(C3433,Referencias!$B$24:$C$40,2,FALSE())","v":"PA"}]
["3471366","García Palacios, Pilar","Castilla y León","D",{"$f":"VLOOKUP(G3434,Referencias!$C$4:$D$21,2,FALSE())","v":"Sin Categoría"},{"$f":"VLOOKUP(G3434,Referencias!$C$4:$E$21,3,FALSE())","v":4},"SC","Competición",{"$f":"VLOOKUP(C3434,Referencias!$B$24:$C$40,2,FALSE())","v":"CL"}]
["3471443","García Ortiz, María Concepción","Castilla y León","D",{"$f":"VLOOKUP(G3435,Referencias!$C$4:$D$21,2,FALSE())","v":"Sin Categoría"},{"$f":"VLOOKUP(G3435,Referencias!$C$4:$E$21,3,FALSE())","v":4},"SC","Competición",{"$f":"VLOOKUP(C3435,Referencias!$B$24:$C$40,2,FALSE())","v":"CL"}]
["3471445","Rodríguez Rodríguez, María Antonia","Castilla y León","D",{"$f":"VLOOKUP(G3436,Referencias!$C$4:$D$21,2,FALSE())","v":"Sin Categoría"},{"$f":"VLOOKUP(G3436,Referencias!$C$4:$E$21,3,FALSE())","v":4},"SC","Competición",{"$f":"VLOOKUP(C3436,Referencias!$B$24:$C$40,2,FALSE())","v":"CL"}]
["3471548","Adán Mena, Isabel María","Castilla y León","D",{"$f":"VLOOKUP(G3437,Referencias!$C$4:$D$21,2,FALSE())","v":"Tercera Diamante"},{"$f":"VLOOKUP(G3437,Referencias!$C$4:$E$21,3,FALSE())","v":3},"3D","Competición",{"$f":"VLOOKUP(C3437,Referencias!$B$24:$C$40,2,FALSE())","v":"CL"}]
["3551021","Corral Curia, María Carmen","Canaria","D",{"$f":"VLOOKUP(G3438,Referencias!$C$4:$D$21,2,FALSE())","v":"Primera Picas"},{"$f":"VLOOKUP(G3438,Referencias!$C$4:$E$21,3,FALSE())","v":1},"1P","Competición",{"$f":"VLOOKUP(C3438,Referencias!$B$24:$C$40,2,FALSE())","v":"IC"}]
["3551022","Mead, Sandra","Canaria","D",{"$f":"VLOOKUP(G3439,Referencias!$C$4:$D$21,2,FALSE())","v":"Segunda Corazón"},{"$f":"VLOOKUP(G3439,Referencias!$C$4:$E$21,3,FALSE())","v":2},"2C","Competición",{"$f":"VLOOKUP(C3439,Referencias!$B$24:$C$40,2,FALSE())","v":"IC"}]
["3551025","Poch, Palmira","Canaria","D",{"$f":"VLOOKUP(G3440,Referencias!$C$4:$D$21,2,FALSE())","v":"Primera Picas"},{"$f":"VLOOKUP(G3440,Referencias!$C$4:$E$21,3,FALSE())","v":1},"1P","Competición",{"$f":"VLOOKUP(C3440,Referencias!$B$24:$C$40,2,FALSE())","v":"IC"}]
["3551032","González Lamas, Eduardo","Canaria","C",{"$f":"VLOOKUP(G3441,Referencias!$C$4:$D$21,2,FALSE())","v":"Primera Picas"},{"$f":"VLOOKUP(G3441,Referencias!$C$4:$E$21,3,FALSE())","v":1},"1P","Competición",{"$f":"VLOOKUP(C3441,Referencias!$B$24:$C$40,2,FALSE())","v":"IC"}]
["3551033","Jiménez Arias, Mari Angeles","Canaria","D",{"$f":"VLOOKUP(G3442,Referencias!$C$4:$D$21,2,FALSE())","v":"Segunda Diamante"},{"$f":"VLOOKUP(G3442,Referencias!$C$4:$E$21,3,FALSE())","v":2},"2D","Competición",{"$f":"VLOOKUP(C3442,Referencias!$B$24:$C$40,2,FALSE())","v":"IC"}]
["3551036","Betancor Hernández, Dulce María","Canaria","D",{"$f":"VLOOKUP(G3443,Referencias!$C$4:$D$21,2,FALSE())","v":"Segunda Diamante"},{"$f":"VLOOKUP(G3443,Referencias!$C$4:$E$21,3,FALSE())","v":2},"2D","Competición",{"$f":"VLOOKUP(C3443,Referencias!$B$24:$C$40,2,FALSE())","v":"IC"}]
["3551037","Bonny Miranda, María Dolores","Canaria","D",{"$f":"VLOOKUP(G3444,Referencias!$C$4:$D$21,2,FALSE())","v":"Primera Picas"},{"$f":"VLOOKUP(G3444,Referencias!$C$4:$E$21,3,FALSE())","v":1},"1P","Competición",{"$f":"VLOOKUP(C3444,Referencias!$B$24:$C$40,2,FALSE())","v":"IC"}]
["3551043","García Díaz, Celia","Canaria","D",{"$f":"VLOOKUP(G3445,Referencias!$C$4:$D$21,2,FALSE())","v":"Segunda Diamante"},{"$f":"VLOOKUP(G3445,Referencias!$C$4:$E$21,3,FALSE())","v":2},"2D","Competición",{"$f":"VLOOKUP(C3445,Referencias!$B$24:$C$40,2,FALSE())","v":"IC"}]
["3551057","Jiménez Arias, María del Carmen","Canaria","D",{"$f":"VLOOKUP(G3446,Referencias!$C$4:$D$21,2,FALSE())","v":"Tercera Corazón"},{"$f":"VLOOKUP(G3446,Referencias!$C$4:$E$21,3,FALSE())","v":3},"3C","Competición",{"$f":"VLOOKUP(C3446,Referencias!$B$24:$C$40,2,FALSE())","v":"IC"}]
["3551069","Taheri, Farzad","Canaria","C",{"$f":"VLOOKUP(G3447,Referencias!$C$4:$D$21,2,FALSE())","v":"Segunda Picas"},{"$f":"VLOOKUP(G3447,Referencias!$C$4:$E$21,3,FALSE())","v":2},"2P","Competición",{"$f":"VLOOKUP(C3447,Referencias!$B$24:$C$40,2,FALSE())","v":"IC"}]
["3551072","Morales Mirat, Isabel","Canaria","D",{"$f":"VLOOKUP(G3448,Referencias!$C$4:$D$21,2,FALSE())","v":"Segunda Corazón"},{"$f":"VLOOKUP(G3448,Referencias!$C$4:$E$21,3,FALSE())","v":2},"2C","Competición",{"$f":"VLOOKUP(C3448,Referencias!$B$24:$C$40,2,FALSE())","v":"IC"}]
["3551075","Rodríguez Sánchez, María Amparo","Canaria","D",{"$f":"VLOOKUP(G3449,Referencias!$C$4:$D$21,2,FALSE())","v":"Segunda Diamante"},{"$f":"VLOOKUP(G3449,Referencias!$C$4:$E$21,3,FALSE())","v":2},"2D","Competición",{"$f":"VLOOKUP(C3449,Referencias!$B$24:$C$40,2,FALSE())","v":"IC"}]
["3551076","Moayed de Taheri, Mojdeh","Canaria","D",{"$f":"VLOOKUP(G3450,Referencias!$C$4:$D$21,2,FALSE())","v":"Segunda Corazón"},{"$f":"VLOOKUP(G3450,Referencias!$C$4:$E$21,3,FALSE())","v":2},"2C","Competición",{"$f":"VLOOKUP(C3450,Referencias!$B$24:$C$40,2,FALSE())","v":"IC"}]
["3551109","Vallejo de la Fe, Teresa","Canaria","D",{"$f":"VLOOKUP(G3451,Referencias!$C$4:$D$21,2,FALSE())","v":"Segunda Diamante"},{"$f":"VLOOKUP(G3451,Referencias!$C$4:$E$21,3,FALSE())","v":2},"2D","Competición",{"$f":"VLOOKUP(C3451,Referencias!$B$24:$C$40,2,FALSE())","v":"IC"}]
["3551114","Moragas, Maria Eugenia","Canaria","D",{"$f":"VLOOKUP(G3452,Referencias!$C$4:$D$21,2,FALSE())","v":"Tercera Diamante"},{"$f":"VLOOKUP(G3452,Referencias!$C$4:$E$21,3,FALSE())","v":3},"3D","Competición",{"$f":"VLOOKUP(C3452,Referencias!$B$24:$C$40,2,FALSE())","v":"IC"}]
["3551117","Martín-Fdez. de Larrinoa, Amelia","Canaria","D",{"$f":"VLOOKUP(G3453,Referencias!$C$4:$D$21,2,FALSE())","v":"Segunda Diamante"},{"$f":"VLOOKUP(G3453,Referencias!$C$4:$E$21,3,FALSE())","v":2},"2D","Competición",{"$f":"VLOOKUP(C3453,Referencias!$B$24:$C$40,2,FALSE())","v":"IC"}]
["3551158","Rodríguez Armas, Elena","Canaria","D",{"$f":"VLOOKUP(G3454,Referencias!$C$4:$D$21,2,FALSE())","v":"Tercera Corazón"},{"$f":"VLOOKUP(G3454,Referencias!$C$4:$E$21,3,FALSE())","v":3},"3C","Competición",{"$f":"VLOOKUP(C3454,Referencias!$B$24:$C$40,2,FALSE())","v":"IC"}]
["3551167","Robaina Frias, Mercedes","Canaria","D",{"$f":"VLOOKUP(G3455,Referencias!$C$4:$D$21,2,FALSE())","v":"Primera Corazón"},{"$f":"VLOOKUP(G3455,Referencias!$C$4:$E$21,3,FALSE())","v":1},"1C","Competición",{"$f":"VLOOKUP(C3455,Referencias!$B$24:$C$40,2,FALSE())","v":"IC"}]
["3551173","Hinestrosa Navarro, Inés","Canaria","D",{"$f":"VLOOKUP(G3456,Referencias!$C$4:$D$21,2,FALSE())","v":"Primera Picas"},{"$f":"VLOOKUP(G3456,Referencias!$C$4:$E$21,3,FALSE())","v":1},"1P","Competición",{"$f":"VLOOKUP(C3456,Referencias!$B$24:$C$40,2,FALSE())","v":"IC"}]
["3551179","Barrera Lujan, María Teresa","Canaria","D",{"$f":"VLOOKUP(G3457,Referencias!$C$4:$D$21,2,FALSE())","v":"Segunda Picas"},{"$f":"VLOOKUP(G3457,Referencias!$C$4:$E$21,3,FALSE())","v":2},"2P","Competición",{"$f":"VLOOKUP(C3457,Referencias!$B$24:$C$40,2,FALSE())","v":"IC"}]
["3551197","Rojas-O´Donnell y Martín, Leopoldo","Canaria","C",{"$f":"VLOOKUP(G3458,Referencias!$C$4:$D$21,2,FALSE())","v":"Sin Categoría"},{"$f":"VLOOKUP(G3458,Referencias!$C$4:$E$21,3,FALSE())","v":4},"SC","Competición",{"$f":"VLOOKUP(C3458,Referencias!$B$24:$C$40,2,FALSE())","v":"IC"}]
["3551222","Gómez-Pablos Calvo, Mercedes","Canaria","D",{"$f":"VLOOKUP(G3459,Referencias!$C$4:$D$21,2,FALSE())","v":"Primera Diamante"},{"$f":"VLOOKUP(G3459,Referencias!$C$4:$E$21,3,FALSE())","v":1},"1D","Competición",{"$f":"VLOOKUP(C3459,Referencias!$B$24:$C$40,2,FALSE())","v":"IC"}]
["3551234","Sarmiento Acosta, María Eva","Canaria","D",{"$f":"VLOOKUP(G3460,Referencias!$C$4:$D$21,2,FALSE())","v":"Segunda Diamante"},{"$f":"VLOOKUP(G3460,Referencias!$C$4:$E$21,3,FALSE())","v":2},"2D","Competición",{"$f":"VLOOKUP(C3460,Referencias!$B$24:$C$40,2,FALSE())","v":"IC"}]
["3551237","Nacher Hernández, Ana María","Canaria","D",{"$f":"VLOOKUP(G3461,Referencias!$C$4:$D$21,2,FALSE())","v":"Sin Categoría"},{"$f":"VLOOKUP(G3461,Referencias!$C$4:$E$21,3,FALSE())","v":4},"SC","Competición",{"$f":"VLOOKUP(C3461,Referencias!$B$24:$C$40,2,FALSE())","v":"IC"}]
["3551240","Barros Fernández, María José","Canaria","D",{"$f":"VLOOKUP(G3462,Referencias!$C$4:$D$21,2,FALSE())","v":"Segunda Corazón"},{"$f":"VLOOKUP(G3462,Referencias!$C$4:$E$21,3,FALSE())","v":2},"2C","Competición",{"$f":"VLOOKUP(C3462,Referencias!$B$24:$C$40,2,FALSE())","v":"IC"}]
["3551245","Cabrera Montelongo, Josefa","Canaria","D",{"$f":"VLOOKUP(G3463,Referencias!$C$4:$D$21,2,FALSE())","v":"Segunda Picas"},{"$f":"VLOOKUP(G3463,Referencias!$C$4:$E$21,3,FALSE())","v":2},"2P","Competición",{"$f":"VLOOKUP(C3463,Referencias!$B$24:$C$40,2,FALSE())","v":"IC"}]
["3551253","Prats Cabrera, Rosa María","Canaria","D",{"$f":"VLOOKUP(G3464,Referencias!$C$4:$D$21,2,FALSE())","v":"Segunda Diamante"},{"$f":"VLOOKUP(G3464,Referencias!$C$4:$E$21,3,FALSE())","v":2},"2D","Competición",{"$f":"VLOOKUP(C3464,Referencias!$B$24:$C$40,2,FALSE())","v":"IC"}]
["3551257","López Arias, María Jesús","Canaria","D",{"$f":"VLOOKUP(G3465,Referencias!$C$4:$D$21,2,FALSE())","v":"Segunda Picas"},{"$f":"VLOOKUP(G3465,Referencias!$C$4:$E$21,3,FALSE())","v":2},"2P","Competición",{"$f":"VLOOKUP(C3465,Referencias!$B$24:$C$40,2,FALSE())","v":"IC"}]
["3551259","García Bolta, M. Consuelo","Canaria","D",{"$f":"VLOOKUP(G3466,Referencias!$C$4:$D$21,2,FALSE())","v":"Tercera Picas"},{"$f":"VLOOKUP(G3466,Referencias!$C$4:$E$21,3,FALSE())","v":3},"3P","Competición",{"$f":"VLOOKUP(C3466,Referencias!$B$24:$C$40,2,FALSE())","v":"IC"}]
["3551273","Toribio Fernández, Emilia","Canaria","D",{"$f":"VLOOKUP(G3467,Referencias!$C$4:$D$21,2,FALSE())","v":"Tercera Picas"},{"$f":"VLOOKUP(G3467,Referencias!$C$4:$E$21,3,FALSE())","v":3},"3P","Competición",{"$f":"VLOOKUP(C3467,Referencias!$B$24:$C$40,2,FALSE())","v":"IC"}]
["3551277","Vázquez Ajuria, Angela","Canaria","D",{"$f":"VLOOKUP(G3468,Referencias!$C$4:$D$21,2,FALSE())","v":"Tercera Diamante"},{"$f":"VLOOKUP(G3468,Referencias!$C$4:$E$21,3,FALSE())","v":3},"3D","Competición",{"$f":"VLOOKUP(C3468,Referencias!$B$24:$C$40,2,FALSE())","v":"IC"}]
["3551280","Melian Santana, Dulce María","Canaria","D",{"$f":"VLOOKUP(G3469,Referencias!$C$4:$D$21,2,FALSE())","v":"Tercera Corazón"},{"$f":"VLOOKUP(G3469,Referencias!$C$4:$E$21,3,FALSE())","v":3},"3C","Competición",{"$f":"VLOOKUP(C3469,Referencias!$B$24:$C$40,2,FALSE())","v":"IC"}]
["3551301","Macías Bethencourt, Ana Rosa","Canaria","D",{"$f":"VLOOKUP(G3470,Referencias!$C$4:$D$21,2,FALSE())","v":"Segunda Corazón"},{"$f":"VLOOKUP(G3470,Referencias!$C$4:$E$21,3,FALSE())","v":2},"2C","Competición",{"$f":"VLOOKUP(C3470,Referencias!$B$24:$C$40,2,FALSE())","v":"IC"}]
["3551309","Fuentes Naranjo, Teresa","Canaria","D",{"$f":"VLOOKUP(G3471,Referencias!$C$4:$D$21,2,FALSE())","v":"Segunda Picas"},{"$f":"VLOOKUP(G3471,Referencias!$C$4:$E$21,3,FALSE())","v":2},"2P","Competición",{"$f":"VLOOKUP(C3471,Referencias!$B$24:$C$40,2,FALSE())","v":"IC"}]
["3551335","Pérez Pérez, Mª Dolores","Canaria","D",{"$f":"VLOOKUP(G3472,Referencias!$C$4:$D$21,2,FALSE())","v":"Segunda Corazón"},{"$f":"VLOOKUP(G3472,Referencias!$C$4:$E$21,3,FALSE())","v":2},"2C","Competición",{"$f":"VLOOKUP(C3472,Referencias!$B$24:$C$40,2,FALSE())","v":"IC"}]
["3551336","Gutierrez Suarez, Flora","Canaria","D",{"$f":"VLOOKUP(G3473,Referencias!$C$4:$D$21,2,FALSE())","v":"Tercera Picas"},{"$f":"VLOOKUP(G3473,Referencias!$C$4:$E$21,3,FALSE())","v":3},"3P","Competición",{"$f":"VLOOKUP(C3473,Referencias!$B$24:$C$40,2,FALSE())","v":"IC"}]
["3551337","Curbelo Araña, Margarita","Canaria","D",{"$f":"VLOOKUP(G3474,Referencias!$C$4:$D$21,2,FALSE())","v":"Sin Categoría"},{"$f":"VLOOKUP(G3474,Referencias!$C$4:$E$21,3,FALSE())","v":4},"SC","Competición",{"$f":"VLOOKUP(C3474,Referencias!$B$24:$C$40,2,FALSE())","v":"IC"}]
["3551342","Lambert, Regina","Canaria","D",{"$f":"VLOOKUP(G3475,Referencias!$C$4:$D$21,2,FALSE())","v":"Tercera Picas"},{"$f":"VLOOKUP(G3475,Referencias!$C$4:$E$21,3,FALSE())","v":3},"3P","Competición",{"$f":"VLOOKUP(C3475,Referencias!$B$24:$C$40,2,FALSE())","v":"IC"}]
["3551345","Gómez García, Mª Carmen","Canaria","D",{"$f":"VLOOKUP(G3476,Referencias!$C$4:$D$21,2,FALSE())","v":"Segunda Corazón"},{"$f":"VLOOKUP(G3476,Referencias!$C$4:$E$21,3,FALSE())","v":2},"2C","Competición",{"$f":"VLOOKUP(C3476,Referencias!$B$24:$C$40,2,FALSE())","v":"IC"}]
["3551347","Tavio Toron, Agustin","Canaria","C",{"$f":"VLOOKUP(G3477,Referencias!$C$4:$D$21,2,FALSE())","v":"Sin Categoría"},{"$f":"VLOOKUP(G3477,Referencias!$C$4:$E$21,3,FALSE())","v":4},"SC","Competición",{"$f":"VLOOKUP(C3477,Referencias!$B$24:$C$40,2,FALSE())","v":"IC"}]
["3551350","Suarez Barber, Isabel","Canaria","D",{"$f":"VLOOKUP(G3478,Referencias!$C$4:$D$21,2,FALSE())","v":"Tercera Diamante"},{"$f":"VLOOKUP(G3478,Referencias!$C$4:$E$21,3,FALSE())","v":3},"3D","Competición",{"$f":"VLOOKUP(C3478,Referencias!$B$24:$C$40,2,FALSE())","v":"IC"}]
["3551351","Díaz-Saavedra Suarez, Margarita","Canaria","D",{"$f":"VLOOKUP(G3479,Referencias!$C$4:$D$21,2,FALSE())","v":"Segunda Corazón"},{"$f":"VLOOKUP(G3479,Referencias!$C$4:$E$21,3,FALSE())","v":2},"2C","Competición",{"$f":"VLOOKUP(C3479,Referencias!$B$24:$C$40,2,FALSE())","v":"IC"}]
["3551354","Marrero Neyra, Mercedes","Canaria","D",{"$f":"VLOOKUP(G3480,Referencias!$C$4:$D$21,2,FALSE())","v":"Segunda Picas"},{"$f":"VLOOKUP(G3480,Referencias!$C$4:$E$21,3,FALSE())","v":2},"2P","Competición",{"$f":"VLOOKUP(C3480,Referencias!$B$24:$C$40,2,FALSE())","v":"IC"}]
["3551377","Gallar Marrero, Mª Mercedes","Canaria","D",{"$f":"VLOOKUP(G3481,Referencias!$C$4:$D$21,2,FALSE())","v":"Segunda Corazón"},{"$f":"VLOOKUP(G3481,Referencias!$C$4:$E$21,3,FALSE())","v":2},"2C","Competición",{"$f":"VLOOKUP(C3481,Referencias!$B$24:$C$40,2,FALSE())","v":"IC"}]
["3551383","Hernández Haddad, Cristina","Canaria","D",{"$f":"VLOOKUP(G3482,Referencias!$C$4:$D$21,2,FALSE())","v":"Primera Picas"},{"$f":"VLOOKUP(G3482,Referencias!$C$4:$E$21,3,FALSE())","v":1},"1P","Competición",{"$f":"VLOOKUP(C3482,Referencias!$B$24:$C$40,2,FALSE())","v":"IC"}]
["3551390","De la Riva Gracia, Amparo","Canaria","D",{"$f":"VLOOKUP(G3483,Referencias!$C$4:$D$21,2,FALSE())","v":"Segunda Picas"},{"$f":"VLOOKUP(G3483,Referencias!$C$4:$E$21,3,FALSE())","v":2},"2P","Competición",{"$f":"VLOOKUP(C3483,Referencias!$B$24:$C$40,2,FALSE())","v":"IC"}]
["3551402","Artiles Betancort, Alicia","Canaria","D",{"$f":"VLOOKUP(G3484,Referencias!$C$4:$D$21,2,FALSE())","v":"Segunda Picas"},{"$f":"VLOOKUP(G3484,Referencias!$C$4:$E$21,3,FALSE())","v":2},"2P","Competición",{"$f":"VLOOKUP(C3484,Referencias!$B$24:$C$40,2,FALSE())","v":"IC"}]
["3551404","Hassan, Joseph","Canaria","C",{"$f":"VLOOKUP(G3485,Referencias!$C$4:$D$21,2,FALSE())","v":"Sin Categoría"},{"$f":"VLOOKUP(G3485,Referencias!$C$4:$E$21,3,FALSE())","v":4},"SC","Competición",{"$f":"VLOOKUP(C3485,Referencias!$B$24:$C$40,2,FALSE())","v":"IC"}]
["3551407","Andreu Pérez, María del Carmen","Canaria","D",{"$f":"VLOOKUP(G3486,Referencias!$C$4:$D$21,2,FALSE())","v":"Tercera Picas"},{"$f":"VLOOKUP(G3486,Referencias!$C$4:$E$21,3,FALSE())","v":3},"3P","Competición",{"$f":"VLOOKUP(C3486,Referencias!$B$24:$C$40,2,FALSE())","v":"IC"}]
["3551421","Mahana Jaber, Carmen","Canaria","D",{"$f":"VLOOKUP(G3487,Referencias!$C$4:$D$21,2,FALSE())","v":"Tercera Diamante"},{"$f":"VLOOKUP(G3487,Referencias!$C$4:$E$21,3,FALSE())","v":3},"3D","Competición",{"$f":"VLOOKUP(C3487,Referencias!$B$24:$C$40,2,FALSE())","v":"IC"}]
["3551431","López Arias, María Teresa","Canaria","D",{"$f":"VLOOKUP(G3488,Referencias!$C$4:$D$21,2,FALSE())","v":"Tercera Picas"},{"$f":"VLOOKUP(G3488,Referencias!$C$4:$E$21,3,FALSE())","v":3},"3P","Competición",{"$f":"VLOOKUP(C3488,Referencias!$B$24:$C$40,2,FALSE())","v":"IC"}]
["3551433","Méndez Altozano, Carlos","Canaria","C",{"$f":"VLOOKUP(G3489,Referencias!$C$4:$D$21,2,FALSE())","v":"Sin Categoría"},{"$f":"VLOOKUP(G3489,Referencias!$C$4:$E$21,3,FALSE())","v":4},"SC","Competición",{"$f":"VLOOKUP(C3489,Referencias!$B$24:$C$40,2,FALSE())","v":"IC"}]
["3551434","Quintana Reyes, Remedios","Canaria","D",{"$f":"VLOOKUP(G3490,Referencias!$C$4:$D$21,2,FALSE())","v":"Tercera Diamante"},{"$f":"VLOOKUP(G3490,Referencias!$C$4:$E$21,3,FALSE())","v":3},"3D","Competición",{"$f":"VLOOKUP(C3490,Referencias!$B$24:$C$40,2,FALSE())","v":"IC"}]
["3551454","Sánchez Rodilla, MªTeresa","Canaria","D",{"$f":"VLOOKUP(G3491,Referencias!$C$4:$D$21,2,FALSE())","v":"Tercera Picas"},{"$f":"VLOOKUP(G3491,Referencias!$C$4:$E$21,3,FALSE())","v":3},"3P","Competición",{"$f":"VLOOKUP(C3491,Referencias!$B$24:$C$40,2,FALSE())","v":"IC"}]
["3551457","Suarez Lorenzo, Ana","Canaria","D",{"$f":"VLOOKUP(G3492,Referencias!$C$4:$D$21,2,FALSE())","v":"Tercera Picas"},{"$f":"VLOOKUP(G3492,Referencias!$C$4:$E$21,3,FALSE())","v":3},"3P","Competición",{"$f":"VLOOKUP(C3492,Referencias!$B$24:$C$40,2,FALSE())","v":"IC"}]
["3551478","Pérez Hernández, Dolores","Canaria","D",{"$f":"VLOOKUP(G3493,Referencias!$C$4:$D$21,2,FALSE())","v":"Sin Categoría"},{"$f":"VLOOKUP(G3493,Referencias!$C$4:$E$21,3,FALSE())","v":4},"SC","Competición",{"$f":"VLOOKUP(C3493,Referencias!$B$24:$C$40,2,FALSE())","v":"IC"}]
["3551481","Maddock, Alan Guy","Canaria","C",{"$f":"VLOOKUP(G3494,Referencias!$C$4:$D$21,2,FALSE())","v":"Primera Picas"},{"$f":"VLOOKUP(G3494,Referencias!$C$4:$E$21,3,FALSE())","v":1},"1P","Competición",{"$f":"VLOOKUP(C3494,Referencias!$B$24:$C$40,2,FALSE())","v":"IC"}]
["3551489","González Gil, Gloria","Canaria","D",{"$f":"VLOOKUP(G3495,Referencias!$C$4:$D$21,2,FALSE())","v":"Primera Corazón"},{"$f":"VLOOKUP(G3495,Referencias!$C$4:$E$21,3,FALSE())","v":1},"1C","Competición",{"$f":"VLOOKUP(C3495,Referencias!$B$24:$C$40,2,FALSE())","v":"IC"}]
["3551503","Pérez Hernández, Blanca Rosa","Canaria","D",{"$f":"VLOOKUP(G3496,Referencias!$C$4:$D$21,2,FALSE())","v":"Sin Categoría"},{"$f":"VLOOKUP(G3496,Referencias!$C$4:$E$21,3,FALSE())","v":4},"SC","Competición",{"$f":"VLOOKUP(C3496,Referencias!$B$24:$C$40,2,FALSE())","v":"IC"}]
["3551509","Toledo Miranda, Irene","Canaria","D",{"$f":"VLOOKUP(G3497,Referencias!$C$4:$D$21,2,FALSE())","v":"Sin Categoría"},{"$f":"VLOOKUP(G3497,Referencias!$C$4:$E$21,3,FALSE())","v":4},"SC","Competición",{"$f":"VLOOKUP(C3497,Referencias!$B$24:$C$40,2,FALSE())","v":"IC"}]
["3551514","Pérez Díaz, Sofía","Canaria","D",{"$f":"VLOOKUP(G3498,Referencias!$C$4:$D$21,2,FALSE())","v":"Primera Picas"},{"$f":"VLOOKUP(G3498,Referencias!$C$4:$E$21,3,FALSE())","v":1},"1P","Competición",{"$f":"VLOOKUP(C3498,Referencias!$B$24:$C$40,2,FALSE())","v":"IC"}]
["3551515","Chesa Padrón, Rosario","Canaria","D",{"$f":"VLOOKUP(G3499,Referencias!$C$4:$D$21,2,FALSE())","v":"Segunda Corazón"},{"$f":"VLOOKUP(G3499,Referencias!$C$4:$E$21,3,FALSE())","v":2},"2C","Competición",{"$f":"VLOOKUP(C3499,Referencias!$B$24:$C$40,2,FALSE())","v":"IC"}]
["3551521","Ortíz Barber, Mª Pilar","Canaria","D",{"$f":"VLOOKUP(G3500,Referencias!$C$4:$D$21,2,FALSE())","v":"Tercera Corazón"},{"$f":"VLOOKUP(G3500,Referencias!$C$4:$E$21,3,FALSE())","v":3},"3C","Competición",{"$f":"VLOOKUP(C3500,Referencias!$B$24:$C$40,2,FALSE())","v":"IC"}]
["3551523","Ferrer Espino, Gloria","Canaria","D",{"$f":"VLOOKUP(G3501,Referencias!$C$4:$D$21,2,FALSE())","v":"Tercera Corazón"},{"$f":"VLOOKUP(G3501,Referencias!$C$4:$E$21,3,FALSE())","v":3},"3C","Competición",{"$f":"VLOOKUP(C3501,Referencias!$B$24:$C$40,2,FALSE())","v":"IC"}]
["3551524","Machín Rodríguez, Berta","Canaria","D",{"$f":"VLOOKUP(G3502,Referencias!$C$4:$D$21,2,FALSE())","v":"Tercera Picas"},{"$f":"VLOOKUP(G3502,Referencias!$C$4:$E$21,3,FALSE())","v":3},"3P","Competición",{"$f":"VLOOKUP(C3502,Referencias!$B$24:$C$40,2,FALSE())","v":"IC"}]
["3551537","Cabeza Luque, Araceli","Canaria","D",{"$f":"VLOOKUP(G3503,Referencias!$C$4:$D$21,2,FALSE())","v":"Tercera Picas"},{"$f":"VLOOKUP(G3503,Referencias!$C$4:$E$21,3,FALSE())","v":3},"3P","Competición",{"$f":"VLOOKUP(C3503,Referencias!$B$24:$C$40,2,FALSE())","v":"IC"}]
["3551542","Larriba Rodriguez, Maribel","Canaria","D",{"$f":"VLOOKUP(G3504,Referencias!$C$4:$D$21,2,FALSE())","v":"Tercera Picas"},{"$f":"VLOOKUP(G3504,Referencias!$C$4:$E$21,3,FALSE())","v":3},"3P","Competición",{"$f":"VLOOKUP(C3504,Referencias!$B$24:$C$40,2,FALSE())","v":"IC"}]
["3551552","Saavedra Alvarado, María Luisa","Canaria","D",{"$f":"VLOOKUP(G3505,Referencias!$C$4:$D$21,2,FALSE())","v":"Segunda Corazón"},{"$f":"VLOOKUP(G3505,Referencias!$C$4:$E$21,3,FALSE())","v":2},"2C","Competición",{"$f":"VLOOKUP(C3505,Referencias!$B$24:$C$40,2,FALSE())","v":"IC"}]
["3551558","Molina Martín, Saro","Canaria","D",{"$f":"VLOOKUP(G3506,Referencias!$C$4:$D$21,2,FALSE())","v":"Segunda Picas"},{"$f":"VLOOKUP(G3506,Referencias!$C$4:$E$21,3,FALSE())","v":2},"2P","Competición",{"$f":"VLOOKUP(C3506,Referencias!$B$24:$C$40,2,FALSE())","v":"IC"}]
["3551559","Alvarado Janina, Soledad","Canaria","D",{"$f":"VLOOKUP(G3507,Referencias!$C$4:$D$21,2,FALSE())","v":"Tercera Diamante"},{"$f":"VLOOKUP(G3507,Referencias!$C$4:$E$21,3,FALSE())","v":3},"3D","Competición",{"$f":"VLOOKUP(C3507,Referencias!$B$24:$C$40,2,FALSE())","v":"IC"}]
["3551563","Ibrahim Alí, Zarife","Canaria","D",{"$f":"VLOOKUP(G3508,Referencias!$C$4:$D$21,2,FALSE())","v":"Tercera Diamante"},{"$f":"VLOOKUP(G3508,Referencias!$C$4:$E$21,3,FALSE())","v":3},"3D","Competición",{"$f":"VLOOKUP(C3508,Referencias!$B$24:$C$40,2,FALSE())","v":"IC"}]
["3551571","Wolf-Juif, Brigitte","Canaria","D",{"$f":"VLOOKUP(G3509,Referencias!$C$4:$D$21,2,FALSE())","v":"Primera Corazón"},{"$f":"VLOOKUP(G3509,Referencias!$C$4:$E$21,3,FALSE())","v":1},"1C","Competición",{"$f":"VLOOKUP(C3509,Referencias!$B$24:$C$40,2,FALSE())","v":"IC"}]
["3551572","Grant, Gisela","Canaria","D",{"$f":"VLOOKUP(G3510,Referencias!$C$4:$D$21,2,FALSE())","v":"Tercera Diamante"},{"$f":"VLOOKUP(G3510,Referencias!$C$4:$E$21,3,FALSE())","v":3},"3D","Competición",{"$f":"VLOOKUP(C3510,Referencias!$B$24:$C$40,2,FALSE())","v":"IC"}]
["3551605","Villamor Ramírez, Carmen","Canaria","D",{"$f":"VLOOKUP(G3511,Referencias!$C$4:$D$21,2,FALSE())","v":"Tercera Picas"},{"$f":"VLOOKUP(G3511,Referencias!$C$4:$E$21,3,FALSE())","v":3},"3P","Competición",{"$f":"VLOOKUP(C3511,Referencias!$B$24:$C$40,2,FALSE())","v":"IC"}]
["3551608","Bosch Caballero, María del Carmen","Canaria","D",{"$f":"VLOOKUP(G3512,Referencias!$C$4:$D$21,2,FALSE())","v":"Tercera Picas"},{"$f":"VLOOKUP(G3512,Referencias!$C$4:$E$21,3,FALSE())","v":3},"3P","Competición",{"$f":"VLOOKUP(C3512,Referencias!$B$24:$C$40,2,FALSE())","v":"IC"}]
["3551610","Torres Hidalgo, María del Carmen","Canaria","D",{"$f":"VLOOKUP(G3513,Referencias!$C$4:$D$21,2,FALSE())","v":"Segunda Diamante"},{"$f":"VLOOKUP(G3513,Referencias!$C$4:$E$21,3,FALSE())","v":2},"2D","Competición",{"$f":"VLOOKUP(C3513,Referencias!$B$24:$C$40,2,FALSE())","v":"IC"}]
["3551612","Ferrer Quintana, María Jesús","Canaria","D",{"$f":"VLOOKUP(G3514,Referencias!$C$4:$D$21,2,FALSE())","v":"Primera Picas"},{"$f":"VLOOKUP(G3514,Referencias!$C$4:$E$21,3,FALSE())","v":1},"1P","Competición",{"$f":"VLOOKUP(C3514,Referencias!$B$24:$C$40,2,FALSE())","v":"IC"}]
["3551617","Benítez Suárez, María del Carmen","Canaria","D",{"$f":"VLOOKUP(G3515,Referencias!$C$4:$D$21,2,FALSE())","v":"Tercera Diamante"},{"$f":"VLOOKUP(G3515,Referencias!$C$4:$E$21,3,FALSE())","v":3},"3D","Competición",{"$f":"VLOOKUP(C3515,Referencias!$B$24:$C$40,2,FALSE())","v":"IC"}]
["3551624","Fierro Alvarez, Augusto","Canaria","C",{"$f":"VLOOKUP(G3516,Referencias!$C$4:$D$21,2,FALSE())","v":"Tercera Diamante"},{"$f":"VLOOKUP(G3516,Referencias!$C$4:$E$21,3,FALSE())","v":3},"3D","Competición",{"$f":"VLOOKUP(C3516,Referencias!$B$24:$C$40,2,FALSE())","v":"IC"}]
["3551644","Hernández Sánchez, Mª Socorro","Canaria","D",{"$f":"VLOOKUP(G3517,Referencias!$C$4:$D$21,2,FALSE())","v":"Tercera Corazón"},{"$f":"VLOOKUP(G3517,Referencias!$C$4:$E$21,3,FALSE())","v":3},"3C","Competición",{"$f":"VLOOKUP(C3517,Referencias!$B$24:$C$40,2,FALSE())","v":"IC"}]
["3551645","Bravo de Laguna y Manrique de Lara, Ana","Canaria","D",{"$f":"VLOOKUP(G3518,Referencias!$C$4:$D$21,2,FALSE())","v":"Tercera Corazón"},{"$f":"VLOOKUP(G3518,Referencias!$C$4:$E$21,3,FALSE())","v":3},"3C","Competición",{"$f":"VLOOKUP(C3518,Referencias!$B$24:$C$40,2,FALSE())","v":"IC"}]
["3551647","Rodrigo Alemán, María Victoria","Canaria","D",{"$f":"VLOOKUP(G3519,Referencias!$C$4:$D$21,2,FALSE())","v":"Tercera Corazón"},{"$f":"VLOOKUP(G3519,Referencias!$C$4:$E$21,3,FALSE())","v":3},"3C","Competición",{"$f":"VLOOKUP(C3519,Referencias!$B$24:$C$40,2,FALSE())","v":"IC"}]
["3551648","González de Chavez Fdez., Magdalena","Canaria","D",{"$f":"VLOOKUP(G3520,Referencias!$C$4:$D$21,2,FALSE())","v":"Segunda Corazón"},{"$f":"VLOOKUP(G3520,Referencias!$C$4:$E$21,3,FALSE())","v":2},"2C","Competición",{"$f":"VLOOKUP(C3520,Referencias!$B$24:$C$40,2,FALSE())","v":"IC"}]
["3551651","Oramas Manrique de Lara, Pilar","Canaria","D",{"$f":"VLOOKUP(G3521,Referencias!$C$4:$D$21,2,FALSE())","v":"Tercera Corazón"},{"$f":"VLOOKUP(G3521,Referencias!$C$4:$E$21,3,FALSE())","v":3},"3C","Competición",{"$f":"VLOOKUP(C3521,Referencias!$B$24:$C$40,2,FALSE())","v":"IC"}]
["3551652","Navarro Esteva, María Dolores","Canaria","D",{"$f":"VLOOKUP(G3522,Referencias!$C$4:$D$21,2,FALSE())","v":"Tercera Corazón"},{"$f":"VLOOKUP(G3522,Referencias!$C$4:$E$21,3,FALSE())","v":3},"3C","Competición",{"$f":"VLOOKUP(C3522,Referencias!$B$24:$C$40,2,FALSE())","v":"IC"}]
["3551653","Navarro Galbán, Jesús","Canaria","C",{"$f":"VLOOKUP(G3523,Referencias!$C$4:$D$21,2,FALSE())","v":"Sin Categoría"},{"$f":"VLOOKUP(G3523,Referencias!$C$4:$E$21,3,FALSE())","v":4},"SC","Competición",{"$f":"VLOOKUP(C3523,Referencias!$B$24:$C$40,2,FALSE())","v":"IC"}]
["3551657","Comps, Rosario","Canaria","D",{"$f":"VLOOKUP(G3524,Referencias!$C$4:$D$21,2,FALSE())","v":"Tercera Diamante"},{"$f":"VLOOKUP(G3524,Referencias!$C$4:$E$21,3,FALSE())","v":3},"3D","Competición",{"$f":"VLOOKUP(C3524,Referencias!$B$24:$C$40,2,FALSE())","v":"IC"}]
["3551658","Coll González, Teresa","Canaria","D",{"$f":"VLOOKUP(G3525,Referencias!$C$4:$D$21,2,FALSE())","v":"Sin Categoría"},{"$f":"VLOOKUP(G3525,Referencias!$C$4:$E$21,3,FALSE())","v":4},"SC","Competición",{"$f":"VLOOKUP(C3525,Referencias!$B$24:$C$40,2,FALSE())","v":"IC"}]
["3551665","Pérez Morales, María Araceli","Canaria","D",{"$f":"VLOOKUP(G3526,Referencias!$C$4:$D$21,2,FALSE())","v":"Sin Categoría"},{"$f":"VLOOKUP(G3526,Referencias!$C$4:$E$21,3,FALSE())","v":4},"SC","Competición",{"$f":"VLOOKUP(C3526,Referencias!$B$24:$C$40,2,FALSE())","v":"IC"}]
["3551666","Chamorro Estevez, Alfonso","Canaria","C",{"$f":"VLOOKUP(G3527,Referencias!$C$4:$D$21,2,FALSE())","v":"Primera Picas"},{"$f":"VLOOKUP(G3527,Referencias!$C$4:$E$21,3,FALSE())","v":1},"1P","Competición",{"$f":"VLOOKUP(C3527,Referencias!$B$24:$C$40,2,FALSE())","v":"IC"}]
["3551669","Imholz Martín, Ruth","Canaria","D",{"$f":"VLOOKUP(G3528,Referencias!$C$4:$D$21,2,FALSE())","v":"Tercera Corazón"},{"$f":"VLOOKUP(G3528,Referencias!$C$4:$E$21,3,FALSE())","v":3},"3C","Competición",{"$f":"VLOOKUP(C3528,Referencias!$B$24:$C$40,2,FALSE())","v":"IC"}]
["3551670","Mejias Romero, Mª Dolores","Canaria","D",{"$f":"VLOOKUP(G3529,Referencias!$C$4:$D$21,2,FALSE())","v":"Segunda Diamante"},{"$f":"VLOOKUP(G3529,Referencias!$C$4:$E$21,3,FALSE())","v":2},"2D","Competición",{"$f":"VLOOKUP(C3529,Referencias!$B$24:$C$40,2,FALSE())","v":"IC"}]
["3551698","Grau del Campo, María Concepción","Canaria","D",{"$f":"VLOOKUP(G3530,Referencias!$C$4:$D$21,2,FALSE())","v":"Tercera Corazón"},{"$f":"VLOOKUP(G3530,Referencias!$C$4:$E$21,3,FALSE())","v":3},"3C","Competición",{"$f":"VLOOKUP(C3530,Referencias!$B$24:$C$40,2,FALSE())","v":"IC"}]
["3551699","Acedo Marchena, Dori","Canaria","D",{"$f":"VLOOKUP(G3531,Referencias!$C$4:$D$21,2,FALSE())","v":"Tercera Diamante"},{"$f":"VLOOKUP(G3531,Referencias!$C$4:$E$21,3,FALSE())","v":3},"3D","Competición",{"$f":"VLOOKUP(C3531,Referencias!$B$24:$C$40,2,FALSE())","v":"IC"}]
["3551703","Afonso Rodríguez, María Nieves","Canaria","D",{"$f":"VLOOKUP(G3532,Referencias!$C$4:$D$21,2,FALSE())","v":"Segunda Corazón"},{"$f":"VLOOKUP(G3532,Referencias!$C$4:$E$21,3,FALSE())","v":2},"2C","Competición",{"$f":"VLOOKUP(C3532,Referencias!$B$24:$C$40,2,FALSE())","v":"IC"}]
["3551704","Rodriguez Jorge, Francisco","Canaria","C",{"$f":"VLOOKUP(G3533,Referencias!$C$4:$D$21,2,FALSE())","v":"Segunda Diamante"},{"$f":"VLOOKUP(G3533,Referencias!$C$4:$E$21,3,FALSE())","v":2},"2D","Competición",{"$f":"VLOOKUP(C3533,Referencias!$B$24:$C$40,2,FALSE())","v":"IC"}]
["3551716","Malé, María Luisa","Canaria","D",{"$f":"VLOOKUP(G3534,Referencias!$C$4:$D$21,2,FALSE())","v":"Tercera Diamante"},{"$f":"VLOOKUP(G3534,Referencias!$C$4:$E$21,3,FALSE())","v":3},"3D","Competición",{"$f":"VLOOKUP(C3534,Referencias!$B$24:$C$40,2,FALSE())","v":"IC"}]
["3551717","Henriquez Blanco, Joaquin","Canaria","C",{"$f":"VLOOKUP(G3535,Referencias!$C$4:$D$21,2,FALSE())","v":"Segunda Diamante"},{"$f":"VLOOKUP(G3535,Referencias!$C$4:$E$21,3,FALSE())","v":2},"2D","Competición",{"$f":"VLOOKUP(C3535,Referencias!$B$24:$C$40,2,FALSE())","v":"IC"}]
["3551718","Alzola Hernández, Marta","Canaria","D",{"$f":"VLOOKUP(G3536,Referencias!$C$4:$D$21,2,FALSE())","v":"Segunda Diamante"},{"$f":"VLOOKUP(G3536,Referencias!$C$4:$E$21,3,FALSE())","v":2},"2D","Competición",{"$f":"VLOOKUP(C3536,Referencias!$B$24:$C$40,2,FALSE())","v":"IC"}]
["3551719","Stenlund, Lasse","Canaria","C",{"$f":"VLOOKUP(G3537,Referencias!$C$4:$D$21,2,FALSE())","v":"Sin Categoría"},{"$f":"VLOOKUP(G3537,Referencias!$C$4:$E$21,3,FALSE())","v":4},"SC","Competición",{"$f":"VLOOKUP(C3537,Referencias!$B$24:$C$40,2,FALSE())","v":"IC"}]
["3551736","Pérez González, Margarita","Canaria","D",{"$f":"VLOOKUP(G3538,Referencias!$C$4:$D$21,2,FALSE())","v":"Sin Categoría"},{"$f":"VLOOKUP(G3538,Referencias!$C$4:$E$21,3,FALSE())","v":4},"SC","Competición",{"$f":"VLOOKUP(C3538,Referencias!$B$24:$C$40,2,FALSE())","v":"IC"}]
["3551760","Lofberg, Ann","Canaria","D",{"$f":"VLOOKUP(G3539,Referencias!$C$4:$D$21,2,FALSE())","v":"Tercera Diamante"},{"$f":"VLOOKUP(G3539,Referencias!$C$4:$E$21,3,FALSE())","v":3},"3D","Competición",{"$f":"VLOOKUP(C3539,Referencias!$B$24:$C$40,2,FALSE())","v":"IC"}]
["3551766","Barreto Pacheco, Trinidad","Canaria","D",{"$f":"VLOOKUP(G3540,Referencias!$C$4:$D$21,2,FALSE())","v":"Tercera Diamante"},{"$f":"VLOOKUP(G3540,Referencias!$C$4:$E$21,3,FALSE())","v":3},"3D","Competición",{"$f":"VLOOKUP(C3540,Referencias!$B$24:$C$40,2,FALSE())","v":"IC"}]
["3551767","Reguilón Fajardo, Remedios","Canaria","D",{"$f":"VLOOKUP(G3541,Referencias!$C$4:$D$21,2,FALSE())","v":"Sin Categoría"},{"$f":"VLOOKUP(G3541,Referencias!$C$4:$E$21,3,FALSE())","v":4},"SC","Competición",{"$f":"VLOOKUP(C3541,Referencias!$B$24:$C$40,2,FALSE())","v":"IC"}]
["3551772","Karlsen, Sverre","Canaria","C",{"$f":"VLOOKUP(G3542,Referencias!$C$4:$D$21,2,FALSE())","v":"Segunda Picas"},{"$f":"VLOOKUP(G3542,Referencias!$C$4:$E$21,3,FALSE())","v":2},"2P","Competición",{"$f":"VLOOKUP(C3542,Referencias!$B$24:$C$40,2,FALSE())","v":"IC"}]
["3551782","Runnqvuist, Bjoern","Canaria","C",{"$f":"VLOOKUP(G3543,Referencias!$C$4:$D$21,2,FALSE())","v":"Tercera Diamante"},{"$f":"VLOOKUP(G3543,Referencias!$C$4:$E$21,3,FALSE())","v":3},"3D","Competición",{"$f":"VLOOKUP(C3543,Referencias!$B$24:$C$40,2,FALSE())","v":"IC"}]
["3551785","Werner, Christer","Canaria","C",{"$f":"VLOOKUP(G3544,Referencias!$C$4:$D$21,2,FALSE())","v":"Sin Categoría"},{"$f":"VLOOKUP(G3544,Referencias!$C$4:$E$21,3,FALSE())","v":4},"SC","Competición",{"$f":"VLOOKUP(C3544,Referencias!$B$24:$C$40,2,FALSE())","v":"IC"}]
["3551787","Arcos Hidalgo, María de los Ángeles","Canaria","D",{"$f":"VLOOKUP(G3545,Referencias!$C$4:$D$21,2,FALSE())","v":"Primera Corazón"},{"$f":"VLOOKUP(G3545,Referencias!$C$4:$E$21,3,FALSE())","v":1},"1C","Competición",{"$f":"VLOOKUP(C3545,Referencias!$B$24:$C$40,2,FALSE())","v":"IC"}]
["3551790","Andreu Pérez, Eugenia","Canaria","D",{"$f":"VLOOKUP(G3546,Referencias!$C$4:$D$21,2,FALSE())","v":"Tercera Picas"},{"$f":"VLOOKUP(G3546,Referencias!$C$4:$E$21,3,FALSE())","v":3},"3P","Competición",{"$f":"VLOOKUP(C3546,Referencias!$B$24:$C$40,2,FALSE())","v":"IC"}]
["3551802","Ferno, Sabine","Canaria","D",{"$f":"VLOOKUP(G3547,Referencias!$C$4:$D$21,2,FALSE())","v":"Primera Corazón"},{"$f":"VLOOKUP(G3547,Referencias!$C$4:$E$21,3,FALSE())","v":1},"1C","Competición",{"$f":"VLOOKUP(C3547,Referencias!$B$24:$C$40,2,FALSE())","v":"IC"}]
["3551811","García Ormaechea y Quero, Francisco Javier","Canaria","C",{"$f":"VLOOKUP(G3548,Referencias!$C$4:$D$21,2,FALSE())","v":"Tercera Diamante"},{"$f":"VLOOKUP(G3548,Referencias!$C$4:$E$21,3,FALSE())","v":3},"3D","Competición",{"$f":"VLOOKUP(C3548,Referencias!$B$24:$C$40,2,FALSE())","v":"IC"}]
["3551823","Caubín Hernández, Rosario","Canaria","D",{"$f":"VLOOKUP(G3549,Referencias!$C$4:$D$21,2,FALSE())","v":"Tercera Corazón"},{"$f":"VLOOKUP(G3549,Referencias!$C$4:$E$21,3,FALSE())","v":3},"3C","Competición",{"$f":"VLOOKUP(C3549,Referencias!$B$24:$C$40,2,FALSE())","v":"IC"}]
["3551828","Martín Fernández de Larrinoa, Nandy","Canaria","C",{"$f":"VLOOKUP(G3550,Referencias!$C$4:$D$21,2,FALSE())","v":"Tercera Corazón"},{"$f":"VLOOKUP(G3550,Referencias!$C$4:$E$21,3,FALSE())","v":3},"3C","Competición",{"$f":"VLOOKUP(C3550,Referencias!$B$24:$C$40,2,FALSE())","v":"IC"}]
["3551830","Nuñez Gónzalez, José Vicente","Canaria","C",{"$f":"VLOOKUP(G3551,Referencias!$C$4:$D$21,2,FALSE())","v":"Segunda Diamante"},{"$f":"VLOOKUP(G3551,Referencias!$C$4:$E$21,3,FALSE())","v":2},"2D","Competición",{"$f":"VLOOKUP(C3551,Referencias!$B$24:$C$40,2,FALSE())","v":"IC"}]
["3551853","Duque de Lara, Manuel Fernando","Canaria","C",{"$f":"VLOOKUP(G3552,Referencias!$C$4:$D$21,2,FALSE())","v":"Segunda Picas"},{"$f":"VLOOKUP(G3552,Referencias!$C$4:$E$21,3,FALSE())","v":2},"2P","Competición",{"$f":"VLOOKUP(C3552,Referencias!$B$24:$C$40,2,FALSE())","v":"IC"}]
["3551860","García Martínez, Enrique","Canaria","C",{"$f":"VLOOKUP(G3553,Referencias!$C$4:$D$21,2,FALSE())","v":"Tercera Picas"},{"$f":"VLOOKUP(G3553,Referencias!$C$4:$E$21,3,FALSE())","v":3},"3P","Competición",{"$f":"VLOOKUP(C3553,Referencias!$B$24:$C$40,2,FALSE())","v":"IC"}]
["3551865","González León, Mª del Carmen","Canaria","D",{"$f":"VLOOKUP(G3554,Referencias!$C$4:$D$21,2,FALSE())","v":"Tercera Picas"},{"$f":"VLOOKUP(G3554,Referencias!$C$4:$E$21,3,FALSE())","v":3},"3P","Competición",{"$f":"VLOOKUP(C3554,Referencias!$B$24:$C$40,2,FALSE())","v":"IC"}]
["3551869","Hernández Spinola, Matilde de Rosalía","Canaria","D",{"$f":"VLOOKUP(G3555,Referencias!$C$4:$D$21,2,FALSE())","v":"Sin Categoría"},{"$f":"VLOOKUP(G3555,Referencias!$C$4:$E$21,3,FALSE())","v":4},"SC","Competición",{"$f":"VLOOKUP(C3555,Referencias!$B$24:$C$40,2,FALSE())","v":"IC"}]
["3551871","Álvarez Medina, Marta","Canaria","D",{"$f":"VLOOKUP(G3556,Referencias!$C$4:$D$21,2,FALSE())","v":"Tercera Diamante"},{"$f":"VLOOKUP(G3556,Referencias!$C$4:$E$21,3,FALSE())","v":3},"3D","Competición",{"$f":"VLOOKUP(C3556,Referencias!$B$24:$C$40,2,FALSE())","v":"IC"}]
["3551873","Salas Torres, Margarita","Canaria","D",{"$f":"VLOOKUP(G3557,Referencias!$C$4:$D$21,2,FALSE())","v":"Tercera Corazón"},{"$f":"VLOOKUP(G3557,Referencias!$C$4:$E$21,3,FALSE())","v":3},"3C","Competición",{"$f":"VLOOKUP(C3557,Referencias!$B$24:$C$40,2,FALSE())","v":"IC"}]
["3551874","Vela-Hidalgo Gómez, Blanca","Canaria","D",{"$f":"VLOOKUP(G3558,Referencias!$C$4:$D$21,2,FALSE())","v":"Sin Categoría"},{"$f":"VLOOKUP(G3558,Referencias!$C$4:$E$21,3,FALSE())","v":4},"SC","Competición",{"$f":"VLOOKUP(C3558,Referencias!$B$24:$C$40,2,FALSE())","v":"IC"}]
["3551875","González de Chávez Menéndez, Felicidad","Canaria","D",{"$f":"VLOOKUP(G3559,Referencias!$C$4:$D$21,2,FALSE())","v":"Tercera Diamante"},{"$f":"VLOOKUP(G3559,Referencias!$C$4:$E$21,3,FALSE())","v":3},"3D","Competición",{"$f":"VLOOKUP(C3559,Referencias!$B$24:$C$40,2,FALSE())","v":"IC"}]
["3551878","Sanchéz Hernández Francés, Victoria","Canaria","D",{"$f":"VLOOKUP(G3560,Referencias!$C$4:$D$21,2,FALSE())","v":"Segunda Diamante"},{"$f":"VLOOKUP(G3560,Referencias!$C$4:$E$21,3,FALSE())","v":2},"2D","Competición",{"$f":"VLOOKUP(C3560,Referencias!$B$24:$C$40,2,FALSE())","v":"IC"}]
["3551879","Goyes Rodríguez, María Isabel","Canaria","D",{"$f":"VLOOKUP(G3561,Referencias!$C$4:$D$21,2,FALSE())","v":"Tercera Corazón"},{"$f":"VLOOKUP(G3561,Referencias!$C$4:$E$21,3,FALSE())","v":3},"3C","Competición",{"$f":"VLOOKUP(C3561,Referencias!$B$24:$C$40,2,FALSE())","v":"IC"}]
["3551880","Boudineau Bang, Violette","Canaria","D",{"$f":"VLOOKUP(G3562,Referencias!$C$4:$D$21,2,FALSE())","v":"Tercera Corazón"},{"$f":"VLOOKUP(G3562,Referencias!$C$4:$E$21,3,FALSE())","v":3},"3C","Competición",{"$f":"VLOOKUP(C3562,Referencias!$B$24:$C$40,2,FALSE())","v":"IC"}]
["3551884","Dorado Juárez, María Dolores","Canaria","D",{"$f":"VLOOKUP(G3563,Referencias!$C$4:$D$21,2,FALSE())","v":"Tercera Corazón"},{"$f":"VLOOKUP(G3563,Referencias!$C$4:$E$21,3,FALSE())","v":3},"3C","Competición",{"$f":"VLOOKUP(C3563,Referencias!$B$24:$C$40,2,FALSE())","v":"IC"}]
["3551885","Nielsen, Hanne","Canaria","C",{"$f":"VLOOKUP(G3564,Referencias!$C$4:$D$21,2,FALSE())","v":"Segunda Diamante"},{"$f":"VLOOKUP(G3564,Referencias!$C$4:$E$21,3,FALSE())","v":2},"2D","Competición",{"$f":"VLOOKUP(C3564,Referencias!$B$24:$C$40,2,FALSE())","v":"IC"}]
["3551886","López Cabrera, Marisol","Canaria","D",{"$f":"VLOOKUP(G3565,Referencias!$C$4:$D$21,2,FALSE())","v":"Tercera Diamante"},{"$f":"VLOOKUP(G3565,Referencias!$C$4:$E$21,3,FALSE())","v":3},"3D","Competición",{"$f":"VLOOKUP(C3565,Referencias!$B$24:$C$40,2,FALSE())","v":"IC"}]
["3551888","Ocampos Márquez, Ana Graciela","Canaria","D",{"$f":"VLOOKUP(G3566,Referencias!$C$4:$D$21,2,FALSE())","v":"Tercera Diamante"},{"$f":"VLOOKUP(G3566,Referencias!$C$4:$E$21,3,FALSE())","v":3},"3D","Competición",{"$f":"VLOOKUP(C3566,Referencias!$B$24:$C$40,2,FALSE())","v":"IC"}]
["3551890","Martín Hernández, María Teresa","Canaria","D",{"$f":"VLOOKUP(G3567,Referencias!$C$4:$D$21,2,FALSE())","v":"Tercera Corazón"},{"$f":"VLOOKUP(G3567,Referencias!$C$4:$E$21,3,FALSE())","v":3},"3C","Competición",{"$f":"VLOOKUP(C3567,Referencias!$B$24:$C$40,2,FALSE())","v":"IC"}]
["3551891","García Fuentes, Margarita","Canaria","D",{"$f":"VLOOKUP(G3568,Referencias!$C$4:$D$21,2,FALSE())","v":"Tercera Diamante"},{"$f":"VLOOKUP(G3568,Referencias!$C$4:$E$21,3,FALSE())","v":3},"3D","Competición",{"$f":"VLOOKUP(C3568,Referencias!$B$24:$C$40,2,FALSE())","v":"IC"}]
["3551893","González Amador, Carmen Gori","Canaria","D",{"$f":"VLOOKUP(G3569,Referencias!$C$4:$D$21,2,FALSE())","v":"Tercera Diamante"},{"$f":"VLOOKUP(G3569,Referencias!$C$4:$E$21,3,FALSE())","v":3},"3D","Competición",{"$f":"VLOOKUP(C3569,Referencias!$B$24:$C$40,2,FALSE())","v":"IC"}]
["3551897","Lara Sentis, MªTeresa","Canaria","D",{"$f":"VLOOKUP(G3570,Referencias!$C$4:$D$21,2,FALSE())","v":"Sin Categoría"},{"$f":"VLOOKUP(G3570,Referencias!$C$4:$E$21,3,FALSE())","v":4},"SC","Competición",{"$f":"VLOOKUP(C3570,Referencias!$B$24:$C$40,2,FALSE())","v":"IC"}]
["3551898","Ramos Prats, Manuel","Canaria","C",{"$f":"VLOOKUP(G3571,Referencias!$C$4:$D$21,2,FALSE())","v":"Tercera Picas"},{"$f":"VLOOKUP(G3571,Referencias!$C$4:$E$21,3,FALSE())","v":3},"3P","Competición",{"$f":"VLOOKUP(C3571,Referencias!$B$24:$C$40,2,FALSE())","v":"IC"}]
["3551899","Maya Díaz de Lezcano, Hortensia","Canaria","D",{"$f":"VLOOKUP(G3572,Referencias!$C$4:$D$21,2,FALSE())","v":"Tercera Diamante"},{"$f":"VLOOKUP(G3572,Referencias!$C$4:$E$21,3,FALSE())","v":3},"3D","Competición",{"$f":"VLOOKUP(C3572,Referencias!$B$24:$C$40,2,FALSE())","v":"IC"}]
["3551900","Martín Férnandez de Larrinoa, Katy","Canaria","D",{"$f":"VLOOKUP(G3573,Referencias!$C$4:$D$21,2,FALSE())","v":"Tercera Corazón"},{"$f":"VLOOKUP(G3573,Referencias!$C$4:$E$21,3,FALSE())","v":3},"3C","Competición",{"$f":"VLOOKUP(C3573,Referencias!$B$24:$C$40,2,FALSE())","v":"IC"}]
["3551901","Díez Betriu, Carmen","Canaria","D",{"$f":"VLOOKUP(G3574,Referencias!$C$4:$D$21,2,FALSE())","v":"Sin Categoría"},{"$f":"VLOOKUP(G3574,Referencias!$C$4:$E$21,3,FALSE())","v":4},"SC","Competición",{"$f":"VLOOKUP(C3574,Referencias!$B$24:$C$40,2,FALSE())","v":"IC"}]
["3551908","Plans Gómez, José Maria","Canaria","C",{"$f":"VLOOKUP(G3575,Referencias!$C$4:$D$21,2,FALSE())","v":"Tercera Picas"},{"$f":"VLOOKUP(G3575,Referencias!$C$4:$E$21,3,FALSE())","v":3},"3P","Competición",{"$f":"VLOOKUP(C3575,Referencias!$B$24:$C$40,2,FALSE())","v":"IC"}]
["3551913","Garcés Pérez, Clara Isabel","Canaria","D",{"$f":"VLOOKUP(G3576,Referencias!$C$4:$D$21,2,FALSE())","v":"Tercera Corazón"},{"$f":"VLOOKUP(G3576,Referencias!$C$4:$E$21,3,FALSE())","v":3},"3C","Competición",{"$f":"VLOOKUP(C3576,Referencias!$B$24:$C$40,2,FALSE())","v":"IC"}]
["3551914","Almeida González, Juan Jesús","Canaria","C",{"$f":"VLOOKUP(G3577,Referencias!$C$4:$D$21,2,FALSE())","v":"Tercera Diamante"},{"$f":"VLOOKUP(G3577,Referencias!$C$4:$E$21,3,FALSE())","v":3},"3D","Competición",{"$f":"VLOOKUP(C3577,Referencias!$B$24:$C$40,2,FALSE())","v":"IC"}]
["3551917","Pulido, Rosa","Canaria","D",{"$f":"VLOOKUP(G3578,Referencias!$C$4:$D$21,2,FALSE())","v":"Tercera Corazón"},{"$f":"VLOOKUP(G3578,Referencias!$C$4:$E$21,3,FALSE())","v":3},"3C","Competición",{"$f":"VLOOKUP(C3578,Referencias!$B$24:$C$40,2,FALSE())","v":"IC"}]
["3551921","Hinestrosa Peco, Manuela","Canaria","D",{"$f":"VLOOKUP(G3579,Referencias!$C$4:$D$21,2,FALSE())","v":"Segunda Corazón"},{"$f":"VLOOKUP(G3579,Referencias!$C$4:$E$21,3,FALSE())","v":2},"2C","Competición",{"$f":"VLOOKUP(C3579,Referencias!$B$24:$C$40,2,FALSE())","v":"IC"}]
["3551924","Granados Pérez, Ana María","Canaria","D",{"$f":"VLOOKUP(G3580,Referencias!$C$4:$D$21,2,FALSE())","v":"Tercera Diamante"},{"$f":"VLOOKUP(G3580,Referencias!$C$4:$E$21,3,FALSE())","v":3},"3D","Competición",{"$f":"VLOOKUP(C3580,Referencias!$B$24:$C$40,2,FALSE())","v":"IC"}]
["3551926","Parrilla Barrera, María Cristina","Canaria","D",{"$f":"VLOOKUP(G3581,Referencias!$C$4:$D$21,2,FALSE())","v":"Tercera Diamante"},{"$f":"VLOOKUP(G3581,Referencias!$C$4:$E$21,3,FALSE())","v":3},"3D","Competición",{"$f":"VLOOKUP(C3581,Referencias!$B$24:$C$40,2,FALSE())","v":"IC"}]
["3551928","Zuasty Toajas, Mercedes","Canaria","D",{"$f":"VLOOKUP(G3582,Referencias!$C$4:$D$21,2,FALSE())","v":"Tercera Corazón"},{"$f":"VLOOKUP(G3582,Referencias!$C$4:$E$21,3,FALSE())","v":3},"3C","Competición",{"$f":"VLOOKUP(C3582,Referencias!$B$24:$C$40,2,FALSE())","v":"IC"}]
["3551930","León López, Nelly","Canaria","D",{"$f":"VLOOKUP(G3583,Referencias!$C$4:$D$21,2,FALSE())","v":"Segunda Diamante"},{"$f":"VLOOKUP(G3583,Referencias!$C$4:$E$21,3,FALSE())","v":2},"2D","Competición",{"$f":"VLOOKUP(C3583,Referencias!$B$24:$C$40,2,FALSE())","v":"IC"}]
["3551931","Menéndez González, Mary Carmen","Canaria","D",{"$f":"VLOOKUP(G3584,Referencias!$C$4:$D$21,2,FALSE())","v":"Tercera Picas"},{"$f":"VLOOKUP(G3584,Referencias!$C$4:$E$21,3,FALSE())","v":3},"3P","Competición",{"$f":"VLOOKUP(C3584,Referencias!$B$24:$C$40,2,FALSE())","v":"IC"}]
["3551936","Borrego Hernández, Santiago","Canaria","C",{"$f":"VLOOKUP(G3585,Referencias!$C$4:$D$21,2,FALSE())","v":"Tercera Diamante"},{"$f":"VLOOKUP(G3585,Referencias!$C$4:$E$21,3,FALSE())","v":3},"3D","Competición",{"$f":"VLOOKUP(C3585,Referencias!$B$24:$C$40,2,FALSE())","v":"IC"}]
["3551939","García Blanco-Cicerón, María","Canaria","D",{"$f":"VLOOKUP(G3586,Referencias!$C$4:$D$21,2,FALSE())","v":"Tercera Picas"},{"$f":"VLOOKUP(G3586,Referencias!$C$4:$E$21,3,FALSE())","v":3},"3P","Competición",{"$f":"VLOOKUP(C3586,Referencias!$B$24:$C$40,2,FALSE())","v":"IC"}]
["3551942","Gonçalves, José Miguel","Canaria","C",{"$f":"VLOOKUP(G3587,Referencias!$C$4:$D$21,2,FALSE())","v":"Primera Picas"},{"$f":"VLOOKUP(G3587,Referencias!$C$4:$E$21,3,FALSE())","v":1},"1P","Competición",{"$f":"VLOOKUP(C3587,Referencias!$B$24:$C$40,2,FALSE())","v":"IC"}]
["3551947","Hernández Domínguez, María Dolores","Canaria","D",{"$f":"VLOOKUP(G3588,Referencias!$C$4:$D$21,2,FALSE())","v":"Tercera Diamante"},{"$f":"VLOOKUP(G3588,Referencias!$C$4:$E$21,3,FALSE())","v":3},"3D","Competición",{"$f":"VLOOKUP(C3588,Referencias!$B$24:$C$40,2,FALSE())","v":"IC"}]
["3551948","Hernández Suárez, Rita","Canaria","D",{"$f":"VLOOKUP(G3589,Referencias!$C$4:$D$21,2,FALSE())","v":"Tercera Diamante"},{"$f":"VLOOKUP(G3589,Referencias!$C$4:$E$21,3,FALSE())","v":3},"3D","Competición",{"$f":"VLOOKUP(C3589,Referencias!$B$24:$C$40,2,FALSE())","v":"IC"}]
["3551949","Martínez Arroyo Beatutell, Gabriel","Canaria","C",{"$f":"VLOOKUP(G3590,Referencias!$C$4:$D$21,2,FALSE())","v":"Tercera Diamante"},{"$f":"VLOOKUP(G3590,Referencias!$C$4:$E$21,3,FALSE())","v":3},"3D","Competición",{"$f":"VLOOKUP(C3590,Referencias!$B$24:$C$40,2,FALSE())","v":"IC"}]
["3551953","Galván Benítez, María","Canaria","D",{"$f":"VLOOKUP(G3591,Referencias!$C$4:$D$21,2,FALSE())","v":"Tercera Diamante"},{"$f":"VLOOKUP(G3591,Referencias!$C$4:$E$21,3,FALSE())","v":3},"3D","Competición",{"$f":"VLOOKUP(C3591,Referencias!$B$24:$C$40,2,FALSE())","v":"IC"}]
["3551959","Cabrera Rodríguez, Mª Jesús","Canaria","D",{"$f":"VLOOKUP(G3592,Referencias!$C$4:$D$21,2,FALSE())","v":"Tercera Picas"},{"$f":"VLOOKUP(G3592,Referencias!$C$4:$E$21,3,FALSE())","v":3},"3P","Competición",{"$f":"VLOOKUP(C3592,Referencias!$B$24:$C$40,2,FALSE())","v":"IC"}]
["3551963","Pérez Toledo, José Marcial","Canaria","C",{"$f":"VLOOKUP(G3593,Referencias!$C$4:$D$21,2,FALSE())","v":"Tercera Picas"},{"$f":"VLOOKUP(G3593,Referencias!$C$4:$E$21,3,FALSE())","v":3},"3P","Competición",{"$f":"VLOOKUP(C3593,Referencias!$B$24:$C$40,2,FALSE())","v":"IC"}]
["3551966","Delgado Quintero, Delfina Francisca","Canaria","D",{"$f":"VLOOKUP(G3594,Referencias!$C$4:$D$21,2,FALSE())","v":"Sin Categoría"},{"$f":"VLOOKUP(G3594,Referencias!$C$4:$E$21,3,FALSE())","v":4},"SC","Competición",{"$f":"VLOOKUP(C3594,Referencias!$B$24:$C$40,2,FALSE())","v":"IC"}]
["3551968","Canning, Michael","Canaria","C",{"$f":"VLOOKUP(G3595,Referencias!$C$4:$D$21,2,FALSE())","v":"Segunda Diamante"},{"$f":"VLOOKUP(G3595,Referencias!$C$4:$E$21,3,FALSE())","v":2},"2D","Competición",{"$f":"VLOOKUP(C3595,Referencias!$B$24:$C$40,2,FALSE())","v":"IC"}]
["3551969","Hernández Santana, María Pino","Canaria","D",{"$f":"VLOOKUP(G3596,Referencias!$C$4:$D$21,2,FALSE())","v":"Tercera Picas"},{"$f":"VLOOKUP(G3596,Referencias!$C$4:$E$21,3,FALSE())","v":3},"3P","Competición",{"$f":"VLOOKUP(C3596,Referencias!$B$24:$C$40,2,FALSE())","v":"IC"}]
["3551970","Derissen, Pedro","Canaria","C",{"$f":"VLOOKUP(G3597,Referencias!$C$4:$D$21,2,FALSE())","v":"Tercera Corazón"},{"$f":"VLOOKUP(G3597,Referencias!$C$4:$E$21,3,FALSE())","v":3},"3C","Competición",{"$f":"VLOOKUP(C3597,Referencias!$B$24:$C$40,2,FALSE())","v":"IC"}]
["3551971","Derissen Vroemen, Anna","Canaria","D",{"$f":"VLOOKUP(G3598,Referencias!$C$4:$D$21,2,FALSE())","v":"Sin Categoría"},{"$f":"VLOOKUP(G3598,Referencias!$C$4:$E$21,3,FALSE())","v":4},"SC","Competición",{"$f":"VLOOKUP(C3598,Referencias!$B$24:$C$40,2,FALSE())","v":"IC"}]
["3551973","Quevedo Mariñón, María Providencia","Canaria","D",{"$f":"VLOOKUP(G3599,Referencias!$C$4:$D$21,2,FALSE())","v":"Tercera Diamante"},{"$f":"VLOOKUP(G3599,Referencias!$C$4:$E$21,3,FALSE())","v":3},"3D","Competición",{"$f":"VLOOKUP(C3599,Referencias!$B$24:$C$40,2,FALSE())","v":"IC"}]
["3551974","Llorens Betancor, Lucia","Canaria","D",{"$f":"VLOOKUP(G3600,Referencias!$C$4:$D$21,2,FALSE())","v":"Tercera Diamante"},{"$f":"VLOOKUP(G3600,Referencias!$C$4:$E$21,3,FALSE())","v":3},"3D","Competición",{"$f":"VLOOKUP(C3600,Referencias!$B$24:$C$40,2,FALSE())","v":"IC"}]
["3551980","Rizo Arregui, Begoña","Canaria","D",{"$f":"VLOOKUP(G3601,Referencias!$C$4:$D$21,2,FALSE())","v":"Sin Categoría"},{"$f":"VLOOKUP(G3601,Referencias!$C$4:$E$21,3,FALSE())","v":4},"SC","Competición",{"$f":"VLOOKUP(C3601,Referencias!$B$24:$C$40,2,FALSE())","v":"IC"}]
["3551981","Naranjo Suarez, Margarita","Canaria","D",{"$f":"VLOOKUP(G3602,Referencias!$C$4:$D$21,2,FALSE())","v":"Sin Categoría"},{"$f":"VLOOKUP(G3602,Referencias!$C$4:$E$21,3,FALSE())","v":4},"SC","Competición",{"$f":"VLOOKUP(C3602,Referencias!$B$24:$C$40,2,FALSE())","v":"IC"}]
["3551982","Ferrer Savermann, Isabel","Canaria","D",{"$f":"VLOOKUP(G3603,Referencias!$C$4:$D$21,2,FALSE())","v":"Segunda Diamante"},{"$f":"VLOOKUP(G3603,Referencias!$C$4:$E$21,3,FALSE())","v":2},"2D","Competición",{"$f":"VLOOKUP(C3603,Referencias!$B$24:$C$40,2,FALSE())","v":"IC"}]
["3551985","Bordes Caballero, Rosa","Canaria","D",{"$f":"VLOOKUP(G3604,Referencias!$C$4:$D$21,2,FALSE())","v":"Sin Categoría"},{"$f":"VLOOKUP(G3604,Referencias!$C$4:$E$21,3,FALSE())","v":4},"SC","Competición",{"$f":"VLOOKUP(C3604,Referencias!$B$24:$C$40,2,FALSE())","v":"IC"}]
["3551987","Batista Acosta, Eusebio","Canaria","C",{"$f":"VLOOKUP(G3605,Referencias!$C$4:$D$21,2,FALSE())","v":"Tercera Diamante"},{"$f":"VLOOKUP(G3605,Referencias!$C$4:$E$21,3,FALSE())","v":3},"3D","Competición",{"$f":"VLOOKUP(C3605,Referencias!$B$24:$C$40,2,FALSE())","v":"IC"}]
["3551988","Cabrera Rodriguez, Flor Angeles","Canaria","D",{"$f":"VLOOKUP(G3606,Referencias!$C$4:$D$21,2,FALSE())","v":"Tercera Picas"},{"$f":"VLOOKUP(G3606,Referencias!$C$4:$E$21,3,FALSE())","v":3},"3P","Competición",{"$f":"VLOOKUP(C3606,Referencias!$B$24:$C$40,2,FALSE())","v":"IC"}]
["3551989","Domínguez Arias, Miguel Angel","Canaria","C",{"$f":"VLOOKUP(G3607,Referencias!$C$4:$D$21,2,FALSE())","v":"Segunda Diamante"},{"$f":"VLOOKUP(G3607,Referencias!$C$4:$E$21,3,FALSE())","v":2},"2D","Competición",{"$f":"VLOOKUP(C3607,Referencias!$B$24:$C$40,2,FALSE())","v":"IC"}]
["3551991","Padrón Estariol, Celina","Canaria","D",{"$f":"VLOOKUP(G3608,Referencias!$C$4:$D$21,2,FALSE())","v":"Tercera Picas"},{"$f":"VLOOKUP(G3608,Referencias!$C$4:$E$21,3,FALSE())","v":3},"3P","Competición",{"$f":"VLOOKUP(C3608,Referencias!$B$24:$C$40,2,FALSE())","v":"IC"}]
["3551993","de la Torre, Rosario","Canaria","D",{"$f":"VLOOKUP(G3609,Referencias!$C$4:$D$21,2,FALSE())","v":"Tercera Diamante"},{"$f":"VLOOKUP(G3609,Referencias!$C$4:$E$21,3,FALSE())","v":3},"3D","Competición",{"$f":"VLOOKUP(C3609,Referencias!$B$24:$C$40,2,FALSE())","v":"IC"}]
["3551995","Sánchez Arancibia, Luz Marina","Canaria","D",{"$f":"VLOOKUP(G3610,Referencias!$C$4:$D$21,2,FALSE())","v":"Tercera Diamante"},{"$f":"VLOOKUP(G3610,Referencias!$C$4:$E$21,3,FALSE())","v":3},"3D","Competición",{"$f":"VLOOKUP(C3610,Referencias!$B$24:$C$40,2,FALSE())","v":"IC"}]
["3551996","Gimeno Maza, María Cruz","Canaria","D",{"$f":"VLOOKUP(G3611,Referencias!$C$4:$D$21,2,FALSE())","v":"Tercera Corazón"},{"$f":"VLOOKUP(G3611,Referencias!$C$4:$E$21,3,FALSE())","v":3},"3C","Competición",{"$f":"VLOOKUP(C3611,Referencias!$B$24:$C$40,2,FALSE())","v":"IC"}]
["3551999","Sánchez Hernandez-Francés, Margarita María","Canaria","D",{"$f":"VLOOKUP(G3612,Referencias!$C$4:$D$21,2,FALSE())","v":"Segunda Diamante"},{"$f":"VLOOKUP(G3612,Referencias!$C$4:$E$21,3,FALSE())","v":2},"2D","Competición",{"$f":"VLOOKUP(C3612,Referencias!$B$24:$C$40,2,FALSE())","v":"IC"}]
["3552000","Selga Malet, Jaime","Canaria","C",{"$f":"VLOOKUP(G3613,Referencias!$C$4:$D$21,2,FALSE())","v":"Tercera Corazón"},{"$f":"VLOOKUP(G3613,Referencias!$C$4:$E$21,3,FALSE())","v":3},"3C","Competición",{"$f":"VLOOKUP(C3613,Referencias!$B$24:$C$40,2,FALSE())","v":"IC"}]
["3552001","Bonny Miranda, Maria del Carmen ","Canaria","D",{"$f":"VLOOKUP(G3614,Referencias!$C$4:$D$21,2,FALSE())","v":"Segunda Diamante"},{"$f":"VLOOKUP(G3614,Referencias!$C$4:$E$21,3,FALSE())","v":2},"2D","Competición",{"$f":"VLOOKUP(C3614,Referencias!$B$24:$C$40,2,FALSE())","v":"IC"}]
["3552003"," Jubindo De Elizalde , Maria Carmen","Canaria","D",{"$f":"VLOOKUP(G3615,Referencias!$C$4:$D$21,2,FALSE())","v":"Segunda Corazón"},{"$f":"VLOOKUP(G3615,Referencias!$C$4:$E$21,3,FALSE())","v":2},"2C","Competición",{"$f":"VLOOKUP(C3615,Referencias!$B$24:$C$40,2,FALSE())","v":"IC"}]
["3552005","Vega Holgado, Raquel ","Canaria","D",{"$f":"VLOOKUP(G3616,Referencias!$C$4:$D$21,2,FALSE())","v":"Tercera Diamante"},{"$f":"VLOOKUP(G3616,Referencias!$C$4:$E$21,3,FALSE())","v":3},"3D","Competición",{"$f":"VLOOKUP(C3616,Referencias!$B$24:$C$40,2,FALSE())","v":"IC"}]
["3552008","Rodriguez , Pepa Marina ","Canaria","D",{"$f":"VLOOKUP(G3617,Referencias!$C$4:$D$21,2,FALSE())","v":"Tercera Picas"},{"$f":"VLOOKUP(G3617,Referencias!$C$4:$E$21,3,FALSE())","v":3},"3P","Competición",{"$f":"VLOOKUP(C3617,Referencias!$B$24:$C$40,2,FALSE())","v":"IC"}]
["3552009","Henriquez Blanco, Antonio ","Canaria","C",{"$f":"VLOOKUP(G3618,Referencias!$C$4:$D$21,2,FALSE())","v":"Tercera Picas"},{"$f":"VLOOKUP(G3618,Referencias!$C$4:$E$21,3,FALSE())","v":3},"3P","Competición",{"$f":"VLOOKUP(C3618,Referencias!$B$24:$C$40,2,FALSE())","v":"IC"}]
["3552010","Ley Bello, Mercedes ","Canaria","D",{"$f":"VLOOKUP(G3619,Referencias!$C$4:$D$21,2,FALSE())","v":"Tercera Corazón"},{"$f":"VLOOKUP(G3619,Referencias!$C$4:$E$21,3,FALSE())","v":3},"3C","Competición",{"$f":"VLOOKUP(C3619,Referencias!$B$24:$C$40,2,FALSE())","v":"IC"}]
["3552011","Esteban, Amparo","Canaria","D",{"$f":"VLOOKUP(G3620,Referencias!$C$4:$D$21,2,FALSE())","v":"Tercera Diamante"},{"$f":"VLOOKUP(G3620,Referencias!$C$4:$E$21,3,FALSE())","v":3},"3D","Competición",{"$f":"VLOOKUP(C3620,Referencias!$B$24:$C$40,2,FALSE())","v":"IC"}]
["3552015","Ferrer Quintana, María del Mar","Canaria","D",{"$f":"VLOOKUP(G3621,Referencias!$C$4:$D$21,2,FALSE())","v":"Tercera Corazón"},{"$f":"VLOOKUP(G3621,Referencias!$C$4:$E$21,3,FALSE())","v":3},"3C","Competición",{"$f":"VLOOKUP(C3621,Referencias!$B$24:$C$40,2,FALSE())","v":"IC"}]
["3552016","Cerdá Poch, Maria Mercedes ","Canaria","D",{"$f":"VLOOKUP(G3622,Referencias!$C$4:$D$21,2,FALSE())","v":"Sin Categoría"},{"$f":"VLOOKUP(G3622,Referencias!$C$4:$E$21,3,FALSE())","v":4},"SC","Competición",{"$f":"VLOOKUP(C3622,Referencias!$B$24:$C$40,2,FALSE())","v":"IC"}]
["3552017","Normann Adeler, Nora","Canaria","D",{"$f":"VLOOKUP(G3623,Referencias!$C$4:$D$21,2,FALSE())","v":"Sin Categoría"},{"$f":"VLOOKUP(G3623,Referencias!$C$4:$E$21,3,FALSE())","v":4},"SC","Competición",{"$f":"VLOOKUP(C3623,Referencias!$B$24:$C$40,2,FALSE())","v":"IC"}]
["3552018","Marrero Gutiérrez, Africa","Canaria","D",{"$f":"VLOOKUP(G3624,Referencias!$C$4:$D$21,2,FALSE())","v":"Tercera Diamante"},{"$f":"VLOOKUP(G3624,Referencias!$C$4:$E$21,3,FALSE())","v":3},"3D","Competición",{"$f":"VLOOKUP(C3624,Referencias!$B$24:$C$40,2,FALSE())","v":"IC"}]
["3552020","Alemán Ramírez, Amparo","Canaria","D",{"$f":"VLOOKUP(G3625,Referencias!$C$4:$D$21,2,FALSE())","v":"Tercera Diamante"},{"$f":"VLOOKUP(G3625,Referencias!$C$4:$E$21,3,FALSE())","v":3},"3D","Competición",{"$f":"VLOOKUP(C3625,Referencias!$B$24:$C$40,2,FALSE())","v":"IC"}]
["3552024","Nilsson, Kjell-Ake ","Canaria","C",{"$f":"VLOOKUP(G3626,Referencias!$C$4:$D$21,2,FALSE())","v":"Sin Categoría"},{"$f":"VLOOKUP(G3626,Referencias!$C$4:$E$21,3,FALSE())","v":4},"SC","Competición",{"$f":"VLOOKUP(C3626,Referencias!$B$24:$C$40,2,FALSE())","v":"IC"}]
["3552026","Monche Maristany, María Victoria ","Canaria","D",{"$f":"VLOOKUP(G3627,Referencias!$C$4:$D$21,2,FALSE())","v":"Tercera Diamante"},{"$f":"VLOOKUP(G3627,Referencias!$C$4:$E$21,3,FALSE())","v":3},"3D","Competición",{"$f":"VLOOKUP(C3627,Referencias!$B$24:$C$40,2,FALSE())","v":"IC"}]
["3552027","Ekman, Stefan ","Canaria","C",{"$f":"VLOOKUP(G3628,Referencias!$C$4:$D$21,2,FALSE())","v":"Sin Categoría"},{"$f":"VLOOKUP(G3628,Referencias!$C$4:$E$21,3,FALSE())","v":4},"SC","Competición",{"$f":"VLOOKUP(C3628,Referencias!$B$24:$C$40,2,FALSE())","v":"IC"}]
["3552028","Vega Benítez, Soraya ","Canaria","D",{"$f":"VLOOKUP(G3629,Referencias!$C$4:$D$21,2,FALSE())","v":"Sin Categoría"},{"$f":"VLOOKUP(G3629,Referencias!$C$4:$E$21,3,FALSE())","v":4},"SC","Competición",{"$f":"VLOOKUP(C3629,Referencias!$B$24:$C$40,2,FALSE())","v":"IC"}]
["3552029","Poch Sosa, María ","Canaria","D",{"$f":"VLOOKUP(G3630,Referencias!$C$4:$D$21,2,FALSE())","v":"Sin Categoría"},{"$f":"VLOOKUP(G3630,Referencias!$C$4:$E$21,3,FALSE())","v":4},"SC","Competición",{"$f":"VLOOKUP(C3630,Referencias!$B$24:$C$40,2,FALSE())","v":"IC"}]
["3552030","Rodriguez Dias, Rosa","Canaria","D",{"$f":"VLOOKUP(G3631,Referencias!$C$4:$D$21,2,FALSE())","v":"Tercera Diamante"},{"$f":"VLOOKUP(G3631,Referencias!$C$4:$E$21,3,FALSE())","v":3},"3D","Competición",{"$f":"VLOOKUP(C3631,Referencias!$B$24:$C$40,2,FALSE())","v":"IC"}]
["3552035","Seljeset , Olav","Canaria","C",{"$f":"VLOOKUP(G3632,Referencias!$C$4:$D$21,2,FALSE())","v":"Tercera Corazón"},{"$f":"VLOOKUP(G3632,Referencias!$C$4:$E$21,3,FALSE())","v":3},"3C","Competición",{"$f":"VLOOKUP(C3632,Referencias!$B$24:$C$40,2,FALSE())","v":"IC"}]
["3552036","Raines, Marjukka ","Canaria","D",{"$f":"VLOOKUP(G3633,Referencias!$C$4:$D$21,2,FALSE())","v":"Tercera Diamante"},{"$f":"VLOOKUP(G3633,Referencias!$C$4:$E$21,3,FALSE())","v":3},"3D","Competición",{"$f":"VLOOKUP(C3633,Referencias!$B$24:$C$40,2,FALSE())","v":"IC"}]
["3552038","Maltoni, Gianfranco ","Canaria","C",{"$f":"VLOOKUP(G3634,Referencias!$C$4:$D$21,2,FALSE())","v":"Tercera Diamante"},{"$f":"VLOOKUP(G3634,Referencias!$C$4:$E$21,3,FALSE())","v":3},"3D","Competición",{"$f":"VLOOKUP(C3634,Referencias!$B$24:$C$40,2,FALSE())","v":"IC"}]
["3552048","Nilsson, Eva","Canaria","C",{"$f":"VLOOKUP(G3635,Referencias!$C$4:$D$21,2,FALSE())","v":"Tercera Diamante"},{"$f":"VLOOKUP(G3635,Referencias!$C$4:$E$21,3,FALSE())","v":3},"3D","Competición",{"$f":"VLOOKUP(C3635,Referencias!$B$24:$C$40,2,FALSE())","v":"IC"}]
["3552054","Cuadrado Menéndez, María Belén ","Canaria","D",{"$f":"VLOOKUP(G3636,Referencias!$C$4:$D$21,2,FALSE())","v":"Tercera Diamante"},{"$f":"VLOOKUP(G3636,Referencias!$C$4:$E$21,3,FALSE())","v":3},"3D","Competición",{"$f":"VLOOKUP(C3636,Referencias!$B$24:$C$40,2,FALSE())","v":"IC"}]
["3552066","Schaeffer, Ana María ","Canaria","D",{"$f":"VLOOKUP(G3637,Referencias!$C$4:$D$21,2,FALSE())","v":"Tercera Diamante"},{"$f":"VLOOKUP(G3637,Referencias!$C$4:$E$21,3,FALSE())","v":3},"3D","Competición",{"$f":"VLOOKUP(C3637,Referencias!$B$24:$C$40,2,FALSE())","v":"IC"}]
["3552067","Auz Castro, Victor ","Canaria","C",{"$f":"VLOOKUP(G3638,Referencias!$C$4:$D$21,2,FALSE())","v":"Tercera Diamante"},{"$f":"VLOOKUP(G3638,Referencias!$C$4:$E$21,3,FALSE())","v":3},"3D","Competición",{"$f":"VLOOKUP(C3638,Referencias!$B$24:$C$40,2,FALSE())","v":"IC"}]
["3552068","Sánchez Jubindo, Isabel","Canaria","D",{"$f":"VLOOKUP(G3639,Referencias!$C$4:$D$21,2,FALSE())","v":"Tercera Diamante"},{"$f":"VLOOKUP(G3639,Referencias!$C$4:$E$21,3,FALSE())","v":3},"3D","Competición",{"$f":"VLOOKUP(C3639,Referencias!$B$24:$C$40,2,FALSE())","v":"IC"}]
["3552074","Soutullo Domínguez, Paula","Canaria","D",{"$f":"VLOOKUP(G3640,Referencias!$C$4:$D$21,2,FALSE())","v":"Tercera Diamante"},{"$f":"VLOOKUP(G3640,Referencias!$C$4:$E$21,3,FALSE())","v":3},"3D","Competición",{"$f":"VLOOKUP(C3640,Referencias!$B$24:$C$40,2,FALSE())","v":"IC"}]
["3552075","Benítez Rosario, Luis","Canaria","C",{"$f":"VLOOKUP(G3641,Referencias!$C$4:$D$21,2,FALSE())","v":"Tercera Diamante"},{"$f":"VLOOKUP(G3641,Referencias!$C$4:$E$21,3,FALSE())","v":3},"3D","Competición",{"$f":"VLOOKUP(C3641,Referencias!$B$24:$C$40,2,FALSE())","v":"IC"}]
["3552076","Fernández Otero, María Mercedes","Canaria","D",{"$f":"VLOOKUP(G3642,Referencias!$C$4:$D$21,2,FALSE())","v":"Tercera Diamante"},{"$f":"VLOOKUP(G3642,Referencias!$C$4:$E$21,3,FALSE())","v":3},"3D","Competición",{"$f":"VLOOKUP(C3642,Referencias!$B$24:$C$40,2,FALSE())","v":"IC"}]
["3552077","Acuña Carrazana, Arbis Radames","Canaria","C",{"$f":"VLOOKUP(G3643,Referencias!$C$4:$D$21,2,FALSE())","v":"Tercera Diamante"},{"$f":"VLOOKUP(G3643,Referencias!$C$4:$E$21,3,FALSE())","v":3},"3D","Competición",{"$f":"VLOOKUP(C3643,Referencias!$B$24:$C$40,2,FALSE())","v":"IC"}]
["3552078","Duque de Lara, Ana Victoria","Canaria","D",{"$f":"VLOOKUP(G3644,Referencias!$C$4:$D$21,2,FALSE())","v":"Tercera Diamante"},{"$f":"VLOOKUP(G3644,Referencias!$C$4:$E$21,3,FALSE())","v":3},"3D","Competición",{"$f":"VLOOKUP(C3644,Referencias!$B$24:$C$40,2,FALSE())","v":"IC"}]
["3552079","Soutullo Domínguez, Mónica","Canaria","D",{"$f":"VLOOKUP(G3645,Referencias!$C$4:$D$21,2,FALSE())","v":"Tercera Diamante"},{"$f":"VLOOKUP(G3645,Referencias!$C$4:$E$21,3,FALSE())","v":3},"3D","Competición",{"$f":"VLOOKUP(C3645,Referencias!$B$24:$C$40,2,FALSE())","v":"IC"}]
["3554002","Moragas de Sánchez, Montserrat","Canaria","D",{"$f":"VLOOKUP(G3646,Referencias!$C$4:$D$21,2,FALSE())","v":"Segunda Corazón"},{"$f":"VLOOKUP(G3646,Referencias!$C$4:$E$21,3,FALSE())","v":2},"2C","Competición",{"$f":"VLOOKUP(C3646,Referencias!$B$24:$C$40,2,FALSE())","v":"IC"}]
["3554032","Bosch Caballero, Juan Fco.","Canaria","C",{"$f":"VLOOKUP(G3647,Referencias!$C$4:$D$21,2,FALSE())","v":"Segunda Corazón"},{"$f":"VLOOKUP(G3647,Referencias!$C$4:$E$21,3,FALSE())","v":2},"2C","Competición",{"$f":"VLOOKUP(C3647,Referencias!$B$24:$C$40,2,FALSE())","v":"IC"}]
["3554051","Bonny Miranda, Rosa","Canaria","D",{"$f":"VLOOKUP(G3648,Referencias!$C$4:$D$21,2,FALSE())","v":"Segunda Diamante"},{"$f":"VLOOKUP(G3648,Referencias!$C$4:$E$21,3,FALSE())","v":2},"2D","Competición",{"$f":"VLOOKUP(C3648,Referencias!$B$24:$C$40,2,FALSE())","v":"IC"}]
["3554057","Mtnez-Arroyo Beautell, Cristina","Canaria","D",{"$f":"VLOOKUP(G3649,Referencias!$C$4:$D$21,2,FALSE())","v":"Primera Diamante"},{"$f":"VLOOKUP(G3649,Referencias!$C$4:$E$21,3,FALSE())","v":1},"1D","Competición",{"$f":"VLOOKUP(C3649,Referencias!$B$24:$C$40,2,FALSE())","v":"IC"}]
["3631033","Rodríguez Pereira, María Luisa","Gallega","D",{"$f":"VLOOKUP(G3650,Referencias!$C$4:$D$21,2,FALSE())","v":"Segunda Corazón"},{"$f":"VLOOKUP(G3650,Referencias!$C$4:$E$21,3,FALSE())","v":2},"2C","Competición",{"$f":"VLOOKUP(C3650,Referencias!$B$24:$C$40,2,FALSE())","v":"G"}]
["3631055","Pérez Rodríguez, Mª Luisa","Gallega","D",{"$f":"VLOOKUP(G3651,Referencias!$C$4:$D$21,2,FALSE())","v":"Tercera Corazón"},{"$f":"VLOOKUP(G3651,Referencias!$C$4:$E$21,3,FALSE())","v":3},"3C","Competición",{"$f":"VLOOKUP(C3651,Referencias!$B$24:$C$40,2,FALSE())","v":"G"}]
["3631065","Parapar Fernández, Amparo","Gallega","D",{"$f":"VLOOKUP(G3652,Referencias!$C$4:$D$21,2,FALSE())","v":"Sin Categoría"},{"$f":"VLOOKUP(G3652,Referencias!$C$4:$E$21,3,FALSE())","v":4},"SC","Competición",{"$f":"VLOOKUP(C3652,Referencias!$B$24:$C$40,2,FALSE())","v":"G"}]
["3631110","López Gutierrez, María Soledad","Gallega","D",{"$f":"VLOOKUP(G3653,Referencias!$C$4:$D$21,2,FALSE())","v":"Tercera Picas"},{"$f":"VLOOKUP(G3653,Referencias!$C$4:$E$21,3,FALSE())","v":3},"3P","Competición",{"$f":"VLOOKUP(C3653,Referencias!$B$24:$C$40,2,FALSE())","v":"G"}]
["3631111","González Fernández, María del Olvido","Gallega","D",{"$f":"VLOOKUP(G3654,Referencias!$C$4:$D$21,2,FALSE())","v":"Tercera Corazón"},{"$f":"VLOOKUP(G3654,Referencias!$C$4:$E$21,3,FALSE())","v":3},"3C","Competición",{"$f":"VLOOKUP(C3654,Referencias!$B$24:$C$40,2,FALSE())","v":"G"}]
["3631115","Aparicio, Beatriz G.","Gallega","D",{"$f":"VLOOKUP(G3655,Referencias!$C$4:$D$21,2,FALSE())","v":"Tercera Picas"},{"$f":"VLOOKUP(G3655,Referencias!$C$4:$E$21,3,FALSE())","v":3},"3P","Competición",{"$f":"VLOOKUP(C3655,Referencias!$B$24:$C$40,2,FALSE())","v":"G"}]
["3631116","Díaz del Río, Ana","Gallega","D",{"$f":"VLOOKUP(G3656,Referencias!$C$4:$D$21,2,FALSE())","v":"Tercera Diamante"},{"$f":"VLOOKUP(G3656,Referencias!$C$4:$E$21,3,FALSE())","v":3},"3D","Competición",{"$f":"VLOOKUP(C3656,Referencias!$B$24:$C$40,2,FALSE())","v":"G"}]
["3631134","Sánchez-Monge Morante, Alvaro","Gallega","C",{"$f":"VLOOKUP(G3657,Referencias!$C$4:$D$21,2,FALSE())","v":"Primera Picas"},{"$f":"VLOOKUP(G3657,Referencias!$C$4:$E$21,3,FALSE())","v":1},"1P","Competición",{"$f":"VLOOKUP(C3657,Referencias!$B$24:$C$40,2,FALSE())","v":"G"}]
["3631142","Riveiro Ferreiro, Susana","Gallega","D",{"$f":"VLOOKUP(G3658,Referencias!$C$4:$D$21,2,FALSE())","v":"Primera Diamante"},{"$f":"VLOOKUP(G3658,Referencias!$C$4:$E$21,3,FALSE())","v":1},"1D","Competición",{"$f":"VLOOKUP(C3658,Referencias!$B$24:$C$40,2,FALSE())","v":"G"}]
["3631214","Carracedo Martín, Pilar","Gallega","D",{"$f":"VLOOKUP(G3659,Referencias!$C$4:$D$21,2,FALSE())","v":"Segunda Picas"},{"$f":"VLOOKUP(G3659,Referencias!$C$4:$E$21,3,FALSE())","v":2},"2P","Competición",{"$f":"VLOOKUP(C3659,Referencias!$B$24:$C$40,2,FALSE())","v":"G"}]
["3631220","Vázquez Alvarez, Marisol","Gallega","D",{"$f":"VLOOKUP(G3660,Referencias!$C$4:$D$21,2,FALSE())","v":"Tercera Corazón"},{"$f":"VLOOKUP(G3660,Referencias!$C$4:$E$21,3,FALSE())","v":3},"3C","Competición",{"$f":"VLOOKUP(C3660,Referencias!$B$24:$C$40,2,FALSE())","v":"G"}]
["3631240","Rodríguez de Cameans, Gely","Gallega","D",{"$f":"VLOOKUP(G3661,Referencias!$C$4:$D$21,2,FALSE())","v":"Primera Diamante"},{"$f":"VLOOKUP(G3661,Referencias!$C$4:$E$21,3,FALSE())","v":1},"1D","Competición",{"$f":"VLOOKUP(C3661,Referencias!$B$24:$C$40,2,FALSE())","v":"G"}]
["3631270","Frade Prado, Adela","Gallega","D",{"$f":"VLOOKUP(G3662,Referencias!$C$4:$D$21,2,FALSE())","v":"Tercera Corazón"},{"$f":"VLOOKUP(G3662,Referencias!$C$4:$E$21,3,FALSE())","v":3},"3C","Competición",{"$f":"VLOOKUP(C3662,Referencias!$B$24:$C$40,2,FALSE())","v":"G"}]
["3631271","Guerra Arroyo, Justino","Gallega","C",{"$f":"VLOOKUP(G3663,Referencias!$C$4:$D$21,2,FALSE())","v":"Primera Diamante"},{"$f":"VLOOKUP(G3663,Referencias!$C$4:$E$21,3,FALSE())","v":1},"1D","Competición",{"$f":"VLOOKUP(C3663,Referencias!$B$24:$C$40,2,FALSE())","v":"G"}]
["3631275","Quirós García, Ramón","Madrileña","C",{"$f":"VLOOKUP(G3664,Referencias!$C$4:$D$21,2,FALSE())","v":"Primera Diamante"},{"$f":"VLOOKUP(G3664,Referencias!$C$4:$E$21,3,FALSE())","v":1},"1D","Competición",{"$f":"VLOOKUP(C3664,Referencias!$B$24:$C$40,2,FALSE())","v":"M"}]
["3631290","Marcide Castroman, María Ángeles","Gallega","D",{"$f":"VLOOKUP(G3665,Referencias!$C$4:$D$21,2,FALSE())","v":"Tercera Corazón"},{"$f":"VLOOKUP(G3665,Referencias!$C$4:$E$21,3,FALSE())","v":3},"3C","Competición",{"$f":"VLOOKUP(C3665,Referencias!$B$24:$C$40,2,FALSE())","v":"G"}]
["3631342","Ferradas, Mª del Carmen","Gallega","D",{"$f":"VLOOKUP(G3666,Referencias!$C$4:$D$21,2,FALSE())","v":"Primera Picas"},{"$f":"VLOOKUP(G3666,Referencias!$C$4:$E$21,3,FALSE())","v":1},"1P","Competición",{"$f":"VLOOKUP(C3666,Referencias!$B$24:$C$40,2,FALSE())","v":"G"}]
["3631345","Rodríguez Duran, Fernanda","Gallega","D",{"$f":"VLOOKUP(G3667,Referencias!$C$4:$D$21,2,FALSE())","v":"Tercera Picas"},{"$f":"VLOOKUP(G3667,Referencias!$C$4:$E$21,3,FALSE())","v":3},"3P","Competición",{"$f":"VLOOKUP(C3667,Referencias!$B$24:$C$40,2,FALSE())","v":"G"}]
["3631346","Domínguez Vaz, Sabela","Gallega","D",{"$f":"VLOOKUP(G3668,Referencias!$C$4:$D$21,2,FALSE())","v":"Segunda Picas"},{"$f":"VLOOKUP(G3668,Referencias!$C$4:$E$21,3,FALSE())","v":2},"2P","Competición",{"$f":"VLOOKUP(C3668,Referencias!$B$24:$C$40,2,FALSE())","v":"G"}]
["3631347","Vizcaino Victoria, Victoria","Gallega","D",{"$f":"VLOOKUP(G3669,Referencias!$C$4:$D$21,2,FALSE())","v":"Tercera Picas"},{"$f":"VLOOKUP(G3669,Referencias!$C$4:$E$21,3,FALSE())","v":3},"3P","Competición",{"$f":"VLOOKUP(C3669,Referencias!$B$24:$C$40,2,FALSE())","v":"G"}]
["3631350","Carrera Covelo, Aurora","Gallega","D",{"$f":"VLOOKUP(G3670,Referencias!$C$4:$D$21,2,FALSE())","v":"Primera Diamante"},{"$f":"VLOOKUP(G3670,Referencias!$C$4:$E$21,3,FALSE())","v":1},"1D","Competición",{"$f":"VLOOKUP(C3670,Referencias!$B$24:$C$40,2,FALSE())","v":"G"}]
["3631351","Pérez Fernández, Flor","Gallega","D",{"$f":"VLOOKUP(G3671,Referencias!$C$4:$D$21,2,FALSE())","v":"Sin Categoría"},{"$f":"VLOOKUP(G3671,Referencias!$C$4:$E$21,3,FALSE())","v":4},"SC","Competición",{"$f":"VLOOKUP(C3671,Referencias!$B$24:$C$40,2,FALSE())","v":"G"}]
["3631352","Vázquez Zárate, Carmen","Gallega","D",{"$f":"VLOOKUP(G3672,Referencias!$C$4:$D$21,2,FALSE())","v":"Segunda Corazón"},{"$f":"VLOOKUP(G3672,Referencias!$C$4:$E$21,3,FALSE())","v":2},"2C","Competición",{"$f":"VLOOKUP(C3672,Referencias!$B$24:$C$40,2,FALSE())","v":"G"}]
["3631353","Calvo Vilanova, Noemi","Gallega","D",{"$f":"VLOOKUP(G3673,Referencias!$C$4:$D$21,2,FALSE())","v":"Tercera Picas"},{"$f":"VLOOKUP(G3673,Referencias!$C$4:$E$21,3,FALSE())","v":3},"3P","Competición",{"$f":"VLOOKUP(C3673,Referencias!$B$24:$C$40,2,FALSE())","v":"G"}]
["3631365","Vallejo Cobo, Francisco","Gallega","C",{"$f":"VLOOKUP(G3674,Referencias!$C$4:$D$21,2,FALSE())","v":"Tercera Corazón"},{"$f":"VLOOKUP(G3674,Referencias!$C$4:$E$21,3,FALSE())","v":3},"3C","Competición",{"$f":"VLOOKUP(C3674,Referencias!$B$24:$C$40,2,FALSE())","v":"G"}]
["3631375","Menéndez Sandoval, María Dolores","Gallega","D",{"$f":"VLOOKUP(G3675,Referencias!$C$4:$D$21,2,FALSE())","v":"Tercera Corazón"},{"$f":"VLOOKUP(G3675,Referencias!$C$4:$E$21,3,FALSE())","v":3},"3C","Competición",{"$f":"VLOOKUP(C3675,Referencias!$B$24:$C$40,2,FALSE())","v":"G"}]
["3631380","García Olivares, José","Gallega","C",{"$f":"VLOOKUP(G3676,Referencias!$C$4:$D$21,2,FALSE())","v":"Primera Picas"},{"$f":"VLOOKUP(G3676,Referencias!$C$4:$E$21,3,FALSE())","v":1},"1P","Competición",{"$f":"VLOOKUP(C3676,Referencias!$B$24:$C$40,2,FALSE())","v":"G"}]
["3631381","Calviño Casado, María José","Gallega","D",{"$f":"VLOOKUP(G3677,Referencias!$C$4:$D$21,2,FALSE())","v":"Primera Diamante"},{"$f":"VLOOKUP(G3677,Referencias!$C$4:$E$21,3,FALSE())","v":1},"1D","Competición",{"$f":"VLOOKUP(C3677,Referencias!$B$24:$C$40,2,FALSE())","v":"G"}]
["3631387","Fernández Rey, Julio José","Gallega","C",{"$f":"VLOOKUP(G3678,Referencias!$C$4:$D$21,2,FALSE())","v":"Primera Corazón"},{"$f":"VLOOKUP(G3678,Referencias!$C$4:$E$21,3,FALSE())","v":1},"1C","Competición",{"$f":"VLOOKUP(C3678,Referencias!$B$24:$C$40,2,FALSE())","v":"G"}]
["3631390","Estévez Márquez, María del Pilar","Gallega","D",{"$f":"VLOOKUP(G3679,Referencias!$C$4:$D$21,2,FALSE())","v":"Tercera Corazón"},{"$f":"VLOOKUP(G3679,Referencias!$C$4:$E$21,3,FALSE())","v":3},"3C","Competición",{"$f":"VLOOKUP(C3679,Referencias!$B$24:$C$40,2,FALSE())","v":"G"}]
["3631391","Estevez Marquez, Elisa","Gallega","D",{"$f":"VLOOKUP(G3680,Referencias!$C$4:$D$21,2,FALSE())","v":"Tercera Diamante"},{"$f":"VLOOKUP(G3680,Referencias!$C$4:$E$21,3,FALSE())","v":3},"3D","Competición",{"$f":"VLOOKUP(C3680,Referencias!$B$24:$C$40,2,FALSE())","v":"G"}]
["3631407","De la Peña Díez de Vizurrun, Milagro","Gallega","D",{"$f":"VLOOKUP(G3681,Referencias!$C$4:$D$21,2,FALSE())","v":"Primera Diamante"},{"$f":"VLOOKUP(G3681,Referencias!$C$4:$E$21,3,FALSE())","v":1},"1D","Competición",{"$f":"VLOOKUP(C3681,Referencias!$B$24:$C$40,2,FALSE())","v":"G"}]
["3631418","Rivas Souto, Aida","Gallega","D",{"$f":"VLOOKUP(G3682,Referencias!$C$4:$D$21,2,FALSE())","v":"Segunda Corazón"},{"$f":"VLOOKUP(G3682,Referencias!$C$4:$E$21,3,FALSE())","v":2},"2C","Competición",{"$f":"VLOOKUP(C3682,Referencias!$B$24:$C$40,2,FALSE())","v":"G"}]
["3631422","Millana Solórzano, Mariasun","Gallega","D",{"$f":"VLOOKUP(G3683,Referencias!$C$4:$D$21,2,FALSE())","v":"Segunda Corazón"},{"$f":"VLOOKUP(G3683,Referencias!$C$4:$E$21,3,FALSE())","v":2},"2C","Competición",{"$f":"VLOOKUP(C3683,Referencias!$B$24:$C$40,2,FALSE())","v":"G"}]
["3631423","Martínez de la Escalera Llorca, Isidoro","Gallega","C",{"$f":"VLOOKUP(G3684,Referencias!$C$4:$D$21,2,FALSE())","v":"Sin Categoría"},{"$f":"VLOOKUP(G3684,Referencias!$C$4:$E$21,3,FALSE())","v":4},"SC","Competición",{"$f":"VLOOKUP(C3684,Referencias!$B$24:$C$40,2,FALSE())","v":"G"}]
["3631427","Lafuente Leston, Rosa","Gallega","D",{"$f":"VLOOKUP(G3685,Referencias!$C$4:$D$21,2,FALSE())","v":"Tercera Corazón"},{"$f":"VLOOKUP(G3685,Referencias!$C$4:$E$21,3,FALSE())","v":3},"3C","Competición",{"$f":"VLOOKUP(C3685,Referencias!$B$24:$C$40,2,FALSE())","v":"G"}]
["3631440","Barros Parra, Conchi","Gallega","D",{"$f":"VLOOKUP(G3686,Referencias!$C$4:$D$21,2,FALSE())","v":"Segunda Diamante"},{"$f":"VLOOKUP(G3686,Referencias!$C$4:$E$21,3,FALSE())","v":2},"2D","Competición",{"$f":"VLOOKUP(C3686,Referencias!$B$24:$C$40,2,FALSE())","v":"G"}]
["3631441","Ramos Lista, Fernando","Gallega","C",{"$f":"VLOOKUP(G3687,Referencias!$C$4:$D$21,2,FALSE())","v":"Sin Categoría"},{"$f":"VLOOKUP(G3687,Referencias!$C$4:$E$21,3,FALSE())","v":4},"SC","Competición",{"$f":"VLOOKUP(C3687,Referencias!$B$24:$C$40,2,FALSE())","v":"G"}]
["3631469","Touza López, Ana","Gallega","D",{"$f":"VLOOKUP(G3688,Referencias!$C$4:$D$21,2,FALSE())","v":"Segunda Diamante"},{"$f":"VLOOKUP(G3688,Referencias!$C$4:$E$21,3,FALSE())","v":2},"2D","Competición",{"$f":"VLOOKUP(C3688,Referencias!$B$24:$C$40,2,FALSE())","v":"G"}]
["3631470","Arruti Peleteiro, Emilio","Gallega","C",{"$f":"VLOOKUP(G3689,Referencias!$C$4:$D$21,2,FALSE())","v":"Tercera Picas"},{"$f":"VLOOKUP(G3689,Referencias!$C$4:$E$21,3,FALSE())","v":3},"3P","Competición",{"$f":"VLOOKUP(C3689,Referencias!$B$24:$C$40,2,FALSE())","v":"G"}]
["3631477","Nieto Urrabieta, Mª de las Mercedes","Gallega","D",{"$f":"VLOOKUP(G3690,Referencias!$C$4:$D$21,2,FALSE())","v":"Tercera Diamante"},{"$f":"VLOOKUP(G3690,Referencias!$C$4:$E$21,3,FALSE())","v":3},"3D","Competición",{"$f":"VLOOKUP(C3690,Referencias!$B$24:$C$40,2,FALSE())","v":"G"}]
["3631486","Fernández Sánchez, Maria Teresa","Gallega","D",{"$f":"VLOOKUP(G3691,Referencias!$C$4:$D$21,2,FALSE())","v":"Tercera Corazón"},{"$f":"VLOOKUP(G3691,Referencias!$C$4:$E$21,3,FALSE())","v":3},"3C","Competición",{"$f":"VLOOKUP(C3691,Referencias!$B$24:$C$40,2,FALSE())","v":"G"}]
["3631487","González Viñas, Mª del Carmen","Gallega","D",{"$f":"VLOOKUP(G3692,Referencias!$C$4:$D$21,2,FALSE())","v":"Tercera Corazón"},{"$f":"VLOOKUP(G3692,Referencias!$C$4:$E$21,3,FALSE())","v":3},"3C","Competición",{"$f":"VLOOKUP(C3692,Referencias!$B$24:$C$40,2,FALSE())","v":"G"}]
["3631488","da Silva Pereira de Sousa, José Antonio","Gallega","C",{"$f":"VLOOKUP(G3693,Referencias!$C$4:$D$21,2,FALSE())","v":"Primera Picas"},{"$f":"VLOOKUP(G3693,Referencias!$C$4:$E$21,3,FALSE())","v":1},"1P","Competición",{"$f":"VLOOKUP(C3693,Referencias!$B$24:$C$40,2,FALSE())","v":"G"}]
["3631492","Gallardo Camacho, María Dolores","Gallega","D",{"$f":"VLOOKUP(G3694,Referencias!$C$4:$D$21,2,FALSE())","v":"Tercera Diamante"},{"$f":"VLOOKUP(G3694,Referencias!$C$4:$E$21,3,FALSE())","v":3},"3D","Competición",{"$f":"VLOOKUP(C3694,Referencias!$B$24:$C$40,2,FALSE())","v":"G"}]
["3631496","Machado Lima, Paulo Miguel","Gallega","C",{"$f":"VLOOKUP(G3695,Referencias!$C$4:$D$21,2,FALSE())","v":"Primera Picas"},{"$f":"VLOOKUP(G3695,Referencias!$C$4:$E$21,3,FALSE())","v":1},"1P","Competición",{"$f":"VLOOKUP(C3695,Referencias!$B$24:$C$40,2,FALSE())","v":"G"}]
["3631546","Quintanilla Buceta, Mª Victoria","Gallega","D",{"$f":"VLOOKUP(G3696,Referencias!$C$4:$D$21,2,FALSE())","v":"Tercera Corazón"},{"$f":"VLOOKUP(G3696,Referencias!$C$4:$E$21,3,FALSE())","v":3},"3C","Competición",{"$f":"VLOOKUP(C3696,Referencias!$B$24:$C$40,2,FALSE())","v":"G"}]
["3631579","Estrada Ibars, Rosa María","Gallega","D",{"$f":"VLOOKUP(G3697,Referencias!$C$4:$D$21,2,FALSE())","v":"Segunda Picas"},{"$f":"VLOOKUP(G3697,Referencias!$C$4:$E$21,3,FALSE())","v":2},"2P","Competición",{"$f":"VLOOKUP(C3697,Referencias!$B$24:$C$40,2,FALSE())","v":"G"}]
["3631617","Macias Rey, Mª del Carmen","Gallega","C",{"$f":"VLOOKUP(G3698,Referencias!$C$4:$D$21,2,FALSE())","v":"Sin Categoría"},{"$f":"VLOOKUP(G3698,Referencias!$C$4:$E$21,3,FALSE())","v":4},"SC","Competición",{"$f":"VLOOKUP(C3698,Referencias!$B$24:$C$40,2,FALSE())","v":"G"}]
["3631628","Gil Somorostro, Araceli","Gallega","D",{"$f":"VLOOKUP(G3699,Referencias!$C$4:$D$21,2,FALSE())","v":"Primera Diamante"},{"$f":"VLOOKUP(G3699,Referencias!$C$4:$E$21,3,FALSE())","v":1},"1D","Competición",{"$f":"VLOOKUP(C3699,Referencias!$B$24:$C$40,2,FALSE())","v":"G"}]
["3631634","Torres Matos, Enrique","Gallega","C",{"$f":"VLOOKUP(G3700,Referencias!$C$4:$D$21,2,FALSE())","v":"Tercera Corazón"},{"$f":"VLOOKUP(G3700,Referencias!$C$4:$E$21,3,FALSE())","v":3},"3C","Competición",{"$f":"VLOOKUP(C3700,Referencias!$B$24:$C$40,2,FALSE())","v":"G"}]
["3631635","Pérez Amaro, Ana","Gallega","D",{"$f":"VLOOKUP(G3701,Referencias!$C$4:$D$21,2,FALSE())","v":"Segunda Corazón"},{"$f":"VLOOKUP(G3701,Referencias!$C$4:$E$21,3,FALSE())","v":2},"2C","Competición",{"$f":"VLOOKUP(C3701,Referencias!$B$24:$C$40,2,FALSE())","v":"G"}]
["3631637","Noves Sánchez, María Montserrat","Gallega","D",{"$f":"VLOOKUP(G3702,Referencias!$C$4:$D$21,2,FALSE())","v":"Sin Categoría"},{"$f":"VLOOKUP(G3702,Referencias!$C$4:$E$21,3,FALSE())","v":4},"SC","Competición",{"$f":"VLOOKUP(C3702,Referencias!$B$24:$C$40,2,FALSE())","v":"G"}]
["3631639","Bárcena Fernández de Angulo, Asunción","Gallega","D",{"$f":"VLOOKUP(G3703,Referencias!$C$4:$D$21,2,FALSE())","v":"Sin Categoría"},{"$f":"VLOOKUP(G3703,Referencias!$C$4:$E$21,3,FALSE())","v":4},"SC","Competición",{"$f":"VLOOKUP(C3703,Referencias!$B$24:$C$40,2,FALSE())","v":"G"}]
["3631644","Eiroa Guillen, Mª Antonia","Gallega","D",{"$f":"VLOOKUP(G3704,Referencias!$C$4:$D$21,2,FALSE())","v":"Sin Categoría"},{"$f":"VLOOKUP(G3704,Referencias!$C$4:$E$21,3,FALSE())","v":4},"SC","Competición",{"$f":"VLOOKUP(C3704,Referencias!$B$24:$C$40,2,FALSE())","v":"G"}]
["3631647","González-Méndez Brandón, Carlos","Gallega","C",{"$f":"VLOOKUP(G3705,Referencias!$C$4:$D$21,2,FALSE())","v":"Tercera Corazón"},{"$f":"VLOOKUP(G3705,Referencias!$C$4:$E$21,3,FALSE())","v":3},"3C","Competición",{"$f":"VLOOKUP(C3705,Referencias!$B$24:$C$40,2,FALSE())","v":"G"}]
["3631648","Mariñas Martínez, Reyes","Gallega","D",{"$f":"VLOOKUP(G3706,Referencias!$C$4:$D$21,2,FALSE())","v":"Tercera Corazón"},{"$f":"VLOOKUP(G3706,Referencias!$C$4:$E$21,3,FALSE())","v":3},"3C","Competición",{"$f":"VLOOKUP(C3706,Referencias!$B$24:$C$40,2,FALSE())","v":"G"}]
["3631649","Calderón Alcocer, María Teresa","Gallega","D",{"$f":"VLOOKUP(G3707,Referencias!$C$4:$D$21,2,FALSE())","v":"Tercera Corazón"},{"$f":"VLOOKUP(G3707,Referencias!$C$4:$E$21,3,FALSE())","v":3},"3C","Competición",{"$f":"VLOOKUP(C3707,Referencias!$B$24:$C$40,2,FALSE())","v":"G"}]
["3631650","Outon Soto, Alicia","Gallega","D",{"$f":"VLOOKUP(G3708,Referencias!$C$4:$D$21,2,FALSE())","v":"Tercera Corazón"},{"$f":"VLOOKUP(G3708,Referencias!$C$4:$E$21,3,FALSE())","v":3},"3C","Competición",{"$f":"VLOOKUP(C3708,Referencias!$B$24:$C$40,2,FALSE())","v":"G"}]
["3631652","Silva Guisasola, María José","Gallega","D",{"$f":"VLOOKUP(G3709,Referencias!$C$4:$D$21,2,FALSE())","v":"Tercera Corazón"},{"$f":"VLOOKUP(G3709,Referencias!$C$4:$E$21,3,FALSE())","v":3},"3C","Competición",{"$f":"VLOOKUP(C3709,Referencias!$B$24:$C$40,2,FALSE())","v":"G"}]
["3631653","Iribarren Fernández-Rogina, Begoña","Gallega","D",{"$f":"VLOOKUP(G3710,Referencias!$C$4:$D$21,2,FALSE())","v":"Tercera Diamante"},{"$f":"VLOOKUP(G3710,Referencias!$C$4:$E$21,3,FALSE())","v":3},"3D","Competición",{"$f":"VLOOKUP(C3710,Referencias!$B$24:$C$40,2,FALSE())","v":"G"}]
["3631659","Iribarren Fernández - Rogina, Carmen","Gallega","D",{"$f":"VLOOKUP(G3711,Referencias!$C$4:$D$21,2,FALSE())","v":"Tercera Corazón"},{"$f":"VLOOKUP(G3711,Referencias!$C$4:$E$21,3,FALSE())","v":3},"3C","Competición",{"$f":"VLOOKUP(C3711,Referencias!$B$24:$C$40,2,FALSE())","v":"G"}]
["3631661","Valeiro Mallo, Mª Dolores","Gallega","D",{"$f":"VLOOKUP(G3712,Referencias!$C$4:$D$21,2,FALSE())","v":"Segunda Diamante"},{"$f":"VLOOKUP(G3712,Referencias!$C$4:$E$21,3,FALSE())","v":2},"2D","Competición",{"$f":"VLOOKUP(C3712,Referencias!$B$24:$C$40,2,FALSE())","v":"G"}]
["3631662","Vela Nieto, Pikika","Gallega","D",{"$f":"VLOOKUP(G3713,Referencias!$C$4:$D$21,2,FALSE())","v":"Tercera Corazón"},{"$f":"VLOOKUP(G3713,Referencias!$C$4:$E$21,3,FALSE())","v":3},"3C","Competición",{"$f":"VLOOKUP(C3713,Referencias!$B$24:$C$40,2,FALSE())","v":"G"}]
["3631663","Dias Silva, Armando","Gallega","C",{"$f":"VLOOKUP(G3714,Referencias!$C$4:$D$21,2,FALSE())","v":"Segunda Corazón"},{"$f":"VLOOKUP(G3714,Referencias!$C$4:$E$21,3,FALSE())","v":2},"2C","Competición",{"$f":"VLOOKUP(C3714,Referencias!$B$24:$C$40,2,FALSE())","v":"G"}]
["3631664","Mencía Castro, Julia","Gallega","D",{"$f":"VLOOKUP(G3715,Referencias!$C$4:$D$21,2,FALSE())","v":"Sin Categoría"},{"$f":"VLOOKUP(G3715,Referencias!$C$4:$E$21,3,FALSE())","v":4},"SC","Competición",{"$f":"VLOOKUP(C3715,Referencias!$B$24:$C$40,2,FALSE())","v":"G"}]
["3631665","Herrero Padín, Mercedes","Gallega","D",{"$f":"VLOOKUP(G3716,Referencias!$C$4:$D$21,2,FALSE())","v":"Tercera Corazón"},{"$f":"VLOOKUP(G3716,Referencias!$C$4:$E$21,3,FALSE())","v":3},"3C","Competición",{"$f":"VLOOKUP(C3716,Referencias!$B$24:$C$40,2,FALSE())","v":"G"}]
["3631666","Martínez Barros, Mary Luz","Gallega","D",{"$f":"VLOOKUP(G3717,Referencias!$C$4:$D$21,2,FALSE())","v":"Primera Corazón"},{"$f":"VLOOKUP(G3717,Referencias!$C$4:$E$21,3,FALSE())","v":1},"1C","Competición",{"$f":"VLOOKUP(C3717,Referencias!$B$24:$C$40,2,FALSE())","v":"G"}]
["3631667","Vila Rodríguez, Inés","Gallega","D",{"$f":"VLOOKUP(G3718,Referencias!$C$4:$D$21,2,FALSE())","v":"Tercera Diamante"},{"$f":"VLOOKUP(G3718,Referencias!$C$4:$E$21,3,FALSE())","v":3},"3D","Competición",{"$f":"VLOOKUP(C3718,Referencias!$B$24:$C$40,2,FALSE())","v":"G"}]
["3631672","Pérez Arlucea, Marta","Gallega","D",{"$f":"VLOOKUP(G3719,Referencias!$C$4:$D$21,2,FALSE())","v":"Sin Categoría"},{"$f":"VLOOKUP(G3719,Referencias!$C$4:$E$21,3,FALSE())","v":4},"SC","Competición",{"$f":"VLOOKUP(C3719,Referencias!$B$24:$C$40,2,FALSE())","v":"G"}]
["3631680","Martínez Martín, Margarita Iris","Gallega","D",{"$f":"VLOOKUP(G3720,Referencias!$C$4:$D$21,2,FALSE())","v":"Segunda Diamante"},{"$f":"VLOOKUP(G3720,Referencias!$C$4:$E$21,3,FALSE())","v":2},"2D","Competición",{"$f":"VLOOKUP(C3720,Referencias!$B$24:$C$40,2,FALSE())","v":"G"}]
["3631681","Vide Barbosa, Joäo","AEB","C",{"$f":"VLOOKUP(G3721,Referencias!$C$4:$D$21,2,FALSE())","v":"Sin Categoría"},{"$f":"VLOOKUP(G3721,Referencias!$C$4:$E$21,3,FALSE())","v":4},"SC","Competición",{"$f":"VLOOKUP(C3721,Referencias!$B$24:$C$40,2,FALSE())","v":{"$error":"#N/A"}}]
["3631682","Sarmento, Paulo","AEB","C",{"$f":"VLOOKUP(G3722,Referencias!$C$4:$D$21,2,FALSE())","v":"Sin Categoría"},{"$f":"VLOOKUP(G3722,Referencias!$C$4:$E$21,3,FALSE())","v":4},"SC","Competición",{"$f":"VLOOKUP(C3722,Referencias!$B$24:$C$40,2,FALSE())","v":{"$error":"#N/A"}}]
["3631703","Nogueira Fernández, Marta","Gallega","D",{"$f":"VLOOKUP(G3723,Referencias!$C$4:$D$21,2,FALSE())","v":"Primera Diamante"},{"$f":"VLOOKUP(G3723,Referencias!$C$4:$E$21,3,FALSE())","v":1},"1D","Competición",{"$f":"VLOOKUP(C3723,Referencias!$B$24:$C$40,2,FALSE())","v":"G"}]
["3631708","Román Estévez, María Jesús","Gallega","D",{"$f":"VLOOKUP(G3724,Referencias!$C$4:$D$21,2,FALSE())","v":"Tercera Picas"},{"$f":"VLOOKUP(G3724,Referencias!$C$4:$E$21,3,FALSE())","v":3},"3P","Competición",{"$f":"VLOOKUP(C3724,Referencias!$B$24:$C$40,2,FALSE())","v":"G"}]
["3631710","Malpica Saleta, Manuela","Gallega","D",{"$f":"VLOOKUP(G3725,Referencias!$C$4:$D$21,2,FALSE())","v":"Segunda Diamante"},{"$f":"VLOOKUP(G3725,Referencias!$C$4:$E$21,3,FALSE())","v":2},"2D","Competición",{"$f":"VLOOKUP(C3725,Referencias!$B$24:$C$40,2,FALSE())","v":"G"}]
["3631711","Santamaría de Anta, Isabel","Gallega","D",{"$f":"VLOOKUP(G3726,Referencias!$C$4:$D$21,2,FALSE())","v":"Tercera Picas"},{"$f":"VLOOKUP(G3726,Referencias!$C$4:$E$21,3,FALSE())","v":3},"3P","Competición",{"$f":"VLOOKUP(C3726,Referencias!$B$24:$C$40,2,FALSE())","v":"G"}]
["3631712","Legorburu Juaristi, M. Aranzazu","Gallega","D",{"$f":"VLOOKUP(G3727,Referencias!$C$4:$D$21,2,FALSE())","v":"Segunda Corazón"},{"$f":"VLOOKUP(G3727,Referencias!$C$4:$E$21,3,FALSE())","v":2},"2C","Competición",{"$f":"VLOOKUP(C3727,Referencias!$B$24:$C$40,2,FALSE())","v":"G"}]
["3631714","Moreno García, Alberto","Gallega","C",{"$f":"VLOOKUP(G3728,Referencias!$C$4:$D$21,2,FALSE())","v":"Sin Categoría"},{"$f":"VLOOKUP(G3728,Referencias!$C$4:$E$21,3,FALSE())","v":4},"SC","Competición",{"$f":"VLOOKUP(C3728,Referencias!$B$24:$C$40,2,FALSE())","v":"G"}]
["3631715","Bermúdez de la Puente Glz. Del Valle, María Teresa","Gallega","D",{"$f":"VLOOKUP(G3729,Referencias!$C$4:$D$21,2,FALSE())","v":"Segunda Diamante"},{"$f":"VLOOKUP(G3729,Referencias!$C$4:$E$21,3,FALSE())","v":2},"2D","Competición",{"$f":"VLOOKUP(C3729,Referencias!$B$24:$C$40,2,FALSE())","v":"G"}]
["3631716","Fortes Gago, Mª Nela","Gallega","D",{"$f":"VLOOKUP(G3730,Referencias!$C$4:$D$21,2,FALSE())","v":"Tercera Picas"},{"$f":"VLOOKUP(G3730,Referencias!$C$4:$E$21,3,FALSE())","v":3},"3P","Competición",{"$f":"VLOOKUP(C3730,Referencias!$B$24:$C$40,2,FALSE())","v":"G"}]
["3631725","Atienza Mena, Maria Luisa","Gallega","D",{"$f":"VLOOKUP(G3731,Referencias!$C$4:$D$21,2,FALSE())","v":"Tercera Diamante"},{"$f":"VLOOKUP(G3731,Referencias!$C$4:$E$21,3,FALSE())","v":3},"3D","Competición",{"$f":"VLOOKUP(C3731,Referencias!$B$24:$C$40,2,FALSE())","v":"G"}]
["3631726","Gesteiro Conde, Adoración","Gallega","D",{"$f":"VLOOKUP(G3732,Referencias!$C$4:$D$21,2,FALSE())","v":"Tercera Diamante"},{"$f":"VLOOKUP(G3732,Referencias!$C$4:$E$21,3,FALSE())","v":3},"3D","Competición",{"$f":"VLOOKUP(C3732,Referencias!$B$24:$C$40,2,FALSE())","v":"G"}]
["3631727","Villamarín del Pozo, Mªaría del Rosario","Gallega","D",{"$f":"VLOOKUP(G3733,Referencias!$C$4:$D$21,2,FALSE())","v":"Tercera Picas"},{"$f":"VLOOKUP(G3733,Referencias!$C$4:$E$21,3,FALSE())","v":3},"3P","Competición",{"$f":"VLOOKUP(C3733,Referencias!$B$24:$C$40,2,FALSE())","v":"G"}]
["3631729","Ibars Barrera, María Rosa","Gallega","D",{"$f":"VLOOKUP(G3734,Referencias!$C$4:$D$21,2,FALSE())","v":"Sin Categoría"},{"$f":"VLOOKUP(G3734,Referencias!$C$4:$E$21,3,FALSE())","v":4},"SC","Competición",{"$f":"VLOOKUP(C3734,Referencias!$B$24:$C$40,2,FALSE())","v":"G"}]
["3631745","Carreira Díaz, María José","Gallega","D",{"$f":"VLOOKUP(G3735,Referencias!$C$4:$D$21,2,FALSE())","v":"Tercera Diamante"},{"$f":"VLOOKUP(G3735,Referencias!$C$4:$E$21,3,FALSE())","v":3},"3D","Competición",{"$f":"VLOOKUP(C3735,Referencias!$B$24:$C$40,2,FALSE())","v":"G"}]
["3631789","Fernández Brión, Olga","Gallega","D",{"$f":"VLOOKUP(G3736,Referencias!$C$4:$D$21,2,FALSE())","v":"Tercera Diamante"},{"$f":"VLOOKUP(G3736,Referencias!$C$4:$E$21,3,FALSE())","v":3},"3D","Competición",{"$f":"VLOOKUP(C3736,Referencias!$B$24:$C$40,2,FALSE())","v":"G"}]
["3631790","Curbera Bandin, Enrique","Gallega","C",{"$f":"VLOOKUP(G3737,Referencias!$C$4:$D$21,2,FALSE())","v":"Sin Categoría"},{"$f":"VLOOKUP(G3737,Referencias!$C$4:$E$21,3,FALSE())","v":4},"SC","Competición",{"$f":"VLOOKUP(C3737,Referencias!$B$24:$C$40,2,FALSE())","v":"G"}]
["3631791","García Senra, Cristina","Gallega","D",{"$f":"VLOOKUP(G3738,Referencias!$C$4:$D$21,2,FALSE())","v":"Primera Diamante"},{"$f":"VLOOKUP(G3738,Referencias!$C$4:$E$21,3,FALSE())","v":1},"1D","Competición",{"$f":"VLOOKUP(C3738,Referencias!$B$24:$C$40,2,FALSE())","v":"G"}]
["3631800","Rivas Rodríguez, María Teresa","Gallega","D",{"$f":"VLOOKUP(G3739,Referencias!$C$4:$D$21,2,FALSE())","v":"Segunda Diamante"},{"$f":"VLOOKUP(G3739,Referencias!$C$4:$E$21,3,FALSE())","v":2},"2D","Competición",{"$f":"VLOOKUP(C3739,Referencias!$B$24:$C$40,2,FALSE())","v":"G"}]
["3631801","García-Durán Gárate, Leopoldo","Gallega","C",{"$f":"VLOOKUP(G3740,Referencias!$C$4:$D$21,2,FALSE())","v":"Primera Picas"},{"$f":"VLOOKUP(G3740,Referencias!$C$4:$E$21,3,FALSE())","v":1},"1P","Competición",{"$f":"VLOOKUP(C3740,Referencias!$B$24:$C$40,2,FALSE())","v":"G"}]
["3631802","Tornos Martín-Fernández, Macarena","Gallega","D",{"$f":"VLOOKUP(G3741,Referencias!$C$4:$D$21,2,FALSE())","v":"Tercera Corazón"},{"$f":"VLOOKUP(G3741,Referencias!$C$4:$E$21,3,FALSE())","v":3},"3C","Competición",{"$f":"VLOOKUP(C3741,Referencias!$B$24:$C$40,2,FALSE())","v":"G"}]
["3631822","Fokker De Baer, Helen-Joan","Gallega","D",{"$f":"VLOOKUP(G3742,Referencias!$C$4:$D$21,2,FALSE())","v":"Tercera Diamante"},{"$f":"VLOOKUP(G3742,Referencias!$C$4:$E$21,3,FALSE())","v":3},"3D","Competición",{"$f":"VLOOKUP(C3742,Referencias!$B$24:$C$40,2,FALSE())","v":"G"}]
["3631823","Dávila Millán, Ángeles","Gallega","D",{"$f":"VLOOKUP(G3743,Referencias!$C$4:$D$21,2,FALSE())","v":"Tercera Diamante"},{"$f":"VLOOKUP(G3743,Referencias!$C$4:$E$21,3,FALSE())","v":3},"3D","Competición",{"$f":"VLOOKUP(C3743,Referencias!$B$24:$C$40,2,FALSE())","v":"G"}]
["3631824","Jiménez Prieto, José Carlos","Gallega","C",{"$f":"VLOOKUP(G3744,Referencias!$C$4:$D$21,2,FALSE())","v":"Tercera Corazón"},{"$f":"VLOOKUP(G3744,Referencias!$C$4:$E$21,3,FALSE())","v":3},"3C","Competición",{"$f":"VLOOKUP(C3744,Referencias!$B$24:$C$40,2,FALSE())","v":"G"}]
["3631933","Campos, Pedro","Gallega","C",{"$f":"VLOOKUP(G3745,Referencias!$C$4:$D$21,2,FALSE())","v":"Primera Diamante"},{"$f":"VLOOKUP(G3745,Referencias!$C$4:$E$21,3,FALSE())","v":1},"1D","Competición",{"$f":"VLOOKUP(C3745,Referencias!$B$24:$C$40,2,FALSE())","v":"G"}]
["3631934","Martinez Gómez, Herminia ","Gallega","D",{"$f":"VLOOKUP(G3746,Referencias!$C$4:$D$21,2,FALSE())","v":"Tercera Diamante"},{"$f":"VLOOKUP(G3746,Referencias!$C$4:$E$21,3,FALSE())","v":3},"3D","Competición",{"$f":"VLOOKUP(C3746,Referencias!$B$24:$C$40,2,FALSE())","v":"G"}]
["3631935","Sandar Nuñez, José","Gallega","C",{"$f":"VLOOKUP(G3747,Referencias!$C$4:$D$21,2,FALSE())","v":"Tercera Picas"},{"$f":"VLOOKUP(G3747,Referencias!$C$4:$E$21,3,FALSE())","v":3},"3P","Competición",{"$f":"VLOOKUP(C3747,Referencias!$B$24:$C$40,2,FALSE())","v":"G"}]
["3631937","De Agustin Vázquez, Alvaro","Gallega","C",{"$f":"VLOOKUP(G3748,Referencias!$C$4:$D$21,2,FALSE())","v":"Tercera Diamante"},{"$f":"VLOOKUP(G3748,Referencias!$C$4:$E$21,3,FALSE())","v":3},"3D","Competición",{"$f":"VLOOKUP(C3748,Referencias!$B$24:$C$40,2,FALSE())","v":"G"}]
["3631938","Fernandes Matos Da Costa, Francisco Jose","Gallega","C",{"$f":"VLOOKUP(G3749,Referencias!$C$4:$D$21,2,FALSE())","v":"Segunda Diamante"},{"$f":"VLOOKUP(G3749,Referencias!$C$4:$E$21,3,FALSE())","v":2},"2D","Competición",{"$f":"VLOOKUP(C3749,Referencias!$B$24:$C$40,2,FALSE())","v":"G"}]
["3631940","Jaudenes , María Ascensión ","Gallega","D",{"$f":"VLOOKUP(G3750,Referencias!$C$4:$D$21,2,FALSE())","v":"Tercera Diamante"},{"$f":"VLOOKUP(G3750,Referencias!$C$4:$E$21,3,FALSE())","v":3},"3D","Competición",{"$f":"VLOOKUP(C3750,Referencias!$B$24:$C$40,2,FALSE())","v":"G"}]
["3631944","Palmeiro Díaz, José","Gallega","C",{"$f":"VLOOKUP(G3751,Referencias!$C$4:$D$21,2,FALSE())","v":"Tercera Corazón"},{"$f":"VLOOKUP(G3751,Referencias!$C$4:$E$21,3,FALSE())","v":3},"3C","Competición",{"$f":"VLOOKUP(C3751,Referencias!$B$24:$C$40,2,FALSE())","v":"G"}]
["3631952","Lozoya Fernández, José María ","Gallega","C",{"$f":"VLOOKUP(G3752,Referencias!$C$4:$D$21,2,FALSE())","v":"Tercera Corazón"},{"$f":"VLOOKUP(G3752,Referencias!$C$4:$E$21,3,FALSE())","v":3},"3C","Competición",{"$f":"VLOOKUP(C3752,Referencias!$B$24:$C$40,2,FALSE())","v":"G"}]
["3631953","García Fernández, Ana ","Gallega","D",{"$f":"VLOOKUP(G3753,Referencias!$C$4:$D$21,2,FALSE())","v":"Tercera Diamante"},{"$f":"VLOOKUP(G3753,Referencias!$C$4:$E$21,3,FALSE())","v":3},"3D","Competición",{"$f":"VLOOKUP(C3753,Referencias!$B$24:$C$40,2,FALSE())","v":"G"}]
["3631954","Otero Aldereguía, Luis ","Gallega","C",{"$f":"VLOOKUP(G3754,Referencias!$C$4:$D$21,2,FALSE())","v":"Tercera Diamante"},{"$f":"VLOOKUP(G3754,Referencias!$C$4:$E$21,3,FALSE())","v":3},"3D","Competición",{"$f":"VLOOKUP(C3754,Referencias!$B$24:$C$40,2,FALSE())","v":"G"}]
["3631955","Pascual Calvo, Noemi ","Gallega","D",{"$f":"VLOOKUP(G3755,Referencias!$C$4:$D$21,2,FALSE())","v":"Tercera Diamante"},{"$f":"VLOOKUP(G3755,Referencias!$C$4:$E$21,3,FALSE())","v":3},"3D","Competición",{"$f":"VLOOKUP(C3755,Referencias!$B$24:$C$40,2,FALSE())","v":"G"}]
["3631956","Ezquieta Llamas, Santiago","Gallega","C",{"$f":"VLOOKUP(G3756,Referencias!$C$4:$D$21,2,FALSE())","v":"Tercera Diamante"},{"$f":"VLOOKUP(G3756,Referencias!$C$4:$E$21,3,FALSE())","v":3},"3D","Competición",{"$f":"VLOOKUP(C3756,Referencias!$B$24:$C$40,2,FALSE())","v":"G"}]
["3631957","González Taboada, Francisco Javier ","Gallega","C",{"$f":"VLOOKUP(G3757,Referencias!$C$4:$D$21,2,FALSE())","v":"Tercera Diamante"},{"$f":"VLOOKUP(G3757,Referencias!$C$4:$E$21,3,FALSE())","v":3},"3D","Competición",{"$f":"VLOOKUP(C3757,Referencias!$B$24:$C$40,2,FALSE())","v":"G"}]
["3631958","Moldes García, Angel ","Gallega","C",{"$f":"VLOOKUP(G3758,Referencias!$C$4:$D$21,2,FALSE())","v":"Tercera Corazón"},{"$f":"VLOOKUP(G3758,Referencias!$C$4:$E$21,3,FALSE())","v":3},"3C","Competición",{"$f":"VLOOKUP(C3758,Referencias!$B$24:$C$40,2,FALSE())","v":"G"}]
["3631959","Araujo Pazos, Patricia ","Gallega","D",{"$f":"VLOOKUP(G3759,Referencias!$C$4:$D$21,2,FALSE())","v":"Tercera Diamante"},{"$f":"VLOOKUP(G3759,Referencias!$C$4:$E$21,3,FALSE())","v":3},"3D","Competición",{"$f":"VLOOKUP(C3759,Referencias!$B$24:$C$40,2,FALSE())","v":"G"}]
["3631960","Bellido Fonseca, Lourdes ","Gallega","D",{"$f":"VLOOKUP(G3760,Referencias!$C$4:$D$21,2,FALSE())","v":"Tercera Diamante"},{"$f":"VLOOKUP(G3760,Referencias!$C$4:$E$21,3,FALSE())","v":3},"3D","Competición",{"$f":"VLOOKUP(C3760,Referencias!$B$24:$C$40,2,FALSE())","v":"G"}]
["3631961","González Ordoñez, Maria Teresa ","Gallega","D",{"$f":"VLOOKUP(G3761,Referencias!$C$4:$D$21,2,FALSE())","v":"Tercera Diamante"},{"$f":"VLOOKUP(G3761,Referencias!$C$4:$E$21,3,FALSE())","v":3},"3D","Competición",{"$f":"VLOOKUP(C3761,Referencias!$B$24:$C$40,2,FALSE())","v":"G"}]
["3631963","Fariña Lopez, Blanca ","Gallega","D",{"$f":"VLOOKUP(G3762,Referencias!$C$4:$D$21,2,FALSE())","v":"Tercera Diamante"},{"$f":"VLOOKUP(G3762,Referencias!$C$4:$E$21,3,FALSE())","v":3},"3D","Competición",{"$f":"VLOOKUP(C3762,Referencias!$B$24:$C$40,2,FALSE())","v":"G"}]
["3631964","Gomá Matilla, Ramón ","Gallega","C",{"$f":"VLOOKUP(G3763,Referencias!$C$4:$D$21,2,FALSE())","v":"Tercera Diamante"},{"$f":"VLOOKUP(G3763,Referencias!$C$4:$E$21,3,FALSE())","v":3},"3D","Competición",{"$f":"VLOOKUP(C3763,Referencias!$B$24:$C$40,2,FALSE())","v":"G"}]
["3631965","López Vigo, Carlos ","Gallega","C",{"$f":"VLOOKUP(G3764,Referencias!$C$4:$D$21,2,FALSE())","v":"Tercera Diamante"},{"$f":"VLOOKUP(G3764,Referencias!$C$4:$E$21,3,FALSE())","v":3},"3D","Competición",{"$f":"VLOOKUP(C3764,Referencias!$B$24:$C$40,2,FALSE())","v":"G"}]
["3631966","Piñón Dopico, Manuel Angel ","Gallega","C",{"$f":"VLOOKUP(G3765,Referencias!$C$4:$D$21,2,FALSE())","v":"Tercera Diamante"},{"$f":"VLOOKUP(G3765,Referencias!$C$4:$E$21,3,FALSE())","v":3},"3D","Competición",{"$f":"VLOOKUP(C3765,Referencias!$B$24:$C$40,2,FALSE())","v":"G"}]
["3631967","Valcarcel Pedreda, Carlos ","Gallega","C",{"$f":"VLOOKUP(G3766,Referencias!$C$4:$D$21,2,FALSE())","v":"Tercera Corazón"},{"$f":"VLOOKUP(G3766,Referencias!$C$4:$E$21,3,FALSE())","v":3},"3C","Competición",{"$f":"VLOOKUP(C3766,Referencias!$B$24:$C$40,2,FALSE())","v":"G"}]
["3631969","Ferro Román, Paula ","Gallega","D",{"$f":"VLOOKUP(G3767,Referencias!$C$4:$D$21,2,FALSE())","v":"Tercera Diamante"},{"$f":"VLOOKUP(G3767,Referencias!$C$4:$E$21,3,FALSE())","v":3},"3D","Competición",{"$f":"VLOOKUP(C3767,Referencias!$B$24:$C$40,2,FALSE())","v":"G"}]
["3631970","García Martínez, Moisés ","Gallega","C",{"$f":"VLOOKUP(G3768,Referencias!$C$4:$D$21,2,FALSE())","v":"Tercera Diamante"},{"$f":"VLOOKUP(G3768,Referencias!$C$4:$E$21,3,FALSE())","v":3},"3D","Competición",{"$f":"VLOOKUP(C3768,Referencias!$B$24:$C$40,2,FALSE())","v":"G"}]
["3631971","Rial Muiños, Eva ","Gallega","D",{"$f":"VLOOKUP(G3769,Referencias!$C$4:$D$21,2,FALSE())","v":"Tercera Diamante"},{"$f":"VLOOKUP(G3769,Referencias!$C$4:$E$21,3,FALSE())","v":3},"3D","Competición",{"$f":"VLOOKUP(C3769,Referencias!$B$24:$C$40,2,FALSE())","v":"G"}]
["3631972","Simón Piñeiro Oitaven, Mario ","Gallega","C",{"$f":"VLOOKUP(G3770,Referencias!$C$4:$D$21,2,FALSE())","v":"Tercera Corazón"},{"$f":"VLOOKUP(G3770,Referencias!$C$4:$E$21,3,FALSE())","v":3},"3C","Competición",{"$f":"VLOOKUP(C3770,Referencias!$B$24:$C$40,2,FALSE())","v":"G"}]
["3631973","Del Olmo Casalderrey, María Cristina ","Gallega","D",{"$f":"VLOOKUP(G3771,Referencias!$C$4:$D$21,2,FALSE())","v":"Tercera Diamante"},{"$f":"VLOOKUP(G3771,Referencias!$C$4:$E$21,3,FALSE())","v":3},"3D","Competición",{"$f":"VLOOKUP(C3771,Referencias!$B$24:$C$40,2,FALSE())","v":"G"}]
["3631975","Corujo Castro, Manuel","Gallega","C",{"$f":"VLOOKUP(G3772,Referencias!$C$4:$D$21,2,FALSE())","v":"Tercera Diamante"},{"$f":"VLOOKUP(G3772,Referencias!$C$4:$E$21,3,FALSE())","v":3},"3D","Competición",{"$f":"VLOOKUP(C3772,Referencias!$B$24:$C$40,2,FALSE())","v":"G"}]
["3631976","Fernández-Barja García, Pilar ","Gallega","D",{"$f":"VLOOKUP(G3773,Referencias!$C$4:$D$21,2,FALSE())","v":"Tercera Diamante"},{"$f":"VLOOKUP(G3773,Referencias!$C$4:$E$21,3,FALSE())","v":3},"3D","Competición",{"$f":"VLOOKUP(C3773,Referencias!$B$24:$C$40,2,FALSE())","v":"G"}]
["3631977","Baltar San Martin, Cristina ","Gallega","D",{"$f":"VLOOKUP(G3774,Referencias!$C$4:$D$21,2,FALSE())","v":"Tercera Diamante"},{"$f":"VLOOKUP(G3774,Referencias!$C$4:$E$21,3,FALSE())","v":3},"3D","Competición",{"$f":"VLOOKUP(C3774,Referencias!$B$24:$C$40,2,FALSE())","v":"G"}]
["3631979","Lista Alfonso, Elena","Gallega","D",{"$f":"VLOOKUP(G3775,Referencias!$C$4:$D$21,2,FALSE())","v":"Tercera Diamante"},{"$f":"VLOOKUP(G3775,Referencias!$C$4:$E$21,3,FALSE())","v":3},"3D","Competición",{"$f":"VLOOKUP(C3775,Referencias!$B$24:$C$40,2,FALSE())","v":"G"}]
["3631980","Lage Bouzamayor, María Belén ","Gallega","D",{"$f":"VLOOKUP(G3776,Referencias!$C$4:$D$21,2,FALSE())","v":"Tercera Diamante"},{"$f":"VLOOKUP(G3776,Referencias!$C$4:$E$21,3,FALSE())","v":3},"3D","Competición",{"$f":"VLOOKUP(C3776,Referencias!$B$24:$C$40,2,FALSE())","v":"G"}]
["3631981","Garnelo Fernández, María José ","Gallega","D",{"$f":"VLOOKUP(G3777,Referencias!$C$4:$D$21,2,FALSE())","v":"Tercera Diamante"},{"$f":"VLOOKUP(G3777,Referencias!$C$4:$E$21,3,FALSE())","v":3},"3D","Competición",{"$f":"VLOOKUP(C3777,Referencias!$B$24:$C$40,2,FALSE())","v":"G"}]
["3631982","Sancho Sánchez, Teresa","Gallega","D",{"$f":"VLOOKUP(G3778,Referencias!$C$4:$D$21,2,FALSE())","v":"Tercera Diamante"},{"$f":"VLOOKUP(G3778,Referencias!$C$4:$E$21,3,FALSE())","v":3},"3D","Competición",{"$f":"VLOOKUP(C3778,Referencias!$B$24:$C$40,2,FALSE())","v":"G"}]
["3631983","Spuch Fernández, Dolores","Gallega","D",{"$f":"VLOOKUP(G3779,Referencias!$C$4:$D$21,2,FALSE())","v":"Tercera Diamante"},{"$f":"VLOOKUP(G3779,Referencias!$C$4:$E$21,3,FALSE())","v":3},"3D","Competición",{"$f":"VLOOKUP(C3779,Referencias!$B$24:$C$40,2,FALSE())","v":"G"}]
["3631984","Ariza López, Julia","Gallega","D",{"$f":"VLOOKUP(G3780,Referencias!$C$4:$D$21,2,FALSE())","v":"Tercera Diamante"},{"$f":"VLOOKUP(G3780,Referencias!$C$4:$E$21,3,FALSE())","v":3},"3D","Competición",{"$f":"VLOOKUP(C3780,Referencias!$B$24:$C$40,2,FALSE())","v":"G"}]
["3631990","Romero Bandeira, Miguel","Gallega","C",{"$f":"VLOOKUP(G3781,Referencias!$C$4:$D$21,2,FALSE())","v":"Tercera Diamante"},{"$f":"VLOOKUP(G3781,Referencias!$C$4:$E$21,3,FALSE())","v":3},"3D","Competición",{"$f":"VLOOKUP(C3781,Referencias!$B$24:$C$40,2,FALSE())","v":"G"}]
["3631991","Romero Bandeira, Paz","Gallega","D",{"$f":"VLOOKUP(G3782,Referencias!$C$4:$D$21,2,FALSE())","v":"Tercera Diamante"},{"$f":"VLOOKUP(G3782,Referencias!$C$4:$E$21,3,FALSE())","v":3},"3D","Competición",{"$f":"VLOOKUP(C3782,Referencias!$B$24:$C$40,2,FALSE())","v":"G"}]
["3631992","Riestra Rivas, Sofía","Gallega","D",{"$f":"VLOOKUP(G3783,Referencias!$C$4:$D$21,2,FALSE())","v":"Tercera Corazón"},{"$f":"VLOOKUP(G3783,Referencias!$C$4:$E$21,3,FALSE())","v":3},"3C","Competición",{"$f":"VLOOKUP(C3783,Referencias!$B$24:$C$40,2,FALSE())","v":"G"}]
["3631994","Roselló Barrios, Teresa","Gallega","D",{"$f":"VLOOKUP(G3784,Referencias!$C$4:$D$21,2,FALSE())","v":"Segunda Corazón"},{"$f":"VLOOKUP(G3784,Referencias!$C$4:$E$21,3,FALSE())","v":2},"2C","Competición",{"$f":"VLOOKUP(C3784,Referencias!$B$24:$C$40,2,FALSE())","v":"G"}]
["3631995","Comesaña Arribas, María del Carmen","Gallega","D",{"$f":"VLOOKUP(G3785,Referencias!$C$4:$D$21,2,FALSE())","v":"Tercera Diamante"},{"$f":"VLOOKUP(G3785,Referencias!$C$4:$E$21,3,FALSE())","v":3},"3D","Competición",{"$f":"VLOOKUP(C3785,Referencias!$B$24:$C$40,2,FALSE())","v":"G"}]
["3631996","Falcón Docampo, Amalia","Gallega","D",{"$f":"VLOOKUP(G3786,Referencias!$C$4:$D$21,2,FALSE())","v":"Tercera Diamante"},{"$f":"VLOOKUP(G3786,Referencias!$C$4:$E$21,3,FALSE())","v":3},"3D","Competición",{"$f":"VLOOKUP(C3786,Referencias!$B$24:$C$40,2,FALSE())","v":"G"}]
["3631997","Cristobal Ortega, María Julia","Gallega","D",{"$f":"VLOOKUP(G3787,Referencias!$C$4:$D$21,2,FALSE())","v":"Tercera Diamante"},{"$f":"VLOOKUP(G3787,Referencias!$C$4:$E$21,3,FALSE())","v":3},"3D","Competición",{"$f":"VLOOKUP(C3787,Referencias!$B$24:$C$40,2,FALSE())","v":"G"}]
["3635065","Fernández Tapias, José Luis","Gallega","C",{"$f":"VLOOKUP(G3788,Referencias!$C$4:$D$21,2,FALSE())","v":"Segunda Corazón"},{"$f":"VLOOKUP(G3788,Referencias!$C$4:$E$21,3,FALSE())","v":2},"2C","Competición",{"$f":"VLOOKUP(C3788,Referencias!$B$24:$C$40,2,FALSE())","v":"G"}]
["3635134","Posada Calleja, M. Victoria","Gallega","D",{"$f":"VLOOKUP(G3789,Referencias!$C$4:$D$21,2,FALSE())","v":"Sin Categoría"},{"$f":"VLOOKUP(G3789,Referencias!$C$4:$E$21,3,FALSE())","v":4},"SC","Competición",{"$f":"VLOOKUP(C3789,Referencias!$B$24:$C$40,2,FALSE())","v":"G"}]
["3635142","Rodríguez de Lago, M. Carmen","Gallega","D",{"$f":"VLOOKUP(G3790,Referencias!$C$4:$D$21,2,FALSE())","v":"Segunda Diamante"},{"$f":"VLOOKUP(G3790,Referencias!$C$4:$E$21,3,FALSE())","v":2},"2D","Competición",{"$f":"VLOOKUP(C3790,Referencias!$B$24:$C$40,2,FALSE())","v":"G"}]
["3635750","Abeledo Maristany, Manuel","Gallega","C",{"$f":"VLOOKUP(G3791,Referencias!$C$4:$D$21,2,FALSE())","v":"Tercera Diamante"},{"$f":"VLOOKUP(G3791,Referencias!$C$4:$E$21,3,FALSE())","v":3},"3D","Competición",{"$f":"VLOOKUP(C3791,Referencias!$B$24:$C$40,2,FALSE())","v":"G"}]
["3635759","Cancio Mel, Purificación","Gallega","D",{"$f":"VLOOKUP(G3792,Referencias!$C$4:$D$21,2,FALSE())","v":"Sin Categoría"},{"$f":"VLOOKUP(G3792,Referencias!$C$4:$E$21,3,FALSE())","v":4},"SC","Competición",{"$f":"VLOOKUP(C3792,Referencias!$B$24:$C$40,2,FALSE())","v":"G"}]
["3635781","Cuervo Gómez, Miguel","Gallega","C",{"$f":"VLOOKUP(G3793,Referencias!$C$4:$D$21,2,FALSE())","v":"Primera Picas"},{"$f":"VLOOKUP(G3793,Referencias!$C$4:$E$21,3,FALSE())","v":1},"1P","Competición",{"$f":"VLOOKUP(C3793,Referencias!$B$24:$C$40,2,FALSE())","v":"G"}]
["3635861","Alonso Ferrer, Matilde","Gallega","D",{"$f":"VLOOKUP(G3794,Referencias!$C$4:$D$21,2,FALSE())","v":"Primera Diamante"},{"$f":"VLOOKUP(G3794,Referencias!$C$4:$E$21,3,FALSE())","v":1},"1D","Competición",{"$f":"VLOOKUP(C3794,Referencias!$B$24:$C$40,2,FALSE())","v":"G"}]
["3635882","Ruiz de Alda, Mónica","Gallega","D",{"$f":"VLOOKUP(G3795,Referencias!$C$4:$D$21,2,FALSE())","v":"Segunda Picas"},{"$f":"VLOOKUP(G3795,Referencias!$C$4:$E$21,3,FALSE())","v":2},"2P","Competición",{"$f":"VLOOKUP(C3795,Referencias!$B$24:$C$40,2,FALSE())","v":"G"}]
["3635885","Iglesias Paul, Angeles","Gallega","D",{"$f":"VLOOKUP(G3796,Referencias!$C$4:$D$21,2,FALSE())","v":"Segunda Picas"},{"$f":"VLOOKUP(G3796,Referencias!$C$4:$E$21,3,FALSE())","v":2},"2P","Competición",{"$f":"VLOOKUP(C3796,Referencias!$B$24:$C$40,2,FALSE())","v":"G"}]
["3635886","Blanco Pero-Sanz, Alfonso","Gallega","C",{"$f":"VLOOKUP(G3797,Referencias!$C$4:$D$21,2,FALSE())","v":"Primera Diamante"},{"$f":"VLOOKUP(G3797,Referencias!$C$4:$E$21,3,FALSE())","v":1},"1D","Competición",{"$f":"VLOOKUP(C3797,Referencias!$B$24:$C$40,2,FALSE())","v":"G"}]
["3635887","Valenzuela Fernández, Margarita","Gallega","D",{"$f":"VLOOKUP(G3798,Referencias!$C$4:$D$21,2,FALSE())","v":"Segunda Corazón"},{"$f":"VLOOKUP(G3798,Referencias!$C$4:$E$21,3,FALSE())","v":2},"2C","Competición",{"$f":"VLOOKUP(C3798,Referencias!$B$24:$C$40,2,FALSE())","v":"G"}]
["3635889","García-Lastra, Mariem","Gallega","D",{"$f":"VLOOKUP(G3799,Referencias!$C$4:$D$21,2,FALSE())","v":"Tercera Diamante"},{"$f":"VLOOKUP(G3799,Referencias!$C$4:$E$21,3,FALSE())","v":3},"3D","Competición",{"$f":"VLOOKUP(C3799,Referencias!$B$24:$C$40,2,FALSE())","v":"G"}]
["3635892","Juega Puig, Carmela","Gallega","D",{"$f":"VLOOKUP(G3800,Referencias!$C$4:$D$21,2,FALSE())","v":"Tercera Corazón"},{"$f":"VLOOKUP(G3800,Referencias!$C$4:$E$21,3,FALSE())","v":3},"3C","Competición",{"$f":"VLOOKUP(C3800,Referencias!$B$24:$C$40,2,FALSE())","v":"G"}]
["3635897","García Rodríguez, Ana","Gallega","D",{"$f":"VLOOKUP(G3801,Referencias!$C$4:$D$21,2,FALSE())","v":"Primera Picas"},{"$f":"VLOOKUP(G3801,Referencias!$C$4:$E$21,3,FALSE())","v":1},"1P","Competición",{"$f":"VLOOKUP(C3801,Referencias!$B$24:$C$40,2,FALSE())","v":"G"}]
["3635898","Latorre Moraga, Rafael","Gallega","C",{"$f":"VLOOKUP(G3802,Referencias!$C$4:$D$21,2,FALSE())","v":"Primera Picas"},{"$f":"VLOOKUP(G3802,Referencias!$C$4:$E$21,3,FALSE())","v":1},"1P","Competición",{"$f":"VLOOKUP(C3802,Referencias!$B$24:$C$40,2,FALSE())","v":"G"}]
["3771422","Madrazo Arranz, Angel","Castilla y León","C",{"$f":"VLOOKUP(G3803,Referencias!$C$4:$D$21,2,FALSE())","v":"Tercera Picas"},{"$f":"VLOOKUP(G3803,Referencias!$C$4:$E$21,3,FALSE())","v":3},"3P","Competición",{"$f":"VLOOKUP(C3803,Referencias!$B$24:$C$40,2,FALSE())","v":"CL"}]
["3771526","Rodilla Sanchéz, Concepción","Castilla y León","D",{"$f":"VLOOKUP(G3804,Referencias!$C$4:$D$21,2,FALSE())","v":"Tercera Picas"},{"$f":"VLOOKUP(G3804,Referencias!$C$4:$E$21,3,FALSE())","v":3},"3P","Competición",{"$f":"VLOOKUP(C3804,Referencias!$B$24:$C$40,2,FALSE())","v":"CL"}]
["3771528","Minguez Goñi, Ana","Castilla y León","D",{"$f":"VLOOKUP(G3805,Referencias!$C$4:$D$21,2,FALSE())","v":"Sin Categoría"},{"$f":"VLOOKUP(G3805,Referencias!$C$4:$E$21,3,FALSE())","v":4},"SC","Competición",{"$f":"VLOOKUP(C3805,Referencias!$B$24:$C$40,2,FALSE())","v":"CL"}]
["3771534","Ardura Suárez, Trinidad","Castilla y León","D",{"$f":"VLOOKUP(G3806,Referencias!$C$4:$D$21,2,FALSE())","v":"Tercera Picas"},{"$f":"VLOOKUP(G3806,Referencias!$C$4:$E$21,3,FALSE())","v":3},"3P","Competición",{"$f":"VLOOKUP(C3806,Referencias!$B$24:$C$40,2,FALSE())","v":"CL"}]
["3851006","De la Fe Almeida, Carmen","Canaria","D",{"$f":"VLOOKUP(G3807,Referencias!$C$4:$D$21,2,FALSE())","v":"Primera Picas"},{"$f":"VLOOKUP(G3807,Referencias!$C$4:$E$21,3,FALSE())","v":1},"1P","Competición",{"$f":"VLOOKUP(C3807,Referencias!$B$24:$C$40,2,FALSE())","v":"IC"}]
["3851049","Mendoza Contreras, Lucas","Canaria","C",{"$f":"VLOOKUP(G3808,Referencias!$C$4:$D$21,2,FALSE())","v":"Primera Picas"},{"$f":"VLOOKUP(G3808,Referencias!$C$4:$E$21,3,FALSE())","v":1},"1P","Competición",{"$f":"VLOOKUP(C3808,Referencias!$B$24:$C$40,2,FALSE())","v":"IC"}]
["3851050","Laynez Cerdeña, Fernando","Canaria","C",{"$f":"VLOOKUP(G3809,Referencias!$C$4:$D$21,2,FALSE())","v":"Sin Categoría"},{"$f":"VLOOKUP(G3809,Referencias!$C$4:$E$21,3,FALSE())","v":4},"SC","Competición",{"$f":"VLOOKUP(C3809,Referencias!$B$24:$C$40,2,FALSE())","v":"IC"}]
["3851059","Negrín Fernández, Manuel","Canaria","C",{"$f":"VLOOKUP(G3810,Referencias!$C$4:$D$21,2,FALSE())","v":"Primera Picas"},{"$f":"VLOOKUP(G3810,Referencias!$C$4:$E$21,3,FALSE())","v":1},"1P","Competición",{"$f":"VLOOKUP(C3810,Referencias!$B$24:$C$40,2,FALSE())","v":"IC"}]
["3851092","Durango Ballester, Mercedes","Canaria","D",{"$f":"VLOOKUP(G3811,Referencias!$C$4:$D$21,2,FALSE())","v":"Segunda Corazón"},{"$f":"VLOOKUP(G3811,Referencias!$C$4:$E$21,3,FALSE())","v":2},"2C","Competición",{"$f":"VLOOKUP(C3811,Referencias!$B$24:$C$40,2,FALSE())","v":"IC"}]
["3851118","Tellado Alfonso, Esther","Canaria","D",{"$f":"VLOOKUP(G3812,Referencias!$C$4:$D$21,2,FALSE())","v":"Sin Categoría"},{"$f":"VLOOKUP(G3812,Referencias!$C$4:$E$21,3,FALSE())","v":4},"SC","Competición",{"$f":"VLOOKUP(C3812,Referencias!$B$24:$C$40,2,FALSE())","v":"IC"}]
["3851271","Sarasola Herrero, Juan","Canaria","C",{"$f":"VLOOKUP(G3813,Referencias!$C$4:$D$21,2,FALSE())","v":"Primera Picas"},{"$f":"VLOOKUP(G3813,Referencias!$C$4:$E$21,3,FALSE())","v":1},"1P","Competición",{"$f":"VLOOKUP(C3813,Referencias!$B$24:$C$40,2,FALSE())","v":"IC"}]
["3851283","Cabrera Pérez-Lecuona, María del Pino","Canaria","D",{"$f":"VLOOKUP(G3814,Referencias!$C$4:$D$21,2,FALSE())","v":"Sin Categoría"},{"$f":"VLOOKUP(G3814,Referencias!$C$4:$E$21,3,FALSE())","v":4},"SC","Competición",{"$f":"VLOOKUP(C3814,Referencias!$B$24:$C$40,2,FALSE())","v":"IC"}]
["3851285","Lorenzo Perera, M. Luisa","Canaria","D",{"$f":"VLOOKUP(G3815,Referencias!$C$4:$D$21,2,FALSE())","v":"Segunda Picas"},{"$f":"VLOOKUP(G3815,Referencias!$C$4:$E$21,3,FALSE())","v":2},"2P","Competición",{"$f":"VLOOKUP(C3815,Referencias!$B$24:$C$40,2,FALSE())","v":"IC"}]
["3851286","Acevedo García, Mercedes","Canaria","D",{"$f":"VLOOKUP(G3816,Referencias!$C$4:$D$21,2,FALSE())","v":"Segunda Corazón"},{"$f":"VLOOKUP(G3816,Referencias!$C$4:$E$21,3,FALSE())","v":2},"2C","Competición",{"$f":"VLOOKUP(C3816,Referencias!$B$24:$C$40,2,FALSE())","v":"IC"}]
["3851316","Aranaz Rodríguez, Margarita","Canaria","D",{"$f":"VLOOKUP(G3817,Referencias!$C$4:$D$21,2,FALSE())","v":"Primera Corazón"},{"$f":"VLOOKUP(G3817,Referencias!$C$4:$E$21,3,FALSE())","v":1},"1C","Competición",{"$f":"VLOOKUP(C3817,Referencias!$B$24:$C$40,2,FALSE())","v":"IC"}]
["3851319","Ybarra Martínez-Barona, María Lourdes","Canaria","D",{"$f":"VLOOKUP(G3818,Referencias!$C$4:$D$21,2,FALSE())","v":"Segunda Diamante"},{"$f":"VLOOKUP(G3818,Referencias!$C$4:$E$21,3,FALSE())","v":2},"2D","Competición",{"$f":"VLOOKUP(C3818,Referencias!$B$24:$C$40,2,FALSE())","v":"IC"}]
["3851348","Aznarez Gómez, Natalia","Canaria","D",{"$f":"VLOOKUP(G3819,Referencias!$C$4:$D$21,2,FALSE())","v":"Segunda Corazón"},{"$f":"VLOOKUP(G3819,Referencias!$C$4:$E$21,3,FALSE())","v":2},"2C","Competición",{"$f":"VLOOKUP(C3819,Referencias!$B$24:$C$40,2,FALSE())","v":"IC"}]
["3851366","Muñoz Campos, Rosa Nieves","Canaria","D",{"$f":"VLOOKUP(G3820,Referencias!$C$4:$D$21,2,FALSE())","v":"Sin Categoría"},{"$f":"VLOOKUP(G3820,Referencias!$C$4:$E$21,3,FALSE())","v":4},"SC","Competición",{"$f":"VLOOKUP(C3820,Referencias!$B$24:$C$40,2,FALSE())","v":"IC"}]
["3851379","Aranaz Rodríguez, Amelia","Canaria","D",{"$f":"VLOOKUP(G3821,Referencias!$C$4:$D$21,2,FALSE())","v":"Segunda Picas"},{"$f":"VLOOKUP(G3821,Referencias!$C$4:$E$21,3,FALSE())","v":2},"2P","Competición",{"$f":"VLOOKUP(C3821,Referencias!$B$24:$C$40,2,FALSE())","v":"IC"}]
["3851380","Sopranis O´Donnell, María de la Concepción","Canaria","D",{"$f":"VLOOKUP(G3822,Referencias!$C$4:$D$21,2,FALSE())","v":"Sin Categoría"},{"$f":"VLOOKUP(G3822,Referencias!$C$4:$E$21,3,FALSE())","v":4},"SC","Competición",{"$f":"VLOOKUP(C3822,Referencias!$B$24:$C$40,2,FALSE())","v":"IC"}]
["3851386","Vidarte, María Rosa","Canaria","D",{"$f":"VLOOKUP(G3823,Referencias!$C$4:$D$21,2,FALSE())","v":"Tercera Diamante"},{"$f":"VLOOKUP(G3823,Referencias!$C$4:$E$21,3,FALSE())","v":3},"3D","Competición",{"$f":"VLOOKUP(C3823,Referencias!$B$24:$C$40,2,FALSE())","v":"IC"}]
["3851392","Alonso Díaz, María Carmen","Canaria","D",{"$f":"VLOOKUP(G3824,Referencias!$C$4:$D$21,2,FALSE())","v":"Sin Categoría"},{"$f":"VLOOKUP(G3824,Referencias!$C$4:$E$21,3,FALSE())","v":4},"SC","Competición",{"$f":"VLOOKUP(C3824,Referencias!$B$24:$C$40,2,FALSE())","v":"IC"}]
["3851444","López de Alda Infante, Cristina","Canaria","D",{"$f":"VLOOKUP(G3825,Referencias!$C$4:$D$21,2,FALSE())","v":"Tercera Corazón"},{"$f":"VLOOKUP(G3825,Referencias!$C$4:$E$21,3,FALSE())","v":3},"3C","Competición",{"$f":"VLOOKUP(C3825,Referencias!$B$24:$C$40,2,FALSE())","v":"IC"}]
["3851445","Reyes Herrera, Vicente","Canaria","C",{"$f":"VLOOKUP(G3826,Referencias!$C$4:$D$21,2,FALSE())","v":"Primera Picas"},{"$f":"VLOOKUP(G3826,Referencias!$C$4:$E$21,3,FALSE())","v":1},"1P","Competición",{"$f":"VLOOKUP(C3826,Referencias!$B$24:$C$40,2,FALSE())","v":"IC"}]
["3851463","Jorge González, Olga","Canaria","D",{"$f":"VLOOKUP(G3827,Referencias!$C$4:$D$21,2,FALSE())","v":"Tercera Corazón"},{"$f":"VLOOKUP(G3827,Referencias!$C$4:$E$21,3,FALSE())","v":3},"3C","Competición",{"$f":"VLOOKUP(C3827,Referencias!$B$24:$C$40,2,FALSE())","v":"IC"}]
["3851467","Vera López, Lidia","Canaria","D",{"$f":"VLOOKUP(G3828,Referencias!$C$4:$D$21,2,FALSE())","v":"Tercera Diamante"},{"$f":"VLOOKUP(G3828,Referencias!$C$4:$E$21,3,FALSE())","v":3},"3D","Competición",{"$f":"VLOOKUP(C3828,Referencias!$B$24:$C$40,2,FALSE())","v":"IC"}]
["3851468","Rosado Verde, Manuel","Canaria","C",{"$f":"VLOOKUP(G3829,Referencias!$C$4:$D$21,2,FALSE())","v":"Segunda Picas"},{"$f":"VLOOKUP(G3829,Referencias!$C$4:$E$21,3,FALSE())","v":2},"2P","Competición",{"$f":"VLOOKUP(C3829,Referencias!$B$24:$C$40,2,FALSE())","v":"IC"}]
["3851469","Pérez Aranaz, Elena","Canaria","D",{"$f":"VLOOKUP(G3830,Referencias!$C$4:$D$21,2,FALSE())","v":"Primera Picas"},{"$f":"VLOOKUP(G3830,Referencias!$C$4:$E$21,3,FALSE())","v":1},"1P","Competición",{"$f":"VLOOKUP(C3830,Referencias!$B$24:$C$40,2,FALSE())","v":"IC"}]
["3851470","Paredes Roncero, María","Canaria","D",{"$f":"VLOOKUP(G3831,Referencias!$C$4:$D$21,2,FALSE())","v":"Tercera Picas"},{"$f":"VLOOKUP(G3831,Referencias!$C$4:$E$21,3,FALSE())","v":3},"3P","Competición",{"$f":"VLOOKUP(C3831,Referencias!$B$24:$C$40,2,FALSE())","v":"IC"}]
["3851471","Torres Domínguez, Amelia Teresa","Canaria","D",{"$f":"VLOOKUP(G3832,Referencias!$C$4:$D$21,2,FALSE())","v":"Segunda Diamante"},{"$f":"VLOOKUP(G3832,Referencias!$C$4:$E$21,3,FALSE())","v":2},"2D","Competición",{"$f":"VLOOKUP(C3832,Referencias!$B$24:$C$40,2,FALSE())","v":"IC"}]
["3851472","Escolar Elguezabal, Antonio","Canaria","C",{"$f":"VLOOKUP(G3833,Referencias!$C$4:$D$21,2,FALSE())","v":"Sin Categoría"},{"$f":"VLOOKUP(G3833,Referencias!$C$4:$E$21,3,FALSE())","v":4},"SC","Competición",{"$f":"VLOOKUP(C3833,Referencias!$B$24:$C$40,2,FALSE())","v":"IC"}]
["3851491","Perdomo Ramos, María Adela","Canaria","D",{"$f":"VLOOKUP(G3834,Referencias!$C$4:$D$21,2,FALSE())","v":"Segunda Picas"},{"$f":"VLOOKUP(G3834,Referencias!$C$4:$E$21,3,FALSE())","v":2},"2P","Competición",{"$f":"VLOOKUP(C3834,Referencias!$B$24:$C$40,2,FALSE())","v":"IC"}]
["3851497","Carreras y Fontseré, Antonio","Canaria","C",{"$f":"VLOOKUP(G3835,Referencias!$C$4:$D$21,2,FALSE())","v":"Tercera Picas"},{"$f":"VLOOKUP(G3835,Referencias!$C$4:$E$21,3,FALSE())","v":3},"3P","Competición",{"$f":"VLOOKUP(C3835,Referencias!$B$24:$C$40,2,FALSE())","v":"IC"}]
["3851511","Gaioni, Angelo","Canaria","C",{"$f":"VLOOKUP(G3836,Referencias!$C$4:$D$21,2,FALSE())","v":"Primera Picas"},{"$f":"VLOOKUP(G3836,Referencias!$C$4:$E$21,3,FALSE())","v":1},"1P","Competición",{"$f":"VLOOKUP(C3836,Referencias!$B$24:$C$40,2,FALSE())","v":"IC"}]
["3851521","Magdalena Darias, Migdalia","Canaria","D",{"$f":"VLOOKUP(G3837,Referencias!$C$4:$D$21,2,FALSE())","v":"Tercera Diamante"},{"$f":"VLOOKUP(G3837,Referencias!$C$4:$E$21,3,FALSE())","v":3},"3D","Competición",{"$f":"VLOOKUP(C3837,Referencias!$B$24:$C$40,2,FALSE())","v":"IC"}]
["3851551","García de la Banda García, Juan Francisco","Canaria","C",{"$f":"VLOOKUP(G3838,Referencias!$C$4:$D$21,2,FALSE())","v":"Primera Diamante"},{"$f":"VLOOKUP(G3838,Referencias!$C$4:$E$21,3,FALSE())","v":1},"1D","Competición",{"$f":"VLOOKUP(C3838,Referencias!$B$24:$C$40,2,FALSE())","v":"IC"}]
["3851621","Cretti, Elisa","Canaria","D",{"$f":"VLOOKUP(G3839,Referencias!$C$4:$D$21,2,FALSE())","v":"Tercera Corazón"},{"$f":"VLOOKUP(G3839,Referencias!$C$4:$E$21,3,FALSE())","v":3},"3C","Competición",{"$f":"VLOOKUP(C3839,Referencias!$B$24:$C$40,2,FALSE())","v":"IC"}]
["3851622","Filosi, Remo","Canaria","C",{"$f":"VLOOKUP(G3840,Referencias!$C$4:$D$21,2,FALSE())","v":"Tercera Diamante"},{"$f":"VLOOKUP(G3840,Referencias!$C$4:$E$21,3,FALSE())","v":3},"3D","Competición",{"$f":"VLOOKUP(C3840,Referencias!$B$24:$C$40,2,FALSE())","v":"IC"}]
["3851640","Martínez Latorre, Maria Antonia","Canaria","D",{"$f":"VLOOKUP(G3841,Referencias!$C$4:$D$21,2,FALSE())","v":"Segunda Picas"},{"$f":"VLOOKUP(G3841,Referencias!$C$4:$E$21,3,FALSE())","v":2},"2P","Competición",{"$f":"VLOOKUP(C3841,Referencias!$B$24:$C$40,2,FALSE())","v":"IC"}]
["3851641","Ruiz Ruiz, Ana","Canaria","D",{"$f":"VLOOKUP(G3842,Referencias!$C$4:$D$21,2,FALSE())","v":"Sin Categoría"},{"$f":"VLOOKUP(G3842,Referencias!$C$4:$E$21,3,FALSE())","v":4},"SC","Competición",{"$f":"VLOOKUP(C3842,Referencias!$B$24:$C$40,2,FALSE())","v":"IC"}]
["3851642","Nacher Hernández, María Mercedes","Canaria","D",{"$f":"VLOOKUP(G3843,Referencias!$C$4:$D$21,2,FALSE())","v":"Tercera Diamante"},{"$f":"VLOOKUP(G3843,Referencias!$C$4:$E$21,3,FALSE())","v":3},"3D","Competición",{"$f":"VLOOKUP(C3843,Referencias!$B$24:$C$40,2,FALSE())","v":"IC"}]
["3851650","Vilate Padrón, Manuela","Canaria","D",{"$f":"VLOOKUP(G3844,Referencias!$C$4:$D$21,2,FALSE())","v":"Sin Categoría"},{"$f":"VLOOKUP(G3844,Referencias!$C$4:$E$21,3,FALSE())","v":4},"SC","Competición",{"$f":"VLOOKUP(C3844,Referencias!$B$24:$C$40,2,FALSE())","v":"IC"}]
["3851667","Yanes Roca, Luis","Canaria","C",{"$f":"VLOOKUP(G3845,Referencias!$C$4:$D$21,2,FALSE())","v":"Sin Categoría"},{"$f":"VLOOKUP(G3845,Referencias!$C$4:$E$21,3,FALSE())","v":4},"SC","Competición",{"$f":"VLOOKUP(C3845,Referencias!$B$24:$C$40,2,FALSE())","v":"IC"}]
["3851687","Lupano, Anna","Canaria","D",{"$f":"VLOOKUP(G3846,Referencias!$C$4:$D$21,2,FALSE())","v":"Segunda Corazón"},{"$f":"VLOOKUP(G3846,Referencias!$C$4:$E$21,3,FALSE())","v":2},"2C","Competición",{"$f":"VLOOKUP(C3846,Referencias!$B$24:$C$40,2,FALSE())","v":"IC"}]
["3851690","Alvarez Lavers, Ana María","Canaria","D",{"$f":"VLOOKUP(G3847,Referencias!$C$4:$D$21,2,FALSE())","v":"Sin Categoría"},{"$f":"VLOOKUP(G3847,Referencias!$C$4:$E$21,3,FALSE())","v":4},"SC","Competición",{"$f":"VLOOKUP(C3847,Referencias!$B$24:$C$40,2,FALSE())","v":"IC"}]
["3851694","Quintero Pérez, María Eugenia","Canaria","D",{"$f":"VLOOKUP(G3848,Referencias!$C$4:$D$21,2,FALSE())","v":"Sin Categoría"},{"$f":"VLOOKUP(G3848,Referencias!$C$4:$E$21,3,FALSE())","v":4},"SC","Competición",{"$f":"VLOOKUP(C3848,Referencias!$B$24:$C$40,2,FALSE())","v":"IC"}]
["3851695","García Miranda, José Luis","Canaria","C",{"$f":"VLOOKUP(G3849,Referencias!$C$4:$D$21,2,FALSE())","v":"Tercera Picas"},{"$f":"VLOOKUP(G3849,Referencias!$C$4:$E$21,3,FALSE())","v":3},"3P","Competición",{"$f":"VLOOKUP(C3849,Referencias!$B$24:$C$40,2,FALSE())","v":"IC"}]
["3851713","Fernández López, María Isabel","Canaria","D",{"$f":"VLOOKUP(G3850,Referencias!$C$4:$D$21,2,FALSE())","v":"Sin Categoría"},{"$f":"VLOOKUP(G3850,Referencias!$C$4:$E$21,3,FALSE())","v":4},"SC","Competición",{"$f":"VLOOKUP(C3850,Referencias!$B$24:$C$40,2,FALSE())","v":"IC"}]
["3851724","Saavedra Pérez, Cristina","Canaria","D",{"$f":"VLOOKUP(G3851,Referencias!$C$4:$D$21,2,FALSE())","v":"Tercera Diamante"},{"$f":"VLOOKUP(G3851,Referencias!$C$4:$E$21,3,FALSE())","v":3},"3D","Competición",{"$f":"VLOOKUP(C3851,Referencias!$B$24:$C$40,2,FALSE())","v":"IC"}]
["3851726","Carnero Acosta, Mónica","Canaria","D",{"$f":"VLOOKUP(G3852,Referencias!$C$4:$D$21,2,FALSE())","v":"Tercera Diamante"},{"$f":"VLOOKUP(G3852,Referencias!$C$4:$E$21,3,FALSE())","v":3},"3D","Competición",{"$f":"VLOOKUP(C3852,Referencias!$B$24:$C$40,2,FALSE())","v":"IC"}]
["3851727","Bosch Cambreleng, María","Canaria","D",{"$f":"VLOOKUP(G3853,Referencias!$C$4:$D$21,2,FALSE())","v":"Segunda Corazón"},{"$f":"VLOOKUP(G3853,Referencias!$C$4:$E$21,3,FALSE())","v":2},"2C","Competición",{"$f":"VLOOKUP(C3853,Referencias!$B$24:$C$40,2,FALSE())","v":"IC"}]
["3851741","Pedreira Calamita, Jesús","Canaria","C",{"$f":"VLOOKUP(G3854,Referencias!$C$4:$D$21,2,FALSE())","v":"Tercera Diamante"},{"$f":"VLOOKUP(G3854,Referencias!$C$4:$E$21,3,FALSE())","v":3},"3D","Competición",{"$f":"VLOOKUP(C3854,Referencias!$B$24:$C$40,2,FALSE())","v":"IC"}]
["3851744","Schneider, Elke","Canaria","D",{"$f":"VLOOKUP(G3855,Referencias!$C$4:$D$21,2,FALSE())","v":"Primera Picas"},{"$f":"VLOOKUP(G3855,Referencias!$C$4:$E$21,3,FALSE())","v":1},"1P","Competición",{"$f":"VLOOKUP(C3855,Referencias!$B$24:$C$40,2,FALSE())","v":"IC"}]
["3851745","Wiese, Dietrich","Canaria","C",{"$f":"VLOOKUP(G3856,Referencias!$C$4:$D$21,2,FALSE())","v":"Primera Picas"},{"$f":"VLOOKUP(G3856,Referencias!$C$4:$E$21,3,FALSE())","v":1},"1P","Competición",{"$f":"VLOOKUP(C3856,Referencias!$B$24:$C$40,2,FALSE())","v":"IC"}]
["3851749","Menéndez García-Talavera, Maria del Pino","Canaria","D",{"$f":"VLOOKUP(G3857,Referencias!$C$4:$D$21,2,FALSE())","v":"Sin Categoría"},{"$f":"VLOOKUP(G3857,Referencias!$C$4:$E$21,3,FALSE())","v":4},"SC","Competición",{"$f":"VLOOKUP(C3857,Referencias!$B$24:$C$40,2,FALSE())","v":"IC"}]
["3851750","Naranjo González- Coviella, Elena","Canaria","D",{"$f":"VLOOKUP(G3858,Referencias!$C$4:$D$21,2,FALSE())","v":"Tercera Corazón"},{"$f":"VLOOKUP(G3858,Referencias!$C$4:$E$21,3,FALSE())","v":3},"3C","Competición",{"$f":"VLOOKUP(C3858,Referencias!$B$24:$C$40,2,FALSE())","v":"IC"}]
["3851751","Maluenda Cervantes, Felipa","Canaria","D",{"$f":"VLOOKUP(G3859,Referencias!$C$4:$D$21,2,FALSE())","v":"Tercera Corazón"},{"$f":"VLOOKUP(G3859,Referencias!$C$4:$E$21,3,FALSE())","v":3},"3C","Competición",{"$f":"VLOOKUP(C3859,Referencias!$B$24:$C$40,2,FALSE())","v":"IC"}]
["3851753","Mesa Hernández, María Jesús","Canaria","D",{"$f":"VLOOKUP(G3860,Referencias!$C$4:$D$21,2,FALSE())","v":"Sin Categoría"},{"$f":"VLOOKUP(G3860,Referencias!$C$4:$E$21,3,FALSE())","v":4},"SC","Competición",{"$f":"VLOOKUP(C3860,Referencias!$B$24:$C$40,2,FALSE())","v":"IC"}]
["3851755","Jiménez Florez, Ana","Canaria","D",{"$f":"VLOOKUP(G3861,Referencias!$C$4:$D$21,2,FALSE())","v":"Sin Categoría"},{"$f":"VLOOKUP(G3861,Referencias!$C$4:$E$21,3,FALSE())","v":4},"SC","Competición",{"$f":"VLOOKUP(C3861,Referencias!$B$24:$C$40,2,FALSE())","v":"IC"}]
["3851769","Benito Fernández, Sofía","Canaria","D",{"$f":"VLOOKUP(G3862,Referencias!$C$4:$D$21,2,FALSE())","v":"Tercera Corazón"},{"$f":"VLOOKUP(G3862,Referencias!$C$4:$E$21,3,FALSE())","v":3},"3C","Competición",{"$f":"VLOOKUP(C3862,Referencias!$B$24:$C$40,2,FALSE())","v":"IC"}]
["3851770","Pujol Niubó, Mª Pepa","Canaria","D",{"$f":"VLOOKUP(G3863,Referencias!$C$4:$D$21,2,FALSE())","v":"Tercera Diamante"},{"$f":"VLOOKUP(G3863,Referencias!$C$4:$E$21,3,FALSE())","v":3},"3D","Competición",{"$f":"VLOOKUP(C3863,Referencias!$B$24:$C$40,2,FALSE())","v":"IC"}]
["3851775","Elejabeitia Velu, Natalia Beatriz","Canaria","D",{"$f":"VLOOKUP(G3864,Referencias!$C$4:$D$21,2,FALSE())","v":"Sin Categoría"},{"$f":"VLOOKUP(G3864,Referencias!$C$4:$E$21,3,FALSE())","v":4},"SC","Competición",{"$f":"VLOOKUP(C3864,Referencias!$B$24:$C$40,2,FALSE())","v":"IC"}]
["3851776","Sitjar Togores Alvarez, Mercedes","Canaria","D",{"$f":"VLOOKUP(G3865,Referencias!$C$4:$D$21,2,FALSE())","v":"Tercera Picas"},{"$f":"VLOOKUP(G3865,Referencias!$C$4:$E$21,3,FALSE())","v":3},"3P","Competición",{"$f":"VLOOKUP(C3865,Referencias!$B$24:$C$40,2,FALSE())","v":"IC"}]
["3851778","Perera González, Pablo","Canaria","C",{"$f":"VLOOKUP(G3866,Referencias!$C$4:$D$21,2,FALSE())","v":"Segunda Corazón"},{"$f":"VLOOKUP(G3866,Referencias!$C$4:$E$21,3,FALSE())","v":2},"2C","Competición",{"$f":"VLOOKUP(C3866,Referencias!$B$24:$C$40,2,FALSE())","v":"IC"}]
["3851779","Charles, Darrell","Canaria","C",{"$f":"VLOOKUP(G3867,Referencias!$C$4:$D$21,2,FALSE())","v":"Sin Categoría"},{"$f":"VLOOKUP(G3867,Referencias!$C$4:$E$21,3,FALSE())","v":4},"SC","Competición",{"$f":"VLOOKUP(C3867,Referencias!$B$24:$C$40,2,FALSE())","v":"IC"}]
["3851780","Charles, Irmgard","Canaria","D",{"$f":"VLOOKUP(G3868,Referencias!$C$4:$D$21,2,FALSE())","v":"Sin Categoría"},{"$f":"VLOOKUP(G3868,Referencias!$C$4:$E$21,3,FALSE())","v":4},"SC","Competición",{"$f":"VLOOKUP(C3868,Referencias!$B$24:$C$40,2,FALSE())","v":"IC"}]
["3851792","León Russo, Joseffa","Canaria","D",{"$f":"VLOOKUP(G3869,Referencias!$C$4:$D$21,2,FALSE())","v":"Sin Categoría"},{"$f":"VLOOKUP(G3869,Referencias!$C$4:$E$21,3,FALSE())","v":4},"SC","Competición",{"$f":"VLOOKUP(C3869,Referencias!$B$24:$C$40,2,FALSE())","v":"IC"}]
["3851795","Caballero Rubiato, Amparo","Canaria","D",{"$f":"VLOOKUP(G3870,Referencias!$C$4:$D$21,2,FALSE())","v":"Tercera Corazón"},{"$f":"VLOOKUP(G3870,Referencias!$C$4:$E$21,3,FALSE())","v":3},"3C","Competición",{"$f":"VLOOKUP(C3870,Referencias!$B$24:$C$40,2,FALSE())","v":"IC"}]
["3851796","Aymerich Rodríguez, Lorenzo","Canaria","C",{"$f":"VLOOKUP(G3871,Referencias!$C$4:$D$21,2,FALSE())","v":"Sin Categoría"},{"$f":"VLOOKUP(G3871,Referencias!$C$4:$E$21,3,FALSE())","v":4},"SC","Competición",{"$f":"VLOOKUP(C3871,Referencias!$B$24:$C$40,2,FALSE())","v":"IC"}]
["3851812","Gatti, Edoardo Silvio","Canaria","C",{"$f":"VLOOKUP(G3872,Referencias!$C$4:$D$21,2,FALSE())","v":"Tercera Diamante"},{"$f":"VLOOKUP(G3872,Referencias!$C$4:$E$21,3,FALSE())","v":3},"3D","Competición",{"$f":"VLOOKUP(C3872,Referencias!$B$24:$C$40,2,FALSE())","v":"IC"}]
["3851815","Sparer, Guenther Franz","Canaria","C",{"$f":"VLOOKUP(G3873,Referencias!$C$4:$D$21,2,FALSE())","v":"Sin Categoría"},{"$f":"VLOOKUP(G3873,Referencias!$C$4:$E$21,3,FALSE())","v":4},"SC","Competición",{"$f":"VLOOKUP(C3873,Referencias!$B$24:$C$40,2,FALSE())","v":"IC"}]
["3851818","Carretti, Cristina","Canaria","D",{"$f":"VLOOKUP(G3874,Referencias!$C$4:$D$21,2,FALSE())","v":"Sin Categoría"},{"$f":"VLOOKUP(G3874,Referencias!$C$4:$E$21,3,FALSE())","v":4},"SC","Competición",{"$f":"VLOOKUP(C3874,Referencias!$B$24:$C$40,2,FALSE())","v":"IC"}]
["3851821","Moreno Pérez, Jose Andrés","Canaria","C",{"$f":"VLOOKUP(G3875,Referencias!$C$4:$D$21,2,FALSE())","v":"Sin Categoría"},{"$f":"VLOOKUP(G3875,Referencias!$C$4:$E$21,3,FALSE())","v":4},"SC","Competición",{"$f":"VLOOKUP(C3875,Referencias!$B$24:$C$40,2,FALSE())","v":"IC"}]
["3851836","Laynez Cerdeña, María Eugenia","Canaria","D",{"$f":"VLOOKUP(G3876,Referencias!$C$4:$D$21,2,FALSE())","v":"Sin Categoría"},{"$f":"VLOOKUP(G3876,Referencias!$C$4:$E$21,3,FALSE())","v":4},"SC","Competición",{"$f":"VLOOKUP(C3876,Referencias!$B$24:$C$40,2,FALSE())","v":"IC"}]
["3851837","Dobarro Ramos, Eugenio- Santiago","Canaria","D",{"$f":"VLOOKUP(G3877,Referencias!$C$4:$D$21,2,FALSE())","v":"Sin Categoría"},{"$f":"VLOOKUP(G3877,Referencias!$C$4:$E$21,3,FALSE())","v":4},"SC","Competición",{"$f":"VLOOKUP(C3877,Referencias!$B$24:$C$40,2,FALSE())","v":"IC"}]
["3851839","Díaz-Llanos La Roche, María Concepción","Canaria","D",{"$f":"VLOOKUP(G3878,Referencias!$C$4:$D$21,2,FALSE())","v":"Sin Categoría"},{"$f":"VLOOKUP(G3878,Referencias!$C$4:$E$21,3,FALSE())","v":4},"SC","Competición",{"$f":"VLOOKUP(C3878,Referencias!$B$24:$C$40,2,FALSE())","v":"IC"}]
["3851840","Díaz-Llanos La Roche, María Josefa","Canaria","D",{"$f":"VLOOKUP(G3879,Referencias!$C$4:$D$21,2,FALSE())","v":"Sin Categoría"},{"$f":"VLOOKUP(G3879,Referencias!$C$4:$E$21,3,FALSE())","v":4},"SC","Competición",{"$f":"VLOOKUP(C3879,Referencias!$B$24:$C$40,2,FALSE())","v":"IC"}]
["3851841","Ponte Cullen, Cristina","Canaria","D",{"$f":"VLOOKUP(G3880,Referencias!$C$4:$D$21,2,FALSE())","v":"Sin Categoría"},{"$f":"VLOOKUP(G3880,Referencias!$C$4:$E$21,3,FALSE())","v":4},"SC","Competición",{"$f":"VLOOKUP(C3880,Referencias!$B$24:$C$40,2,FALSE())","v":"IC"}]
["3851846","Rosales Alonso, María Pilar","Canaria","D",{"$f":"VLOOKUP(G3881,Referencias!$C$4:$D$21,2,FALSE())","v":"Tercera Diamante"},{"$f":"VLOOKUP(G3881,Referencias!$C$4:$E$21,3,FALSE())","v":3},"3D","Competición",{"$f":"VLOOKUP(C3881,Referencias!$B$24:$C$40,2,FALSE())","v":"IC"}]
["3851851","López-Peñalver González, María Teresa","Canaria","D",{"$f":"VLOOKUP(G3882,Referencias!$C$4:$D$21,2,FALSE())","v":"Tercera Diamante"},{"$f":"VLOOKUP(G3882,Referencias!$C$4:$E$21,3,FALSE())","v":3},"3D","Competición",{"$f":"VLOOKUP(C3882,Referencias!$B$24:$C$40,2,FALSE())","v":"IC"}]
["3851854","Toledo Díaz-Llanos, Mª Concepción","Canaria","D",{"$f":"VLOOKUP(G3883,Referencias!$C$4:$D$21,2,FALSE())","v":"Sin Categoría"},{"$f":"VLOOKUP(G3883,Referencias!$C$4:$E$21,3,FALSE())","v":4},"SC","Competición",{"$f":"VLOOKUP(C3883,Referencias!$B$24:$C$40,2,FALSE())","v":"IC"}]
["3851857","Trujillo Hernández, María Mercedes","Canaria","D",{"$f":"VLOOKUP(G3884,Referencias!$C$4:$D$21,2,FALSE())","v":"Tercera Diamante"},{"$f":"VLOOKUP(G3884,Referencias!$C$4:$E$21,3,FALSE())","v":3},"3D","Competición",{"$f":"VLOOKUP(C3884,Referencias!$B$24:$C$40,2,FALSE())","v":"IC"}]
["3851858","Sánchez Triviño, Pedro Andrés","Canaria","C",{"$f":"VLOOKUP(G3885,Referencias!$C$4:$D$21,2,FALSE())","v":"Tercera Corazón"},{"$f":"VLOOKUP(G3885,Referencias!$C$4:$E$21,3,FALSE())","v":3},"3C","Competición",{"$f":"VLOOKUP(C3885,Referencias!$B$24:$C$40,2,FALSE())","v":"IC"}]
["3851862","Hardisson Rumen, María África","Canaria","C",{"$f":"VLOOKUP(G3886,Referencias!$C$4:$D$21,2,FALSE())","v":"Sin Categoría"},{"$f":"VLOOKUP(G3886,Referencias!$C$4:$E$21,3,FALSE())","v":4},"SC","Competición",{"$f":"VLOOKUP(C3886,Referencias!$B$24:$C$40,2,FALSE())","v":"IC"}]
["3851863","Sánchez Pérez, Amalia","Canaria","D",{"$f":"VLOOKUP(G3887,Referencias!$C$4:$D$21,2,FALSE())","v":"Tercera Diamante"},{"$f":"VLOOKUP(G3887,Referencias!$C$4:$E$21,3,FALSE())","v":3},"3D","Competición",{"$f":"VLOOKUP(C3887,Referencias!$B$24:$C$40,2,FALSE())","v":"IC"}]
["3851865","Golding Ballester, Francisca","Canaria","D",{"$f":"VLOOKUP(G3888,Referencias!$C$4:$D$21,2,FALSE())","v":"Sin Categoría"},{"$f":"VLOOKUP(G3888,Referencias!$C$4:$E$21,3,FALSE())","v":4},"SC","Competición",{"$f":"VLOOKUP(C3888,Referencias!$B$24:$C$40,2,FALSE())","v":"IC"}]
["3851906","Rodríguez Martín, Ramón","Canaria","C",{"$f":"VLOOKUP(G3889,Referencias!$C$4:$D$21,2,FALSE())","v":"Sin Categoría"},{"$f":"VLOOKUP(G3889,Referencias!$C$4:$E$21,3,FALSE())","v":4},"SC","Competición",{"$f":"VLOOKUP(C3889,Referencias!$B$24:$C$40,2,FALSE())","v":"IC"}]
["3851915","Royo Iranzo, Patricia","Canaria","D",{"$f":"VLOOKUP(G3890,Referencias!$C$4:$D$21,2,FALSE())","v":"Sin Categoría"},{"$f":"VLOOKUP(G3890,Referencias!$C$4:$E$21,3,FALSE())","v":4},"SC","Competición",{"$f":"VLOOKUP(C3890,Referencias!$B$24:$C$40,2,FALSE())","v":"IC"}]
["3851918","Pizzarro Hernández, Dolores","Canaria","D",{"$f":"VLOOKUP(G3891,Referencias!$C$4:$D$21,2,FALSE())","v":"Tercera Diamante"},{"$f":"VLOOKUP(G3891,Referencias!$C$4:$E$21,3,FALSE())","v":3},"3D","Competición",{"$f":"VLOOKUP(C3891,Referencias!$B$24:$C$40,2,FALSE())","v":"IC"}]
["3851943","Rodriguez Valerón, Carmen Gloria","Canaria","D",{"$f":"VLOOKUP(G3892,Referencias!$C$4:$D$21,2,FALSE())","v":"Tercera Diamante"},{"$f":"VLOOKUP(G3892,Referencias!$C$4:$E$21,3,FALSE())","v":3},"3D","Competición",{"$f":"VLOOKUP(C3892,Referencias!$B$24:$C$40,2,FALSE())","v":"IC"}]
["3851944","García Rojas, Silvia","Canaria","D",{"$f":"VLOOKUP(G3893,Referencias!$C$4:$D$21,2,FALSE())","v":"Sin Categoría"},{"$f":"VLOOKUP(G3893,Referencias!$C$4:$E$21,3,FALSE())","v":4},"SC","Competición",{"$f":"VLOOKUP(C3893,Referencias!$B$24:$C$40,2,FALSE())","v":"IC"}]
["3851945","Elejabeitia Spacek-Streer, Mónica","Canaria","D",{"$f":"VLOOKUP(G3894,Referencias!$C$4:$D$21,2,FALSE())","v":"Tercera Corazón"},{"$f":"VLOOKUP(G3894,Referencias!$C$4:$E$21,3,FALSE())","v":3},"3C","Competición",{"$f":"VLOOKUP(C3894,Referencias!$B$24:$C$40,2,FALSE())","v":"IC"}]
["3851946","Rodríguez Rodríguez, Mª José","Canaria","D",{"$f":"VLOOKUP(G3895,Referencias!$C$4:$D$21,2,FALSE())","v":"Sin Categoría"},{"$f":"VLOOKUP(G3895,Referencias!$C$4:$E$21,3,FALSE())","v":4},"SC","Competición",{"$f":"VLOOKUP(C3895,Referencias!$B$24:$C$40,2,FALSE())","v":"IC"}]
["3851956","Machado Trujillo, Rosario","Canaria","D",{"$f":"VLOOKUP(G3896,Referencias!$C$4:$D$21,2,FALSE())","v":"Sin Categoría"},{"$f":"VLOOKUP(G3896,Referencias!$C$4:$E$21,3,FALSE())","v":4},"SC","Competición",{"$f":"VLOOKUP(C3896,Referencias!$B$24:$C$40,2,FALSE())","v":"IC"}]
["3851988","Lewis King, Brian","Canaria","C",{"$f":"VLOOKUP(G3897,Referencias!$C$4:$D$21,2,FALSE())","v":"Tercera Picas"},{"$f":"VLOOKUP(G3897,Referencias!$C$4:$E$21,3,FALSE())","v":3},"3P","Competición",{"$f":"VLOOKUP(C3897,Referencias!$B$24:$C$40,2,FALSE())","v":"IC"}]
["3852031","Escudero Verdugo, Juana","Canaria","D",{"$f":"VLOOKUP(G3898,Referencias!$C$4:$D$21,2,FALSE())","v":"Tercera Corazón"},{"$f":"VLOOKUP(G3898,Referencias!$C$4:$E$21,3,FALSE())","v":3},"3C","Competición",{"$f":"VLOOKUP(C3898,Referencias!$B$24:$C$40,2,FALSE())","v":"IC"}]
["3852032","Bordón Sigú, Cristina","Canaria","D",{"$f":"VLOOKUP(G3899,Referencias!$C$4:$D$21,2,FALSE())","v":"Tercera Diamante"},{"$f":"VLOOKUP(G3899,Referencias!$C$4:$E$21,3,FALSE())","v":3},"3D","Competición",{"$f":"VLOOKUP(C3899,Referencias!$B$24:$C$40,2,FALSE())","v":"IC"}]
["3852039","Sánchez-Gijón González-Moro, Isabel Carlota","Canaria","D",{"$f":"VLOOKUP(G3900,Referencias!$C$4:$D$21,2,FALSE())","v":"Tercera Diamante"},{"$f":"VLOOKUP(G3900,Referencias!$C$4:$E$21,3,FALSE())","v":3},"3D","Competición",{"$f":"VLOOKUP(C3900,Referencias!$B$24:$C$40,2,FALSE())","v":"IC"}]
["3852040","Fernández da Ponte Mato, Baltasar","Canaria","C",{"$f":"VLOOKUP(G3901,Referencias!$C$4:$D$21,2,FALSE())","v":"Tercera Diamante"},{"$f":"VLOOKUP(G3901,Referencias!$C$4:$E$21,3,FALSE())","v":3},"3D","Competición",{"$f":"VLOOKUP(C3901,Referencias!$B$24:$C$40,2,FALSE())","v":"IC"}]
["3852041","García Peceño, Enedina","Canaria","D",{"$f":"VLOOKUP(G3902,Referencias!$C$4:$D$21,2,FALSE())","v":"Tercera Diamante"},{"$f":"VLOOKUP(G3902,Referencias!$C$4:$E$21,3,FALSE())","v":3},"3D","Competición",{"$f":"VLOOKUP(C3902,Referencias!$B$24:$C$40,2,FALSE())","v":"IC"}]
["3852042","Conejo de la Roca, José Miguel","Canaria","C",{"$f":"VLOOKUP(G3903,Referencias!$C$4:$D$21,2,FALSE())","v":"Tercera Diamante"},{"$f":"VLOOKUP(G3903,Referencias!$C$4:$E$21,3,FALSE())","v":3},"3D","Competición",{"$f":"VLOOKUP(C3903,Referencias!$B$24:$C$40,2,FALSE())","v":"IC"}]
["3852043","de Bonis Redondo, Mario","Canaria","C",{"$f":"VLOOKUP(G3904,Referencias!$C$4:$D$21,2,FALSE())","v":"Tercera Corazón"},{"$f":"VLOOKUP(G3904,Referencias!$C$4:$E$21,3,FALSE())","v":3},"3C","Competición",{"$f":"VLOOKUP(C3904,Referencias!$B$24:$C$40,2,FALSE())","v":"IC"}]
["3852049","Barajas De Prat, José Juan","Canaria","C",{"$f":"VLOOKUP(G3905,Referencias!$C$4:$D$21,2,FALSE())","v":"Tercera Diamante"},{"$f":"VLOOKUP(G3905,Referencias!$C$4:$E$21,3,FALSE())","v":3},"3D","Competición",{"$f":"VLOOKUP(C3905,Referencias!$B$24:$C$40,2,FALSE())","v":"IC"}]
["3852050","Martorell Rodríguez, Graciela","Canaria","D",{"$f":"VLOOKUP(G3906,Referencias!$C$4:$D$21,2,FALSE())","v":"Tercera Diamante"},{"$f":"VLOOKUP(G3906,Referencias!$C$4:$E$21,3,FALSE())","v":3},"3D","Competición",{"$f":"VLOOKUP(C3906,Referencias!$B$24:$C$40,2,FALSE())","v":"IC"}]
["3852051","Ostroman, Silvia Anna Giovanna","Canaria","D",{"$f":"VLOOKUP(G3907,Referencias!$C$4:$D$21,2,FALSE())","v":"Tercera Corazón"},{"$f":"VLOOKUP(G3907,Referencias!$C$4:$E$21,3,FALSE())","v":3},"3C","Competición",{"$f":"VLOOKUP(C3907,Referencias!$B$24:$C$40,2,FALSE())","v":"IC"}]
["3852052","Guy, Loraine","Canaria","C",{"$f":"VLOOKUP(G3908,Referencias!$C$4:$D$21,2,FALSE())","v":"Tercera Diamante"},{"$f":"VLOOKUP(G3908,Referencias!$C$4:$E$21,3,FALSE())","v":3},"3D","Competición",{"$f":"VLOOKUP(C3908,Referencias!$B$24:$C$40,2,FALSE())","v":"IC"}]
["3852053","Selles, Suzie Elizabeth","Canaria","D",{"$f":"VLOOKUP(G3909,Referencias!$C$4:$D$21,2,FALSE())","v":"Tercera Diamante"},{"$f":"VLOOKUP(G3909,Referencias!$C$4:$E$21,3,FALSE())","v":3},"3D","Competición",{"$f":"VLOOKUP(C3909,Referencias!$B$24:$C$40,2,FALSE())","v":"IC"}]
["3852054","Wilson, Trevor","Canaria","C",{"$f":"VLOOKUP(G3910,Referencias!$C$4:$D$21,2,FALSE())","v":"Tercera Diamante"},{"$f":"VLOOKUP(G3910,Referencias!$C$4:$E$21,3,FALSE())","v":3},"3D","Competición",{"$f":"VLOOKUP(C3910,Referencias!$B$24:$C$40,2,FALSE())","v":"IC"}]
["3852055","Bursac, Gordana","Canaria","D",{"$f":"VLOOKUP(G3911,Referencias!$C$4:$D$21,2,FALSE())","v":"Sin Categoría"},{"$f":"VLOOKUP(G3911,Referencias!$C$4:$E$21,3,FALSE())","v":4},"SC","Competición",{"$f":"VLOOKUP(C3911,Referencias!$B$24:$C$40,2,FALSE())","v":"IC"}]
["3852056","Miranda Palomino, Ricardo ","Canaria","C",{"$f":"VLOOKUP(G3912,Referencias!$C$4:$D$21,2,FALSE())","v":"Tercera Diamante"},{"$f":"VLOOKUP(G3912,Referencias!$C$4:$E$21,3,FALSE())","v":3},"3D","Competición",{"$f":"VLOOKUP(C3912,Referencias!$B$24:$C$40,2,FALSE())","v":"IC"}]
["3852057","Solís García-Talavera, Eduardo ","Canaria","C",{"$f":"VLOOKUP(G3913,Referencias!$C$4:$D$21,2,FALSE())","v":"Tercera Diamante"},{"$f":"VLOOKUP(G3913,Referencias!$C$4:$E$21,3,FALSE())","v":3},"3D","Competición",{"$f":"VLOOKUP(C3913,Referencias!$B$24:$C$40,2,FALSE())","v":"IC"}]
["3852058","Guimerá Ravina, María Asunción","Canaria","D",{"$f":"VLOOKUP(G3914,Referencias!$C$4:$D$21,2,FALSE())","v":"Tercera Diamante"},{"$f":"VLOOKUP(G3914,Referencias!$C$4:$E$21,3,FALSE())","v":3},"3D","Competición",{"$f":"VLOOKUP(C3914,Referencias!$B$24:$C$40,2,FALSE())","v":"IC"}]
["3852059","Mandillo Blanquez, María Milagros","Canaria","D",{"$f":"VLOOKUP(G3915,Referencias!$C$4:$D$21,2,FALSE())","v":"Tercera Diamante"},{"$f":"VLOOKUP(G3915,Referencias!$C$4:$E$21,3,FALSE())","v":3},"3D","Competición",{"$f":"VLOOKUP(C3915,Referencias!$B$24:$C$40,2,FALSE())","v":"IC"}]
["3852060","Palau de Juan Togores, María de los Angeles","Canaria","D",{"$f":"VLOOKUP(G3916,Referencias!$C$4:$D$21,2,FALSE())","v":"Tercera Diamante"},{"$f":"VLOOKUP(G3916,Referencias!$C$4:$E$21,3,FALSE())","v":3},"3D","Competición",{"$f":"VLOOKUP(C3916,Referencias!$B$24:$C$40,2,FALSE())","v":"IC"}]
["3852061","Azcarate Bang, María del Carmen","Canaria","D",{"$f":"VLOOKUP(G3917,Referencias!$C$4:$D$21,2,FALSE())","v":"Tercera Diamante"},{"$f":"VLOOKUP(G3917,Referencias!$C$4:$E$21,3,FALSE())","v":3},"3D","Competición",{"$f":"VLOOKUP(C3917,Referencias!$B$24:$C$40,2,FALSE())","v":"IC"}]
["3852062","Sansón Rodríguez, María Victoria","Canaria","D",{"$f":"VLOOKUP(G3918,Referencias!$C$4:$D$21,2,FALSE())","v":"Tercera Diamante"},{"$f":"VLOOKUP(G3918,Referencias!$C$4:$E$21,3,FALSE())","v":3},"3D","Competición",{"$f":"VLOOKUP(C3918,Referencias!$B$24:$C$40,2,FALSE())","v":"IC"}]
["3852063","Hernández Parrilla, Carmen Nieves","Canaria","D",{"$f":"VLOOKUP(G3919,Referencias!$C$4:$D$21,2,FALSE())","v":"Tercera Diamante"},{"$f":"VLOOKUP(G3919,Referencias!$C$4:$E$21,3,FALSE())","v":3},"3D","Competición",{"$f":"VLOOKUP(C3919,Referencias!$B$24:$C$40,2,FALSE())","v":"IC"}]
["3852064","Gil Alemany, Leonor","Canaria","D",{"$f":"VLOOKUP(G3920,Referencias!$C$4:$D$21,2,FALSE())","v":"Tercera Diamante"},{"$f":"VLOOKUP(G3920,Referencias!$C$4:$E$21,3,FALSE())","v":3},"3D","Competición",{"$f":"VLOOKUP(C3920,Referencias!$B$24:$C$40,2,FALSE())","v":"IC"}]
["3852065","Ravina Cortés, Beatriz","Canaria","D",{"$f":"VLOOKUP(G3921,Referencias!$C$4:$D$21,2,FALSE())","v":"Tercera Diamante"},{"$f":"VLOOKUP(G3921,Referencias!$C$4:$E$21,3,FALSE())","v":3},"3D","Competición",{"$f":"VLOOKUP(C3921,Referencias!$B$24:$C$40,2,FALSE())","v":"IC"}]
["3852069","Wilson, Keith","Canaria","C",{"$f":"VLOOKUP(G3922,Referencias!$C$4:$D$21,2,FALSE())","v":"Sin Categoría"},{"$f":"VLOOKUP(G3922,Referencias!$C$4:$E$21,3,FALSE())","v":4},"SC","Competición",{"$f":"VLOOKUP(C3922,Referencias!$B$24:$C$40,2,FALSE())","v":"IC"}]
["3852070","Ruzo Gómez, Rafael","Canaria","C",{"$f":"VLOOKUP(G3923,Referencias!$C$4:$D$21,2,FALSE())","v":"Tercera Diamante"},{"$f":"VLOOKUP(G3923,Referencias!$C$4:$E$21,3,FALSE())","v":3},"3D","Competición",{"$f":"VLOOKUP(C3923,Referencias!$B$24:$C$40,2,FALSE())","v":"IC"}]
["3852071","de Lojendio Pérez-Braun, María Jesús","Canaria","D",{"$f":"VLOOKUP(G3924,Referencias!$C$4:$D$21,2,FALSE())","v":"Tercera Diamante"},{"$f":"VLOOKUP(G3924,Referencias!$C$4:$E$21,3,FALSE())","v":3},"3D","Competición",{"$f":"VLOOKUP(C3924,Referencias!$B$24:$C$40,2,FALSE())","v":"IC"}]
["3852072","Brackx, Fred","Canaria","C",{"$f":"VLOOKUP(G3925,Referencias!$C$4:$D$21,2,FALSE())","v":"Tercera Diamante"},{"$f":"VLOOKUP(G3925,Referencias!$C$4:$E$21,3,FALSE())","v":3},"3D","Competición",{"$f":"VLOOKUP(C3925,Referencias!$B$24:$C$40,2,FALSE())","v":"IC"}]
["3852073","Canals Batlle, María Victoria","Canaria","D",{"$f":"VLOOKUP(G3926,Referencias!$C$4:$D$21,2,FALSE())","v":"Tercera Diamante"},{"$f":"VLOOKUP(G3926,Referencias!$C$4:$E$21,3,FALSE())","v":3},"3D","Competición",{"$f":"VLOOKUP(C3926,Referencias!$B$24:$C$40,2,FALSE())","v":"IC"}]
["3852080","Galán Sauco, José Antonio","Canaria","C",{"$f":"VLOOKUP(G3927,Referencias!$C$4:$D$21,2,FALSE())","v":"Tercera Diamante"},{"$f":"VLOOKUP(G3927,Referencias!$C$4:$E$21,3,FALSE())","v":3},"3D","Competición",{"$f":"VLOOKUP(C3927,Referencias!$B$24:$C$40,2,FALSE())","v":"IC"}]
["3854425","López Izquierdo, Antonio","Canaria","C",{"$f":"VLOOKUP(G3928,Referencias!$C$4:$D$21,2,FALSE())","v":"Primera Picas"},{"$f":"VLOOKUP(G3928,Referencias!$C$4:$E$21,3,FALSE())","v":1},"1P","Competición",{"$f":"VLOOKUP(C3928,Referencias!$B$24:$C$40,2,FALSE())","v":"IC"}]
["3854450","Marrero Fernández, Maria del Pilar","Canaria","D",{"$f":"VLOOKUP(G3929,Referencias!$C$4:$D$21,2,FALSE())","v":"Sin Categoría"},{"$f":"VLOOKUP(G3929,Referencias!$C$4:$E$21,3,FALSE())","v":4},"SC","Competición",{"$f":"VLOOKUP(C3929,Referencias!$B$24:$C$40,2,FALSE())","v":"IC"}]
["3854464","Yanes Herreros, Aureliano","Canaria","C",{"$f":"VLOOKUP(G3930,Referencias!$C$4:$D$21,2,FALSE())","v":"Sin Categoría"},{"$f":"VLOOKUP(G3930,Referencias!$C$4:$E$21,3,FALSE())","v":4},"SC","Competición",{"$f":"VLOOKUP(C3930,Referencias!$B$24:$C$40,2,FALSE())","v":"IC"}]
["3854466","Elejabeitia Acevedo, Pedro María","Canaria","C",{"$f":"VLOOKUP(G3931,Referencias!$C$4:$D$21,2,FALSE())","v":"Sin Categoría"},{"$f":"VLOOKUP(G3931,Referencias!$C$4:$E$21,3,FALSE())","v":4},"SC","Competición",{"$f":"VLOOKUP(C3931,Referencias!$B$24:$C$40,2,FALSE())","v":"IC"}]
["3854467","Velu Junquil, Liliane","Canaria","D",{"$f":"VLOOKUP(G3932,Referencias!$C$4:$D$21,2,FALSE())","v":"Sin Categoría"},{"$f":"VLOOKUP(G3932,Referencias!$C$4:$E$21,3,FALSE())","v":4},"SC","Competición",{"$f":"VLOOKUP(C3932,Referencias!$B$24:$C$40,2,FALSE())","v":"IC"}]
["3854473","Martín Zamorano, María Angeles","Canaria","D",{"$f":"VLOOKUP(G3933,Referencias!$C$4:$D$21,2,FALSE())","v":"Sin Categoría"},{"$f":"VLOOKUP(G3933,Referencias!$C$4:$E$21,3,FALSE())","v":4},"SC","Competición",{"$f":"VLOOKUP(C3933,Referencias!$B$24:$C$40,2,FALSE())","v":"IC"}]
["3854481","Otero Gómez, Ana","Canaria","D",{"$f":"VLOOKUP(G3934,Referencias!$C$4:$D$21,2,FALSE())","v":"Tercera Corazón"},{"$f":"VLOOKUP(G3934,Referencias!$C$4:$E$21,3,FALSE())","v":3},"3C","Competición",{"$f":"VLOOKUP(C3934,Referencias!$B$24:$C$40,2,FALSE())","v":"IC"}]
["3857047","Pérez Lecuona de Segovia, María José","Canaria","D",{"$f":"VLOOKUP(G3935,Referencias!$C$4:$D$21,2,FALSE())","v":"Segunda Picas"},{"$f":"VLOOKUP(G3935,Referencias!$C$4:$E$21,3,FALSE())","v":2},"2P","Competición",{"$f":"VLOOKUP(C3935,Referencias!$B$24:$C$40,2,FALSE())","v":"IC"}]
["3857052","Segovia Cabrera, Rafael","Canaria","C",{"$f":"VLOOKUP(G3936,Referencias!$C$4:$D$21,2,FALSE())","v":"Tercera Picas"},{"$f":"VLOOKUP(G3936,Referencias!$C$4:$E$21,3,FALSE())","v":3},"3P","Competición",{"$f":"VLOOKUP(C3936,Referencias!$B$24:$C$40,2,FALSE())","v":"IC"}]
["3991002","Ramírez Carballedo, Esther","Cántabra","D",{"$f":"VLOOKUP(G3937,Referencias!$C$4:$D$21,2,FALSE())","v":"Segunda Corazón"},{"$f":"VLOOKUP(G3937,Referencias!$C$4:$E$21,3,FALSE())","v":2},"2C","Competición",{"$f":"VLOOKUP(C3937,Referencias!$B$24:$C$40,2,FALSE())","v":"CN"}]
["3991007","Concha Lanza, M. Clotilde","Cántabra","D",{"$f":"VLOOKUP(G3938,Referencias!$C$4:$D$21,2,FALSE())","v":"Primera Diamante"},{"$f":"VLOOKUP(G3938,Referencias!$C$4:$E$21,3,FALSE())","v":1},"1D","Competición",{"$f":"VLOOKUP(C3938,Referencias!$B$24:$C$40,2,FALSE())","v":"CN"}]
["3991017","Ribalaygua García, María José","Cántabra","D",{"$f":"VLOOKUP(G3939,Referencias!$C$4:$D$21,2,FALSE())","v":"Primera Diamante"},{"$f":"VLOOKUP(G3939,Referencias!$C$4:$E$21,3,FALSE())","v":1},"1D","Competición",{"$f":"VLOOKUP(C3939,Referencias!$B$24:$C$40,2,FALSE())","v":"CN"}]
["3991018","Capa Domecq, Luisa Fernanda","Cántabra","D",{"$f":"VLOOKUP(G3940,Referencias!$C$4:$D$21,2,FALSE())","v":"Tercera Corazón"},{"$f":"VLOOKUP(G3940,Referencias!$C$4:$E$21,3,FALSE())","v":3},"3C","Competición",{"$f":"VLOOKUP(C3940,Referencias!$B$24:$C$40,2,FALSE())","v":"CN"}]
["3991020","Milicua Salamero, Consuelo","Cántabra","D",{"$f":"VLOOKUP(G3941,Referencias!$C$4:$D$21,2,FALSE())","v":"Sin Categoría"},{"$f":"VLOOKUP(G3941,Referencias!$C$4:$E$21,3,FALSE())","v":4},"SC","Competición",{"$f":"VLOOKUP(C3941,Referencias!$B$24:$C$40,2,FALSE())","v":"CN"}]
["3991021","García López, Anunciación Teresa","Cántabra","D",{"$f":"VLOOKUP(G3942,Referencias!$C$4:$D$21,2,FALSE())","v":"Sin Categoría"},{"$f":"VLOOKUP(G3942,Referencias!$C$4:$E$21,3,FALSE())","v":4},"SC","Competición",{"$f":"VLOOKUP(C3942,Referencias!$B$24:$C$40,2,FALSE())","v":"CN"}]
["3991026","Castillo Alonso, María del Carmen","Cántabra","D",{"$f":"VLOOKUP(G3943,Referencias!$C$4:$D$21,2,FALSE())","v":"Sin Categoría"},{"$f":"VLOOKUP(G3943,Referencias!$C$4:$E$21,3,FALSE())","v":4},"SC","Competición",{"$f":"VLOOKUP(C3943,Referencias!$B$24:$C$40,2,FALSE())","v":"CN"}]
["3991036","Mantecón Artasanchez, Pilar","Cántabra","D",{"$f":"VLOOKUP(G3944,Referencias!$C$4:$D$21,2,FALSE())","v":"Tercera Diamante"},{"$f":"VLOOKUP(G3944,Referencias!$C$4:$E$21,3,FALSE())","v":3},"3D","Competición",{"$f":"VLOOKUP(C3944,Referencias!$B$24:$C$40,2,FALSE())","v":"CN"}]
["3991040","García Sarmiento, María Teresa","Cántabra","D",{"$f":"VLOOKUP(G3945,Referencias!$C$4:$D$21,2,FALSE())","v":"Primera Corazón"},{"$f":"VLOOKUP(G3945,Referencias!$C$4:$E$21,3,FALSE())","v":1},"1C","Competición",{"$f":"VLOOKUP(C3945,Referencias!$B$24:$C$40,2,FALSE())","v":"CN"}]
["3991045","Viejo García, Rita","Cántabra","D",{"$f":"VLOOKUP(G3946,Referencias!$C$4:$D$21,2,FALSE())","v":"Primera Picas"},{"$f":"VLOOKUP(G3946,Referencias!$C$4:$E$21,3,FALSE())","v":1},"1P","Competición",{"$f":"VLOOKUP(C3946,Referencias!$B$24:$C$40,2,FALSE())","v":"CN"}]
["3991048","de la Maza Huidobro, Manuel","Cántabra","C",{"$f":"VLOOKUP(G3947,Referencias!$C$4:$D$21,2,FALSE())","v":"Primera Picas"},{"$f":"VLOOKUP(G3947,Referencias!$C$4:$E$21,3,FALSE())","v":1},"1P","Competición",{"$f":"VLOOKUP(C3947,Referencias!$B$24:$C$40,2,FALSE())","v":"CN"}]
["3991052","Garmendia, Esperanza","Cántabra","D",{"$f":"VLOOKUP(G3948,Referencias!$C$4:$D$21,2,FALSE())","v":"Segunda Corazón"},{"$f":"VLOOKUP(G3948,Referencias!$C$4:$E$21,3,FALSE())","v":2},"2C","Competición",{"$f":"VLOOKUP(C3948,Referencias!$B$24:$C$40,2,FALSE())","v":"CN"}]
["3991063","Rivas Lera, Paquita","Cántabra","D",{"$f":"VLOOKUP(G3949,Referencias!$C$4:$D$21,2,FALSE())","v":"Tercera Picas"},{"$f":"VLOOKUP(G3949,Referencias!$C$4:$E$21,3,FALSE())","v":3},"3P","Competición",{"$f":"VLOOKUP(C3949,Referencias!$B$24:$C$40,2,FALSE())","v":"CN"}]
["3991065","Zatón Gómez, María Teresa","Cántabra","D",{"$f":"VLOOKUP(G3950,Referencias!$C$4:$D$21,2,FALSE())","v":"Primera Diamante"},{"$f":"VLOOKUP(G3950,Referencias!$C$4:$E$21,3,FALSE())","v":1},"1D","Competición",{"$f":"VLOOKUP(C3950,Referencias!$B$24:$C$40,2,FALSE())","v":"CN"}]
["3991067","Barrutieta Pérez, Carmela","Cántabra","D",{"$f":"VLOOKUP(G3951,Referencias!$C$4:$D$21,2,FALSE())","v":"Primera Diamante"},{"$f":"VLOOKUP(G3951,Referencias!$C$4:$E$21,3,FALSE())","v":1},"1D","Competición",{"$f":"VLOOKUP(C3951,Referencias!$B$24:$C$40,2,FALSE())","v":"CN"}]
["3991069","Sierra Presmanes, Josefina","Cántabra","D",{"$f":"VLOOKUP(G3952,Referencias!$C$4:$D$21,2,FALSE())","v":"Segunda Diamante"},{"$f":"VLOOKUP(G3952,Referencias!$C$4:$E$21,3,FALSE())","v":2},"2D","Competición",{"$f":"VLOOKUP(C3952,Referencias!$B$24:$C$40,2,FALSE())","v":"CN"}]
["3991076","del Río Seoane, María Esther","Cántabra","D",{"$f":"VLOOKUP(G3953,Referencias!$C$4:$D$21,2,FALSE())","v":"Sin Categoría"},{"$f":"VLOOKUP(G3953,Referencias!$C$4:$E$21,3,FALSE())","v":4},"SC","Competición",{"$f":"VLOOKUP(C3953,Referencias!$B$24:$C$40,2,FALSE())","v":"CN"}]
["3991077","Villaverde Fernández, Angeles","Cántabra","D",{"$f":"VLOOKUP(G3954,Referencias!$C$4:$D$21,2,FALSE())","v":"Sin Categoría"},{"$f":"VLOOKUP(G3954,Referencias!$C$4:$E$21,3,FALSE())","v":4},"SC","Competición",{"$f":"VLOOKUP(C3954,Referencias!$B$24:$C$40,2,FALSE())","v":"CN"}]
["3991078","Navarro Concha, Isabel","Cántabra","D",{"$f":"VLOOKUP(G3955,Referencias!$C$4:$D$21,2,FALSE())","v":"Tercera Picas"},{"$f":"VLOOKUP(G3955,Referencias!$C$4:$E$21,3,FALSE())","v":3},"3P","Competición",{"$f":"VLOOKUP(C3955,Referencias!$B$24:$C$40,2,FALSE())","v":"CN"}]
["3991079","Arroyo Cruz, Concepción","Cántabra","D",{"$f":"VLOOKUP(G3956,Referencias!$C$4:$D$21,2,FALSE())","v":"Tercera Picas"},{"$f":"VLOOKUP(G3956,Referencias!$C$4:$E$21,3,FALSE())","v":3},"3P","Competición",{"$f":"VLOOKUP(C3956,Referencias!$B$24:$C$40,2,FALSE())","v":"CN"}]
["3991080","Falcones González, Mercedes","Cántabra","D",{"$f":"VLOOKUP(G3957,Referencias!$C$4:$D$21,2,FALSE())","v":"Sin Categoría"},{"$f":"VLOOKUP(G3957,Referencias!$C$4:$E$21,3,FALSE())","v":4},"SC","Competición",{"$f":"VLOOKUP(C3957,Referencias!$B$24:$C$40,2,FALSE())","v":"CN"}]
["3991084","Martín Malo, María Isabel","Cántabra","D",{"$f":"VLOOKUP(G3958,Referencias!$C$4:$D$21,2,FALSE())","v":"Segunda Diamante"},{"$f":"VLOOKUP(G3958,Referencias!$C$4:$E$21,3,FALSE())","v":2},"2D","Competición",{"$f":"VLOOKUP(C3958,Referencias!$B$24:$C$40,2,FALSE())","v":"CN"}]
["3991086","Quintana Serrano, Luisa María","Cántabra","D",{"$f":"VLOOKUP(G3959,Referencias!$C$4:$D$21,2,FALSE())","v":"Tercera Corazón"},{"$f":"VLOOKUP(G3959,Referencias!$C$4:$E$21,3,FALSE())","v":3},"3C","Competición",{"$f":"VLOOKUP(C3959,Referencias!$B$24:$C$40,2,FALSE())","v":"CN"}]
["3991088","Valero San Emeterio, José Ignacio","Cántabra","C",{"$f":"VLOOKUP(G3960,Referencias!$C$4:$D$21,2,FALSE())","v":"Primera Diamante"},{"$f":"VLOOKUP(G3960,Referencias!$C$4:$E$21,3,FALSE())","v":1},"1D","Competición",{"$f":"VLOOKUP(C3960,Referencias!$B$24:$C$40,2,FALSE())","v":"CN"}]
["3991092","Casuso Tapia, Isabel","Cántabra","D",{"$f":"VLOOKUP(G3961,Referencias!$C$4:$D$21,2,FALSE())","v":"Segunda Diamante"},{"$f":"VLOOKUP(G3961,Referencias!$C$4:$E$21,3,FALSE())","v":2},"2D","Competición",{"$f":"VLOOKUP(C3961,Referencias!$B$24:$C$40,2,FALSE())","v":"CN"}]
["3991093","Agudo Castanedo, Raquel","Cántabra","D",{"$f":"VLOOKUP(G3962,Referencias!$C$4:$D$21,2,FALSE())","v":"Sin Categoría"},{"$f":"VLOOKUP(G3962,Referencias!$C$4:$E$21,3,FALSE())","v":4},"SC","Competición",{"$f":"VLOOKUP(C3962,Referencias!$B$24:$C$40,2,FALSE())","v":"CN"}]
["3991097","López Pérez, Isabel","Cántabra","D",{"$f":"VLOOKUP(G3963,Referencias!$C$4:$D$21,2,FALSE())","v":"Sin Categoría"},{"$f":"VLOOKUP(G3963,Referencias!$C$4:$E$21,3,FALSE())","v":4},"SC","Competición",{"$f":"VLOOKUP(C3963,Referencias!$B$24:$C$40,2,FALSE())","v":"CN"}]
["3991098","García Bardón, Teresa","Cántabra","D",{"$f":"VLOOKUP(G3964,Referencias!$C$4:$D$21,2,FALSE())","v":"Primera Picas"},{"$f":"VLOOKUP(G3964,Referencias!$C$4:$E$21,3,FALSE())","v":1},"1P","Competición",{"$f":"VLOOKUP(C3964,Referencias!$B$24:$C$40,2,FALSE())","v":"CN"}]
["3991100","Catalá Fernández, Carmen","Cántabra","D",{"$f":"VLOOKUP(G3965,Referencias!$C$4:$D$21,2,FALSE())","v":"Tercera Picas"},{"$f":"VLOOKUP(G3965,Referencias!$C$4:$E$21,3,FALSE())","v":3},"3P","Competición",{"$f":"VLOOKUP(C3965,Referencias!$B$24:$C$40,2,FALSE())","v":"CN"}]
["3991101","Rodríguez Freire, Marisa","Gallega","D",{"$f":"VLOOKUP(G3966,Referencias!$C$4:$D$21,2,FALSE())","v":"Tercera Corazón"},{"$f":"VLOOKUP(G3966,Referencias!$C$4:$E$21,3,FALSE())","v":3},"3C","Competición",{"$f":"VLOOKUP(C3966,Referencias!$B$24:$C$40,2,FALSE())","v":"G"}]
["3991102","Fano Casielles, Ana","Cántabra","D",{"$f":"VLOOKUP(G3967,Referencias!$C$4:$D$21,2,FALSE())","v":"Tercera Corazón"},{"$f":"VLOOKUP(G3967,Referencias!$C$4:$E$21,3,FALSE())","v":3},"3C","Competición",{"$f":"VLOOKUP(C3967,Referencias!$B$24:$C$40,2,FALSE())","v":"CN"}]
["3991123","Paz Fernández, María Rafaela","Cántabra","D",{"$f":"VLOOKUP(G3968,Referencias!$C$4:$D$21,2,FALSE())","v":"Segunda Picas"},{"$f":"VLOOKUP(G3968,Referencias!$C$4:$E$21,3,FALSE())","v":2},"2P","Competición",{"$f":"VLOOKUP(C3968,Referencias!$B$24:$C$40,2,FALSE())","v":"CN"}]
["3991125","Vaquer Beltran, Celia","Cántabra","D",{"$f":"VLOOKUP(G3969,Referencias!$C$4:$D$21,2,FALSE())","v":"Tercera Diamante"},{"$f":"VLOOKUP(G3969,Referencias!$C$4:$E$21,3,FALSE())","v":3},"3D","Competición",{"$f":"VLOOKUP(C3969,Referencias!$B$24:$C$40,2,FALSE())","v":"CN"}]
["3991126","Velasco Fierro, Mª Pilar","Cántabra","D",{"$f":"VLOOKUP(G3970,Referencias!$C$4:$D$21,2,FALSE())","v":"Tercera Corazón"},{"$f":"VLOOKUP(G3970,Referencias!$C$4:$E$21,3,FALSE())","v":3},"3C","Competición",{"$f":"VLOOKUP(C3970,Referencias!$B$24:$C$40,2,FALSE())","v":"CN"}]
["3991136","Peña González, Susana","Cántabra","D",{"$f":"VLOOKUP(G3971,Referencias!$C$4:$D$21,2,FALSE())","v":"Sin Categoría"},{"$f":"VLOOKUP(G3971,Referencias!$C$4:$E$21,3,FALSE())","v":4},"SC","Competición",{"$f":"VLOOKUP(C3971,Referencias!$B$24:$C$40,2,FALSE())","v":"CN"}]
["3991141","Ribas Barceló, Catalina","Cántabra","D",{"$f":"VLOOKUP(G3972,Referencias!$C$4:$D$21,2,FALSE())","v":"Segunda Diamante"},{"$f":"VLOOKUP(G3972,Referencias!$C$4:$E$21,3,FALSE())","v":2},"2D","Competición",{"$f":"VLOOKUP(C3972,Referencias!$B$24:$C$40,2,FALSE())","v":"CN"}]
["3991146","Saiz Gómez, Elena","Cántabra","D",{"$f":"VLOOKUP(G3973,Referencias!$C$4:$D$21,2,FALSE())","v":"Sin Categoría"},{"$f":"VLOOKUP(G3973,Referencias!$C$4:$E$21,3,FALSE())","v":4},"SC","Competición",{"$f":"VLOOKUP(C3973,Referencias!$B$24:$C$40,2,FALSE())","v":"CN"}]
["3991155","Fernández Baldor Salomón, María Pilar","Cántabra","D",{"$f":"VLOOKUP(G3974,Referencias!$C$4:$D$21,2,FALSE())","v":"Sin Categoría"},{"$f":"VLOOKUP(G3974,Referencias!$C$4:$E$21,3,FALSE())","v":4},"SC","Competición",{"$f":"VLOOKUP(C3974,Referencias!$B$24:$C$40,2,FALSE())","v":"CN"}]
["3991162","Mancebo, Purificación","Cántabra","D",{"$f":"VLOOKUP(G3975,Referencias!$C$4:$D$21,2,FALSE())","v":"Segunda Picas"},{"$f":"VLOOKUP(G3975,Referencias!$C$4:$E$21,3,FALSE())","v":2},"2P","Competición",{"$f":"VLOOKUP(C3975,Referencias!$B$24:$C$40,2,FALSE())","v":"CN"}]
["3991168","Fernández Gutiérrez, Olga","Cántabra","D",{"$f":"VLOOKUP(G3976,Referencias!$C$4:$D$21,2,FALSE())","v":"Tercera Diamante"},{"$f":"VLOOKUP(G3976,Referencias!$C$4:$E$21,3,FALSE())","v":3},"3D","Competición",{"$f":"VLOOKUP(C3976,Referencias!$B$24:$C$40,2,FALSE())","v":"CN"}]
["3991175","Alcazar Benot, Mª Angeles","Cántabra","D",{"$f":"VLOOKUP(G3977,Referencias!$C$4:$D$21,2,FALSE())","v":"Sin Categoría"},{"$f":"VLOOKUP(G3977,Referencias!$C$4:$E$21,3,FALSE())","v":4},"SC","Competición",{"$f":"VLOOKUP(C3977,Referencias!$B$24:$C$40,2,FALSE())","v":"CN"}]
["3991184","Piñero Domecq, Rosa Ana","Cántabra","D",{"$f":"VLOOKUP(G3978,Referencias!$C$4:$D$21,2,FALSE())","v":"Tercera Diamante"},{"$f":"VLOOKUP(G3978,Referencias!$C$4:$E$21,3,FALSE())","v":3},"3D","Competición",{"$f":"VLOOKUP(C3978,Referencias!$B$24:$C$40,2,FALSE())","v":"CN"}]
["3991191","Fernández Herrero, Elena","Cántabra","D",{"$f":"VLOOKUP(G3979,Referencias!$C$4:$D$21,2,FALSE())","v":"Tercera Corazón"},{"$f":"VLOOKUP(G3979,Referencias!$C$4:$E$21,3,FALSE())","v":3},"3C","Competición",{"$f":"VLOOKUP(C3979,Referencias!$B$24:$C$40,2,FALSE())","v":"CN"}]
["3991192","Escallada Haya, Angela","Cántabra","D",{"$f":"VLOOKUP(G3980,Referencias!$C$4:$D$21,2,FALSE())","v":"Primera Diamante"},{"$f":"VLOOKUP(G3980,Referencias!$C$4:$E$21,3,FALSE())","v":1},"1D","Competición",{"$f":"VLOOKUP(C3980,Referencias!$B$24:$C$40,2,FALSE())","v":"CN"}]
["3991193","Pellón Vela, Milagros","Cántabra","D",{"$f":"VLOOKUP(G3981,Referencias!$C$4:$D$21,2,FALSE())","v":"Segunda Diamante"},{"$f":"VLOOKUP(G3981,Referencias!$C$4:$E$21,3,FALSE())","v":2},"2D","Competición",{"$f":"VLOOKUP(C3981,Referencias!$B$24:$C$40,2,FALSE())","v":"CN"}]
["3991194","Arroyo Valiente, Eva","Cántabra","D",{"$f":"VLOOKUP(G3982,Referencias!$C$4:$D$21,2,FALSE())","v":"Tercera Picas"},{"$f":"VLOOKUP(G3982,Referencias!$C$4:$E$21,3,FALSE())","v":3},"3P","Competición",{"$f":"VLOOKUP(C3982,Referencias!$B$24:$C$40,2,FALSE())","v":"CN"}]
["3991198","Macho González, María del Rosario","Cántabra","D",{"$f":"VLOOKUP(G3983,Referencias!$C$4:$D$21,2,FALSE())","v":"Tercera Diamante"},{"$f":"VLOOKUP(G3983,Referencias!$C$4:$E$21,3,FALSE())","v":3},"3D","Competición",{"$f":"VLOOKUP(C3983,Referencias!$B$24:$C$40,2,FALSE())","v":"CN"}]
["3991199","Ansorena Rivas, Begoña","Cántabra","D",{"$f":"VLOOKUP(G3984,Referencias!$C$4:$D$21,2,FALSE())","v":"Tercera Diamante"},{"$f":"VLOOKUP(G3984,Referencias!$C$4:$E$21,3,FALSE())","v":3},"3D","Competición",{"$f":"VLOOKUP(C3984,Referencias!$B$24:$C$40,2,FALSE())","v":"CN"}]
["3991200","Sobrino Olazarán, Celia","Cántabra","D",{"$f":"VLOOKUP(G3985,Referencias!$C$4:$D$21,2,FALSE())","v":"Segunda Diamante"},{"$f":"VLOOKUP(G3985,Referencias!$C$4:$E$21,3,FALSE())","v":2},"2D","Competición",{"$f":"VLOOKUP(C3985,Referencias!$B$24:$C$40,2,FALSE())","v":"CN"}]
["3991203","Díaz Macías, Paloma","Cántabra","D",{"$f":"VLOOKUP(G3986,Referencias!$C$4:$D$21,2,FALSE())","v":"Tercera Picas"},{"$f":"VLOOKUP(G3986,Referencias!$C$4:$E$21,3,FALSE())","v":3},"3P","Competición",{"$f":"VLOOKUP(C3986,Referencias!$B$24:$C$40,2,FALSE())","v":"CN"}]
["3991208","Sánchez Ortega, Julia","Cántabra","D",{"$f":"VLOOKUP(G3987,Referencias!$C$4:$D$21,2,FALSE())","v":"Sin Categoría"},{"$f":"VLOOKUP(G3987,Referencias!$C$4:$E$21,3,FALSE())","v":4},"SC","Competición",{"$f":"VLOOKUP(C3987,Referencias!$B$24:$C$40,2,FALSE())","v":"CN"}]
["3991209","Echeandia Mota, Pilar","Cántabra","D",{"$f":"VLOOKUP(G3988,Referencias!$C$4:$D$21,2,FALSE())","v":"Primera Picas"},{"$f":"VLOOKUP(G3988,Referencias!$C$4:$E$21,3,FALSE())","v":1},"1P","Competición",{"$f":"VLOOKUP(C3988,Referencias!$B$24:$C$40,2,FALSE())","v":"CN"}]
["3991210","Ajo González, María José","Cántabra","D",{"$f":"VLOOKUP(G3989,Referencias!$C$4:$D$21,2,FALSE())","v":"Segunda Diamante"},{"$f":"VLOOKUP(G3989,Referencias!$C$4:$E$21,3,FALSE())","v":2},"2D","Competición",{"$f":"VLOOKUP(C3989,Referencias!$B$24:$C$40,2,FALSE())","v":"CN"}]
["3991211","García Amalric, María Anunciación","Cántabra","D",{"$f":"VLOOKUP(G3990,Referencias!$C$4:$D$21,2,FALSE())","v":"Tercera Picas"},{"$f":"VLOOKUP(G3990,Referencias!$C$4:$E$21,3,FALSE())","v":3},"3P","Competición",{"$f":"VLOOKUP(C3990,Referencias!$B$24:$C$40,2,FALSE())","v":"CN"}]
["3991212","Calzada García, Margarita","Cántabra","D",{"$f":"VLOOKUP(G3991,Referencias!$C$4:$D$21,2,FALSE())","v":"Tercera Diamante"},{"$f":"VLOOKUP(G3991,Referencias!$C$4:$E$21,3,FALSE())","v":3},"3D","Competición",{"$f":"VLOOKUP(C3991,Referencias!$B$24:$C$40,2,FALSE())","v":"CN"}]
["3991215","Pérez Meliz, Lourdes","Cántabra","D",{"$f":"VLOOKUP(G3992,Referencias!$C$4:$D$21,2,FALSE())","v":"Segunda Diamante"},{"$f":"VLOOKUP(G3992,Referencias!$C$4:$E$21,3,FALSE())","v":2},"2D","Competición",{"$f":"VLOOKUP(C3992,Referencias!$B$24:$C$40,2,FALSE())","v":"CN"}]
["3991216","Grassi Riccio, Magdalena","Cántabra","D",{"$f":"VLOOKUP(G3993,Referencias!$C$4:$D$21,2,FALSE())","v":"Tercera Diamante"},{"$f":"VLOOKUP(G3993,Referencias!$C$4:$E$21,3,FALSE())","v":3},"3D","Competición",{"$f":"VLOOKUP(C3993,Referencias!$B$24:$C$40,2,FALSE())","v":"CN"}]
["3991217","Lamadrid, Laura Marie","Cántabra","D",{"$f":"VLOOKUP(G3994,Referencias!$C$4:$D$21,2,FALSE())","v":"Sin Categoría"},{"$f":"VLOOKUP(G3994,Referencias!$C$4:$E$21,3,FALSE())","v":4},"SC","Competición",{"$f":"VLOOKUP(C3994,Referencias!$B$24:$C$40,2,FALSE())","v":"CN"}]
["3991218","Saiz Viota, Mª Angeles","Cántabra","D",{"$f":"VLOOKUP(G3995,Referencias!$C$4:$D$21,2,FALSE())","v":"Tercera Diamante"},{"$f":"VLOOKUP(G3995,Referencias!$C$4:$E$21,3,FALSE())","v":3},"3D","Competición",{"$f":"VLOOKUP(C3995,Referencias!$B$24:$C$40,2,FALSE())","v":"CN"}]
["3991219","Aguiar Rodríguez, Aurora","Cántabra","D",{"$f":"VLOOKUP(G3996,Referencias!$C$4:$D$21,2,FALSE())","v":"Segunda Diamante"},{"$f":"VLOOKUP(G3996,Referencias!$C$4:$E$21,3,FALSE())","v":2},"2D","Competición",{"$f":"VLOOKUP(C3996,Referencias!$B$24:$C$40,2,FALSE())","v":"CN"}]
["3991221","Loriente Zamora, Teresa","Cántabra","D",{"$f":"VLOOKUP(G3997,Referencias!$C$4:$D$21,2,FALSE())","v":"Tercera Corazón"},{"$f":"VLOOKUP(G3997,Referencias!$C$4:$E$21,3,FALSE())","v":3},"3C","Competición",{"$f":"VLOOKUP(C3997,Referencias!$B$24:$C$40,2,FALSE())","v":"CN"}]
["3991222","Alonso de la Gala, Ana María","Cántabra","D",{"$f":"VLOOKUP(G3998,Referencias!$C$4:$D$21,2,FALSE())","v":"Tercera Diamante"},{"$f":"VLOOKUP(G3998,Referencias!$C$4:$E$21,3,FALSE())","v":3},"3D","Competición",{"$f":"VLOOKUP(C3998,Referencias!$B$24:$C$40,2,FALSE())","v":"CN"}]
["3991232","Alonso García, Mª Luisa","Cántabra","D",{"$f":"VLOOKUP(G3999,Referencias!$C$4:$D$21,2,FALSE())","v":"Primera Diamante"},{"$f":"VLOOKUP(G3999,Referencias!$C$4:$E$21,3,FALSE())","v":1},"1D","Competición",{"$f":"VLOOKUP(C3999,Referencias!$B$24:$C$40,2,FALSE())","v":"CN"}]
["3991236","Sáenz de Miera Gutiérrez, María Luisa","Cántabra","D",{"$f":"VLOOKUP(G4000,Referencias!$C$4:$D$21,2,FALSE())","v":"Segunda Diamante"},{"$f":"VLOOKUP(G4000,Referencias!$C$4:$E$21,3,FALSE())","v":2},"2D","Competición",{"$f":"VLOOKUP(C4000,Referencias!$B$24:$C$40,2,FALSE())","v":"CN"}]
["3991239","Mirapeix Sobron, Carolina","Cántabra","D",{"$f":"VLOOKUP(G4001,Referencias!$C$4:$D$21,2,FALSE())","v":"Sin Categoría"},{"$f":"VLOOKUP(G4001,Referencias!$C$4:$E$21,3,FALSE())","v":4},"SC","Competición",{"$f":"VLOOKUP(C4001,Referencias!$B$24:$C$40,2,FALSE())","v":"CN"}]
["3991240","Bormann Kriegel, Ruth","Cántabra","D",{"$f":"VLOOKUP(G4002,Referencias!$C$4:$D$21,2,FALSE())","v":"Tercera Diamante"},{"$f":"VLOOKUP(G4002,Referencias!$C$4:$E$21,3,FALSE())","v":3},"3D","Competición",{"$f":"VLOOKUP(C4002,Referencias!$B$24:$C$40,2,FALSE())","v":"CN"}]
["3991241","Alonso García, María Elena","Cántabra","D",{"$f":"VLOOKUP(G4003,Referencias!$C$4:$D$21,2,FALSE())","v":"Sin Categoría"},{"$f":"VLOOKUP(G4003,Referencias!$C$4:$E$21,3,FALSE())","v":4},"SC","Competición",{"$f":"VLOOKUP(C4003,Referencias!$B$24:$C$40,2,FALSE())","v":"CN"}]
["3991243","Valencia Ulloa, María Dolores","Cántabra","D",{"$f":"VLOOKUP(G4004,Referencias!$C$4:$D$21,2,FALSE())","v":"Tercera Diamante"},{"$f":"VLOOKUP(G4004,Referencias!$C$4:$E$21,3,FALSE())","v":3},"3D","Competición",{"$f":"VLOOKUP(C4004,Referencias!$B$24:$C$40,2,FALSE())","v":"CN"}]
["3991247","del Campo Blanco, Mª Dolores","Cántabra","D",{"$f":"VLOOKUP(G4005,Referencias!$C$4:$D$21,2,FALSE())","v":"Tercera Picas"},{"$f":"VLOOKUP(G4005,Referencias!$C$4:$E$21,3,FALSE())","v":3},"3P","Competición",{"$f":"VLOOKUP(C4005,Referencias!$B$24:$C$40,2,FALSE())","v":"CN"}]
["3991248","Ayestarán de la Lama, Ana María","Cántabra","D",{"$f":"VLOOKUP(G4006,Referencias!$C$4:$D$21,2,FALSE())","v":"Sin Categoría"},{"$f":"VLOOKUP(G4006,Referencias!$C$4:$E$21,3,FALSE())","v":4},"SC","Competición",{"$f":"VLOOKUP(C4006,Referencias!$B$24:$C$40,2,FALSE())","v":"CN"}]
["3991249","Casuso Estebanez, Ana","Cántabra","D",{"$f":"VLOOKUP(G4007,Referencias!$C$4:$D$21,2,FALSE())","v":"Sin Categoría"},{"$f":"VLOOKUP(G4007,Referencias!$C$4:$E$21,3,FALSE())","v":4},"SC","Competición",{"$f":"VLOOKUP(C4007,Referencias!$B$24:$C$40,2,FALSE())","v":"CN"}]
["3991251","Albo Prieto, Mª Luisa","Cántabra","D",{"$f":"VLOOKUP(G4008,Referencias!$C$4:$D$21,2,FALSE())","v":"Sin Categoría"},{"$f":"VLOOKUP(G4008,Referencias!$C$4:$E$21,3,FALSE())","v":4},"SC","Competición",{"$f":"VLOOKUP(C4008,Referencias!$B$24:$C$40,2,FALSE())","v":"CN"}]
["3991253","Fernández Martínez, Beatriz","Cántabra","D",{"$f":"VLOOKUP(G4009,Referencias!$C$4:$D$21,2,FALSE())","v":"Tercera Diamante"},{"$f":"VLOOKUP(G4009,Referencias!$C$4:$E$21,3,FALSE())","v":3},"3D","Competición",{"$f":"VLOOKUP(C4009,Referencias!$B$24:$C$40,2,FALSE())","v":"CN"}]
["3991255","Ayestarán de la Lama, Begoña","Cántabra","D",{"$f":"VLOOKUP(G4010,Referencias!$C$4:$D$21,2,FALSE())","v":"Sin Categoría"},{"$f":"VLOOKUP(G4010,Referencias!$C$4:$E$21,3,FALSE())","v":4},"SC","Competición",{"$f":"VLOOKUP(C4010,Referencias!$B$24:$C$40,2,FALSE())","v":"CN"}]
["3991256","Ruiloba Calzada, María Luz","Cántabra","D",{"$f":"VLOOKUP(G4011,Referencias!$C$4:$D$21,2,FALSE())","v":"Tercera Diamante"},{"$f":"VLOOKUP(G4011,Referencias!$C$4:$E$21,3,FALSE())","v":3},"3D","Competición",{"$f":"VLOOKUP(C4011,Referencias!$B$24:$C$40,2,FALSE())","v":"CN"}]
["3991257","Fernández Maza, Ana Isabel","Cántabra","D",{"$f":"VLOOKUP(G4012,Referencias!$C$4:$D$21,2,FALSE())","v":"Tercera Diamante"},{"$f":"VLOOKUP(G4012,Referencias!$C$4:$E$21,3,FALSE())","v":3},"3D","Competición",{"$f":"VLOOKUP(C4012,Referencias!$B$24:$C$40,2,FALSE())","v":"CN"}]
["3991259","Martínez Cortina, Begoña","Cántabra","D",{"$f":"VLOOKUP(G4013,Referencias!$C$4:$D$21,2,FALSE())","v":"Tercera Diamante"},{"$f":"VLOOKUP(G4013,Referencias!$C$4:$E$21,3,FALSE())","v":3},"3D","Competición",{"$f":"VLOOKUP(C4013,Referencias!$B$24:$C$40,2,FALSE())","v":"CN"}]
["3991260","Guitián Rivas, Luisa","Cántabra","D",{"$f":"VLOOKUP(G4014,Referencias!$C$4:$D$21,2,FALSE())","v":"Sin Categoría"},{"$f":"VLOOKUP(G4014,Referencias!$C$4:$E$21,3,FALSE())","v":4},"SC","Competición",{"$f":"VLOOKUP(C4014,Referencias!$B$24:$C$40,2,FALSE())","v":"CN"}]
["3991266","Rebanal Vellido, Elisa","Cántabra","D",{"$f":"VLOOKUP(G4015,Referencias!$C$4:$D$21,2,FALSE())","v":"Tercera Corazón"},{"$f":"VLOOKUP(G4015,Referencias!$C$4:$E$21,3,FALSE())","v":3},"3C","Competición",{"$f":"VLOOKUP(C4015,Referencias!$B$24:$C$40,2,FALSE())","v":"CN"}]
["3991268","Guri Bormann, Elisabeth","Cántabra","D",{"$f":"VLOOKUP(G4016,Referencias!$C$4:$D$21,2,FALSE())","v":"Tercera Corazón"},{"$f":"VLOOKUP(G4016,Referencias!$C$4:$E$21,3,FALSE())","v":3},"3C","Competición",{"$f":"VLOOKUP(C4016,Referencias!$B$24:$C$40,2,FALSE())","v":"CN"}]
["3991270","Guri Bormann, Sylvia","Cántabra","D",{"$f":"VLOOKUP(G4017,Referencias!$C$4:$D$21,2,FALSE())","v":"Tercera Diamante"},{"$f":"VLOOKUP(G4017,Referencias!$C$4:$E$21,3,FALSE())","v":3},"3D","Competición",{"$f":"VLOOKUP(C4017,Referencias!$B$24:$C$40,2,FALSE())","v":"CN"}]
["3991272","JuncoTorme, Dolores","Cántabra","D",{"$f":"VLOOKUP(G4018,Referencias!$C$4:$D$21,2,FALSE())","v":"Segunda Picas"},{"$f":"VLOOKUP(G4018,Referencias!$C$4:$E$21,3,FALSE())","v":2},"2P","Competición",{"$f":"VLOOKUP(C4018,Referencias!$B$24:$C$40,2,FALSE())","v":"CN"}]
["3991274","Basoa Huidobro, Carmen","Cántabra","D",{"$f":"VLOOKUP(G4019,Referencias!$C$4:$D$21,2,FALSE())","v":"Tercera Picas"},{"$f":"VLOOKUP(G4019,Referencias!$C$4:$E$21,3,FALSE())","v":3},"3P","Competición",{"$f":"VLOOKUP(C4019,Referencias!$B$24:$C$40,2,FALSE())","v":"CN"}]
["3991276","Alonso Sánchez, Marta","Cántabra","D",{"$f":"VLOOKUP(G4020,Referencias!$C$4:$D$21,2,FALSE())","v":"Tercera Picas"},{"$f":"VLOOKUP(G4020,Referencias!$C$4:$E$21,3,FALSE())","v":3},"3P","Competición",{"$f":"VLOOKUP(C4020,Referencias!$B$24:$C$40,2,FALSE())","v":"CN"}]
["3991279","Rodriguez Escudero, Juan Carlos","Cántabra","C",{"$f":"VLOOKUP(G4021,Referencias!$C$4:$D$21,2,FALSE())","v":"Segunda Diamante"},{"$f":"VLOOKUP(G4021,Referencias!$C$4:$E$21,3,FALSE())","v":2},"2D","Competición",{"$f":"VLOOKUP(C4021,Referencias!$B$24:$C$40,2,FALSE())","v":"CN"}]
["3991280","de la Torriente Ruigomez, Pilar","Cántabra","D",{"$f":"VLOOKUP(G4022,Referencias!$C$4:$D$21,2,FALSE())","v":"Tercera Diamante"},{"$f":"VLOOKUP(G4022,Referencias!$C$4:$E$21,3,FALSE())","v":3},"3D","Competición",{"$f":"VLOOKUP(C4022,Referencias!$B$24:$C$40,2,FALSE())","v":"CN"}]
["3991281","de Torres-Solanot del Pino, María","Cántabra","D",{"$f":"VLOOKUP(G4023,Referencias!$C$4:$D$21,2,FALSE())","v":"Tercera Diamante"},{"$f":"VLOOKUP(G4023,Referencias!$C$4:$E$21,3,FALSE())","v":3},"3D","Competición",{"$f":"VLOOKUP(C4023,Referencias!$B$24:$C$40,2,FALSE())","v":"CN"}]
["3991284","Gamo Macaya, Lourdes","Cántabra","D",{"$f":"VLOOKUP(G4024,Referencias!$C$4:$D$21,2,FALSE())","v":"Tercera Diamante"},{"$f":"VLOOKUP(G4024,Referencias!$C$4:$E$21,3,FALSE())","v":3},"3D","Competición",{"$f":"VLOOKUP(C4024,Referencias!$B$24:$C$40,2,FALSE())","v":"CN"}]
["3991285","Miranda Díaz, Isabel","Cántabra","D",{"$f":"VLOOKUP(G4025,Referencias!$C$4:$D$21,2,FALSE())","v":"Tercera Corazón"},{"$f":"VLOOKUP(G4025,Referencias!$C$4:$E$21,3,FALSE())","v":3},"3C","Competición",{"$f":"VLOOKUP(C4025,Referencias!$B$24:$C$40,2,FALSE())","v":"CN"}]
["3991292","Merino Hoyal, Teresa","Cántabra","D",{"$f":"VLOOKUP(G4026,Referencias!$C$4:$D$21,2,FALSE())","v":"Sin Categoría"},{"$f":"VLOOKUP(G4026,Referencias!$C$4:$E$21,3,FALSE())","v":4},"SC","Competición",{"$f":"VLOOKUP(C4026,Referencias!$B$24:$C$40,2,FALSE())","v":"CN"}]
["3991294","Martinez Galdos, Maria Teresa","Cántabra","D",{"$f":"VLOOKUP(G4027,Referencias!$C$4:$D$21,2,FALSE())","v":"Tercera Diamante"},{"$f":"VLOOKUP(G4027,Referencias!$C$4:$E$21,3,FALSE())","v":3},"3D","Competición",{"$f":"VLOOKUP(C4027,Referencias!$B$24:$C$40,2,FALSE())","v":"CN"}]
["3991296","Garrido García, Pedro Pablo","Cántabra","C",{"$f":"VLOOKUP(G4028,Referencias!$C$4:$D$21,2,FALSE())","v":"Sin Categoría"},{"$f":"VLOOKUP(G4028,Referencias!$C$4:$E$21,3,FALSE())","v":4},"SC","Competición",{"$f":"VLOOKUP(C4028,Referencias!$B$24:$C$40,2,FALSE())","v":"CN"}]
["3991298","González de Riancho, María Rosa","Cántabra","D",{"$f":"VLOOKUP(G4029,Referencias!$C$4:$D$21,2,FALSE())","v":"Sin Categoría"},{"$f":"VLOOKUP(G4029,Referencias!$C$4:$E$21,3,FALSE())","v":4},"SC","Competición",{"$f":"VLOOKUP(C4029,Referencias!$B$24:$C$40,2,FALSE())","v":"CN"}]
["3991302","Cavero Usabel, Nieves","Cántabra","D",{"$f":"VLOOKUP(G4030,Referencias!$C$4:$D$21,2,FALSE())","v":"Sin Categoría"},{"$f":"VLOOKUP(G4030,Referencias!$C$4:$E$21,3,FALSE())","v":4},"SC","Competición",{"$f":"VLOOKUP(C4030,Referencias!$B$24:$C$40,2,FALSE())","v":"CN"}]
["3991304","de Pellón Pérez-Gallé, Maribel","Cántabra","D",{"$f":"VLOOKUP(G4031,Referencias!$C$4:$D$21,2,FALSE())","v":"Segunda Corazón"},{"$f":"VLOOKUP(G4031,Referencias!$C$4:$E$21,3,FALSE())","v":2},"2C","Competición",{"$f":"VLOOKUP(C4031,Referencias!$B$24:$C$40,2,FALSE())","v":"CN"}]
["3991305","Arche Pajares, Beatriz","Cántabra","D",{"$f":"VLOOKUP(G4032,Referencias!$C$4:$D$21,2,FALSE())","v":"Sin Categoría"},{"$f":"VLOOKUP(G4032,Referencias!$C$4:$E$21,3,FALSE())","v":4},"SC","Competición",{"$f":"VLOOKUP(C4032,Referencias!$B$24:$C$40,2,FALSE())","v":"CN"}]
["3991306","Barez Gómez, Pilar","Cántabra","D",{"$f":"VLOOKUP(G4033,Referencias!$C$4:$D$21,2,FALSE())","v":"Tercera Diamante"},{"$f":"VLOOKUP(G4033,Referencias!$C$4:$E$21,3,FALSE())","v":3},"3D","Competición",{"$f":"VLOOKUP(C4033,Referencias!$B$24:$C$40,2,FALSE())","v":"CN"}]
["3991307","Blanco Jiménez, Marisol","Cántabra","D",{"$f":"VLOOKUP(G4034,Referencias!$C$4:$D$21,2,FALSE())","v":"Tercera Diamante"},{"$f":"VLOOKUP(G4034,Referencias!$C$4:$E$21,3,FALSE())","v":3},"3D","Competición",{"$f":"VLOOKUP(C4034,Referencias!$B$24:$C$40,2,FALSE())","v":"CN"}]
["3991309","Gómez Correa, Marta","Cántabra","D",{"$f":"VLOOKUP(G4035,Referencias!$C$4:$D$21,2,FALSE())","v":"Tercera Diamante"},{"$f":"VLOOKUP(G4035,Referencias!$C$4:$E$21,3,FALSE())","v":3},"3D","Competición",{"$f":"VLOOKUP(C4035,Referencias!$B$24:$C$40,2,FALSE())","v":"CN"}]
["3991310","Gónzalez de Riancho Mariñas, Marta","Cántabra","D",{"$f":"VLOOKUP(G4036,Referencias!$C$4:$D$21,2,FALSE())","v":"Tercera Diamante"},{"$f":"VLOOKUP(G4036,Referencias!$C$4:$E$21,3,FALSE())","v":3},"3D","Competición",{"$f":"VLOOKUP(C4036,Referencias!$B$24:$C$40,2,FALSE())","v":"CN"}]
["3991311","Herrán Pérez, María Dolores","Cántabra","D",{"$f":"VLOOKUP(G4037,Referencias!$C$4:$D$21,2,FALSE())","v":"Tercera Diamante"},{"$f":"VLOOKUP(G4037,Referencias!$C$4:$E$21,3,FALSE())","v":3},"3D","Competición",{"$f":"VLOOKUP(C4037,Referencias!$B$24:$C$40,2,FALSE())","v":"CN"}]
["3991312","López García, Manuela","Cántabra","D",{"$f":"VLOOKUP(G4038,Referencias!$C$4:$D$21,2,FALSE())","v":"Sin Categoría"},{"$f":"VLOOKUP(G4038,Referencias!$C$4:$E$21,3,FALSE())","v":4},"SC","Competición",{"$f":"VLOOKUP(C4038,Referencias!$B$24:$C$40,2,FALSE())","v":"CN"}]
["3991314","Toural Méndez, Elvira","Cántabra","D",{"$f":"VLOOKUP(G4039,Referencias!$C$4:$D$21,2,FALSE())","v":"Sin Categoría"},{"$f":"VLOOKUP(G4039,Referencias!$C$4:$E$21,3,FALSE())","v":4},"SC","Competición",{"$f":"VLOOKUP(C4039,Referencias!$B$24:$C$40,2,FALSE())","v":"CN"}]
["3991315","Pastor García, María Asunción","Cántabra","D",{"$f":"VLOOKUP(G4040,Referencias!$C$4:$D$21,2,FALSE())","v":"Sin Categoría"},{"$f":"VLOOKUP(G4040,Referencias!$C$4:$E$21,3,FALSE())","v":4},"SC","Competición",{"$f":"VLOOKUP(C4040,Referencias!$B$24:$C$40,2,FALSE())","v":"CN"}]
["3991316","Arranz Carrillo de Albornoz, Leopoldo","Cántabra","C",{"$f":"VLOOKUP(G4041,Referencias!$C$4:$D$21,2,FALSE())","v":"Tercera Diamante"},{"$f":"VLOOKUP(G4041,Referencias!$C$4:$E$21,3,FALSE())","v":3},"3D","Competición",{"$f":"VLOOKUP(C4041,Referencias!$B$24:$C$40,2,FALSE())","v":"CN"}]
["3991317","Navarro Guerecaechevarría, Emma","Cántabra","D",{"$f":"VLOOKUP(G4042,Referencias!$C$4:$D$21,2,FALSE())","v":"Segunda Diamante"},{"$f":"VLOOKUP(G4042,Referencias!$C$4:$E$21,3,FALSE())","v":2},"2D","Competición",{"$f":"VLOOKUP(C4042,Referencias!$B$24:$C$40,2,FALSE())","v":"CN"}]
["3991318","Allende Landa, Kety","Cántabra","D",{"$f":"VLOOKUP(G4043,Referencias!$C$4:$D$21,2,FALSE())","v":"Primera Diamante"},{"$f":"VLOOKUP(G4043,Referencias!$C$4:$E$21,3,FALSE())","v":1},"1D","Competición",{"$f":"VLOOKUP(C4043,Referencias!$B$24:$C$40,2,FALSE())","v":"CN"}]
["3991319","Hornedo Iñigo, Susana","Cántabra","D",{"$f":"VLOOKUP(G4044,Referencias!$C$4:$D$21,2,FALSE())","v":"Tercera Corazón"},{"$f":"VLOOKUP(G4044,Referencias!$C$4:$E$21,3,FALSE())","v":3},"3C","Competición",{"$f":"VLOOKUP(C4044,Referencias!$B$24:$C$40,2,FALSE())","v":"CN"}]
["3991320","González Setien, María Leticia","Cántabra","D",{"$f":"VLOOKUP(G4045,Referencias!$C$4:$D$21,2,FALSE())","v":"Tercera Diamante"},{"$f":"VLOOKUP(G4045,Referencias!$C$4:$E$21,3,FALSE())","v":3},"3D","Competición",{"$f":"VLOOKUP(C4045,Referencias!$B$24:$C$40,2,FALSE())","v":"CN"}]
["3991323","Madariaga Casuso, Angel","Cántabra","C",{"$f":"VLOOKUP(G4046,Referencias!$C$4:$D$21,2,FALSE())","v":"Segunda Corazón"},{"$f":"VLOOKUP(G4046,Referencias!$C$4:$E$21,3,FALSE())","v":2},"2C","Competición",{"$f":"VLOOKUP(C4046,Referencias!$B$24:$C$40,2,FALSE())","v":"CN"}]
["3991324","Díaz de Terán Mira, María del Carmen","Cántabra","D",{"$f":"VLOOKUP(G4047,Referencias!$C$4:$D$21,2,FALSE())","v":"Sin Categoría"},{"$f":"VLOOKUP(G4047,Referencias!$C$4:$E$21,3,FALSE())","v":4},"SC","Competición",{"$f":"VLOOKUP(C4047,Referencias!$B$24:$C$40,2,FALSE())","v":"CN"}]
["3991325","Mazo Perez, María Belén","Cántabra","D",{"$f":"VLOOKUP(G4048,Referencias!$C$4:$D$21,2,FALSE())","v":"Sin Categoría"},{"$f":"VLOOKUP(G4048,Referencias!$C$4:$E$21,3,FALSE())","v":4},"SC","Competición",{"$f":"VLOOKUP(C4048,Referencias!$B$24:$C$40,2,FALSE())","v":"CN"}]
["3991326","Guillen Sutil, Carmen","Cántabra","D",{"$f":"VLOOKUP(G4049,Referencias!$C$4:$D$21,2,FALSE())","v":"Sin Categoría"},{"$f":"VLOOKUP(G4049,Referencias!$C$4:$E$21,3,FALSE())","v":4},"SC","Competición",{"$f":"VLOOKUP(C4049,Referencias!$B$24:$C$40,2,FALSE())","v":"CN"}]
["3991327","Gómez-Barreda García, Chabela","Cántabra","D",{"$f":"VLOOKUP(G4050,Referencias!$C$4:$D$21,2,FALSE())","v":"Sin Categoría"},{"$f":"VLOOKUP(G4050,Referencias!$C$4:$E$21,3,FALSE())","v":4},"SC","Competición",{"$f":"VLOOKUP(C4050,Referencias!$B$24:$C$40,2,FALSE())","v":"CN"}]
["3991329","Villafañe Martinez, Silvia","Cántabra","D",{"$f":"VLOOKUP(G4051,Referencias!$C$4:$D$21,2,FALSE())","v":"Sin Categoría"},{"$f":"VLOOKUP(G4051,Referencias!$C$4:$E$21,3,FALSE())","v":4},"SC","Competición",{"$f":"VLOOKUP(C4051,Referencias!$B$24:$C$40,2,FALSE())","v":"CN"}]
["3991330","Mariño Canchal, Mª Consuelo","Cántabra","D",{"$f":"VLOOKUP(G4052,Referencias!$C$4:$D$21,2,FALSE())","v":"Sin Categoría"},{"$f":"VLOOKUP(G4052,Referencias!$C$4:$E$21,3,FALSE())","v":4},"SC","Competición",{"$f":"VLOOKUP(C4052,Referencias!$B$24:$C$40,2,FALSE())","v":"CN"}]
["3991331","Campos Alonso, Victoria","Cántabra","D",{"$f":"VLOOKUP(G4053,Referencias!$C$4:$D$21,2,FALSE())","v":"Sin Categoría"},{"$f":"VLOOKUP(G4053,Referencias!$C$4:$E$21,3,FALSE())","v":4},"SC","Competición",{"$f":"VLOOKUP(C4053,Referencias!$B$24:$C$40,2,FALSE())","v":"CN"}]
["3991332","Malo Mateo, Mónica","Cántabra","D",{"$f":"VLOOKUP(G4054,Referencias!$C$4:$D$21,2,FALSE())","v":"Tercera Diamante"},{"$f":"VLOOKUP(G4054,Referencias!$C$4:$E$21,3,FALSE())","v":3},"3D","Competición",{"$f":"VLOOKUP(C4054,Referencias!$B$24:$C$40,2,FALSE())","v":"CN"}]
["3991333","Verdeja Lizama, Virginia","Cántabra","D",{"$f":"VLOOKUP(G4055,Referencias!$C$4:$D$21,2,FALSE())","v":"Sin Categoría"},{"$f":"VLOOKUP(G4055,Referencias!$C$4:$E$21,3,FALSE())","v":4},"SC","Competición",{"$f":"VLOOKUP(C4055,Referencias!$B$24:$C$40,2,FALSE())","v":"CN"}]
["3991334","González López, Luz","Cántabra","D",{"$f":"VLOOKUP(G4056,Referencias!$C$4:$D$21,2,FALSE())","v":"Sin Categoría"},{"$f":"VLOOKUP(G4056,Referencias!$C$4:$E$21,3,FALSE())","v":4},"SC","Competición",{"$f":"VLOOKUP(C4056,Referencias!$B$24:$C$40,2,FALSE())","v":"CN"}]
["3991335","Rezola Palacios, Mª Valvanera","Cántabra","D",{"$f":"VLOOKUP(G4057,Referencias!$C$4:$D$21,2,FALSE())","v":"Sin Categoría"},{"$f":"VLOOKUP(G4057,Referencias!$C$4:$E$21,3,FALSE())","v":4},"SC","Competición",{"$f":"VLOOKUP(C4057,Referencias!$B$24:$C$40,2,FALSE())","v":"CN"}]
["3991336","Alonso Garcia, José Ramón","Cántabra","C",{"$f":"VLOOKUP(G4058,Referencias!$C$4:$D$21,2,FALSE())","v":"Segunda Diamante"},{"$f":"VLOOKUP(G4058,Referencias!$C$4:$E$21,3,FALSE())","v":2},"2D","Competición",{"$f":"VLOOKUP(C4058,Referencias!$B$24:$C$40,2,FALSE())","v":"CN"}]
["3991337","Martín Malo, Mª Pilar","Cántabra","D",{"$f":"VLOOKUP(G4059,Referencias!$C$4:$D$21,2,FALSE())","v":"Sin Categoría"},{"$f":"VLOOKUP(G4059,Referencias!$C$4:$E$21,3,FALSE())","v":4},"SC","Competición",{"$f":"VLOOKUP(C4059,Referencias!$B$24:$C$40,2,FALSE())","v":"CN"}]
["3991339","Sangrador Rasero, Ana María","Cántabra","D",{"$f":"VLOOKUP(G4060,Referencias!$C$4:$D$21,2,FALSE())","v":"Tercera Diamante"},{"$f":"VLOOKUP(G4060,Referencias!$C$4:$E$21,3,FALSE())","v":3},"3D","Competición",{"$f":"VLOOKUP(C4060,Referencias!$B$24:$C$40,2,FALSE())","v":"CN"}]
["3991340","Sotres Rodriguez, Mª Esther","Cántabra","D",{"$f":"VLOOKUP(G4061,Referencias!$C$4:$D$21,2,FALSE())","v":"Sin Categoría"},{"$f":"VLOOKUP(G4061,Referencias!$C$4:$E$21,3,FALSE())","v":4},"SC","Competición",{"$f":"VLOOKUP(C4061,Referencias!$B$24:$C$40,2,FALSE())","v":"CN"}]
["3991341","Sánchez Bustamante, Mercedes ","Cántabra","D",{"$f":"VLOOKUP(G4062,Referencias!$C$4:$D$21,2,FALSE())","v":"Sin Categoría"},{"$f":"VLOOKUP(G4062,Referencias!$C$4:$E$21,3,FALSE())","v":4},"SC","Competición",{"$f":"VLOOKUP(C4062,Referencias!$B$24:$C$40,2,FALSE())","v":"CN"}]
["3991342","Suárez Fernández, Lydia","Cántabra","D",{"$f":"VLOOKUP(G4063,Referencias!$C$4:$D$21,2,FALSE())","v":"Sin Categoría"},{"$f":"VLOOKUP(G4063,Referencias!$C$4:$E$21,3,FALSE())","v":4},"SC","Competición",{"$f":"VLOOKUP(C4063,Referencias!$B$24:$C$40,2,FALSE())","v":"CN"}]
["3991344","Revuelta de Arana, Carmen","Cántabra","D",{"$f":"VLOOKUP(G4064,Referencias!$C$4:$D$21,2,FALSE())","v":"Segunda Diamante"},{"$f":"VLOOKUP(G4064,Referencias!$C$4:$E$21,3,FALSE())","v":2},"2D","Competición",{"$f":"VLOOKUP(C4064,Referencias!$B$24:$C$40,2,FALSE())","v":"CN"}]
["3991346","Martinez Moro, Margarita","Cántabra","D",{"$f":"VLOOKUP(G4065,Referencias!$C$4:$D$21,2,FALSE())","v":"Sin Categoría"},{"$f":"VLOOKUP(G4065,Referencias!$C$4:$E$21,3,FALSE())","v":4},"SC","Competición",{"$f":"VLOOKUP(C4065,Referencias!$B$24:$C$40,2,FALSE())","v":"CN"}]
["3991347","Gutierrez Turrión, Mª Isabel","Cántabra","D",{"$f":"VLOOKUP(G4066,Referencias!$C$4:$D$21,2,FALSE())","v":"Sin Categoría"},{"$f":"VLOOKUP(G4066,Referencias!$C$4:$E$21,3,FALSE())","v":4},"SC","Competición",{"$f":"VLOOKUP(C4066,Referencias!$B$24:$C$40,2,FALSE())","v":"CN"}]
["3991348","Tellez García, Nieves","Cántabra","D",{"$f":"VLOOKUP(G4067,Referencias!$C$4:$D$21,2,FALSE())","v":"Tercera Picas"},{"$f":"VLOOKUP(G4067,Referencias!$C$4:$E$21,3,FALSE())","v":3},"3P","Competición",{"$f":"VLOOKUP(C4067,Referencias!$B$24:$C$40,2,FALSE())","v":"CN"}]
["3991349","Sicilia, Miguel ","Cántabra","C",{"$f":"VLOOKUP(G4068,Referencias!$C$4:$D$21,2,FALSE())","v":"Segunda Picas"},{"$f":"VLOOKUP(G4068,Referencias!$C$4:$E$21,3,FALSE())","v":2},"2P","Competición",{"$f":"VLOOKUP(C4068,Referencias!$B$24:$C$40,2,FALSE())","v":"CN"}]
["3991350","López-Chacarra, María Eugenia","Cántabra","D",{"$f":"VLOOKUP(G4069,Referencias!$C$4:$D$21,2,FALSE())","v":"Sin Categoría"},{"$f":"VLOOKUP(G4069,Referencias!$C$4:$E$21,3,FALSE())","v":4},"SC","Competición",{"$f":"VLOOKUP(C4069,Referencias!$B$24:$C$40,2,FALSE())","v":"CN"}]
["3991351","Sánchez Pérez, Ángeles","Cántabra","D",{"$f":"VLOOKUP(G4070,Referencias!$C$4:$D$21,2,FALSE())","v":"Sin Categoría"},{"$f":"VLOOKUP(G4070,Referencias!$C$4:$E$21,3,FALSE())","v":4},"SC","Competición",{"$f":"VLOOKUP(C4070,Referencias!$B$24:$C$40,2,FALSE())","v":"CN"}]
["3991352","Sierra García, María del Mar","Cántabra","D",{"$f":"VLOOKUP(G4071,Referencias!$C$4:$D$21,2,FALSE())","v":"Sin Categoría"},{"$f":"VLOOKUP(G4071,Referencias!$C$4:$E$21,3,FALSE())","v":4},"SC","Competición",{"$f":"VLOOKUP(C4071,Referencias!$B$24:$C$40,2,FALSE())","v":"CN"}]
["3991353","Casanueva Gónzalez, María José","Cántabra","D",{"$f":"VLOOKUP(G4072,Referencias!$C$4:$D$21,2,FALSE())","v":"Sin Categoría"},{"$f":"VLOOKUP(G4072,Referencias!$C$4:$E$21,3,FALSE())","v":4},"SC","Competición",{"$f":"VLOOKUP(C4072,Referencias!$B$24:$C$40,2,FALSE())","v":"CN"}]
["3991355","Benito Fernández, Pilar","Cántabra","D",{"$f":"VLOOKUP(G4073,Referencias!$C$4:$D$21,2,FALSE())","v":"Sin Categoría"},{"$f":"VLOOKUP(G4073,Referencias!$C$4:$E$21,3,FALSE())","v":4},"SC","Competición",{"$f":"VLOOKUP(C4073,Referencias!$B$24:$C$40,2,FALSE())","v":"CN"}]
["3991357","Hernáiz García, Carolina","Cántabra","D",{"$f":"VLOOKUP(G4074,Referencias!$C$4:$D$21,2,FALSE())","v":"Tercera Diamante"},{"$f":"VLOOKUP(G4074,Referencias!$C$4:$E$21,3,FALSE())","v":3},"3D","Competición",{"$f":"VLOOKUP(C4074,Referencias!$B$24:$C$40,2,FALSE())","v":"CN"}]
["3991358","Calleja Peredo   , Emilia","Cántabra","D",{"$f":"VLOOKUP(G4075,Referencias!$C$4:$D$21,2,FALSE())","v":"Tercera Diamante"},{"$f":"VLOOKUP(G4075,Referencias!$C$4:$E$21,3,FALSE())","v":3},"3D","Competición",{"$f":"VLOOKUP(C4075,Referencias!$B$24:$C$40,2,FALSE())","v":"CN"}]
["3991359","Estanillo Raba, M. Nieves","Cántabra","D",{"$f":"VLOOKUP(G4076,Referencias!$C$4:$D$21,2,FALSE())","v":"Tercera Diamante"},{"$f":"VLOOKUP(G4076,Referencias!$C$4:$E$21,3,FALSE())","v":3},"3D","Competición",{"$f":"VLOOKUP(C4076,Referencias!$B$24:$C$40,2,FALSE())","v":"CN"}]
["3991360","De la Gandara Porres,  Lucrecia","Cántabra","D",{"$f":"VLOOKUP(G4077,Referencias!$C$4:$D$21,2,FALSE())","v":"Tercera Diamante"},{"$f":"VLOOKUP(G4077,Referencias!$C$4:$E$21,3,FALSE())","v":3},"3D","Competición",{"$f":"VLOOKUP(C4077,Referencias!$B$24:$C$40,2,FALSE())","v":"CN"}]
["3991361","García-Barredo Campo, José Mª","Cántabra","C",{"$f":"VLOOKUP(G4078,Referencias!$C$4:$D$21,2,FALSE())","v":"Tercera Diamante"},{"$f":"VLOOKUP(G4078,Referencias!$C$4:$E$21,3,FALSE())","v":3},"3D","Competición",{"$f":"VLOOKUP(C4078,Referencias!$B$24:$C$40,2,FALSE())","v":"CN"}]
["3991362","Sánchez Merino, Mª Angeles","Cántabra","D",{"$f":"VLOOKUP(G4079,Referencias!$C$4:$D$21,2,FALSE())","v":"Tercera Diamante"},{"$f":"VLOOKUP(G4079,Referencias!$C$4:$E$21,3,FALSE())","v":3},"3D","Competición",{"$f":"VLOOKUP(C4079,Referencias!$B$24:$C$40,2,FALSE())","v":"CN"}]
["3991363","Andrés Puerto, Felicidad","Cántabra","D",{"$f":"VLOOKUP(G4080,Referencias!$C$4:$D$21,2,FALSE())","v":"Tercera Diamante"},{"$f":"VLOOKUP(G4080,Referencias!$C$4:$E$21,3,FALSE())","v":3},"3D","Competición",{"$f":"VLOOKUP(C4080,Referencias!$B$24:$C$40,2,FALSE())","v":"CN"}]
["3991364","Morales Galindo  , Adela","Cántabra","D",{"$f":"VLOOKUP(G4081,Referencias!$C$4:$D$21,2,FALSE())","v":"Tercera Diamante"},{"$f":"VLOOKUP(G4081,Referencias!$C$4:$E$21,3,FALSE())","v":3},"3D","Competición",{"$f":"VLOOKUP(C4081,Referencias!$B$24:$C$40,2,FALSE())","v":"CN"}]
["3991365","Andres Roiz, Mª Isabel","Cántabra","D",{"$f":"VLOOKUP(G4082,Referencias!$C$4:$D$21,2,FALSE())","v":"Tercera Diamante"},{"$f":"VLOOKUP(G4082,Referencias!$C$4:$E$21,3,FALSE())","v":3},"3D","Competición",{"$f":"VLOOKUP(C4082,Referencias!$B$24:$C$40,2,FALSE())","v":"CN"}]
["3991366","Revuelta Castanedo , Carmen","Cántabra","D",{"$f":"VLOOKUP(G4083,Referencias!$C$4:$D$21,2,FALSE())","v":"Tercera Diamante"},{"$f":"VLOOKUP(G4083,Referencias!$C$4:$E$21,3,FALSE())","v":3},"3D","Competición",{"$f":"VLOOKUP(C4083,Referencias!$B$24:$C$40,2,FALSE())","v":"CN"}]
["3991367","Vaquero López, Mª Angeles","Cántabra","D",{"$f":"VLOOKUP(G4084,Referencias!$C$4:$D$21,2,FALSE())","v":"Tercera Diamante"},{"$f":"VLOOKUP(G4084,Referencias!$C$4:$E$21,3,FALSE())","v":3},"3D","Competición",{"$f":"VLOOKUP(C4084,Referencias!$B$24:$C$40,2,FALSE())","v":"CN"}]
["3991368","Vila Gómez, Rafael ","Cántabra","C",{"$f":"VLOOKUP(G4085,Referencias!$C$4:$D$21,2,FALSE())","v":"Tercera Diamante"},{"$f":"VLOOKUP(G4085,Referencias!$C$4:$E$21,3,FALSE())","v":3},"3D","Competición",{"$f":"VLOOKUP(C4085,Referencias!$B$24:$C$40,2,FALSE())","v":"CN"}]
["3991369","González Maza, Luz ","Cántabra","D",{"$f":"VLOOKUP(G4086,Referencias!$C$4:$D$21,2,FALSE())","v":"Tercera Diamante"},{"$f":"VLOOKUP(G4086,Referencias!$C$4:$E$21,3,FALSE())","v":3},"3D","Competición",{"$f":"VLOOKUP(C4086,Referencias!$B$24:$C$40,2,FALSE())","v":"CN"}]
["3991370","Hidalgo Villaescusa, Araceli ","Cántabra","D",{"$f":"VLOOKUP(G4087,Referencias!$C$4:$D$21,2,FALSE())","v":"Tercera Diamante"},{"$f":"VLOOKUP(G4087,Referencias!$C$4:$E$21,3,FALSE())","v":3},"3D","Competición",{"$f":"VLOOKUP(C4087,Referencias!$B$24:$C$40,2,FALSE())","v":"CN"}]
["3991371","Palacio Ortega, Patricia ","Cántabra","D",{"$f":"VLOOKUP(G4088,Referencias!$C$4:$D$21,2,FALSE())","v":"Tercera Diamante"},{"$f":"VLOOKUP(G4088,Referencias!$C$4:$E$21,3,FALSE())","v":3},"3D","Competición",{"$f":"VLOOKUP(C4088,Referencias!$B$24:$C$40,2,FALSE())","v":"CN"}]
["3991372","Asensio Martin, Maria Luisa","Cántabra","D",{"$f":"VLOOKUP(G4089,Referencias!$C$4:$D$21,2,FALSE())","v":"Tercera Diamante"},{"$f":"VLOOKUP(G4089,Referencias!$C$4:$E$21,3,FALSE())","v":3},"3D","Competición",{"$f":"VLOOKUP(C4089,Referencias!$B$24:$C$40,2,FALSE())","v":"CN"}]
["3991373","Gutiérrez Díaz de Velarde, María Eugenia","Cántabra","D",{"$f":"VLOOKUP(G4090,Referencias!$C$4:$D$21,2,FALSE())","v":"Tercera Diamante"},{"$f":"VLOOKUP(G4090,Referencias!$C$4:$E$21,3,FALSE())","v":3},"3D","Competición",{"$f":"VLOOKUP(C4090,Referencias!$B$24:$C$40,2,FALSE())","v":"CN"}]
["3992385","Capa Domecq, Ana Rosa","Cántabra","D",{"$f":"VLOOKUP(G4091,Referencias!$C$4:$D$21,2,FALSE())","v":"Tercera Diamante"},{"$f":"VLOOKUP(G4091,Referencias!$C$4:$E$21,3,FALSE())","v":3},"3D","Competición",{"$f":"VLOOKUP(C4091,Referencias!$B$24:$C$40,2,FALSE())","v":"CN"}]
["3995612","Blanco Hernández, Guadalupe","Cántabra","D",{"$f":"VLOOKUP(G4092,Referencias!$C$4:$D$21,2,FALSE())","v":"Segunda Corazón"},{"$f":"VLOOKUP(G4092,Referencias!$C$4:$E$21,3,FALSE())","v":2},"2C","Competición",{"$f":"VLOOKUP(C4092,Referencias!$B$24:$C$40,2,FALSE())","v":"CN"}]
["3995614","Campo Roiz, M. del Carmen","Cántabra","D",{"$f":"VLOOKUP(G4093,Referencias!$C$4:$D$21,2,FALSE())","v":"Tercera Corazón"},{"$f":"VLOOKUP(G4093,Referencias!$C$4:$E$21,3,FALSE())","v":3},"3C","Competición",{"$f":"VLOOKUP(C4093,Referencias!$B$24:$C$40,2,FALSE())","v":"CN"}]
["3995615","Suárez Martínez, Emma","Cántabra","D",{"$f":"VLOOKUP(G4094,Referencias!$C$4:$D$21,2,FALSE())","v":"Segunda Corazón"},{"$f":"VLOOKUP(G4094,Referencias!$C$4:$E$21,3,FALSE())","v":2},"2C","Competición",{"$f":"VLOOKUP(C4094,Referencias!$B$24:$C$40,2,FALSE())","v":"CN"}]
["3995619","Obregón López-Alonso, Esther","Cántabra","D",{"$f":"VLOOKUP(G4095,Referencias!$C$4:$D$21,2,FALSE())","v":"Primera Diamante"},{"$f":"VLOOKUP(G4095,Referencias!$C$4:$E$21,3,FALSE())","v":1},"1D","Competición",{"$f":"VLOOKUP(C4095,Referencias!$B$24:$C$40,2,FALSE())","v":"CN"}]
["3995620","Berdia Palazuelos, M. Jesús","Cántabra","D",{"$f":"VLOOKUP(G4096,Referencias!$C$4:$D$21,2,FALSE())","v":"Tercera Corazón"},{"$f":"VLOOKUP(G4096,Referencias!$C$4:$E$21,3,FALSE())","v":3},"3C","Competición",{"$f":"VLOOKUP(C4096,Referencias!$B$24:$C$40,2,FALSE())","v":"CN"}]
["3995626","Díaz-Romeral Iglesias, Pilar","Cántabra","D",{"$f":"VLOOKUP(G4097,Referencias!$C$4:$D$21,2,FALSE())","v":"Sin Categoría"},{"$f":"VLOOKUP(G4097,Referencias!$C$4:$E$21,3,FALSE())","v":4},"SC","Competición",{"$f":"VLOOKUP(C4097,Referencias!$B$24:$C$40,2,FALSE())","v":"CN"}]
["3995627","Fernández Elguero, Mayca","Cántabra","D",{"$f":"VLOOKUP(G4098,Referencias!$C$4:$D$21,2,FALSE())","v":"Primera Picas"},{"$f":"VLOOKUP(G4098,Referencias!$C$4:$E$21,3,FALSE())","v":1},"1P","Competición",{"$f":"VLOOKUP(C4098,Referencias!$B$24:$C$40,2,FALSE())","v":"CN"}]
["3995644","Peredo Barquín, María Cruz","Cántabra","D",{"$f":"VLOOKUP(G4099,Referencias!$C$4:$D$21,2,FALSE())","v":"Primera Picas"},{"$f":"VLOOKUP(G4099,Referencias!$C$4:$E$21,3,FALSE())","v":1},"1P","Competición",{"$f":"VLOOKUP(C4099,Referencias!$B$24:$C$40,2,FALSE())","v":"CN"}]
["3995651","Sánchez Díaz, M. Angeles","Cántabra","D",{"$f":"VLOOKUP(G4100,Referencias!$C$4:$D$21,2,FALSE())","v":"Tercera Diamante"},{"$f":"VLOOKUP(G4100,Referencias!$C$4:$E$21,3,FALSE())","v":3},"3D","Competición",{"$f":"VLOOKUP(C4100,Referencias!$B$24:$C$40,2,FALSE())","v":"CN"}]
["3995663","González Marlasca, Blanca","Cántabra","D",{"$f":"VLOOKUP(G4101,Referencias!$C$4:$D$21,2,FALSE())","v":"Tercera Diamante"},{"$f":"VLOOKUP(G4101,Referencias!$C$4:$E$21,3,FALSE())","v":3},"3D","Competición",{"$f":"VLOOKUP(C4101,Referencias!$B$24:$C$40,2,FALSE())","v":"CN"}]
["4071256","Fenor Luque, Josefina","Castilla y León","D",{"$f":"VLOOKUP(G4102,Referencias!$C$4:$D$21,2,FALSE())","v":"Tercera Corazón"},{"$f":"VLOOKUP(G4102,Referencias!$C$4:$E$21,3,FALSE())","v":3},"3C","Competición",{"$f":"VLOOKUP(C4102,Referencias!$B$24:$C$40,2,FALSE())","v":"CL"}]
["4161010","Lobo Ruano, Felipe","Andaluza","C",{"$f":"VLOOKUP(G4103,Referencias!$C$4:$D$21,2,FALSE())","v":"Primera Picas"},{"$f":"VLOOKUP(G4103,Referencias!$C$4:$E$21,3,FALSE())","v":1},"1P","Competición",{"$f":"VLOOKUP(C4103,Referencias!$B$24:$C$40,2,FALSE())","v":"A"}]
["4161011","Nieto Martínez, Lola","Andaluza","D",{"$f":"VLOOKUP(G4104,Referencias!$C$4:$D$21,2,FALSE())","v":"Primera Picas"},{"$f":"VLOOKUP(G4104,Referencias!$C$4:$E$21,3,FALSE())","v":1},"1P","Competición",{"$f":"VLOOKUP(C4104,Referencias!$B$24:$C$40,2,FALSE())","v":"A"}]
["4161021","Sánchez-Moliní Montes, Antonio","Andaluza","C",{"$f":"VLOOKUP(G4105,Referencias!$C$4:$D$21,2,FALSE())","v":"Sin Categoría"},{"$f":"VLOOKUP(G4105,Referencias!$C$4:$E$21,3,FALSE())","v":4},"SC","Competición",{"$f":"VLOOKUP(C4105,Referencias!$B$24:$C$40,2,FALSE())","v":"A"}]
["4161069","Fernández-Palacios Melgarejo, Manuel","Andaluza","C",{"$f":"VLOOKUP(G4106,Referencias!$C$4:$D$21,2,FALSE())","v":"Sin Categoría"},{"$f":"VLOOKUP(G4106,Referencias!$C$4:$E$21,3,FALSE())","v":4},"SC","Competición",{"$f":"VLOOKUP(C4106,Referencias!$B$24:$C$40,2,FALSE())","v":"A"}]
["4161109","Barbadillo Mateos, Pilar","Andaluza","D",{"$f":"VLOOKUP(G4107,Referencias!$C$4:$D$21,2,FALSE())","v":"Tercera Picas"},{"$f":"VLOOKUP(G4107,Referencias!$C$4:$E$21,3,FALSE())","v":3},"3P","Competición",{"$f":"VLOOKUP(C4107,Referencias!$B$24:$C$40,2,FALSE())","v":"A"}]
["4161121","Corot, Thierry","Andaluza","C",{"$f":"VLOOKUP(G4108,Referencias!$C$4:$D$21,2,FALSE())","v":"Primera Corazón"},{"$f":"VLOOKUP(G4108,Referencias!$C$4:$E$21,3,FALSE())","v":1},"1C","Competición",{"$f":"VLOOKUP(C4108,Referencias!$B$24:$C$40,2,FALSE())","v":"A"}]
["4161128","Moreno del Camino, Mercedes","Andaluza","D",{"$f":"VLOOKUP(G4109,Referencias!$C$4:$D$21,2,FALSE())","v":"Sin Categoría"},{"$f":"VLOOKUP(G4109,Referencias!$C$4:$E$21,3,FALSE())","v":4},"SC","Competición",{"$f":"VLOOKUP(C4109,Referencias!$B$24:$C$40,2,FALSE())","v":"A"}]
["4161173","Palancar Sánchez, Emma","Andaluza","D",{"$f":"VLOOKUP(G4110,Referencias!$C$4:$D$21,2,FALSE())","v":"Tercera Diamante"},{"$f":"VLOOKUP(G4110,Referencias!$C$4:$E$21,3,FALSE())","v":3},"3D","Competición",{"$f":"VLOOKUP(C4110,Referencias!$B$24:$C$40,2,FALSE())","v":"A"}]
["4161195","Toro Fdez. Peñaranda, Felipe","Andaluza","C",{"$f":"VLOOKUP(G4111,Referencias!$C$4:$D$21,2,FALSE())","v":"Sin Categoría"},{"$f":"VLOOKUP(G4111,Referencias!$C$4:$E$21,3,FALSE())","v":4},"SC","Competición",{"$f":"VLOOKUP(C4111,Referencias!$B$24:$C$40,2,FALSE())","v":"A"}]
["4161239","Gamonal Campos, Pilar","Andaluza","D",{"$f":"VLOOKUP(G4112,Referencias!$C$4:$D$21,2,FALSE())","v":"Tercera Picas"},{"$f":"VLOOKUP(G4112,Referencias!$C$4:$E$21,3,FALSE())","v":3},"3P","Competición",{"$f":"VLOOKUP(C4112,Referencias!$B$24:$C$40,2,FALSE())","v":"A"}]
["4161286","Fleming Torres, Jorge","Andaluza","C",{"$f":"VLOOKUP(G4113,Referencias!$C$4:$D$21,2,FALSE())","v":"Tercera Diamante"},{"$f":"VLOOKUP(G4113,Referencias!$C$4:$E$21,3,FALSE())","v":3},"3D","Competición",{"$f":"VLOOKUP(C4113,Referencias!$B$24:$C$40,2,FALSE())","v":"A"}]
["4161287","Miret Borja, Elisa","Andaluza","D",{"$f":"VLOOKUP(G4114,Referencias!$C$4:$D$21,2,FALSE())","v":"Tercera Corazón"},{"$f":"VLOOKUP(G4114,Referencias!$C$4:$E$21,3,FALSE())","v":3},"3C","Competición",{"$f":"VLOOKUP(C4114,Referencias!$B$24:$C$40,2,FALSE())","v":"A"}]
["4161341","De los Reyes.Vda de Morán, Victoria","Andaluza","D",{"$f":"VLOOKUP(G4115,Referencias!$C$4:$D$21,2,FALSE())","v":"Sin Categoría"},{"$f":"VLOOKUP(G4115,Referencias!$C$4:$E$21,3,FALSE())","v":4},"SC","Competición",{"$f":"VLOOKUP(C4115,Referencias!$B$24:$C$40,2,FALSE())","v":"A"}]
["4161368","Loring Lasarte, María","Andaluza","D",{"$f":"VLOOKUP(G4116,Referencias!$C$4:$D$21,2,FALSE())","v":"Tercera Corazón"},{"$f":"VLOOKUP(G4116,Referencias!$C$4:$E$21,3,FALSE())","v":3},"3C","Competición",{"$f":"VLOOKUP(C4116,Referencias!$B$24:$C$40,2,FALSE())","v":"A"}]
["4161420","Rodríguez Gutíerrez, Ana María","Andaluza","D",{"$f":"VLOOKUP(G4117,Referencias!$C$4:$D$21,2,FALSE())","v":"Sin Categoría"},{"$f":"VLOOKUP(G4117,Referencias!$C$4:$E$21,3,FALSE())","v":4},"SC","Competición",{"$f":"VLOOKUP(C4117,Referencias!$B$24:$C$40,2,FALSE())","v":"A"}]
["4161434","García Fernández, Sebastián","Andaluza","C",{"$f":"VLOOKUP(G4118,Referencias!$C$4:$D$21,2,FALSE())","v":"Tercera Picas"},{"$f":"VLOOKUP(G4118,Referencias!$C$4:$E$21,3,FALSE())","v":3},"3P","Competición",{"$f":"VLOOKUP(C4118,Referencias!$B$24:$C$40,2,FALSE())","v":"A"}]
["4161435","García Palomero, Félix","Andaluza","C",{"$f":"VLOOKUP(G4119,Referencias!$C$4:$D$21,2,FALSE())","v":"Tercera Picas"},{"$f":"VLOOKUP(G4119,Referencias!$C$4:$E$21,3,FALSE())","v":3},"3P","Competición",{"$f":"VLOOKUP(C4119,Referencias!$B$24:$C$40,2,FALSE())","v":"A"}]
["4161436","Benjumea de la Cova, Rocío","Andaluza","D",{"$f":"VLOOKUP(G4120,Referencias!$C$4:$D$21,2,FALSE())","v":"Tercera Corazón"},{"$f":"VLOOKUP(G4120,Referencias!$C$4:$E$21,3,FALSE())","v":3},"3C","Competición",{"$f":"VLOOKUP(C4120,Referencias!$B$24:$C$40,2,FALSE())","v":"A"}]
["4161440","Valenzuela Etayo, Ana","Andaluza","D",{"$f":"VLOOKUP(G4121,Referencias!$C$4:$D$21,2,FALSE())","v":"Tercera Corazón"},{"$f":"VLOOKUP(G4121,Referencias!$C$4:$E$21,3,FALSE())","v":3},"3C","Competición",{"$f":"VLOOKUP(C4121,Referencias!$B$24:$C$40,2,FALSE())","v":"A"}]
["4161441","Algarin Mallol, María Teresa","Andaluza","D",{"$f":"VLOOKUP(G4122,Referencias!$C$4:$D$21,2,FALSE())","v":"Tercera Diamante"},{"$f":"VLOOKUP(G4122,Referencias!$C$4:$E$21,3,FALSE())","v":3},"3D","Competición",{"$f":"VLOOKUP(C4122,Referencias!$B$24:$C$40,2,FALSE())","v":"A"}]
["4161442","Nuñez Rodríguez Armijo, Angeli","Andaluza","D",{"$f":"VLOOKUP(G4123,Referencias!$C$4:$D$21,2,FALSE())","v":"Tercera Picas"},{"$f":"VLOOKUP(G4123,Referencias!$C$4:$E$21,3,FALSE())","v":3},"3P","Competición",{"$f":"VLOOKUP(C4123,Referencias!$B$24:$C$40,2,FALSE())","v":"A"}]
["4161443","Candau Morón, Luisa","Andaluza","D",{"$f":"VLOOKUP(G4124,Referencias!$C$4:$D$21,2,FALSE())","v":"Tercera Diamante"},{"$f":"VLOOKUP(G4124,Referencias!$C$4:$E$21,3,FALSE())","v":3},"3D","Competición",{"$f":"VLOOKUP(C4124,Referencias!$B$24:$C$40,2,FALSE())","v":"A"}]
["4161445","Campos Ramos, Matilde","Andaluza","D",{"$f":"VLOOKUP(G4125,Referencias!$C$4:$D$21,2,FALSE())","v":"Tercera Corazón"},{"$f":"VLOOKUP(G4125,Referencias!$C$4:$E$21,3,FALSE())","v":3},"3C","Competición",{"$f":"VLOOKUP(C4125,Referencias!$B$24:$C$40,2,FALSE())","v":"A"}]
["4161498","Castillo Martínez, Mª Eulalia","Andaluza","D",{"$f":"VLOOKUP(G4126,Referencias!$C$4:$D$21,2,FALSE())","v":"Tercera Diamante"},{"$f":"VLOOKUP(G4126,Referencias!$C$4:$E$21,3,FALSE())","v":3},"3D","Competición",{"$f":"VLOOKUP(C4126,Referencias!$B$24:$C$40,2,FALSE())","v":"A"}]
["4161502","Tejera Plasencia, Mª Concepción","Andaluza","D",{"$f":"VLOOKUP(G4127,Referencias!$C$4:$D$21,2,FALSE())","v":"Tercera Diamante"},{"$f":"VLOOKUP(G4127,Referencias!$C$4:$E$21,3,FALSE())","v":3},"3D","Competición",{"$f":"VLOOKUP(C4127,Referencias!$B$24:$C$40,2,FALSE())","v":"A"}]
["4161518","Osborne Sanz-Magallón, Rocío","Andaluza","D",{"$f":"VLOOKUP(G4128,Referencias!$C$4:$D$21,2,FALSE())","v":"Segunda Diamante"},{"$f":"VLOOKUP(G4128,Referencias!$C$4:$E$21,3,FALSE())","v":2},"2D","Competición",{"$f":"VLOOKUP(C4128,Referencias!$B$24:$C$40,2,FALSE())","v":"A"}]
["4161519","Torres-Quevedo González, Isabel","Andaluza","D",{"$f":"VLOOKUP(G4129,Referencias!$C$4:$D$21,2,FALSE())","v":"Segunda Diamante"},{"$f":"VLOOKUP(G4129,Referencias!$C$4:$E$21,3,FALSE())","v":2},"2D","Competición",{"$f":"VLOOKUP(C4129,Referencias!$B$24:$C$40,2,FALSE())","v":"A"}]
["4161524","Arbona Prini, Joaquín","Andaluza","C",{"$f":"VLOOKUP(G4130,Referencias!$C$4:$D$21,2,FALSE())","v":"Tercera Diamante"},{"$f":"VLOOKUP(G4130,Referencias!$C$4:$E$21,3,FALSE())","v":3},"3D","Competición",{"$f":"VLOOKUP(C4130,Referencias!$B$24:$C$40,2,FALSE())","v":"A"}]
["4161543","Sanz Cepeda, Mercedes","Andaluza","D",{"$f":"VLOOKUP(G4131,Referencias!$C$4:$D$21,2,FALSE())","v":"Primera Diamante"},{"$f":"VLOOKUP(G4131,Referencias!$C$4:$E$21,3,FALSE())","v":1},"1D","Competición",{"$f":"VLOOKUP(C4131,Referencias!$B$24:$C$40,2,FALSE())","v":"A"}]
["4161544","Neches Olaso, Begoña","Andaluza","D",{"$f":"VLOOKUP(G4132,Referencias!$C$4:$D$21,2,FALSE())","v":"Tercera Diamante"},{"$f":"VLOOKUP(G4132,Referencias!$C$4:$E$21,3,FALSE())","v":3},"3D","Competición",{"$f":"VLOOKUP(C4132,Referencias!$B$24:$C$40,2,FALSE())","v":"A"}]
["4161545","De Bonilla Blanes, Antonio","Andaluza","C",{"$f":"VLOOKUP(G4133,Referencias!$C$4:$D$21,2,FALSE())","v":"Segunda Diamante"},{"$f":"VLOOKUP(G4133,Referencias!$C$4:$E$21,3,FALSE())","v":2},"2D","Competición",{"$f":"VLOOKUP(C4133,Referencias!$B$24:$C$40,2,FALSE())","v":"A"}]
["4161548","López Ruibal, Margarita","Andaluza","D",{"$f":"VLOOKUP(G4134,Referencias!$C$4:$D$21,2,FALSE())","v":"Tercera Corazón"},{"$f":"VLOOKUP(G4134,Referencias!$C$4:$E$21,3,FALSE())","v":3},"3C","Competición",{"$f":"VLOOKUP(C4134,Referencias!$B$24:$C$40,2,FALSE())","v":"A"}]
["4161552","Dávila García de Sola, Africa","Andaluza","D",{"$f":"VLOOKUP(G4135,Referencias!$C$4:$D$21,2,FALSE())","v":"Tercera Diamante"},{"$f":"VLOOKUP(G4135,Referencias!$C$4:$E$21,3,FALSE())","v":3},"3D","Competición",{"$f":"VLOOKUP(C4135,Referencias!$B$24:$C$40,2,FALSE())","v":"A"}]
["4161553","Izquierdo Moya, Pilar","Andaluza","D",{"$f":"VLOOKUP(G4136,Referencias!$C$4:$D$21,2,FALSE())","v":"Segunda Diamante"},{"$f":"VLOOKUP(G4136,Referencias!$C$4:$E$21,3,FALSE())","v":2},"2D","Competición",{"$f":"VLOOKUP(C4136,Referencias!$B$24:$C$40,2,FALSE())","v":"A"}]
["4161555","Fernández-Galiano, María Pepa","Andaluza","D",{"$f":"VLOOKUP(G4137,Referencias!$C$4:$D$21,2,FALSE())","v":"Tercera Corazón"},{"$f":"VLOOKUP(G4137,Referencias!$C$4:$E$21,3,FALSE())","v":3},"3C","Competición",{"$f":"VLOOKUP(C4137,Referencias!$B$24:$C$40,2,FALSE())","v":"A"}]
["4161558","Torroba Laviña, Ana","Andaluza","D",{"$f":"VLOOKUP(G4138,Referencias!$C$4:$D$21,2,FALSE())","v":"Segunda Diamante"},{"$f":"VLOOKUP(G4138,Referencias!$C$4:$E$21,3,FALSE())","v":2},"2D","Competición",{"$f":"VLOOKUP(C4138,Referencias!$B$24:$C$40,2,FALSE())","v":"A"}]
["4161560","Roca de Togores Pérez de Guzman, Felipe","Andaluza","C",{"$f":"VLOOKUP(G4139,Referencias!$C$4:$D$21,2,FALSE())","v":"Tercera Corazón"},{"$f":"VLOOKUP(G4139,Referencias!$C$4:$E$21,3,FALSE())","v":3},"3C","Competición",{"$f":"VLOOKUP(C4139,Referencias!$B$24:$C$40,2,FALSE())","v":"A"}]
["4161564","Alvarez Monsa, María del Carmen","Andaluza","D",{"$f":"VLOOKUP(G4140,Referencias!$C$4:$D$21,2,FALSE())","v":"Tercera Corazón"},{"$f":"VLOOKUP(G4140,Referencias!$C$4:$E$21,3,FALSE())","v":3},"3C","Competición",{"$f":"VLOOKUP(C4140,Referencias!$B$24:$C$40,2,FALSE())","v":"A"}]
["4161585","Fernández-Borrero García-Pinillos, Pilar","Andaluza","D",{"$f":"VLOOKUP(G4141,Referencias!$C$4:$D$21,2,FALSE())","v":"Tercera Diamante"},{"$f":"VLOOKUP(G4141,Referencias!$C$4:$E$21,3,FALSE())","v":3},"3D","Competición",{"$f":"VLOOKUP(C4141,Referencias!$B$24:$C$40,2,FALSE())","v":"A"}]
["4161593","Freitag Voelsing, Regina","Andaluza","D",{"$f":"VLOOKUP(G4142,Referencias!$C$4:$D$21,2,FALSE())","v":"Tercera Picas"},{"$f":"VLOOKUP(G4142,Referencias!$C$4:$E$21,3,FALSE())","v":3},"3P","Competición",{"$f":"VLOOKUP(C4142,Referencias!$B$24:$C$40,2,FALSE())","v":"A"}]
["4161623","Colletti, Bruno Raffaele Maria","Andaluza","C",{"$f":"VLOOKUP(G4143,Referencias!$C$4:$D$21,2,FALSE())","v":"Primera Picas"},{"$f":"VLOOKUP(G4143,Referencias!$C$4:$E$21,3,FALSE())","v":1},"1P","Competición",{"$f":"VLOOKUP(C4143,Referencias!$B$24:$C$40,2,FALSE())","v":"A"}]
["4161644","Morenes Giles, María José","Andaluza","D",{"$f":"VLOOKUP(G4144,Referencias!$C$4:$D$21,2,FALSE())","v":"Tercera Diamante"},{"$f":"VLOOKUP(G4144,Referencias!$C$4:$E$21,3,FALSE())","v":3},"3D","Competición",{"$f":"VLOOKUP(C4144,Referencias!$B$24:$C$40,2,FALSE())","v":"A"}]
["4161646","Navarro Carrión, Mª del Pilar","Andaluza","D",{"$f":"VLOOKUP(G4145,Referencias!$C$4:$D$21,2,FALSE())","v":"Sin Categoría"},{"$f":"VLOOKUP(G4145,Referencias!$C$4:$E$21,3,FALSE())","v":4},"SC","Competición",{"$f":"VLOOKUP(C4145,Referencias!$B$24:$C$40,2,FALSE())","v":"A"}]
["4161654","Sebastian Bueno, Javier","Andaluza","C",{"$f":"VLOOKUP(G4146,Referencias!$C$4:$D$21,2,FALSE())","v":"Segunda Picas"},{"$f":"VLOOKUP(G4146,Referencias!$C$4:$E$21,3,FALSE())","v":2},"2P","Competición",{"$f":"VLOOKUP(C4146,Referencias!$B$24:$C$40,2,FALSE())","v":"A"}]
["4161656","Muñoz Ybarra, Iñigo de Loyola","Andaluza","C",{"$f":"VLOOKUP(G4147,Referencias!$C$4:$D$21,2,FALSE())","v":"Tercera Diamante"},{"$f":"VLOOKUP(G4147,Referencias!$C$4:$E$21,3,FALSE())","v":3},"3D","Competición",{"$f":"VLOOKUP(C4147,Referencias!$B$24:$C$40,2,FALSE())","v":"A"}]
["4161657","Rousseau Vincente, Cecile","Andaluza","D",{"$f":"VLOOKUP(G4148,Referencias!$C$4:$D$21,2,FALSE())","v":"Primera Corazón"},{"$f":"VLOOKUP(G4148,Referencias!$C$4:$E$21,3,FALSE())","v":1},"1C","Competición",{"$f":"VLOOKUP(C4148,Referencias!$B$24:$C$40,2,FALSE())","v":"A"}]
["4161682","Molina Segovia, Carmen","Andaluza","D",{"$f":"VLOOKUP(G4149,Referencias!$C$4:$D$21,2,FALSE())","v":"Tercera Diamante"},{"$f":"VLOOKUP(G4149,Referencias!$C$4:$E$21,3,FALSE())","v":3},"3D","Competición",{"$f":"VLOOKUP(C4149,Referencias!$B$24:$C$40,2,FALSE())","v":"A"}]
["4161689","Portellano Caballero, Mercedes","Andaluza","D",{"$f":"VLOOKUP(G4150,Referencias!$C$4:$D$21,2,FALSE())","v":"Tercera Corazón"},{"$f":"VLOOKUP(G4150,Referencias!$C$4:$E$21,3,FALSE())","v":3},"3C","Competición",{"$f":"VLOOKUP(C4150,Referencias!$B$24:$C$40,2,FALSE())","v":"A"}]
["4161693","Fernández-Castaño Merediz, Brezo","Andaluza","C",{"$f":"VLOOKUP(G4151,Referencias!$C$4:$D$21,2,FALSE())","v":"Sin Categoría"},{"$f":"VLOOKUP(G4151,Referencias!$C$4:$E$21,3,FALSE())","v":4},"SC","Competición",{"$f":"VLOOKUP(C4151,Referencias!$B$24:$C$40,2,FALSE())","v":"A"}]
["4161695","Barragan White, Carmen","Andaluza","D",{"$f":"VLOOKUP(G4152,Referencias!$C$4:$D$21,2,FALSE())","v":"Tercera Diamante"},{"$f":"VLOOKUP(G4152,Referencias!$C$4:$E$21,3,FALSE())","v":3},"3D","Competición",{"$f":"VLOOKUP(C4152,Referencias!$B$24:$C$40,2,FALSE())","v":"A"}]
["4161700","Gortazar Fita, Iñigo","Andaluza","C",{"$f":"VLOOKUP(G4153,Referencias!$C$4:$D$21,2,FALSE())","v":"Tercera Picas"},{"$f":"VLOOKUP(G4153,Referencias!$C$4:$E$21,3,FALSE())","v":3},"3P","Competición",{"$f":"VLOOKUP(C4153,Referencias!$B$24:$C$40,2,FALSE())","v":"A"}]
["4161703","Sánz Fernández, Marta","Andaluza","D",{"$f":"VLOOKUP(G4154,Referencias!$C$4:$D$21,2,FALSE())","v":"Sin Categoría"},{"$f":"VLOOKUP(G4154,Referencias!$C$4:$E$21,3,FALSE())","v":4},"SC","Competición",{"$f":"VLOOKUP(C4154,Referencias!$B$24:$C$40,2,FALSE())","v":"A"}]
["4161704","Patterson, Leslie","Andaluza","D",{"$f":"VLOOKUP(G4155,Referencias!$C$4:$D$21,2,FALSE())","v":"Tercera Diamante"},{"$f":"VLOOKUP(G4155,Referencias!$C$4:$E$21,3,FALSE())","v":3},"3D","Competición",{"$f":"VLOOKUP(C4155,Referencias!$B$24:$C$40,2,FALSE())","v":"A"}]
["4161706","Alonso González, Yolanda","Andaluza","D",{"$f":"VLOOKUP(G4156,Referencias!$C$4:$D$21,2,FALSE())","v":"Sin Categoría"},{"$f":"VLOOKUP(G4156,Referencias!$C$4:$E$21,3,FALSE())","v":4},"SC","Competición",{"$f":"VLOOKUP(C4156,Referencias!$B$24:$C$40,2,FALSE())","v":"A"}]
["4161722","Romero Fernández, Inmaculada","Andaluza","D",{"$f":"VLOOKUP(G4157,Referencias!$C$4:$D$21,2,FALSE())","v":"Tercera Diamante"},{"$f":"VLOOKUP(G4157,Referencias!$C$4:$E$21,3,FALSE())","v":3},"3D","Competición",{"$f":"VLOOKUP(C4157,Referencias!$B$24:$C$40,2,FALSE())","v":"A"}]
["4161728","Gil-Delgado Andrada, Antonia","Andaluza","C",{"$f":"VLOOKUP(G4158,Referencias!$C$4:$D$21,2,FALSE())","v":"Sin Categoría"},{"$f":"VLOOKUP(G4158,Referencias!$C$4:$E$21,3,FALSE())","v":4},"SC","Competición",{"$f":"VLOOKUP(C4158,Referencias!$B$24:$C$40,2,FALSE())","v":"A"}]
["4161733","Arteaga Alarcón, Francisco","Andaluza","C",{"$f":"VLOOKUP(G4159,Referencias!$C$4:$D$21,2,FALSE())","v":"Tercera Diamante"},{"$f":"VLOOKUP(G4159,Referencias!$C$4:$E$21,3,FALSE())","v":3},"3D","Competición",{"$f":"VLOOKUP(C4159,Referencias!$B$24:$C$40,2,FALSE())","v":"A"}]
["4161734","Vázquez Valenzuela, Rafael","Andaluza","C",{"$f":"VLOOKUP(G4160,Referencias!$C$4:$D$21,2,FALSE())","v":"Segunda Corazón"},{"$f":"VLOOKUP(G4160,Referencias!$C$4:$E$21,3,FALSE())","v":2},"2C","Competición",{"$f":"VLOOKUP(C4160,Referencias!$B$24:$C$40,2,FALSE())","v":"A"}]
["4161735","Alcañiz García, Miguel","Andaluza","C",{"$f":"VLOOKUP(G4161,Referencias!$C$4:$D$21,2,FALSE())","v":"Segunda Corazón"},{"$f":"VLOOKUP(G4161,Referencias!$C$4:$E$21,3,FALSE())","v":2},"2C","Competición",{"$f":"VLOOKUP(C4161,Referencias!$B$24:$C$40,2,FALSE())","v":"A"}]
["4161736","Gonzalo de Bustos, Fernando","Andaluza","C",{"$f":"VLOOKUP(G4162,Referencias!$C$4:$D$21,2,FALSE())","v":"Sin Categoría"},{"$f":"VLOOKUP(G4162,Referencias!$C$4:$E$21,3,FALSE())","v":4},"SC","Competición",{"$f":"VLOOKUP(C4162,Referencias!$B$24:$C$40,2,FALSE())","v":"A"}]
["4161755","Casotti, Camilla","Andaluza","D",{"$f":"VLOOKUP(G4163,Referencias!$C$4:$D$21,2,FALSE())","v":"Tercera Picas"},{"$f":"VLOOKUP(G4163,Referencias!$C$4:$E$21,3,FALSE())","v":3},"3P","Competición",{"$f":"VLOOKUP(C4163,Referencias!$B$24:$C$40,2,FALSE())","v":"A"}]
["4161782","Pérez de Guzmán Albarracín, Alvaro","Andaluza","C",{"$f":"VLOOKUP(G4164,Referencias!$C$4:$D$21,2,FALSE())","v":"Tercera Diamante"},{"$f":"VLOOKUP(G4164,Referencias!$C$4:$E$21,3,FALSE())","v":3},"3D","Competición",{"$f":"VLOOKUP(C4164,Referencias!$B$24:$C$40,2,FALSE())","v":"A"}]
["4161783","Alvarez Carmona, Isabel","Andaluza","D",{"$f":"VLOOKUP(G4165,Referencias!$C$4:$D$21,2,FALSE())","v":"Sin Categoría"},{"$f":"VLOOKUP(G4165,Referencias!$C$4:$E$21,3,FALSE())","v":4},"SC","Competición",{"$f":"VLOOKUP(C4165,Referencias!$B$24:$C$40,2,FALSE())","v":"A"}]
["4161784","López  López , Manuel","Andaluza","C",{"$f":"VLOOKUP(G4166,Referencias!$C$4:$D$21,2,FALSE())","v":"Tercera Diamante"},{"$f":"VLOOKUP(G4166,Referencias!$C$4:$E$21,3,FALSE())","v":3},"3D","Competición",{"$f":"VLOOKUP(C4166,Referencias!$B$24:$C$40,2,FALSE())","v":"A"}]
["4161786","Lage Gallé, Roque","Andaluza","C",{"$f":"VLOOKUP(G4167,Referencias!$C$4:$D$21,2,FALSE())","v":"Sin Categoría"},{"$f":"VLOOKUP(G4167,Referencias!$C$4:$E$21,3,FALSE())","v":4},"SC","Competición",{"$f":"VLOOKUP(C4167,Referencias!$B$24:$C$40,2,FALSE())","v":"A"}]
["4161787","González-Meneses Calvo, Luisa","Andaluza","D",{"$f":"VLOOKUP(G4168,Referencias!$C$4:$D$21,2,FALSE())","v":"Tercera Diamante"},{"$f":"VLOOKUP(G4168,Referencias!$C$4:$E$21,3,FALSE())","v":3},"3D","Competición",{"$f":"VLOOKUP(C4168,Referencias!$B$24:$C$40,2,FALSE())","v":"A"}]
["4161788","Alvear Garijo, Antonia ","Andaluza","D",{"$f":"VLOOKUP(G4169,Referencias!$C$4:$D$21,2,FALSE())","v":"Tercera Diamante"},{"$f":"VLOOKUP(G4169,Referencias!$C$4:$E$21,3,FALSE())","v":3},"3D","Competición",{"$f":"VLOOKUP(C4169,Referencias!$B$24:$C$40,2,FALSE())","v":"A"}]
["4161790","Recasens Luca de Tena, Luis","Andaluza","C",{"$f":"VLOOKUP(G4170,Referencias!$C$4:$D$21,2,FALSE())","v":"Tercera Diamante"},{"$f":"VLOOKUP(G4170,Referencias!$C$4:$E$21,3,FALSE())","v":3},"3D","Competición",{"$f":"VLOOKUP(C4170,Referencias!$B$24:$C$40,2,FALSE())","v":"A"}]
["4161791","Andrada-Vanderwilde Quadras, Ana","Andaluza","D",{"$f":"VLOOKUP(G4171,Referencias!$C$4:$D$21,2,FALSE())","v":"Tercera Diamante"},{"$f":"VLOOKUP(G4171,Referencias!$C$4:$E$21,3,FALSE())","v":3},"3D","Competición",{"$f":"VLOOKUP(C4171,Referencias!$B$24:$C$40,2,FALSE())","v":"A"}]
["4161792","Lester, Peter","Andaluza","C",{"$f":"VLOOKUP(G4172,Referencias!$C$4:$D$21,2,FALSE())","v":"Tercera Diamante"},{"$f":"VLOOKUP(G4172,Referencias!$C$4:$E$21,3,FALSE())","v":3},"3D","Competición",{"$f":"VLOOKUP(C4172,Referencias!$B$24:$C$40,2,FALSE())","v":"A"}]
["4161794","Lage de Llera, Ignacio","Andaluza","C",{"$f":"VLOOKUP(G4173,Referencias!$C$4:$D$21,2,FALSE())","v":"Tercera Diamante"},{"$f":"VLOOKUP(G4173,Referencias!$C$4:$E$21,3,FALSE())","v":3},"3D","Competición",{"$f":"VLOOKUP(C4173,Referencias!$B$24:$C$40,2,FALSE())","v":"A"}]
["4161796","Andrada-Vanderwilde Quadras, Teresa","Andaluza","C",{"$f":"VLOOKUP(G4174,Referencias!$C$4:$D$21,2,FALSE())","v":"Tercera Diamante"},{"$f":"VLOOKUP(G4174,Referencias!$C$4:$E$21,3,FALSE())","v":3},"3D","Competición",{"$f":"VLOOKUP(C4174,Referencias!$B$24:$C$40,2,FALSE())","v":"A"}]
["4161802","del Valle Tauste, Ana ","Andaluza","D",{"$f":"VLOOKUP(G4175,Referencias!$C$4:$D$21,2,FALSE())","v":"Tercera Diamante"},{"$f":"VLOOKUP(G4175,Referencias!$C$4:$E$21,3,FALSE())","v":3},"3D","Competición",{"$f":"VLOOKUP(C4175,Referencias!$B$24:$C$40,2,FALSE())","v":"A"}]
["4161804","Andrada-Vanderwilde Quadras, Cristina","Andaluza","D",{"$f":"VLOOKUP(G4176,Referencias!$C$4:$D$21,2,FALSE())","v":"Tercera Diamante"},{"$f":"VLOOKUP(G4176,Referencias!$C$4:$E$21,3,FALSE())","v":3},"3D","Competición",{"$f":"VLOOKUP(C4176,Referencias!$B$24:$C$40,2,FALSE())","v":"A"}]
["4161805","Rodríguez Moreno, Elena","Andaluza","D",{"$f":"VLOOKUP(G4177,Referencias!$C$4:$D$21,2,FALSE())","v":"Tercera Diamante"},{"$f":"VLOOKUP(G4177,Referencias!$C$4:$E$21,3,FALSE())","v":3},"3D","Competición",{"$f":"VLOOKUP(C4177,Referencias!$B$24:$C$40,2,FALSE())","v":"A"}]
["4167420","Charlo Ortiz-Repiso, Ramón","Andaluza","C",{"$f":"VLOOKUP(G4178,Referencias!$C$4:$D$21,2,FALSE())","v":"Segunda Diamante"},{"$f":"VLOOKUP(G4178,Referencias!$C$4:$E$21,3,FALSE())","v":2},"2D","Competición",{"$f":"VLOOKUP(C4178,Referencias!$B$24:$C$40,2,FALSE())","v":"A"}]
["4167421","De Bonilla de Charlo, María","Andaluza","D",{"$f":"VLOOKUP(G4179,Referencias!$C$4:$D$21,2,FALSE())","v":"Primera Diamante"},{"$f":"VLOOKUP(G4179,Referencias!$C$4:$E$21,3,FALSE())","v":1},"1D","Competición",{"$f":"VLOOKUP(C4179,Referencias!$B$24:$C$40,2,FALSE())","v":"A"}]
["4167444","Maza Burgos, Javier","Andaluza","C",{"$f":"VLOOKUP(G4180,Referencias!$C$4:$D$21,2,FALSE())","v":"Primera Picas"},{"$f":"VLOOKUP(G4180,Referencias!$C$4:$E$21,3,FALSE())","v":1},"1P","Competición",{"$f":"VLOOKUP(C4180,Referencias!$B$24:$C$40,2,FALSE())","v":"A"}]
["4167460","Barón Rivero, Luis","Andaluza","C",{"$f":"VLOOKUP(G4181,Referencias!$C$4:$D$21,2,FALSE())","v":"Primera Picas"},{"$f":"VLOOKUP(G4181,Referencias!$C$4:$E$21,3,FALSE())","v":1},"1P","Competición",{"$f":"VLOOKUP(C4181,Referencias!$B$24:$C$40,2,FALSE())","v":"A"}]
["4167468","Solari Caballer, Dora","Andaluza","D",{"$f":"VLOOKUP(G4182,Referencias!$C$4:$D$21,2,FALSE())","v":"Sin Categoría"},{"$f":"VLOOKUP(G4182,Referencias!$C$4:$E$21,3,FALSE())","v":4},"SC","Competición",{"$f":"VLOOKUP(C4182,Referencias!$B$24:$C$40,2,FALSE())","v":"A"}]
["4167488","Salinas Mila, Alvaro","Andaluza","C",{"$f":"VLOOKUP(G4183,Referencias!$C$4:$D$21,2,FALSE())","v":"Primera Picas"},{"$f":"VLOOKUP(G4183,Referencias!$C$4:$E$21,3,FALSE())","v":1},"1P","Competición",{"$f":"VLOOKUP(C4183,Referencias!$B$24:$C$40,2,FALSE())","v":"A"}]
["4167494","Crespo de Gómez Uribarri, Benjamina","Andaluza","D",{"$f":"VLOOKUP(G4184,Referencias!$C$4:$D$21,2,FALSE())","v":"Sin Categoría"},{"$f":"VLOOKUP(G4184,Referencias!$C$4:$E$21,3,FALSE())","v":4},"SC","Competición",{"$f":"VLOOKUP(C4184,Referencias!$B$24:$C$40,2,FALSE())","v":"A"}]
["4167503","Toro Fernández de Peñaranda, José María","Andaluza","C",{"$f":"VLOOKUP(G4185,Referencias!$C$4:$D$21,2,FALSE())","v":"Primera Corazón"},{"$f":"VLOOKUP(G4185,Referencias!$C$4:$E$21,3,FALSE())","v":1},"1C","Competición",{"$f":"VLOOKUP(C4185,Referencias!$B$24:$C$40,2,FALSE())","v":"A"}]
["4190000","Arreciado Charlo, Francisco","AEB","C",{"$f":"VLOOKUP(G4186,Referencias!$C$4:$D$21,2,FALSE())","v":"Sin Categoría"},{"$f":"VLOOKUP(G4186,Referencias!$C$4:$E$21,3,FALSE())","v":4},"SC","Competición",{"$f":"VLOOKUP(C4186,Referencias!$B$24:$C$40,2,FALSE())","v":{"$error":"#N/A"}}]
["4320031","Cavalle Vallverdu, Jordi","Catalana","C",{"$f":"VLOOKUP(G4187,Referencias!$C$4:$D$21,2,FALSE())","v":"Sin Categoría"},{"$f":"VLOOKUP(G4187,Referencias!$C$4:$E$21,3,FALSE())","v":4},"SC","Competición",{"$f":"VLOOKUP(C4187,Referencias!$B$24:$C$40,2,FALSE())","v":"C"}]
["4321133","Pomar Guitart, Joana","Catalana","C",{"$f":"VLOOKUP(G4188,Referencias!$C$4:$D$21,2,FALSE())","v":"Tercera Diamante"},{"$f":"VLOOKUP(G4188,Referencias!$C$4:$E$21,3,FALSE())","v":3},"3D","Competición",{"$f":"VLOOKUP(C4188,Referencias!$B$24:$C$40,2,FALSE())","v":"C"}]
["4322524","Maduell Canals, Antoni","Catalana","C",{"$f":"VLOOKUP(G4189,Referencias!$C$4:$D$21,2,FALSE())","v":"Sin Categoría"},{"$f":"VLOOKUP(G4189,Referencias!$C$4:$E$21,3,FALSE())","v":4},"SC","Competición",{"$f":"VLOOKUP(C4189,Referencias!$B$24:$C$40,2,FALSE())","v":"C"}]
["4322549","Hugas Segarra, May","Catalana","D",{"$f":"VLOOKUP(G4190,Referencias!$C$4:$D$21,2,FALSE())","v":"Sin Categoría"},{"$f":"VLOOKUP(G4190,Referencias!$C$4:$E$21,3,FALSE())","v":4},"SC","Competición",{"$f":"VLOOKUP(C4190,Referencias!$B$24:$C$40,2,FALSE())","v":"C"}]
["4322550","Pujol Niubo, Agustin","Catalana","C",{"$f":"VLOOKUP(G4191,Referencias!$C$4:$D$21,2,FALSE())","v":"Sin Categoría"},{"$f":"VLOOKUP(G4191,Referencias!$C$4:$E$21,3,FALSE())","v":4},"SC","Competición",{"$f":"VLOOKUP(C4191,Referencias!$B$24:$C$40,2,FALSE())","v":"C"}]
["4323408","Barth, Karl\t","Catalana","C",{"$f":"VLOOKUP(G4192,Referencias!$C$4:$D$21,2,FALSE())","v":"Tercera Diamante"},{"$f":"VLOOKUP(G4192,Referencias!$C$4:$E$21,3,FALSE())","v":3},"3D","Competición",{"$f":"VLOOKUP(C4192,Referencias!$B$24:$C$40,2,FALSE())","v":"C"}]
["4323410","Pàmies Salvat, Xavier ","Catalana","C",{"$f":"VLOOKUP(G4193,Referencias!$C$4:$D$21,2,FALSE())","v":"Tercera Diamante"},{"$f":"VLOOKUP(G4193,Referencias!$C$4:$E$21,3,FALSE())","v":3},"3D","Competición",{"$f":"VLOOKUP(C4193,Referencias!$B$24:$C$40,2,FALSE())","v":"C"}]
["4323411","Grande Rodriguez, Pilar  ","Catalana","D",{"$f":"VLOOKUP(G4194,Referencias!$C$4:$D$21,2,FALSE())","v":"Tercera Diamante"},{"$f":"VLOOKUP(G4194,Referencias!$C$4:$E$21,3,FALSE())","v":3},"3D","Competición",{"$f":"VLOOKUP(C4194,Referencias!$B$24:$C$40,2,FALSE())","v":"C"}]
["4323412","Nolla Cerdan, Adela","Catalana","D",{"$f":"VLOOKUP(G4195,Referencias!$C$4:$D$21,2,FALSE())","v":"Tercera Diamante"},{"$f":"VLOOKUP(G4195,Referencias!$C$4:$E$21,3,FALSE())","v":3},"3D","Competición",{"$f":"VLOOKUP(C4195,Referencias!$B$24:$C$40,2,FALSE())","v":"C"}]
["4323413","Padrell Baiges, Hildo","Catalana","D",{"$f":"VLOOKUP(G4196,Referencias!$C$4:$D$21,2,FALSE())","v":"Tercera Diamante"},{"$f":"VLOOKUP(G4196,Referencias!$C$4:$E$21,3,FALSE())","v":3},"3D","Competición",{"$f":"VLOOKUP(C4196,Referencias!$B$24:$C$40,2,FALSE())","v":"C"}]
["4323425","Estradera Teixidó, María Angeles","Catalana","D",{"$f":"VLOOKUP(G4197,Referencias!$C$4:$D$21,2,FALSE())","v":"Tercera Diamante"},{"$f":"VLOOKUP(G4197,Referencias!$C$4:$E$21,3,FALSE())","v":3},"3D","Competición",{"$f":"VLOOKUP(C4197,Referencias!$B$24:$C$40,2,FALSE())","v":"C"}]
["4323426","Pamies Fuster, Mario ","Catalana","C",{"$f":"VLOOKUP(G4198,Referencias!$C$4:$D$21,2,FALSE())","v":"Tercera Diamante"},{"$f":"VLOOKUP(G4198,Referencias!$C$4:$E$21,3,FALSE())","v":3},"3D","Competición",{"$f":"VLOOKUP(C4198,Referencias!$B$24:$C$40,2,FALSE())","v":"C"}]
["4641051","Azpitarte Camy, Antonio","C. Valenciana","C",{"$f":"VLOOKUP(G4199,Referencias!$C$4:$D$21,2,FALSE())","v":"Primera Diamante"},{"$f":"VLOOKUP(G4199,Referencias!$C$4:$E$21,3,FALSE())","v":1},"1D","Competición",{"$f":"VLOOKUP(C4199,Referencias!$B$24:$C$40,2,FALSE())","v":"V"}]
["4641053","San Andrés Martín, José","C. Valenciana","C",{"$f":"VLOOKUP(G4200,Referencias!$C$4:$D$21,2,FALSE())","v":"Primera Corazón"},{"$f":"VLOOKUP(G4200,Referencias!$C$4:$E$21,3,FALSE())","v":1},"1C","Competición",{"$f":"VLOOKUP(C4200,Referencias!$B$24:$C$40,2,FALSE())","v":"V"}]
["4641064","Caffarena Raggio, José M.","C. Valenciana","C",{"$f":"VLOOKUP(G4201,Referencias!$C$4:$D$21,2,FALSE())","v":"Primera Corazón"},{"$f":"VLOOKUP(G4201,Referencias!$C$4:$E$21,3,FALSE())","v":1},"1C","Competición",{"$f":"VLOOKUP(C4201,Referencias!$B$24:$C$40,2,FALSE())","v":"V"}]
["4641065","Beltran Serrano, María Luisa","C. Valenciana","D",{"$f":"VLOOKUP(G4202,Referencias!$C$4:$D$21,2,FALSE())","v":"Primera Picas"},{"$f":"VLOOKUP(G4202,Referencias!$C$4:$E$21,3,FALSE())","v":1},"1P","Competición",{"$f":"VLOOKUP(C4202,Referencias!$B$24:$C$40,2,FALSE())","v":"V"}]
["4641066","Arcos Sundberg, Isabel","C. Valenciana","D",{"$f":"VLOOKUP(G4203,Referencias!$C$4:$D$21,2,FALSE())","v":"Sin Categoría"},{"$f":"VLOOKUP(G4203,Referencias!$C$4:$E$21,3,FALSE())","v":4},"SC","Competición",{"$f":"VLOOKUP(C4203,Referencias!$B$24:$C$40,2,FALSE())","v":"V"}]
["4641096","León Ramo, María Antonia","C. Valenciana","D",{"$f":"VLOOKUP(G4204,Referencias!$C$4:$D$21,2,FALSE())","v":"Segunda Corazón"},{"$f":"VLOOKUP(G4204,Referencias!$C$4:$E$21,3,FALSE())","v":2},"2C","Competición",{"$f":"VLOOKUP(C4204,Referencias!$B$24:$C$40,2,FALSE())","v":"V"}]
["4641097","Deusa Escriva, Carmen","C. Valenciana","D",{"$f":"VLOOKUP(G4205,Referencias!$C$4:$D$21,2,FALSE())","v":"Segunda Diamante"},{"$f":"VLOOKUP(G4205,Referencias!$C$4:$E$21,3,FALSE())","v":2},"2D","Competición",{"$f":"VLOOKUP(C4205,Referencias!$B$24:$C$40,2,FALSE())","v":"V"}]
["4641103","Igual Aguirre, Mercedes","C. Valenciana","D",{"$f":"VLOOKUP(G4206,Referencias!$C$4:$D$21,2,FALSE())","v":"Sin Categoría"},{"$f":"VLOOKUP(G4206,Referencias!$C$4:$E$21,3,FALSE())","v":4},"SC","Competición",{"$f":"VLOOKUP(C4206,Referencias!$B$24:$C$40,2,FALSE())","v":"V"}]
["4641115","Utrilla Suarez, Amparo","C. Valenciana","D",{"$f":"VLOOKUP(G4207,Referencias!$C$4:$D$21,2,FALSE())","v":"Segunda Corazón"},{"$f":"VLOOKUP(G4207,Referencias!$C$4:$E$21,3,FALSE())","v":2},"2C","Competición",{"$f":"VLOOKUP(C4207,Referencias!$B$24:$C$40,2,FALSE())","v":"V"}]
["4641122","Ortiz Piles, María Dolores","C. Valenciana","D",{"$f":"VLOOKUP(G4208,Referencias!$C$4:$D$21,2,FALSE())","v":"Sin Categoría"},{"$f":"VLOOKUP(G4208,Referencias!$C$4:$E$21,3,FALSE())","v":4},"SC","Competición",{"$f":"VLOOKUP(C4208,Referencias!$B$24:$C$40,2,FALSE())","v":"V"}]
["4641128","Sopena Dasi, Gloria","C. Valenciana","D",{"$f":"VLOOKUP(G4209,Referencias!$C$4:$D$21,2,FALSE())","v":"Primera Picas"},{"$f":"VLOOKUP(G4209,Referencias!$C$4:$E$21,3,FALSE())","v":1},"1P","Competición",{"$f":"VLOOKUP(C4209,Referencias!$B$24:$C$40,2,FALSE())","v":"V"}]
["4641130","Beneyto Moreno, María José","C. Valenciana","D",{"$f":"VLOOKUP(G4210,Referencias!$C$4:$D$21,2,FALSE())","v":"Tercera Corazón"},{"$f":"VLOOKUP(G4210,Referencias!$C$4:$E$21,3,FALSE())","v":3},"3C","Competición",{"$f":"VLOOKUP(C4210,Referencias!$B$24:$C$40,2,FALSE())","v":"V"}]
["4641136","Daroz Casamayor, Carmen","C. Valenciana","D",{"$f":"VLOOKUP(G4211,Referencias!$C$4:$D$21,2,FALSE())","v":"Segunda Diamante"},{"$f":"VLOOKUP(G4211,Referencias!$C$4:$E$21,3,FALSE())","v":2},"2D","Competición",{"$f":"VLOOKUP(C4211,Referencias!$B$24:$C$40,2,FALSE())","v":"V"}]
["4641141","Montero Fraile, María Angeles","C. Valenciana","D",{"$f":"VLOOKUP(G4212,Referencias!$C$4:$D$21,2,FALSE())","v":"Sin Categoría"},{"$f":"VLOOKUP(G4212,Referencias!$C$4:$E$21,3,FALSE())","v":4},"SC","Competición",{"$f":"VLOOKUP(C4212,Referencias!$B$24:$C$40,2,FALSE())","v":"V"}]
["4641142","Saez Pérez, Pepa","C. Valenciana","D",{"$f":"VLOOKUP(G4213,Referencias!$C$4:$D$21,2,FALSE())","v":"Primera Diamante"},{"$f":"VLOOKUP(G4213,Referencias!$C$4:$E$21,3,FALSE())","v":1},"1D","Competición",{"$f":"VLOOKUP(C4213,Referencias!$B$24:$C$40,2,FALSE())","v":"V"}]
["4641144","Muñoz y Muñoz, Ana María","C. Valenciana","D",{"$f":"VLOOKUP(G4214,Referencias!$C$4:$D$21,2,FALSE())","v":"Sin Categoría"},{"$f":"VLOOKUP(G4214,Referencias!$C$4:$E$21,3,FALSE())","v":4},"SC","Competición",{"$f":"VLOOKUP(C4214,Referencias!$B$24:$C$40,2,FALSE())","v":"V"}]
["4641146","Olano Moliner, Ana","C. Valenciana","D",{"$f":"VLOOKUP(G4215,Referencias!$C$4:$D$21,2,FALSE())","v":"Primera Picas"},{"$f":"VLOOKUP(G4215,Referencias!$C$4:$E$21,3,FALSE())","v":1},"1P","Competición",{"$f":"VLOOKUP(C4215,Referencias!$B$24:$C$40,2,FALSE())","v":"V"}]
["4641147","Burriel de Orueta, Elvira","C. Valenciana","D",{"$f":"VLOOKUP(G4216,Referencias!$C$4:$D$21,2,FALSE())","v":"Primera Picas"},{"$f":"VLOOKUP(G4216,Referencias!$C$4:$E$21,3,FALSE())","v":1},"1P","Competición",{"$f":"VLOOKUP(C4216,Referencias!$B$24:$C$40,2,FALSE())","v":"V"}]
["4641161","Liddy, Brian","C. Valenciana","C",{"$f":"VLOOKUP(G4217,Referencias!$C$4:$D$21,2,FALSE())","v":"Primera Picas"},{"$f":"VLOOKUP(G4217,Referencias!$C$4:$E$21,3,FALSE())","v":1},"1P","Competición",{"$f":"VLOOKUP(C4217,Referencias!$B$24:$C$40,2,FALSE())","v":"V"}]
["4641171","Manglano Trenor, Pilar","C. Valenciana","D",{"$f":"VLOOKUP(G4218,Referencias!$C$4:$D$21,2,FALSE())","v":"Sin Categoría"},{"$f":"VLOOKUP(G4218,Referencias!$C$4:$E$21,3,FALSE())","v":4},"SC","Competición",{"$f":"VLOOKUP(C4218,Referencias!$B$24:$C$40,2,FALSE())","v":"V"}]
["4641175","Ballester Ríos, Andrés","C. Valenciana","C",{"$f":"VLOOKUP(G4219,Referencias!$C$4:$D$21,2,FALSE())","v":"Tercera Picas"},{"$f":"VLOOKUP(G4219,Referencias!$C$4:$E$21,3,FALSE())","v":3},"3P","Competición",{"$f":"VLOOKUP(C4219,Referencias!$B$24:$C$40,2,FALSE())","v":"V"}]
["4641204","Aquilino Mira, Ana María","C. Valenciana","D",{"$f":"VLOOKUP(G4220,Referencias!$C$4:$D$21,2,FALSE())","v":"Primera Picas"},{"$f":"VLOOKUP(G4220,Referencias!$C$4:$E$21,3,FALSE())","v":1},"1P","Competición",{"$f":"VLOOKUP(C4220,Referencias!$B$24:$C$40,2,FALSE())","v":"V"}]
["4641225","Grima Vadillo, Angela","C. Valenciana","D",{"$f":"VLOOKUP(G4221,Referencias!$C$4:$D$21,2,FALSE())","v":"Tercera Corazón"},{"$f":"VLOOKUP(G4221,Referencias!$C$4:$E$21,3,FALSE())","v":3},"3C","Competición",{"$f":"VLOOKUP(C4221,Referencias!$B$24:$C$40,2,FALSE())","v":"V"}]
["4641228","García Ruiz, Rosa Alicia","C. Valenciana","D",{"$f":"VLOOKUP(G4222,Referencias!$C$4:$D$21,2,FALSE())","v":"Segunda Diamante"},{"$f":"VLOOKUP(G4222,Referencias!$C$4:$E$21,3,FALSE())","v":2},"2D","Competición",{"$f":"VLOOKUP(C4222,Referencias!$B$24:$C$40,2,FALSE())","v":"V"}]
["4641230","Donat Amoros, Teresa","C. Valenciana","D",{"$f":"VLOOKUP(G4223,Referencias!$C$4:$D$21,2,FALSE())","v":"Tercera Picas"},{"$f":"VLOOKUP(G4223,Referencias!$C$4:$E$21,3,FALSE())","v":3},"3P","Competición",{"$f":"VLOOKUP(C4223,Referencias!$B$24:$C$40,2,FALSE())","v":"V"}]
["4641299","Plana Estruch, Francisco J.","C. Valenciana","C",{"$f":"VLOOKUP(G4224,Referencias!$C$4:$D$21,2,FALSE())","v":"Primera Corazón"},{"$f":"VLOOKUP(G4224,Referencias!$C$4:$E$21,3,FALSE())","v":1},"1C","Competición",{"$f":"VLOOKUP(C4224,Referencias!$B$24:$C$40,2,FALSE())","v":"V"}]
["4641304","Pinto Poch, Enrique","C. Valenciana","C",{"$f":"VLOOKUP(G4225,Referencias!$C$4:$D$21,2,FALSE())","v":"Primera Corazón"},{"$f":"VLOOKUP(G4225,Referencias!$C$4:$E$21,3,FALSE())","v":1},"1C","Competición",{"$f":"VLOOKUP(C4225,Referencias!$B$24:$C$40,2,FALSE())","v":"V"}]
["4641308","Villora Nicolau, Mª Josefa","C. Valenciana","D",{"$f":"VLOOKUP(G4226,Referencias!$C$4:$D$21,2,FALSE())","v":"Sin Categoría"},{"$f":"VLOOKUP(G4226,Referencias!$C$4:$E$21,3,FALSE())","v":4},"SC","Competición",{"$f":"VLOOKUP(C4226,Referencias!$B$24:$C$40,2,FALSE())","v":"V"}]
["4641310","Calvar, Ana Mª","C. Valenciana","D",{"$f":"VLOOKUP(G4227,Referencias!$C$4:$D$21,2,FALSE())","v":"Segunda Diamante"},{"$f":"VLOOKUP(G4227,Referencias!$C$4:$E$21,3,FALSE())","v":2},"2D","Competición",{"$f":"VLOOKUP(C4227,Referencias!$B$24:$C$40,2,FALSE())","v":"V"}]
["4641314","Ferrer Guerrero, Fina","C. Valenciana","D",{"$f":"VLOOKUP(G4228,Referencias!$C$4:$D$21,2,FALSE())","v":"Tercera Picas"},{"$f":"VLOOKUP(G4228,Referencias!$C$4:$E$21,3,FALSE())","v":3},"3P","Competición",{"$f":"VLOOKUP(C4228,Referencias!$B$24:$C$40,2,FALSE())","v":"V"}]
["4641339","LLombart Rosa, Mª Cruz","C. Valenciana","D",{"$f":"VLOOKUP(G4229,Referencias!$C$4:$D$21,2,FALSE())","v":"Segunda Diamante"},{"$f":"VLOOKUP(G4229,Referencias!$C$4:$E$21,3,FALSE())","v":2},"2D","Competición",{"$f":"VLOOKUP(C4229,Referencias!$B$24:$C$40,2,FALSE())","v":"V"}]
["4641340","de Diego Micola, Mª Dolores","C. Valenciana","D",{"$f":"VLOOKUP(G4230,Referencias!$C$4:$D$21,2,FALSE())","v":"Sin Categoría"},{"$f":"VLOOKUP(G4230,Referencias!$C$4:$E$21,3,FALSE())","v":4},"SC","Competición",{"$f":"VLOOKUP(C4230,Referencias!$B$24:$C$40,2,FALSE())","v":"V"}]
["4641348","Castaño Casanova, Gloria","C. Valenciana","D",{"$f":"VLOOKUP(G4231,Referencias!$C$4:$D$21,2,FALSE())","v":"Sin Categoría"},{"$f":"VLOOKUP(G4231,Referencias!$C$4:$E$21,3,FALSE())","v":4},"SC","Competición",{"$f":"VLOOKUP(C4231,Referencias!$B$24:$C$40,2,FALSE())","v":"V"}]
["4641358","García Bernia, Ana","C. Valenciana","D",{"$f":"VLOOKUP(G4232,Referencias!$C$4:$D$21,2,FALSE())","v":"Segunda Picas"},{"$f":"VLOOKUP(G4232,Referencias!$C$4:$E$21,3,FALSE())","v":2},"2P","Competición",{"$f":"VLOOKUP(C4232,Referencias!$B$24:$C$40,2,FALSE())","v":"V"}]
["4641363","Barnes Fernández, Marta","C. Valenciana","D",{"$f":"VLOOKUP(G4233,Referencias!$C$4:$D$21,2,FALSE())","v":"Primera Picas"},{"$f":"VLOOKUP(G4233,Referencias!$C$4:$E$21,3,FALSE())","v":1},"1P","Competición",{"$f":"VLOOKUP(C4233,Referencias!$B$24:$C$40,2,FALSE())","v":"V"}]
["4641369","Roca Tudela, Mª Paz","C. Valenciana","D",{"$f":"VLOOKUP(G4234,Referencias!$C$4:$D$21,2,FALSE())","v":"Segunda Corazón"},{"$f":"VLOOKUP(G4234,Referencias!$C$4:$E$21,3,FALSE())","v":2},"2C","Competición",{"$f":"VLOOKUP(C4234,Referencias!$B$24:$C$40,2,FALSE())","v":"V"}]
["4641380","Chulia Tamarit, Concha","C. Valenciana","D",{"$f":"VLOOKUP(G4235,Referencias!$C$4:$D$21,2,FALSE())","v":"Segunda Corazón"},{"$f":"VLOOKUP(G4235,Referencias!$C$4:$E$21,3,FALSE())","v":2},"2C","Competición",{"$f":"VLOOKUP(C4235,Referencias!$B$24:$C$40,2,FALSE())","v":"V"}]
["4641388","Granell Hernández, Fina","C. Valenciana","D",{"$f":"VLOOKUP(G4236,Referencias!$C$4:$D$21,2,FALSE())","v":"Tercera Picas"},{"$f":"VLOOKUP(G4236,Referencias!$C$4:$E$21,3,FALSE())","v":3},"3P","Competición",{"$f":"VLOOKUP(C4236,Referencias!$B$24:$C$40,2,FALSE())","v":"V"}]
["4641398","Gómez-Ferrer Bonet, Mónica","C. Valenciana","D",{"$f":"VLOOKUP(G4237,Referencias!$C$4:$D$21,2,FALSE())","v":"Sin Categoría"},{"$f":"VLOOKUP(G4237,Referencias!$C$4:$E$21,3,FALSE())","v":4},"SC","Competición",{"$f":"VLOOKUP(C4237,Referencias!$B$24:$C$40,2,FALSE())","v":"V"}]
["4641414","Marín Pérez, Mª Victoria","C. Valenciana","D",{"$f":"VLOOKUP(G4238,Referencias!$C$4:$D$21,2,FALSE())","v":"Segunda Diamante"},{"$f":"VLOOKUP(G4238,Referencias!$C$4:$E$21,3,FALSE())","v":2},"2D","Competición",{"$f":"VLOOKUP(C4238,Referencias!$B$24:$C$40,2,FALSE())","v":"V"}]
["4641430","Franco Solano, Mª Isabel","C. Valenciana","D",{"$f":"VLOOKUP(G4239,Referencias!$C$4:$D$21,2,FALSE())","v":"Tercera Picas"},{"$f":"VLOOKUP(G4239,Referencias!$C$4:$E$21,3,FALSE())","v":3},"3P","Competición",{"$f":"VLOOKUP(C4239,Referencias!$B$24:$C$40,2,FALSE())","v":"V"}]
["4641440","Plasencia Martorell, Mª José","C. Valenciana","D",{"$f":"VLOOKUP(G4240,Referencias!$C$4:$D$21,2,FALSE())","v":"Tercera Picas"},{"$f":"VLOOKUP(G4240,Referencias!$C$4:$E$21,3,FALSE())","v":3},"3P","Competición",{"$f":"VLOOKUP(C4240,Referencias!$B$24:$C$40,2,FALSE())","v":"V"}]
["4641465","Hahn Todd, Nuala","C. Valenciana","D",{"$f":"VLOOKUP(G4241,Referencias!$C$4:$D$21,2,FALSE())","v":"Tercera Picas"},{"$f":"VLOOKUP(G4241,Referencias!$C$4:$E$21,3,FALSE())","v":3},"3P","Competición",{"$f":"VLOOKUP(C4241,Referencias!$B$24:$C$40,2,FALSE())","v":"V"}]
["4641473","García Pérez, Jesús","C. Valenciana","C",{"$f":"VLOOKUP(G4242,Referencias!$C$4:$D$21,2,FALSE())","v":"Segunda Diamante"},{"$f":"VLOOKUP(G4242,Referencias!$C$4:$E$21,3,FALSE())","v":2},"2D","Competición",{"$f":"VLOOKUP(C4242,Referencias!$B$24:$C$40,2,FALSE())","v":"V"}]
["4641500","Echazarreta Guillen, Cary","C. Valenciana","D",{"$f":"VLOOKUP(G4243,Referencias!$C$4:$D$21,2,FALSE())","v":"Tercera Picas"},{"$f":"VLOOKUP(G4243,Referencias!$C$4:$E$21,3,FALSE())","v":3},"3P","Competición",{"$f":"VLOOKUP(C4243,Referencias!$B$24:$C$40,2,FALSE())","v":"V"}]
["4641505","Botella Arbona, Carmina","C. Valenciana","D",{"$f":"VLOOKUP(G4244,Referencias!$C$4:$D$21,2,FALSE())","v":"Primera Picas"},{"$f":"VLOOKUP(G4244,Referencias!$C$4:$E$21,3,FALSE())","v":1},"1P","Competición",{"$f":"VLOOKUP(C4244,Referencias!$B$24:$C$40,2,FALSE())","v":"V"}]
["4641509","Momparler Carrasco, Mª Angeles","C. Valenciana","D",{"$f":"VLOOKUP(G4245,Referencias!$C$4:$D$21,2,FALSE())","v":"Sin Categoría"},{"$f":"VLOOKUP(G4245,Referencias!$C$4:$E$21,3,FALSE())","v":4},"SC","Competición",{"$f":"VLOOKUP(C4245,Referencias!$B$24:$C$40,2,FALSE())","v":"V"}]
["4641510","Carbonell, Ana Mª","C. Valenciana","D",{"$f":"VLOOKUP(G4246,Referencias!$C$4:$D$21,2,FALSE())","v":"Segunda Diamante"},{"$f":"VLOOKUP(G4246,Referencias!$C$4:$E$21,3,FALSE())","v":2},"2D","Competición",{"$f":"VLOOKUP(C4246,Referencias!$B$24:$C$40,2,FALSE())","v":"V"}]
["4641520","López Rubio, Juana","C. Valenciana","D",{"$f":"VLOOKUP(G4247,Referencias!$C$4:$D$21,2,FALSE())","v":"Segunda Diamante"},{"$f":"VLOOKUP(G4247,Referencias!$C$4:$E$21,3,FALSE())","v":2},"2D","Competición",{"$f":"VLOOKUP(C4247,Referencias!$B$24:$C$40,2,FALSE())","v":"V"}]
["4641522","Gandia Montagut, Ana María","C. Valenciana","D",{"$f":"VLOOKUP(G4248,Referencias!$C$4:$D$21,2,FALSE())","v":"Segunda Diamante"},{"$f":"VLOOKUP(G4248,Referencias!$C$4:$E$21,3,FALSE())","v":2},"2D","Competición",{"$f":"VLOOKUP(C4248,Referencias!$B$24:$C$40,2,FALSE())","v":"V"}]
["4641541","Gonçalves Caballer, Pedro","C. Valenciana","C",{"$f":"VLOOKUP(G4249,Referencias!$C$4:$D$21,2,FALSE())","v":"Maestro Nacional Open"},{"$f":"VLOOKUP(G4249,Referencias!$C$4:$E$21,3,FALSE())","v":0},"MN-O","Competición",{"$f":"VLOOKUP(C4249,Referencias!$B$24:$C$40,2,FALSE())","v":"V"}]
["4641546","Ros Anoll, María Dolores","C. Valenciana","D",{"$f":"VLOOKUP(G4250,Referencias!$C$4:$D$21,2,FALSE())","v":"Segunda Corazón"},{"$f":"VLOOKUP(G4250,Referencias!$C$4:$E$21,3,FALSE())","v":2},"2C","Competición",{"$f":"VLOOKUP(C4250,Referencias!$B$24:$C$40,2,FALSE())","v":"V"}]
["4641576","Gil García, Olga","C. Valenciana","D",{"$f":"VLOOKUP(G4251,Referencias!$C$4:$D$21,2,FALSE())","v":"Segunda Picas"},{"$f":"VLOOKUP(G4251,Referencias!$C$4:$E$21,3,FALSE())","v":2},"2P","Competición",{"$f":"VLOOKUP(C4251,Referencias!$B$24:$C$40,2,FALSE())","v":"V"}]
["4641579","Donat Doménech, Julia","C. Valenciana","D",{"$f":"VLOOKUP(G4252,Referencias!$C$4:$D$21,2,FALSE())","v":"Tercera Corazón"},{"$f":"VLOOKUP(G4252,Referencias!$C$4:$E$21,3,FALSE())","v":3},"3C","Competición",{"$f":"VLOOKUP(C4252,Referencias!$B$24:$C$40,2,FALSE())","v":"V"}]
["4641588","Alcocer Turégano, Juan","C. Valenciana","C",{"$f":"VLOOKUP(G4253,Referencias!$C$4:$D$21,2,FALSE())","v":"Sin Categoría"},{"$f":"VLOOKUP(G4253,Referencias!$C$4:$E$21,3,FALSE())","v":4},"SC","Competición",{"$f":"VLOOKUP(C4253,Referencias!$B$24:$C$40,2,FALSE())","v":"V"}]
["4641589","Yuste Lis, Mari Carmen","C. Valenciana","D",{"$f":"VLOOKUP(G4254,Referencias!$C$4:$D$21,2,FALSE())","v":"Sin Categoría"},{"$f":"VLOOKUP(G4254,Referencias!$C$4:$E$21,3,FALSE())","v":4},"SC","Competición",{"$f":"VLOOKUP(C4254,Referencias!$B$24:$C$40,2,FALSE())","v":"V"}]
["4641596","Lanza Pérez, Mª Antonia","C. Valenciana","D",{"$f":"VLOOKUP(G4255,Referencias!$C$4:$D$21,2,FALSE())","v":"Sin Categoría"},{"$f":"VLOOKUP(G4255,Referencias!$C$4:$E$21,3,FALSE())","v":4},"SC","Competición",{"$f":"VLOOKUP(C4255,Referencias!$B$24:$C$40,2,FALSE())","v":"V"}]
["4641601","Salvador Dart, José","C. Valenciana","C",{"$f":"VLOOKUP(G4256,Referencias!$C$4:$D$21,2,FALSE())","v":"Segunda Corazón"},{"$f":"VLOOKUP(G4256,Referencias!$C$4:$E$21,3,FALSE())","v":2},"2C","Competición",{"$f":"VLOOKUP(C4256,Referencias!$B$24:$C$40,2,FALSE())","v":"V"}]
["4641607","Orozco Díaz, Eduardo","C. Valenciana","C",{"$f":"VLOOKUP(G4257,Referencias!$C$4:$D$21,2,FALSE())","v":"Tercera Corazón"},{"$f":"VLOOKUP(G4257,Referencias!$C$4:$E$21,3,FALSE())","v":3},"3C","Competición",{"$f":"VLOOKUP(C4257,Referencias!$B$24:$C$40,2,FALSE())","v":"V"}]
["4641613","Soriano Domínguez, Amparo","C. Valenciana","D",{"$f":"VLOOKUP(G4258,Referencias!$C$4:$D$21,2,FALSE())","v":"Primera Diamante"},{"$f":"VLOOKUP(G4258,Referencias!$C$4:$E$21,3,FALSE())","v":1},"1D","Competición",{"$f":"VLOOKUP(C4258,Referencias!$B$24:$C$40,2,FALSE())","v":"V"}]
["4641619","Guimera O´Dogherty, Matilde","Andaluza","D",{"$f":"VLOOKUP(G4259,Referencias!$C$4:$D$21,2,FALSE())","v":"Sin Categoría"},{"$f":"VLOOKUP(G4259,Referencias!$C$4:$E$21,3,FALSE())","v":4},"SC","Competición",{"$f":"VLOOKUP(C4259,Referencias!$B$24:$C$40,2,FALSE())","v":"A"}]
["4641624","Llobell Martínez, Cristina","C. Valenciana","D",{"$f":"VLOOKUP(G4260,Referencias!$C$4:$D$21,2,FALSE())","v":"Tercera Diamante"},{"$f":"VLOOKUP(G4260,Referencias!$C$4:$E$21,3,FALSE())","v":3},"3D","Competición",{"$f":"VLOOKUP(C4260,Referencias!$B$24:$C$40,2,FALSE())","v":"V"}]
["4641627","Sanchis Monserrat, Mª Amparo","C. Valenciana","D",{"$f":"VLOOKUP(G4261,Referencias!$C$4:$D$21,2,FALSE())","v":"Sin Categoría"},{"$f":"VLOOKUP(G4261,Referencias!$C$4:$E$21,3,FALSE())","v":4},"SC","Competición",{"$f":"VLOOKUP(C4261,Referencias!$B$24:$C$40,2,FALSE())","v":"V"}]
["4641628","Albert Tomás, Emilia","C. Valenciana","D",{"$f":"VLOOKUP(G4262,Referencias!$C$4:$D$21,2,FALSE())","v":"Segunda Picas"},{"$f":"VLOOKUP(G4262,Referencias!$C$4:$E$21,3,FALSE())","v":2},"2P","Competición",{"$f":"VLOOKUP(C4262,Referencias!$B$24:$C$40,2,FALSE())","v":"V"}]
["4641643","Masip Campos, Teresa","C. Valenciana","D",{"$f":"VLOOKUP(G4263,Referencias!$C$4:$D$21,2,FALSE())","v":"Sin Categoría"},{"$f":"VLOOKUP(G4263,Referencias!$C$4:$E$21,3,FALSE())","v":4},"SC","Competición",{"$f":"VLOOKUP(C4263,Referencias!$B$24:$C$40,2,FALSE())","v":"V"}]
["4641647","Lucena Tirado, Manuel","C. Valenciana","C",{"$f":"VLOOKUP(G4264,Referencias!$C$4:$D$21,2,FALSE())","v":"Segunda Diamante"},{"$f":"VLOOKUP(G4264,Referencias!$C$4:$E$21,3,FALSE())","v":2},"2D","Competición",{"$f":"VLOOKUP(C4264,Referencias!$B$24:$C$40,2,FALSE())","v":"V"}]
["4641648","Medina Arevalo, María del Carmen","C. Valenciana","D",{"$f":"VLOOKUP(G4265,Referencias!$C$4:$D$21,2,FALSE())","v":"Sin Categoría"},{"$f":"VLOOKUP(G4265,Referencias!$C$4:$E$21,3,FALSE())","v":4},"SC","Competición",{"$f":"VLOOKUP(C4265,Referencias!$B$24:$C$40,2,FALSE())","v":"V"}]
["4641652","Alonso Segura, Mª Carmen","C. Valenciana","D",{"$f":"VLOOKUP(G4266,Referencias!$C$4:$D$21,2,FALSE())","v":"Segunda Corazón"},{"$f":"VLOOKUP(G4266,Referencias!$C$4:$E$21,3,FALSE())","v":2},"2C","Competición",{"$f":"VLOOKUP(C4266,Referencias!$B$24:$C$40,2,FALSE())","v":"V"}]
["4641669","Moreno Torres, Purificación","C. Valenciana","D",{"$f":"VLOOKUP(G4267,Referencias!$C$4:$D$21,2,FALSE())","v":"Sin Categoría"},{"$f":"VLOOKUP(G4267,Referencias!$C$4:$E$21,3,FALSE())","v":4},"SC","Competición",{"$f":"VLOOKUP(C4267,Referencias!$B$24:$C$40,2,FALSE())","v":"V"}]
["4641674","Samaniego Masip, Teresa","C. Valenciana","D",{"$f":"VLOOKUP(G4268,Referencias!$C$4:$D$21,2,FALSE())","v":"Sin Categoría"},{"$f":"VLOOKUP(G4268,Referencias!$C$4:$E$21,3,FALSE())","v":4},"SC","Competición",{"$f":"VLOOKUP(C4268,Referencias!$B$24:$C$40,2,FALSE())","v":"V"}]
["4641681","Cantó Esteve, Evaristo","C. Valenciana","C",{"$f":"VLOOKUP(G4269,Referencias!$C$4:$D$21,2,FALSE())","v":"Tercera Diamante"},{"$f":"VLOOKUP(G4269,Referencias!$C$4:$E$21,3,FALSE())","v":3},"3D","Competición",{"$f":"VLOOKUP(C4269,Referencias!$B$24:$C$40,2,FALSE())","v":"V"}]
["4641686","Martin Sanchis, Mª Amparo","C. Valenciana","D",{"$f":"VLOOKUP(G4270,Referencias!$C$4:$D$21,2,FALSE())","v":"Tercera Corazón"},{"$f":"VLOOKUP(G4270,Referencias!$C$4:$E$21,3,FALSE())","v":3},"3C","Competición",{"$f":"VLOOKUP(C4270,Referencias!$B$24:$C$40,2,FALSE())","v":"V"}]
["4641689","Herrera Coyradas, Carmen","C. Valenciana","D",{"$f":"VLOOKUP(G4271,Referencias!$C$4:$D$21,2,FALSE())","v":"Segunda Corazón"},{"$f":"VLOOKUP(G4271,Referencias!$C$4:$E$21,3,FALSE())","v":2},"2C","Competición",{"$f":"VLOOKUP(C4271,Referencias!$B$24:$C$40,2,FALSE())","v":"V"}]
["4641692","Molina Estela, Josefina","C. Valenciana","D",{"$f":"VLOOKUP(G4272,Referencias!$C$4:$D$21,2,FALSE())","v":"Tercera Diamante"},{"$f":"VLOOKUP(G4272,Referencias!$C$4:$E$21,3,FALSE())","v":3},"3D","Competición",{"$f":"VLOOKUP(C4272,Referencias!$B$24:$C$40,2,FALSE())","v":"V"}]
["4641694","Martí Viaño, María Pilar","C. Valenciana","D",{"$f":"VLOOKUP(G4273,Referencias!$C$4:$D$21,2,FALSE())","v":"Tercera Diamante"},{"$f":"VLOOKUP(G4273,Referencias!$C$4:$E$21,3,FALSE())","v":3},"3D","Competición",{"$f":"VLOOKUP(C4273,Referencias!$B$24:$C$40,2,FALSE())","v":"V"}]
["4641695","Vicente Collados, Matilde","C. Valenciana","D",{"$f":"VLOOKUP(G4274,Referencias!$C$4:$D$21,2,FALSE())","v":"Tercera Diamante"},{"$f":"VLOOKUP(G4274,Referencias!$C$4:$E$21,3,FALSE())","v":3},"3D","Competición",{"$f":"VLOOKUP(C4274,Referencias!$B$24:$C$40,2,FALSE())","v":"V"}]
["4641696","Garcés Pérez, José Luis","C. Valenciana","C",{"$f":"VLOOKUP(G4275,Referencias!$C$4:$D$21,2,FALSE())","v":"Segunda Corazón"},{"$f":"VLOOKUP(G4275,Referencias!$C$4:$E$21,3,FALSE())","v":2},"2C","Competición",{"$f":"VLOOKUP(C4275,Referencias!$B$24:$C$40,2,FALSE())","v":"V"}]
["4641702","Miragall Escolano, María Emilia","C. Valenciana","D",{"$f":"VLOOKUP(G4276,Referencias!$C$4:$D$21,2,FALSE())","v":"Sin Categoría"},{"$f":"VLOOKUP(G4276,Referencias!$C$4:$E$21,3,FALSE())","v":4},"SC","Competición",{"$f":"VLOOKUP(C4276,Referencias!$B$24:$C$40,2,FALSE())","v":"V"}]
["4641710","Herreria de la Lastra, Vicente","C. Valenciana","C",{"$f":"VLOOKUP(G4277,Referencias!$C$4:$D$21,2,FALSE())","v":"Segunda Picas"},{"$f":"VLOOKUP(G4277,Referencias!$C$4:$E$21,3,FALSE())","v":2},"2P","Competición",{"$f":"VLOOKUP(C4277,Referencias!$B$24:$C$40,2,FALSE())","v":"V"}]
["4641728","McCabe McCully, Joanne","C. Valenciana","D",{"$f":"VLOOKUP(G4278,Referencias!$C$4:$D$21,2,FALSE())","v":"Tercera Corazón"},{"$f":"VLOOKUP(G4278,Referencias!$C$4:$E$21,3,FALSE())","v":3},"3C","Competición",{"$f":"VLOOKUP(C4278,Referencias!$B$24:$C$40,2,FALSE())","v":"V"}]
["4641739","Hernández Marco, José Luis","C. Valenciana","C",{"$f":"VLOOKUP(G4279,Referencias!$C$4:$D$21,2,FALSE())","v":"Segunda Diamante"},{"$f":"VLOOKUP(G4279,Referencias!$C$4:$E$21,3,FALSE())","v":2},"2D","Competición",{"$f":"VLOOKUP(C4279,Referencias!$B$24:$C$40,2,FALSE())","v":"V"}]
["4641744","Kociolek Montesinos, Kristine Barbara","C. Valenciana","D",{"$f":"VLOOKUP(G4280,Referencias!$C$4:$D$21,2,FALSE())","v":"Segunda Diamante"},{"$f":"VLOOKUP(G4280,Referencias!$C$4:$E$21,3,FALSE())","v":2},"2D","Competición",{"$f":"VLOOKUP(C4280,Referencias!$B$24:$C$40,2,FALSE())","v":"V"}]
["4641752","Pastor Seligra, Rosa","C. Valenciana","D",{"$f":"VLOOKUP(G4281,Referencias!$C$4:$D$21,2,FALSE())","v":"Sin Categoría"},{"$f":"VLOOKUP(G4281,Referencias!$C$4:$E$21,3,FALSE())","v":4},"SC","Competición",{"$f":"VLOOKUP(C4281,Referencias!$B$24:$C$40,2,FALSE())","v":"V"}]
["4641775","Carbonell, Elvira","C. Valenciana","D",{"$f":"VLOOKUP(G4282,Referencias!$C$4:$D$21,2,FALSE())","v":"Tercera Picas"},{"$f":"VLOOKUP(G4282,Referencias!$C$4:$E$21,3,FALSE())","v":3},"3P","Competición",{"$f":"VLOOKUP(C4282,Referencias!$B$24:$C$40,2,FALSE())","v":"V"}]
["4641776","Soria Giner, Juan Luis","C. Valenciana","C",{"$f":"VLOOKUP(G4283,Referencias!$C$4:$D$21,2,FALSE())","v":"Tercera Diamante"},{"$f":"VLOOKUP(G4283,Referencias!$C$4:$E$21,3,FALSE())","v":3},"3D","Competición",{"$f":"VLOOKUP(C4283,Referencias!$B$24:$C$40,2,FALSE())","v":"V"}]
["4641778","Caffarena Calvar, Ana","C. Valenciana","D",{"$f":"VLOOKUP(G4284,Referencias!$C$4:$D$21,2,FALSE())","v":"Tercera Picas"},{"$f":"VLOOKUP(G4284,Referencias!$C$4:$E$21,3,FALSE())","v":3},"3P","Competición",{"$f":"VLOOKUP(C4284,Referencias!$B$24:$C$40,2,FALSE())","v":"V"}]
["4641779","Palop Cardona, Amparo","C. Valenciana","D",{"$f":"VLOOKUP(G4285,Referencias!$C$4:$D$21,2,FALSE())","v":"Tercera Diamante"},{"$f":"VLOOKUP(G4285,Referencias!$C$4:$E$21,3,FALSE())","v":3},"3D","Competición",{"$f":"VLOOKUP(C4285,Referencias!$B$24:$C$40,2,FALSE())","v":"V"}]
["4641780","Sustaeta Gómez, Marichu","C. Valenciana","D",{"$f":"VLOOKUP(G4286,Referencias!$C$4:$D$21,2,FALSE())","v":"Tercera Diamante"},{"$f":"VLOOKUP(G4286,Referencias!$C$4:$E$21,3,FALSE())","v":3},"3D","Competición",{"$f":"VLOOKUP(C4286,Referencias!$B$24:$C$40,2,FALSE())","v":"V"}]
["4641781","Ustero Ares, Carmiña","C. Valenciana","D",{"$f":"VLOOKUP(G4287,Referencias!$C$4:$D$21,2,FALSE())","v":"Tercera Diamante"},{"$f":"VLOOKUP(G4287,Referencias!$C$4:$E$21,3,FALSE())","v":3},"3D","Competición",{"$f":"VLOOKUP(C4287,Referencias!$B$24:$C$40,2,FALSE())","v":"V"}]
["4641784","Espinosa Torres, Carmen","C. Valenciana","D",{"$f":"VLOOKUP(G4288,Referencias!$C$4:$D$21,2,FALSE())","v":"Tercera Corazón"},{"$f":"VLOOKUP(G4288,Referencias!$C$4:$E$21,3,FALSE())","v":3},"3C","Competición",{"$f":"VLOOKUP(C4288,Referencias!$B$24:$C$40,2,FALSE())","v":"V"}]
["4641788","Suau Barceló, Silvia","C. Valenciana","D",{"$f":"VLOOKUP(G4289,Referencias!$C$4:$D$21,2,FALSE())","v":"Tercera Corazón"},{"$f":"VLOOKUP(G4289,Referencias!$C$4:$E$21,3,FALSE())","v":3},"3C","Competición",{"$f":"VLOOKUP(C4289,Referencias!$B$24:$C$40,2,FALSE())","v":"V"}]
["4641792","Candela Sospedra, Margarita","C. Valenciana","D",{"$f":"VLOOKUP(G4290,Referencias!$C$4:$D$21,2,FALSE())","v":"Segunda Diamante"},{"$f":"VLOOKUP(G4290,Referencias!$C$4:$E$21,3,FALSE())","v":2},"2D","Competición",{"$f":"VLOOKUP(C4290,Referencias!$B$24:$C$40,2,FALSE())","v":"V"}]
["4641807","Albi Ibañez, Rafael","C. Valenciana","C",{"$f":"VLOOKUP(G4291,Referencias!$C$4:$D$21,2,FALSE())","v":"Tercera Picas"},{"$f":"VLOOKUP(G4291,Referencias!$C$4:$E$21,3,FALSE())","v":3},"3P","Competición",{"$f":"VLOOKUP(C4291,Referencias!$B$24:$C$40,2,FALSE())","v":"V"}]
["4641809","de Mateo Salcines, Pilar","C. Valenciana","D",{"$f":"VLOOKUP(G4292,Referencias!$C$4:$D$21,2,FALSE())","v":"Sin Categoría"},{"$f":"VLOOKUP(G4292,Referencias!$C$4:$E$21,3,FALSE())","v":4},"SC","Competición",{"$f":"VLOOKUP(C4292,Referencias!$B$24:$C$40,2,FALSE())","v":"V"}]
["4641812","Ferrer Valls, Lourdes","C. Valenciana","D",{"$f":"VLOOKUP(G4293,Referencias!$C$4:$D$21,2,FALSE())","v":"Tercera Diamante"},{"$f":"VLOOKUP(G4293,Referencias!$C$4:$E$21,3,FALSE())","v":3},"3D","Competición",{"$f":"VLOOKUP(C4293,Referencias!$B$24:$C$40,2,FALSE())","v":"V"}]
["4641814","González Cañamero, Isabel","C. Valenciana","D",{"$f":"VLOOKUP(G4294,Referencias!$C$4:$D$21,2,FALSE())","v":"Sin Categoría"},{"$f":"VLOOKUP(G4294,Referencias!$C$4:$E$21,3,FALSE())","v":4},"SC","Competición",{"$f":"VLOOKUP(C4294,Referencias!$B$24:$C$40,2,FALSE())","v":"V"}]
["4641815","Hurtado Ros, Nora","C. Valenciana","D",{"$f":"VLOOKUP(G4295,Referencias!$C$4:$D$21,2,FALSE())","v":"Sin Categoría"},{"$f":"VLOOKUP(G4295,Referencias!$C$4:$E$21,3,FALSE())","v":4},"SC","Competición",{"$f":"VLOOKUP(C4295,Referencias!$B$24:$C$40,2,FALSE())","v":"V"}]
["4641819","Llobet González-Mataix, Mercedes","C. Valenciana","D",{"$f":"VLOOKUP(G4296,Referencias!$C$4:$D$21,2,FALSE())","v":"Sin Categoría"},{"$f":"VLOOKUP(G4296,Referencias!$C$4:$E$21,3,FALSE())","v":4},"SC","Competición",{"$f":"VLOOKUP(C4296,Referencias!$B$24:$C$40,2,FALSE())","v":"V"}]
["4641821","Sevilla Merino, Teresa","C. Valenciana","D",{"$f":"VLOOKUP(G4297,Referencias!$C$4:$D$21,2,FALSE())","v":"Tercera Picas"},{"$f":"VLOOKUP(G4297,Referencias!$C$4:$E$21,3,FALSE())","v":3},"3P","Competición",{"$f":"VLOOKUP(C4297,Referencias!$B$24:$C$40,2,FALSE())","v":"V"}]
["4641826","Corominas Navarro, Julia","C. Valenciana","D",{"$f":"VLOOKUP(G4298,Referencias!$C$4:$D$21,2,FALSE())","v":"Tercera Diamante"},{"$f":"VLOOKUP(G4298,Referencias!$C$4:$E$21,3,FALSE())","v":3},"3D","Competición",{"$f":"VLOOKUP(C4298,Referencias!$B$24:$C$40,2,FALSE())","v":"V"}]
["4641827","Micallef, Diamantine","C. Valenciana","D",{"$f":"VLOOKUP(G4299,Referencias!$C$4:$D$21,2,FALSE())","v":"Segunda Diamante"},{"$f":"VLOOKUP(G4299,Referencias!$C$4:$E$21,3,FALSE())","v":2},"2D","Competición",{"$f":"VLOOKUP(C4299,Referencias!$B$24:$C$40,2,FALSE())","v":"V"}]
["4641828","Perales Luis, Pepa","C. Valenciana","D",{"$f":"VLOOKUP(G4300,Referencias!$C$4:$D$21,2,FALSE())","v":"Segunda Diamante"},{"$f":"VLOOKUP(G4300,Referencias!$C$4:$E$21,3,FALSE())","v":2},"2D","Competición",{"$f":"VLOOKUP(C4300,Referencias!$B$24:$C$40,2,FALSE())","v":"V"}]
["4641830","Montaner Ribes, Carmen","C. Valenciana","D",{"$f":"VLOOKUP(G4301,Referencias!$C$4:$D$21,2,FALSE())","v":"Tercera Corazón"},{"$f":"VLOOKUP(G4301,Referencias!$C$4:$E$21,3,FALSE())","v":3},"3C","Competición",{"$f":"VLOOKUP(C4301,Referencias!$B$24:$C$40,2,FALSE())","v":"V"}]
["4641833","Espuig Bru, Alberto","C. Valenciana","C",{"$f":"VLOOKUP(G4302,Referencias!$C$4:$D$21,2,FALSE())","v":"Segunda Diamante"},{"$f":"VLOOKUP(G4302,Referencias!$C$4:$E$21,3,FALSE())","v":2},"2D","Competición",{"$f":"VLOOKUP(C4302,Referencias!$B$24:$C$40,2,FALSE())","v":"V"}]
["4641834","Zamorano Corral, Rosa","C. Valenciana","D",{"$f":"VLOOKUP(G4303,Referencias!$C$4:$D$21,2,FALSE())","v":"Sin Categoría"},{"$f":"VLOOKUP(G4303,Referencias!$C$4:$E$21,3,FALSE())","v":4},"SC","Competición",{"$f":"VLOOKUP(C4303,Referencias!$B$24:$C$40,2,FALSE())","v":"V"}]
["4641837","Tellols Pons, Carmen","C. Valenciana","D",{"$f":"VLOOKUP(G4304,Referencias!$C$4:$D$21,2,FALSE())","v":"Segunda Picas"},{"$f":"VLOOKUP(G4304,Referencias!$C$4:$E$21,3,FALSE())","v":2},"2P","Competición",{"$f":"VLOOKUP(C4304,Referencias!$B$24:$C$40,2,FALSE())","v":"V"}]
["4641838","Ordiñaga Hernández, Rosario","C. Valenciana","D",{"$f":"VLOOKUP(G4305,Referencias!$C$4:$D$21,2,FALSE())","v":"Tercera Picas"},{"$f":"VLOOKUP(G4305,Referencias!$C$4:$E$21,3,FALSE())","v":3},"3P","Competición",{"$f":"VLOOKUP(C4305,Referencias!$B$24:$C$40,2,FALSE())","v":"V"}]
["4641845","García Bonfill, Regina","C. Valenciana","D",{"$f":"VLOOKUP(G4306,Referencias!$C$4:$D$21,2,FALSE())","v":"Tercera Diamante"},{"$f":"VLOOKUP(G4306,Referencias!$C$4:$E$21,3,FALSE())","v":3},"3D","Competición",{"$f":"VLOOKUP(C4306,Referencias!$B$24:$C$40,2,FALSE())","v":"V"}]
["4641857","Bayo Gonzalo, Conchin","C. Valenciana","D",{"$f":"VLOOKUP(G4307,Referencias!$C$4:$D$21,2,FALSE())","v":"Tercera Diamante"},{"$f":"VLOOKUP(G4307,Referencias!$C$4:$E$21,3,FALSE())","v":3},"3D","Competición",{"$f":"VLOOKUP(C4307,Referencias!$B$24:$C$40,2,FALSE())","v":"V"}]
["4641858","Cortes Guillén, Maribel","C. Valenciana","D",{"$f":"VLOOKUP(G4308,Referencias!$C$4:$D$21,2,FALSE())","v":"Tercera Diamante"},{"$f":"VLOOKUP(G4308,Referencias!$C$4:$E$21,3,FALSE())","v":3},"3D","Competición",{"$f":"VLOOKUP(C4308,Referencias!$B$24:$C$40,2,FALSE())","v":"V"}]
["4641879","Espejo Martínez, Luis","C. Valenciana","C",{"$f":"VLOOKUP(G4309,Referencias!$C$4:$D$21,2,FALSE())","v":"Tercera Picas"},{"$f":"VLOOKUP(G4309,Referencias!$C$4:$E$21,3,FALSE())","v":3},"3P","Competición",{"$f":"VLOOKUP(C4309,Referencias!$B$24:$C$40,2,FALSE())","v":"V"}]
["4641885","Feltrer Polo, Mª Carmen","C. Valenciana","D",{"$f":"VLOOKUP(G4310,Referencias!$C$4:$D$21,2,FALSE())","v":"Sin Categoría"},{"$f":"VLOOKUP(G4310,Referencias!$C$4:$E$21,3,FALSE())","v":4},"SC","Competición",{"$f":"VLOOKUP(C4310,Referencias!$B$24:$C$40,2,FALSE())","v":"V"}]
["4641886","Barnes Fernández, Beatríz","C. Valenciana","D",{"$f":"VLOOKUP(G4311,Referencias!$C$4:$D$21,2,FALSE())","v":"Sin Categoría"},{"$f":"VLOOKUP(G4311,Referencias!$C$4:$E$21,3,FALSE())","v":4},"SC","Competición",{"$f":"VLOOKUP(C4311,Referencias!$B$24:$C$40,2,FALSE())","v":"V"}]
["4641890","Fornas Sorli, Rosa María","C. Valenciana","D",{"$f":"VLOOKUP(G4312,Referencias!$C$4:$D$21,2,FALSE())","v":"Sin Categoría"},{"$f":"VLOOKUP(G4312,Referencias!$C$4:$E$21,3,FALSE())","v":4},"SC","Competición",{"$f":"VLOOKUP(C4312,Referencias!$B$24:$C$40,2,FALSE())","v":"V"}]
["4641894","Vielba García, Felipe","C. Valenciana","C",{"$f":"VLOOKUP(G4313,Referencias!$C$4:$D$21,2,FALSE())","v":"Segunda Diamante"},{"$f":"VLOOKUP(G4313,Referencias!$C$4:$E$21,3,FALSE())","v":2},"2D","Competición",{"$f":"VLOOKUP(C4313,Referencias!$B$24:$C$40,2,FALSE())","v":"V"}]
["4641896","Merino Vélez, Ana","C. Valenciana","D",{"$f":"VLOOKUP(G4314,Referencias!$C$4:$D$21,2,FALSE())","v":"Tercera Picas"},{"$f":"VLOOKUP(G4314,Referencias!$C$4:$E$21,3,FALSE())","v":3},"3P","Competición",{"$f":"VLOOKUP(C4314,Referencias!$B$24:$C$40,2,FALSE())","v":"V"}]
["4641897","Benais Gaines, Leila","C. Valenciana","D",{"$f":"VLOOKUP(G4315,Referencias!$C$4:$D$21,2,FALSE())","v":"Segunda Corazón"},{"$f":"VLOOKUP(G4315,Referencias!$C$4:$E$21,3,FALSE())","v":2},"2C","Competición",{"$f":"VLOOKUP(C4315,Referencias!$B$24:$C$40,2,FALSE())","v":"V"}]
["4641902","Catalá Ripoll, María","C. Valenciana","D",{"$f":"VLOOKUP(G4316,Referencias!$C$4:$D$21,2,FALSE())","v":"Sin Categoría"},{"$f":"VLOOKUP(G4316,Referencias!$C$4:$E$21,3,FALSE())","v":4},"SC","Competición",{"$f":"VLOOKUP(C4316,Referencias!$B$24:$C$40,2,FALSE())","v":"V"}]
["4641910","LLombart Rosa, Carmen","C. Valenciana","D",{"$f":"VLOOKUP(G4317,Referencias!$C$4:$D$21,2,FALSE())","v":"Sin Categoría"},{"$f":"VLOOKUP(G4317,Referencias!$C$4:$E$21,3,FALSE())","v":4},"SC","Competición",{"$f":"VLOOKUP(C4317,Referencias!$B$24:$C$40,2,FALSE())","v":"V"}]
["4641911","Llombart Rosa, Paz","C. Valenciana","D",{"$f":"VLOOKUP(G4318,Referencias!$C$4:$D$21,2,FALSE())","v":"Tercera Diamante"},{"$f":"VLOOKUP(G4318,Referencias!$C$4:$E$21,3,FALSE())","v":3},"3D","Competición",{"$f":"VLOOKUP(C4318,Referencias!$B$24:$C$40,2,FALSE())","v":"V"}]
["4641912","Fornas Sorli, Carmen","C. Valenciana","D",{"$f":"VLOOKUP(G4319,Referencias!$C$4:$D$21,2,FALSE())","v":"Sin Categoría"},{"$f":"VLOOKUP(G4319,Referencias!$C$4:$E$21,3,FALSE())","v":4},"SC","Competición",{"$f":"VLOOKUP(C4319,Referencias!$B$24:$C$40,2,FALSE())","v":"V"}]
["4641915","García Carcelle, Carmen","C. Valenciana","D",{"$f":"VLOOKUP(G4320,Referencias!$C$4:$D$21,2,FALSE())","v":"Sin Categoría"},{"$f":"VLOOKUP(G4320,Referencias!$C$4:$E$21,3,FALSE())","v":4},"SC","Competición",{"$f":"VLOOKUP(C4320,Referencias!$B$24:$C$40,2,FALSE())","v":"V"}]
["4641916","Bejarano Cuesta, Blanca Elena","C. Valenciana","D",{"$f":"VLOOKUP(G4321,Referencias!$C$4:$D$21,2,FALSE())","v":"Sin Categoría"},{"$f":"VLOOKUP(G4321,Referencias!$C$4:$E$21,3,FALSE())","v":4},"SC","Competición",{"$f":"VLOOKUP(C4321,Referencias!$B$24:$C$40,2,FALSE())","v":"V"}]
["4641920","Sanz Villalba, Mª Dolores","C. Valenciana","D",{"$f":"VLOOKUP(G4322,Referencias!$C$4:$D$21,2,FALSE())","v":"Sin Categoría"},{"$f":"VLOOKUP(G4322,Referencias!$C$4:$E$21,3,FALSE())","v":4},"SC","Competición",{"$f":"VLOOKUP(C4322,Referencias!$B$24:$C$40,2,FALSE())","v":"V"}]
["4641921","Sánchez Martínez, Mª Isabel","C. Valenciana","D",{"$f":"VLOOKUP(G4323,Referencias!$C$4:$D$21,2,FALSE())","v":"Sin Categoría"},{"$f":"VLOOKUP(G4323,Referencias!$C$4:$E$21,3,FALSE())","v":4},"SC","Competición",{"$f":"VLOOKUP(C4323,Referencias!$B$24:$C$40,2,FALSE())","v":"V"}]
["4641922","Miragall Escolano, Mª Teresa ","C. Valenciana","D",{"$f":"VLOOKUP(G4324,Referencias!$C$4:$D$21,2,FALSE())","v":"Sin Categoría"},{"$f":"VLOOKUP(G4324,Referencias!$C$4:$E$21,3,FALSE())","v":4},"SC","Competición",{"$f":"VLOOKUP(C4324,Referencias!$B$24:$C$40,2,FALSE())","v":"V"}]
["4641927","Ruiz Vera, Fernanda Carmen","C. Valenciana","D",{"$f":"VLOOKUP(G4325,Referencias!$C$4:$D$21,2,FALSE())","v":"Sin Categoría"},{"$f":"VLOOKUP(G4325,Referencias!$C$4:$E$21,3,FALSE())","v":4},"SC","Competición",{"$f":"VLOOKUP(C4325,Referencias!$B$24:$C$40,2,FALSE())","v":"V"}]
["4641928","Kempe, Toby Nicholas","C. Valenciana","C",{"$f":"VLOOKUP(G4326,Referencias!$C$4:$D$21,2,FALSE())","v":"Segunda Corazón"},{"$f":"VLOOKUP(G4326,Referencias!$C$4:$E$21,3,FALSE())","v":2},"2C","Competición",{"$f":"VLOOKUP(C4326,Referencias!$B$24:$C$40,2,FALSE())","v":"V"}]
["4641932","Aparicio Cercos, Cristina","C. Valenciana","D",{"$f":"VLOOKUP(G4327,Referencias!$C$4:$D$21,2,FALSE())","v":"Tercera Diamante"},{"$f":"VLOOKUP(G4327,Referencias!$C$4:$E$21,3,FALSE())","v":3},"3D","Competición",{"$f":"VLOOKUP(C4327,Referencias!$B$24:$C$40,2,FALSE())","v":"V"}]
["4641943","Pin Arboledas, Nuria","C. Valenciana","D",{"$f":"VLOOKUP(G4328,Referencias!$C$4:$D$21,2,FALSE())","v":"Tercera Diamante"},{"$f":"VLOOKUP(G4328,Referencias!$C$4:$E$21,3,FALSE())","v":3},"3D","Competición",{"$f":"VLOOKUP(C4328,Referencias!$B$24:$C$40,2,FALSE())","v":"V"}]
["4641944","Sempere Palacios, Gemma","C. Valenciana","D",{"$f":"VLOOKUP(G4329,Referencias!$C$4:$D$21,2,FALSE())","v":"Tercera Diamante"},{"$f":"VLOOKUP(G4329,Referencias!$C$4:$E$21,3,FALSE())","v":3},"3D","Competición",{"$f":"VLOOKUP(C4329,Referencias!$B$24:$C$40,2,FALSE())","v":"V"}]
["4641945","Azpilicueta Arraiza, Guadalupe","C. Valenciana","D",{"$f":"VLOOKUP(G4330,Referencias!$C$4:$D$21,2,FALSE())","v":"Tercera Diamante"},{"$f":"VLOOKUP(G4330,Referencias!$C$4:$E$21,3,FALSE())","v":3},"3D","Competición",{"$f":"VLOOKUP(C4330,Referencias!$B$24:$C$40,2,FALSE())","v":"V"}]
["4641946","Ribes Alamar, Luisa","C. Valenciana","D",{"$f":"VLOOKUP(G4331,Referencias!$C$4:$D$21,2,FALSE())","v":"Tercera Diamante"},{"$f":"VLOOKUP(G4331,Referencias!$C$4:$E$21,3,FALSE())","v":3},"3D","Competición",{"$f":"VLOOKUP(C4331,Referencias!$B$24:$C$40,2,FALSE())","v":"V"}]
["4641947","Pavlushko, Olga","C. Valenciana","D",{"$f":"VLOOKUP(G4332,Referencias!$C$4:$D$21,2,FALSE())","v":"Maestro Mundial Damas"},{"$f":"VLOOKUP(G4332,Referencias!$C$4:$E$21,3,FALSE())","v":0},"MM-D","Competición",{"$f":"VLOOKUP(C4332,Referencias!$B$24:$C$40,2,FALSE())","v":"V"}]
["4641948","Ivanov, Anatolii","C. Valenciana","C",{"$f":"VLOOKUP(G4333,Referencias!$C$4:$D$21,2,FALSE())","v":"Primera Corazón"},{"$f":"VLOOKUP(G4333,Referencias!$C$4:$E$21,3,FALSE())","v":1},"1C","Competición",{"$f":"VLOOKUP(C4333,Referencias!$B$24:$C$40,2,FALSE())","v":"V"}]
["4641954","Noyes Brown, Marilyn Renee","C. Valenciana","D",{"$f":"VLOOKUP(G4334,Referencias!$C$4:$D$21,2,FALSE())","v":"Sin Categoría"},{"$f":"VLOOKUP(G4334,Referencias!$C$4:$E$21,3,FALSE())","v":4},"SC","Competición",{"$f":"VLOOKUP(C4334,Referencias!$B$24:$C$40,2,FALSE())","v":"V"}]
["4641957","San Juan Pedraza, Susana ","C. Valenciana","D",{"$f":"VLOOKUP(G4335,Referencias!$C$4:$D$21,2,FALSE())","v":"Tercera Diamante"},{"$f":"VLOOKUP(G4335,Referencias!$C$4:$E$21,3,FALSE())","v":3},"3D","Competición",{"$f":"VLOOKUP(C4335,Referencias!$B$24:$C$40,2,FALSE())","v":"V"}]
["4641959","Pérez-Valls Valls-Taberner, Marta","C. Valenciana","D",{"$f":"VLOOKUP(G4336,Referencias!$C$4:$D$21,2,FALSE())","v":"Segunda Corazón"},{"$f":"VLOOKUP(G4336,Referencias!$C$4:$E$21,3,FALSE())","v":2},"2C","Competición",{"$f":"VLOOKUP(C4336,Referencias!$B$24:$C$40,2,FALSE())","v":"V"}]
["4641966","Breva Iscla, Carmen","C. Valenciana","D",{"$f":"VLOOKUP(G4337,Referencias!$C$4:$D$21,2,FALSE())","v":"Tercera Diamante"},{"$f":"VLOOKUP(G4337,Referencias!$C$4:$E$21,3,FALSE())","v":3},"3D","Competición",{"$f":"VLOOKUP(C4337,Referencias!$B$24:$C$40,2,FALSE())","v":"V"}]
["4641967","Botella Arbona, Cristina","C. Valenciana","D",{"$f":"VLOOKUP(G4338,Referencias!$C$4:$D$21,2,FALSE())","v":"Tercera Diamante"},{"$f":"VLOOKUP(G4338,Referencias!$C$4:$E$21,3,FALSE())","v":3},"3D","Competición",{"$f":"VLOOKUP(C4338,Referencias!$B$24:$C$40,2,FALSE())","v":"V"}]
["4646202","Santos Pelegrín, María del Carmen","C. Valenciana","D",{"$f":"VLOOKUP(G4339,Referencias!$C$4:$D$21,2,FALSE())","v":"Maestro Nacional Damas"},{"$f":"VLOOKUP(G4339,Referencias!$C$4:$E$21,3,FALSE())","v":0},"MN-D","Competición",{"$f":"VLOOKUP(C4339,Referencias!$B$24:$C$40,2,FALSE())","v":"V"}]
["4646204","Rubio Vázquez, Carmen","C. Valenciana","D",{"$f":"VLOOKUP(G4340,Referencias!$C$4:$D$21,2,FALSE())","v":"Primera Corazón"},{"$f":"VLOOKUP(G4340,Referencias!$C$4:$E$21,3,FALSE())","v":1},"1C","Competición",{"$f":"VLOOKUP(C4340,Referencias!$B$24:$C$40,2,FALSE())","v":"V"}]
["4646217","Matut Cubillo, M. Luisa","C. Valenciana","D",{"$f":"VLOOKUP(G4341,Referencias!$C$4:$D$21,2,FALSE())","v":"Maestro Nacional Damas"},{"$f":"VLOOKUP(G4341,Referencias!$C$4:$E$21,3,FALSE())","v":0},"MN-D","Competición",{"$f":"VLOOKUP(C4341,Referencias!$B$24:$C$40,2,FALSE())","v":"V"}]
["4646228","Barona Fleta, José Ignacio","C. Valenciana","C",{"$f":"VLOOKUP(G4342,Referencias!$C$4:$D$21,2,FALSE())","v":"Tercera Picas"},{"$f":"VLOOKUP(G4342,Referencias!$C$4:$E$21,3,FALSE())","v":3},"3P","Competición",{"$f":"VLOOKUP(C4342,Referencias!$B$24:$C$40,2,FALSE())","v":"V"}]
["4646239","Gimeno de Archer, Aurora","C. Valenciana","D",{"$f":"VLOOKUP(G4343,Referencias!$C$4:$D$21,2,FALSE())","v":"Sin Categoría"},{"$f":"VLOOKUP(G4343,Referencias!$C$4:$E$21,3,FALSE())","v":4},"SC","Honorífica",{"$f":"VLOOKUP(C4343,Referencias!$B$24:$C$40,2,FALSE())","v":"V"}]
["4646244","Reig Boix, Juan Carlos","C. Valenciana","C",{"$f":"VLOOKUP(G4344,Referencias!$C$4:$D$21,2,FALSE())","v":"Primera Corazón"},{"$f":"VLOOKUP(G4344,Referencias!$C$4:$E$21,3,FALSE())","v":1},"1C","Competición",{"$f":"VLOOKUP(C4344,Referencias!$B$24:$C$40,2,FALSE())","v":"V"}]
["4646264","Archer  Gimeno, Ana","C. Valenciana","D",{"$f":"VLOOKUP(G4345,Referencias!$C$4:$D$21,2,FALSE())","v":"Segunda Picas"},{"$f":"VLOOKUP(G4345,Referencias!$C$4:$E$21,3,FALSE())","v":2},"2P","Competición",{"$f":"VLOOKUP(C4345,Referencias!$B$24:$C$40,2,FALSE())","v":"V"}]
["4646274","Lejarraga de Barona, Amaya","C. Valenciana","D",{"$f":"VLOOKUP(G4346,Referencias!$C$4:$D$21,2,FALSE())","v":"Primera Picas"},{"$f":"VLOOKUP(G4346,Referencias!$C$4:$E$21,3,FALSE())","v":1},"1P","Competición",{"$f":"VLOOKUP(C4346,Referencias!$B$24:$C$40,2,FALSE())","v":"V"}]
["4646299","Pérez-Victoria Arberola, Amalia","C. Valenciana","D",{"$f":"VLOOKUP(G4347,Referencias!$C$4:$D$21,2,FALSE())","v":"Tercera Diamante"},{"$f":"VLOOKUP(G4347,Referencias!$C$4:$E$21,3,FALSE())","v":3},"3D","Competición",{"$f":"VLOOKUP(C4347,Referencias!$B$24:$C$40,2,FALSE())","v":"V"}]
["4646301","Termens Gamarra, José Luis","C. Valenciana","C",{"$f":"VLOOKUP(G4348,Referencias!$C$4:$D$21,2,FALSE())","v":"Segunda Diamante"},{"$f":"VLOOKUP(G4348,Referencias!$C$4:$E$21,3,FALSE())","v":2},"2D","Competición",{"$f":"VLOOKUP(C4348,Referencias!$B$24:$C$40,2,FALSE())","v":"V"}]
["4646302","Mas de Termens, M. Dolores","C. Valenciana","D",{"$f":"VLOOKUP(G4349,Referencias!$C$4:$D$21,2,FALSE())","v":"Sin Categoría"},{"$f":"VLOOKUP(G4349,Referencias!$C$4:$E$21,3,FALSE())","v":4},"SC","Competición",{"$f":"VLOOKUP(C4349,Referencias!$B$24:$C$40,2,FALSE())","v":"V"}]
["4646310","Archer Gimeno, Aurora","C. Valenciana","D",{"$f":"VLOOKUP(G4350,Referencias!$C$4:$D$21,2,FALSE())","v":"Primera Diamante"},{"$f":"VLOOKUP(G4350,Referencias!$C$4:$E$21,3,FALSE())","v":1},"1D","Competición",{"$f":"VLOOKUP(C4350,Referencias!$B$24:$C$40,2,FALSE())","v":"V"}]
["4646312","Baeza Casado, Eugenia","C. Valenciana","D",{"$f":"VLOOKUP(G4351,Referencias!$C$4:$D$21,2,FALSE())","v":"Primera Picas"},{"$f":"VLOOKUP(G4351,Referencias!$C$4:$E$21,3,FALSE())","v":1},"1P","Competición",{"$f":"VLOOKUP(C4351,Referencias!$B$24:$C$40,2,FALSE())","v":"V"}]
["4646314","Caballer Lliso, Matilde","C. Valenciana","D",{"$f":"VLOOKUP(G4352,Referencias!$C$4:$D$21,2,FALSE())","v":"Sin Categoría"},{"$f":"VLOOKUP(G4352,Referencias!$C$4:$E$21,3,FALSE())","v":4},"SC","Competición",{"$f":"VLOOKUP(C4352,Referencias!$B$24:$C$40,2,FALSE())","v":"V"}]
["4646331","Caballer Lliso, Elena","C. Valenciana","D",{"$f":"VLOOKUP(G4353,Referencias!$C$4:$D$21,2,FALSE())","v":"Primera Diamante"},{"$f":"VLOOKUP(G4353,Referencias!$C$4:$E$21,3,FALSE())","v":1},"1D","Competición",{"$f":"VLOOKUP(C4353,Referencias!$B$24:$C$40,2,FALSE())","v":"V"}]
["4646333","Pardo Alonso, Teresa","C. Valenciana","D",{"$f":"VLOOKUP(G4354,Referencias!$C$4:$D$21,2,FALSE())","v":"Primera Corazón"},{"$f":"VLOOKUP(G4354,Referencias!$C$4:$E$21,3,FALSE())","v":1},"1C","Competición",{"$f":"VLOOKUP(C4354,Referencias!$B$24:$C$40,2,FALSE())","v":"V"}]
["4771003","Pastor, Tita","Castilla y León","D",{"$f":"VLOOKUP(G4355,Referencias!$C$4:$D$21,2,FALSE())","v":"Primera Diamante"},{"$f":"VLOOKUP(G4355,Referencias!$C$4:$E$21,3,FALSE())","v":1},"1D","Competición",{"$f":"VLOOKUP(C4355,Referencias!$B$24:$C$40,2,FALSE())","v":"CL"}]
["4771031","Mazariegos de la Maza, Mª Victoria","Castilla y León","D",{"$f":"VLOOKUP(G4356,Referencias!$C$4:$D$21,2,FALSE())","v":"Segunda Diamante"},{"$f":"VLOOKUP(G4356,Referencias!$C$4:$E$21,3,FALSE())","v":2},"2D","Competición",{"$f":"VLOOKUP(C4356,Referencias!$B$24:$C$40,2,FALSE())","v":"CL"}]
["4771032","Tremiño Alonso, Paula","Castilla y León","D",{"$f":"VLOOKUP(G4357,Referencias!$C$4:$D$21,2,FALSE())","v":"Segunda Corazón"},{"$f":"VLOOKUP(G4357,Referencias!$C$4:$E$21,3,FALSE())","v":2},"2C","Competición",{"$f":"VLOOKUP(C4357,Referencias!$B$24:$C$40,2,FALSE())","v":"CL"}]
["4771045","Ruiz de la Red, Ana","Castilla y León","D",{"$f":"VLOOKUP(G4358,Referencias!$C$4:$D$21,2,FALSE())","v":"Segunda Diamante"},{"$f":"VLOOKUP(G4358,Referencias!$C$4:$E$21,3,FALSE())","v":2},"2D","Competición",{"$f":"VLOOKUP(C4358,Referencias!$B$24:$C$40,2,FALSE())","v":"CL"}]
["4771082","Herrero Izquierdo, Belén","Castilla y León","D",{"$f":"VLOOKUP(G4359,Referencias!$C$4:$D$21,2,FALSE())","v":"Primera Picas"},{"$f":"VLOOKUP(G4359,Referencias!$C$4:$E$21,3,FALSE())","v":1},"1P","Competición",{"$f":"VLOOKUP(C4359,Referencias!$B$24:$C$40,2,FALSE())","v":"CL"}]
["4771104","Vallejo Poussint, Aurora","Castilla y León","D",{"$f":"VLOOKUP(G4360,Referencias!$C$4:$D$21,2,FALSE())","v":"Segunda Corazón"},{"$f":"VLOOKUP(G4360,Referencias!$C$4:$E$21,3,FALSE())","v":2},"2C","Competición",{"$f":"VLOOKUP(C4360,Referencias!$B$24:$C$40,2,FALSE())","v":"CL"}]
["4771137","Belloso Fernández, María Victoria","Castilla y León","D",{"$f":"VLOOKUP(G4361,Referencias!$C$4:$D$21,2,FALSE())","v":"Sin Categoría"},{"$f":"VLOOKUP(G4361,Referencias!$C$4:$E$21,3,FALSE())","v":4},"SC","Competición",{"$f":"VLOOKUP(C4361,Referencias!$B$24:$C$40,2,FALSE())","v":"CL"}]
["4771162","Díaz Arribas, M. Teresa","Castilla y León","D",{"$f":"VLOOKUP(G4362,Referencias!$C$4:$D$21,2,FALSE())","v":"Tercera Picas"},{"$f":"VLOOKUP(G4362,Referencias!$C$4:$E$21,3,FALSE())","v":3},"3P","Competición",{"$f":"VLOOKUP(C4362,Referencias!$B$24:$C$40,2,FALSE())","v":"CL"}]
["4771175","de Ugarte Lozano, Yolanda","Castilla y León","D",{"$f":"VLOOKUP(G4363,Referencias!$C$4:$D$21,2,FALSE())","v":"Primera Picas"},{"$f":"VLOOKUP(G4363,Referencias!$C$4:$E$21,3,FALSE())","v":1},"1P","Competición",{"$f":"VLOOKUP(C4363,Referencias!$B$24:$C$40,2,FALSE())","v":"CL"}]
["4771203","Rodríguez Asensio, Mª Jesús","Castilla y León","D",{"$f":"VLOOKUP(G4364,Referencias!$C$4:$D$21,2,FALSE())","v":"Primera Picas"},{"$f":"VLOOKUP(G4364,Referencias!$C$4:$E$21,3,FALSE())","v":1},"1P","Competición",{"$f":"VLOOKUP(C4364,Referencias!$B$24:$C$40,2,FALSE())","v":"CL"}]
["4771221","De la Cruz Revesado, Mª Socorro","Castilla y León","D",{"$f":"VLOOKUP(G4365,Referencias!$C$4:$D$21,2,FALSE())","v":"Primera Diamante"},{"$f":"VLOOKUP(G4365,Referencias!$C$4:$E$21,3,FALSE())","v":1},"1D","Competición",{"$f":"VLOOKUP(C4365,Referencias!$B$24:$C$40,2,FALSE())","v":"CL"}]
["4771222","Alonso Pérez, José Andrés","Castilla y León","C",{"$f":"VLOOKUP(G4366,Referencias!$C$4:$D$21,2,FALSE())","v":"Sin Categoría"},{"$f":"VLOOKUP(G4366,Referencias!$C$4:$E$21,3,FALSE())","v":4},"SC","Competición",{"$f":"VLOOKUP(C4366,Referencias!$B$24:$C$40,2,FALSE())","v":"CL"}]
["4771234","Escudero Díez, Maribel","Castilla y León","D",{"$f":"VLOOKUP(G4367,Referencias!$C$4:$D$21,2,FALSE())","v":"Segunda Corazón"},{"$f":"VLOOKUP(G4367,Referencias!$C$4:$E$21,3,FALSE())","v":2},"2C","Competición",{"$f":"VLOOKUP(C4367,Referencias!$B$24:$C$40,2,FALSE())","v":"CL"}]
["4771239","Nieto Fernández, Milu","Castilla y León","D",{"$f":"VLOOKUP(G4368,Referencias!$C$4:$D$21,2,FALSE())","v":"Primera Diamante"},{"$f":"VLOOKUP(G4368,Referencias!$C$4:$E$21,3,FALSE())","v":1},"1D","Competición",{"$f":"VLOOKUP(C4368,Referencias!$B$24:$C$40,2,FALSE())","v":"CL"}]
["4771241","Burgoa Arribas, Mª Carmen","Castilla y León","D",{"$f":"VLOOKUP(G4369,Referencias!$C$4:$D$21,2,FALSE())","v":"Tercera Diamante"},{"$f":"VLOOKUP(G4369,Referencias!$C$4:$E$21,3,FALSE())","v":3},"3D","Competición",{"$f":"VLOOKUP(C4369,Referencias!$B$24:$C$40,2,FALSE())","v":"CL"}]
["4771246","Ramírez Carballedo, María Luisa","Castilla y León","D",{"$f":"VLOOKUP(G4370,Referencias!$C$4:$D$21,2,FALSE())","v":"Sin Categoría"},{"$f":"VLOOKUP(G4370,Referencias!$C$4:$E$21,3,FALSE())","v":4},"SC","Competición",{"$f":"VLOOKUP(C4370,Referencias!$B$24:$C$40,2,FALSE())","v":"CL"}]
["4771250","Martínez Castrillo, Maru","Castilla y León","D",{"$f":"VLOOKUP(G4371,Referencias!$C$4:$D$21,2,FALSE())","v":"Sin Categoría"},{"$f":"VLOOKUP(G4371,Referencias!$C$4:$E$21,3,FALSE())","v":4},"SC","Competición",{"$f":"VLOOKUP(C4371,Referencias!$B$24:$C$40,2,FALSE())","v":"CL"}]
["4771251","Martínez Nogueras, Luisa","Castilla y León","D",{"$f":"VLOOKUP(G4372,Referencias!$C$4:$D$21,2,FALSE())","v":"Sin Categoría"},{"$f":"VLOOKUP(G4372,Referencias!$C$4:$E$21,3,FALSE())","v":4},"SC","Competición",{"$f":"VLOOKUP(C4372,Referencias!$B$24:$C$40,2,FALSE())","v":"CL"}]
["4771253","Paja del Río, José Antonio","Castilla y León","C",{"$f":"VLOOKUP(G4373,Referencias!$C$4:$D$21,2,FALSE())","v":"Tercera Diamante"},{"$f":"VLOOKUP(G4373,Referencias!$C$4:$E$21,3,FALSE())","v":3},"3D","Competición",{"$f":"VLOOKUP(C4373,Referencias!$B$24:$C$40,2,FALSE())","v":"CL"}]
["4771261","Fernández Castañón, Mª Isabel","Castilla y León","D",{"$f":"VLOOKUP(G4374,Referencias!$C$4:$D$21,2,FALSE())","v":"Segunda Diamante"},{"$f":"VLOOKUP(G4374,Referencias!$C$4:$E$21,3,FALSE())","v":2},"2D","Competición",{"$f":"VLOOKUP(C4374,Referencias!$B$24:$C$40,2,FALSE())","v":"CL"}]
["4771265","Ortiz Baños, Begoña","Castilla y León","D",{"$f":"VLOOKUP(G4375,Referencias!$C$4:$D$21,2,FALSE())","v":"Primera Picas"},{"$f":"VLOOKUP(G4375,Referencias!$C$4:$E$21,3,FALSE())","v":1},"1P","Competición",{"$f":"VLOOKUP(C4375,Referencias!$B$24:$C$40,2,FALSE())","v":"CL"}]
["4771279","De Lozoya Rey, Mª Jesús","Castilla y León","D",{"$f":"VLOOKUP(G4376,Referencias!$C$4:$D$21,2,FALSE())","v":"Segunda Picas"},{"$f":"VLOOKUP(G4376,Referencias!$C$4:$E$21,3,FALSE())","v":2},"2P","Competición",{"$f":"VLOOKUP(C4376,Referencias!$B$24:$C$40,2,FALSE())","v":"CL"}]
["4771280","Elorza González, Carmen","Castilla y León","D",{"$f":"VLOOKUP(G4377,Referencias!$C$4:$D$21,2,FALSE())","v":"Segunda Picas"},{"$f":"VLOOKUP(G4377,Referencias!$C$4:$E$21,3,FALSE())","v":2},"2P","Competición",{"$f":"VLOOKUP(C4377,Referencias!$B$24:$C$40,2,FALSE())","v":"CL"}]
["4771283","Barrio Castellanos, Rosalia","Castilla y León","D",{"$f":"VLOOKUP(G4378,Referencias!$C$4:$D$21,2,FALSE())","v":"Sin Categoría"},{"$f":"VLOOKUP(G4378,Referencias!$C$4:$E$21,3,FALSE())","v":4},"SC","Competición",{"$f":"VLOOKUP(C4378,Referencias!$B$24:$C$40,2,FALSE())","v":"CL"}]
["4771284","Carril Rodríguez, Marisa","Castilla y León","D",{"$f":"VLOOKUP(G4379,Referencias!$C$4:$D$21,2,FALSE())","v":"Sin Categoría"},{"$f":"VLOOKUP(G4379,Referencias!$C$4:$E$21,3,FALSE())","v":4},"SC","Competición",{"$f":"VLOOKUP(C4379,Referencias!$B$24:$C$40,2,FALSE())","v":"CL"}]
["4771285","Ferreiro Chao, María Luisa","Castilla y León","D",{"$f":"VLOOKUP(G4380,Referencias!$C$4:$D$21,2,FALSE())","v":"Sin Categoría"},{"$f":"VLOOKUP(G4380,Referencias!$C$4:$E$21,3,FALSE())","v":4},"SC","Competición",{"$f":"VLOOKUP(C4380,Referencias!$B$24:$C$40,2,FALSE())","v":"CL"}]
["4771290","Ramos Valero, Esperanza","Castilla y León","D",{"$f":"VLOOKUP(G4381,Referencias!$C$4:$D$21,2,FALSE())","v":"Sin Categoría"},{"$f":"VLOOKUP(G4381,Referencias!$C$4:$E$21,3,FALSE())","v":4},"SC","Competición",{"$f":"VLOOKUP(C4381,Referencias!$B$24:$C$40,2,FALSE())","v":"CL"}]
["4771291","Ruiz de la Riva, María Luz","Castilla y León","D",{"$f":"VLOOKUP(G4382,Referencias!$C$4:$D$21,2,FALSE())","v":"Sin Categoría"},{"$f":"VLOOKUP(G4382,Referencias!$C$4:$E$21,3,FALSE())","v":4},"SC","Competición",{"$f":"VLOOKUP(C4382,Referencias!$B$24:$C$40,2,FALSE())","v":"CL"}]
["4771293","Vicente Carrión, María Asún","Castilla y León","D",{"$f":"VLOOKUP(G4383,Referencias!$C$4:$D$21,2,FALSE())","v":"Sin Categoría"},{"$f":"VLOOKUP(G4383,Referencias!$C$4:$E$21,3,FALSE())","v":4},"SC","Competición",{"$f":"VLOOKUP(C4383,Referencias!$B$24:$C$40,2,FALSE())","v":"CL"}]
["4771298","Frias García, Chari","Castilla y León","D",{"$f":"VLOOKUP(G4384,Referencias!$C$4:$D$21,2,FALSE())","v":"Sin Categoría"},{"$f":"VLOOKUP(G4384,Referencias!$C$4:$E$21,3,FALSE())","v":4},"SC","Competición",{"$f":"VLOOKUP(C4384,Referencias!$B$24:$C$40,2,FALSE())","v":"CL"}]
["4771299","Díez González, Carmen","Castilla y León","D",{"$f":"VLOOKUP(G4385,Referencias!$C$4:$D$21,2,FALSE())","v":"Tercera Corazón"},{"$f":"VLOOKUP(G4385,Referencias!$C$4:$E$21,3,FALSE())","v":3},"3C","Competición",{"$f":"VLOOKUP(C4385,Referencias!$B$24:$C$40,2,FALSE())","v":"CL"}]
["4771319","Morilla Díez, Mª Pilar","Castilla y León","D",{"$f":"VLOOKUP(G4386,Referencias!$C$4:$D$21,2,FALSE())","v":"Segunda Diamante"},{"$f":"VLOOKUP(G4386,Referencias!$C$4:$E$21,3,FALSE())","v":2},"2D","Competición",{"$f":"VLOOKUP(C4386,Referencias!$B$24:$C$40,2,FALSE())","v":"CL"}]
["4771343","Morate D'Alton, Isabel","Castilla y León","D",{"$f":"VLOOKUP(G4387,Referencias!$C$4:$D$21,2,FALSE())","v":"Segunda Corazón"},{"$f":"VLOOKUP(G4387,Referencias!$C$4:$E$21,3,FALSE())","v":2},"2C","Competición",{"$f":"VLOOKUP(C4387,Referencias!$B$24:$C$40,2,FALSE())","v":"CL"}]
["4771344","Huerga Rodríguez, Francisca","Castilla y León","D",{"$f":"VLOOKUP(G4388,Referencias!$C$4:$D$21,2,FALSE())","v":"Tercera Picas"},{"$f":"VLOOKUP(G4388,Referencias!$C$4:$E$21,3,FALSE())","v":3},"3P","Competición",{"$f":"VLOOKUP(C4388,Referencias!$B$24:$C$40,2,FALSE())","v":"CL"}]
["4771346","Gil Rodríguez, Esteban","Castilla y León","C",{"$f":"VLOOKUP(G4389,Referencias!$C$4:$D$21,2,FALSE())","v":"Segunda Diamante"},{"$f":"VLOOKUP(G4389,Referencias!$C$4:$E$21,3,FALSE())","v":2},"2D","Competición",{"$f":"VLOOKUP(C4389,Referencias!$B$24:$C$40,2,FALSE())","v":"CL"}]
["4771350","García Manso, María del Pilar","Castilla y León","D",{"$f":"VLOOKUP(G4390,Referencias!$C$4:$D$21,2,FALSE())","v":"Sin Categoría"},{"$f":"VLOOKUP(G4390,Referencias!$C$4:$E$21,3,FALSE())","v":4},"SC","Competición",{"$f":"VLOOKUP(C4390,Referencias!$B$24:$C$40,2,FALSE())","v":"CL"}]
["4771355","Concellón Muñoz, Inmaculada","Castilla y León","D",{"$f":"VLOOKUP(G4391,Referencias!$C$4:$D$21,2,FALSE())","v":"Tercera Diamante"},{"$f":"VLOOKUP(G4391,Referencias!$C$4:$E$21,3,FALSE())","v":3},"3D","Competición",{"$f":"VLOOKUP(C4391,Referencias!$B$24:$C$40,2,FALSE())","v":"CL"}]
["4771358","Aparicio Verge, Ana María","Castilla y León","D",{"$f":"VLOOKUP(G4392,Referencias!$C$4:$D$21,2,FALSE())","v":"Sin Categoría"},{"$f":"VLOOKUP(G4392,Referencias!$C$4:$E$21,3,FALSE())","v":4},"SC","Competición",{"$f":"VLOOKUP(C4392,Referencias!$B$24:$C$40,2,FALSE())","v":"CL"}]
["4771359","Tomillo, María del Prado","Castilla y León","D",{"$f":"VLOOKUP(G4393,Referencias!$C$4:$D$21,2,FALSE())","v":"Primera Corazón"},{"$f":"VLOOKUP(G4393,Referencias!$C$4:$E$21,3,FALSE())","v":1},"1C","Competición",{"$f":"VLOOKUP(C4393,Referencias!$B$24:$C$40,2,FALSE())","v":"CL"}]
["4771360","Pinto Rico, María Cruz","Castilla y León","D",{"$f":"VLOOKUP(G4394,Referencias!$C$4:$D$21,2,FALSE())","v":"Segunda Diamante"},{"$f":"VLOOKUP(G4394,Referencias!$C$4:$E$21,3,FALSE())","v":2},"2D","Competición",{"$f":"VLOOKUP(C4394,Referencias!$B$24:$C$40,2,FALSE())","v":"CL"}]
["4771362","Manteca Gómez Pallete, Julian","Castilla y León","C",{"$f":"VLOOKUP(G4395,Referencias!$C$4:$D$21,2,FALSE())","v":"Segunda Diamante"},{"$f":"VLOOKUP(G4395,Referencias!$C$4:$E$21,3,FALSE())","v":2},"2D","Competición",{"$f":"VLOOKUP(C4395,Referencias!$B$24:$C$40,2,FALSE())","v":"CL"}]
["4771368","Ruiz González, María Esther","Castilla y León","D",{"$f":"VLOOKUP(G4396,Referencias!$C$4:$D$21,2,FALSE())","v":"Sin Categoría"},{"$f":"VLOOKUP(G4396,Referencias!$C$4:$E$21,3,FALSE())","v":4},"SC","Competición",{"$f":"VLOOKUP(C4396,Referencias!$B$24:$C$40,2,FALSE())","v":"CL"}]
["4771370","Casanova Alonso, Isabel","Castilla y León","D",{"$f":"VLOOKUP(G4397,Referencias!$C$4:$D$21,2,FALSE())","v":"Sin Categoría"},{"$f":"VLOOKUP(G4397,Referencias!$C$4:$E$21,3,FALSE())","v":4},"SC","Competición",{"$f":"VLOOKUP(C4397,Referencias!$B$24:$C$40,2,FALSE())","v":"CL"}]
["4771371","Fontanillas Fernández, Carmen","Castilla y León","D",{"$f":"VLOOKUP(G4398,Referencias!$C$4:$D$21,2,FALSE())","v":"Sin Categoría"},{"$f":"VLOOKUP(G4398,Referencias!$C$4:$E$21,3,FALSE())","v":4},"SC","Competición",{"$f":"VLOOKUP(C4398,Referencias!$B$24:$C$40,2,FALSE())","v":"CL"}]
["4771372","Alonso Diez, Carmen","Castilla y León","D",{"$f":"VLOOKUP(G4399,Referencias!$C$4:$D$21,2,FALSE())","v":"Sin Categoría"},{"$f":"VLOOKUP(G4399,Referencias!$C$4:$E$21,3,FALSE())","v":4},"SC","Competición",{"$f":"VLOOKUP(C4399,Referencias!$B$24:$C$40,2,FALSE())","v":"CL"}]
["4771374","Padró Sánchez, Ramón","Castilla y León","C",{"$f":"VLOOKUP(G4400,Referencias!$C$4:$D$21,2,FALSE())","v":"Segunda Corazón"},{"$f":"VLOOKUP(G4400,Referencias!$C$4:$E$21,3,FALSE())","v":2},"2C","Competición",{"$f":"VLOOKUP(C4400,Referencias!$B$24:$C$40,2,FALSE())","v":"CL"}]
["4771377","Padró Sánchez, Rosa","Castilla y León","D",{"$f":"VLOOKUP(G4401,Referencias!$C$4:$D$21,2,FALSE())","v":"Tercera Corazón"},{"$f":"VLOOKUP(G4401,Referencias!$C$4:$E$21,3,FALSE())","v":3},"3C","Competición",{"$f":"VLOOKUP(C4401,Referencias!$B$24:$C$40,2,FALSE())","v":"CL"}]
["4771378","Madrigal Llamas, Mª Ines","Castilla y León","D",{"$f":"VLOOKUP(G4402,Referencias!$C$4:$D$21,2,FALSE())","v":"Segunda Diamante"},{"$f":"VLOOKUP(G4402,Referencias!$C$4:$E$21,3,FALSE())","v":2},"2D","Competición",{"$f":"VLOOKUP(C4402,Referencias!$B$24:$C$40,2,FALSE())","v":"CL"}]
["4771379","Martín Casas, Mª José","Castilla y León","D",{"$f":"VLOOKUP(G4403,Referencias!$C$4:$D$21,2,FALSE())","v":"Tercera Picas"},{"$f":"VLOOKUP(G4403,Referencias!$C$4:$E$21,3,FALSE())","v":3},"3P","Competición",{"$f":"VLOOKUP(C4403,Referencias!$B$24:$C$40,2,FALSE())","v":"CL"}]
["4771380","Alcalde Martín-Calero, Reyes","Castilla y León","D",{"$f":"VLOOKUP(G4404,Referencias!$C$4:$D$21,2,FALSE())","v":"Primera Corazón"},{"$f":"VLOOKUP(G4404,Referencias!$C$4:$E$21,3,FALSE())","v":1},"1C","Competición",{"$f":"VLOOKUP(C4404,Referencias!$B$24:$C$40,2,FALSE())","v":"CL"}]
["4771384","Gómez López, Isabel","Castilla y León","D",{"$f":"VLOOKUP(G4405,Referencias!$C$4:$D$21,2,FALSE())","v":"Sin Categoría"},{"$f":"VLOOKUP(G4405,Referencias!$C$4:$E$21,3,FALSE())","v":4},"SC","Competición",{"$f":"VLOOKUP(C4405,Referencias!$B$24:$C$40,2,FALSE())","v":"CL"}]
["4771387","Bravo Lara, Marupe","Castilla y León","D",{"$f":"VLOOKUP(G4406,Referencias!$C$4:$D$21,2,FALSE())","v":"Tercera Corazón"},{"$f":"VLOOKUP(G4406,Referencias!$C$4:$E$21,3,FALSE())","v":3},"3C","Competición",{"$f":"VLOOKUP(C4406,Referencias!$B$24:$C$40,2,FALSE())","v":"CL"}]
["4771394","Escudero Bores, Ana","Castilla y León","D",{"$f":"VLOOKUP(G4407,Referencias!$C$4:$D$21,2,FALSE())","v":"Sin Categoría"},{"$f":"VLOOKUP(G4407,Referencias!$C$4:$E$21,3,FALSE())","v":4},"SC","Competición",{"$f":"VLOOKUP(C4407,Referencias!$B$24:$C$40,2,FALSE())","v":"CL"}]
["4771396","Pino Homedes, Montserrat","Castilla y León","D",{"$f":"VLOOKUP(G4408,Referencias!$C$4:$D$21,2,FALSE())","v":"Tercera Corazón"},{"$f":"VLOOKUP(G4408,Referencias!$C$4:$E$21,3,FALSE())","v":3},"3C","Competición",{"$f":"VLOOKUP(C4408,Referencias!$B$24:$C$40,2,FALSE())","v":"CL"}]
["4771406","San José Alonso, María Luisa","Castilla y León","D",{"$f":"VLOOKUP(G4409,Referencias!$C$4:$D$21,2,FALSE())","v":"Sin Categoría"},{"$f":"VLOOKUP(G4409,Referencias!$C$4:$E$21,3,FALSE())","v":4},"SC","Competición",{"$f":"VLOOKUP(C4409,Referencias!$B$24:$C$40,2,FALSE())","v":"CL"}]
["4771414","Díez García, Susana","Castilla y León","D",{"$f":"VLOOKUP(G4410,Referencias!$C$4:$D$21,2,FALSE())","v":"Segunda Corazón"},{"$f":"VLOOKUP(G4410,Referencias!$C$4:$E$21,3,FALSE())","v":2},"2C","Competición",{"$f":"VLOOKUP(C4410,Referencias!$B$24:$C$40,2,FALSE())","v":"CL"}]
["4771415","Santos Bobillo, Rosa","Castilla y León","D",{"$f":"VLOOKUP(G4411,Referencias!$C$4:$D$21,2,FALSE())","v":"Segunda Corazón"},{"$f":"VLOOKUP(G4411,Referencias!$C$4:$E$21,3,FALSE())","v":2},"2C","Competición",{"$f":"VLOOKUP(C4411,Referencias!$B$24:$C$40,2,FALSE())","v":"CL"}]
["4771418","Salgado Gimeno, Soledad","Castilla y León","D",{"$f":"VLOOKUP(G4412,Referencias!$C$4:$D$21,2,FALSE())","v":"Segunda Diamante"},{"$f":"VLOOKUP(G4412,Referencias!$C$4:$E$21,3,FALSE())","v":2},"2D","Competición",{"$f":"VLOOKUP(C4412,Referencias!$B$24:$C$40,2,FALSE())","v":"CL"}]
["4771441","Martínez Sánchez, Memi","Castilla y León","D",{"$f":"VLOOKUP(G4413,Referencias!$C$4:$D$21,2,FALSE())","v":"Sin Categoría"},{"$f":"VLOOKUP(G4413,Referencias!$C$4:$E$21,3,FALSE())","v":4},"SC","Competición",{"$f":"VLOOKUP(C4413,Referencias!$B$24:$C$40,2,FALSE())","v":"CL"}]
["4771442","Barrio Castellano, Isabel","Castilla y León","D",{"$f":"VLOOKUP(G4414,Referencias!$C$4:$D$21,2,FALSE())","v":"Sin Categoría"},{"$f":"VLOOKUP(G4414,Referencias!$C$4:$E$21,3,FALSE())","v":4},"SC","Competición",{"$f":"VLOOKUP(C4414,Referencias!$B$24:$C$40,2,FALSE())","v":"CL"}]
["4771446","Postigo Mantecón, Gloria","Castilla y León","D",{"$f":"VLOOKUP(G4415,Referencias!$C$4:$D$21,2,FALSE())","v":"Tercera Diamante"},{"$f":"VLOOKUP(G4415,Referencias!$C$4:$E$21,3,FALSE())","v":3},"3D","Competición",{"$f":"VLOOKUP(C4415,Referencias!$B$24:$C$40,2,FALSE())","v":"CL"}]
["4771447","Castro de la Fuente, Inmaculada","Castilla y León","D",{"$f":"VLOOKUP(G4416,Referencias!$C$4:$D$21,2,FALSE())","v":"Tercera Corazón"},{"$f":"VLOOKUP(G4416,Referencias!$C$4:$E$21,3,FALSE())","v":3},"3C","Competición",{"$f":"VLOOKUP(C4416,Referencias!$B$24:$C$40,2,FALSE())","v":"CL"}]
["4771450","Alvarez Perez, Lola","Castilla y León","D",{"$f":"VLOOKUP(G4417,Referencias!$C$4:$D$21,2,FALSE())","v":"Segunda Diamante"},{"$f":"VLOOKUP(G4417,Referencias!$C$4:$E$21,3,FALSE())","v":2},"2D","Competición",{"$f":"VLOOKUP(C4417,Referencias!$B$24:$C$40,2,FALSE())","v":"CL"}]
["4771460","Castro de la Fuente, Gemma","Castilla y León","D",{"$f":"VLOOKUP(G4418,Referencias!$C$4:$D$21,2,FALSE())","v":"Tercera Corazón"},{"$f":"VLOOKUP(G4418,Referencias!$C$4:$E$21,3,FALSE())","v":3},"3C","Competición",{"$f":"VLOOKUP(C4418,Referencias!$B$24:$C$40,2,FALSE())","v":"CL"}]
["4771464","Villaverde Arcos, Helena","Castilla y León","D",{"$f":"VLOOKUP(G4419,Referencias!$C$4:$D$21,2,FALSE())","v":"Tercera Corazón"},{"$f":"VLOOKUP(G4419,Referencias!$C$4:$E$21,3,FALSE())","v":3},"3C","Competición",{"$f":"VLOOKUP(C4419,Referencias!$B$24:$C$40,2,FALSE())","v":"CL"}]
["4771465","Rodríguez Mateos, Marcela","Castilla y León","D",{"$f":"VLOOKUP(G4420,Referencias!$C$4:$D$21,2,FALSE())","v":"Tercera Corazón"},{"$f":"VLOOKUP(G4420,Referencias!$C$4:$E$21,3,FALSE())","v":3},"3C","Competición",{"$f":"VLOOKUP(C4420,Referencias!$B$24:$C$40,2,FALSE())","v":"CL"}]
["4771467","del Palacio, Isabel","Castilla y León","D",{"$f":"VLOOKUP(G4421,Referencias!$C$4:$D$21,2,FALSE())","v":"Sin Categoría"},{"$f":"VLOOKUP(G4421,Referencias!$C$4:$E$21,3,FALSE())","v":4},"SC","Competición",{"$f":"VLOOKUP(C4421,Referencias!$B$24:$C$40,2,FALSE())","v":"CL"}]
["4771469","Lorente Moore, Marta","Castilla y León","D",{"$f":"VLOOKUP(G4422,Referencias!$C$4:$D$21,2,FALSE())","v":"Tercera Corazón"},{"$f":"VLOOKUP(G4422,Referencias!$C$4:$E$21,3,FALSE())","v":3},"3C","Competición",{"$f":"VLOOKUP(C4422,Referencias!$B$24:$C$40,2,FALSE())","v":"CL"}]
["4771470","Velasco Domínguez, Pilar","Castilla y León","D",{"$f":"VLOOKUP(G4423,Referencias!$C$4:$D$21,2,FALSE())","v":"Segunda Corazón"},{"$f":"VLOOKUP(G4423,Referencias!$C$4:$E$21,3,FALSE())","v":2},"2C","Competición",{"$f":"VLOOKUP(C4423,Referencias!$B$24:$C$40,2,FALSE())","v":"CL"}]
["4771471","Van Camp Meir, Viviane","Castilla y León","D",{"$f":"VLOOKUP(G4424,Referencias!$C$4:$D$21,2,FALSE())","v":"Tercera Picas"},{"$f":"VLOOKUP(G4424,Referencias!$C$4:$E$21,3,FALSE())","v":3},"3P","Competición",{"$f":"VLOOKUP(C4424,Referencias!$B$24:$C$40,2,FALSE())","v":"CL"}]
["4771472","De Miguel Simón, María Luisa- Mónica","Castilla y León","D",{"$f":"VLOOKUP(G4425,Referencias!$C$4:$D$21,2,FALSE())","v":"Tercera Picas"},{"$f":"VLOOKUP(G4425,Referencias!$C$4:$E$21,3,FALSE())","v":3},"3P","Competición",{"$f":"VLOOKUP(C4425,Referencias!$B$24:$C$40,2,FALSE())","v":"CL"}]
["4771473","Aragoneses Fraile, Henar","Castilla y León","C",{"$f":"VLOOKUP(G4426,Referencias!$C$4:$D$21,2,FALSE())","v":"Tercera Diamante"},{"$f":"VLOOKUP(G4426,Referencias!$C$4:$E$21,3,FALSE())","v":3},"3D","Competición",{"$f":"VLOOKUP(C4426,Referencias!$B$24:$C$40,2,FALSE())","v":"CL"}]
["4771474","Lozano del Moral, Julian","Castilla y León","C",{"$f":"VLOOKUP(G4427,Referencias!$C$4:$D$21,2,FALSE())","v":"Tercera Diamante"},{"$f":"VLOOKUP(G4427,Referencias!$C$4:$E$21,3,FALSE())","v":3},"3D","Competición",{"$f":"VLOOKUP(C4427,Referencias!$B$24:$C$40,2,FALSE())","v":"CL"}]
["4771475","Pardo Almudi, Margarita","Castilla y León","D",{"$f":"VLOOKUP(G4428,Referencias!$C$4:$D$21,2,FALSE())","v":"Sin Categoría"},{"$f":"VLOOKUP(G4428,Referencias!$C$4:$E$21,3,FALSE())","v":4},"SC","Competición",{"$f":"VLOOKUP(C4428,Referencias!$B$24:$C$40,2,FALSE())","v":"CL"}]
["4771479","Morilla Díez, Mª Teresa","Castilla y León","D",{"$f":"VLOOKUP(G4429,Referencias!$C$4:$D$21,2,FALSE())","v":"Segunda Corazón"},{"$f":"VLOOKUP(G4429,Referencias!$C$4:$E$21,3,FALSE())","v":2},"2C","Competición",{"$f":"VLOOKUP(C4429,Referencias!$B$24:$C$40,2,FALSE())","v":"CL"}]
["4771481","Llorente Martín, Cayetano","Castilla y León","C",{"$f":"VLOOKUP(G4430,Referencias!$C$4:$D$21,2,FALSE())","v":"Segunda Picas"},{"$f":"VLOOKUP(G4430,Referencias!$C$4:$E$21,3,FALSE())","v":2},"2P","Competición",{"$f":"VLOOKUP(C4430,Referencias!$B$24:$C$40,2,FALSE())","v":"CL"}]
["4771482","Bartolome Calvo, M. Pilar","Castilla y León","D",{"$f":"VLOOKUP(G4431,Referencias!$C$4:$D$21,2,FALSE())","v":"Tercera Diamante"},{"$f":"VLOOKUP(G4431,Referencias!$C$4:$E$21,3,FALSE())","v":3},"3D","Competición",{"$f":"VLOOKUP(C4431,Referencias!$B$24:$C$40,2,FALSE())","v":"CL"}]
["4771483","Minguez Bellosta, María Cándida","Castilla y León","D",{"$f":"VLOOKUP(G4432,Referencias!$C$4:$D$21,2,FALSE())","v":"Segunda Diamante"},{"$f":"VLOOKUP(G4432,Referencias!$C$4:$E$21,3,FALSE())","v":2},"2D","Competición",{"$f":"VLOOKUP(C4432,Referencias!$B$24:$C$40,2,FALSE())","v":"CL"}]
["4771484","Alonso López, Pilar","Castilla y León","D",{"$f":"VLOOKUP(G4433,Referencias!$C$4:$D$21,2,FALSE())","v":"Sin Categoría"},{"$f":"VLOOKUP(G4433,Referencias!$C$4:$E$21,3,FALSE())","v":4},"SC","Competición",{"$f":"VLOOKUP(C4433,Referencias!$B$24:$C$40,2,FALSE())","v":"CL"}]
["4771487","Valderrama Guerra, Raquel","Castilla y León","D",{"$f":"VLOOKUP(G4434,Referencias!$C$4:$D$21,2,FALSE())","v":"Tercera Diamante"},{"$f":"VLOOKUP(G4434,Referencias!$C$4:$E$21,3,FALSE())","v":3},"3D","Competición",{"$f":"VLOOKUP(C4434,Referencias!$B$24:$C$40,2,FALSE())","v":"CL"}]
["4771488","Piera Beltrán, Carmen","Castilla y León","D",{"$f":"VLOOKUP(G4435,Referencias!$C$4:$D$21,2,FALSE())","v":"Tercera Diamante"},{"$f":"VLOOKUP(G4435,Referencias!$C$4:$E$21,3,FALSE())","v":3},"3D","Competición",{"$f":"VLOOKUP(C4435,Referencias!$B$24:$C$40,2,FALSE())","v":"CL"}]
["4771490","González Martín, Mª Mar","Castilla y León","D",{"$f":"VLOOKUP(G4436,Referencias!$C$4:$D$21,2,FALSE())","v":"Tercera Diamante"},{"$f":"VLOOKUP(G4436,Referencias!$C$4:$E$21,3,FALSE())","v":3},"3D","Competición",{"$f":"VLOOKUP(C4436,Referencias!$B$24:$C$40,2,FALSE())","v":"CL"}]
["4771491","Galván Fraile, Alicia","Castilla y León","D",{"$f":"VLOOKUP(G4437,Referencias!$C$4:$D$21,2,FALSE())","v":"Tercera Picas"},{"$f":"VLOOKUP(G4437,Referencias!$C$4:$E$21,3,FALSE())","v":3},"3P","Competición",{"$f":"VLOOKUP(C4437,Referencias!$B$24:$C$40,2,FALSE())","v":"CL"}]
["4771492","Gavilán Domínguez, Carolina","Castilla y León","D",{"$f":"VLOOKUP(G4438,Referencias!$C$4:$D$21,2,FALSE())","v":"Tercera Picas"},{"$f":"VLOOKUP(G4438,Referencias!$C$4:$E$21,3,FALSE())","v":3},"3P","Competición",{"$f":"VLOOKUP(C4438,Referencias!$B$24:$C$40,2,FALSE())","v":"CL"}]
["4771493","Fernandez-Laguilhoat, Begoña","Castilla y León","D",{"$f":"VLOOKUP(G4439,Referencias!$C$4:$D$21,2,FALSE())","v":"Segunda Diamante"},{"$f":"VLOOKUP(G4439,Referencias!$C$4:$E$21,3,FALSE())","v":2},"2D","Competición",{"$f":"VLOOKUP(C4439,Referencias!$B$24:$C$40,2,FALSE())","v":"CL"}]
["4771494","Martínez González, Laura","Castilla y León","D",{"$f":"VLOOKUP(G4440,Referencias!$C$4:$D$21,2,FALSE())","v":"Sin Categoría"},{"$f":"VLOOKUP(G4440,Referencias!$C$4:$E$21,3,FALSE())","v":4},"SC","Competición",{"$f":"VLOOKUP(C4440,Referencias!$B$24:$C$40,2,FALSE())","v":"CL"}]
["4771496","Sánz Labajo, Celina","Castilla y León","D",{"$f":"VLOOKUP(G4441,Referencias!$C$4:$D$21,2,FALSE())","v":"Tercera Corazón"},{"$f":"VLOOKUP(G4441,Referencias!$C$4:$E$21,3,FALSE())","v":3},"3C","Competición",{"$f":"VLOOKUP(C4441,Referencias!$B$24:$C$40,2,FALSE())","v":"CL"}]
["4771497","Criado González, Isabel","Castilla y León","D",{"$f":"VLOOKUP(G4442,Referencias!$C$4:$D$21,2,FALSE())","v":"Tercera Diamante"},{"$f":"VLOOKUP(G4442,Referencias!$C$4:$E$21,3,FALSE())","v":3},"3D","Competición",{"$f":"VLOOKUP(C4442,Referencias!$B$24:$C$40,2,FALSE())","v":"CL"}]
["4771498","Alcalde García, Nieves","Castilla y León","D",{"$f":"VLOOKUP(G4443,Referencias!$C$4:$D$21,2,FALSE())","v":"Segunda Diamante"},{"$f":"VLOOKUP(G4443,Referencias!$C$4:$E$21,3,FALSE())","v":2},"2D","Competición",{"$f":"VLOOKUP(C4443,Referencias!$B$24:$C$40,2,FALSE())","v":"CL"}]
["4771499","Romero Gómez, Mercedes","Castilla y León","D",{"$f":"VLOOKUP(G4444,Referencias!$C$4:$D$21,2,FALSE())","v":"Tercera Corazón"},{"$f":"VLOOKUP(G4444,Referencias!$C$4:$E$21,3,FALSE())","v":3},"3C","Competición",{"$f":"VLOOKUP(C4444,Referencias!$B$24:$C$40,2,FALSE())","v":"CL"}]
["4771502","García Reglero, María del Carmen","Castilla y León","D",{"$f":"VLOOKUP(G4445,Referencias!$C$4:$D$21,2,FALSE())","v":"Sin Categoría"},{"$f":"VLOOKUP(G4445,Referencias!$C$4:$E$21,3,FALSE())","v":4},"SC","Competición",{"$f":"VLOOKUP(C4445,Referencias!$B$24:$C$40,2,FALSE())","v":"CL"}]
["4771503","Valbuena Rodrigo, María Yolanda","Castilla y León","D",{"$f":"VLOOKUP(G4446,Referencias!$C$4:$D$21,2,FALSE())","v":"Segunda Corazón"},{"$f":"VLOOKUP(G4446,Referencias!$C$4:$E$21,3,FALSE())","v":2},"2C","Competición",{"$f":"VLOOKUP(C4446,Referencias!$B$24:$C$40,2,FALSE())","v":"CL"}]
["4771506","De Barbachano Plaza, Rosa Marta","Castilla y León","D",{"$f":"VLOOKUP(G4447,Referencias!$C$4:$D$21,2,FALSE())","v":"Segunda Diamante"},{"$f":"VLOOKUP(G4447,Referencias!$C$4:$E$21,3,FALSE())","v":2},"2D","Competición",{"$f":"VLOOKUP(C4447,Referencias!$B$24:$C$40,2,FALSE())","v":"CL"}]
["4771509","Ramos Polo, Margarita","Castilla y León","D",{"$f":"VLOOKUP(G4448,Referencias!$C$4:$D$21,2,FALSE())","v":"Sin Categoría"},{"$f":"VLOOKUP(G4448,Referencias!$C$4:$E$21,3,FALSE())","v":4},"SC","Competición",{"$f":"VLOOKUP(C4448,Referencias!$B$24:$C$40,2,FALSE())","v":"CL"}]
["4771510","Gavilán Domínguez, María Zarza","Castilla y León","D",{"$f":"VLOOKUP(G4449,Referencias!$C$4:$D$21,2,FALSE())","v":"Segunda Diamante"},{"$f":"VLOOKUP(G4449,Referencias!$C$4:$E$21,3,FALSE())","v":2},"2D","Competición",{"$f":"VLOOKUP(C4449,Referencias!$B$24:$C$40,2,FALSE())","v":"CL"}]
["4771511","Fernández Pires, Covadonga","Castilla y León","D",{"$f":"VLOOKUP(G4450,Referencias!$C$4:$D$21,2,FALSE())","v":"Tercera Diamante"},{"$f":"VLOOKUP(G4450,Referencias!$C$4:$E$21,3,FALSE())","v":3},"3D","Competición",{"$f":"VLOOKUP(C4450,Referencias!$B$24:$C$40,2,FALSE())","v":"CL"}]
["4771512","Abad Pérez, Adela","Castilla y León","D",{"$f":"VLOOKUP(G4451,Referencias!$C$4:$D$21,2,FALSE())","v":"Tercera Diamante"},{"$f":"VLOOKUP(G4451,Referencias!$C$4:$E$21,3,FALSE())","v":3},"3D","Competición",{"$f":"VLOOKUP(C4451,Referencias!$B$24:$C$40,2,FALSE())","v":"CL"}]
["4771513","Caballero Conde, Pilar","Castilla y León","D",{"$f":"VLOOKUP(G4452,Referencias!$C$4:$D$21,2,FALSE())","v":"Tercera Diamante"},{"$f":"VLOOKUP(G4452,Referencias!$C$4:$E$21,3,FALSE())","v":3},"3D","Competición",{"$f":"VLOOKUP(C4452,Referencias!$B$24:$C$40,2,FALSE())","v":"CL"}]
["4771515","Salaverri Fernández de la Puente, María Dolores","Castilla y León","D",{"$f":"VLOOKUP(G4453,Referencias!$C$4:$D$21,2,FALSE())","v":"Tercera Diamante"},{"$f":"VLOOKUP(G4453,Referencias!$C$4:$E$21,3,FALSE())","v":3},"3D","Competición",{"$f":"VLOOKUP(C4453,Referencias!$B$24:$C$40,2,FALSE())","v":"CL"}]
["4771516","Finat Gómez, Berta","Castilla y León","D",{"$f":"VLOOKUP(G4454,Referencias!$C$4:$D$21,2,FALSE())","v":"Segunda Diamante"},{"$f":"VLOOKUP(G4454,Referencias!$C$4:$E$21,3,FALSE())","v":2},"2D","Competición",{"$f":"VLOOKUP(C4454,Referencias!$B$24:$C$40,2,FALSE())","v":"CL"}]
["4771517","Valverde Bellido, Mª Paz","Castilla y León","D",{"$f":"VLOOKUP(G4455,Referencias!$C$4:$D$21,2,FALSE())","v":"Tercera Diamante"},{"$f":"VLOOKUP(G4455,Referencias!$C$4:$E$21,3,FALSE())","v":3},"3D","Competición",{"$f":"VLOOKUP(C4455,Referencias!$B$24:$C$40,2,FALSE())","v":"CL"}]
["4771520","Merino Andrés, María Piedad","Castilla y León","D",{"$f":"VLOOKUP(G4456,Referencias!$C$4:$D$21,2,FALSE())","v":"Tercera Corazón"},{"$f":"VLOOKUP(G4456,Referencias!$C$4:$E$21,3,FALSE())","v":3},"3C","Competición",{"$f":"VLOOKUP(C4456,Referencias!$B$24:$C$40,2,FALSE())","v":"CL"}]
["4771521","Liebana Pérez, Elisa","Castilla y León","D",{"$f":"VLOOKUP(G4457,Referencias!$C$4:$D$21,2,FALSE())","v":"Sin Categoría"},{"$f":"VLOOKUP(G4457,Referencias!$C$4:$E$21,3,FALSE())","v":4},"SC","Competición",{"$f":"VLOOKUP(C4457,Referencias!$B$24:$C$40,2,FALSE())","v":"CL"}]
["4771522","Rueda Sabater, Cristina","Castilla y León","D",{"$f":"VLOOKUP(G4458,Referencias!$C$4:$D$21,2,FALSE())","v":"Segunda Diamante"},{"$f":"VLOOKUP(G4458,Referencias!$C$4:$E$21,3,FALSE())","v":2},"2D","Competición",{"$f":"VLOOKUP(C4458,Referencias!$B$24:$C$40,2,FALSE())","v":"CL"}]
["4771523","López de Arbina Rodríguez, María Victoría","Castilla y León","D",{"$f":"VLOOKUP(G4459,Referencias!$C$4:$D$21,2,FALSE())","v":"Tercera Corazón"},{"$f":"VLOOKUP(G4459,Referencias!$C$4:$E$21,3,FALSE())","v":3},"3C","Competición",{"$f":"VLOOKUP(C4459,Referencias!$B$24:$C$40,2,FALSE())","v":"CL"}]
["4771524","Sánchez Cuesta, Marina","Castilla y León","D",{"$f":"VLOOKUP(G4460,Referencias!$C$4:$D$21,2,FALSE())","v":"Tercera Picas"},{"$f":"VLOOKUP(G4460,Referencias!$C$4:$E$21,3,FALSE())","v":3},"3P","Competición",{"$f":"VLOOKUP(C4460,Referencias!$B$24:$C$40,2,FALSE())","v":"CL"}]
["4771525","Alonso Marinero, Esther","Castilla y León","D",{"$f":"VLOOKUP(G4461,Referencias!$C$4:$D$21,2,FALSE())","v":"Sin Categoría"},{"$f":"VLOOKUP(G4461,Referencias!$C$4:$E$21,3,FALSE())","v":4},"SC","Competición",{"$f":"VLOOKUP(C4461,Referencias!$B$24:$C$40,2,FALSE())","v":"CL"}]
["4771535","Martín Gutiérrez, Magdalena","Castilla y León","D",{"$f":"VLOOKUP(G4462,Referencias!$C$4:$D$21,2,FALSE())","v":"Tercera Diamante"},{"$f":"VLOOKUP(G4462,Referencias!$C$4:$E$21,3,FALSE())","v":3},"3D","Competición",{"$f":"VLOOKUP(C4462,Referencias!$B$24:$C$40,2,FALSE())","v":"CL"}]
["4771538","Menéndez Sánchez, Adela","Castilla y León","D",{"$f":"VLOOKUP(G4463,Referencias!$C$4:$D$21,2,FALSE())","v":"Segunda Diamante"},{"$f":"VLOOKUP(G4463,Referencias!$C$4:$E$21,3,FALSE())","v":2},"2D","Competición",{"$f":"VLOOKUP(C4463,Referencias!$B$24:$C$40,2,FALSE())","v":"CL"}]
["4771539","González-Calvo Baeza, Sara ","Castilla y León","NULL",{"$f":"VLOOKUP(G4464,Referencias!$C$4:$D$21,2,FALSE())","v":"Sin Categoría"},{"$f":"VLOOKUP(G4464,Referencias!$C$4:$E$21,3,FALSE())","v":4},"SC","Competición",{"$f":"VLOOKUP(C4464,Referencias!$B$24:$C$40,2,FALSE())","v":"CL"}]
["4771540","de Miguel Gómez, Margarita","Castilla y León","D",{"$f":"VLOOKUP(G4465,Referencias!$C$4:$D$21,2,FALSE())","v":"Tercera Diamante"},{"$f":"VLOOKUP(G4465,Referencias!$C$4:$E$21,3,FALSE())","v":3},"3D","Competición",{"$f":"VLOOKUP(C4465,Referencias!$B$24:$C$40,2,FALSE())","v":"CL"}]
["4771541","Lanza Suarez, María Nuria","Castilla y León","D",{"$f":"VLOOKUP(G4466,Referencias!$C$4:$D$21,2,FALSE())","v":"Tercera Diamante"},{"$f":"VLOOKUP(G4466,Referencias!$C$4:$E$21,3,FALSE())","v":3},"3D","Competición",{"$f":"VLOOKUP(C4466,Referencias!$B$24:$C$40,2,FALSE())","v":"CL"}]
["4771542","Pascual Fuente, María José","Castilla y León","D",{"$f":"VLOOKUP(G4467,Referencias!$C$4:$D$21,2,FALSE())","v":"Tercera Diamante"},{"$f":"VLOOKUP(G4467,Referencias!$C$4:$E$21,3,FALSE())","v":3},"3D","Competición",{"$f":"VLOOKUP(C4467,Referencias!$B$24:$C$40,2,FALSE())","v":"CL"}]
["4771543","Pinedo Calvo, María Luisa ","Castilla y León","D",{"$f":"VLOOKUP(G4468,Referencias!$C$4:$D$21,2,FALSE())","v":"Tercera Diamante"},{"$f":"VLOOKUP(G4468,Referencias!$C$4:$E$21,3,FALSE())","v":3},"3D","Competición",{"$f":"VLOOKUP(C4468,Referencias!$B$24:$C$40,2,FALSE())","v":"CL"}]
["4771544","Ortiz de Zárate Torre, Nerea","Castilla y León","D",{"$f":"VLOOKUP(G4469,Referencias!$C$4:$D$21,2,FALSE())","v":"Tercera Diamante"},{"$f":"VLOOKUP(G4469,Referencias!$C$4:$E$21,3,FALSE())","v":3},"3D","Competición",{"$f":"VLOOKUP(C4469,Referencias!$B$24:$C$40,2,FALSE())","v":"CL"}]
["4771545","Pinedo Calvo, Lourdes ","Castilla y León","D",{"$f":"VLOOKUP(G4470,Referencias!$C$4:$D$21,2,FALSE())","v":"Tercera Diamante"},{"$f":"VLOOKUP(G4470,Referencias!$C$4:$E$21,3,FALSE())","v":3},"3D","Competición",{"$f":"VLOOKUP(C4470,Referencias!$B$24:$C$40,2,FALSE())","v":"CL"}]
["4771546","Calvin Velasco, Helena","Castilla y León","D",{"$f":"VLOOKUP(G4471,Referencias!$C$4:$D$21,2,FALSE())","v":"Tercera Diamante"},{"$f":"VLOOKUP(G4471,Referencias!$C$4:$E$21,3,FALSE())","v":3},"3D","Competición",{"$f":"VLOOKUP(C4471,Referencias!$B$24:$C$40,2,FALSE())","v":"CL"}]
["4771547","Liebana Pérez, Inmaculada ","Castilla y León","D",{"$f":"VLOOKUP(G4472,Referencias!$C$4:$D$21,2,FALSE())","v":"Tercera Diamante"},{"$f":"VLOOKUP(G4472,Referencias!$C$4:$E$21,3,FALSE())","v":3},"3D","Competición",{"$f":"VLOOKUP(C4472,Referencias!$B$24:$C$40,2,FALSE())","v":"CL"}]
["4771548","Lozano Muñoz, Mila ","Castilla y León","D",{"$f":"VLOOKUP(G4473,Referencias!$C$4:$D$21,2,FALSE())","v":"Tercera Diamante"},{"$f":"VLOOKUP(G4473,Referencias!$C$4:$E$21,3,FALSE())","v":3},"3D","Competición",{"$f":"VLOOKUP(C4473,Referencias!$B$24:$C$40,2,FALSE())","v":"CL"}]
["4771549","Milano Manso, Lourdes","Castilla y León","D",{"$f":"VLOOKUP(G4474,Referencias!$C$4:$D$21,2,FALSE())","v":"Tercera Diamante"},{"$f":"VLOOKUP(G4474,Referencias!$C$4:$E$21,3,FALSE())","v":3},"3D","Competición",{"$f":"VLOOKUP(C4474,Referencias!$B$24:$C$40,2,FALSE())","v":"CL"}]
["4771550","Romero Gómez, María Rosa","Castilla y León","D",{"$f":"VLOOKUP(G4475,Referencias!$C$4:$D$21,2,FALSE())","v":"Sin Categoría"},{"$f":"VLOOKUP(G4475,Referencias!$C$4:$E$21,3,FALSE())","v":4},"SC","Competición",{"$f":"VLOOKUP(C4475,Referencias!$B$24:$C$40,2,FALSE())","v":"CL"}]
["4771551","Finat Codes, María José ","Castilla y León","D",{"$f":"VLOOKUP(G4476,Referencias!$C$4:$D$21,2,FALSE())","v":"Sin Categoría"},{"$f":"VLOOKUP(G4476,Referencias!$C$4:$E$21,3,FALSE())","v":4},"SC","Competición",{"$f":"VLOOKUP(C4476,Referencias!$B$24:$C$40,2,FALSE())","v":"CL"}]
["4775902","Manteca, Julian","Castilla y León","C",{"$f":"VLOOKUP(G4477,Referencias!$C$4:$D$21,2,FALSE())","v":"Primera Corazón"},{"$f":"VLOOKUP(G4477,Referencias!$C$4:$E$21,3,FALSE())","v":1},"1C","Competición",{"$f":"VLOOKUP(C4477,Referencias!$B$24:$C$40,2,FALSE())","v":"CL"}]
["4775903","Gómez Pallete de Manteca, Mar","Castilla y León","D",{"$f":"VLOOKUP(G4478,Referencias!$C$4:$D$21,2,FALSE())","v":"Primera Picas"},{"$f":"VLOOKUP(G4478,Referencias!$C$4:$E$21,3,FALSE())","v":1},"1P","Competición",{"$f":"VLOOKUP(C4478,Referencias!$B$24:$C$40,2,FALSE())","v":"CL"}]
["4775907","García Espino, Teresa","Castilla y León","D",{"$f":"VLOOKUP(G4479,Referencias!$C$4:$D$21,2,FALSE())","v":"Tercera Diamante"},{"$f":"VLOOKUP(G4479,Referencias!$C$4:$E$21,3,FALSE())","v":3},"3D","Competición",{"$f":"VLOOKUP(C4479,Referencias!$B$24:$C$40,2,FALSE())","v":"CL"}]
["4775915","Estevez de Chamorro, Concha","Castilla y León","D",{"$f":"VLOOKUP(G4480,Referencias!$C$4:$D$21,2,FALSE())","v":"Sin Categoría"},{"$f":"VLOOKUP(G4480,Referencias!$C$4:$E$21,3,FALSE())","v":4},"SC","Competición",{"$f":"VLOOKUP(C4480,Referencias!$B$24:$C$40,2,FALSE())","v":"CL"}]
["4775917","Sagarra Rodríguez, Alicia","Castilla y León","D",{"$f":"VLOOKUP(G4481,Referencias!$C$4:$D$21,2,FALSE())","v":"Sin Categoría"},{"$f":"VLOOKUP(G4481,Referencias!$C$4:$E$21,3,FALSE())","v":4},"SC","Competición",{"$f":"VLOOKUP(C4481,Referencias!$B$24:$C$40,2,FALSE())","v":"CL"}]
["4775922","Gómez-Pallete Moliner, M. Pilar","Castilla y León","D",{"$f":"VLOOKUP(G4482,Referencias!$C$4:$D$21,2,FALSE())","v":"Segunda Picas"},{"$f":"VLOOKUP(G4482,Referencias!$C$4:$E$21,3,FALSE())","v":2},"2P","Competición",{"$f":"VLOOKUP(C4482,Referencias!$B$24:$C$40,2,FALSE())","v":"CL"}]
["4775923","Puras Ripollés, Fernando","Castilla y León","C",{"$f":"VLOOKUP(G4483,Referencias!$C$4:$D$21,2,FALSE())","v":"Primera Picas"},{"$f":"VLOOKUP(G4483,Referencias!$C$4:$E$21,3,FALSE())","v":1},"1P","Competición",{"$f":"VLOOKUP(C4483,Referencias!$B$24:$C$40,2,FALSE())","v":"CL"}]
["4775926","Sanz Sanantonio, M. del Carmen","Castilla y León","D",{"$f":"VLOOKUP(G4484,Referencias!$C$4:$D$21,2,FALSE())","v":"Tercera Picas"},{"$f":"VLOOKUP(G4484,Referencias!$C$4:$E$21,3,FALSE())","v":3},"3P","Competición",{"$f":"VLOOKUP(C4484,Referencias!$B$24:$C$40,2,FALSE())","v":"CL"}]
["4775938","García Gallego, María Jesús","Castilla y León","D",{"$f":"VLOOKUP(G4485,Referencias!$C$4:$D$21,2,FALSE())","v":"Segunda Picas"},{"$f":"VLOOKUP(G4485,Referencias!$C$4:$E$21,3,FALSE())","v":2},"2P","Competición",{"$f":"VLOOKUP(C4485,Referencias!$B$24:$C$40,2,FALSE())","v":"CL"}]
["4775942","Monsalve, María Josefa","Castilla y León","D",{"$f":"VLOOKUP(G4486,Referencias!$C$4:$D$21,2,FALSE())","v":"Sin Categoría"},{"$f":"VLOOKUP(G4486,Referencias!$C$4:$E$21,3,FALSE())","v":4},"SC","Competición",{"$f":"VLOOKUP(C4486,Referencias!$B$24:$C$40,2,FALSE())","v":"CL"}]
["4775944","Serrano Márquez, María Victoria","Castilla y León","D",{"$f":"VLOOKUP(G4487,Referencias!$C$4:$D$21,2,FALSE())","v":"Sin Categoría"},{"$f":"VLOOKUP(G4487,Referencias!$C$4:$E$21,3,FALSE())","v":4},"SC","Competición",{"$f":"VLOOKUP(C4487,Referencias!$B$24:$C$40,2,FALSE())","v":"CL"}]
["4775954","Gómez-Pallete Moliner, Alfonso","Castilla y León","C",{"$f":"VLOOKUP(G4488,Referencias!$C$4:$D$21,2,FALSE())","v":"Primera Picas"},{"$f":"VLOOKUP(G4488,Referencias!$C$4:$E$21,3,FALSE())","v":1},"1P","Competición",{"$f":"VLOOKUP(C4488,Referencias!$B$24:$C$40,2,FALSE())","v":"CL"}]
["4775958","Casares, Fernando","Castilla y León","C",{"$f":"VLOOKUP(G4489,Referencias!$C$4:$D$21,2,FALSE())","v":"Sin Categoría"},{"$f":"VLOOKUP(G4489,Referencias!$C$4:$E$21,3,FALSE())","v":4},"SC","Competición",{"$f":"VLOOKUP(C4489,Referencias!$B$24:$C$40,2,FALSE())","v":"CL"}]
["4775962","Martín Torres Pardo, Consuelo","Castilla y León","D",{"$f":"VLOOKUP(G4490,Referencias!$C$4:$D$21,2,FALSE())","v":"Segunda Diamante"},{"$f":"VLOOKUP(G4490,Referencias!$C$4:$E$21,3,FALSE())","v":2},"2D","Competición",{"$f":"VLOOKUP(C4490,Referencias!$B$24:$C$40,2,FALSE())","v":"CL"}]
["4775966","Martín Torres-Pardo, María Ángeles","Castilla y León","D",{"$f":"VLOOKUP(G4491,Referencias!$C$4:$D$21,2,FALSE())","v":"Primera Diamante"},{"$f":"VLOOKUP(G4491,Referencias!$C$4:$E$21,3,FALSE())","v":1},"1D","Competición",{"$f":"VLOOKUP(C4491,Referencias!$B$24:$C$40,2,FALSE())","v":"CL"}]
["4775967","Mediante Blázquez, María Antonia","Castilla y León","D",{"$f":"VLOOKUP(G4492,Referencias!$C$4:$D$21,2,FALSE())","v":"Primera Corazón"},{"$f":"VLOOKUP(G4492,Referencias!$C$4:$E$21,3,FALSE())","v":1},"1C","Competición",{"$f":"VLOOKUP(C4492,Referencias!$B$24:$C$40,2,FALSE())","v":"CL"}]
["4775981","Gómez Heredia, Irene","Castilla y León","D",{"$f":"VLOOKUP(G4493,Referencias!$C$4:$D$21,2,FALSE())","v":"Segunda Diamante"},{"$f":"VLOOKUP(G4493,Referencias!$C$4:$E$21,3,FALSE())","v":2},"2D","Competición",{"$f":"VLOOKUP(C4493,Referencias!$B$24:$C$40,2,FALSE())","v":"CL"}]
["4775982","Sandoval, María Teresa","Castilla y León","D",{"$f":"VLOOKUP(G4494,Referencias!$C$4:$D$21,2,FALSE())","v":"Segunda Corazón"},{"$f":"VLOOKUP(G4494,Referencias!$C$4:$E$21,3,FALSE())","v":2},"2C","Competición",{"$f":"VLOOKUP(C4494,Referencias!$B$24:$C$40,2,FALSE())","v":"CL"}]
["4775990","Camiruaga, María Concepción","Castilla y León","D",{"$f":"VLOOKUP(G4495,Referencias!$C$4:$D$21,2,FALSE())","v":"Segunda Picas"},{"$f":"VLOOKUP(G4495,Referencias!$C$4:$E$21,3,FALSE())","v":2},"2P","Competición",{"$f":"VLOOKUP(C4495,Referencias!$B$24:$C$40,2,FALSE())","v":"CL"}]
["4775992","Marín, Josefa","Castilla y León","D",{"$f":"VLOOKUP(G4496,Referencias!$C$4:$D$21,2,FALSE())","v":"Segunda Picas"},{"$f":"VLOOKUP(G4496,Referencias!$C$4:$E$21,3,FALSE())","v":2},"2P","Competición",{"$f":"VLOOKUP(C4496,Referencias!$B$24:$C$40,2,FALSE())","v":"CL"}]
["4881008","Garrote, María Luisa","Vasca","D",{"$f":"VLOOKUP(G4497,Referencias!$C$4:$D$21,2,FALSE())","v":"Tercera Corazón"},{"$f":"VLOOKUP(G4497,Referencias!$C$4:$E$21,3,FALSE())","v":3},"3C","Competición",{"$f":"VLOOKUP(C4497,Referencias!$B$24:$C$40,2,FALSE())","v":"PV"}]
["4881019","Cadiñanos Díaz Tejeiro, Eugenia","Vasca","D",{"$f":"VLOOKUP(G4498,Referencias!$C$4:$D$21,2,FALSE())","v":"Segunda Corazón"},{"$f":"VLOOKUP(G4498,Referencias!$C$4:$E$21,3,FALSE())","v":2},"2C","Competición",{"$f":"VLOOKUP(C4498,Referencias!$B$24:$C$40,2,FALSE())","v":"PV"}]
["4881022","Marcos, Igone","Vasca","D",{"$f":"VLOOKUP(G4499,Referencias!$C$4:$D$21,2,FALSE())","v":"Tercera Corazón"},{"$f":"VLOOKUP(G4499,Referencias!$C$4:$E$21,3,FALSE())","v":3},"3C","Competición",{"$f":"VLOOKUP(C4499,Referencias!$B$24:$C$40,2,FALSE())","v":"PV"}]
["4881060","Cuesta Pedraz, Elena","Vasca","D",{"$f":"VLOOKUP(G4500,Referencias!$C$4:$D$21,2,FALSE())","v":"Tercera Corazón"},{"$f":"VLOOKUP(G4500,Referencias!$C$4:$E$21,3,FALSE())","v":3},"3C","Competición",{"$f":"VLOOKUP(C4500,Referencias!$B$24:$C$40,2,FALSE())","v":"PV"}]
["4881061","Beraza López Jacoisti, Mercedes","Vasca","D",{"$f":"VLOOKUP(G4501,Referencias!$C$4:$D$21,2,FALSE())","v":"Tercera Corazón"},{"$f":"VLOOKUP(G4501,Referencias!$C$4:$E$21,3,FALSE())","v":3},"3C","Competición",{"$f":"VLOOKUP(C4501,Referencias!$B$24:$C$40,2,FALSE())","v":"PV"}]
["4881062","Beraza López Jacoisti, Eugenia","Vasca","D",{"$f":"VLOOKUP(G4502,Referencias!$C$4:$D$21,2,FALSE())","v":"Sin Categoría"},{"$f":"VLOOKUP(G4502,Referencias!$C$4:$E$21,3,FALSE())","v":4},"SC","Competición",{"$f":"VLOOKUP(C4502,Referencias!$B$24:$C$40,2,FALSE())","v":"PV"}]
["4881063","Castellanos Borrego, Anni","Vasca","D",{"$f":"VLOOKUP(G4503,Referencias!$C$4:$D$21,2,FALSE())","v":"Sin Categoría"},{"$f":"VLOOKUP(G4503,Referencias!$C$4:$E$21,3,FALSE())","v":4},"SC","Competición",{"$f":"VLOOKUP(C4503,Referencias!$B$24:$C$40,2,FALSE())","v":"PV"}]
["4881064","Garteiz Iguain, Inmaculada","Vasca","D",{"$f":"VLOOKUP(G4504,Referencias!$C$4:$D$21,2,FALSE())","v":"Segunda Picas"},{"$f":"VLOOKUP(G4504,Referencias!$C$4:$E$21,3,FALSE())","v":2},"2P","Competición",{"$f":"VLOOKUP(C4504,Referencias!$B$24:$C$40,2,FALSE())","v":"PV"}]
["4881083","Sainz de Aja Nieto, Mari Paz","Vasca","D",{"$f":"VLOOKUP(G4505,Referencias!$C$4:$D$21,2,FALSE())","v":"Segunda Picas"},{"$f":"VLOOKUP(G4505,Referencias!$C$4:$E$21,3,FALSE())","v":2},"2P","Competición",{"$f":"VLOOKUP(C4505,Referencias!$B$24:$C$40,2,FALSE())","v":"PV"}]
["4881106","Cavestany, María Salud","Vasca","D",{"$f":"VLOOKUP(G4506,Referencias!$C$4:$D$21,2,FALSE())","v":"Tercera Picas"},{"$f":"VLOOKUP(G4506,Referencias!$C$4:$E$21,3,FALSE())","v":3},"3P","Competición",{"$f":"VLOOKUP(C4506,Referencias!$B$24:$C$40,2,FALSE())","v":"PV"}]
["4881110","Eguillor Gutierrez, Begoña","Vasca","D",{"$f":"VLOOKUP(G4507,Referencias!$C$4:$D$21,2,FALSE())","v":"Sin Categoría"},{"$f":"VLOOKUP(G4507,Referencias!$C$4:$E$21,3,FALSE())","v":4},"SC","Competición",{"$f":"VLOOKUP(C4507,Referencias!$B$24:$C$40,2,FALSE())","v":"PV"}]
["4881111","Peña Sánchez, María Asunción","Vasca","D",{"$f":"VLOOKUP(G4508,Referencias!$C$4:$D$21,2,FALSE())","v":"Segunda Picas"},{"$f":"VLOOKUP(G4508,Referencias!$C$4:$E$21,3,FALSE())","v":2},"2P","Competición",{"$f":"VLOOKUP(C4508,Referencias!$B$24:$C$40,2,FALSE())","v":"PV"}]
["4881121","Barandiaran Benito del Valle, Mercedes","Vasca","D",{"$f":"VLOOKUP(G4509,Referencias!$C$4:$D$21,2,FALSE())","v":"Sin Categoría"},{"$f":"VLOOKUP(G4509,Referencias!$C$4:$E$21,3,FALSE())","v":4},"SC","Competición",{"$f":"VLOOKUP(C4509,Referencias!$B$24:$C$40,2,FALSE())","v":"PV"}]
["4881123","Muguruza Garteiz, Eugenia","Vasca","D",{"$f":"VLOOKUP(G4510,Referencias!$C$4:$D$21,2,FALSE())","v":"Sin Categoría"},{"$f":"VLOOKUP(G4510,Referencias!$C$4:$E$21,3,FALSE())","v":4},"SC","Competición",{"$f":"VLOOKUP(C4510,Referencias!$B$24:$C$40,2,FALSE())","v":"PV"}]
["4881124","Ruiz Alvárez, Estrella","Vasca","D",{"$f":"VLOOKUP(G4511,Referencias!$C$4:$D$21,2,FALSE())","v":"Tercera Corazón"},{"$f":"VLOOKUP(G4511,Referencias!$C$4:$E$21,3,FALSE())","v":3},"3C","Competición",{"$f":"VLOOKUP(C4511,Referencias!$B$24:$C$40,2,FALSE())","v":"PV"}]
["4881145","Eguillor Gutiérrez, María José","Vasca","D",{"$f":"VLOOKUP(G4512,Referencias!$C$4:$D$21,2,FALSE())","v":"Sin Categoría"},{"$f":"VLOOKUP(G4512,Referencias!$C$4:$E$21,3,FALSE())","v":4},"SC","Competición",{"$f":"VLOOKUP(C4512,Referencias!$B$24:$C$40,2,FALSE())","v":"PV"}]
["4881147","Amiano Montserrat, Isabel","Vasca","D",{"$f":"VLOOKUP(G4513,Referencias!$C$4:$D$21,2,FALSE())","v":"Tercera Picas"},{"$f":"VLOOKUP(G4513,Referencias!$C$4:$E$21,3,FALSE())","v":3},"3P","Competición",{"$f":"VLOOKUP(C4513,Referencias!$B$24:$C$40,2,FALSE())","v":"PV"}]
["4881151","Urieta Arbaizagoitia, María Mercedes","Vasca","D",{"$f":"VLOOKUP(G4514,Referencias!$C$4:$D$21,2,FALSE())","v":"Segunda Diamante"},{"$f":"VLOOKUP(G4514,Referencias!$C$4:$E$21,3,FALSE())","v":2},"2D","Competición",{"$f":"VLOOKUP(C4514,Referencias!$B$24:$C$40,2,FALSE())","v":"PV"}]
["4881163","Darriba, María Cruz","Vasca","D",{"$f":"VLOOKUP(G4515,Referencias!$C$4:$D$21,2,FALSE())","v":"Tercera Picas"},{"$f":"VLOOKUP(G4515,Referencias!$C$4:$E$21,3,FALSE())","v":3},"3P","Competición",{"$f":"VLOOKUP(C4515,Referencias!$B$24:$C$40,2,FALSE())","v":"PV"}]
["4881164","Arenaza Castellanos, Jesús","Vasca","C",{"$f":"VLOOKUP(G4516,Referencias!$C$4:$D$21,2,FALSE())","v":"Primera Picas"},{"$f":"VLOOKUP(G4516,Referencias!$C$4:$E$21,3,FALSE())","v":1},"1P","Competición",{"$f":"VLOOKUP(C4516,Referencias!$B$24:$C$40,2,FALSE())","v":"PV"}]
["4881165","Herrera, Maite","Vasca","D",{"$f":"VLOOKUP(G4517,Referencias!$C$4:$D$21,2,FALSE())","v":"Sin Categoría"},{"$f":"VLOOKUP(G4517,Referencias!$C$4:$E$21,3,FALSE())","v":4},"SC","Competición",{"$f":"VLOOKUP(C4517,Referencias!$B$24:$C$40,2,FALSE())","v":"PV"}]
["4881166","Zumárraga Ortiz, Mercedes","Vasca","D",{"$f":"VLOOKUP(G4518,Referencias!$C$4:$D$21,2,FALSE())","v":"Segunda Picas"},{"$f":"VLOOKUP(G4518,Referencias!$C$4:$E$21,3,FALSE())","v":2},"2P","Competición",{"$f":"VLOOKUP(C4518,Referencias!$B$24:$C$40,2,FALSE())","v":"PV"}]
["4881179","Puerta Díez, Pilar","Vasca","D",{"$f":"VLOOKUP(G4519,Referencias!$C$4:$D$21,2,FALSE())","v":"Tercera Diamante"},{"$f":"VLOOKUP(G4519,Referencias!$C$4:$E$21,3,FALSE())","v":3},"3D","Competición",{"$f":"VLOOKUP(C4519,Referencias!$B$24:$C$40,2,FALSE())","v":"PV"}]
["4881180","Ramírez Oyanguren, Gemma","Vasca","D",{"$f":"VLOOKUP(G4520,Referencias!$C$4:$D$21,2,FALSE())","v":"Sin Categoría"},{"$f":"VLOOKUP(G4520,Referencias!$C$4:$E$21,3,FALSE())","v":4},"SC","Competición",{"$f":"VLOOKUP(C4520,Referencias!$B$24:$C$40,2,FALSE())","v":"PV"}]
["4881181","Pellón Ureta, Esther","Vasca","D",{"$f":"VLOOKUP(G4521,Referencias!$C$4:$D$21,2,FALSE())","v":"Tercera Picas"},{"$f":"VLOOKUP(G4521,Referencias!$C$4:$E$21,3,FALSE())","v":3},"3P","Competición",{"$f":"VLOOKUP(C4521,Referencias!$B$24:$C$40,2,FALSE())","v":"PV"}]
["4881182","Lejarraga Lejarraga, Felicidad","Vasca","D",{"$f":"VLOOKUP(G4522,Referencias!$C$4:$D$21,2,FALSE())","v":"Tercera Diamante"},{"$f":"VLOOKUP(G4522,Referencias!$C$4:$E$21,3,FALSE())","v":3},"3D","Competición",{"$f":"VLOOKUP(C4522,Referencias!$B$24:$C$40,2,FALSE())","v":"PV"}]
["4881189","Mancisidor Iturregui, Belen","Vasca","D",{"$f":"VLOOKUP(G4523,Referencias!$C$4:$D$21,2,FALSE())","v":"Tercera Corazón"},{"$f":"VLOOKUP(G4523,Referencias!$C$4:$E$21,3,FALSE())","v":3},"3C","Competición",{"$f":"VLOOKUP(C4523,Referencias!$B$24:$C$40,2,FALSE())","v":"PV"}]
["4881193","Sánchez Movilla, Pilar","Vasca","D",{"$f":"VLOOKUP(G4524,Referencias!$C$4:$D$21,2,FALSE())","v":"Tercera Diamante"},{"$f":"VLOOKUP(G4524,Referencias!$C$4:$E$21,3,FALSE())","v":3},"3D","Competición",{"$f":"VLOOKUP(C4524,Referencias!$B$24:$C$40,2,FALSE())","v":"PV"}]
["4881199","Jado Mazas, María Ángeles","Vasca","D",{"$f":"VLOOKUP(G4525,Referencias!$C$4:$D$21,2,FALSE())","v":"Tercera Diamante"},{"$f":"VLOOKUP(G4525,Referencias!$C$4:$E$21,3,FALSE())","v":3},"3D","Competición",{"$f":"VLOOKUP(C4525,Referencias!$B$24:$C$40,2,FALSE())","v":"PV"}]
["4881200","Serna Cuevas, María Sol","Vasca","D",{"$f":"VLOOKUP(G4526,Referencias!$C$4:$D$21,2,FALSE())","v":"Tercera Picas"},{"$f":"VLOOKUP(G4526,Referencias!$C$4:$E$21,3,FALSE())","v":3},"3P","Competición",{"$f":"VLOOKUP(C4526,Referencias!$B$24:$C$40,2,FALSE())","v":"PV"}]
["4881201","Telleria Altuna, Amaya","Vasca","D",{"$f":"VLOOKUP(G4527,Referencias!$C$4:$D$21,2,FALSE())","v":"Sin Categoría"},{"$f":"VLOOKUP(G4527,Referencias!$C$4:$E$21,3,FALSE())","v":4},"SC","Competición",{"$f":"VLOOKUP(C4527,Referencias!$B$24:$C$40,2,FALSE())","v":"PV"}]
["4881203","Elguezabal, Begoña","Vasca","D",{"$f":"VLOOKUP(G4528,Referencias!$C$4:$D$21,2,FALSE())","v":"Tercera Picas"},{"$f":"VLOOKUP(G4528,Referencias!$C$4:$E$21,3,FALSE())","v":3},"3P","Competición",{"$f":"VLOOKUP(C4528,Referencias!$B$24:$C$40,2,FALSE())","v":"PV"}]
["4881204","Aldazabal García, Pilar","Vasca","D",{"$f":"VLOOKUP(G4529,Referencias!$C$4:$D$21,2,FALSE())","v":"Tercera Corazón"},{"$f":"VLOOKUP(G4529,Referencias!$C$4:$E$21,3,FALSE())","v":3},"3C","Competición",{"$f":"VLOOKUP(C4529,Referencias!$B$24:$C$40,2,FALSE())","v":"PV"}]
["4881211","Basterra Gallano, Pepa","Vasca","D",{"$f":"VLOOKUP(G4530,Referencias!$C$4:$D$21,2,FALSE())","v":"Sin Categoría"},{"$f":"VLOOKUP(G4530,Referencias!$C$4:$E$21,3,FALSE())","v":4},"SC","Competición",{"$f":"VLOOKUP(C4530,Referencias!$B$24:$C$40,2,FALSE())","v":"PV"}]
["4881212","Eguzquiaguirre, Lori","Vasca","D",{"$f":"VLOOKUP(G4531,Referencias!$C$4:$D$21,2,FALSE())","v":"Segunda Diamante"},{"$f":"VLOOKUP(G4531,Referencias!$C$4:$E$21,3,FALSE())","v":2},"2D","Competición",{"$f":"VLOOKUP(C4531,Referencias!$B$24:$C$40,2,FALSE())","v":"PV"}]
["4881218","de Diego Zuazo, Mabe","Vasca","C",{"$f":"VLOOKUP(G4532,Referencias!$C$4:$D$21,2,FALSE())","v":"Sin Categoría"},{"$f":"VLOOKUP(G4532,Referencias!$C$4:$E$21,3,FALSE())","v":4},"SC","Competición",{"$f":"VLOOKUP(C4532,Referencias!$B$24:$C$40,2,FALSE())","v":"PV"}]
["4881219","Gorostiza, Carmen","Vasca","D",{"$f":"VLOOKUP(G4533,Referencias!$C$4:$D$21,2,FALSE())","v":"Sin Categoría"},{"$f":"VLOOKUP(G4533,Referencias!$C$4:$E$21,3,FALSE())","v":4},"SC","Competición",{"$f":"VLOOKUP(C4533,Referencias!$B$24:$C$40,2,FALSE())","v":"PV"}]
["4881223","Hurtado de Saracho, María","Vasca","D",{"$f":"VLOOKUP(G4534,Referencias!$C$4:$D$21,2,FALSE())","v":"Tercera Diamante"},{"$f":"VLOOKUP(G4534,Referencias!$C$4:$E$21,3,FALSE())","v":3},"3D","Competición",{"$f":"VLOOKUP(C4534,Referencias!$B$24:$C$40,2,FALSE())","v":"PV"}]
["4881224","Echevarría de Rada, Maria","Vasca","D",{"$f":"VLOOKUP(G4535,Referencias!$C$4:$D$21,2,FALSE())","v":"Tercera Diamante"},{"$f":"VLOOKUP(G4535,Referencias!$C$4:$E$21,3,FALSE())","v":3},"3D","Competición",{"$f":"VLOOKUP(C4535,Referencias!$B$24:$C$40,2,FALSE())","v":"PV"}]
["4881225","Maguregui, Clara","Vasca","D",{"$f":"VLOOKUP(G4536,Referencias!$C$4:$D$21,2,FALSE())","v":"Tercera Diamante"},{"$f":"VLOOKUP(G4536,Referencias!$C$4:$E$21,3,FALSE())","v":3},"3D","Competición",{"$f":"VLOOKUP(C4536,Referencias!$B$24:$C$40,2,FALSE())","v":"PV"}]
["4881233","Santiago Ortúzar, Concepción","Vasca","D",{"$f":"VLOOKUP(G4537,Referencias!$C$4:$D$21,2,FALSE())","v":"Tercera Picas"},{"$f":"VLOOKUP(G4537,Referencias!$C$4:$E$21,3,FALSE())","v":3},"3P","Competición",{"$f":"VLOOKUP(C4537,Referencias!$B$24:$C$40,2,FALSE())","v":"PV"}]
["4881234","Goicoechea Bartolome, Natividad","Vasca","D",{"$f":"VLOOKUP(G4538,Referencias!$C$4:$D$21,2,FALSE())","v":"Sin Categoría"},{"$f":"VLOOKUP(G4538,Referencias!$C$4:$E$21,3,FALSE())","v":4},"SC","Competición",{"$f":"VLOOKUP(C4538,Referencias!$B$24:$C$40,2,FALSE())","v":"PV"}]
["4881235","Gaytan de Ayala, Alejandro","Vasca","C",{"$f":"VLOOKUP(G4539,Referencias!$C$4:$D$21,2,FALSE())","v":"Segunda Corazón"},{"$f":"VLOOKUP(G4539,Referencias!$C$4:$E$21,3,FALSE())","v":2},"2C","Competición",{"$f":"VLOOKUP(C4539,Referencias!$B$24:$C$40,2,FALSE())","v":"PV"}]
["4881236","Martínez Martínez, Pilar","Vasca","D",{"$f":"VLOOKUP(G4540,Referencias!$C$4:$D$21,2,FALSE())","v":"Sin Categoría"},{"$f":"VLOOKUP(G4540,Referencias!$C$4:$E$21,3,FALSE())","v":4},"SC","Competición",{"$f":"VLOOKUP(C4540,Referencias!$B$24:$C$40,2,FALSE())","v":"PV"}]
["4881237","Regalado Marichalar, Francisco","Vasca","C",{"$f":"VLOOKUP(G4541,Referencias!$C$4:$D$21,2,FALSE())","v":"Sin Categoría"},{"$f":"VLOOKUP(G4541,Referencias!$C$4:$E$21,3,FALSE())","v":4},"SC","Competición",{"$f":"VLOOKUP(C4541,Referencias!$B$24:$C$40,2,FALSE())","v":"PV"}]
["4881238","Carranza Irusta, María Jesús","Vasca","D",{"$f":"VLOOKUP(G4542,Referencias!$C$4:$D$21,2,FALSE())","v":"Tercera Corazón"},{"$f":"VLOOKUP(G4542,Referencias!$C$4:$E$21,3,FALSE())","v":3},"3C","Competición",{"$f":"VLOOKUP(C4542,Referencias!$B$24:$C$40,2,FALSE())","v":"PV"}]
["4881240","Cadarso Manzanares, María","Vasca","D",{"$f":"VLOOKUP(G4543,Referencias!$C$4:$D$21,2,FALSE())","v":"Tercera Corazón"},{"$f":"VLOOKUP(G4543,Referencias!$C$4:$E$21,3,FALSE())","v":3},"3C","Competición",{"$f":"VLOOKUP(C4543,Referencias!$B$24:$C$40,2,FALSE())","v":"PV"}]
["4881241","Ceberio Seco, Marta","Vasca","D",{"$f":"VLOOKUP(G4544,Referencias!$C$4:$D$21,2,FALSE())","v":"Sin Categoría"},{"$f":"VLOOKUP(G4544,Referencias!$C$4:$E$21,3,FALSE())","v":4},"SC","Competición",{"$f":"VLOOKUP(C4544,Referencias!$B$24:$C$40,2,FALSE())","v":"PV"}]
["4881251","Salazar, Mercedes","Vasca","D",{"$f":"VLOOKUP(G4545,Referencias!$C$4:$D$21,2,FALSE())","v":"Sin Categoría"},{"$f":"VLOOKUP(G4545,Referencias!$C$4:$E$21,3,FALSE())","v":4},"SC","Competición",{"$f":"VLOOKUP(C4545,Referencias!$B$24:$C$40,2,FALSE())","v":"PV"}]
["4881252","Salazar, Marta","Vasca","D",{"$f":"VLOOKUP(G4546,Referencias!$C$4:$D$21,2,FALSE())","v":"Tercera Picas"},{"$f":"VLOOKUP(G4546,Referencias!$C$4:$E$21,3,FALSE())","v":3},"3P","Competición",{"$f":"VLOOKUP(C4546,Referencias!$B$24:$C$40,2,FALSE())","v":"PV"}]
["4881256","Fabregas, Ana","Vasca","D",{"$f":"VLOOKUP(G4547,Referencias!$C$4:$D$21,2,FALSE())","v":"Sin Categoría"},{"$f":"VLOOKUP(G4547,Referencias!$C$4:$E$21,3,FALSE())","v":4},"SC","Competición",{"$f":"VLOOKUP(C4547,Referencias!$B$24:$C$40,2,FALSE())","v":"PV"}]
["4881260","Arbaiza, Lourdes","Vasca","D",{"$f":"VLOOKUP(G4548,Referencias!$C$4:$D$21,2,FALSE())","v":"Sin Categoría"},{"$f":"VLOOKUP(G4548,Referencias!$C$4:$E$21,3,FALSE())","v":4},"SC","Competición",{"$f":"VLOOKUP(C4548,Referencias!$B$24:$C$40,2,FALSE())","v":"PV"}]
["4881263","López Gónzalez, Dolores","Vasca","D",{"$f":"VLOOKUP(G4549,Referencias!$C$4:$D$21,2,FALSE())","v":"Tercera Diamante"},{"$f":"VLOOKUP(G4549,Referencias!$C$4:$E$21,3,FALSE())","v":3},"3D","Competición",{"$f":"VLOOKUP(C4549,Referencias!$B$24:$C$40,2,FALSE())","v":"PV"}]
["4881267","Trevijano Arístegui, María Jesús","Vasca","D",{"$f":"VLOOKUP(G4550,Referencias!$C$4:$D$21,2,FALSE())","v":"Sin Categoría"},{"$f":"VLOOKUP(G4550,Referencias!$C$4:$E$21,3,FALSE())","v":4},"SC","Competición",{"$f":"VLOOKUP(C4550,Referencias!$B$24:$C$40,2,FALSE())","v":"PV"}]
["4881268","García Zalbidea, María Luisa","Vasca","D",{"$f":"VLOOKUP(G4551,Referencias!$C$4:$D$21,2,FALSE())","v":"Sin Categoría"},{"$f":"VLOOKUP(G4551,Referencias!$C$4:$E$21,3,FALSE())","v":4},"SC","Competición",{"$f":"VLOOKUP(C4551,Referencias!$B$24:$C$40,2,FALSE())","v":"PV"}]
["4881269","Estella Escudero, Enrique","Vasca","C",{"$f":"VLOOKUP(G4552,Referencias!$C$4:$D$21,2,FALSE())","v":"Tercera Diamante"},{"$f":"VLOOKUP(G4552,Referencias!$C$4:$E$21,3,FALSE())","v":3},"3D","Competición",{"$f":"VLOOKUP(C4552,Referencias!$B$24:$C$40,2,FALSE())","v":"PV"}]
["4881272","Uruñuela del Rio, Cristina","Vasca","D",{"$f":"VLOOKUP(G4553,Referencias!$C$4:$D$21,2,FALSE())","v":"Tercera Diamante"},{"$f":"VLOOKUP(G4553,Referencias!$C$4:$E$21,3,FALSE())","v":3},"3D","Competición",{"$f":"VLOOKUP(C4553,Referencias!$B$24:$C$40,2,FALSE())","v":"PV"}]
["4881273","Landin, Teresa","Vasca","D",{"$f":"VLOOKUP(G4554,Referencias!$C$4:$D$21,2,FALSE())","v":"Sin Categoría"},{"$f":"VLOOKUP(G4554,Referencias!$C$4:$E$21,3,FALSE())","v":4},"SC","Competición",{"$f":"VLOOKUP(C4554,Referencias!$B$24:$C$40,2,FALSE())","v":"PV"}]
["4881274","Franks, Jeffrey Roy","Vasca","C",{"$f":"VLOOKUP(G4555,Referencias!$C$4:$D$21,2,FALSE())","v":"Tercera Corazón"},{"$f":"VLOOKUP(G4555,Referencias!$C$4:$E$21,3,FALSE())","v":3},"3C","Competición",{"$f":"VLOOKUP(C4555,Referencias!$B$24:$C$40,2,FALSE())","v":"PV"}]
["4881283","Oliva Albalate, María","Vasca","D",{"$f":"VLOOKUP(G4556,Referencias!$C$4:$D$21,2,FALSE())","v":"Tercera Diamante"},{"$f":"VLOOKUP(G4556,Referencias!$C$4:$E$21,3,FALSE())","v":3},"3D","Competición",{"$f":"VLOOKUP(C4556,Referencias!$B$24:$C$40,2,FALSE())","v":"PV"}]
["4883601","Landabaso Vergara, Nieves","Vasca","D",{"$f":"VLOOKUP(G4557,Referencias!$C$4:$D$21,2,FALSE())","v":"Primera Diamante"},{"$f":"VLOOKUP(G4557,Referencias!$C$4:$E$21,3,FALSE())","v":1},"1D","Competición",{"$f":"VLOOKUP(C4557,Referencias!$B$24:$C$40,2,FALSE())","v":"PV"}]
["4883623","Calonge de Olabe, Paz","Vasca","D",{"$f":"VLOOKUP(G4558,Referencias!$C$4:$D$21,2,FALSE())","v":"Sin Categoría"},{"$f":"VLOOKUP(G4558,Referencias!$C$4:$E$21,3,FALSE())","v":4},"SC","Competición",{"$f":"VLOOKUP(C4558,Referencias!$B$24:$C$40,2,FALSE())","v":"PV"}]
["4883624","Velasco de Hurtado de Mendoza, M. Gabriela","Vasca","D",{"$f":"VLOOKUP(G4559,Referencias!$C$4:$D$21,2,FALSE())","v":"Sin Categoría"},{"$f":"VLOOKUP(G4559,Referencias!$C$4:$E$21,3,FALSE())","v":4},"SC","Competición",{"$f":"VLOOKUP(C4559,Referencias!$B$24:$C$40,2,FALSE())","v":"PV"}]
["4883630","Couceiro, María Paz","Vasca","D",{"$f":"VLOOKUP(G4560,Referencias!$C$4:$D$21,2,FALSE())","v":"Sin Categoría"},{"$f":"VLOOKUP(G4560,Referencias!$C$4:$E$21,3,FALSE())","v":4},"SC","Competición",{"$f":"VLOOKUP(C4560,Referencias!$B$24:$C$40,2,FALSE())","v":"PV"}]
["4883641","de Collell, Mercedes","Vasca","D",{"$f":"VLOOKUP(G4561,Referencias!$C$4:$D$21,2,FALSE())","v":"Sin Categoría"},{"$f":"VLOOKUP(G4561,Referencias!$C$4:$E$21,3,FALSE())","v":4},"SC","Competición",{"$f":"VLOOKUP(C4561,Referencias!$B$24:$C$40,2,FALSE())","v":"PV"}]
["4883650","Maeso de Acillona, Esther","Vasca","D",{"$f":"VLOOKUP(G4562,Referencias!$C$4:$D$21,2,FALSE())","v":"Tercera Corazón"},{"$f":"VLOOKUP(G4562,Referencias!$C$4:$E$21,3,FALSE())","v":3},"3C","Competición",{"$f":"VLOOKUP(C4562,Referencias!$B$24:$C$40,2,FALSE())","v":"PV"}]
["4883661","Fincias, Patrice","Vasca","C",{"$f":"VLOOKUP(G4563,Referencias!$C$4:$D$21,2,FALSE())","v":"Primera Picas"},{"$f":"VLOOKUP(G4563,Referencias!$C$4:$E$21,3,FALSE())","v":1},"1P","Competición",{"$f":"VLOOKUP(C4563,Referencias!$B$24:$C$40,2,FALSE())","v":"PV"}]
["4883679","Navea, Carmen","Vasca","D",{"$f":"VLOOKUP(G4564,Referencias!$C$4:$D$21,2,FALSE())","v":"Segunda Diamante"},{"$f":"VLOOKUP(G4564,Referencias!$C$4:$E$21,3,FALSE())","v":2},"2D","Competición",{"$f":"VLOOKUP(C4564,Referencias!$B$24:$C$40,2,FALSE())","v":"PV"}]
["4883680","Abrisketa González, María Ángeles","Vasca","D",{"$f":"VLOOKUP(G4565,Referencias!$C$4:$D$21,2,FALSE())","v":"Sin Categoría"},{"$f":"VLOOKUP(G4565,Referencias!$C$4:$E$21,3,FALSE())","v":4},"SC","Competición",{"$f":"VLOOKUP(C4565,Referencias!$B$24:$C$40,2,FALSE())","v":"PV"}]
["4883682","Zarauz Elguezabal, Francisco Javier","Vasca","C",{"$f":"VLOOKUP(G4566,Referencias!$C$4:$D$21,2,FALSE())","v":"Segunda Diamante"},{"$f":"VLOOKUP(G4566,Referencias!$C$4:$E$21,3,FALSE())","v":2},"2D","Competición",{"$f":"VLOOKUP(C4566,Referencias!$B$24:$C$40,2,FALSE())","v":"PV"}]
["4883683","Saralegui de Zarauz, M. Covadonga","Vasca","D",{"$f":"VLOOKUP(G4567,Referencias!$C$4:$D$21,2,FALSE())","v":"Sin Categoría"},{"$f":"VLOOKUP(G4567,Referencias!$C$4:$E$21,3,FALSE())","v":4},"SC","Competición",{"$f":"VLOOKUP(C4567,Referencias!$B$24:$C$40,2,FALSE())","v":"PV"}]
["4883698","Besga, José Angel","Vasca","C",{"$f":"VLOOKUP(G4568,Referencias!$C$4:$D$21,2,FALSE())","v":"Sin Categoría"},{"$f":"VLOOKUP(G4568,Referencias!$C$4:$E$21,3,FALSE())","v":4},"SC","Competición",{"$f":"VLOOKUP(C4568,Referencias!$B$24:$C$40,2,FALSE())","v":"PV"}]
["4883705","Moreno Rojo, Severiano","Vasca","C",{"$f":"VLOOKUP(G4569,Referencias!$C$4:$D$21,2,FALSE())","v":"Primera Diamante"},{"$f":"VLOOKUP(G4569,Referencias!$C$4:$E$21,3,FALSE())","v":1},"1D","Competición",{"$f":"VLOOKUP(C4569,Referencias!$B$24:$C$40,2,FALSE())","v":"PV"}]
["4883723","Castilla Díez, Ana","Vasca","D",{"$f":"VLOOKUP(G4570,Referencias!$C$4:$D$21,2,FALSE())","v":"Sin Categoría"},{"$f":"VLOOKUP(G4570,Referencias!$C$4:$E$21,3,FALSE())","v":4},"SC","Competición",{"$f":"VLOOKUP(C4570,Referencias!$B$24:$C$40,2,FALSE())","v":"PV"}]
["4883726","Vasquez de Wencelblat, Gladys","Vasca","D",{"$f":"VLOOKUP(G4571,Referencias!$C$4:$D$21,2,FALSE())","v":"Tercera Picas"},{"$f":"VLOOKUP(G4571,Referencias!$C$4:$E$21,3,FALSE())","v":3},"3P","Competición",{"$f":"VLOOKUP(C4571,Referencias!$B$24:$C$40,2,FALSE())","v":"PV"}]
["4883732","Borao de la Fuente, Adela","Vasca","D",{"$f":"VLOOKUP(G4572,Referencias!$C$4:$D$21,2,FALSE())","v":"Sin Categoría"},{"$f":"VLOOKUP(G4572,Referencias!$C$4:$E$21,3,FALSE())","v":4},"SC","Competición",{"$f":"VLOOKUP(C4572,Referencias!$B$24:$C$40,2,FALSE())","v":"PV"}]
["4883733","Etxebarría Mezo, Arantxa","Vasca","D",{"$f":"VLOOKUP(G4573,Referencias!$C$4:$D$21,2,FALSE())","v":"Sin Categoría"},{"$f":"VLOOKUP(G4573,Referencias!$C$4:$E$21,3,FALSE())","v":4},"SC","Competición",{"$f":"VLOOKUP(C4573,Referencias!$B$24:$C$40,2,FALSE())","v":"PV"}]
["4883740","Ruiz de Velasco, Mónica","Vasca","D",{"$f":"VLOOKUP(G4574,Referencias!$C$4:$D$21,2,FALSE())","v":"Sin Categoría"},{"$f":"VLOOKUP(G4574,Referencias!$C$4:$E$21,3,FALSE())","v":4},"SC","Competición",{"$f":"VLOOKUP(C4574,Referencias!$B$24:$C$40,2,FALSE())","v":"PV"}]
["4883747","Puerta de Olabarría, María Asunción","Vasca","D",{"$f":"VLOOKUP(G4575,Referencias!$C$4:$D$21,2,FALSE())","v":"Sin Categoría"},{"$f":"VLOOKUP(G4575,Referencias!$C$4:$E$21,3,FALSE())","v":4},"SC","Competición",{"$f":"VLOOKUP(C4575,Referencias!$B$24:$C$40,2,FALSE())","v":"PV"}]
["4883759","Ledo Pozueta, Isabel","Vasca","D",{"$f":"VLOOKUP(G4576,Referencias!$C$4:$D$21,2,FALSE())","v":"Tercera Diamante"},{"$f":"VLOOKUP(G4576,Referencias!$C$4:$E$21,3,FALSE())","v":3},"3D","Competición",{"$f":"VLOOKUP(C4576,Referencias!$B$24:$C$40,2,FALSE())","v":"PV"}]
["4883760","Ros Eguia, Begoña","Vasca","D",{"$f":"VLOOKUP(G4577,Referencias!$C$4:$D$21,2,FALSE())","v":"Sin Categoría"},{"$f":"VLOOKUP(G4577,Referencias!$C$4:$E$21,3,FALSE())","v":4},"SC","Competición",{"$f":"VLOOKUP(C4577,Referencias!$B$24:$C$40,2,FALSE())","v":"PV"}]
["4883761","Uriarte Martínez, Inmaculada","Vasca","D",{"$f":"VLOOKUP(G4578,Referencias!$C$4:$D$21,2,FALSE())","v":"Tercera Diamante"},{"$f":"VLOOKUP(G4578,Referencias!$C$4:$E$21,3,FALSE())","v":3},"3D","Competición",{"$f":"VLOOKUP(C4578,Referencias!$B$24:$C$40,2,FALSE())","v":"PV"}]
["5002016","Bellota Gallardo, María Rosario","Aragonesa","D",{"$f":"VLOOKUP(G4579,Referencias!$C$4:$D$21,2,FALSE())","v":"Sin Categoría"},{"$f":"VLOOKUP(G4579,Referencias!$C$4:$E$21,3,FALSE())","v":4},"SC","Competición",{"$f":"VLOOKUP(C4579,Referencias!$B$24:$C$40,2,FALSE())","v":"AR"}]
["5002052","Hernández Herrera, Rosa","Aragonesa","D",{"$f":"VLOOKUP(G4580,Referencias!$C$4:$D$21,2,FALSE())","v":"Sin Categoría"},{"$f":"VLOOKUP(G4580,Referencias!$C$4:$E$21,3,FALSE())","v":4},"SC","Competición",{"$f":"VLOOKUP(C4580,Referencias!$B$24:$C$40,2,FALSE())","v":"AR"}]
["5002053","Lete del Río, María Dolores","Aragonesa","D",{"$f":"VLOOKUP(G4581,Referencias!$C$4:$D$21,2,FALSE())","v":"Sin Categoría"},{"$f":"VLOOKUP(G4581,Referencias!$C$4:$E$21,3,FALSE())","v":4},"SC","Competición",{"$f":"VLOOKUP(C4581,Referencias!$B$24:$C$40,2,FALSE())","v":"AR"}]
["5002054","Embid Marco, María Teresa","Aragonesa","D",{"$f":"VLOOKUP(G4582,Referencias!$C$4:$D$21,2,FALSE())","v":"Sin Categoría"},{"$f":"VLOOKUP(G4582,Referencias!$C$4:$E$21,3,FALSE())","v":4},"SC","Competición",{"$f":"VLOOKUP(C4582,Referencias!$B$24:$C$40,2,FALSE())","v":"AR"}]
["5002061","Morales Hernández, María Luisa","Aragonesa","D",{"$f":"VLOOKUP(G4583,Referencias!$C$4:$D$21,2,FALSE())","v":"Sin Categoría"},{"$f":"VLOOKUP(G4583,Referencias!$C$4:$E$21,3,FALSE())","v":4},"SC","Competición",{"$f":"VLOOKUP(C4583,Referencias!$B$24:$C$40,2,FALSE())","v":"AR"}]
["5002062","Olivan Moliner, María Elena","Aragonesa","D",{"$f":"VLOOKUP(G4584,Referencias!$C$4:$D$21,2,FALSE())","v":"Sin Categoría"},{"$f":"VLOOKUP(G4584,Referencias!$C$4:$E$21,3,FALSE())","v":4},"SC","Competición",{"$f":"VLOOKUP(C4584,Referencias!$B$24:$C$40,2,FALSE())","v":"AR"}]
["5002071","Gómez Prado, María del Carmen","Aragonesa","D",{"$f":"VLOOKUP(G4585,Referencias!$C$4:$D$21,2,FALSE())","v":"Tercera Diamante"},{"$f":"VLOOKUP(G4585,Referencias!$C$4:$E$21,3,FALSE())","v":3},"3D","Competición",{"$f":"VLOOKUP(C4585,Referencias!$B$24:$C$40,2,FALSE())","v":"AR"}]
["5002080","Irigoyen Jadraque, María Victoria","Aragonesa","D",{"$f":"VLOOKUP(G4586,Referencias!$C$4:$D$21,2,FALSE())","v":"Sin Categoría"},{"$f":"VLOOKUP(G4586,Referencias!$C$4:$E$21,3,FALSE())","v":4},"SC","Competición",{"$f":"VLOOKUP(C4586,Referencias!$B$24:$C$40,2,FALSE())","v":"AR"}]
["5002089","Alfageme Ortells, Concha","Aragonesa","D",{"$f":"VLOOKUP(G4587,Referencias!$C$4:$D$21,2,FALSE())","v":"Sin Categoría"},{"$f":"VLOOKUP(G4587,Referencias!$C$4:$E$21,3,FALSE())","v":4},"SC","Competición",{"$f":"VLOOKUP(C4587,Referencias!$B$24:$C$40,2,FALSE())","v":"AR"}]
["5002093","de Blancafort, Baronesa","Aragonesa","D",{"$f":"VLOOKUP(G4588,Referencias!$C$4:$D$21,2,FALSE())","v":"Sin Categoría"},{"$f":"VLOOKUP(G4588,Referencias!$C$4:$E$21,3,FALSE())","v":4},"SC","Competición",{"$f":"VLOOKUP(C4588,Referencias!$B$24:$C$40,2,FALSE())","v":"AR"}]
["5002095","Mir Borraz, María Elena","Aragonesa","D",{"$f":"VLOOKUP(G4589,Referencias!$C$4:$D$21,2,FALSE())","v":"Sin Categoría"},{"$f":"VLOOKUP(G4589,Referencias!$C$4:$E$21,3,FALSE())","v":4},"SC","Competición",{"$f":"VLOOKUP(C4589,Referencias!$B$24:$C$40,2,FALSE())","v":"AR"}]
["5002096","Goyanes Carnicer, Ana","Aragonesa","D",{"$f":"VLOOKUP(G4590,Referencias!$C$4:$D$21,2,FALSE())","v":"Sin Categoría"},{"$f":"VLOOKUP(G4590,Referencias!$C$4:$E$21,3,FALSE())","v":4},"SC","Competición",{"$f":"VLOOKUP(C4590,Referencias!$B$24:$C$40,2,FALSE())","v":"AR"}]
["5002103","Gonzaléz Usón, María Pilar","Aragonesa","D",{"$f":"VLOOKUP(G4591,Referencias!$C$4:$D$21,2,FALSE())","v":"Segunda Picas"},{"$f":"VLOOKUP(G4591,Referencias!$C$4:$E$21,3,FALSE())","v":2},"2P","Competición",{"$f":"VLOOKUP(C4591,Referencias!$B$24:$C$40,2,FALSE())","v":"AR"}]
["5002104","Jiménez Cauhe, José María","Aragonesa","C",{"$f":"VLOOKUP(G4592,Referencias!$C$4:$D$21,2,FALSE())","v":"Sin Categoría"},{"$f":"VLOOKUP(G4592,Referencias!$C$4:$E$21,3,FALSE())","v":4},"SC","Competición",{"$f":"VLOOKUP(C4592,Referencias!$B$24:$C$40,2,FALSE())","v":"AR"}]
["5002105","Burgos Pérez, Rosa María","Aragonesa","D",{"$f":"VLOOKUP(G4593,Referencias!$C$4:$D$21,2,FALSE())","v":"Sin Categoría"},{"$f":"VLOOKUP(G4593,Referencias!$C$4:$E$21,3,FALSE())","v":4},"SC","Competición",{"$f":"VLOOKUP(C4593,Referencias!$B$24:$C$40,2,FALSE())","v":"AR"}]
["5002106","Peirote Vallino, Jose Antonio","Aragonesa","C",{"$f":"VLOOKUP(G4594,Referencias!$C$4:$D$21,2,FALSE())","v":"Sin Categoría"},{"$f":"VLOOKUP(G4594,Referencias!$C$4:$E$21,3,FALSE())","v":4},"SC","Competición",{"$f":"VLOOKUP(C4594,Referencias!$B$24:$C$40,2,FALSE())","v":"AR"}]
["5002107","Cauhe Polo, María Victoria","Aragonesa","D",{"$f":"VLOOKUP(G4595,Referencias!$C$4:$D$21,2,FALSE())","v":"Segunda Picas"},{"$f":"VLOOKUP(G4595,Referencias!$C$4:$E$21,3,FALSE())","v":2},"2P","Competición",{"$f":"VLOOKUP(C4595,Referencias!$B$24:$C$40,2,FALSE())","v":"AR"}]
["5002108","Valderrábano, José","Aragonesa","C",{"$f":"VLOOKUP(G4596,Referencias!$C$4:$D$21,2,FALSE())","v":"Sin Categoría"},{"$f":"VLOOKUP(G4596,Referencias!$C$4:$E$21,3,FALSE())","v":4},"SC","Competición",{"$f":"VLOOKUP(C4596,Referencias!$B$24:$C$40,2,FALSE())","v":"AR"}]
["5002109","Petersen, Mitte","Aragonesa","D",{"$f":"VLOOKUP(G4597,Referencias!$C$4:$D$21,2,FALSE())","v":"Sin Categoría"},{"$f":"VLOOKUP(G4597,Referencias!$C$4:$E$21,3,FALSE())","v":4},"SC","Competición",{"$f":"VLOOKUP(C4597,Referencias!$B$24:$C$40,2,FALSE())","v":"AR"}]
["5002110","Hernández Marco, Victoria","Aragonesa","D",{"$f":"VLOOKUP(G4598,Referencias!$C$4:$D$21,2,FALSE())","v":"Tercera Diamante"},{"$f":"VLOOKUP(G4598,Referencias!$C$4:$E$21,3,FALSE())","v":3},"3D","Competición",{"$f":"VLOOKUP(C4598,Referencias!$B$24:$C$40,2,FALSE())","v":"AR"}]
["5002136","Rodríguez de Pérez, Elena","Aragonesa","D",{"$f":"VLOOKUP(G4599,Referencias!$C$4:$D$21,2,FALSE())","v":"Sin Categoría"},{"$f":"VLOOKUP(G4599,Referencias!$C$4:$E$21,3,FALSE())","v":4},"SC","Competición",{"$f":"VLOOKUP(C4599,Referencias!$B$24:$C$40,2,FALSE())","v":"AR"}]
["5002139","Sasot Peralta, Lola","Aragonesa","D",{"$f":"VLOOKUP(G4600,Referencias!$C$4:$D$21,2,FALSE())","v":"Sin Categoría"},{"$f":"VLOOKUP(G4600,Referencias!$C$4:$E$21,3,FALSE())","v":4},"SC","Competición",{"$f":"VLOOKUP(C4600,Referencias!$B$24:$C$40,2,FALSE())","v":"AR"}]
["5002140","Fernández de Pierola, Enriqueta","Aragonesa","D",{"$f":"VLOOKUP(G4601,Referencias!$C$4:$D$21,2,FALSE())","v":"Tercera Picas"},{"$f":"VLOOKUP(G4601,Referencias!$C$4:$E$21,3,FALSE())","v":3},"3P","Competición",{"$f":"VLOOKUP(C4601,Referencias!$B$24:$C$40,2,FALSE())","v":"AR"}]
["5002176","Chappell, Mark","Asturiana","C",{"$f":"VLOOKUP(G4602,Referencias!$C$4:$D$21,2,FALSE())","v":"Primera Picas"},{"$f":"VLOOKUP(G4602,Referencias!$C$4:$E$21,3,FALSE())","v":1},"1P","Competición",{"$f":"VLOOKUP(C4602,Referencias!$B$24:$C$40,2,FALSE())","v":"PA"}]
["5002177","Díaz de Fdez.-Granados, Carmen","Aragonesa","D",{"$f":"VLOOKUP(G4603,Referencias!$C$4:$D$21,2,FALSE())","v":"Sin Categoría"},{"$f":"VLOOKUP(G4603,Referencias!$C$4:$E$21,3,FALSE())","v":4},"SC","Competición",{"$f":"VLOOKUP(C4603,Referencias!$B$24:$C$40,2,FALSE())","v":"AR"}]
["5002222","Díaz de Argandoña, Fernando Luis","Aragonesa","C",{"$f":"VLOOKUP(G4604,Referencias!$C$4:$D$21,2,FALSE())","v":"Segunda Picas"},{"$f":"VLOOKUP(G4604,Referencias!$C$4:$E$21,3,FALSE())","v":2},"2P","Competición",{"$f":"VLOOKUP(C4604,Referencias!$B$24:$C$40,2,FALSE())","v":"AR"}]
["5002223","Veciana Rión, María","Aragonesa","D",{"$f":"VLOOKUP(G4605,Referencias!$C$4:$D$21,2,FALSE())","v":"Segunda Picas"},{"$f":"VLOOKUP(G4605,Referencias!$C$4:$E$21,3,FALSE())","v":2},"2P","Competición",{"$f":"VLOOKUP(C4605,Referencias!$B$24:$C$40,2,FALSE())","v":"AR"}]
["5002228","Sau Llanas, María Carmen","Aragonesa","D",{"$f":"VLOOKUP(G4606,Referencias!$C$4:$D$21,2,FALSE())","v":"Sin Categoría"},{"$f":"VLOOKUP(G4606,Referencias!$C$4:$E$21,3,FALSE())","v":4},"SC","Competición",{"$f":"VLOOKUP(C4606,Referencias!$B$24:$C$40,2,FALSE())","v":"AR"}]
["5002231","Lausin Miguel, María  Rosa","Aragonesa","D",{"$f":"VLOOKUP(G4607,Referencias!$C$4:$D$21,2,FALSE())","v":"Tercera Corazón"},{"$f":"VLOOKUP(G4607,Referencias!$C$4:$E$21,3,FALSE())","v":3},"3C","Competición",{"$f":"VLOOKUP(C4607,Referencias!$B$24:$C$40,2,FALSE())","v":"AR"}]
["5002232","Boix Pau, Gerardo","Aragonesa","C",{"$f":"VLOOKUP(G4608,Referencias!$C$4:$D$21,2,FALSE())","v":"Sin Categoría"},{"$f":"VLOOKUP(G4608,Referencias!$C$4:$E$21,3,FALSE())","v":4},"SC","Competición",{"$f":"VLOOKUP(C4608,Referencias!$B$24:$C$40,2,FALSE())","v":"AR"}]
["5002233","Tejero Arbues, Cristina","Aragonesa","D",{"$f":"VLOOKUP(G4609,Referencias!$C$4:$D$21,2,FALSE())","v":"Sin Categoría"},{"$f":"VLOOKUP(G4609,Referencias!$C$4:$E$21,3,FALSE())","v":4},"SC","Competición",{"$f":"VLOOKUP(C4609,Referencias!$B$24:$C$40,2,FALSE())","v":"AR"}]
["5002234","Bailo Carrascón, María Elena","Aragonesa","D",{"$f":"VLOOKUP(G4610,Referencias!$C$4:$D$21,2,FALSE())","v":"Sin Categoría"},{"$f":"VLOOKUP(G4610,Referencias!$C$4:$E$21,3,FALSE())","v":4},"SC","Competición",{"$f":"VLOOKUP(C4610,Referencias!$B$24:$C$40,2,FALSE())","v":"AR"}]
["5002237","Gutierrez Laguna, María Jesús","Aragonesa","D",{"$f":"VLOOKUP(G4611,Referencias!$C$4:$D$21,2,FALSE())","v":"Tercera Corazón"},{"$f":"VLOOKUP(G4611,Referencias!$C$4:$E$21,3,FALSE())","v":3},"3C","Competición",{"$f":"VLOOKUP(C4611,Referencias!$B$24:$C$40,2,FALSE())","v":"AR"}]
["5002238","Valenzuela García Polavieja, Concepción","Aragonesa","D",{"$f":"VLOOKUP(G4612,Referencias!$C$4:$D$21,2,FALSE())","v":"Sin Categoría"},{"$f":"VLOOKUP(G4612,Referencias!$C$4:$E$21,3,FALSE())","v":4},"SC","Competición",{"$f":"VLOOKUP(C4612,Referencias!$B$24:$C$40,2,FALSE())","v":"AR"}]
["5002239","Cubero Espún, María Pilar","Aragonesa","D",{"$f":"VLOOKUP(G4613,Referencias!$C$4:$D$21,2,FALSE())","v":"Sin Categoría"},{"$f":"VLOOKUP(G4613,Referencias!$C$4:$E$21,3,FALSE())","v":4},"SC","Competición",{"$f":"VLOOKUP(C4613,Referencias!$B$24:$C$40,2,FALSE())","v":"AR"}]
["5002240","De Luis Carnicer, María Pilar","Aragonesa","D",{"$f":"VLOOKUP(G4614,Referencias!$C$4:$D$21,2,FALSE())","v":"Tercera Diamante"},{"$f":"VLOOKUP(G4614,Referencias!$C$4:$E$21,3,FALSE())","v":3},"3D","Competición",{"$f":"VLOOKUP(C4614,Referencias!$B$24:$C$40,2,FALSE())","v":"AR"}]
["5002241","Ramírez Ponce, Concepción","Aragonesa","D",{"$f":"VLOOKUP(G4615,Referencias!$C$4:$D$21,2,FALSE())","v":"Sin Categoría"},{"$f":"VLOOKUP(G4615,Referencias!$C$4:$E$21,3,FALSE())","v":4},"SC","Competición",{"$f":"VLOOKUP(C4615,Referencias!$B$24:$C$40,2,FALSE())","v":"AR"}]
["5002242","Gutiérrez de la Chica, Ramón","Aragonesa","C",{"$f":"VLOOKUP(G4616,Referencias!$C$4:$D$21,2,FALSE())","v":"Sin Categoría"},{"$f":"VLOOKUP(G4616,Referencias!$C$4:$E$21,3,FALSE())","v":4},"SC","Competición",{"$f":"VLOOKUP(C4616,Referencias!$B$24:$C$40,2,FALSE())","v":"AR"}]
["5002245","Abad Jaraute, Pablo","Aragonesa","C",{"$f":"VLOOKUP(G4617,Referencias!$C$4:$D$21,2,FALSE())","v":"Segunda Corazón"},{"$f":"VLOOKUP(G4617,Referencias!$C$4:$E$21,3,FALSE())","v":2},"2C","Competición",{"$f":"VLOOKUP(C4617,Referencias!$B$24:$C$40,2,FALSE())","v":"AR"}]
["5002246","Sánchez Izquierdo , Isabel ","Aragonesa","D",{"$f":"VLOOKUP(G4618,Referencias!$C$4:$D$21,2,FALSE())","v":"Segunda Corazón"},{"$f":"VLOOKUP(G4618,Referencias!$C$4:$E$21,3,FALSE())","v":2},"2C","Competición",{"$f":"VLOOKUP(C4618,Referencias!$B$24:$C$40,2,FALSE())","v":"AR"}]
["5002247","Sau LLanas, María Jesús","Aragonesa","D",{"$f":"VLOOKUP(G4619,Referencias!$C$4:$D$21,2,FALSE())","v":"Sin Categoría"},{"$f":"VLOOKUP(G4619,Referencias!$C$4:$E$21,3,FALSE())","v":4},"SC","Competición",{"$f":"VLOOKUP(C4619,Referencias!$B$24:$C$40,2,FALSE())","v":"AR"}]
["5002248","Pérez Lázaro, Ana","Aragonesa","D",{"$f":"VLOOKUP(G4620,Referencias!$C$4:$D$21,2,FALSE())","v":"Sin Categoría"},{"$f":"VLOOKUP(G4620,Referencias!$C$4:$E$21,3,FALSE())","v":4},"SC","Competición",{"$f":"VLOOKUP(C4620,Referencias!$B$24:$C$40,2,FALSE())","v":"AR"}]
["5002249","Tuglaman Avat, Keti","Aragonesa","D",{"$f":"VLOOKUP(G4621,Referencias!$C$4:$D$21,2,FALSE())","v":"Sin Categoría"},{"$f":"VLOOKUP(G4621,Referencias!$C$4:$E$21,3,FALSE())","v":4},"SC","Competición",{"$f":"VLOOKUP(C4621,Referencias!$B$24:$C$40,2,FALSE())","v":"AR"}]
["5002250","Achkar Khoury, Fayez","Aragonesa","C",{"$f":"VLOOKUP(G4622,Referencias!$C$4:$D$21,2,FALSE())","v":"Sin Categoría"},{"$f":"VLOOKUP(G4622,Referencias!$C$4:$E$21,3,FALSE())","v":4},"SC","Competición",{"$f":"VLOOKUP(C4622,Referencias!$B$24:$C$40,2,FALSE())","v":"AR"}]
["5002252","Cebrián Martín, Isabel","Aragonesa","D",{"$f":"VLOOKUP(G4623,Referencias!$C$4:$D$21,2,FALSE())","v":"Tercera Diamante"},{"$f":"VLOOKUP(G4623,Referencias!$C$4:$E$21,3,FALSE())","v":3},"3D","Competición",{"$f":"VLOOKUP(C4623,Referencias!$B$24:$C$40,2,FALSE())","v":"AR"}]
["5002253","Olmos SanJuan, José Luis ","Aragonesa","C",{"$f":"VLOOKUP(G4624,Referencias!$C$4:$D$21,2,FALSE())","v":"Tercera Diamante"},{"$f":"VLOOKUP(G4624,Referencias!$C$4:$E$21,3,FALSE())","v":3},"3D","Competición",{"$f":"VLOOKUP(C4624,Referencias!$B$24:$C$40,2,FALSE())","v":"AR"}]
["5002254","Alonso Fernández-Revuelta, Rodrigo","Aragonesa","C",{"$f":"VLOOKUP(G4625,Referencias!$C$4:$D$21,2,FALSE())","v":"Tercera Diamante"},{"$f":"VLOOKUP(G4625,Referencias!$C$4:$E$21,3,FALSE())","v":3},"3D","Competición",{"$f":"VLOOKUP(C4625,Referencias!$B$24:$C$40,2,FALSE())","v":"AR"}]
["5002255","Santos Bergua, Mercedes","Aragonesa","D",{"$f":"VLOOKUP(G4626,Referencias!$C$4:$D$21,2,FALSE())","v":"Tercera Diamante"},{"$f":"VLOOKUP(G4626,Referencias!$C$4:$E$21,3,FALSE())","v":3},"3D","Competición",{"$f":"VLOOKUP(C4626,Referencias!$B$24:$C$40,2,FALSE())","v":"AR"}]
["5002256","Torres Ramos, Nieves","Aragonesa","D",{"$f":"VLOOKUP(G4627,Referencias!$C$4:$D$21,2,FALSE())","v":"Tercera Diamante"},{"$f":"VLOOKUP(G4627,Referencias!$C$4:$E$21,3,FALSE())","v":3},"3D","Competición",{"$f":"VLOOKUP(C4627,Referencias!$B$24:$C$40,2,FALSE())","v":"AR"}]
["5002257","Cepero Agudo, Julia","Aragonesa","D",{"$f":"VLOOKUP(G4628,Referencias!$C$4:$D$21,2,FALSE())","v":"Tercera Diamante"},{"$f":"VLOOKUP(G4628,Referencias!$C$4:$E$21,3,FALSE())","v":3},"3D","Competición",{"$f":"VLOOKUP(C4628,Referencias!$B$24:$C$40,2,FALSE())","v":"AR"}]
["5002258","Serrano, Javier","Aragonesa","C",{"$f":"VLOOKUP(G4629,Referencias!$C$4:$D$21,2,FALSE())","v":"Tercera Diamante"},{"$f":"VLOOKUP(G4629,Referencias!$C$4:$E$21,3,FALSE())","v":3},"3D","Competición",{"$f":"VLOOKUP(C4629,Referencias!$B$24:$C$40,2,FALSE())","v":"AR"}]
["5002259","Alonso Salas, Guillermo","Aragonesa","C",{"$f":"VLOOKUP(G4630,Referencias!$C$4:$D$21,2,FALSE())","v":"Tercera Diamante"},{"$f":"VLOOKUP(G4630,Referencias!$C$4:$E$21,3,FALSE())","v":3},"3D","Competición",{"$f":"VLOOKUP(C4630,Referencias!$B$24:$C$40,2,FALSE())","v":"AR"}]
["5002260","Díaz Sánchez, María Teresa","Aragonesa","D",{"$f":"VLOOKUP(G4631,Referencias!$C$4:$D$21,2,FALSE())","v":"Tercera Diamante"},{"$f":"VLOOKUP(G4631,Referencias!$C$4:$E$21,3,FALSE())","v":3},"3D","Competición",{"$f":"VLOOKUP(C4631,Referencias!$B$24:$C$40,2,FALSE())","v":"AR"}]
["5002261","Cartagena Sánchez, Gloria","Aragonesa","D",{"$f":"VLOOKUP(G4632,Referencias!$C$4:$D$21,2,FALSE())","v":"Tercera Diamante"},{"$f":"VLOOKUP(G4632,Referencias!$C$4:$E$21,3,FALSE())","v":3},"3D","Competición",{"$f":"VLOOKUP(C4632,Referencias!$B$24:$C$40,2,FALSE())","v":"AR"}]
["5002262","Gabari, Milagros","Aragonesa","D",{"$f":"VLOOKUP(G4633,Referencias!$C$4:$D$21,2,FALSE())","v":"Tercera Diamante"},{"$f":"VLOOKUP(G4633,Referencias!$C$4:$E$21,3,FALSE())","v":3},"3D","Competición",{"$f":"VLOOKUP(C4633,Referencias!$B$24:$C$40,2,FALSE())","v":"AR"}]
["5002263","Soria Andreu , Francisca","Aragonesa","D",{"$f":"VLOOKUP(G4634,Referencias!$C$4:$D$21,2,FALSE())","v":"Tercera Diamante"},{"$f":"VLOOKUP(G4634,Referencias!$C$4:$E$21,3,FALSE())","v":3},"3D","Competición",{"$f":"VLOOKUP(C4634,Referencias!$B$24:$C$40,2,FALSE())","v":"AR"}]
["5002264","Guallart Moreno, Rafael","Aragonesa","C",{"$f":"VLOOKUP(G4635,Referencias!$C$4:$D$21,2,FALSE())","v":"Tercera Diamante"},{"$f":"VLOOKUP(G4635,Referencias!$C$4:$E$21,3,FALSE())","v":3},"3D","Competición",{"$f":"VLOOKUP(C4635,Referencias!$B$24:$C$40,2,FALSE())","v":"AR"}]
["5002265","Urbez Fando, Concepción","Aragonesa","D",{"$f":"VLOOKUP(G4636,Referencias!$C$4:$D$21,2,FALSE())","v":"Tercera Diamante"},{"$f":"VLOOKUP(G4636,Referencias!$C$4:$E$21,3,FALSE())","v":3},"3D","Competición",{"$f":"VLOOKUP(C4636,Referencias!$B$24:$C$40,2,FALSE())","v":"AR"}]
["5002266","Irurita Pablos, María Luisa","Aragonesa","D",{"$f":"VLOOKUP(G4637,Referencias!$C$4:$D$21,2,FALSE())","v":"Tercera Diamante"},{"$f":"VLOOKUP(G4637,Referencias!$C$4:$E$21,3,FALSE())","v":3},"3D","Competición",{"$f":"VLOOKUP(C4637,Referencias!$B$24:$C$40,2,FALSE())","v":"AR"}]
["5002267","Serrano Mata, Pilar","Aragonesa","D",{"$f":"VLOOKUP(G4638,Referencias!$C$4:$D$21,2,FALSE())","v":"Tercera Diamante"},{"$f":"VLOOKUP(G4638,Referencias!$C$4:$E$21,3,FALSE())","v":3},"3D","Competición",{"$f":"VLOOKUP(C4638,Referencias!$B$24:$C$40,2,FALSE())","v":"AR"}]
["5002268","Delaloi, Josette","Aragonesa","C",{"$f":"VLOOKUP(G4639,Referencias!$C$4:$D$21,2,FALSE())","v":"Tercera Diamante"},{"$f":"VLOOKUP(G4639,Referencias!$C$4:$E$21,3,FALSE())","v":3},"3D","Competición",{"$f":"VLOOKUP(C4639,Referencias!$B$24:$C$40,2,FALSE())","v":"AR"}]
["5002269","Albácar López, Carmen","Aragonesa","D",{"$f":"VLOOKUP(G4640,Referencias!$C$4:$D$21,2,FALSE())","v":"Tercera Diamante"},{"$f":"VLOOKUP(G4640,Referencias!$C$4:$E$21,3,FALSE())","v":3},"3D","Competición",{"$f":"VLOOKUP(C4640,Referencias!$B$24:$C$40,2,FALSE())","v":"AR"}]
["5002270","Alegre Villariz, Alfonso","Aragonesa","C",{"$f":"VLOOKUP(G4641,Referencias!$C$4:$D$21,2,FALSE())","v":"Tercera Diamante"},{"$f":"VLOOKUP(G4641,Referencias!$C$4:$E$21,3,FALSE())","v":3},"3D","Competición",{"$f":"VLOOKUP(C4641,Referencias!$B$24:$C$40,2,FALSE())","v":"AR"}]
["5002271","Burke Kearney, Joan","Aragonesa","D",{"$f":"VLOOKUP(G4642,Referencias!$C$4:$D$21,2,FALSE())","v":"Tercera Diamante"},{"$f":"VLOOKUP(G4642,Referencias!$C$4:$E$21,3,FALSE())","v":3},"3D","Competición",{"$f":"VLOOKUP(C4642,Referencias!$B$24:$C$40,2,FALSE())","v":"AR"}]
["5002272","Escoriaza Valenzuela, Blanca","Aragonesa","D",{"$f":"VLOOKUP(G4643,Referencias!$C$4:$D$21,2,FALSE())","v":"Tercera Diamante"},{"$f":"VLOOKUP(G4643,Referencias!$C$4:$E$21,3,FALSE())","v":3},"3D","Competición",{"$f":"VLOOKUP(C4643,Referencias!$B$24:$C$40,2,FALSE())","v":"AR"}]
["5002273","Pardos Garcia, Nuria","Aragonesa","D",{"$f":"VLOOKUP(G4644,Referencias!$C$4:$D$21,2,FALSE())","v":"Tercera Diamante"},{"$f":"VLOOKUP(G4644,Referencias!$C$4:$E$21,3,FALSE())","v":3},"3D","Competición",{"$f":"VLOOKUP(C4644,Referencias!$B$24:$C$40,2,FALSE())","v":"AR"}]
["5911742","Gruening, Waltraud","AEB","D",{"$f":"VLOOKUP(G4645,Referencias!$C$4:$D$21,2,FALSE())","v":"Sin Categoría"},{"$f":"VLOOKUP(G4645,Referencias!$C$4:$E$21,3,FALSE())","v":4},"SC","Competición",{"$f":"VLOOKUP(C4645,Referencias!$B$24:$C$40,2,FALSE())","v":{"$error":"#N/A"}}]
["5911743","Di Franco, Massimiliano","AEB","C",{"$f":"VLOOKUP(G4646,Referencias!$C$4:$D$21,2,FALSE())","v":"Maestro Mundial Open"},{"$f":"VLOOKUP(G4646,Referencias!$C$4:$E$21,3,FALSE())","v":0},"MM-O","Competición",{"$f":"VLOOKUP(C4646,Referencias!$B$24:$C$40,2,FALSE())","v":{"$error":"#N/A"}}]
["5911745","Grossi, Giuseppe","AEB","C",{"$f":"VLOOKUP(G4647,Referencias!$C$4:$D$21,2,FALSE())","v":"Primera Picas"},{"$f":"VLOOKUP(G4647,Referencias!$C$4:$E$21,3,FALSE())","v":1},"1P","Competición",{"$f":"VLOOKUP(C4647,Referencias!$B$24:$C$40,2,FALSE())","v":{"$error":"#N/A"}}]
["5911746","Brugnago De Grossi, Alessandra","AEB","D",{"$f":"VLOOKUP(G4648,Referencias!$C$4:$D$21,2,FALSE())","v":"Primera Diamante"},{"$f":"VLOOKUP(G4648,Referencias!$C$4:$E$21,3,FALSE())","v":1},"1D","Competición",{"$f":"VLOOKUP(C4648,Referencias!$B$24:$C$40,2,FALSE())","v":{"$error":"#N/A"}}]
["5911756","de Carvalho, João","AEB","C",{"$f":"VLOOKUP(G4649,Referencias!$C$4:$D$21,2,FALSE())","v":"Primera Picas"},{"$f":"VLOOKUP(G4649,Referencias!$C$4:$E$21,3,FALSE())","v":1},"1P","Competición",{"$f":"VLOOKUP(C4649,Referencias!$B$24:$C$40,2,FALSE())","v":{"$error":"#N/A"}}]
["5911768","Dos Santos Rosado, Alexandra","AEB","D",{"$f":"VLOOKUP(G4650,Referencias!$C$4:$D$21,2,FALSE())","v":"Primera Picas"},{"$f":"VLOOKUP(G4650,Referencias!$C$4:$E$21,3,FALSE())","v":1},"1P","Competición",{"$f":"VLOOKUP(C4650,Referencias!$B$24:$C$40,2,FALSE())","v":{"$error":"#N/A"}}]
["5911769","Nunes Ribeiro Cruzeiro, Jorge Manuel","AEB","C",{"$f":"VLOOKUP(G4651,Referencias!$C$4:$D$21,2,FALSE())","v":"Sin Categoría"},{"$f":"VLOOKUP(G4651,Referencias!$C$4:$E$21,3,FALSE())","v":4},"SC","Competición",{"$f":"VLOOKUP(C4651,Referencias!$B$24:$C$40,2,FALSE())","v":{"$error":"#N/A"}}]
["5911777","Michielsen, Marion","AEB","D",{"$f":"VLOOKUP(G4652,Referencias!$C$4:$D$21,2,FALSE())","v":"Maestro Mundial Open"},{"$f":"VLOOKUP(G4652,Referencias!$C$4:$E$21,3,FALSE())","v":0},"MM-O","Competición",{"$f":"VLOOKUP(C4652,Referencias!$B$24:$C$40,2,FALSE())","v":{"$error":"#N/A"}}]
["5911779","León Thorne, Raul","AEB","C",{"$f":"VLOOKUP(G4653,Referencias!$C$4:$D$21,2,FALSE())","v":"Sin Categoría"},{"$f":"VLOOKUP(G4653,Referencias!$C$4:$E$21,3,FALSE())","v":4},"SC","Competición",{"$f":"VLOOKUP(C4653,Referencias!$B$24:$C$40,2,FALSE())","v":{"$error":"#N/A"}}]
["5911780","Ivanov, Stojan","AEB","C",{"$f":"VLOOKUP(G4654,Referencias!$C$4:$D$21,2,FALSE())","v":"Sin Categoría"},{"$f":"VLOOKUP(G4654,Referencias!$C$4:$E$21,3,FALSE())","v":4},"SC","Competición",{"$f":"VLOOKUP(C4654,Referencias!$B$24:$C$40,2,FALSE())","v":{"$error":"#N/A"}}]
["5911781","Espinazo Figueras, María Consol","AEB","D",{"$f":"VLOOKUP(G4655,Referencias!$C$4:$D$21,2,FALSE())","v":"Sin Categoría"},{"$f":"VLOOKUP(G4655,Referencias!$C$4:$E$21,3,FALSE())","v":4},"SC","Competición",{"$f":"VLOOKUP(C4655,Referencias!$B$24:$C$40,2,FALSE())","v":{"$error":"#N/A"}}]
["5911782","Isella , Dario","AEB","C",{"$f":"VLOOKUP(G4656,Referencias!$C$4:$D$21,2,FALSE())","v":"Segunda Diamante"},{"$f":"VLOOKUP(G4656,Referencias!$C$4:$E$21,3,FALSE())","v":2},"2D","Competición",{"$f":"VLOOKUP(C4656,Referencias!$B$24:$C$40,2,FALSE())","v":{"$error":"#N/A"}}]
["6900000","con licencia **, ** Extranjero","AEB","C",{"$f":"VLOOKUP(G4657,Referencias!$C$4:$D$21,2,FALSE())","v":"Sin Categoría"},{"$f":"VLOOKUP(G4657,Referencias!$C$4:$E$21,3,FALSE())","v":4},"SC","Competición",{"$f":"VLOOKUP(C4657,Referencias!$B$24:$C$40,2,FALSE())","v":{"$error":"#N/A"}}]
["6900001","con licencia **, ** Extranjero","AEB","C",{"$f":"VLOOKUP(G4658,Referencias!$C$4:$D$21,2,FALSE())","v":"Maestro Mundial Open"},{"$f":"VLOOKUP(G4658,Referencias!$C$4:$E$21,3,FALSE())","v":0},"MM-O","Honorífica",{"$f":"VLOOKUP(C4658,Referencias!$B$24:$C$40,2,FALSE())","v":{"$error":"#N/A"}}]
["6900002","con licencia **\t, ** Extranjero\t","AEB","C",null,null,"1P","Honorífica"]
["6900003","con licencia **\t, ** Extranjero","AEB","C",null,null,"1C","Honorífica"]
["6900004","con licencia **, ** Extranjero","AEB","C",null,null,"MM-D","Honorífica"]
["6900005","con licencia **, ** Extranjero","AEB","C",null,null,"MM-S","Honorífica"]
["9990000","Robot **, ** Robot","AEB","C",null,null,"SC","Competición"]

{"sheet":"Instrucciones","index":3,"n_rows":26,"n_cols":2,"rows_kept":26,"cut":false,"hidden":false,"merged":[]}
["A.- Identificación del torneo \n\n1. Introducir el nombre del torneo en la celda E1\n2. Introducir el tipo de torneo en la celda T5 (opción de desplegable)\n3. Introducir la categoría del torneo en la celda T6 (opción del desplegable)\n4. Introducir el número de participantes en el torneo en la celda T7 (número de equipos, número de parejas o número de jugadores si es individual)\n5. Introducir el número de manos jugadas por el ganador en la celda T8\n6. Introducir si el torneo es presencial o se ha jugado online en la celda T9\n7. Cerrar y/o guardar. Al estar HOCLAS en modo de solo lectura se debe renombrar el archivo. Dar un nombre que identifique el torneo, por ejemplo HoclasLaToja-Oct-2006. \n"]
["B.- Introducción de la clasificación.\n\n1. Introducir las licencias con siete dígitos. Si se introduce una licencia no válida aparecerá # N/A, (No disponible). Si un jugador carece de licencia introduzca 0, (cero). El titular aparecerá como \"Desconocido\".\n2. Al introducir el nº de licencia aparecerán los datos del jugador. Con ello comprobará que no se ha equivocado al introducir el número de licencia.\n3. Las columnas 1 y 2, (números de licencias) se cumplimentan por orden de clasificación, así como la columna del %"]
["C.- Instrucciones para cumplimentar HOCLAS en las pruebas por equipos \n\n1. Se siguen los mismos pasos que se acaban de exponer, pero con esta variación: Las columnas Licencia 2 y Jugador 2 no se utilizan, se dejan en blanco y en las sucesivas filas se introducen los jugadores de los diferentes equipos por orden de clasificación y poniendo la posición que han obtenido. \n2. Por ejemplo: si el primer clasificado lo forma un equipo de cinco jugadores las primeras cinco líneas tienen todas la posición 1 y los datos de los cinco jugadores. Si el segundo equipo lo forman seis jugadores las siguientes seis líneas tienen todas las posiciones 2 y los datos de los seis jugadores y así sucesivamente. \n"]
[]
[]
["TIPO DE TORNEO"]
["Parejas"]
["Equipos"]
["Individual"]
[]
["CATEGORÍA DE TORNEO"]
["Pool de club (o equivalente)",5]
["Torneo autonómico AEB (o eq.)",15]
["Torneo nacional AEB (o eq.)",25]
["Prueba de Selección Eq. Mixto, Damas o Senior",30]
["Prueba de Selección Eq. Open",40]
["Zonal clasificatorio Camp. España Open",30]
["Camp. España Eq. Mixto o Damas",34]
["Camp. España Parejas",40]
["Camp. España Equipos",58]
["Liga AEB",54]
[]
["PRESENCIAL / ONLINE"]
["Presencial"]
["Online con cámaras"]
["Online sin cámaras"]

{"sheet":"Varios","index":4,"n_rows":96,"n_cols":3,"rows_kept":96,"cut":false,"hidden":true,"merged":[]}
[]
["Camp España Equipos Mixtos"]
[]
[]
[2811080,1,60]
[2811849,1,60]
[2811957,1,60]
[2811414,1,60]
[2811134,1,60]
[2811246,2,58.75]
[2811019,2,58.75]
[2813263,2,58.75]
[2814735,2,58.75]
[5911742,2,58.75]
[2812497,3,57.5]
[2812164,3,57.5]
[2811724,3,57.5]
[2811910,3,57.5]
[2811911,3,57.5]
[2812051,4,56.25]
[2815510,4,56.25]
[5911749,4,56.25]
[5911743,4,56.25]
[5911750,4,56.25]
[2812787,4,56.25]
[2811291,5,55]
[2811479,5,55]
[2811335,5,55]
[2811030,5,55]
[2814435,6,53.75]
[2814434,6,53.75]
[2812961,6,53.75]
[2811666,6,53.75]
[3991048,6,53.75]
[2812784,6,53.75]
[2812379,7,52.5]
[2812224,7,52.5]
[2811583,7,52.5]
[2813140,7,52.5]
[2811596,7,52.5]
[2812510,7,51.25]
[2811127,8,51.25]
[2811906,8,51.25]
[2811346,8,51.25]
[2812161,8,51.25]
[2811001,8,51.25]
[2811085,8,51.25]
[1161699,9,50]
[1161287,9,50]
[1161313,9,50]
[4161121,9,50]
[3635897,10,48.75]
[3631801,10,48.75]
[1535150,10,48.75]
[1535808,10,48.75]
[1531011,10,48.75]
[3635898,10,48.75]
[4641541,11,47.5]
[4646217,11,47.5]
[3551021,11,47.5]
["0821701",11,47.5]
["0821959",11,47.5]
[3551942,11,47.5]
[3631142,12,46.25]
[5911751,12,46.25]
[5911755,12,46.25]
[5911754,12,46.25]
[2811762,13,45]
[2812081,13,45]
[2813611,13,45]
[2813610,13,45]
[2814116,13,45]
[2814115,13,45]
[2811510,14,43.75]
[2811540,14,43.75]
[4641363,14,43.75]
[4641161,14,43.75]
[2811045,14,43.75]
[2811795,14,43.75]
[2731313,15,42.5]
[2813905,15,42.5]
[2814138,15,42.5]
[5911756,15,42.5]
[2812214,15,42.5]
[2812355,16,41.25]
[2812969,16,41.25]
[2812900,16,41.25]
[2812899,16,41.25]
[3995644,16,41.25]
[4881164,16,41.25]
[4641652,17,40]
[3301104,17,40]
[3991045,17,40]
[3991067,17,40]
[2813093,17,40]
[3991088,17,40]