{"text_format":"1","workbook":"xlsx","n_sheets":5,"sheets":["Hoclas 8","Fichero de Jugadores","Referencias","Instrucciones","Varios"],"not_rendered":{"charts":0,"images":4,"macros":1,"external_links":0,"defined_names":6,"comments":0,"pivot_tables":0},"unopened":[],"bounds":{"document_bytes":16777216,"sheet_cells":100000,"rows_first":2000,"rows_last":500,"rows_between":2000,"halvings":0,"cell_chars":16384,"cell_head_chars":4096},"cells_cut":0,"cells_raw":0,"read":"whole","date_system":"1900"}

{"sheet":"Hoclas 8","index":0,"n_rows":203,"n_cols":45,"rows_kept":203,"cut":false,"hidden":false,"merged":[[0,0,1,1],[0,2,1,3],[0,4,0,13],[1,4,1,13]]}
["HOCLAS 8",null,null,null,"<<<PONER AQUÍ EL NOMBRE DEL TORNEO>>>"]
[null,null,null,null,"Ciudad, Fecha   ***   Clasificación tras la xª sesión",null,null,null,null,null,null,null,null,null,null,null,null,null,null,"SOLO SE PUEDEN CAMBIAR CELDAS CON FONDO CELESTE","Jugadores actualizados el: 1/7/21"]
["Lic. 1","Lic. 2","Pto.","Jugador 1","Jugador 2","% ","C1","C2","CAT","AT1","AT2","P","TERR","Puntos","J1","J2","CAT1","CAT2"]
[null,null,"1",{"$f":"IF(A4=\"\",\"\",VLOOKUP(A4&\"\",'Fichero de Jugadores'!$A$2:$H$5142,2,0))","v":""},{"$f":"IF(B4=\"\",\"\",VLOOKUP(B4&\"\",'Fichero de Jugadores'!$A$2:$H$5142,2,0))","v":""},null,{"$f":"IF(A4=\"\",\"\",VLOOKUP(A4&\"\",'Fichero de Jugadores'!$A$2:$H$5142,8,0))","v":""},{"$f":"IF(B4=\"\",\"\",VLOOKUP(B4&\"\",'Fichero de Jugadores'!$A$2:$H$5142,8,0))","v":""},{"$f":"INDEX(AN$4:AS$9,(Q4)+2,(R4)+2)","v":{"$error":"#N/A"}},{"$f":"IF(A4=\"\",\"\",VLOOKUP(A4&\"\",'Fichero de Jugadores'!$A$2:$I$5142,9,0))","v":""},{"$f":"IF(B4=\"\",\"\",VLOOKUP(B4&\"\",'Fichero de Jugadores'!$A$2:$I$5142,9,0))","v":""},{"$f":"IF(AND(O4=\"D\",P4=\"D\"),\"D\",IF(AND(O4=\"D\",P4=\"C\"),\"X\",IF(AND(O4=\"C\",P4=\"D\"),\"X\",IF(AND(O4=\"C\",P4=\"C\"),\"C\",IF(OR(O4=\"\",P4=\"\"),\"\")))))","v":""},null,null,{"$f":"IF(A4=\"\",\"\",VLOOKUP(A4&\"\",'Fichero de Jugadores'!$A$2:$J$5142,4,0))","v":""},{"$f":"IF(B4=\"\",\"\",VLOOKUP(B4&\"\",'Fichero de Jugadores'!$A$2:$J$5142,4,0))","v":""},{"$f":"IF(C4=\"\",\"\",VLOOKUP(A4&\"\",'Fichero de Jugadores'!$A$2:$I$5142,7,0))","v":{"$error":"#N/A"}},{"$f":"IF(C4=\"\",\"\",VLOOKUP(B4&\"\",'Fichero de Jugadores'!$A$2:$I$5142,7,0))","v":{"$error":"#N/A"}},null,null,null,null,null,null,null,null,null,null,null,null,null,null,null,null,null,0,"MM, ME, MN",null,null,null,0,1,2,3,4]
[null,null,"2",{"$f":"IF(A5=\"\",\"\",VLOOKUP(A5&\"\",'Fichero de Jugadores'!$A$2:$H$5142,2,0))","v":""},{"$f":"IF(B5=\"\",\"\",VLOOKUP(B5&\"\",'Fichero de Jugadores'!$A$2:$H$5142,2,0))","v":""},null,{"$f":"IF(A5=\"\",\"\",VLOOKUP(A5&\"\",'Fichero de Jugadores'!$A$2:$H$5142,8,0))","v":""},{"$f":"IF(B5=\"\",\"\",VLOOKUP(B5&\"\",'Fichero de Jugadores'!$A$2:$H$5142,8,0))","v":""},{"$error":"#N/A"},{"$f":"IF(A5=\"\",\"\",VLOOKUP(A5&\"\",'Fichero de Jugadores'!$A$2:$I$5142,9,0))","v":""},{"$f":"IF(B5=\"\",\"\",VLOOKUP(B5&\"\",'Fichero de Jugadores'!$A$2:$I$5142,9,0))","v":""},"",null,null,{"$f":"IF(A5=\"\",\"\",VLOOKUP(A5&\"\",'Fichero de Jugadores'!$A$2:$J$5142,4,0))","v":""},{"$f":"IF(B5=\"\",\"\",VLOOKUP(B5&\"\",'Fichero de Jugadores'!$A$2:$J$5142,4,0))","v":""},{"$f":"IF(C5=\"\",\"\",VLOOKUP(A5&\"\",'Fichero de Jugadores'!$A$2:$I$5142,7,0))","v":{"$error":"#N/A"}},{"$f":"IF(C5=\"\",\"\",VLOOKUP(B5&\"\",'Fichero de Jugadores'!$A$2:$I$5142,7,0))","v":{"$error":"#N/A"}},null,"Tipo de torneo","Parejas",null,null,null,null,null,null,null,null,null,null,null,null,null,null,1,"1P, 1C, 1D",null,null,0,0,0,1,1,0]
[null,null,"3",{"$f":"IF(A6=\"\",\"\",VLOOKUP(A6&\"\",'Fichero de Jugadores'!$A$2:$H$5142,2,0))","v":""},{"$f":"IF(B6=\"\",\"\",VLOOKUP(B6&\"\",'Fichero de Jugadores'!$A$2:$H$5142,2,0))","v":""},null,{"$f":"IF(A6=\"\",\"\",VLOOKUP(A6&\"\",'Fichero de Jugadores'!$A$2:$H$5142,8,0))","v":""},{"$f":"IF(B6=\"\",\"\",VLOOKUP(B6&\"\",'Fichero de Jugadores'!$A$2:$H$5142,8,0))","v":""},{"$error":"#N/A"},{"$f":"IF(A6=\"\",\"\",VLOOKUP(A6&\"\",'Fichero de Jugadores'!$A$2:$I$5142,9,0))","v":""},{"$f":"IF(B6=\"\",\"\",VLOOKUP(B6&\"\",'Fichero de Jugadores'!$A$2:$I$5142,9,0))","v":""},"",null,null,{"$f":"IF(A6=\"\",\"\",VLOOKUP(A6&\"\",'Fichero de Jugadores'!$A$2:$J$5142,4,0))","v":""},{"$f":"IF(B6=\"\",\"\",VLOOKUP(B6&\"\",'Fichero de Jugadores'!$A$2:$J$5142,4,0))","v":""},{"$f":"IF(C6=\"\",\"\",VLOOKUP(A6&\"\",'Fichero de Jugadores'!$A$2:$I$5142,7,0))","v":{"$error":"#N/A"}},{"$f":"IF(C6=\"\",\"\",VLOOKUP(B6&\"\",'Fichero de Jugadores'!$A$2:$I$5142,7,0))","v":{"$error":"#N/A"}},null,"Categoría de torneo","Pool de club (o equivalente)",{"$f":"VLOOKUP(U6,Instrucciones!A12:B26,2,FALSE)","v":10},null,null,null,null,null,null,null,null,null,null,null,null,null,2,"2P, 2C, 2D",null,null,1,0,1,1,2,1]
[null,null,"4",{"$f":"IF(A7=\"\",\"\",VLOOKUP(A7&\"\",'Fichero de Jugadores'!$A$2:$H$5142,2,0))","v":""},{"$f":"IF(B7=\"\",\"\",VLOOKUP(B7&\"\",'Fichero de Jugadores'!$A$2:$H$5142,2,0))","v":""},null,{"$f":"IF(A7=\"\",\"\",VLOOKUP(A7&\"\",'Fichero de Jugadores'!$A$2:$H$5142,8,0))","v":""},{"$f":"IF(B7=\"\",\"\",VLOOKUP(B7&\"\",'Fichero de Jugadores'!$A$2:$H$5142,8,0))","v":""},{"$error":"#N/A"},{"$f":"IF(A7=\"\",\"\",VLOOKUP(A7&\"\",'Fichero de Jugadores'!$A$2:$I$5142,9,0))","v":""},{"$f":"IF(B7=\"\",\"\",VLOOKUP(B7&\"\",'Fichero de Jugadores'!$A$2:$I$5142,9,0))","v":""},"",null,null,{"$f":"IF(A7=\"\",\"\",VLOOKUP(A7&\"\",'Fichero de Jugadores'!$A$2:$J$5142,4,0))","v":""},{"$f":"IF(B7=\"\",\"\",VLOOKUP(B7&\"\",'Fichero de Jugadores'!$A$2:$J$5142,4,0))","v":""},{"$f":"IF(C7=\"\",\"\",VLOOKUP(A7&\"\",'Fichero de Jugadores'!$A$2:$I$5142,7,0))","v":{"$error":"#N/A"}},{"$f":"IF(C7=\"\",\"\",VLOOKUP(B7&\"\",'Fichero de Jugadores'!$A$2:$I$5142,7,0))","v":{"$error":"#N/A"}},null,"Número de participantes",1,{"$f":"IF(U5=\"Parejas\",\"Parejas\",IF(U5=\"Equipos\",\"Equipos\",IF(U5=\"Individual\",\"Jugadores\",\"\")))","v":"Parejas"},null,null,null,null,null,null,null,null,null,null,null,null,null,3,"3P, 3C, 3D",null,null,2,1,1,2,2,2]
[null,null,"5",{"$f":"IF(A8=\"\",\"\",VLOOKUP(A8&\"\",'Fichero de Jugadores'!$A$2:$H$5142,2,0))","v":""},{"$f":"IF(B8=\"\",\"\",VLOOKUP(B8&\"\",'Fichero de Jugadores'!$A$2:$H$5142,2,0))","v":""},null,{"$f":"IF(A8=\"\",\"\",VLOOKUP(A8&\"\",'Fichero de Jugadores'!$A$2:$H$5142,8,0))","v":""},{"$f":"IF(B8=\"\",\"\",VLOOKUP(B8&\"\",'Fichero de Jugadores'!$A$2:$H$5142,8,0))","v":""},{"$error":"#N/A"},{"$f":"IF(A8=\"\",\"\",VLOOKUP(A8&\"\",'Fichero de Jugadores'!$A$2:$I$5142,9,0))","v":""},{"$f":"IF(B8=\"\",\"\",VLOOKUP(B8&\"\",'Fichero de Jugadores'!$A$2:$I$5142,9,0))","v":""},"",null,null,{"$f":"IF(A8=\"\",\"\",VLOOKUP(A8&\"\",'Fichero de Jugadores'!$A$2:$J$5142,4,0))","v":""},{"$f":"IF(B8=\"\",\"\",VLOOKUP(B8&\"\",'Fichero de Jugadores'!$A$2:$J$5142,4,0))","v":""},{"$f":"IF(C8=\"\",\"\",VLOOKUP(A8&\"\",'Fichero de Jugadores'!$A$2:$I$5142,7,0))","v":{"$error":"#N/A"}},{"$f":"IF(C8=\"\",\"\",VLOOKUP(B8&\"\",'Fichero de Jugadores'!$A$2:$I$5142,7,0))","v":{"$error":"#N/A"}},null,"Nº de manos jugadas por el ganador",1,{"$f":"ROUND(0.2545*(U8^0.25)+0.5077,2)","v":0.76},null,null,null,null,null,null,null,null,null,null,null,null,null,4,"SC",null,null,3,1,2,2,3,3]
[null,null,"6",{"$f":"IF(A9=\"\",\"\",VLOOKUP(A9&\"\",'Fichero de Jugadores'!$A$2:$H$5142,2,0))","v":""},{"$f":"IF(B9=\"\",\"\",VLOOKUP(B9&\"\",'Fichero de Jugadores'!$A$2:$H$5142,2,0))","v":""},null,{"$f":"IF(A9=\"\",\"\",VLOOKUP(A9&\"\",'Fichero de Jugadores'!$A$2:$H$5142,8,0))","v":""},{"$f":"IF(B9=\"\",\"\",VLOOKUP(B9&\"\",'Fichero de Jugadores'!$A$2:$H$5142,8,0))","v":""},{"$error":"#N/A"},{"$f":"IF(A9=\"\",\"\",VLOOKUP(A9&\"\",'Fichero de Jugadores'!$A$2:$I$5142,9,0))","v":""},{"$f":"IF(B9=\"\",\"\",VLOOKUP(B9&\"\",'Fichero de Jugadores'!$A$2:$I$5142,9,0))","v":""},"",null,null,{"$f":"IF(A9=\"\",\"\",VLOOKUP(A9&\"\",'Fichero de Jugadores'!$A$2:$J$5142,4,0))","v":""},{"$f":"IF(B9=\"\",\"\",VLOOKUP(B9&\"\",'Fichero de Jugadores'!$A$2:$J$5142,4,0))","v":""},{"$f":"IF(C9=\"\",\"\",VLOOKUP(A9&\"\",'Fichero de Jugadores'!$A$2:$I$5142,7,0))","v":{"$error":"#N/A"}},{"$f":"IF(C9=\"\",\"\",VLOOKUP(B9&\"\",'Fichero de Jugadores'!$A$2:$I$5142,7,0))","v":{"$error":"#N/A"}},null,"Presencial / Online","Presencial",null,null,null,null,null,null,null,null,null,null,null,null,null,null,null,null,null,null,4,0,1,2,3,4]
[null,null,"7",{"$f":"IF(A10=\"\",\"\",VLOOKUP(A10&\"\",'Fichero de Jugadores'!$A$2:$H$5142,2,0))","v":""},{"$f":"IF(B10=\"\",\"\",VLOOKUP(B10&\"\",'Fichero de Jugadores'!$A$2:$H$5142,2,0))","v":""},null,{"$f":"IF(A10=\"\",\"\",VLOOKUP(A10&\"\",'Fichero de Jugadores'!$A$2:$H$5142,8,0))","v":""},{"$f":"IF(B10=\"\",\"\",VLOOKUP(B10&\"\",'Fichero de Jugadores'!$A$2:$H$5142,8,0))","v":""},{"$error":"#N/A"},{"$f":"IF(A10=\"\",\"\",VLOOKUP(A10&\"\",'Fichero de Jugadores'!$A$2:$I$5142,9,0))","v":""},{"$f":"IF(B10=\"\",\"\",VLOOKUP(B10&\"\",'Fichero de Jugadores'!$A$2:$I$5142,9,0))","v":""},"",null,null,{"$f":"IF(A10=\"\",\"\",VLOOKUP(A10&\"\",'Fichero de Jugadores'!$A$2:$J$5142,4,0))","v":""},{"$f":"IF(B10=\"\",\"\",VLOOKUP(B10&\"\",'Fichero de Jugadores'!$A$2:$J$5142,4,0))","v":""},{"$f":"IF(C10=\"\",\"\",VLOOKUP(A10&\"\",'Fichero de Jugadores'!$A$2:$I$5142,7,0))","v":{"$error":"#N/A"}},{"$f":"IF(C10=\"\",\"\",VLOOKUP(B10&\"\",'Fichero de Jugadores'!$A$2:$I$5142,7,0))","v":{"$error":"#N/A"}}]
[null,null,"8",{"$f":"IF(A11=\"\",\"\",VLOOKUP(A11&\"\",'Fichero de Jugadores'!$A$2:$H$5142,2,0))","v":""},{"$f":"IF(B11=\"\",\"\",VLOOKUP(B11&\"\",'Fichero de Jugadores'!$A$2:$H$5142,2,0))","v":""},null,{"$f":"IF(A11=\"\",\"\",VLOOKUP(A11&\"\",'Fichero de Jugadores'!$A$2:$H$5142,8,0))","v":""},{"$f":"IF(B11=\"\",\"\",VLOOKUP(B11&\"\",'Fichero de Jugadores'!$A$2:$H$5142,8,0))","v":""},{"$error":"#N/A"},{"$f":"IF(A11=\"\",\"\",VLOOKUP(A11&\"\",'Fichero de Jugadores'!$A$2:$I$5142,9,0))","v":""},{"$f":"IF(B11=\"\",\"\",VLOOKUP(B11&\"\",'Fichero de Jugadores'!$A$2:$I$5142,9,0))","v":""},"",null,null,{"$f":"IF(A11=\"\",\"\",VLOOKUP(A11&\"\",'Fichero de Jugadores'!$A$2:$J$5142,4,0))","v":""},{"$f":"IF(B11=\"\",\"\",VLOOKUP(B11&\"\",'Fichero de Jugadores'!$A$2:$J$5142,4,0))","v":""},{"$f":"IF(C11=\"\",\"\",VLOOKUP(A11&\"\",'Fichero de Jugadores'!$A$2:$I$5142,7,0))","v":{"$error":"#N/A"}},{"$f":"IF(C11=\"\",\"\",VLOOKUP(B11&\"\",'Fichero de Jugadores'!$A$2:$I$5142,7,0))","v":{"$error":"#N/A"}}]
[null,null,"9",{"$f":"IF(A12=\"\",\"\",VLOOKUP(A12&\"\",'Fichero de Jugadores'!$A$2:$H$5142,2,0))","v":""},{"$f":"IF(B12=\"\",\"\",VLOOKUP(B12&\"\",'Fichero de Jugadores'!$A$2:$H$5142,2,0))","v":""},null,{"$f":"IF(A12=\"\",\"\",VLOOKUP(A12&\"\",'Fichero de Jugadores'!$A$2:$H$5142,8,0))","v":""},{"$f":"IF(B12=\"\",\"\",VLOOKUP(B12&\"\",'Fichero de Jugadores'!$A$2:$H$5142,8,0))","v":""},{"$error":"#N/A"},{"$f":"IF(A12=\"\",\"\",VLOOKUP(A12&\"\",'Fichero de Jugadores'!$A$2:$I$5142,9,0))","v":""},{"$f":"IF(B12=\"\",\"\",VLOOKUP(B12&\"\",'Fichero de Jugadores'!$A$2:$I$5142,9,0))","v":""},"",null,null,{"$f":"IF(A12=\"\",\"\",VLOOKUP(A12&\"\",'Fichero de Jugadores'!$A$2:$J$5142,4,0))","v":""},{"$f":"IF(B12=\"\",\"\",VLOOKUP(B12&\"\",'Fichero de Jugadores'!$A$2:$J$5142,4,0))","v":""},{"$f":"IF(C12=\"\",\"\",VLOOKUP(A12&\"\",'Fichero de Jugadores'!$A$2:$I$5142,7,0))","v":{"$error":"#N/A"}},{"$f":"IF(C12=\"\",\"\",VLOOKUP(B12&\"\",'Fichero de Jugadores'!$A$2:$I$5142,7,0))","v":{"$error":"#N/A"}}]
[null,null,"10",{"$f":"IF(A13=\"\",\"\",VLOOKUP(A13&\"\",'Fichero de Jugadores'!$A$2:$H$5142,2,0))","v":""},{"$f":"IF(B13=\"\",\"\",VLOOKUP(B13&\"\",'Fichero de Jugadores'!$A$2:$H$5142,2,0))","v":""},null,{"$f":"IF(A13=\"\",\"\",VLOOKUP(A13&\"\",'Fichero de Jugadores'!$A$2:$H$5142,8,0))","v":""},{"$f":"IF(B13=\"\",\"\",VLOOKUP(B13&\"\",'Fichero de Jugadores'!$A$2:$H$5142,8,0))","v":""},{"$error":"#N/A"},{"$f":"IF(A13=\"\",\"\",VLOOKUP(A13&\"\",'Fichero de Jugadores'!$A$2:$I$5142,9,0))","v":""},{"$f":"IF(B13=\"\",\"\",VLOOKUP(B13&\"\",'Fichero de Jugadores'!$A$2:$I$5142,9,0))","v":""},"",null,null,{"$f":"IF(A13=\"\",\"\",VLOOKUP(A13&\"\",'Fichero de Jugadores'!$A$2:$J$5142,4,0))","v":""},{"$f":"IF(B13=\"\",\"\",VLOOKUP(B13&\"\",'Fichero de Jugadores'!$A$2:$J$5142,4,0))","v":""},{"$f":"IF(C13=\"\",\"\",VLOOKUP(A13&\"\",'Fichero de Jugadores'!$A$2:$I$5142,7,0))","v":{"$error":"#N/A"}},{"$f":"IF(C13=\"\",\"\",VLOOKUP(B13&\"\",'Fichero de Jugadores'!$A$2:$I$5142,7,0))","v":{"$error":"#N/A"}}]
[null,null,"11",{"$f":"IF(A14=\"\",\"\",VLOOKUP(A14&\"\",'Fichero de Jugadores'!$A$2:$H$5142,2,0))","v":""},{"$f":"IF(B14=\"\",\"\",VLOOKUP(B14&\"\",'Fichero de Jugadores'!$A$2:$H$5142,2,0))","v":""},null,{"$f":"IF(A14=\"\",\"\",VLOOKUP(A14&\"\",'Fichero de Jugadores'!$A$2:$H$5142,8,0))","v":""},{"$f":"IF(B14=\"\",\"\",VLOOKUP(B14&\"\",'Fichero de Jugadores'!$A$2:$H$5142,8,0))","v":""},{"$error":"#N/A"},{"$f":"IF(A14=\"\",\"\",VLOOKUP(A14&\"\",'Fichero de Jugadores'!$A$2:$I$5142,9,0))","v":""},{"$f":"IF(B14=\"\",\"\",VLOOKUP(B14&\"\",'Fichero de Jugadores'!$A$2:$I$5142,9,0))","v":""},"",null,null,{"$f":"IF(A14=\"\",\"\",VLOOKUP(A14&\"\",'Fichero de Jugadores'!$A$2:$J$5142,4,0))","v":""},{"$f":"IF(B14=\"\",\"\",VLOOKUP(B14&\"\",'Fichero de Jugadores'!$A$2:$J$5142,4,0))","v":""},{"$f":"IF(C14=\"\",\"\",VLOOKUP(A14&\"\",'Fichero de Jugadores'!$A$2:$I$5142,7,0))","v":{"$error":"#N/A"}},{"$f":"IF(C14=\"\",\"\",VLOOKUP(B14&\"\",'Fichero de Jugadores'!$A$2:$I$5142,7,0))","v":{"$error":"#N/A"}}]
[null,null,"12",{"$f":"IF(A15=\"\",\"\",VLOOKUP(A15&\"\",'Fichero de Jugadores'!$A$2:$H$5142,2,0))","v":""},{"$f":"IF(B15=\"\",\"\",VLOOKUP(B15&\"\",'Fichero de Jugadores'!$A$2:$H$5142,2,0))","v":""},null,{"$f":"IF(A15=\"\",\"\",VLOOKUP(A15&\"\",'Fichero de Jugadores'!$A$2:$H$5142,8,0))","v":""},{"$f":"IF(B15=\"\",\"\",VLOOKUP(B15&\"\",'Fichero de Jugadores'!$A$2:$H$5142,8,0))","v":""},{"$error":"#N/A"},{"$f":"IF(A15=\"\",\"\",VLOOKUP(A15&\"\",'Fichero de Jugadores'!$A$2:$I$5142,9,0))","v":""},{"$f":"IF(B15=\"\",\"\",VLOOKUP(B15&\"\",'Fichero de Jugadores'!$A$2:$I$5142,9,0))","v":""},"",null,null,{"$f":"IF(A15=\"\",\"\",VLOOKUP(A15&\"\",'Fichero de Jugadores'!$A$2:$J$5142,4,0))","v":""},{"$f":"IF(B15=\"\",\"\",VLOOKUP(B15&\"\",'Fichero de Jugadores'!$A$2:$J$5142,4,0))","v":""},{"$f":"IF(C15=\"\",\"\",VLOOKUP(A15&\"\",'Fichero de Jugadores'!$A$2:$I$5142,7,0))","v":{"$error":"#N/A"}},{"$f":"IF(C15=\"\",\"\",VLOOKUP(B15&\"\",'Fichero de Jugadores'!$A$2:$I$5142,7,0))","v":{"$error":"#N/A"}}]
[null,null,"13",{"$f":"IF(A16=\"\",\"\",VLOOKUP(A16&\"\",'Fichero de Jugadores'!$A$2:$H$5142,2,0))","v":""},{"$f":"IF(B16=\"\",\"\",VLOOKUP(B16&\"\",'Fichero de Jugadores'!$A$2:$H$5142,2,0))","v":""},null,{"$f":"IF(A16=\"\",\"\",VLOOKUP(A16&\"\",'Fichero de Jugadores'!$A$2:$H$5142,8,0))","v":""},{"$f":"IF(B16=\"\",\"\",VLOOKUP(B16&\"\",'Fichero de Jugadores'!$A$2:$H$5142,8,0))","v":""},{"$error":"#N/A"},{"$f":"IF(A16=\"\",\"\",VLOOKUP(A16&\"\",'Fichero de Jugadores'!$A$2:$I$5142,9,0))","v":""},{"$f":"IF(B16=\"\",\"\",VLOOKUP(B16&\"\",'Fichero de Jugadores'!$A$2:$I$5142,9,0))","v":""},"",null,null,{"$f":"IF(A16=\"\",\"\",VLOOKUP(A16&\"\",'Fichero de Jugadores'!$A$2:$J$5142,4,0))","v":""},{"$f":"IF(B16=\"\",\"\",VLOOKUP(B16&\"\",'Fichero de Jugadores'!$A$2:$J$5142,4,0))","v":""},{"$f":"IF(C16=\"\",\"\",VLOOKUP(A16&\"\",'Fichero de Jugadores'!$A$2:$I$5142,7,0))","v":{"$error":"#N/A"}},{"$f":"IF(C16=\"\",\"\",VLOOKUP(B16&\"\",'Fichero de Jugadores'!$A$2:$I$5142,7,0))","v":{"$error":"#N/A"}}]
[null,null,"14",{"$f":"IF(A17=\"\",\"\",VLOOKUP(A17&\"\",'Fichero de Jugadores'!$A$2:$H$5142,2,0))","v":""},{"$f":"IF(B17=\"\",\"\",VLOOKUP(B17&\"\",'Fichero de Jugadores'!$A$2:$H$5142,2,0))","v":""},null,{"$f":"IF(A17=\"\",\"\",VLOOKUP(A17&\"\",'Fichero de Jugadores'!$A$2:$H$5142,8,0))","v":""},{"$f":"IF(B17=\"\",\"\",VLOOKUP(B17&\"\",'Fichero de Jugadores'!$A$2:$H$5142,8,0))","v":""},{"$error":"#N/A"},{"$f":"IF(A17=\"\",\"\",VLOOKUP(A17&\"\",'Fichero de Jugadores'!$A$2:$I$5142,9,0))","v":""},{"$f":"IF(B17=\"\",\"\",VLOOKUP(B17&\"\",'Fichero de Jugadores'!$A$2:$I$5142,9,0))","v":""},"",null,null,{"$f":"IF(A17=\"\",\"\",VLOOKUP(A17&\"\",'Fichero de Jugadores'!$A$2:$J$5142,4,0))","v":""},{"$f":"IF(B17=\"\",\"\",VLOOKUP(B17&\"\",'Fichero de Jugadores'!$A$2:$J$5142,4,0))","v":""},{"$f":"IF(C17=\"\",\"\",VLOOKUP(A17&\"\",'Fichero de Jugadores'!$A$2:$I$5142,7,0))","v":{"$error":"#N/A"}},{"$f":"IF(C17=\"\",\"\",VLOOKUP(B17&\"\",'Fichero de Jugadores'!$A$2:$I$5142,7,0))","v":{"$error":"#N/A"}}]
[null,null,"15",{"$f":"IF(A18=\"\",\"\",VLOOKUP(A18&\"\",'Fichero de Jugadores'!$A$2:$H$5142,2,0))","v":""},{"$f":"IF(B18=\"\",\"\",VLOOKUP(B18&\"\",'Fichero de Jugadores'!$A$2:$H$5142,2,0))","v":""},null,{"$f":"IF(A18=\"\",\"\",VLOOKUP(A18&\"\",'Fichero de Jugadores'!$A$2:$H$5142,8,0))","v":""},{"$f":"IF(B18=\"\",\"\",VLOOKUP(B18&\"\",'Fichero de Jugadores'!$A$2:$H$5142,8,0))","v":""},{"$error":"#N/A"},{"$f":"IF(A18=\"\",\"\",VLOOKUP(A18&\"\",'Fichero de Jugadores'!$A$2:$I$5142,9,0))","v":""},{"$f":"IF(B18=\"\",\"\",VLOOKUP(B18&\"\",'Fichero de Jugadores'!$A$2:$I$5142,9,0))","v":""},"",null,null,{"$f":"IF(A18=\"\",\"\",VLOOKUP(A18&\"\",'Fichero de Jugadores'!$A$2:$J$5142,4,0))","v":""},{"$f":"IF(B18=\"\",\"\",VLOOKUP(B18&\"\",'Fichero de Jugadores'!$A$2:$J$5142,4,0))","v":""},{"$f":"IF(C18=\"\",\"\",VLOOKUP(A18&\"\",'Fichero de Jugadores'!$A$2:$I$5142,7,0))","v":{"$error":"#N/A"}},{"$f":"IF(C18=\"\",\"\",VLOOKUP(B18&\"\",'Fichero de Jugadores'!$A$2:$I$5142,7,0))","v":{"$error":"#N/A"}}]
[null,null,"16",{"$f":"IF(A19=\"\",\"\",VLOOKUP(A19&\"\",'Fichero de Jugadores'!$A$2:$H$5142,2,0))","v":""},{"$f":"IF(B19=\"\",\"\",VLOOKUP(B19&\"\",'Fichero de Jugadores'!$A$2:$H$5142,2,0))","v":""},null,{"$f":"IF(A19=\"\",\"\",VLOOKUP(A19&\"\",'Fichero de Jugadores'!$A$2:$H$5142,8,0))","v":""},{"$f":"IF(B19=\"\",\"\",VLOOKUP(B19&\"\",'Fichero de Jugadores'!$A$2:$H$5142,8,0))","v":""},{"$error":"#N/A"},{"$f":"IF(A19=\"\",\"\",VLOOKUP(A19&\"\",'Fichero de Jugadores'!$A$2:$I$5142,9,0))","v":""},{"$f":"IF(B19=\"\",\"\",VLOOKUP(B19&\"\",'Fichero de Jugadores'!$A$2:$I$5142,9,0))","v":""},"",null,null,{"$f":"IF(A19=\"\",\"\",VLOOKUP(A19&\"\",'Fichero de Jugadores'!$A$2:$J$5142,10,0))","v":""},{"$f":"IF(B19=\"\",\"\",VLOOKUP(B19&\"\",'Fichero de Jugadores'!$A$2:$J$5142,10,0))","v":""},{"$f":"IF(C19=\"\",\"\",VLOOKUP(A19&\"\",'Fichero de Jugadores'!$A$2:$I$5142,7,0))","v":{"$error":"#N/A"}},{"$f":"IF(C19=\"\",\"\",VLOOKUP(B19&\"\",'Fichero de Jugadores'!$A$2:$I$5142,7,0))","v":{"$error":"#N/A"}}]
[null,null,"17",{"$f":"IF(A20=\"\",\"\",VLOOKUP(A20&\"\",'Fichero de Jugadores'!$A$2:$H$5142,2,0))","v":""},{"$f":"IF(B20=\"\",\"\",VLOOKUP(B20&\"\",'Fichero de Jugadores'!$A$2:$H$5142,2,0))","v":""},null,{"$f":"IF(A20=\"\",\"\",VLOOKUP(A20&\"\",'Fichero de Jugadores'!$A$2:$H$5142,8,0))","v":""},{"$f":"IF(B20=\"\",\"\",VLOOKUP(B20&\"\",'Fichero de Jugadores'!$A$2:$H$5142,8,0))","v":""},{"$error":"#N/A"},{"$f":"IF(A20=\"\",\"\",VLOOKUP(A20&\"\",'Fichero de Jugadores'!$A$2:$I$5142,9,0))","v":""},{"$f":"IF(B20=\"\",\"\",VLOOKUP(B20&\"\",'Fichero de Jugadores'!$A$2:$I$5142,9,0))","v":""},"",null,null,{"$f":"IF(A20=\"\",\"\",VLOOKUP(A20&\"\",'Fichero de Jugadores'!$A$2:$J$5142,10,0))","v":""},{"$f":"IF(B20=\"\",\"\",VLOOKUP(B20&\"\",'Fichero de Jugadores'!$A$2:$J$5142,10,0))","v":""},{"$f":"IF(C20=\"\",\"\",VLOOKUP(A20&\"\",'Fichero de Jugadores'!$A$2:$I$5142,7,0))","v":{"$error":"#N/A"}},{"$f":"IF(C20=\"\",\"\",VLOOKUP(B20&\"\",'Fichero de Jugadores'!$A$2:$I$5142,7,0))","v":{"$error":"#N/A"}}]
[null,null,"18",{"$f":"IF(A21=\"\",\"\",VLOOKUP(A21&\"\",'Fichero de Jugadores'!$A$2:$H$5142,2,0))","v":""},{"$f":"IF(B21=\"\",\"\",VLOOKUP(B21&\"\",'Fichero de Jugadores'!$A$2:$H$5142,2,0))","v":""},null,{"$f":"IF(A21=\"\",\"\",VLOOKUP(A21&\"\",'Fichero de Jugadores'!$A$2:$H$5142,8,0))","v":""},{"$f":"IF(B21=\"\",\"\",VLOOKUP(B21&\"\",'Fichero de Jugadores'!$A$2:$H$5142,8,0))","v":""},{"$error":"#N/A"},{"$f":"IF(A21=\"\",\"\",VLOOKUP(A21&\"\",'Fichero de Jugadores'!$A$2:$I$5142,9,0))","v":""},{"$f":"IF(B21=\"\",\"\",VLOOKUP(B21&\"\",'Fichero de Jugadores'!$A$2:$I$5142,9,0))","v":""},"",null,null,{"$f":"IF(A21=\"\",\"\",VLOOKUP(A21&\"\",'Fichero de Jugadores'!$A$2:$J$5142,10,0))","v":""},{"$f":"IF(B21=\"\",\"\",VLOOKUP(B21&\"\",'Fichero de Jugadores'!$A$2:$J$5142,10,0))","v":""},{"$f":"IF(C21=\"\",\"\",VLOOKUP(A21&\"\",'Fichero de Jugadores'!$A$2:$I$5142,7,0))","v":{"$error":"#N/A"}},{"$f":"IF(C21=\"\",\"\",VLOOKUP(B21&\"\",'Fichero de Jugadores'!$A$2:$I$5142,7,0))","v":{"$error":"#N/A"}}]
[null,null,"19",{"$f":"IF(A22=\"\",\"\",VLOOKUP(A22&\"\",'Fichero de Jugadores'!$A$2:$H$5142,2,0))","v":""},{"$f":"IF(B22=\"\",\"\",VLOOKUP(B22&\"\",'Fichero de Jugadores'!$A$2:$H$5142,2,0))","v":""},null,{"$f":"IF(A22=\"\",\"\",VLOOKUP(A22&\"\",'Fichero de Jugadores'!$A$2:$H$5142,8,0))","v":""},{"$f":"IF(B22=\"\",\"\",VLOOKUP(B22&\"\",'Fichero de Jugadores'!$A$2:$H$5142,8,0))","v":""},{"$error":"#N/A"},{"$f":"IF(A22=\"\",\"\",VLOOKUP(A22&\"\",'Fichero de Jugadores'!$A$2:$I$5142,9,0))","v":""},{"$f":"IF(B22=\"\",\"\",VLOOKUP(B22&\"\",'Fichero de Jugadores'!$A$2:$I$5142,9,0))","v":""},"",null,null,{"$f":"IF(A22=\"\",\"\",VLOOKUP(A22&\"\",'Fichero de Jugadores'!$A$2:$J$5142,10,0))","v":""},{"$f":"IF(B22=\"\",\"\",VLOOKUP(B22&\"\",'Fichero de Jugadores'!$A$2:$J$5142,10,0))","v":""},{"$f":"IF(C22=\"\",\"\",VLOOKUP(A22&\"\",'Fichero de Jugadores'!$A$2:$I$5142,7,0))","v":{"$error":"#N/A"}},{"$f":"IF(C22=\"\",\"\",VLOOKUP(B22&\"\",'Fichero de Jugadores'!$A$2:$I$5142,7,0))","v":{"$error":"#N/A"}}]
[null,null,"20",{"$f":"IF(A23=\"\",\"\",VLOOKUP(A23&\"\",'Fichero de Jugadores'!$A$2:$H$5142,2,0))","v":""},{"$f":"IF(B23=\"\",\"\",VLOOKUP(B23&\"\",'Fichero de Jugadores'!$A$2:$H$5142,2,0))","v":""},null,{"$f":"IF(A23=\"\",\"\",VLOOKUP(A23&\"\",'Fichero de Jugadores'!$A$2:$H$5142,8,0))","v":""},{"$f":"IF(B23=\"\",\"\",VLOOKUP(B23&\"\",'Fichero de Jugadores'!$A$2:$H$5142,8,0))","v":""},{"$error":"#N/A"},{"$f":"IF(A23=\"\",\"\",VLOOKUP(A23&\"\",'Fichero de Jugadores'!$A$2:$I$5142,9,0))","v":""},{"$f":"IF(B23=\"\",\"\",VLOOKUP(B23&\"\",'Fichero de Jugadores'!$A$2:$I$5142,9,0))","v":""},"",null,null,{"$f":"IF(A23=\"\",\"\",VLOOKUP(A23&\"\",'Fichero de Jugadores'!$A$2:$J$5142,10,0))","v":""},{"$f":"IF(B23=\"\",\"\",VLOOKUP(B23&\"\",'Fichero de Jugadores'!$A$2:$J$5142,10,0))","v":""},{"$f":"IF(C23=\"\",\"\",VLOOKUP(A23&\"\",'Fichero de Jugadores'!$A$2:$I$5142,7,0))","v":{"$error":"#N/A"}},{"$f":"IF(C23=\"\",\"\",VLOOKUP(B23&\"\",'Fichero de Jugadores'!$A$2:$I$5142,7,0))","v":{"$error":"#N/A"}}]
[null,null,"21",{"$f":"IF(A24=\"\",\"\",VLOOKUP(A24&\"\",'Fichero de Jugadores'!$A$2:$H$5142,2,0))","v":""},{"$f":"IF(B24=\"\",\"\",VLOOKUP(B24&\"\",'Fichero de Jugadores'!$A$2:$H$5142,2,0))","v":""},null,{"$f":"IF(A24=\"\",\"\",VLOOKUP(A24&\"\",'Fichero de Jugadores'!$A$2:$H$5142,8,0))","v":""},{"$f":"IF(B24=\"\",\"\",VLOOKUP(B24&\"\",'Fichero de Jugadores'!$A$2:$H$5142,8,0))","v":""},{"$error":"#N/A"},{"$f":"IF(A24=\"\",\"\",VLOOKUP(A24&\"\",'Fichero de Jugadores'!$A$2:$I$5142,9,0))","v":""},{"$f":"IF(B24=\"\",\"\",VLOOKUP(B24&\"\",'Fichero de Jugadores'!$A$2:$I$5142,9,0))","v":""},"",null,null,{"$f":"IF(A24=\"\",\"\",VLOOKUP(A24&\"\",'Fichero de Jugadores'!$A$2:$J$5142,10,0))","v":""},{"$f":"IF(B24=\"\",\"\",VLOOKUP(B24&\"\",'Fichero de Jugadores'!$A$2:$J$5142,10,0))","v":""},{"$f":"IF(C24=\"\",\"\",VLOOKUP(A24&\"\",'Fichero de Jugadores'!$A$2:$I$5142,7,0))","v":{"$error":"#N/A"}},{"$f":"IF(C24=\"\",\"\",VLOOKUP(B24&\"\",'Fichero de Jugadores'!$A$2:$I$5142,7,0))","v":{"$error":"#N/A"}}]
[null,null,"22",{"$f":"IF(A25=\"\",\"\",VLOOKUP(A25&\"\",'Fichero de Jugadores'!$A$2:$H$5142,2,0))","v":""},{"$f":"IF(B25=\"\",\"\",VLOOKUP(B25&\"\",'Fichero de Jugadores'!$A$2:$H$5142,2,0))","v":""},null,{"$f":"IF(A25=\"\",\"\",VLOOKUP(A25&\"\",'Fichero de Jugadores'!$A$2:$H$5142,8,0))","v":""},{"$f":"IF(B25=\"\",\"\",VLOOKUP(B25&\"\",'Fichero de Jugadores'!$A$2:$H$5142,8,0))","v":""},{"$error":"#N/A"},{"$f":"IF(A25=\"\",\"\",VLOOKUP(A25&\"\",'Fichero de Jugadores'!$A$2:$I$5142,9,0))","v":""},{"$f":"IF(B25=\"\",\"\",VLOOKUP(B25&\"\",'Fichero de Jugadores'!$A$2:$I$5142,9,0))","v":""},"",null,null,{"$f":"IF(A25=\"\",\"\",VLOOKUP(A25&\"\",'Fichero de Jugadores'!$A$2:$J$5142,10,0))","v":""},{"$f":"IF(B25=\"\",\"\",VLOOKUP(B25&\"\",'Fichero de Jugadores'!$A$2:$J$5142,10,0))","v":""},{"$f":"IF(C25=\"\",\"\",VLOOKUP(A25&\"\",'Fichero de Jugadores'!$A$2:$I$5142,7,0))","v":{"$error":"#N/A"}},{"$f":"IF(C25=\"\",\"\",VLOOKUP(B25&\"\",'Fichero de Jugadores'!$A$2:$I$5142,7,0))","v":{"$error":"#N/A"}}]
[null,null,"23",{"$f":"IF(A26=\"\",\"\",VLOOKUP(A26&\"\",'Fichero de Jugadores'!$A$2:$H$5142,2,0))","v":""},{"$f":"IF(B26=\"\",\"\",VLOOKUP(B26&\"\",'Fichero de Jugadores'!$A$2:$H$5142,2,0))","v":""},null,{"$f":"IF(A26=\"\",\"\",VLOOKUP(A26&\"\",'Fichero de Jugadores'!$A$2:$H$5142,8,0))","v":""},{"$f":"IF(B26=\"\",\"\",VLOOKUP(B26&\"\",'Fichero de Jugadores'!$A$2:$H$5142,8,0))","v":""},{"$error":"#N/A"},{"$f":"IF(A26=\"\",\"\",VLOOKUP(A26&\"\",'Fichero de Jugadores'!$A$2:$I$5142,9,0))","v":""},{"$f":"IF(B26=\"\",\"\",VLOOKUP(B26&\"\",'Fichero de Jugadores'!$A$2:$I$5142,9,0))","v":""},"",null,null,{"$f":"IF(A26=\"\",\"\",VLOOKUP(A26&\"\",'Fichero de Jugadores'!$A$2:$J$5142,10,0))","v":""},{"$f":"IF(B26=\"\",\"\",VLOOKUP(B26&\"\",'Fichero de Jugadores'!$A$2:$J$5142,10,0))","v":""},{"$f":"IF(C26=\"\",\"\",VLOOKUP(A26&\"\",'Fichero de Jugadores'!$A$2:$I$5142,7,0))","v":{"$error":"#N/A"}},{"$f":"IF(C26=\"\",\"\",VLOOKUP(B26&\"\",'Fichero de Jugadores'!$A$2:$I$5142,7,0))","v":{"$error":"#N/A"}}]
[null,null,"24",{"$f":"IF(A27=\"\",\"\",VLOOKUP(A27&\"\",'Fichero de Jugadores'!$A$2:$H$5142,2,0))","v":""},{"$f":"IF(B27=\"\",\"\",VLOOKUP(B27&\"\",'Fichero de Jugadores'!$A$2:$H$5142,2,0))","v":""},null,{"$f":"IF(A27=\"\",\"\",VLOOKUP(A27&\"\",'Fichero de Jugadores'!$A$2:$H$5142,8,0))","v":""},{"$f":"IF(B27=\"\",\"\",VLOOKUP(B27&\"\",'Fichero de Jugadores'!$A$2:$H$5142,8,0))","v":""},{"$error":"#N/A"},{"$f":"IF(A27=\"\",\"\",VLOOKUP(A27&\"\",'Fichero de Jugadores'!$A$2:$I$5142,9,0))","v":""},{"$f":"IF(B27=\"\",\"\",VLOOKUP(B27&\"\",'Fichero de Jugadores'!$A$2:$I$5142,9,0))","v":""},"",null,null,{"$f":"IF(A27=\"\",\"\",VLOOKUP(A27&\"\",'Fichero de Jugadores'!$A$2:$J$5142,10,0))","v":""},{"$f":"IF(B27=\"\",\"\",VLOOKUP(B27&\"\",'Fichero de Jugadores'!$A$2:$J$5142,10,0))","v":""},{"$f":"IF(C27=\"\",\"\",VLOOKUP(A27&\"\",'Fichero de Jugadores'!$A$2:$I$5142,7,0))","v":{"$error":"#N/A"}},{"$f":"IF(C27=\"\",\"\",VLOOKUP(B27&\"\",'Fichero de Jugadores'!$A$2:$I$5142,7,0))","v":{"$error":"#N/A"}}]
[null,null,"25",{"$f":"IF(A28=\"\",\"\",VLOOKUP(A28&\"\",'Fichero de Jugadores'!$A$2:$H$5142,2,0))","v":""},{"$f":"IF(B28=\"\",\"\",VLOOKUP(B28&\"\",'Fichero de Jugadores'!$A$2:$H$5142,2,0))","v":""},null,{"$f":"IF(A28=\"\",\"\",VLOOKUP(A28&\"\",'Fichero de Jugadores'!$A$2:$H$5142,8,0))","v":""},{"$f":"IF(B28=\"\",\"\",VLOOKUP(B28&\"\",'Fichero de Jugadores'!$A$2:$H$5142,8,0))","v":""},{"$error":"#N/A"},{"$f":"IF(A28=\"\",\"\",VLOOKUP(A28&\"\",'Fichero de Jugadores'!$A$2:$I$5142,9,0))","v":""},{"$f":"IF(B28=\"\",\"\",VLOOKUP(B28&\"\",'Fichero de Jugadores'!$A$2:$I$5142,9,0))","v":""},"",null,null,{"$f":"IF(A28=\"\",\"\",VLOOKUP(A28&\"\",'Fichero de Jugadores'!$A$2:$J$5142,10,0))","v":""},{"$f":"IF(B28=\"\",\"\",VLOOKUP(B28&\"\",'Fichero de Jugadores'!$A$2:$J$5142,10,0))","v":""},{"$f":"IF(C28=\"\",\"\",VLOOKUP(A28&\"\",'Fichero de Jugadores'!$A$2:$I$5142,7,0))","v":{"$error":"#N/A"}},{"$f":"IF(C28=\"\",\"\",VLOOKUP(B28&\"\",'Fichero de Jugadores'!$A$2:$I$5142,7,0))","v":{"$error":"#N/A"}}]
[null,null,"26",{"$f":"IF(A29=\"\",\"\",VLOOKUP(A29&\"\",'Fichero de Jugadores'!$A$2:$H$5142,2,0))","v":""},{"$f":"IF(B29=\"\",\"\",VLOOKUP(B29&\"\",'Fichero de Jugadores'!$A$2:$H$5142,2,0))","v":""},null,{"$f":"IF(A29=\"\",\"\",VLOOKUP(A29&\"\",'Fichero de Jugadores'!$A$2:$H$5142,8,0))","v":""},{"$f":"IF(B29=\"\",\"\",VLOOKUP(B29&\"\",'Fichero de Jugadores'!$A$2:$H$5142,8,0))","v":""},{"$error":"#N/A"},{"$f":"IF(A29=\"\",\"\",VLOOKUP(A29&\"\",'Fichero de Jugadores'!$A$2:$I$5142,9,0))","v":""},{"$f":"IF(B29=\"\",\"\",VLOOKUP(B29&\"\",'Fichero de Jugadores'!$A$2:$I$5142,9,0))","v":""},"",null,null,{"$f":"IF(A29=\"\",\"\",VLOOKUP(A29&\"\",'Fichero de Jugadores'!$A$2:$J$5142,10,0))","v":""},{"$f":"IF(B29=\"\",\"\",VLOOKUP(B29&\"\",'Fichero de Jugadores'!$A$2:$J$5142,10,0))","v":""},{"$f":"IF(C29=\"\",\"\",VLOOKUP(A29&\"\",'Fichero de Jugadores'!$A$2:$I$5142,7,0))","v":{"$error":"#N/A"}},{"$f":"IF(C29=\"\",\"\",VLOOKUP(B29&\"\",'Fichero de Jugadores'!$A$2:$I$5142,7,0))","v":{"$error":"#N/A"}}]
[null,null,"27",{"$f":"IF(A30=\"\",\"\",VLOOKUP(A30&\"\",'Fichero de Jugadores'!$A$2:$H$5142,2,0))","v":""},{"$f":"IF(B30=\"\",\"\",VLOOKUP(B30&\"\",'Fichero de Jugadores'!$A$2:$H$5142,2,0))","v":""},null,{"$f":"IF(A30=\"\",\"\",VLOOKUP(A30&\"\",'Fichero de Jugadores'!$A$2:$H$5142,8,0))","v":""},{"$f":"IF(B30=\"\",\"\",VLOOKUP(B30&\"\",'Fichero de Jugadores'!$A$2:$H$5142,8,0))","v":""},{"$error":"#N/A"},{"$f":"IF(A30=\"\",\"\",VLOOKUP(A30&\"\",'Fichero de Jugadores'!$A$2:$I$5142,9,0))","v":""},{"$f":"IF(B30=\"\",\"\",VLOOKUP(B30&\"\",'Fichero de Jugadores'!$A$2:$I$5142,9,0))","v":""},"",null,null,{"$f":"IF(A30=\"\",\"\",VLOOKUP(A30&\"\",'Fichero de Jugadores'!$A$2:$J$5142,10,0))","v":""},{"$f":"IF(B30=\"\",\"\",VLOOKUP(B30&\"\",'Fichero de Jugadores'!$A$2:$J$5142,10,0))","v":""},{"$f":"IF(C30=\"\",\"\",VLOOKUP(A30&\"\",'Fichero de Jugadores'!$A$2:$I$5142,7,0))","v":{"$error":"#N/A"}},{"$f":"IF(C30=\"\",\"\",VLOOKUP(B30&\"\",'Fichero de Jugadores'!$A$2:$I$5142,7,0))","v":{"$error":"#N/A"}}]
[null,null,"28",{"$f":"IF(A31=\"\",\"\",VLOOKUP(A31&\"\",'Fichero de Jugadores'!$A$2:$H$5142,2,0))","v":""},{"$f":"IF(B31=\"\",\"\",VLOOKUP(B31&\"\",'Fichero de Jugadores'!$A$2:$H$5142,2,0))","v":""},null,{"$f":"IF(A31=\"\",\"\",VLOOKUP(A31&\"\",'Fichero de Jugadores'!$A$2:$H$5142,8,0))","v":""},{"$f":"IF(B31=\"\",\"\",VLOOKUP(B31&\"\",'Fichero de Jugadores'!$A$2:$H$5142,8,0))","v":""},{"$error":"#N/A"},{"$f":"IF(A31=\"\",\"\",VLOOKUP(A31&\"\",'Fichero de Jugadores'!$A$2:$I$5142,9,0))","v":""},{"$f":"IF(B31=\"\",\"\",VLOOKUP(B31&\"\",'Fichero de Jugadores'!$A$2:$I$5142,9,0))","v":""},"",null,null,{"$f":"IF(A31=\"\",\"\",VLOOKUP(A31&\"\",'Fichero de Jugadores'!$A$2:$J$5142,10,0))","v":""},{"$f":"IF(B31=\"\",\"\",VLOOKUP(B31&\"\",'Fichero de Jugadores'!$A$2:$J$5142,10,0))","v":""},{"$f":"IF(C31=\"\",\"\",VLOOKUP(A31&\"\",'Fichero de Jugadores'!$A$2:$I$5142,7,0))","v":{"$error":"#N/A"}},{"$f":"IF(C31=\"\",\"\",VLOOKUP(B31&\"\",'Fichero de Jugadores'!$A$2:$I$5142,7,0))","v":{"$error":"#N/A"}}]
[null,null,"29",{"$f":"IF(A32=\"\",\"\",VLOOKUP(A32&\"\",'Fichero de Jugadores'!$A$2:$H$5142,2,0))","v":""},{"$f":"IF(B32=\"\",\"\",VLOOKUP(B32&\"\",'Fichero de Jugadores'!$A$2:$H$5142,2,0))","v":""},null,{"$f":"IF(A32=\"\",\"\",VLOOKUP(A32&\"\",'Fichero de Jugadores'!$A$2:$H$5142,8,0))","v":""},{"$f":"IF(B32=\"\",\"\",VLOOKUP(B32&\"\",'Fichero de Jugadores'!$A$2:$H$5142,8,0))","v":""},{"$error":"#N/A"},{"$f":"IF(A32=\"\",\"\",VLOOKUP(A32&\"\",'Fichero de Jugadores'!$A$2:$I$5142,9,0))","v":""},{"$f":"IF(B32=\"\",\"\",VLOOKUP(B32&\"\",'Fichero de Jugadores'!$A$2:$I$5142,9,0))","v":""},"",null,null,{"$f":"IF(A32=\"\",\"\",VLOOKUP(A32&\"\",'Fichero de Jugadores'!$A$2:$J$5142,10,0))","v":""},{"$f":"IF(B32=\"\",\"\",VLOOKUP(B32&\"\",'Fichero de Jugadores'!$A$2:$J$5142,10,0))","v":""},{"$f":"IF(C32=\"\",\"\",VLOOKUP(A32&\"\",'Fichero de Jugadores'!$A$2:$I$5142,7,0))","v":{"$error":"#N/A"}},{"$f":"IF(C32=\"\",\"\",VLOOKUP(B32&\"\",'Fichero de Jugadores'!$A$2:$I$5142,7,0))","v":{"$error":"#N/A"}}]
[null,null,"30",{"$f":"IF(A33=\"\",\"\",VLOOKUP(A33&\"\",'Fichero de Jugadores'!$A$2:$H$5142,2,0))","v":""},{"$f":"IF(B33=\"\",\"\",VLOOKUP(B33&\"\",'Fichero de Jugadores'!$A$2:$H$5142,2,0))","v":""},null,{"$f":"IF(A33=\"\",\"\",VLOOKUP(A33&\"\",'Fichero de Jugadores'!$A$2:$H$5142,8,0))","v":""},{"$f":"IF(B33=\"\",\"\",VLOOKUP(B33&\"\",'Fichero de Jugadores'!$A$2:$H$5142,8,0))","v":""},{"$error":"#N/A"},{"$f":"IF(A33=\"\",\"\",VLOOKUP(A33&\"\",'Fichero de Jugadores'!$A$2:$I$5142,9,0))","v":""},{"$f":"IF(B33=\"\",\"\",VLOOKUP(B33&\"\",'Fichero de Jugadores'!$A$2:$I$5142,9,0))","v":""},"",null,null,{"$f":"IF(A33=\"\",\"\",VLOOKUP(A33&\"\",'Fichero de Jugadores'!$A$2:$J$5142,10,0))","v":""},{"$f":"IF(B33=\"\",\"\",VLOOKUP(B33&\"\",'Fichero de Jugadores'!$A$2:$J$5142,10,0))","v":""},{"$f":"IF(C33=\"\",\"\",VLOOKUP(A33&\"\",'Fichero de Jugadores'!$A$2:$I$5142,7,0))","v":{"$error":"#N/A"}},{"$f":"IF(C33=\"\",\"\",VLOOKUP(B33&\"\",'Fichero de Jugadores'!$A$2:$I$5142,7,0))","v":{"$error":"#N/A"}}]
[null,null,"31",{"$f":"IF(A34=\"\",\"\",VLOOKUP(A34&\"\",'Fichero de Jugadores'!$A$2:$H$5142,2,0))","v":""},{"$f":"IF(B34=\"\",\"\",VLOOKUP(B34&\"\",'Fichero de Jugadores'!$A$2:$H$5142,2,0))","v":""},null,{"$f":"IF(A34=\"\",\"\",VLOOKUP(A34&\"\",'Fichero de Jugadores'!$A$2:$H$5142,8,0))","v":""},{"$f":"IF(B34=\"\",\"\",VLOOKUP(B34&\"\",'Fichero de Jugadores'!$A$2:$H$5142,8,0))","v":""},{"$error":"#N/A"},{"$f":"IF(A34=\"\",\"\",VLOOKUP(A34&\"\",'Fichero de Jugadores'!$A$2:$I$5142,9,0))","v":""},{"$f":"IF(B34=\"\",\"\",VLOOKUP(B34&\"\",'Fichero de Jugadores'!$A$2:$I$5142,9,0))","v":""},"",null,null,{"$f":"IF(A34=\"\",\"\",VLOOKUP(A34&\"\",'Fichero de Jugadores'!$A$2:$J$5142,10,0))","v":""},{"$f":"IF(B34=\"\",\"\",VLOOKUP(B34&\"\",'Fichero de Jugadores'!$A$2:$J$5142,10,0))","v":""},{"$f":"IF(C34=\"\",\"\",VLOOKUP(A34&\"\",'Fichero de Jugadores'!$A$2:$I$5142,7,0))","v":{"$error":"#N/A"}},{"$f":"IF(C34=\"\",\"\",VLOOKUP(B34&\"\",'Fichero de Jugadores'!$A$2:$I$5142,7,0))","v":{"$error":"#N/A"}}]
[null,null,"32",{"$f":"IF(A35=\"\",\"\",VLOOKUP(A35&\"\",'Fichero de Jugadores'!$A$2:$H$5142,2,0))","v":""},{"$f":"IF(B35=\"\",\"\",VLOOKUP(B35&\"\",'Fichero de Jugadores'!$A$2:$H$5142,2,0))","v":""},null,{"$f":"IF(A35=\"\",\"\",VLOOKUP(A35&\"\",'Fichero de Jugadores'!$A$2:$H$5142,8,0))","v":""},{"$f":"IF(B35=\"\",\"\",VLOOKUP(B35&\"\",'Fichero de Jugadores'!$A$2:$H$5142,8,0))","v":""},{"$error":"#N/A"},{"$f":"IF(A35=\"\",\"\",VLOOKUP(A35&\"\",'Fichero de Jugadores'!$A$2:$I$5142,9,0))","v":""},{"$f":"IF(B35=\"\",\"\",VLOOKUP(B35&\"\",'Fichero de Jugadores'!$A$2:$I$5142,9,0))","v":""},"",null,null,{"$f":"IF(A35=\"\",\"\",VLOOKUP(A35&\"\",'Fichero de Jugadores'!$A$2:$J$5142,10,0))","v":""},{"$f":"IF(B35=\"\",\"\",VLOOKUP(B35&\"\",'Fichero de Jugadores'!$A$2:$J$5142,10,0))","v":""},{"$f":"IF(C35=\"\",\"\",VLOOKUP(A35&\"\",'Fichero de Jugadores'!$A$2:$I$5142,7,0))","v":{"$error":"#N/A"}},{"$f":"IF(C35=\"\",\"\",VLOOKUP(B35&\"\",'Fichero de Jugadores'!$A$2:$I$5142,7,0))","v":{"$error":"#N/A"}}]
[null,null,"33",{"$f":"IF(A36=\"\",\"\",VLOOKUP(A36&\"\",'Fichero de Jugadores'!$A$2:$H$5142,2,0))","v":""},{"$f":"IF(B36=\"\",\"\",VLOOKUP(B36&\"\",'Fichero de Jugadores'!$A$2:$H$5142,2,0))","v":""},null,{"$f":"IF(A36=\"\",\"\",VLOOKUP(A36&\"\",'Fichero de Jugadores'!$A$2:$H$5142,8,0))","v":""},{"$f":"IF(B36=\"\",\"\",VLOOKUP(B36&\"\",'Fichero de Jugadores'!$A$2:$H$5142,8,0))","v":""},{"$error":"#N/A"},{"$f":"IF(A36=\"\",\"\",VLOOKUP(A36&\"\",'Fichero de Jugadores'!$A$2:$I$5142,9,0))","v":""},{"$f":"IF(B36=\"\",\"\",VLOOKUP(B36&\"\",'Fichero de Jugadores'!$A$2:$I$5142,9,0))","v":""},"",null,null,{"$f":"IF(A36=\"\",\"\",VLOOKUP(A36&\"\",'Fichero de Jugadores'!$A$2:$J$5142,10,0))","v":""},{"$f":"IF(B36=\"\",\"\",VLOOKUP(B36&\"\",'Fichero de Jugadores'!$A$2:$J$5142,10,0))","v":""},{"$f":"IF(C36=\"\",\"\",VLOOKUP(A36&\"\",'Fichero de Jugadores'!$A$2:$I$5142,7,0))","v":{"$error":"#N/A"}},{"$f":"IF(C36=\"\",\"\",VLOOKUP(B36&\"\",'Fichero de Jugadores'!$A$2:$I$5142,7,0))","v":{"$error":"#N/A"}}]
[null,null,"34",{"$f":"IF(A37=\"\",\"\",VLOOKUP(A37&\"\",'Fichero de Jugadores'!$A$2:$H$5142,2,0))","v":""},{"$f":"IF(B37=\"\",\"\",VLOOKUP(B37&\"\",'Fichero de Jugadores'!$A$2:$H$5142,2,0))","v":""},null,{"$f":"IF(A37=\"\",\"\",VLOOKUP(A37&\"\",'Fichero de Jugadores'!$A$2:$H$5142,8,0))","v":""},{"$f":"IF(B37=\"\",\"\",VLOOKUP(B37&\"\",'Fichero de Jugadores'!$A$2:$H$5142,8,0))","v":""},{"$error":"#N/A"},{"$f":"IF(A37=\"\",\"\",VLOOKUP(A37&\"\",'Fichero de Jugadores'!$A$2:$I$5142,9,0))","v":""},{"$f":"IF(B37=\"\",\"\",VLOOKUP(B37&\"\",'Fichero de Jugadores'!$A$2:$I$5142,9,0))","v":""},"",null,null,{"$f":"IF(A37=\"\",\"\",VLOOKUP(A37&\"\",'Fichero de Jugadores'!$A$2:$J$5142,10,0))","v":""},{"$f":"IF(B37=\"\",\"\",VLOOKUP(B37&\"\",'Fichero de Jugadores'!$A$2:$J$5142,10,0))","v":""},{"$f":"IF(C37=\"\",\"\",VLOOKUP(A37&\"\",'Fichero de Jugadores'!$A$2:$I$5142,7,0))","v":{"$error":"#N/A"}},{"$f":"IF(C37=\"\",\"\",VLOOKUP(B37&\"\",'Fichero de Jugadores'!$A$2:$I$5142,7,0))","v":{"$error":"#N/A"}}]
[null,null,"35",{"$f":"IF(A38=\"\",\"\",VLOOKUP(A38&\"\",'Fichero de Jugadores'!$A$2:$H$5142,2,0))","v":""},{"$f":"IF(B38=\"\",\"\",VLOOKUP(B38&\"\",'Fichero de Jugadores'!$A$2:$H$5142,2,0))","v":""},null,{"$f":"IF(A38=\"\",\"\",VLOOKUP(A38&\"\",'Fichero de Jugadores'!$A$2:$H$5142,8,0))","v":""},{"$f":"IF(B38=\"\",\"\",VLOOKUP(B38&\"\",'Fichero de Jugadores'!$A$2:$H$5142,8,0))","v":""},{"$error":"#N/A"},{"$f":"IF(A38=\"\",\"\",VLOOKUP(A38&\"\",'Fichero de Jugadores'!$A$2:$I$5142,9,0))","v":""},{"$f":"IF(B38=\"\",\"\",VLOOKUP(B38&\"\",'Fichero de Jugadores'!$A$2:$I$5142,9,0))","v":""},"",null,null,{"$f":"IF(A38=\"\",\"\",VLOOKUP(A38&\"\",'Fichero de Jugadores'!$A$2:$J$5142,10,0))","v":""},{"$f":"IF(B38=\"\",\"\",VLOOKUP(B38&\"\",'Fichero de Jugadores'!$A$2:$J$5142,10,0))","v":""},{"$f":"IF(C38=\"\",\"\",VLOOKUP(A38&\"\",'Fichero de Jugadores'!$A$2:$I$5142,7,0))","v":{"$error":"#N/A"}},{"$f":"IF(C38=\"\",\"\",VLOOKUP(B38&\"\",'Fichero de Jugadores'!$A$2:$I$5142,7,0))","v":{"$error":"#N/A"}}]
[null,null,"36",{"$f":"IF(A39=\"\",\"\",VLOOKUP(A39&\"\",'Fichero de Jugadores'!$A$2:$H$5142,2,0))","v":""},{"$f":"IF(B39=\"\",\"\",VLOOKUP(B39&\"\",'Fichero de Jugadores'!$A$2:$H$5142,2,0))","v":""},null,{"$f":"IF(A39=\"\",\"\",VLOOKUP(A39&\"\",'Fichero de Jugadores'!$A$2:$H$5142,8,0))","v":""},{"$f":"IF(B39=\"\",\"\",VLOOKUP(B39&\"\",'Fichero de Jugadores'!$A$2:$H$5142,8,0))","v":""},{"$error":"#N/A"},{"$f":"IF(A39=\"\",\"\",VLOOKUP(A39&\"\",'Fichero de Jugadores'!$A$2:$I$5142,9,0))","v":""},{"$f":"IF(B39=\"\",\"\",VLOOKUP(B39&\"\",'Fichero de Jugadores'!$A$2:$I$5142,9,0))","v":""},"",null,null,{"$f":"IF(A39=\"\",\"\",VLOOKUP(A39&\"\",'Fichero de Jugadores'!$A$2:$J$5142,10,0))","v":""},{"$f":"IF(B39=\"\",\"\",VLOOKUP(B39&\"\",'Fichero de Jugadores'!$A$2:$J$5142,10,0))","v":""},{"$f":"IF(C39=\"\",\"\",VLOOKUP(A39&\"\",'Fichero de Jugadores'!$A$2:$I$5142,7,0))","v":{"$error":"#N/A"}},{"$f":"IF(C39=\"\",\"\",VLOOKUP(B39&\"\",'Fichero de Jugadores'!$A$2:$I$5142,7,0))","v":{"$error":"#N/A"}}]
[null,null,"37",{"$f":"IF(A40=\"\",\"\",VLOOKUP(A40&\"\",'Fichero de Jugadores'!$A$2:$H$5142,2,0))","v":""},{"$f":"IF(B40=\"\",\"\",VLOOKUP(B40&\"\",'Fichero de Jugadores'!$A$2:$H$5142,2,0))","v":""},null,{"$f":"IF(A40=\"\",\"\",VLOOKUP(A40&\"\",'Fichero de Jugadores'!$A$2:$H$5142,8,0))","v":""},{"$f":"IF(B40=\"\",\"\",VLOOKUP(B40&\"\",'Fichero de Jugadores'!$A$2:$H$5142,8,0))","v":""},{"$error":"#N/A"},{"$f":"IF(A40=\"\",\"\",VLOOKUP(A40&\"\",'Fichero de Jugadores'!$A$2:$I$5142,9,0))","v":""},{"$f":"IF(B40=\"\",\"\",VLOOKUP(B40&\"\",'Fichero de Jugadores'!$A$2:$I$5142,9,0))","v":""},"",null,null,{"$f":"IF(A40=\"\",\"\",VLOOKUP(A40&\"\",'Fichero de Jugadores'!$A$2:$J$5142,10,0))","v":""},{"$f":"IF(B40=\"\",\"\",VLOOKUP(B40&\"\",'Fichero de Jugadores'!$A$2:$J$5142,10,0))","v":""},{"$f":"IF(C40=\"\",\"\",VLOOKUP(A40&\"\",'Fichero de Jugadores'!$A$2:$I$5142,7,0))","v":{"$error":"#N/A"}},{"$f":"IF(C40=\"\",\"\",VLOOKUP(B40&\"\",'Fichero de Jugadores'!$A$2:$I$5142,7,0))","v":{"$error":"#N/A"}}]
[null,null,"38",{"$f":"IF(A41=\"\",\"\",VLOOKUP(A41&\"\",'Fichero de Jugadores'!$A$2:$H$5142,2,0))","v":""},{"$f":"IF(B41=\"\",\"\",VLOOKUP(B41&\"\",'Fichero de Jugadores'!$A$2:$H$5142,2,0))","v":""},null,{"$f":"IF(A41=\"\",\"\",VLOOKUP(A41&\"\",'Fichero de Jugadores'!$A$2:$H$5142,8,0))","v":""},{"$f":"IF(B41=\"\",\"\",VLOOKUP(B41&\"\",'Fichero de Jugadores'!$A$2:$H$5142,8,0))","v":""},{"$error":"#N/A"},{"$f":"IF(A41=\"\",\"\",VLOOKUP(A41&\"\",'Fichero de Jugadores'!$A$2:$I$5142,9,0))","v":""},{"$f":"IF(B41=\"\",\"\",VLOOKUP(B41&\"\",'Fichero de Jugadores'!$A$2:$I$5142,9,0))","v":""},"",null,null,{"$f":"IF(A41=\"\",\"\",VLOOKUP(A41&\"\",'Fichero de Jugadores'!$A$2:$J$5142,10,0))","v":""},{"$f":"IF(B41=\"\",\"\",VLOOKUP(B41&\"\",'Fichero de Jugadores'!$A$2:$J$5142,10,0))","v":""},{"$f":"IF(C41=\"\",\"\",VLOOKUP(A41&\"\",'Fichero de Jugadores'!$A$2:$I$5142,7,0))","v":{"$error":"#N/A"}},{"$f":"IF(C41=\"\",\"\",VLOOKUP(B41&\"\",'Fichero de Jugadores'!$A$2:$I$5142,7,0))","v":{"$error":"#N/A"}}]
[null,null,"39",{"$f":"IF(A42=\"\",\"\",VLOOKUP(A42&\"\",'Fichero de Jugadores'!$A$2:$H$5142,2,0))","v":""},{"$f":"IF(B42=\"\",\"\",VLOOKUP(B42&\"\",'Fichero de Jugadores'!$A$2:$H$5142,2,0))","v":""},null,{"$f":"IF(A42=\"\",\"\",VLOOKUP(A42&\"\",'Fichero de Jugadores'!$A$2:$H$5142,8,0))","v":""},{"$f":"IF(B42=\"\",\"\",VLOOKUP(B42&\"\",'Fichero de Jugadores'!$A$2:$H$5142,8,0))","v":""},{"$error":"#N/A"},{"$f":"IF(A42=\"\",\"\",VLOOKUP(A42&\"\",'Fichero de Jugadores'!$A$2:$I$5142,9,0))","v":""},{"$f":"IF(B42=\"\",\"\",VLOOKUP(B42&\"\",'Fichero de Jugadores'!$A$2:$I$5142,9,0))","v":""},"",null,null,{"$f":"IF(A42=\"\",\"\",VLOOKUP(A42&\"\",'Fichero de Jugadores'!$A$2:$J$5142,10,0))","v":""},{"$f":"IF(B42=\"\",\"\",VLOOKUP(B42&\"\",'Fichero de Jugadores'!$A$2:$J$5142,10,0))","v":""},{"$f":"IF(C42=\"\",\"\",VLOOKUP(A42&\"\",'Fichero de Jugadores'!$A$2:$I$5142,7,0))","v":{"$error":"#N/A"}},{"$f":"IF(C42=\"\",\"\",VLOOKUP(B42&\"\",'Fichero de Jugadores'!$A$2:$I$5142,7,0))","v":{"$error":"#N/A"}}]
[null,null,"40",{"$f":"IF(A43=\"\",\"\",VLOOKUP(A43&\"\",'Fichero de Jugadores'!$A$2:$H$5142,2,0))","v":""},{"$f":"IF(B43=\"\",\"\",VLOOKUP(B43&\"\",'Fichero de Jugadores'!$A$2:$H$5142,2,0))","v":""},null,{"$f":"IF(A43=\"\",\"\",VLOOKUP(A43&\"\",'Fichero de Jugadores'!$A$2:$H$5142,8,0))","v":""},{"$f":"IF(B43=\"\",\"\",VLOOKUP(B43&\"\",'Fichero de Jugadores'!$A$2:$H$5142,8,0))","v":""},{"$error":"#N/A"},{"$f":"IF(A43=\"\",\"\",VLOOKUP(A43&\"\",'Fichero de Jugadores'!$A$2:$I$5142,9,0))","v":""},{"$f":"IF(B43=\"\",\"\",VLOOKUP(B43&\"\",'Fichero de Jugadores'!$A$2:$I$5142,9,0))","v":""},"",null,null,{"$f":"IF(A43=\"\",\"\",VLOOKUP(A43&\"\",'Fichero de Jugadores'!$A$2:$J$5142,10,0))","v":""},{"$f":"IF(B43=\"\",\"\",VLOOKUP(B43&\"\",'Fichero de Jugadores'!$A$2:$J$5142,10,0))","v":""},{"$f":"IF(C43=\"\",\"\",VLOOKUP(A43&\"\",'Fichero de Jugadores'!$A$2:$I$5142,7,0))","v":{"$error":"#N/A"}},{"$f":"IF(C43=\"\",\"\",VLOOKUP(B43&\"\",'Fichero de Jugadores'!$A$2:$I$5142,7,0))","v":{"$error":"#N/A"}}]
[null,null,"41",{"$f":"IF(A44=\"\",\"\",VLOOKUP(A44&\"\",'Fichero de Jugadores'!$A$2:$H$5142,2,0))","v":""},{"$f":"IF(B44=\"\",\"\",VLOOKUP(B44&\"\",'Fichero de Jugadores'!$A$2:$H$5142,2,0))","v":""},null,{"$f":"IF(A44=\"\",\"\",VLOOKUP(A44&\"\",'Fichero de Jugadores'!$A$2:$H$5142,8,0))","v":""},{"$f":"IF(B44=\"\",\"\",VLOOKUP(B44&\"\",'Fichero de Jugadores'!$A$2:$H$5142,8,0))","v":""},{"$error":"#N/A"},{"$f":"IF(A44=\"\",\"\",VLOOKUP(A44&\"\",'Fichero de Jugadores'!$A$2:$I$5142,9,0))","v":""},{"$f":"IF(B44=\"\",\"\",VLOOKUP(B44&\"\",'Fichero de Jugadores'!$A$2:$I$5142,9,0))","v":""},"",null,null,{"$f":"IF(A44=\"\",\"\",VLOOKUP(A44&\"\",'Fichero de Jugadores'!$A$2:$J$5142,10,0))","v":""},{"$f":"IF(B44=\"\",\"\",VLOOKUP(B44&\"\",'Fichero de Jugadores'!$A$2:$J$5142,10,0))","v":""},{"$f":"IF(C44=\"\",\"\",VLOOKUP(A44&\"\",'Fichero de Jugadores'!$A$2:$I$5142,7,0))","v":{"$error":"#N/A"}},{"$f":"IF(C44=\"\",\"\",VLOOKUP(B44&\"\",'Fichero de Jugadores'!$A$2:$I$5142,7,0))","v":{"$error":"#N/A"}}]
[null,null,"42",{"$f":"IF(A45=\"\",\"\",VLOOKUP(A45&\"\",'Fichero de Jugadores'!$A$2:$H$5142,2,0))","v":""},{"$f":"IF(B45=\"\",\"\",VLOOKUP(B45&\"\",'Fichero de Jugadores'!$A$2:$H$5142,2,0))","v":""},null,{"$f":"IF(A45=\"\",\"\",VLOOKUP(A45&\"\",'Fichero de Jugadores'!$A$2:$H$5142,8,0))","v":""},{"$f":"IF(B45=\"\",\"\",VLOOKUP(B45&\"\",'Fichero de Jugadores'!$A$2:$H$5142,8,0))","v":""},{"$error":"#N/A"},{"$f":"IF(A45=\"\",\"\",VLOOKUP(A45&\"\",'Fichero de Jugadores'!$A$2:$I$5142,9,0))","v":""},{"$f":"IF(B45=\"\",\"\",VLOOKUP(B45&\"\",'Fichero de Jugadores'!$A$2:$I$5142,9,0))","v":""},"",null,null,{"$f":"IF(A45=\"\",\"\",VLOOKUP(A45&\"\",'Fichero de Jugadores'!$A$2:$J$5142,10,0))","v":""},{"$f":"IF(B45=\"\",\"\",VLOOKUP(B45&\"\",'Fichero de Jugadores'!$A$2:$J$5142,10,0))","v":""},{"$f":"IF(C45=\"\",\"\",VLOOKUP(A45&\"\",'Fichero de Jugadores'!$A$2:$I$5142,7,0))","v":{"$error":"#N/A"}},{"$f":"IF(C45=\"\",\"\",VLOOKUP(B45&\"\",'Fichero de Jugadores'!$A$2:$I$5142,7,0))","v":{"$error":"#N/A"}}]
[null,null,"43",{"$f":"IF(A46=\"\",\"\",VLOOKUP(A46&\"\",'Fichero de Jugadores'!$A$2:$H$5142,2,0))","v":""},{"$f":"IF(B46=\"\",\"\",VLOOKUP(B46&\"\",'Fichero de Jugadores'!$A$2:$H$5142,2,0))","v":""},null,{"$f":"IF(A46=\"\",\"\",VLOOKUP(A46&\"\",'Fichero de Jugadores'!$A$2:$H$5142,8,0))","v":""},{"$f":"IF(B46=\"\",\"\",VLOOKUP(B46&\"\",'Fichero de Jugadores'!$A$2:$H$5142,8,0))","v":""},{"$error":"#N/A"},{"$f":"IF(A46=\"\",\"\",VLOOKUP(A46&\"\",'Fichero de Jugadores'!$A$2:$I$5142,9,0))","v":""},{"$f":"IF(B46=\"\",\"\",VLOOKUP(B46&\"\",'Fichero de Jugadores'!$A$2:$I$5142,9,0))","v":""},"",null,null,{"$f":"IF(A46=\"\",\"\",VLOOKUP(A46&\"\",'Fichero de Jugadores'!$A$2:$J$5142,10,0))","v":""},{"$f":"IF(B46=\"\",\"\",VLOOKUP(B46&\"\",'Fichero de Jugadores'!$A$2:$J$5142,10,0))","v":""},{"$f":"IF(C46=\"\",\"\",VLOOKUP(A46&\"\",'Fichero de Jugadores'!$A$2:$I$5142,7,0))","v":{"$error":"#N/A"}},{"$f":"IF(C46=\"\",\"\",VLOOKUP(B46&\"\",'Fichero de Jugadores'!$A$2:$I$5142,7,0))","v":{"$error":"#N/A"}}]
[null,null,"44",{"$f":"IF(A47=\"\",\"\",VLOOKUP(A47&\"\",'Fichero de Jugadores'!$A$2:$H$5142,2,0))","v":""},{"$f":"IF(B47=\"\",\"\",VLOOKUP(B47&\"\",'Fichero de Jugadores'!$A$2:$H$5142,2,0))","v":""},null,{"$f":"IF(A47=\"\",\"\",VLOOKUP(A47&\"\",'Fichero de Jugadores'!$A$2:$H$5142,8,0))","v":""},{"$f":"IF(B47=\"\",\"\",VLOOKUP(B47&\"\",'Fichero de Jugadores'!$A$2:$H$5142,8,0))","v":""},{"$error":"#N/A"},{"$f":"IF(A47=\"\",\"\",VLOOKUP(A47&\"\",'Fichero de Jugadores'!$A$2:$I$5142,9,0))","v":""},{"$f":"IF(B47=\"\",\"\",VLOOKUP(B47&\"\",'Fichero de Jugadores'!$A$2:$I$5142,9,0))","v":""},"",null,null,{"$f":"IF(A47=\"\",\"\",VLOOKUP(A47&\"\",'Fichero de Jugadores'!$A$2:$J$5142,10,0))","v":""},{"$f":"IF(B47=\"\",\"\",VLOOKUP(B47&\"\",'Fichero de Jugadores'!$A$2:$J$5142,10,0))","v":""},{"$f":"IF(C47=\"\",\"\",VLOOKUP(A47&\"\",'Fichero de Jugadores'!$A$2:$I$5142,7,0))","v":{"$error":"#N/A"}},{"$f":"IF(C47=\"\",\"\",VLOOKUP(B47&\"\",'Fichero de Jugadores'!$A$2:$I$5142,7,0))","v":{"$error":"#N/A"}}]
[null,null,"45",{"$f":"IF(A48=\"\",\"\",VLOOKUP(A48&\"\",'Fichero de Jugadores'!$A$2:$H$5142,2,0))","v":""},{"$f":"IF(B48=\"\",\"\",VLOOKUP(B48&\"\",'Fichero de Jugadores'!$A$2:$H$5142,2,0))","v":""},null,{"$f":"IF(A48=\"\",\"\",VLOOKUP(A48&\"\",'Fichero de Jugadores'!$A$2:$H$5142,8,0))","v":""},{"$f":"IF(B48=\"\",\"\",VLOOKUP(B48&\"\",'Fichero de Jugadores'!$A$2:$H$5142,8,0))","v":""},{"$error":"#N/A"},{"$f":"IF(A48=\"\",\"\",VLOOKUP(A48&\"\",'Fichero de Jugadores'!$A$2:$I$5142,9,0))","v":""},{"$f":"IF(B48=\"\",\"\",VLOOKUP(B48&\"\",'Fichero de Jugadores'!$A$2:$I$5142,9,0))","v":""},"",null,null,{"$f":"IF(A48=\"\",\"\",VLOOKUP(A48&\"\",'Fichero de Jugadores'!$A$2:$J$5142,10,0))","v":""},{"$f":"IF(B48=\"\",\"\",VLOOKUP(B48&\"\",'Fichero de Jugadores'!$A$2:$J$5142,10,0))","v":""},{"$f":"IF(C48=\"\",\"\",VLOOKUP(A48&\"\",'Fichero de Jugadores'!$A$2:$I$5142,7,0))","v":{"$error":"#N/A"}},{"$f":"IF(C48=\"\",\"\",VLOOKUP(B48&\"\",'Fichero de Jugadores'!$A$2:$I$5142,7,0))","v":{"$error":"#N/A"}}]
[null,null,"46",{"$f":"IF(A49=\"\",\"\",VLOOKUP(A49&\"\",'Fichero de Jugadores'!$A$2:$H$5142,2,0))","v":""},{"$f":"IF(B49=\"\",\"\",VLOOKUP(B49&\"\",'Fichero de Jugadores'!$A$2:$H$5142,2,0))","v":""},null,{"$f":"IF(A49=\"\",\"\",VLOOKUP(A49&\"\",'Fichero de Jugadores'!$A$2:$H$5142,8,0))","v":""},{"$f":"IF(B49=\"\",\"\",VLOOKUP(B49&\"\",'Fichero de Jugadores'!$A$2:$H$5142,8,0))","v":""},{"$error":"#N/A"},{"$f":"IF(A49=\"\",\"\",VLOOKUP(A49&\"\",'Fichero de Jugadores'!$A$2:$I$5142,9,0))","v":""},{"$f":"IF(B49=\"\",\"\",VLOOKUP(B49&\"\",'Fichero de Jugadores'!$A$2:$I$5142,9,0))","v":""},"",null,null,{"$f":"IF(A49=\"\",\"\",VLOOKUP(A49&\"\",'Fichero de Jugadores'!$A$2:$J$5142,10,0))","v":""},{"$f":"IF(B49=\"\",\"\",VLOOKUP(B49&\"\",'Fichero de Jugadores'!$A$2:$J$5142,10,0))","v":""},{"$f":"IF(C49=\"\",\"\",VLOOKUP(A49&\"\",'Fichero de Jugadores'!$A$2:$I$5142,7,0))","v":{"$error":"#N/A"}},{"$f":"IF(C49=\"\",\"\",VLOOKUP(B49&\"\",'Fichero de Jugadores'!$A$2:$I$5142,7,0))","v":{"$error":"#N/A"}}]
[null,null,"47",{"$f":"IF(A50=\"\",\"\",VLOOKUP(A50&\"\",'Fichero de Jugadores'!$A$2:$H$5142,2,0))","v":""},{"$f":"IF(B50=\"\",\"\",VLOOKUP(B50&\"\",'Fichero de Jugadores'!$A$2:$H$5142,2,0))","v":""},null,{"$f":"IF(A50=\"\",\"\",VLOOKUP(A50&\"\",'Fichero de Jugadores'!$A$2:$H$5142,8,0))","v":""},{"$f":"IF(B50=\"\",\"\",VLOOKUP(B50&\"\",'Fichero de Jugadores'!$A$2:$H$5142,8,0))","v":""},{"$error":"#N/A"},{"$f":"IF(A50=\"\",\"\",VLOOKUP(A50&\"\",'Fichero de Jugadores'!$A$2:$I$5142,9,0))","v":""},{"$f":"IF(B50=\"\",\"\",VLOOKUP(B50&\"\",'Fichero de Jugadores'!$A$2:$I$5142,9,0))","v":""},"",null,null,{"$f":"IF(A50=\"\",\"\",VLOOKUP(A50&\"\",'Fichero de Jugadores'!$A$2:$J$5142,10,0))","v":""},{"$f":"IF(B50=\"\",\"\",VLOOKUP(B50&\"\",'Fichero de Jugadores'!$A$2:$J$5142,10,0))","v":""},{"$f":"IF(C50=\"\",\"\",VLOOKUP(A50&\"\",'Fichero de Jugadores'!$A$2:$I$5142,7,0))","v":{"$error":"#N/A"}},{"$f":"IF(C50=\"\",\"\",VLOOKUP(B50&\"\",'Fichero de Jugadores'!$A$2:$I$5142,7,0))","v":{"$error":"#N/A"}}]
[null,null,"48",{"$f":"IF(A51=\"\",\"\",VLOOKUP(A51&\"\",'Fichero de Jugadores'!$A$2:$H$5142,2,0))","v":""},{"$f":"IF(B51=\"\",\"\",VLOOKUP(B51&\"\",'Fichero de Jugadores'!$A$2:$H$5142,2,0))","v":""},null,{"$f":"IF(A51=\"\",\"\",VLOOKUP(A51&\"\",'Fichero de Jugadores'!$A$2:$H$5142,8,0))","v":""},{"$f":"IF(B51=\"\",\"\",VLOOKUP(B51&\"\",'Fichero de Jugadores'!$A$2:$H$5142,8,0))","v":""},{"$error":"#N/A"},{"$f":"IF(A51=\"\",\"\",VLOOKUP(A51&\"\",'Fichero de Jugadores'!$A$2:$I$5142,9,0))","v":""},{"$f":"IF(B51=\"\",\"\",VLOOKUP(B51&\"\",'Fichero de Jugadores'!$A$2:$I$5142,9,0))","v":""},"",null,null,{"$f":"IF(A51=\"\",\"\",VLOOKUP(A51&\"\",'Fichero de Jugadores'!$A$2:$J$5142,10,0))","v":""},{"$f":"IF(B51=\"\",\"\",VLOOKUP(B51&\"\",'Fichero de Jugadores'!$A$2:$J$5142,10,0))","v":""},{"$f":"IF(C51=\"\",\"\",VLOOKUP(A51&\"\",'Fichero de Jugadores'!$A$2:$I$5142,7,0))","v":{"$error":"#N/A"}},{"$f":"IF(C51=\"\",\"\",VLOOKUP(B51&\"\",'Fichero de Jugadores'!$A$2:$I$5142,7,0))","v":{"$error":"#N/A"}}]
[null,null,"49",{"$f":"IF(A52=\"\",\"\",VLOOKUP(A52&\"\",'Fichero de Jugadores'!$A$2:$H$5142,2,0))","v":""},{"$f":"IF(B52=\"\",\"\",VLOOKUP(B52&\"\",'Fichero de Jugadores'!$A$2:$H$5142,2,0))","v":""},null,{"$f":"IF(A52=\"\",\"\",VLOOKUP(A52&\"\",'Fichero de Jugadores'!$A$2:$H$5142,8,0))","v":""},{"$f":"IF(B52=\"\",\"\",VLOOKUP(B52&\"\",'Fichero de Jugadores'!$A$2:$H$5142,8,0))","v":""},{"$error":"#N/A"},{"$f":"IF(A52=\"\",\"\",VLOOKUP(A52&\"\",'Fichero de Jugadores'!$A$2:$I$5142,9,0))","v":""},{"$f":"IF(B52=\"\",\"\",VLOOKUP(B52&\"\",'Fichero de Jugadores'!$A$2:$I$5142,9,0))","v":""},"",null,null,{"$f":"IF(A52=\"\",\"\",VLOOKUP(A52&\"\",'Fichero de Jugadores'!$A$2:$J$5142,10,0))","v":""},{"$f":"IF(B52=\"\",\"\",VLOOKUP(B52&\"\",'Fichero de Jugadores'!$A$2:$J$5142,10,0))","v":""},{"$f":"IF(C52=\"\",\"\",VLOOKUP(A52&\"\",'Fichero de Jugadores'!$A$2:$I$5142,7,0))","v":{"$error":"#N/A"}},{"$f":"IF(C52=\"\",\"\",VLOOKUP(B52&\"\",'Fichero de Jugadores'!$A$2:$I$5142,7,0))","v":{"$error":"#N/A"}}]
[null,null,"50",{"$f":"IF(A53=\"\",\"\",VLOOKUP(A53&\"\",'Fichero de Jugadores'!$A$2:$H$5142,2,0))","v":""},{"$f":"IF(B53=\"\",\"\",VLOOKUP(B53&\"\",'Fichero de Jugadores'!$A$2:$H$5142,2,0))","v":""},null,{"$f":"IF(A53=\"\",\"\",VLOOKUP(A53&\"\",'Fichero de Jugadores'!$A$2:$H$5142,8,0))","v":""},{"$f":"IF(B53=\"\",\"\",VLOOKUP(B53&\"\",'Fichero de Jugadores'!$A$2:$H$5142,8,0))","v":""},{"$error":"#N/A"},{"$f":"IF(A53=\"\",\"\",VLOOKUP(A53&\"\",'Fichero de Jugadores'!$A$2:$I$5142,9,0))","v":""},{"$f":"IF(B53=\"\",\"\",VLOOKUP(B53&\"\",'Fichero de Jugadores'!$A$2:$I$5142,9,0))","v":""},"",null,null,{"$f":"IF(A53=\"\",\"\",VLOOKUP(A53&\"\",'Fichero de Jugadores'!$A$2:$J$5142,10,0))","v":""},{"$f":"IF(B53=\"\",\"\",VLOOKUP(B53&\"\",'Fichero de Jugadores'!$A$2:$J$5142,10,0))","v":""},{"$f":"IF(C53=\"\",\"\",VLOOKUP(A53&\"\",'Fichero de Jugadores'!$A$2:$I$5142,7,0))","v":{"$error":"#N/A"}},{"$f":"IF(C53=\"\",\"\",VLOOKUP(B53&\"\",'Fichero de Jugadores'!$A$2:$I$5142,7,0))","v":{"$error":"#N/A"}}]
[null,null,"51",{"$f":"IF(A54=\"\",\"\",VLOOKUP(A54&\"\",'Fichero de Jugadores'!$A$2:$H$5142,2,0))","v":""},{"$f":"IF(B54=\"\",\"\",VLOOKUP(B54&\"\",'Fichero de Jugadores'!$A$2:$H$5142,2,0))","v":""},null,{"$f":"IF(A54=\"\",\"\",VLOOKUP(A54&\"\",'Fichero de Jugadores'!$A$2:$H$5142,8,0))","v":""},{"$f":"IF(B54=\"\",\"\",VLOOKUP(B54&\"\",'Fichero de Jugadores'!$A$2:$H$5142,8,0))","v":""},{"$error":"#N/A"},{"$f":"IF(A54=\"\",\"\",VLOOKUP(A54&\"\",'Fichero de Jugadores'!$A$2:$I$5142,9,0))","v":""},{"$f":"IF(B54=\"\",\"\",VLOOKUP(B54&\"\",'Fichero de Jugadores'!$A$2:$I$5142,9,0))","v":""},"",null,null,{"$f":"IF(A54=\"\",\"\",VLOOKUP(A54&\"\",'Fichero de Jugadores'!$A$2:$J$5142,10,0))","v":""},{"$f":"IF(B54=\"\",\"\",VLOOKUP(B54&\"\",'Fichero de Jugadores'!$A$2:$J$5142,10,0))","v":""},{"$f":"IF(C54=\"\",\"\",VLOOKUP(A54&\"\",'Fichero de Jugadores'!$A$2:$I$5142,7,0))","v":{"$error":"#N/A"}},{"$f":"IF(C54=\"\",\"\",VLOOKUP(B54&\"\",'Fichero de Jugadores'!$A$2:$I$5142,7,0))","v":{"$error":"#N/A"}}]
[null,null,"52",{"$f":"IF(A55=\"\",\"\",VLOOKUP(A55&\"\",'Fichero de Jugadores'!$A$2:$H$5142,2,0))","v":""},{"$f":"IF(B55=\"\",\"\",VLOOKUP(B55&\"\",'Fichero de Jugadores'!$A$2:$H$5142,2,0))","v":""},null,{"$f":"IF(A55=\"\",\"\",VLOOKUP(A55&\"\",'Fichero de Jugadores'!$A$2:$H$5142,8,0))","v":""},{"$f":"IF(B55=\"\",\"\",VLOOKUP(B55&\"\",'Fichero de Jugadores'!$A$2:$H$5142,8,0))","v":""},{"$error":"#N/A"},{"$f":"IF(A55=\"\",\"\",VLOOKUP(A55&\"\",'Fichero de Jugadores'!$A$2:$I$5142,9,0))","v":""},{"$f":"IF(B55=\"\",\"\",VLOOKUP(B55&\"\",'Fichero de Jugadores'!$A$2:$I$5142,9,0))","v":""},"",null,null,{"$f":"IF(A55=\"\",\"\",VLOOKUP(A55&\"\",'Fichero de Jugadores'!$A$2:$J$5142,10,0))","v":""},{"$f":"IF(B55=\"\",\"\",VLOOKUP(B55&\"\",'Fichero de Jugadores'!$A$2:$J$5142,10,0))","v":""},{"$f":"IF(C55=\"\",\"\",VLOOKUP(A55&\"\",'Fichero de Jugadores'!$A$2:$I$5142,7,0))","v":{"$error":"#N/A"}},{"$f":"IF(C55=\"\",\"\",VLOOKUP(B55&\"\",'Fichero de Jugadores'!$A$2:$I$5142,7,0))","v":{"$error":"#N/A"}}]
[null,null,"53",{"$f":"IF(A56=\"\",\"\",VLOOKUP(A56&\"\",'Fichero de Jugadores'!$A$2:$H$5142,2,0))","v":""},{"$f":"IF(B56=\"\",\"\",VLOOKUP(B56&\"\",'Fichero de Jugadores'!$A$2:$H$5142,2,0))","v":""},null,{"$f":"IF(A56=\"\",\"\",VLOOKUP(A56&\"\",'Fichero de Jugadores'!$A$2:$H$5142,8,0))","v":""},{"$f":"IF(B56=\"\",\"\",VLOOKUP(B56&\"\",'Fichero de Jugadores'!$A$2:$H$5142,8,0))","v":""},{"$error":"#N/A"},{"$f":"IF(A56=\"\",\"\",VLOOKUP(A56&\"\",'Fichero de Jugadores'!$A$2:$I$5142,9,0))","v":""},{"$f":"IF(B56=\"\",\"\",VLOOKUP(B56&\"\",'Fichero de Jugadores'!$A$2:$I$5142,9,0))","v":""},"",null,null,{"$f":"IF(A56=\"\",\"\",VLOOKUP(A56&\"\",'Fichero de Jugadores'!$A$2:$J$5142,10,0))","v":""},{"$f":"IF(B56=\"\",\"\",VLOOKUP(B56&\"\",'Fichero de Jugadores'!$A$2:$J$5142,10,0))","v":""},{"$f":"IF(C56=\"\",\"\",VLOOKUP(A56&\"\",'Fichero de Jugadores'!$A$2:$I$5142,7,0))","v":{"$error":"#N/A"}},{"$f":"IF(C56=\"\",\"\",VLOOKUP(B56&\"\",'Fichero de Jugadores'!$A$2:$I$5142,7,0))","v":{"$error":"#N/A"}}]
[null,null,"54",{"$f":"IF(A57=\"\",\"\",VLOOKUP(A57&\"\",'Fichero de Jugadores'!$A$2:$H$5142,2,0))","v":""},{"$f":"IF(B57=\"\",\"\",VLOOKUP(B57&\"\",'Fichero de Jugadores'!$A$2:$H$5142,2,0))","v":""},null,{"$f":"IF(A57=\"\",\"\",VLOOKUP(A57&\"\",'Fichero de Jugadores'!$A$2:$H$5142,8,0))","v":""},{"$f":"IF(B57=\"\",\"\",VLOOKUP(B57&\"\",'Fichero de Jugadores'!$A$2:$H$5142,8,0))","v":""},{"$error":"#N/A"},{"$f":"IF(A57=\"\",\"\",VLOOKUP(A57&\"\",'Fichero de Jugadores'!$A$2:$I$5142,9,0))","v":""},{"$f":"IF(B57=\"\",\"\",VLOOKUP(B57&\"\",'Fichero de Jugadores'!$A$2:$I$5142,9,0))","v":""},"",null,null,{"$f":"IF(A57=\"\",\"\",VLOOKUP(A57&\"\",'Fichero de Jugadores'!$A$2:$J$5142,10,0))","v":""},{"$f":"IF(B57=\"\",\"\",VLOOKUP(B57&\"\",'Fichero de Jugadores'!$A$2:$J$5142,10,0))","v":""},{"$f":"IF(C57=\"\",\"\",VLOOKUP(A57&\"\",'Fichero de Jugadores'!$A$2:$I$5142,7,0))","v":{"$error":"#N/A"}},{"$f":"IF(C57=\"\",\"\",VLOOKUP(B57&\"\",'Fichero de Jugadores'!$A$2:$I$5142,7,0))","v":{"$error":"#N/A"}}]
[null,null,"55",{"$f":"IF(A58=\"\",\"\",VLOOKUP(A58&\"\",'Fichero de Jugadores'!$A$2:$H$5142,2,0))","v":""},{"$f":"IF(B58=\"\",\"\",VLOOKUP(B58&\"\",'Fichero de Jugadores'!$A$2:$H$5142,2,0))","v":""},null,{"$f":"IF(A58=\"\",\"\",VLOOKUP(A58&\"\",'Fichero de Jugadores'!$A$2:$H$5142,8,0))","v":""},{"$f":"IF(B58=\"\",\"\",VLOOKUP(B58&\"\",'Fichero de Jugadores'!$A$2:$H$5142,8,0))","v":""},{"$error":"#N/A"},{"$f":"IF(A58=\"\",\"\",VLOOKUP(A58&\"\",'Fichero de Jugadores'!$A$2:$I$5142,9,0))","v":""},{"$f":"IF(B58=\"\",\"\",VLOOKUP(B58&\"\",'Fichero de Jugadores'!$A$2:$I$5142,9,0))","v":""},"",null,null,{"$f":"IF(A58=\"\",\"\",VLOOKUP(A58&\"\",'Fichero de Jugadores'!$A$2:$J$5142,10,0))","v":""},{"$f":"IF(B58=\"\",\"\",VLOOKUP(B58&\"\",'Fichero de Jugadores'!$A$2:$J$5142,10,0))","v":""},{"$f":"IF(C58=\"\",\"\",VLOOKUP(A58&\"\",'Fichero de Jugadores'!$A$2:$I$5142,7,0))","v":{"$error":"#N/A"}},{"$f":"IF(C58=\"\",\"\",VLOOKUP(B58&\"\",'Fichero de Jugadores'!$A$2:$I$5142,7,0))","v":{"$error":"#N/A"}}]
[null,null,"56",{"$f":"IF(A59=\"\",\"\",VLOOKUP(A59&\"\",'Fichero de Jugadores'!$A$2:$H$5142,2,0))","v":""},{"$f":"IF(B59=\"\",\"\",VLOOKUP(B59&\"\",'Fichero de Jugadores'!$A$2:$H$5142,2,0))","v":""},null,{"$f":"IF(A59=\"\",\"\",VLOOKUP(A59&\"\",'Fichero de Jugadores'!$A$2:$H$5142,8,0))","v":""},{"$f":"IF(B59=\"\",\"\",VLOOKUP(B59&\"\",'Fichero de Jugadores'!$A$2:$H$5142,8,0))","v":""},{"$error":"#N/A"},{"$f":"IF(A59=\"\",\"\",VLOOKUP(A59&\"\",'Fichero de Jugadores'!$A$2:$I$5142,9,0))","v":""},{"$f":"IF(B59=\"\",\"\",VLOOKUP(B59&\"\",'Fichero de Jugadores'!$A$2:$I$5142,9,0))","v":""},"",null,null,{"$f":"IF(A59=\"\",\"\",VLOOKUP(A59&\"\",'Fichero de Jugadores'!$A$2:$J$5142,10,0))","v":""},{"$f":"IF(B59=\"\",\"\",VLOOKUP(B59&\"\",'Fichero de Jugadores'!$A$2:$J$5142,10,0))","v":""},{"$f":"IF(C59=\"\",\"\",VLOOKUP(A59&\"\",'Fichero de Jugadores'!$A$2:$I$5142,7,0))","v":{"$error":"#N/A"}},{"$f":"IF(C59=\"\",\"\",VLOOKUP(B59&\"\",'Fichero de Jugadores'!$A$2:$I$5142,7,0))","v":{"$error":"#N/A"}}]
[null,null,"57",{"$f":"IF(A60=\"\",\"\",VLOOKUP(A60&\"\",'Fichero de Jugadores'!$A$2:$H$5142,2,0))","v":""},{"$f":"IF(B60=\"\",\"\",VLOOKUP(B60&\"\",'Fichero de Jugadores'!$A$2:$H$5142,2,0))","v":""},null,{"$f":"IF(A60=\"\",\"\",VLOOKUP(A60&\"\",'Fichero de Jugadores'!$A$2:$H$5142,8,0))","v":""},{"$f":"IF(B60=\"\",\"\",VLOOKUP(B60&\"\",'Fichero de Jugadores'!$A$2:$H$5142,8,0))","v":""},{"$error":"#N/A"},{"$f":"IF(A60=\"\",\"\",VLOOKUP(A60&\"\",'Fichero de Jugadores'!$A$2:$I$5142,9,0))","v":""},{"$f":"IF(B60=\"\",\"\",VLOOKUP(B60&\"\",'Fichero de Jugadores'!$A$2:$I$5142,9,0))","v":""},"",null,null,{"$f":"IF(A60=\"\",\"\",VLOOKUP(A60&\"\",'Fichero de Jugadores'!$A$2:$J$5142,10,0))","v":""},{"$f":"IF(B60=\"\",\"\",VLOOKUP(B60&\"\",'Fichero de Jugadores'!$A$2:$J$5142,10,0))","v":""},{"$f":"IF(C60=\"\",\"\",VLOOKUP(A60&\"\",'Fichero de Jugadores'!$A$2:$I$5142,7,0))","v":{"$error":"#N/A"}},{"$f":"IF(C60=\"\",\"\",VLOOKUP(B60&\"\",'Fichero de Jugadores'!$A$2:$I$5142,7,0))","v":{"$error":"#N/A"}}]
[null,null,"58",{"$f":"IF(A61=\"\",\"\",VLOOKUP(A61&\"\",'Fichero de Jugadores'!$A$2:$H$5142,2,0))","v":""},{"$f":"IF(B61=\"\",\"\",VLOOKUP(B61&\"\",'Fichero de Jugadores'!$A$2:$H$5142,2,0))","v":""},null,{"$f":"IF(A61=\"\",\"\",VLOOKUP(A61&\"\",'Fichero de Jugadores'!$A$2:$H$5142,8,0))","v":""},{"$f":"IF(B61=\"\",\"\",VLOOKUP(B61&\"\",'Fichero de Jugadores'!$A$2:$H$5142,8,0))","v":""},{"$error":"#N/A"},{"$f":"IF(A61=\"\",\"\",VLOOKUP(A61&\"\",'Fichero de Jugadores'!$A$2:$I$5142,9,0))","v":""},{"$f":"IF(B61=\"\",\"\",VLOOKUP(B61&\"\",'Fichero de Jugadores'!$A$2:$I$5142,9,0))","v":""},"",null,null,{"$f":"IF(A61=\"\",\"\",VLOOKUP(A61&\"\",'Fichero de Jugadores'!$A$2:$J$5142,10,0))","v":""},{"$f":"IF(B61=\"\",\"\",VLOOKUP(B61&\"\",'Fichero de Jugadores'!$A$2:$J$5142,10,0))","v":""},{"$f":"IF(C61=\"\",\"\",VLOOKUP(A61&\"\",'Fichero de Jugadores'!$A$2:$I$5142,7,0))","v":{"$error":"#N/A"}},{"$f":"IF(C61=\"\",\"\",VLOOKUP(B61&\"\",'Fichero de Jugadores'!$A$2:$I$5142,7,0))","v":{"$error":"#N/A"}}]
[null,null,"59",{"$f":"IF(A62=\"\",\"\",VLOOKUP(A62&\"\",'Fichero de Jugadores'!$A$2:$H$5142,2,0))","v":""},{"$f":"IF(B62=\"\",\"\",VLOOKUP(B62&\"\",'Fichero de Jugadores'!$A$2:$H$5142,2,0))","v":""},null,{"$f":"IF(A62=\"\",\"\",VLOOKUP(A62&\"\",'Fichero de Jugadores'!$A$2:$H$5142,8,0))","v":""},{"$f":"IF(B62=\"\",\"\",VLOOKUP(B62&\"\",'Fichero de Jugadores'!$A$2:$H$5142,8,0))","v":""},{"$error":"#N/A"},{"$f":"IF(A62=\"\",\"\",VLOOKUP(A62&\"\",'Fichero de Jugadores'!$A$2:$I$5142,9,0))","v":""},{"$f":"IF(B62=\"\",\"\",VLOOKUP(B62&\"\",'Fichero de Jugadores'!$A$2:$I$5142,9,0))","v":""},"",null,null,{"$f":"IF(A62=\"\",\"\",VLOOKUP(A62&\"\",'Fichero de Jugadores'!$A$2:$J$5142,10,0))","v":""},{"$f":"IF(B62=\"\",\"\",VLOOKUP(B62&\"\",'Fichero de Jugadores'!$A$2:$J$5142,10,0))","v":""},{"$f":"IF(C62=\"\",\"\",VLOOKUP(A62&\"\",'Fichero de Jugadores'!$A$2:$I$5142,7,0))","v":{"$error":"#N/A"}},{"$f":"IF(C62=\"\",\"\",VLOOKUP(B62&\"\",'Fichero de Jugadores'!$A$2:$I$5142,7,0))","v":{"$error":"#N/A"}}]
[null,null,"60",{"$f":"IF(A63=\"\",\"\",VLOOKUP(A63&\"\",'Fichero de Jugadores'!$A$2:$H$5142,2,0))","v":""},{"$f":"IF(B63=\"\",\"\",VLOOKUP(B63&\"\",'Fichero de Jugadores'!$A$2:$H$5142,2,0))","v":""},null,{"$f":"IF(A63=\"\",\"\",VLOOKUP(A63&\"\",'Fichero de Jugadores'!$A$2:$H$5142,8,0))","v":""},{"$f":"IF(B63=\"\",\"\",VLOOKUP(B63&\"\",'Fichero de Jugadores'!$A$2:$H$5142,8,0))","v":""},{"$error":"#N/A"},{"$f":"IF(A63=\"\",\"\",VLOOKUP(A63&\"\",'Fichero de Jugadores'!$A$2:$I$5142,9,0))","v":""},{"$f":"IF(B63=\"\",\"\",VLOOKUP(B63&\"\",'Fichero de Jugadores'!$A$2:$I$5142,9,0))","v":""},"",null,null,{"$f":"IF(A63=\"\",\"\",VLOOKUP(A63&\"\",'Fichero de Jugadores'!$A$2:$J$5142,10,0))","v":""},{"$f":"IF(B63=\"\",\"\",VLOOKUP(B63&\"\",'Fichero de Jugadores'!$A$2:$J$5142,10,0))","v":""},{"$f":"IF(C63=\"\",\"\",VLOOKUP(A63&\"\",'Fichero de Jugadores'!$A$2:$I$5142,7,0))","v":{"$error":"#N/A"}},{"$f":"IF(C63=\"\",\"\",VLOOKUP(B63&\"\",'Fichero de Jugadores'!$A$2:$I$5142,7,0))","v":{"$error":"#N/A"}}]
[null,null,"61",{"$f":"IF(A64=\"\",\"\",VLOOKUP(A64&\"\",'Fichero de Jugadores'!$A$2:$H$5142,2,0))","v":""},{"$f":"IF(B64=\"\",\"\",VLOOKUP(B64&\"\",'Fichero de Jugadores'!$A$2:$H$5142,2,0))","v":""},null,{"$f":"IF(A64=\"\",\"\",VLOOKUP(A64&\"\",'Fichero de Jugadores'!$A$2:$H$5142,8,0))","v":""},{"$f":"IF(B64=\"\",\"\",VLOOKUP(B64&\"\",'Fichero de Jugadores'!$A$2:$H$5142,8,0))","v":""},{"$error":"#N/A"},{"$f":"IF(A64=\"\",\"\",VLOOKUP(A64&\"\",'Fichero de Jugadores'!$A$2:$I$5142,9,0))","v":""},{"$f":"IF(B64=\"\",\"\",VLOOKUP(B64&\"\",'Fichero de Jugadores'!$A$2:$I$5142,9,0))","v":""},"",null,null,{"$f":"IF(A64=\"\",\"\",VLOOKUP(A64&\"\",'Fichero de Jugadores'!$A$2:$J$5142,10,0))","v":""},{"$f":"IF(B64=\"\",\"\",VLOOKUP(B64&\"\",'Fichero de Jugadores'!$A$2:$J$5142,10,0))","v":""},{"$f":"IF(C64=\"\",\"\",VLOOKUP(A64&\"\",'Fichero de Jugadores'!$A$2:$I$5142,7,0))","v":{"$error":"#N/A"}},{"$f":"IF(C64=\"\",\"\",VLOOKUP(B64&\"\",'Fichero de Jugadores'!$A$2:$I$5142,7,0))","v":{"$error":"#N/A"}}]
[null,null,"62",{"$f":"IF(A65=\"\",\"\",VLOOKUP(A65&\"\",'Fichero de Jugadores'!$A$2:$H$5142,2,0))","v":""},{"$f":"IF(B65=\"\",\"\",VLOOKUP(B65&\"\",'Fichero de Jugadores'!$A$2:$H$5142,2,0))","v":""},null,{"$f":"IF(A65=\"\",\"\",VLOOKUP(A65&\"\",'Fichero de Jugadores'!$A$2:$H$5142,8,0))","v":""},{"$f":"IF(B65=\"\",\"\",VLOOKUP(B65&\"\",'Fichero de Jugadores'!$A$2:$H$5142,8,0))","v":""},{"$error":"#N/A"},{"$f":"IF(A65=\"\",\"\",VLOOKUP(A65&\"\",'Fichero de Jugadores'!$A$2:$I$5142,9,0))","v":""},{"$f":"IF(B65=\"\",\"\",VLOOKUP(B65&\"\",'Fichero de Jugadores'!$A$2:$I$5142,9,0))","v":""},"",null,null,{"$f":"IF(A65=\"\",\"\",VLOOKUP(A65&\"\",'Fichero de Jugadores'!$A$2:$J$5142,10,0))","v":""},{"$f":"IF(B65=\"\",\"\",VLOOKUP(B65&\"\",'Fichero de Jugadores'!$A$2:$J$5142,10,0))","v":""},{"$f":"IF(C65=\"\",\"\",VLOOKUP(A65&\"\",'Fichero de Jugadores'!$A$2:$I$5142,7,0))","v":{"$error":"#N/A"}},{"$f":"IF(C65=\"\",\"\",VLOOKUP(B65&\"\",'Fichero de Jugadores'!$A$2:$I$5142,7,0))","v":{"$error":"#N/A"}}]
[null,null,"63",{"$f":"IF(A66=\"\",\"\",VLOOKUP(A66&\"\",'Fichero de Jugadores'!$A$2:$H$5142,2,0))","v":""},{"$f":"IF(B66=\"\",\"\",VLOOKUP(B66&\"\",'Fichero de Jugadores'!$A$2:$H$5142,2,0))","v":""},null,{"$f":"IF(A66=\"\",\"\",VLOOKUP(A66&\"\",'Fichero de Jugadores'!$A$2:$H$5142,8,0))","v":""},{"$f":"IF(B66=\"\",\"\",VLOOKUP(B66&\"\",'Fichero de Jugadores'!$A$2:$H$5142,8,0))","v":""},{"$error":"#N/A"},{"$f":"IF(A66=\"\",\"\",VLOOKUP(A66&\"\",'Fichero de Jugadores'!$A$2:$I$5142,9,0))","v":""},{"$f":"IF(B66=\"\",\"\",VLOOKUP(B66&\"\",'Fichero de Jugadores'!$A$2:$I$5142,9,0))","v":""},"",null,null,{"$f":"IF(A66=\"\",\"\",VLOOKUP(A66&\"\",'Fichero de Jugadores'!$A$2:$J$5142,10,0))","v":""},{"$f":"IF(B66=\"\",\"\",VLOOKUP(B66&\"\",'Fichero de Jugadores'!$A$2:$J$5142,10,0))","v":""},{"$f":"IF(C66=\"\",\"\",VLOOKUP(A66&\"\",'Fichero de Jugadores'!$A$2:$I$5142,7,0))","v":{"$error":"#N/A"}},{"$f":"IF(C66=\"\",\"\",VLOOKUP(B66&\"\",'Fichero de Jugadores'!$A$2:$I$5142,7,0))","v":{"$error":"#N/A"}}]
[null,null,"64",{"$f":"IF(A67=\"\",\"\",VLOOKUP(A67&\"\",'Fichero de Jugadores'!$A$2:$H$5142,2,0))","v":""},{"$f":"IF(B67=\"\",\"\",VLOOKUP(B67&\"\",'Fichero de Jugadores'!$A$2:$H$5142,2,0))","v":""},null,{"$f":"IF(A67=\"\",\"\",VLOOKUP(A67&\"\",'Fichero de Jugadores'!$A$2:$H$5142,8,0))","v":""},{"$f":"IF(B67=\"\",\"\",VLOOKUP(B67&\"\",'Fichero de Jugadores'!$A$2:$H$5142,8,0))","v":""},{"$error":"#N/A"},{"$f":"IF(A67=\"\",\"\",VLOOKUP(A67&\"\",'Fichero de Jugadores'!$A$2:$I$5142,9,0))","v":""},{"$f":"IF(B67=\"\",\"\",VLOOKUP(B67&\"\",'Fichero de Jugadores'!$A$2:$I$5142,9,0))","v":""},"",null,null,{"$f":"IF(A67=\"\",\"\",VLOOKUP(A67&\"\",'Fichero de Jugadores'!$A$2:$J$5142,10,0))","v":""},{"$f":"IF(B67=\"\",\"\",VLOOKUP(B67&\"\",'Fichero de Jugadores'!$A$2:$J$5142,10,0))","v":""},{"$f":"IF(C67=\"\",\"\",VLOOKUP(A67&\"\",'Fichero de Jugadores'!$A$2:$I$5142,7,0))","v":{"$error":"#N/A"}},{"$f":"IF(C67=\"\",\"\",VLOOKUP(B67&\"\",'Fichero de Jugadores'!$A$2:$I$5142,7,0))","v":{"$error":"#N/A"}}]
[null,null,"65",{"$f":"IF(A68=\"\",\"\",VLOOKUP(A68&\"\",'Fichero de Jugadores'!$A$2:$H$5142,2,0))","v":""},{"$f":"IF(B68=\"\",\"\",VLOOKUP(B68&\"\",'Fichero de Jugadores'!$A$2:$H$5142,2,0))","v":""},null,{"$f":"IF(A68=\"\",\"\",VLOOKUP(A68&\"\",'Fichero de Jugadores'!$A$2:$H$5142,8,0))","v":""},{"$f":"IF(B68=\"\",\"\",VLOOKUP(B68&\"\",'Fichero de Jugadores'!$A$2:$H$5142,8,0))","v":""},{"$f":"INDEX(AN$4:AS$9,(Q68)+2,(R68)+2)","v":{"$error":"#N/A"}},{"$f":"IF(A68=\"\",\"\",VLOOKUP(A68&\"\",'Fichero de Jugadores'!$A$2:$I$5142,9,0))","v":""},{"$f":"IF(B68=\"\",\"\",VLOOKUP(B68&\"\",'Fichero de Jugadores'!$A$2:$I$5142,9,0))","v":""},{"$f":"IF(AND(O68=\"D\",P68=\"D\"),\"D\",IF(AND(O68=\"D\",P68=\"C\"),\"X\",IF(AND(O68=\"C\",P68=\"D\"),\"X\",IF(AND(O68=\"C\",P68=\"C\"),\"C\",IF(OR(O68=\"\",P68=\"\"),\"\")))))","v":""},null,null,{"$f":"IF(A68=\"\",\"\",VLOOKUP(A68&\"\",'Fichero de Jugadores'!$A$2:$J$5142,10,0))","v":""},{"$f":"IF(B68=\"\",\"\",VLOOKUP(B68&\"\",'Fichero de Jugadores'!$A$2:$J$5142,10,0))","v":""},{"$f":"IF(C68=\"\",\"\",VLOOKUP(A68&\"\",'Fichero de Jugadores'!$A$2:$I$5142,7,0))","v":{"$error":"#N/A"}},{"$f":"IF(C68=\"\",\"\",VLOOKUP(B68&\"\",'Fichero de Jugadores'!$A$2:$I$5142,7,0))","v":{"$error":"#N/A"}}]
[null,null,"66",{"$f":"IF(A69=\"\",\"\",VLOOKUP(A69&\"\",'Fichero de Jugadores'!$A$2:$H$5142,2,0))","v":""},{"$f":"IF(B69=\"\",\"\",VLOOKUP(B69&\"\",'Fichero de Jugadores'!$A$2:$H$5142,2,0))","v":""},null,{"$f":"IF(A69=\"\",\"\",VLOOKUP(A69&\"\",'Fichero de Jugadores'!$A$2:$H$5142,8,0))","v":""},{"$f":"IF(B69=\"\",\"\",VLOOKUP(B69&\"\",'Fichero de Jugadores'!$A$2:$H$5142,8,0))","v":""},{"$error":"#N/A"},{"$f":"IF(A69=\"\",\"\",VLOOKUP(A69&\"\",'Fichero de Jugadores'!$A$2:$I$5142,9,0))","v":""},{"$f":"IF(B69=\"\",\"\",VLOOKUP(B69&\"\",'Fichero de Jugadores'!$A$2:$I$5142,9,0))","v":""},"",null,null,{"$f":"IF(A69=\"\",\"\",VLOOKUP(A69&\"\",'Fichero de Jugadores'!$A$2:$J$5142,10,0))","v":""},{"$f":"IF(B69=\"\",\"\",VLOOKUP(B69&\"\",'Fichero de Jugadores'!$A$2:$J$5142,10,0))","v":""},{"$f":"IF(C69=\"\",\"\",VLOOKUP(A69&\"\",'Fichero de Jugadores'!$A$2:$I$5142,7,0))","v":{"$error":"#N/A"}},{"$f":"IF(C69=\"\",\"\",VLOOKUP(B69&\"\",'Fichero de Jugadores'!$A$2:$I$5142,7,0))","v":{"$error":"#N/A"}}]
[null,null,"67",{"$f":"IF(A70=\"\",\"\",VLOOKUP(A70&\"\",'Fichero de Jugadores'!$A$2:$H$5142,2,0))","v":""},{"$f":"IF(B70=\"\",\"\",VLOOKUP(B70&\"\",'Fichero de Jugadores'!$A$2:$H$5142,2,0))","v":""},null,{"$f":"IF(A70=\"\",\"\",VLOOKUP(A70&\"\",'Fichero de Jugadores'!$A$2:$H$5142,8,0))","v":""},{"$f":"IF(B70=\"\",\"\",VLOOKUP(B70&\"\",'Fichero de Jugadores'!$A$2:$H$5142,8,0))","v":""},{"$error":"#N/A"},{"$f":"IF(A70=\"\",\"\",VLOOKUP(A70&\"\",'Fichero de Jugadores'!$A$2:$I$5142,9,0))","v":""},{"$f":"IF(B70=\"\",\"\",VLOOKUP(B70&\"\",'Fichero de Jugadores'!$A$2:$I$5142,9,0))","v":""},"",null,null,{"$f":"IF(A70=\"\",\"\",VLOOKUP(A70&\"\",'Fichero de Jugadores'!$A$2:$J$5142,10,0))","v":""},{"$f":"IF(B70=\"\",\"\",VLOOKUP(B70&\"\",'Fichero de Jugadores'!$A$2:$J$5142,10,0))","v":""},{"$f":"IF(C70=\"\",\"\",VLOOKUP(A70&\"\",'Fichero de Jugadores'!$A$2:$I$5142,7,0))","v":{"$error":"#N/A"}},{"$f":"IF(C70=\"\",\"\",VLOOKUP(B70&\"\",'Fichero de Jugadores'!$A$2:$I$5142,7,0))","v":{"$error":"#N/A"}}]
[null,null,"68",{"$f":"IF(A71=\"\",\"\",VLOOKUP(A71&\"\",'Fichero de Jugadores'!$A$2:$H$5142,2,0))","v":""},{"$f":"IF(B71=\"\",\"\",VLOOKUP(B71&\"\",'Fichero de Jugadores'!$A$2:$H$5142,2,0))","v":""},null,{"$f":"IF(A71=\"\",\"\",VLOOKUP(A71&\"\",'Fichero de Jugadores'!$A$2:$H$5142,8,0))","v":""},{"$f":"IF(B71=\"\",\"\",VLOOKUP(B71&\"\",'Fichero de Jugadores'!$A$2:$H$5142,8,0))","v":""},{"$error":"#N/A"},{"$f":"IF(A71=\"\",\"\",VLOOKUP(A71&\"\",'Fichero de Jugadores'!$A$2:$I$5142,9,0))","v":""},{"$f":"IF(B71=\"\",\"\",VLOOKUP(B71&\"\",'Fichero de Jugadores'!$A$2:$I$5142,9,0))","v":""},"",null,null,{"$f":"IF(A71=\"\",\"\",VLOOKUP(A71&\"\",'Fichero de Jugadores'!$A$2:$J$5142,10,0))","v":""},{"$f":"IF(B71=\"\",\"\",VLOOKUP(B71&\"\",'Fichero de Jugadores'!$A$2:$J$5142,10,0))","v":""},{"$f":"IF(C71=\"\",\"\",VLOOKUP(A71&\"\",'Fichero de Jugadores'!$A$2:$I$5142,7,0))","v":{"$error":"#N/A"}},{"$f":"IF(C71=\"\",\"\",VLOOKUP(B71&\"\",'Fichero de Jugadores'!$A$2:$I$5142,7,0))","v":{"$error":"#N/A"}}]
[null,null,"69",{"$f":"IF(A72=\"\",\"\",VLOOKUP(A72&\"\",'Fichero de Jugadores'!$A$2:$H$5142,2,0))","v":""},{"$f":"IF(B72=\"\",\"\",VLOOKUP(B72&\"\",'Fichero de Jugadores'!$A$2:$H$5142,2,0))","v":""},null,{"$f":"IF(A72=\"\",\"\",VLOOKUP(A72&\"\",'Fichero de Jugadores'!$A$2:$H$5142,8,0))","v":""},{"$f":"IF(B72=\"\",\"\",VLOOKUP(B72&\"\",'Fichero de Jugadores'!$A$2:$H$5142,8,0))","v":""},{"$error":"#N/A"},{"$f":"IF(A72=\"\",\"\",VLOOKUP(A72&\"\",'Fichero de Jugadores'!$A$2:$I$5142,9,0))","v":""},{"$f":"IF(B72=\"\",\"\",VLOOKUP(B72&\"\",'Fichero de Jugadores'!$A$2:$I$5142,9,0))","v":""},"",null,null,{"$f":"IF(A72=\"\",\"\",VLOOKUP(A72&\"\",'Fichero de Jugadores'!$A$2:$J$5142,10,0))","v":""},{"$f":"IF(B72=\"\",\"\",VLOOKUP(B72&\"\",'Fichero de Jugadores'!$A$2:$J$5142,10,0))","v":""},{"$f":"IF(C72=\"\",\"\",VLOOKUP(A72&\"\",'Fichero de Jugadores'!$A$2:$I$5142,7,0))","v":{"$error":"#N/A"}},{"$f":"IF(C72=\"\",\"\",VLOOKUP(B72&\"\",'Fichero de Jugadores'!$A$2:$I$5142,7,0))","v":{"$error":"#N/A"}}]
[null,null,"70",{"$f":"IF(A73=\"\",\"\",VLOOKUP(A73&\"\",'Fichero de Jugadores'!$A$2:$H$5142,2,0))","v":""},{"$f":"IF(B73=\"\",\"\",VLOOKUP(B73&\"\",'Fichero de Jugadores'!$A$2:$H$5142,2,0))","v":""},null,{"$f":"IF(A73=\"\",\"\",VLOOKUP(A73&\"\",'Fichero de Jugadores'!$A$2:$H$5142,8,0))","v":""},{"$f":"IF(B73=\"\",\"\",VLOOKUP(B73&\"\",'Fichero de Jugadores'!$A$2:$H$5142,8,0))","v":""},{"$error":"#N/A"},{"$f":"IF(A73=\"\",\"\",VLOOKUP(A73&\"\",'Fichero de Jugadores'!$A$2:$I$5142,9,0))","v":""},{"$f":"IF(B73=\"\",\"\",VLOOKUP(B73&\"\",'Fichero de Jugadores'!$A$2:$I$5142,9,0))","v":""},"",null,null,{"$f":"IF(A73=\"\",\"\",VLOOKUP(A73&\"\",'Fichero de Jugadores'!$A$2:$J$5142,10,0))","v":""},{"$f":"IF(B73=\"\",\"\",VLOOKUP(B73&\"\",'Fichero de Jugadores'!$A$2:$J$5142,10,0))","v":""},{"$f":"IF(C73=\"\",\"\",VLOOKUP(A73&\"\",'Fichero de Jugadores'!$A$2:$I$5142,7,0))","v":{"$error":"#N/A"}},{"$f":"IF(C73=\"\",\"\",VLOOKUP(B73&\"\",'Fichero de Jugadores'!$A$2:$I$5142,7,0))","v":{"$error":"#N/A"}}]
[null,null,"71",{"$f":"IF(A74=\"\",\"\",VLOOKUP(A74&\"\",'Fichero de Jugadores'!$A$2:$H$5142,2,0))","v":""},{"$f":"IF(B74=\"\",\"\",VLOOKUP(B74&\"\",'Fichero de Jugadores'!$A$2:$H$5142,2,0))","v":""},null,{"$f":"IF(A74=\"\",\"\",VLOOKUP(A74&\"\",'Fichero de Jugadores'!$A$2:$H$5142,8,0))","v":""},{"$f":"IF(B74=\"\",\"\",VLOOKUP(B74&\"\",'Fichero de Jugadores'!$A$2:$H$5142,8,0))","v":""},{"$error":"#N/A"},{"$f":"IF(A74=\"\",\"\",VLOOKUP(A74&\"\",'Fichero de Jugadores'!$A$2:$I$5142,9,0))","v":""},{"$f":"IF(B74=\"\",\"\",VLOOKUP(B74&\"\",'Fichero de Jugadores'!$A$2:$I$5142,9,0))","v":""},"",null,null,{"$f":"IF(A74=\"\",\"\",VLOOKUP(A74&\"\",'Fichero de Jugadores'!$A$2:$J$5142,10,0))","v":""},{"$f":"IF(B74=\"\",\"\",VLOOKUP(B74&\"\",'Fichero de Jugadores'!$A$2:$J$5142,10,0))","v":""},{"$f":"IF(C74=\"\",\"\",VLOOKUP(A74&\"\",'Fichero de Jugadores'!$A$2:$I$5142,7,0))","v":{"$error":"#N/A"}},{"$f":"IF(C74=\"\",\"\",VLOOKUP(B74&\"\",'Fichero de Jugadores'!$A$2:$I$5142,7,0))","v":{"$error":"#N/A"}}]
[null,null,"72",{"$f":"IF(A75=\"\",\"\",VLOOKUP(A75&\"\",'Fichero de Jugadores'!$A$2:$H$5142,2,0))","v":""},{"$f":"IF(B75=\"\",\"\",VLOOKUP(B75&\"\",'Fichero de Jugadores'!$A$2:$H$5142,2,0))","v":""},null,{"$f":"IF(A75=\"\",\"\",VLOOKUP(A75&\"\",'Fichero de Jugadores'!$A$2:$H$5142,8,0))","v":""},{"$f":"IF(B75=\"\",\"\",VLOOKUP(B75&\"\",'Fichero de Jugadores'!$A$2:$H$5142,8,0))","v":""},{"$error":"#N/A"},{"$f":"IF(A75=\"\",\"\",VLOOKUP(A75&\"\",'Fichero de Jugadores'!$A$2:$I$5142,9,0))","v":""},{"$f":"IF(B75=\"\",\"\",VLOOKUP(B75&\"\",'Fichero de Jugadores'!$A$2:$I$5142,9,0))","v":""},"",null,null,{"$f":"IF(A75=\"\",\"\",VLOOKUP(A75&\"\",'Fichero de Jugadores'!$A$2:$J$5142,10,0))","v":""},{"$f":"IF(B75=\"\",\"\",VLOOKUP(B75&\"\",'Fichero de Jugadores'!$A$2:$J$5142,10,0))","v":""},{"$f":"IF(C75=\"\",\"\",VLOOKUP(A75&\"\",'Fichero de Jugadores'!$A$2:$I$5142,7,0))","v":{"$error":"#N/A"}},{"$f":"IF(C75=\"\",\"\",VLOOKUP(B75&\"\",'Fichero de Jugadores'!$A$2:$I$5142,7,0))","v":{"$error":"#N/A"}}]
[null,null,"73",{"$f":"IF(A76=\"\",\"\",VLOOKUP(A76&\"\",'Fichero de Jugadores'!$A$2:$H$5142,2,0))","v":""},{"$f":"IF(B76=\"\",\"\",VLOOKUP(B76&\"\",'Fichero de Jugadores'!$A$2:$H$5142,2,0))","v":""},null,{"$f":"IF(A76=\"\",\"\",VLOOKUP(A76&\"\",'Fichero de Jugadores'!$A$2:$H$5142,8,0))","v":""},{"$f":"IF(B76=\"\",\"\",VLOOKUP(B76&\"\",'Fichero de Jugadores'!$A$2:$H$5142,8,0))","v":""},{"$error":"#N/A"},{"$f":"IF(A76=\"\",\"\",VLOOKUP(A76&\"\",'Fichero de Jugadores'!$A$2:$I$5142,9,0))","v":""},{"$f":"IF(B76=\"\",\"\",VLOOKUP(B76&\"\",'Fichero de Jugadores'!$A$2:$I$5142,9,0))","v":""},"",null,null,{"$f":"IF(A76=\"\",\"\",VLOOKUP(A76&\"\",'Fichero de Jugadores'!$A$2:$J$5142,10,0))","v":""},{"$f":"IF(B76=\"\",\"\",VLOOKUP(B76&\"\",'Fichero de Jugadores'!$A$2:$J$5142,10,0))","v":""},{"$f":"IF(C76=\"\",\"\",VLOOKUP(A76&\"\",'Fichero de Jugadores'!$A$2:$I$5142,7,0))","v":{"$error":"#N/A"}},{"$f":"IF(C76=\"\",\"\",VLOOKUP(B76&\"\",'Fichero de Jugadores'!$A$2:$I$5142,7,0))","v":{"$error":"#N/A"}}]
[null,null,"74",{"$f":"IF(A77=\"\",\"\",VLOOKUP(A77&\"\",'Fichero de Jugadores'!$A$2:$H$5142,2,0))","v":""},{"$f":"IF(B77=\"\",\"\",VLOOKUP(B77&\"\",'Fichero de Jugadores'!$A$2:$H$5142,2,0))","v":""},null,{"$f":"IF(A77=\"\",\"\",VLOOKUP(A77&\"\",'Fichero de Jugadores'!$A$2:$H$5142,8,0))","v":""},{"$f":"IF(B77=\"\",\"\",VLOOKUP(B77&\"\",'Fichero de Jugadores'!$A$2:$H$5142,8,0))","v":""},{"$error":"#N/A"},{"$f":"IF(A77=\"\",\"\",VLOOKUP(A77&\"\",'Fichero de Jugadores'!$A$2:$I$5142,9,0))","v":""},{"$f":"IF(B77=\"\",\"\",VLOOKUP(B77&\"\",'Fichero de Jugadores'!$A$2:$I$5142,9,0))","v":""},"",null,null,{"$f":"IF(A77=\"\",\"\",VLOOKUP(A77&\"\",'Fichero de Jugadores'!$A$2:$J$5142,10,0))","v":""},{"$f":"IF(B77=\"\",\"\",VLOOKUP(B77&\"\",'Fichero de Jugadores'!$A$2:$J$5142,10,0))","v":""},{"$f":"IF(C77=\"\",\"\",VLOOKUP(A77&\"\",'Fichero de Jugadores'!$A$2:$I$5142,7,0))","v":{"$error":"#N/A"}},{"$f":"IF(C77=\"\",\"\",VLOOKUP(B77&\"\",'Fichero de Jugadores'!$A$2:$I$5142,7,0))","v":{"$error":"#N/A"}}]
[null,null,"75",{"$f":"IF(A78=\"\",\"\",VLOOKUP(A78&\"\",'Fichero de Jugadores'!$A$2:$H$5142,2,0))","v":""},{"$f":"IF(B78=\"\",\"\",VLOOKUP(B78&\"\",'Fichero de Jugadores'!$A$2:$H$5142,2,0))","v":""},null,{"$f":"IF(A78=\"\",\"\",VLOOKUP(A78&\"\",'Fichero de Jugadores'!$A$2:$H$5142,8,0))","v":""},{"$f":"IF(B78=\"\",\"\",VLOOKUP(B78&\"\",'Fichero de Jugadores'!$A$2:$H$5142,8,0))","v":""},{"$error":"#N/A"},{"$f":"IF(A78=\"\",\"\",VLOOKUP(A78&\"\",'Fichero de Jugadores'!$A$2:$I$5142,9,0))","v":""},{"$f":"IF(B78=\"\",\"\",VLOOKUP(B78&\"\",'Fichero de Jugadores'!$A$2:$I$5142,9,0))","v":""},"",null,null,{"$f":"IF(A78=\"\",\"\",VLOOKUP(A78&\"\",'Fichero de Jugadores'!$A$2:$J$5142,10,0))","v":""},{"$f":"IF(B78=\"\",\"\",VLOOKUP(B78&\"\",'Fichero de Jugadores'!$A$2:$J$5142,10,0))","v":""},{"$f":"IF(C78=\"\",\"\",VLOOKUP(A78&\"\",'Fichero de Jugadores'!$A$2:$I$5142,7,0))","v":{"$error":"#N/A"}},{"$f":"IF(C78=\"\",\"\",VLOOKUP(B78&\"\",'Fichero de Jugadores'!$A$2:$I$5142,7,0))","v":{"$error":"#N/A"}}]
[null,null,"76",{"$f":"IF(A79=\"\",\"\",VLOOKUP(A79&\"\",'Fichero de Jugadores'!$A$2:$H$5142,2,0))","v":""},{"$f":"IF(B79=\"\",\"\",VLOOKUP(B79&\"\",'Fichero de Jugadores'!$A$2:$H$5142,2,0))","v":""},null,{"$f":"IF(A79=\"\",\"\",VLOOKUP(A79&\"\",'Fichero de Jugadores'!$A$2:$H$5142,8,0))","v":""},{"$f":"IF(B79=\"\",\"\",VLOOKUP(B79&\"\",'Fichero de Jugadores'!$A$2:$H$5142,8,0))","v":""},{"$error":"#N/A"},{"$f":"IF(A79=\"\",\"\",VLOOKUP(A79&\"\",'Fichero de Jugadores'!$A$2:$I$5142,9,0))","v":""},{"$f":"IF(B79=\"\",\"\",VLOOKUP(B79&\"\",'Fichero de Jugadores'!$A$2:$I$5142,9,0))","v":""},"",null,null,{"$f":"IF(A79=\"\",\"\",VLOOKUP(A79&\"\",'Fichero de Jugadores'!$A$2:$J$5142,10,0))","v":""},{"$f":"IF(B79=\"\",\"\",VLOOKUP(B79&\"\",'Fichero de Jugadores'!$A$2:$J$5142,10,0))","v":""},{"$f":"IF(C79=\"\",\"\",VLOOKUP(A79&\"\",'Fichero de Jugadores'!$A$2:$I$5142,7,0))","v":{"$error":"#N/A"}},{"$f":"IF(C79=\"\",\"\",VLOOKUP(B79&\"\",'Fichero de Jugadores'!$A$2:$I$5142,7,0))","v":{"$error":"#N/A"}}]
[null,null,"77",{"$f":"IF(A80=\"\",\"\",VLOOKUP(A80&\"\",'Fichero de Jugadores'!$A$2:$H$5142,2,0))","v":""},{"$f":"IF(B80=\"\",\"\",VLOOKUP(B80&\"\",'Fichero de Jugadores'!$A$2:$H$5142,2,0))","v":""},null,{"$f":"IF(A80=\"\",\"\",VLOOKUP(A80&\"\",'Fichero de Jugadores'!$A$2:$H$5142,8,0))","v":""},{"$f":"IF(B80=\"\",\"\",VLOOKUP(B80&\"\",'Fichero de Jugadores'!$A$2:$H$5142,8,0))","v":""},{"$error":"#N/A"},{"$f":"IF(A80=\"\",\"\",VLOOKUP(A80&\"\",'Fichero de Jugadores'!$A$2:$I$5142,9,0))","v":""},{"$f":"IF(B80=\"\",\"\",VLOOKUP(B80&\"\",'Fichero de Jugadores'!$A$2:$I$5142,9,0))","v":""},"",null,null,{"$f":"IF(A80=\"\",\"\",VLOOKUP(A80&\"\",'Fichero de Jugadores'!$A$2:$J$5142,10,0))","v":""},{"$f":"IF(B80=\"\",\"\",VLOOKUP(B80&\"\",'Fichero de Jugadores'!$A$2:$J$5142,10,0))","v":""},{"$f":"IF(C80=\"\",\"\",VLOOKUP(A80&\"\",'Fichero de Jugadores'!$A$2:$I$5142,7,0))","v":{"$error":"#N/A"}},{"$f":"IF(C80=\"\",\"\",VLOOKUP(B80&\"\",'Fichero de Jugadores'!$A$2:$I$5142,7,0))","v":{"$error":"#N/A"}}]
[null,null,"78",{"$f":"IF(A81=\"\",\"\",VLOOKUP(A81&\"\",'Fichero de Jugadores'!$A$2:$H$5142,2,0))","v":""},{"$f":"IF(B81=\"\",\"\",VLOOKUP(B81&\"\",'Fichero de Jugadores'!$A$2:$H$5142,2,0))","v":""},null,{"$f":"IF(A81=\"\",\"\",VLOOKUP(A81&\"\",'Fichero de Jugadores'!$A$2:$H$5142,8,0))","v":""},{"$f":"IF(B81=\"\",\"\",VLOOKUP(B81&\"\",'Fichero de Jugadores'!$A$2:$H$5142,8,0))","v":""},{"$error":"#N/A"},{"$f":"IF(A81=\"\",\"\",VLOOKUP(A81&\"\",'Fichero de Jugadores'!$A$2:$I$5142,9,0))","v":""},{"$f":"IF(B81=\"\",\"\",VLOOKUP(B81&\"\",'Fichero de Jugadores'!$A$2:$I$5142,9,0))","v":""},"",null,null,{"$f":"IF(A81=\"\",\"\",VLOOKUP(A81&\"\",'Fichero de Jugadores'!$A$2:$J$5142,10,0))","v":""},{"$f":"IF(B81=\"\",\"\",VLOOKUP(B81&\"\",'Fichero de Jugadores'!$A$2:$J$5142,10,0))","v":""},{"$f":"IF(C81=\"\",\"\",VLOOKUP(A81&\"\",'Fichero de Jugadores'!$A$2:$I$5142,7,0))","v":{"$error":"#N/A"}},{"$f":"IF(C81=\"\",\"\",VLOOKUP(B81&\"\",'Fichero de Jugadores'!$A$2:$I$5142,7,0))","v":{"$error":"#N/A"}}]
[null,null,"79",{"$f":"IF(A82=\"\",\"\",VLOOKUP(A82&\"\",'Fichero de Jugadores'!$A$2:$H$5142,2,0))","v":""},{"$f":"IF(B82=\"\",\"\",VLOOKUP(B82&\"\",'Fichero de Jugadores'!$A$2:$H$5142,2,0))","v":""},null,{"$f":"IF(A82=\"\",\"\",VLOOKUP(A82&\"\",'Fichero de Jugadores'!$A$2:$H$5142,8,0))","v":""},{"$f":"IF(B82=\"\",\"\",VLOOKUP(B82&\"\",'Fichero de Jugadores'!$A$2:$H$5142,8,0))","v":""},{"$error":"#N/A"},{"$f":"IF(A82=\"\",\"\",VLOOKUP(A82&\"\",'Fichero de Jugadores'!$A$2:$I$5142,9,0))","v":""},{"$f":"IF(B82=\"\",\"\",VLOOKUP(B82&\"\",'Fichero de Jugadores'!$A$2:$I$5142,9,0))","v":""},"",null,null,{"$f":"IF(A82=\"\",\"\",VLOOKUP(A82&\"\",'Fichero de Jugadores'!$A$2:$J$5142,10,0))","v":""},{"$f":"IF(B82=\"\",\"\",VLOOKUP(B82&\"\",'Fichero de Jugadores'!$A$2:$J$5142,10,0))","v":""},{"$f":"IF(C82=\"\",\"\",VLOOKUP(A82&\"\",'Fichero de Jugadores'!$A$2:$I$5142,7,0))","v":{"$error":"#N/A"}},{"$f":"IF(C82=\"\",\"\",VLOOKUP(B82&\"\",'Fichero de Jugadores'!$A$2:$I$5142,7,0))","v":{"$error":"#N/A"}}]
[null,null,"80",{"$f":"IF(A83=\"\",\"\",VLOOKUP(A83&\"\",'Fichero de Jugadores'!$A$2:$H$5142,2,0))","v":""},{"$f":"IF(B83=\"\",\"\",VLOOKUP(B83&\"\",'Fichero de Jugadores'!$A$2:$H$5142,2,0))","v":""},null,{"$f":"IF(A83=\"\",\"\",VLOOKUP(A83&\"\",'Fichero de Jugadores'!$A$2:$H$5142,8,0))","v":""},{"$f":"IF(B83=\"\",\"\",VLOOKUP(B83&\"\",'Fichero de Jugadores'!$A$2:$H$5142,8,0))","v":""},{"$error":"#N/A"},{"$f":"IF(A83=\"\",\"\",VLOOKUP(A83&\"\",'Fichero de Jugadores'!$A$2:$I$5142,9,0))","v":""},{"$f":"IF(B83=\"\",\"\",VLOOKUP(B83&\"\",'Fichero de Jugadores'!$A$2:$I$5142,9,0))","v":""},"",null,null,{"$f":"IF(A83=\"\",\"\",VLOOKUP(A83&\"\",'Fichero de Jugadores'!$A$2:$J$5142,10,0))","v":""},{"$f":"IF(B83=\"\",\"\",VLOOKUP(B83&\"\",'Fichero de Jugadores'!$A$2:$J$5142,10,0))","v":""},{"$f":"IF(C83=\"\",\"\",VLOOKUP(A83&\"\",'Fichero de Jugadores'!$A$2:$I$5142,7,0))","v":{"$error":"#N/A"}},{"$f":"IF(C83=\"\",\"\",VLOOKUP(B83&\"\",'Fichero de Jugadores'!$A$2:$I$5142,7,0))","v":{"$error":"#N/A"}}]
[null,null,"81",{"$f":"IF(A84=\"\",\"\",VLOOKUP(A84&\"\",'Fichero de Jugadores'!$A$2:$H$5142,2,0))","v":""},{"$f":"IF(B84=\"\",\"\",VLOOKUP(B84&\"\",'Fichero de Jugadores'!$A$2:$H$5142,2,0))","v":""},null,{"$f":"IF(A84=\"\",\"\",VLOOKUP(A84&\"\",'Fichero de Jugadores'!$A$2:$H$5142,8,0))","v":""},{"$f":"IF(B84=\"\",\"\",VLOOKUP(B84&\"\",'Fichero de Jugadores'!$A$2:$H$5142,8,0))","v":""},{"$error":"#N/A"},{"$f":"IF(A84=\"\",\"\",VLOOKUP(A84&\"\",'Fichero de Jugadores'!$A$2:$I$5142,9,0))","v":""},{"$f":"IF(B84=\"\",\"\",VLOOKUP(B84&\"\",'Fichero de Jugadores'!$A$2:$I$5142,9,0))","v":""},"",null,null,{"$f":"IF(A84=\"\",\"\",VLOOKUP(A84&\"\",'Fichero de Jugadores'!$A$2:$J$5142,10,0))","v":""},{"$f":"IF(B84=\"\",\"\",VLOOKUP(B84&\"\",'Fichero de Jugadores'!$A$2:$J$5142,10,0))","v":""},{"$f":"IF(C84=\"\",\"\",VLOOKUP(A84&\"\",'Fichero de Jugadores'!$A$2:$I$5142,7,0))","v":{"$error":"#N/A"}},{"$f":"IF(C84=\"\",\"\",VLOOKUP(B84&\"\",'Fichero de Jugadores'!$A$2:$I$5142,7,0))","v":{"$error":"#N/A"}}]
[null,null,"82",{"$f":"IF(A85=\"\",\"\",VLOOKUP(A85&\"\",'Fichero de Jugadores'!$A$2:$H$5142,2,0))","v":""},{"$f":"IF(B85=\"\",\"\",VLOOKUP(B85&\"\",'Fichero de Jugadores'!$A$2:$H$5142,2,0))","v":""},null,{"$f":"IF(A85=\"\",\"\",VLOOKUP(A85&\"\",'Fichero de Jugadores'!$A$2:$H$5142,8,0))","v":""},{"$f":"IF(B85=\"\",\"\",VLOOKUP(B85&\"\",'Fichero de Jugadores'!$A$2:$H$5142,8,0))","v":""},{"$error":"#N/A"},{"$f":"IF(A85=\"\",\"\",VLOOKUP(A85&\"\",'Fichero de Jugadores'!$A$2:$I$5142,9,0))","v":""},{"$f":"IF(B85=\"\",\"\",VLOOKUP(B85&\"\",'Fichero de Jugadores'!$A$2:$I$5142,9,0))","v":""},"",null,null,{"$f":"IF(A85=\"\",\"\",VLOOKUP(A85&\"\",'Fichero de Jugadores'!$A$2:$J$5142,10,0))","v":""},{"$f":"IF(B85=\"\",\"\",VLOOKUP(B85&\"\",'Fichero de Jugadores'!$A$2:$J$5142,10,0))","v":""},{"$f":"IF(C85=\"\",\"\",VLOOKUP(A85&\"\",'Fichero de Jugadores'!$A$2:$I$5142,7,0))","v":{"$error":"#N/A"}},{"$f":"IF(C85=\"\",\"\",VLOOKUP(B85&\"\",'Fichero de Jugadores'!$A$2:$I$5142,7,0))","v":{"$error":"#N/A"}}]
[null,null,"83",{"$f":"IF(A86=\"\",\"\",VLOOKUP(A86&\"\",'Fichero de Jugadores'!$A$2:$H$5142,2,0))","v":""},{"$f":"IF(B86=\"\",\"\",VLOOKUP(B86&\"\",'Fichero de Jugadores'!$A$2:$H$5142,2,0))","v":""},null,{"$f":"IF(A86=\"\",\"\",VLOOKUP(A86&\"\",'Fichero de Jugadores'!$A$2:$H$5142,8,0))","v":""},{"$f":"IF(B86=\"\",\"\",VLOOKUP(B86&\"\",'Fichero de Jugadores'!$A$2:$H$5142,8,0))","v":""},{"$error":"#N/A"},{"$f":"IF(A86=\"\",\"\",VLOOKUP(A86&\"\",'Fichero de Jugadores'!$A$2:$I$5142,9,0))","v":""},{"$f":"IF(B86=\"\",\"\",VLOOKUP(B86&\"\",'Fichero de Jugadores'!$A$2:$I$5142,9,0))","v":""},"",null,null,{"$f":"IF(A86=\"\",\"\",VLOOKUP(A86&\"\",'Fichero de Jugadores'!$A$2:$J$5142,10,0))","v":""},{"$f":"IF(B86=\"\",\"\",VLOOKUP(B86&\"\",'Fichero de Jugadores'!$A$2:$J$5142,10,0))","v":""},{"$f":"IF(C86=\"\",\"\",VLOOKUP(A86&\"\",'Fichero de Jugadores'!$A$2:$I$5142,7,0))","v":{"$error":"#N/A"}},{"$f":"IF(C86=\"\",\"\",VLOOKUP(B86&\"\",'Fichero de Jugadores'!$A$2:$I$5142,7,0))","v":{"$error":"#N/A"}}]
[null,null,"84",{"$f":"IF(A87=\"\",\"\",VLOOKUP(A87&\"\",'Fichero de Jugadores'!$A$2:$H$5142,2,0))","v":""},{"$f":"IF(B87=\"\",\"\",VLOOKUP(B87&\"\",'Fichero de Jugadores'!$A$2:$H$5142,2,0))","v":""},null,{"$f":"IF(A87=\"\",\"\",VLOOKUP(A87&\"\",'Fichero de Jugadores'!$A$2:$H$5142,8,0))","v":""},{"$f":"IF(B87=\"\",\"\",VLOOKUP(B87&\"\",'Fichero de Jugadores'!$A$2:$H$5142,8,0))","v":""},{"$error":"#N/A"},{"$f":"IF(A87=\"\",\"\",VLOOKUP(A87&\"\",'Fichero de Jugadores'!$A$2:$I$5142,9,0))","v":""},{"$f":"IF(B87=\"\",\"\",VLOOKUP(B87&\"\",'Fichero de Jugadores'!$A$2:$I$5142,9,0))","v":""},"",null,null,{"$f":"IF(A87=\"\",\"\",VLOOKUP(A87&\"\",'Fichero de Jugadores'!$A$2:$J$5142,10,0))","v":""},{"$f":"IF(B87=\"\",\"\",VLOOKUP(B87&\"\",'Fichero de Jugadores'!$A$2:$J$5142,10,0))","v":""},{"$f":"IF(C87=\"\",\"\",VLOOKUP(A87&\"\",'Fichero de Jugadores'!$A$2:$I$5142,7,0))","v":{"$error":"#N/A"}},{"$f":"IF(C87=\"\",\"\",VLOOKUP(B87&\"\",'Fichero de Jugadores'!$A$2:$I$5142,7,0))","v":{"$error":"#N/A"}}]
[null,null,"85",{"$f":"IF(A88=\"\",\"\",VLOOKUP(A88&\"\",'Fichero de Jugadores'!$A$2:$H$5142,2,0))","v":""},{"$f":"IF(B88=\"\",\"\",VLOOKUP(B88&\"\",'Fichero de Jugadores'!$A$2:$H$5142,2,0))","v":""},null,{"$f":"IF(A88=\"\",\"\",VLOOKUP(A88&\"\",'Fichero de Jugadores'!$A$2:$H$5142,8,0))","v":""},{"$f":"IF(B88=\"\",\"\",VLOOKUP(B88&\"\",'Fichero de Jugadores'!$A$2:$H$5142,8,0))","v":""},{"$error":"#N/A"},{"$f":"IF(A88=\"\",\"\",VLOOKUP(A88&\"\",'Fichero de Jugadores'!$A$2:$I$5142,9,0))","v":""},{"$f":"IF(B88=\"\",\"\",VLOOKUP(B88&\"\",'Fichero de Jugadores'!$A$2:$I$5142,9,0))","v":""},"",null,null,{"$f":"IF(A88=\"\",\"\",VLOOKUP(A88&\"\",'Fichero de Jugadores'!$A$2:$J$5142,10,0))","v":""},{"$f":"IF(B88=\"\",\"\",VLOOKUP(B88&\"\",'Fichero de Jugadores'!$A$2:$J$5142,10,0))","v":""},{"$f":"IF(C88=\"\",\"\",VLOOKUP(A88&\"\",'Fichero de Jugadores'!$A$2:$I$5142,7,0))","v":{"$error":"#N/A"}},{"$f":"IF(C88=\"\",\"\",VLOOKUP(B88&\"\",'Fichero de Jugadores'!$A$2:$I$5142,7,0))","v":{"$error":"#N/A"}}]
[null,null,"86",{"$f":"IF(A89=\"\",\"\",VLOOKUP(A89&\"\",'Fichero de Jugadores'!$A$2:$H$5142,2,0))","v":""},{"$f":"IF(B89=\"\",\"\",VLOOKUP(B89&\"\",'Fichero de Jugadores'!$A$2:$H$5142,2,0))","v":""},null,{"$f":"IF(A89=\"\",\"\",VLOOKUP(A89&\"\",'Fichero de Jugadores'!$A$2:$H$5142,8,0))","v":""},{"$f":"IF(B89=\"\",\"\",VLOOKUP(B89&\"\",'Fichero de Jugadores'!$A$2:$H$5142,8,0))","v":""},{"$error":"#N/A"},{"$f":"IF(A89=\"\",\"\",VLOOKUP(A89&\"\",'Fichero de Jugadores'!$A$2:$I$5142,9,0))","v":""},{"$f":"IF(B89=\"\",\"\",VLOOKUP(B89&\"\",'Fichero de Jugadores'!$A$2:$I$5142,9,0))","v":""},"",null,null,{"$f":"IF(A89=\"\",\"\",VLOOKUP(A89&\"\",'Fichero de Jugadores'!$A$2:$J$5142,10,0))","v":""},{"$f":"IF(B89=\"\",\"\",VLOOKUP(B89&\"\",'Fichero de Jugadores'!$A$2:$J$5142,10,0))","v":""},{"$f":"IF(C89=\"\",\"\",VLOOKUP(A89&\"\",'Fichero de Jugadores'!$A$2:$I$5142,7,0))","v":{"$error":"#N/A"}},{"$f":"IF(C89=\"\",\"\",VLOOKUP(B89&\"\",'Fichero de Jugadores'!$A$2:$I$5142,7,0))","v":{"$error":"#N/A"}}]
[null,null,"87",{"$f":"IF(A90=\"\",\"\",VLOOKUP(A90&\"\",'Fichero de Jugadores'!$A$2:$H$5142,2,0))","v":""},{"$f":"IF(B90=\"\",\"\",VLOOKUP(B90&\"\",'Fichero de Jugadores'!$A$2:$H$5142,2,0))","v":""},null,{"$f":"IF(A90=\"\",\"\",VLOOKUP(A90&\"\",'Fichero de Jugadores'!$A$2:$H$5142,8,0))","v":""},{"$f":"IF(B90=\"\",\"\",VLOOKUP(B90&\"\",'Fichero de Jugadores'!$A$2:$H$5142,8,0))","v":""},{"$error":"#N/A"},{"$f":"IF(A90=\"\",\"\",VLOOKUP(A90&\"\",'Fichero de Jugadores'!$A$2:$I$5142,9,0))","v":""},{"$f":"IF(B90=\"\",\"\",VLOOKUP(B90&\"\",'Fichero de Jugadores'!$A$2:$I$5142,9,0))","v":""},"",null,null,{"$f":"IF(A90=\"\",\"\",VLOOKUP(A90&\"\",'Fichero de Jugadores'!$A$2:$J$5142,10,0))","v":""},{"$f":"IF(B90=\"\",\"\",VLOOKUP(B90&\"\",'Fichero de Jugadores'!$A$2:$J$5142,10,0))","v":""},{"$f":"IF(C90=\"\",\"\",VLOOKUP(A90&\"\",'Fichero de Jugadores'!$A$2:$I$5142,7,0))","v":{"$error":"#N/A"}},{"$f":"IF(C90=\"\",\"\",VLOOKUP(B90&\"\",'Fichero de Jugadores'!$A$2:$I$5142,7,0))","v":{"$error":"#N/A"}}]
[null,null,"88",{"$f":"IF(A91=\"\",\"\",VLOOKUP(A91&\"\",'Fichero de Jugadores'!$A$2:$H$5142,2,0))","v":""},{"$f":"IF(B91=\"\",\"\",VLOOKUP(B91&\"\",'Fichero de Jugadores'!$A$2:$H$5142,2,0))","v":""},null,{"$f":"IF(A91=\"\",\"\",VLOOKUP(A91&\"\",'Fichero de Jugadores'!$A$2:$H$5142,8,0))","v":""},{"$f":"IF(B91=\"\",\"\",VLOOKUP(B91&\"\",'Fichero de Jugadores'!$A$2:$H$5142,8,0))","v":""},{"$error":"#N/A"},{"$f":"IF(A91=\"\",\"\",VLOOKUP(A91&\"\",'Fichero de Jugadores'!$A$2:$I$5142,9,0))","v":""},{"$f":"IF(B91=\"\",\"\",VLOOKUP(B91&\"\",'Fichero de Jugadores'!$A$2:$I$5142,9,0))","v":""},"",null,null,{"$f":"IF(A91=\"\",\"\",VLOOKUP(A91&\"\",'Fichero de Jugadores'!$A$2:$J$5142,10,0))","v":""},{"$f":"IF(B91=\"\",\"\",VLOOKUP(B91&\"\",'Fichero de Jugadores'!$A$2:$J$5142,10,0))","v":""},{"$f":"IF(C91=\"\",\"\",VLOOKUP(A91&\"\",'Fichero de Jugadores'!$A$2:$I$5142,7,0))","v":{"$error":"#N/A"}},{"$f":"IF(C91=\"\",\"\",VLOOKUP(B91&\"\",'Fichero de Jugadores'!$A$2:$I$5142,7,0))","v":{"$error":"#N/A"}}]
[null,null,"89",{"$f":"IF(A92=\"\",\"\",VLOOKUP(A92&\"\",'Fichero de Jugadores'!$A$2:$H$5142,2,0))","v":""},{"$f":"IF(B92=\"\",\"\",VLOOKUP(B92&\"\",'Fichero de Jugadores'!$A$2:$H$5142,2,0))","v":""},null,{"$f":"IF(A92=\"\",\"\",VLOOKUP(A92&\"\",'Fichero de Jugadores'!$A$2:$H$5142,8,0))","v":""},{"$f":"IF(B92=\"\",\"\",VLOOKUP(B92&\"\",'Fichero de Jugadores'!$A$2:$H$5142,8,0))","v":""},{"$error":"#N/A"},{"$f":"IF(A92=\"\",\"\",VLOOKUP(A92&\"\",'Fichero de Jugadores'!$A$2:$I$5142,9,0))","v":""},{"$f":"IF(B92=\"\",\"\",VLOOKUP(B92&\"\",'Fichero de Jugadores'!$A$2:$I$5142,9,0))","v":""},"",null,null,{"$f":"IF(A92=\"\",\"\",VLOOKUP(A92&\"\",'Fichero de Jugadores'!$A$2:$J$5142,10,0))","v":""},{"$f":"IF(B92=\"\",\"\",VLOOKUP(B92&\"\",'Fichero de Jugadores'!$A$2:$J$5142,10,0))","v":""},{"$f":"IF(C92=\"\",\"\",VLOOKUP(A92&\"\",'Fichero de Jugadores'!$A$2:$I$5142,7,0))","v":{"$error":"#N/A"}},{"$f":"IF(C92=\"\",\"\",VLOOKUP(B92&\"\",'Fichero de Jugadores'!$A$2:$I$5142,7,0))","v":{"$error":"#N/A"}}]
[null,null,"90",{"$f":"IF(A93=\"\",\"\",VLOOKUP(A93&\"\",'Fichero de Jugadores'!$A$2:$H$5142,2,0))","v":""},{"$f":"IF(B93=\"\",\"\",VLOOKUP(B93&\"\",'Fichero de Jugadores'!$A$2:$H$5142,2,0))","v":""},null,{"$f":"IF(A93=\"\",\"\",VLOOKUP(A93&\"\",'Fichero de Jugadores'!$A$2:$H$5142,8,0))","v":""},{"$f":"IF(B93=\"\",\"\",VLOOKUP(B93&\"\",'Fichero de Jugadores'!$A$2:$H$5142,8,0))","v":""},{"$error":"#N/A"},{"$f":"IF(A93=\"\",\"\",VLOOKUP(A93&\"\",'Fichero de Jugadores'!$A$2:$I$5142,9,0))","v":""},{"$f":"IF(B93=\"\",\"\",VLOOKUP(B93&\"\",'Fichero de Jugadores'!$A$2:$I$5142,9,0))","v":""},"",null,null,{"$f":"IF(A93=\"\",\"\",VLOOKUP(A93&\"\",'Fichero de Jugadores'!$A$2:$J$5142,10,0))","v":""},{"$f":"IF(B93=\"\",\"\",VLOOKUP(B93&\"\",'Fichero de Jugadores'!$A$2:$J$5142,10,0))","v":""},{"$f":"IF(C93=\"\",\"\",VLOOKUP(A93&\"\",'Fichero de Jugadores'!$A$2:$I$5142,7,0))","v":{"$error":"#N/A"}},{"$f":"IF(C93=\"\",\"\",VLOOKUP(B93&\"\",'Fichero de Jugadores'!$A$2:$I$5142,7,0))","v":{"$error":"#N/A"}}]
[null,null,"91",{"$f":"IF(A94=\"\",\"\",VLOOKUP(A94&\"\",'Fichero de Jugadores'!$A$2:$H$5142,2,0))","v":""},{"$f":"IF(B94=\"\",\"\",VLOOKUP(B94&\"\",'Fichero de Jugadores'!$A$2:$H$5142,2,0))","v":""},null,{"$f":"IF(A94=\"\",\"\",VLOOKUP(A94&\"\",'Fichero de Jugadores'!$A$2:$H$5142,8,0))","v":""},{"$f":"IF(B94=\"\",\"\",VLOOKUP(B94&\"\",'Fichero de Jugadores'!$A$2:$H$5142,8,0))","v":""},{"$error":"#N/A"},{"$f":"IF(A94=\"\",\"\",VLOOKUP(A94&\"\",'Fichero de Jugadores'!$A$2:$I$5142,9,0))","v":""},{"$f":"IF(B94=\"\",\"\",VLOOKUP(B94&\"\",'Fichero de Jugadores'!$A$2:$I$5142,9,0))","v":""},"",null,null,{"$f":"IF(A94=\"\",\"\",VLOOKUP(A94&\"\",'Fichero de Jugadores'!$A$2:$J$5142,10,0))","v":""},{"$f":"IF(B94=\"\",\"\",VLOOKUP(B94&\"\",'Fichero de Jugadores'!$A$2:$J$5142,10,0))","v":""},{"$f":"IF(C94=\"\",\"\",VLOOKUP(A94&\"\",'Fichero de Jugadores'!$A$2:$I$5142,7,0))","v":{"$error":"#N/A"}},{"$f":"IF(C94=\"\",\"\",VLOOKUP(B94&\"\",'Fichero de Jugadores'!$A$2:$I$5142,7,0))","v":{"$error":"#N/A"}}]
[null,null,"92",{"$f":"IF(A95=\"\",\"\",VLOOKUP(A95&\"\",'Fichero de Jugadores'!$A$2:$H$5142,2,0))","v":""},{"$f":"IF(B95=\"\",\"\",VLOOKUP(B95&\"\",'Fichero de Jugadores'!$A$2:$H$5142,2,0))","v":""},null,{"$f":"IF(A95=\"\",\"\",VLOOKUP(A95&\"\",'Fichero de Jugadores'!$A$2:$H$5142,8,0))","v":""},{"$f":"IF(B95=\"\",\"\",VLOOKUP(B95&\"\",'Fichero de Jugadores'!$A$2:$H$5142,8,0))","v":""},{"$error":"#N/A"},{"$f":"IF(A95=\"\",\"\",VLOOKUP(A95&\"\",'Fichero de Jugadores'!$A$2:$I$5142,9,0))","v":""},{"$f":"IF(B95=\"\",\"\",VLOOKUP(B95&\"\",'Fichero de Jugadores'!$A$2:$I$5142,9,0))","v":""},"",null,null,{"$f":"IF(A95=\"\",\"\",VLOOKUP(A95&\"\",'Fichero de Jugadores'!$A$2:$J$5142,10,0))","v":""},{"$f":"IF(B95=\"\",\"\",VLOOKUP(B95&\"\",'Fichero de Jugadores'!$A$2:$J$5142,10,0))","v":""},{"$f":"IF(C95=\"\",\"\",VLOOKUP(A95&\"\",'Fichero de Jugadores'!$A$2:$I$5142,7,0))","v":{"$error":"#N/A"}},{"$f":"IF(C95=\"\",\"\",VLOOKUP(B95&\"\",'Fichero de Jugadores'!$A$2:$I$5142,7,0))","v":{"$error":"#N/A"}}]
[null,null,93,{"$f":"IF(A96=\"\",\"\",VLOOKUP(A96&\"\",'Fichero de Jugadores'!$A$2:$H$5142,2,0))","v":""},{"$f":"IF(B96=\"\",\"\",VLOOKUP(B96&\"\",'Fichero de Jugadores'!$A$2:$H$5142,2,0))","v":""},null,{"$f":"IF(A96=\"\",\"\",VLOOKUP(A96&\"\",'Fichero de Jugadores'!$A$2:$H$5142,8,0))","v":""},{"$f":"IF(B96=\"\",\"\",VLOOKUP(B96&\"\",'Fichero de Jugadores'!$A$2:$H$5142,8,0))","v":""},{"$error":"#N/A"},{"$f":"IF(A96=\"\",\"\",VLOOKUP(A96&\"\",'Fichero de Jugadores'!$A$2:$I$5142,9,0))","v":""},{"$f":"IF(B96=\"\",\"\",VLOOKUP(B96&\"\",'Fichero de Jugadores'!$A$2:$I$5142,9,0))","v":""},"",null,null,{"$f":"IF(A96=\"\",\"\",VLOOKUP(A96&\"\",'Fichero de Jugadores'!$A$2:$J$5142,10,0))","v":""},{"$f":"IF(B96=\"\",\"\",VLOOKUP(B96&\"\",'Fichero de Jugadores'!$A$2:$J$5142,10,0))","v":""},{"$f":"IF(C96=\"\",\"\",VLOOKUP(A96&\"\",'Fichero de Jugadores'!$A$2:$I$5142,7,0))","v":{"$error":"#N/A"}},{"$f":"IF(C96=\"\",\"\",VLOOKUP(B96&\"\",'Fichero de Jugadores'!$A$2:$I$5142,7,0))","v":{"$error":"#N/A"}}]
[null,null,94,{"$f":"IF(A97=\"\",\"\",VLOOKUP(A97&\"\",'Fichero de Jugadores'!$A$2:$H$5142,2,0))","v":""},{"$f":"IF(B97=\"\",\"\",VLOOKUP(B97&\"\",'Fichero de Jugadores'!$A$2:$H$5142,2,0))","v":""},null,{"$f":"IF(A97=\"\",\"\",VLOOKUP(A97&\"\",'Fichero de Jugadores'!$A$2:$H$5142,8,0))","v":""},{"$f":"IF(B97=\"\",\"\",VLOOKUP(B97&\"\",'Fichero de Jugadores'!$A$2:$H$5142,8,0))","v":""},{"$error":"#N/A"},{"$f":"IF(A97=\"\",\"\",VLOOKUP(A97&\"\",'Fichero de Jugadores'!$A$2:$I$5142,9,0))","v":""},{"$f":"IF(B97=\"\",\"\",VLOOKUP(B97&\"\",'Fichero de Jugadores'!$A$2:$I$5142,9,0))","v":""},"",null,null,{"$f":"IF(A97=\"\",\"\",VLOOKUP(A97&\"\",'Fichero de Jugadores'!$A$2:$J$5142,10,0))","v":""},{"$f":"IF(B97=\"\",\"\",VLOOKUP(B97&\"\",'Fichero de Jugadores'!$A$2:$J$5142,10,0))","v":""},{"$f":"IF(C97=\"\",\"\",VLOOKUP(A97&\"\",'Fichero de Jugadores'!$A$2:$I$5142,7,0))","v":{"$error":"#N/A"}},{"$f":"IF(C97=\"\",\"\",VLOOKUP(B97&\"\",'Fichero de Jugadores'!$A$2:$I$5142,7,0))","v":{"$error":"#N/A"}}]
[null,null,95,{"$f":"IF(A98=\"\",\"\",VLOOKUP(A98&\"\",'Fichero de Jugadores'!$A$2:$H$5142,2,0))","v":""},{"$f":"IF(B98=\"\",\"\",VLOOKUP(B98&\"\",'Fichero de Jugadores'!$A$2:$H$5142,2,0))","v":""},null,{"$f":"IF(A98=\"\",\"\",VLOOKUP(A98&\"\",'Fichero de Jugadores'!$A$2:$H$5142,8,0))","v":""},{"$f":"IF(B98=\"\",\"\",VLOOKUP(B98&\"\",'Fichero de Jugadores'!$A$2:$H$5142,8,0))","v":""},{"$error":"#N/A"},{"$f":"IF(A98=\"\",\"\",VLOOKUP(A98&\"\",'Fichero de Jugadores'!$A$2:$I$5142,9,0))","v":""},{"$f":"IF(B98=\"\",\"\",VLOOKUP(B98&\"\",'Fichero de Jugadores'!$A$2:$I$5142,9,0))","v":""},"",null,null,{"$f":"IF(A98=\"\",\"\",VLOOKUP(A98&\"\",'Fichero de Jugadores'!$A$2:$J$5142,10,0))","v":""},{"$f":"IF(B98=\"\",\"\",VLOOKUP(B98&\"\",'Fichero de Jugadores'!$A$2:$J$5142,10,0))","v":""},{"$f":"IF(C98=\"\",\"\",VLOOKUP(A98&\"\",'Fichero de Jugadores'!$A$2:$I$5142,7,0))","v":{"$error":"#N/A"}},{"$f":"IF(C98=\"\",\"\",VLOOKUP(B98&\"\",'Fichero de Jugadores'!$A$2:$I$5142,7,0))","v":{"$error":"#N/A"}}]
[null,null,96,{"$f":"IF(A99=\"\",\"\",VLOOKUP(A99&\"\",'Fichero de Jugadores'!$A$2:$H$5142,2,0))","v":""},{"$f":"IF(B99=\"\",\"\",VLOOKUP(B99&\"\",'Fichero de Jugadores'!$A$2:$H$5142,2,0))","v":""},null,{"$f":"IF(A99=\"\",\"\",VLOOKUP(A99&\"\",'Fichero de Jugadores'!$A$2:$H$5142,8,0))","v":""},{"$f":"IF(B99=\"\",\"\",VLOOKUP(B99&\"\",'Fichero de Jugadores'!$A$2:$H$5142,8,0))","v":""},{"$error":"#N/A"},{"$f":"IF(A99=\"\",\"\",VLOOKUP(A99&\"\",'Fichero de Jugadores'!$A$2:$I$5142,9,0))","v":""},{"$f":"IF(B99=\"\",\"\",VLOOKUP(B99&\"\",'Fichero de Jugadores'!$A$2:$I$5142,9,0))","v":""},"",null,null,{"$f":"IF(A99=\"\",\"\",VLOOKUP(A99&\"\",'Fichero de Jugadores'!$A$2:$J$5142,10,0))","v":""},{"$f":"IF(B99=\"\",\"\",VLOOKUP(B99&\"\",'Fichero de Jugadores'!$A$2:$J$5142,10,0))","v":""},{"$f":"IF(C99=\"\",\"\",VLOOKUP(A99&\"\",'Fichero de Jugadores'!$A$2:$I$5142,7,0))","v":{"$error":"#N/A"}},{"$f":"IF(C99=\"\",\"\",VLOOKUP(B99&\"\",'Fichero de Jugadores'!$A$2:$I$5142,7,0))","v":{"$error":"#N/A"}}]
[null,null,97,{"$f":"IF(A100=\"\",\"\",VLOOKUP(A100&\"\",'Fichero de Jugadores'!$A$2:$H$5142,2,0))","v":""},{"$f":"IF(B100=\"\",\"\",VLOOKUP(B100&\"\",'Fichero de Jugadores'!$A$2:$H$5142,2,0))","v":""},null,{"$f":"IF(A100=\"\",\"\",VLOOKUP(A100&\"\",'Fichero de Jugadores'!$A$2:$H$5142,8,0))","v":""},{"$f":"IF(B100=\"\",\"\",VLOOKUP(B100&\"\",'Fichero de Jugadores'!$A$2:$H$5142,8,0))","v":""},{"$error":"#N/A"},{"$f":"IF(A100=\"\",\"\",VLOOKUP(A100&\"\",'Fichero de Jugadores'!$A$2:$I$5142,9,0))","v":""},{"$f":"IF(B100=\"\",\"\",VLOOKUP(B100&\"\",'Fichero de Jugadores'!$A$2:$I$5142,9,0))","v":""},"",null,null,{"$f":"IF(A100=\"\",\"\",VLOOKUP(A100&\"\",'Fichero de Jugadores'!$A$2:$J$5142,10,0))","v":""},{"$f":"IF(B100=\"\",\"\",VLOOKUP(B100&\"\",'Fichero de Jugadores'!$A$2:$J$5142,10,0))","v":""},{"$f":"IF(C100=\"\",\"\",VLOOKUP(A100&\"\",'Fichero de Jugadores'!$A$2:$I$5142,7,0))","v":{"$error":"#N/A"}},{"$f":"IF(C100=\"\",\"\",VLOOKUP(B100&\"\",'Fichero de Jugadores'!$A$2:$I$5142,7,0))","v":{"$error":"#N/A"}}]
[null,null,98,{"$f":"IF(A101=\"\",\"\",VLOOKUP(A101&\"\",'Fichero de Jugadores'!$A$2:$H$5142,2,0))","v":""},{"$f":"IF(B101=\"\",\"\",VLOOKUP(B101&\"\",'Fichero de Jugadores'!$A$2:$H$5142,2,0))","v":""},null,{"$f":"IF(A101=\"\",\"\",VLOOKUP(A101&\"\",'Fichero de Jugadores'!$A$2:$H$5142,8,0))","v":""},{"$f":"IF(B101=\"\",\"\",VLOOKUP(B101&\"\",'Fichero de Jugadores'!$A$2:$H$5142,8,0))","v":""},{"$error":"#N/A"},{"$f":"IF(A101=\"\",\"\",VLOOKUP(A101&\"\",'Fichero de Jugadores'!$A$2:$I$5142,9,0))","v":""},{"$f":"IF(B101=\"\",\"\",VLOOKUP(B101&\"\",'Fichero de Jugadores'!$A$2:$I$5142,9,0))","v":""},"",null,null,{"$f":"IF(A101=\"\",\"\",VLOOKUP(A101&\"\",'Fichero de Jugadores'!$A$2:$J$5142,10,0))","v":""},{"$f":"IF(B101=\"\",\"\",VLOOKUP(B101&\"\",'Fichero de Jugadores'!$A$2:$J$5142,10,0))","v":""},{"$f":"IF(C101=\"\",\"\",VLOOKUP(A101&\"\",'Fichero de Jugadores'!$A$2:$I$5142,7,0))","v":{"$error":"#N/A"}},{"$f":"IF(C101=\"\",\"\",VLOOKUP(B101&\"\",'Fichero de Jugadores'!$A$2:$I$5142,7,0))","v":{"$error":"#N/A"}}]
[null,null,99,{"$f":"IF(A102=\"\",\"\",VLOOKUP(A102&\"\",'Fichero de Jugadores'!$A$2:$H$5142,2,0))","v":""},{"$f":"IF(B102=\"\",\"\",VLOOKUP(B102&\"\",'Fichero de Jugadores'!$A$2:$H$5142,2,0))","v":""},null,{"$f":"IF(A102=\"\",\"\",VLOOKUP(A102&\"\",'Fichero de Jugadores'!$A$2:$H$5142,8,0))","v":""},{"$f":"IF(B102=\"\",\"\",VLOOKUP(B102&\"\",'Fichero de Jugadores'!$A$2:$H$5142,8,0))","v":""},{"$error":"#N/A"},{"$f":"IF(A102=\"\",\"\",VLOOKUP(A102&\"\",'Fichero de Jugadores'!$A$2:$I$5142,9,0))","v":""},{"$f":"IF(B102=\"\",\"\",VLOOKUP(B102&\"\",'Fichero de Jugadores'!$A$2:$I$5142,9,0))","v":""},"",null,null,{"$f":"IF(A102=\"\",\"\",VLOOKUP(A102&\"\",'Fichero de Jugadores'!$A$2:$J$5142,10,0))","v":""},{"$f":"IF(B102=\"\",\"\",VLOOKUP(B102&\"\",'Fichero de Jugadores'!$A$2:$J$5142,10,0))","v":""},{"$f":"IF(C102=\"\",\"\",VLOOKUP(A102&\"\",'Fichero de Jugadores'!$A$2:$I$5142,7,0))","v":{"$error":"#N/A"}},{"$f":"IF(C102=\"\",\"\",VLOOKUP(B102&\"\",'Fichero de Jugadores'!$A$2:$I$5142,7,0))","v":{"$error":"#N/A"}}]
[null,null,100,{"$f":"IF(A103=\"\",\"\",VLOOKUP(A103&\"\",'Fichero de Jugadores'!$A$2:$H$5142,2,0))","v":""},{"$f":"IF(B103=\"\",\"\",VLOOKUP(B103&\"\",'Fichero de Jugadores'!$A$2:$H$5142,2,0))","v":""},null,{"$f":"IF(A103=\"\",\"\",VLOOKUP(A103&\"\",'Fichero de Jugadores'!$A$2:$H$5142,8,0))","v":""},{"$f":"IF(B103=\"\",\"\",VLOOKUP(B103&\"\",'Fichero de Jugadores'!$A$2:$H$5142,8,0))","v":""},{"$error":"#N/A"},{"$f":"IF(A103=\"\",\"\",VLOOKUP(A103&\"\",'Fichero de Jugadores'!$A$2:$I$5142,9,0))","v":""},{"$f":"IF(B103=\"\",\"\",VLOOKUP(B103&\"\",'Fichero de Jugadores'!$A$2:$I$5142,9,0))","v":""},"",null,null,{"$f":"IF(A103=\"\",\"\",VLOOKUP(A103&\"\",'Fichero de Jugadores'!$A$2:$J$5142,10,0))","v":""},{"$f":"IF(B103=\"\",\"\",VLOOKUP(B103&\"\",'Fichero de Jugadores'!$A$2:$J$5142,10,0))","v":""},{"$f":"IF(C103=\"\",\"\",VLOOKUP(A103&\"\",'Fichero de Jugadores'!$A$2:$I$5142,7,0))","v":{"$error":"#N/A"}},{"$f":"IF(C103=\"\",\"\",VLOOKUP(B103&\"\",'Fichero de Jugadores'!$A$2:$I$5142,7,0))","v":{"$error":"#N/A"}}]
[null,null,101,{"$f":"IF(A104=\"\",\"\",VLOOKUP(A104&\"\",'Fichero de Jugadores'!$A$2:$H$5142,2,0))","v":""},{"$f":"IF(B104=\"\",\"\",VLOOKUP(B104&\"\",'Fichero de Jugadores'!$A$2:$H$5142,2,0))","v":""},null,{"$f":"IF(A104=\"\",\"\",VLOOKUP(A104&\"\",'Fichero de Jugadores'!$A$2:$H$5142,8,0))","v":""},{"$f":"IF(B104=\"\",\"\",VLOOKUP(B104&\"\",'Fichero de Jugadores'!$A$2:$H$5142,8,0))","v":""},{"$error":"#N/A"},{"$f":"IF(A104=\"\",\"\",VLOOKUP(A104&\"\",'Fichero de Jugadores'!$A$2:$I$5142,9,0))","v":""},{"$f":"IF(B104=\"\",\"\",VLOOKUP(B104&\"\",'Fichero de Jugadores'!$A$2:$I$5142,9,0))","v":""},"",null,null,{"$f":"IF(A104=\"\",\"\",VLOOKUP(A104&\"\",'Fichero de Jugadores'!$A$2:$J$5142,10,0))","v":""},{"$f":"IF(B104=\"\",\"\",VLOOKUP(B104&\"\",'Fichero de Jugadores'!$A$2:$J$5142,10,0))","v":""},{"$f":"IF(C104=\"\",\"\",VLOOKUP(A104&\"\",'Fichero de Jugadores'!$A$2:$I$5142,7,0))","v":{"$error":"#N/A"}},{"$f":"IF(C104=\"\",\"\",VLOOKUP(B104&\"\",'Fichero de Jugadores'!$A$2:$I$5142,7,0))","v":{"$error":"#N/A"}}]
[null,null,102,{"$f":"IF(A105=\"\",\"\",VLOOKUP(A105&\"\",'Fichero de Jugadores'!$A$2:$H$5142,2,0))","v":""},{"$f":"IF(B105=\"\",\"\",VLOOKUP(B105&\"\",'Fichero de Jugadores'!$A$2:$H$5142,2,0))","v":""},null,{"$f":"IF(A105=\"\",\"\",VLOOKUP(A105&\"\",'Fichero de Jugadores'!$A$2:$H$5142,8,0))","v":""},{"$f":"IF(B105=\"\",\"\",VLOOKUP(B105&\"\",'Fichero de Jugadores'!$A$2:$H$5142,8,0))","v":""},{"$error":"#N/A"},{"$f":"IF(A105=\"\",\"\",VLOOKUP(A105&\"\",'Fichero de Jugadores'!$A$2:$I$5142,9,0))","v":""},{"$f":"IF(B105=\"\",\"\",VLOOKUP(B105&\"\",'Fichero de Jugadores'!$A$2:$I$5142,9,0))","v":""},"",null,null,{"$f":"IF(A105=\"\",\"\",VLOOKUP(A105&\"\",'Fichero de Jugadores'!$A$2:$J$5142,10,0))","v":""},{"$f":"IF(B105=\"\",\"\",VLOOKUP(B105&\"\",'Fichero de Jugadores'!$A$2:$J$5142,10,0))","v":""},{"$f":"IF(C105=\"\",\"\",VLOOKUP(A105&\"\",'Fichero de Jugadores'!$A$2:$I$5142,7,0))","v":{"$error":"#N/A"}},{"$f":"IF(C105=\"\",\"\",VLOOKUP(B105&\"\",'Fichero de Jugadores'!$A$2:$I$5142,7,0))","v":{"$error":"#N/A"}}]
[null,null,103,{"$f":"IF(A106=\"\",\"\",VLOOKUP(A106&\"\",'Fichero de Jugadores'!$A$2:$H$5142,2,0))","v":""},{"$f":"IF(B106=\"\",\"\",VLOOKUP(B106&\"\",'Fichero de Jugadores'!$A$2:$H$5142,2,0))","v":""},null,{"$f":"IF(A106=\"\",\"\",VLOOKUP(A106&\"\",'Fichero de Jugadores'!$A$2:$H$5142,8,0))","v":""},{"$f":"IF(B106=\"\",\"\",VLOOKUP(B106&\"\",'Fichero de Jugadores'!$A$2:$H$5142,8,0))","v":""},{"$error":"#N/A"},{"$f":"IF(A106=\"\",\"\",VLOOKUP(A106&\"\",'Fichero de Jugadores'!$A$2:$I$5142,9,0))","v":""},{"$f":"IF(B106=\"\",\"\",VLOOKUP(B106&\"\",'Fichero de Jugadores'!$A$2:$I$5142,9,0))","v":""},"",null,null,{"$f":"IF(A106=\"\",\"\",VLOOKUP(A106&\"\",'Fichero de Jugadores'!$A$2:$J$5142,10,0))","v":""},{"$f":"IF(B106=\"\",\"\",VLOOKUP(B106&\"\",'Fichero de Jugadores'!$A$2:$J$5142,10,0))","v":""},{"$f":"IF(C106=\"\",\"\",VLOOKUP(A106&\"\",'Fichero de Jugadores'!$A$2:$I$5142,7,0))","v":{"$error":"#N/A"}},{"$f":"IF(C106=\"\",\"\",VLOOKUP(B106&\"\",'Fichero de Jugadores'!$A$2:$I$5142,7,0))","v":{"$error":"#N/A"}}]
[null,null,104,{"$f":"IF(A107=\"\",\"\",VLOOKUP(A107&\"\",'Fichero de Jugadores'!$A$2:$H$5142,2,0))","v":""},{"$f":"IF(B107=\"\",\"\",VLOOKUP(B107&\"\",'Fichero de Jugadores'!$A$2:$H$5142,2,0))","v":""},null,{"$f":"IF(A107=\"\",\"\",VLOOKUP(A107&\"\",'Fichero de Jugadores'!$A$2:$H$5142,8,0))","v":""},{"$f":"IF(B107=\"\",\"\",VLOOKUP(B107&\"\",'Fichero de Jugadores'!$A$2:$H$5142,8,0))","v":""},{"$error":"#N/A"},{"$f":"IF(A107=\"\",\"\",VLOOKUP(A107&\"\",'Fichero de Jugadores'!$A$2:$I$5142,9,0))","v":""},{"$f":"IF(B107=\"\",\"\",VLOOKUP(B107&\"\",'Fichero de Jugadores'!$A$2:$I$5142,9,0))","v":""},"",null,null,{"$f":"IF(A107=\"\",\"\",VLOOKUP(A107&\"\",'Fichero de Jugadores'!$A$2:$J$5142,10,0))","v":""},{"$f":"IF(B107=\"\",\"\",VLOOKUP(B107&\"\",'Fichero de Jugadores'!$A$2:$J$5142,10,0))","v":""},{"$f":"IF(C107=\"\",\"\",VLOOKUP(A107&\"\",'Fichero de Jugadores'!$A$2:$I$5142,7,0))","v":{"$error":"#N/A"}},{"$f":"IF(C107=\"\",\"\",VLOOKUP(B107&\"\",'Fichero de Jugadores'!$A$2:$I$5142,7,0))","v":{"$error":"#N/A"}}]
[null,null,105,{"$f":"IF(A108=\"\",\"\",VLOOKUP(A108&\"\",'Fichero de Jugadores'!$A$2:$H$5142,2,0))","v":""},{"$f":"IF(B108=\"\",\"\",VLOOKUP(B108&\"\",'Fichero de Jugadores'!$A$2:$H$5142,2,0))","v":""},null,{"$f":"IF(A108=\"\",\"\",VLOOKUP(A108&\"\",'Fichero de Jugadores'!$A$2:$H$5142,8,0))","v":""},{"$f":"IF(B108=\"\",\"\",VLOOKUP(B108&\"\",'Fichero de Jugadores'!$A$2:$H$5142,8,0))","v":""},{"$error":"#N/A"},{"$f":"IF(A108=\"\",\"\",VLOOKUP(A108&\"\",'Fichero de Jugadores'!$A$2:$I$5142,9,0))","v":""},{"$f":"IF(B108=\"\",\"\",VLOOKUP(B108&\"\",'Fichero de Jugadores'!$A$2:$I$5142,9,0))","v":""},"",null,null,{"$f":"IF(A108=\"\",\"\",VLOOKUP(A108&\"\",'Fichero de Jugadores'!$A$2:$J$5142,10,0))","v":""},{"$f":"IF(B108=\"\",\"\",VLOOKUP(B108&\"\",'Fichero de Jugadores'!$A$2:$J$5142,10,0))","v":""},{"$f":"IF(C108=\"\",\"\",VLOOKUP(A108&\"\",'Fichero de Jugadores'!$A$2:$I$5142,7,0))","v":{"$error":"#N/A"}},{"$f":"IF(C108=\"\",\"\",VLOOKUP(B108&\"\",'Fichero de Jugadores'!$A$2:$I$5142,7,0))","v":{"$error":"#N/A"}}]
[null,null,106,{"$f":"IF(A109=\"\",\"\",VLOOKUP(A109&\"\",'Fichero de Jugadores'!$A$2:$H$5142,2,0))","v":""},{"$f":"IF(B109=\"\",\"\",VLOOKUP(B109&\"\",'Fichero de Jugadores'!$A$2:$H$5142,2,0))","v":""},null,{"$f":"IF(A109=\"\",\"\",VLOOKUP(A109&\"\",'Fichero de Jugadores'!$A$2:$H$5142,8,0))","v":""},{"$f":"IF(B109=\"\",\"\",VLOOKUP(B109&\"\",'Fichero de Jugadores'!$A$2:$H$5142,8,0))","v":""},{"$error":"#N/A"},{"$f":"IF(A109=\"\",\"\",VLOOKUP(A109&\"\",'Fichero de Jugadores'!$A$2:$I$5142,9,0))","v":""},{"$f":"IF(B109=\"\",\"\",VLOOKUP(B109&\"\",'Fichero de Jugadores'!$A$2:$I$5142,9,0))","v":""},"",null,null,{"$f":"IF(A109=\"\",\"\",VLOOKUP(A109&\"\",'Fichero de Jugadores'!$A$2:$J$5142,10,0))","v":""},{"$f":"IF(B109=\"\",\"\",VLOOKUP(B109&\"\",'Fichero de Jugadores'!$A$2:$J$5142,10,0))","v":""},{"$f":"IF(C109=\"\",\"\",VLOOKUP(A109&\"\",'Fichero de Jugadores'!$A$2:$I$5142,7,0))","v":{"$error":"#N/A"}},{"$f":"IF(C109=\"\",\"\",VLOOKUP(B109&\"\",'Fichero de Jugadores'!$A$2:$I$5142,7,0))","v":{"$error":"#N/A"}}]
[null,null,107,{"$f":"IF(A110=\"\",\"\",VLOOKUP(A110&\"\",'Fichero de Jugadores'!$A$2:$H$5142,2,0))","v":""},{"$f":"IF(B110=\"\",\"\",VLOOKUP(B110&\"\",'Fichero de Jugadores'!$A$2:$H$5142,2,0))","v":""},null,{"$f":"IF(A110=\"\",\"\",VLOOKUP(A110&\"\",'Fichero de Jugadores'!$A$2:$H$5142,8,0))","v":""},{"$f":"IF(B110=\"\",\"\",VLOOKUP(B110&\"\",'Fichero de Jugadores'!$A$2:$H$5142,8,0))","v":""},{"$error":"#N/A"},{"$f":"IF(A110=\"\",\"\",VLOOKUP(A110&\"\",'Fichero de Jugadores'!$A$2:$I$5142,9,0))","v":""},{"$f":"IF(B110=\"\",\"\",VLOOKUP(B110&\"\",'Fichero de Jugadores'!$A$2:$I$5142,9,0))","v":""},"",null,null,{"$f":"IF(A110=\"\",\"\",VLOOKUP(A110&\"\",'Fichero de Jugadores'!$A$2:$J$5142,10,0))","v":""},{"$f":"IF(B110=\"\",\"\",VLOOKUP(B110&\"\",'Fichero de Jugadores'!$A$2:$J$5142,10,0))","v":""},{"$f":"IF(C110=\"\",\"\",VLOOKUP(A110&\"\",'Fichero de Jugadores'!$A$2:$I$5142,7,0))","v":{"$error":"#N/A"}},{"$f":"IF(C110=\"\",\"\",VLOOKUP(B110&\"\",'Fichero de Jugadores'!$A$2:$I$5142,7,0))","v":{"$error":"#N/A"}}]
[null,null,108,{"$f":"IF(A111=\"\",\"\",VLOOKUP(A111&\"\",'Fichero de Jugadores'!$A$2:$H$5142,2,0))","v":""},{"$f":"IF(B111=\"\",\"\",VLOOKUP(B111&\"\",'Fichero de Jugadores'!$A$2:$H$5142,2,0))","v":""},null,{"$f":"IF(A111=\"\",\"\",VLOOKUP(A111&\"\",'Fichero de Jugadores'!$A$2:$H$5142,8,0))","v":""},{"$f":"IF(B111=\"\",\"\",VLOOKUP(B111&\"\",'Fichero de Jugadores'!$A$2:$H$5142,8,0))","v":""},{"$error":"#N/A"},{"$f":"IF(A111=\"\",\"\",VLOOKUP(A111&\"\",'Fichero de Jugadores'!$A$2:$I$5142,9,0))","v":""},{"$f":"IF(B111=\"\",\"\",VLOOKUP(B111&\"\",'Fichero de Jugadores'!$A$2:$I$5142,9,0))","v":""},"",null,null,{"$f":"IF(A111=\"\",\"\",VLOOKUP(A111&\"\",'Fichero de Jugadores'!$A$2:$J$5142,10,0))","v":""},{"$f":"IF(B111=\"\",\"\",VLOOKUP(B111&\"\",'Fichero de Jugadores'!$A$2:$J$5142,10,0))","v":""},{"$f":"IF(C111=\"\",\"\",VLOOKUP(A111&\"\",'Fichero de Jugadores'!$A$2:$I$5142,7,0))","v":{"$error":"#N/A"}},{"$f":"IF(C111=\"\",\"\",VLOOKUP(B111&\"\",'Fichero de Jugadores'!$A$2:$I$5142,7,0))","v":{"$error":"#N/A"}}]
[null,null,109,{"$f":"IF(A112=\"\",\"\",VLOOKUP(A112&\"\",'Fichero de Jugadores'!$A$2:$H$5142,2,0))","v":""},{"$f":"IF(B112=\"\",\"\",VLOOKUP(B112&\"\",'Fichero de Jugadores'!$A$2:$H$5142,2,0))","v":""},null,{"$f":"IF(A112=\"\",\"\",VLOOKUP(A112&\"\",'Fichero de Jugadores'!$A$2:$H$5142,8,0))","v":""},{"$f":"IF(B112=\"\",\"\",VLOOKUP(B112&\"\",'Fichero de Jugadores'!$A$2:$H$5142,8,0))","v":""},{"$error":"#N/A"},{"$f":"IF(A112=\"\",\"\",VLOOKUP(A112&\"\",'Fichero de Jugadores'!$A$2:$I$5142,9,0))","v":""},{"$f":"IF(B112=\"\",\"\",VLOOKUP(B112&\"\",'Fichero de Jugadores'!$A$2:$I$5142,9,0))","v":""},"",null,null,{"$f":"IF(A112=\"\",\"\",VLOOKUP(A112&\"\",'Fichero de Jugadores'!$A$2:$J$5142,10,0))","v":""},{"$f":"IF(B112=\"\",\"\",VLOOKUP(B112&\"\",'Fichero de Jugadores'!$A$2:$J$5142,10,0))","v":""},{"$f":"IF(C112=\"\",\"\",VLOOKUP(A112&\"\",'Fichero de Jugadores'!$A$2:$I$5142,7,0))","v":{"$error":"#N/A"}},{"$f":"IF(C112=\"\",\"\",VLOOKUP(B112&\"\",'Fichero de Jugadores'!$A$2:$I$5142,7,0))","v":{"$error":"#N/A"}}]
[null,null,110,{"$f":"IF(A113=\"\",\"\",VLOOKUP(A113&\"\",'Fichero de Jugadores'!$A$2:$H$5142,2,0))","v":""},{"$f":"IF(B113=\"\",\"\",VLOOKUP(B113&\"\",'Fichero de Jugadores'!$A$2:$H$5142,2,0))","v":""},null,{"$f":"IF(A113=\"\",\"\",VLOOKUP(A113&\"\",'Fichero de Jugadores'!$A$2:$H$5142,8,0))","v":""},{"$f":"IF(B113=\"\",\"\",VLOOKUP(B113&\"\",'Fichero de Jugadores'!$A$2:$H$5142,8,0))","v":""},{"$error":"#N/A"},{"$f":"IF(A113=\"\",\"\",VLOOKUP(A113&\"\",'Fichero de Jugadores'!$A$2:$I$5142,9,0))","v":""},{"$f":"IF(B113=\"\",\"\",VLOOKUP(B113&\"\",'Fichero de Jugadores'!$A$2:$I$5142,9,0))","v":""},"",null,null,{"$f":"IF(A113=\"\",\"\",VLOOKUP(A113&\"\",'Fichero de Jugadores'!$A$2:$J$5142,10,0))","v":""},{"$f":"IF(B113=\"\",\"\",VLOOKUP(B113&\"\",'Fichero de Jugadores'!$A$2:$J$5142,10,0))","v":""},{"$f":"IF(C113=\"\",\"\",VLOOKUP(A113&\"\",'Fichero de Jugadores'!$A$2:$I$5142,7,0))","v":{"$error":"#N/A"}},{"$f":"IF(C113=\"\",\"\",VLOOKUP(B113&\"\",'Fichero de Jugadores'!$A$2:$I$5142,7,0))","v":{"$error":"#N/A"}}]
[null,null,111,{"$f":"IF(A114=\"\",\"\",VLOOKUP(A114&\"\",'Fichero de Jugadores'!$A$2:$H$5142,2,0))","v":""},{"$f":"IF(B114=\"\",\"\",VLOOKUP(B114&\"\",'Fichero de Jugadores'!$A$2:$H$5142,2,0))","v":""},null,{"$f":"IF(A114=\"\",\"\",VLOOKUP(A114&\"\",'Fichero de Jugadores'!$A$2:$H$5142,8,0))","v":""},{"$f":"IF(B114=\"\",\"\",VLOOKUP(B114&\"\",'Fichero de Jugadores'!$A$2:$H$5142,8,0))","v":""},{"$error":"#N/A"},{"$f":"IF(A114=\"\",\"\",VLOOKUP(A114&\"\",'Fichero de Jugadores'!$A$2:$I$5142,9,0))","v":""},{"$f":"IF(B114=\"\",\"\",VLOOKUP(B114&\"\",'Fichero de Jugadores'!$A$2:$I$5142,9,0))","v":""},"",null,null,{"$f":"IF(A114=\"\",\"\",VLOOKUP(A114&\"\",'Fichero de Jugadores'!$A$2:$J$5142,10,0))","v":""},{"$f":"IF(B114=\"\",\"\",VLOOKUP(B114&\"\",'Fichero de Jugadores'!$A$2:$J$5142,10,0))","v":""},{"$f":"IF(C114=\"\",\"\",VLOOKUP(A114&\"\",'Fichero de Jugadores'!$A$2:$I$5142,7,0))","v":{"$error":"#N/A"}},{"$f":"IF(C114=\"\",\"\",VLOOKUP(B114&\"\",'Fichero de Jugadores'!$A$2:$I$5142,7,0))","v":{"$error":"#N/A"}}]
[null,null,112,{"$f":"IF(A115=\"\",\"\",VLOOKUP(A115&\"\",'Fichero de Jugadores'!$A$2:$H$5142,2,0))","v":""},{"$f":"IF(B115=\"\",\"\",VLOOKUP(B115&\"\",'Fichero de Jugadores'!$A$2:$H$5142,2,0))","v":""},null,{"$f":"IF(A115=\"\",\"\",VLOOKUP(A115&\"\",'Fichero de Jugadores'!$A$2:$H$5142,8,0))","v":""},{"$f":"IF(B115=\"\",\"\",VLOOKUP(B115&\"\",'Fichero de Jugadores'!$A$2:$H$5142,8,0))","v":""},{"$error":"#N/A"},{"$f":"IF(A115=\"\",\"\",VLOOKUP(A115&\"\",'Fichero de Jugadores'!$A$2:$I$5142,9,0))","v":""},{"$f":"IF(B115=\"\",\"\",VLOOKUP(B115&\"\",'Fichero de Jugadores'!$A$2:$I$5142,9,0))","v":""},"",null,null,{"$f":"IF(A115=\"\",\"\",VLOOKUP(A115&\"\",'Fichero de Jugadores'!$A$2:$J$5142,10,0))","v":""},{"$f":"IF(B115=\"\",\"\",VLOOKUP(B115&\"\",'Fichero de Jugadores'!$A$2:$J$5142,10,0))","v":""},{"$f":"IF(C115=\"\",\"\",VLOOKUP(A115&\"\",'Fichero de Jugadores'!$A$2:$I$5142,7,0))","v":{"$error":"#N/A"}},{"$f":"IF(C115=\"\",\"\",VLOOKUP(B115&\"\",'Fichero de Jugadores'!$A$2:$I$5142,7,0))","v":{"$error":"#N/A"}}]
[null,null,113,{"$f":"IF(A116=\"\",\"\",VLOOKUP(A116&\"\",'Fichero de Jugadores'!$A$2:$H$5142,2,0))","v":""},{"$f":"IF(B116=\"\",\"\",VLOOKUP(B116&\"\",'Fichero de Jugadores'!$A$2:$H$5142,2,0))","v":""},null,{"$f":"IF(A116=\"\",\"\",VLOOKUP(A116&\"\",'Fichero de Jugadores'!$A$2:$H$5142,8,0))","v":""},{"$f":"IF(B116=\"\",\"\",VLOOKUP(B116&\"\",'Fichero de Jugadores'!$A$2:$H$5142,8,0))","v":""},{"$error":"#N/A"},{"$f":"IF(A116=\"\",\"\",VLOOKUP(A116&\"\",'Fichero de Jugadores'!$A$2:$I$5142,9,0))","v":""},{"$f":"IF(B116=\"\",\"\",VLOOKUP(B116&\"\",'Fichero de Jugadores'!$A$2:$I$5142,9,0))","v":""},"",null,null,{"$f":"IF(A116=\"\",\"\",VLOOKUP(A116&\"\",'Fichero de Jugadores'!$A$2:$J$5142,10,0))","v":""},{"$f":"IF(B116=\"\",\"\",VLOOKUP(B116&\"\",'Fichero de Jugadores'!$A$2:$J$5142,10,0))","v":""},{"$f":"IF(C116=\"\",\"\",VLOOKUP(A116&\"\",'Fichero de Jugadores'!$A$2:$I$5142,7,0))","v":{"$error":"#N/A"}},{"$f":"IF(C116=\"\",\"\",VLOOKUP(B116&\"\",'Fichero de Jugadores'!$A$2:$I$5142,7,0))","v":{"$error":"#N/A"}}]
[null,null,114,{"$f":"IF(A117=\"\",\"\",VLOOKUP(A117&\"\",'Fichero de Jugadores'!$A$2:$H$5142,2,0))","v":""},{"$f":"IF(B117=\"\",\"\",VLOOKUP(B117&\"\",'Fichero de Jugadores'!$A$2:$H$5142,2,0))","v":""},null,{"$f":"IF(A117=\"\",\"\",VLOOKUP(A117&\"\",'Fichero de Jugadores'!$A$2:$H$5142,8,0))","v":""},{"$f":"IF(B117=\"\",\"\",VLOOKUP(B117&\"\",'Fichero de Jugadores'!$A$2:$H$5142,8,0))","v":""},{"$error":"#N/A"},{"$f":"IF(A117=\"\",\"\",VLOOKUP(A117&\"\",'Fichero de Jugadores'!$A$2:$I$5142,9,0))","v":""},{"$f":"IF(B117=\"\",\"\",VLOOKUP(B117&\"\",'Fichero de Jugadores'!$A$2:$I$5142,9,0))","v":""},"",null,null,{"$f":"IF(A117=\"\",\"\",VLOOKUP(A117&\"\",'Fichero de Jugadores'!$A$2:$J$5142,10,0))","v":""},{"$f":"IF(B117=\"\",\"\",VLOOKUP(B117&\"\",'Fichero de Jugadores'!$A$2:$J$5142,10,0))","v":""},{"$f":"IF(C117=\"\",\"\",VLOOKUP(A117&\"\",'Fichero de Jugadores'!$A$2:$I$5142,7,0))","v":{"$error":"#N/A"}},{"$f":"IF(C117=\"\",\"\",VLOOKUP(B117&\"\",'Fichero de Jugadores'!$A$2:$I$5142,7,0))","v":{"$error":"#N/A"}}]
[null,null,115,{"$f":"IF(A118=\"\",\"\",VLOOKUP(A118&\"\",'Fichero de Jugadores'!$A$2:$H$5142,2,0))","v":""},{"$f":"IF(B118=\"\",\"\",VLOOKUP(B118&\"\",'Fichero de Jugadores'!$A$2:$H$5142,2,0))","v":""},null,{"$f":"IF(A118=\"\",\"\",VLOOKUP(A118&\"\",'Fichero de Jugadores'!$A$2:$H$5142,8,0))","v":""},{"$f":"IF(B118=\"\",\"\",VLOOKUP(B118&\"\",'Fichero de Jugadores'!$A$2:$H$5142,8,0))","v":""},{"$error":"#N/A"},{"$f":"IF(A118=\"\",\"\",VLOOKUP(A118&\"\",'Fichero de Jugadores'!$A$2:$I$5142,9,0))","v":""},{"$f":"IF(B118=\"\",\"\",VLOOKUP(B118&\"\",'Fichero de Jugadores'!$A$2:$I$5142,9,0))","v":""},"",null,null,{"$f":"IF(A118=\"\",\"\",VLOOKUP(A118&\"\",'Fichero de Jugadores'!$A$2:$J$5142,10,0))","v":""},{"$f":"IF(B118=\"\",\"\",VLOOKUP(B118&\"\",'Fichero de Jugadores'!$A$2:$J$5142,10,0))","v":""},{"$f":"IF(C118=\"\",\"\",VLOOKUP(A118&\"\",'Fichero de Jugadores'!$A$2:$I$5142,7,0))","v":{"$error":"#N/A"}},{"$f":"IF(C118=\"\",\"\",VLOOKUP(B118&\"\",'Fichero de Jugadores'!$A$2:$I$5142,7,0))","v":{"$error":"#N/A"}}]
[null,null,116,{"$f":"IF(A119=\"\",\"\",VLOOKUP(A119&\"\",'Fichero de Jugadores'!$A$2:$H$5142,2,0))","v":""},{"$f":"IF(B119=\"\",\"\",VLOOKUP(B119&\"\",'Fichero de Jugadores'!$A$2:$H$5142,2,0))","v":""},null,{"$f":"IF(A119=\"\",\"\",VLOOKUP(A119&\"\",'Fichero de Jugadores'!$A$2:$H$5142,8,0))","v":""},{"$f":"IF(B119=\"\",\"\",VLOOKUP(B119&\"\",'Fichero de Jugadores'!$A$2:$H$5142,8,0))","v":""},{"$error":"#N/A"},{"$f":"IF(A119=\"\",\"\",VLOOKUP(A119&\"\",'Fichero de Jugadores'!$A$2:$I$5142,9,0))","v":""},{"$f":"IF(B119=\"\",\"\",VLOOKUP(B119&\"\",'Fichero de Jugadores'!$A$2:$I$5142,9,0))","v":""},"",null,null,{"$f":"IF(A119=\"\",\"\",VLOOKUP(A119&\"\",'Fichero de Jugadores'!$A$2:$J$5142,10,0))","v":""},{"$f":"IF(B119=\"\",\"\",VLOOKUP(B119&\"\",'Fichero de Jugadores'!$A$2:$J$5142,10,0))","v":""},{"$f":"IF(C119=\"\",\"\",VLOOKUP(A119&\"\",'Fichero de Jugadores'!$A$2:$I$5142,7,0))","v":{"$error":"#N/A"}},{"$f":"IF(C119=\"\",\"\",VLOOKUP(B119&\"\",'Fichero de Jugadores'!$A$2:$I$5142,7,0))","v":{"$error":"#N/A"}}]
[null,null,117,{"$f":"IF(A120=\"\",\"\",VLOOKUP(A120&\"\",'Fichero de Jugadores'!$A$2:$H$5142,2,0))","v":""},{"$f":"IF(B120=\"\",\"\",VLOOKUP(B120&\"\",'Fichero de Jugadores'!$A$2:$H$5142,2,0))","v":""},null,{"$f":"IF(A120=\"\",\"\",VLOOKUP(A120&\"\",'Fichero de Jugadores'!$A$2:$H$5142,8,0))","v":""},{"$f":"IF(B120=\"\",\"\",VLOOKUP(B120&\"\",'Fichero de Jugadores'!$A$2:$H$5142,8,0))","v":""},{"$error":"#N/A"},{"$f":"IF(A120=\"\",\"\",VLOOKUP(A120&\"\",'Fichero de Jugadores'!$A$2:$I$5142,9,0))","v":""},{"$f":"IF(B120=\"\",\"\",VLOOKUP(B120&\"\",'Fichero de Jugadores'!$A$2:$I$5142,9,0))","v":""},"",null,null,{"$f":"IF(A120=\"\",\"\",VLOOKUP(A120&\"\",'Fichero de Jugadores'!$A$2:$J$5142,10,0))","v":""},{"$f":"IF(B120=\"\",\"\",VLOOKUP(B120&\"\",'Fichero de Jugadores'!$A$2:$J$5142,10,0))","v":""},{"$f":"IF(C120=\"\",\"\",VLOOKUP(A120&\"\",'Fichero de Jugadores'!$A$2:$I$5142,7,0))","v":{"$error":"#N/A"}},{"$f":"IF(C120=\"\",\"\",VLOOKUP(B120&\"\",'Fichero de Jugadores'!$A$2:$I$5142,7,0))","v":{"$error":"#N/A"}}]
[null,null,118,{"$f":"IF(A121=\"\",\"\",VLOOKUP(A121&\"\",'Fichero de Jugadores'!$A$2:$H$5142,2,0))","v":""},{"$f":"IF(B121=\"\",\"\",VLOOKUP(B121&\"\",'Fichero de Jugadores'!$A$2:$H$5142,2,0))","v":""},null,{"$f":"IF(A121=\"\",\"\",VLOOKUP(A121&\"\",'Fichero de Jugadores'!$A$2:$H$5142,8,0))","v":""},{"$f":"IF(B121=\"\",\"\",VLOOKUP(B121&\"\",'Fichero de Jugadores'!$A$2:$H$5142,8,0))","v":""},{"$error":"#N/A"},{"$f":"IF(A121=\"\",\"\",VLOOKUP(A121&\"\",'Fichero de Jugadores'!$A$2:$I$5142,9,0))","v":""},{"$f":"IF(B121=\"\",\"\",VLOOKUP(B121&\"\",'Fichero de Jugadores'!$A$2:$I$5142,9,0))","v":""},"",null,null,{"$f":"IF(A121=\"\",\"\",VLOOKUP(A121&\"\",'Fichero de Jugadores'!$A$2:$J$5142,10,0))","v":""},{"$f":"IF(B121=\"\",\"\",VLOOKUP(B121&\"\",'Fichero de Jugadores'!$A$2:$J$5142,10,0))","v":""},{"$f":"IF(C121=\"\",\"\",VLOOKUP(A121&\"\",'Fichero de Jugadores'!$A$2:$I$5142,7,0))","v":{"$error":"#N/A"}},{"$f":"IF(C121=\"\",\"\",VLOOKUP(B121&\"\",'Fichero de Jugadores'!$A$2:$I$5142,7,0))","v":{"$error":"#N/A"}}]
[null,null,119,{"$f":"IF(A122=\"\",\"\",VLOOKUP(A122&\"\",'Fichero de Jugadores'!$A$2:$H$5142,2,0))","v":""},{"$f":"IF(B122=\"\",\"\",VLOOKUP(B122&\"\",'Fichero de Jugadores'!$A$2:$H$5142,2,0))","v":""},null,{"$f":"IF(A122=\"\",\"\",VLOOKUP(A122&\"\",'Fichero de Jugadores'!$A$2:$H$5142,8,0))","v":""},{"$f":"IF(B122=\"\",\"\",VLOOKUP(B122&\"\",'Fichero de Jugadores'!$A$2:$H$5142,8,0))","v":""},{"$error":"#N/A"},{"$f":"IF(A122=\"\",\"\",VLOOKUP(A122&\"\",'Fichero de Jugadores'!$A$2:$I$5142,9,0))","v":""},{"$f":"IF(B122=\"\",\"\",VLOOKUP(B122&\"\",'Fichero de Jugadores'!$A$2:$I$5142,9,0))","v":""},"",null,null,{"$f":"IF(A122=\"\",\"\",VLOOKUP(A122&\"\",'Fichero de Jugadores'!$A$2:$J$5142,10,0))","v":""},{"$f":"IF(B122=\"\",\"\",VLOOKUP(B122&\"\",'Fichero de Jugadores'!$A$2:$J$5142,10,0))","v":""},{"$f":"IF(C122=\"\",\"\",VLOOKUP(A122&\"\",'Fichero de Jugadores'!$A$2:$I$5142,7,0))","v":{"$error":"#N/A"}},{"$f":"IF(C122=\"\",\"\",VLOOKUP(B122&\"\",'Fichero de Jugadores'!$A$2:$I$5142,7,0))","v":{"$error":"#N/A"}}]
[null,null,120,{"$f":"IF(A123=\"\",\"\",VLOOKUP(A123&\"\",'Fichero de Jugadores'!$A$2:$H$5142,2,0))","v":""},{"$f":"IF(B123=\"\",\"\",VLOOKUP(B123&\"\",'Fichero de Jugadores'!$A$2:$H$5142,2,0))","v":""},null,{"$f":"IF(A123=\"\",\"\",VLOOKUP(A123&\"\",'Fichero de Jugadores'!$A$2:$H$5142,8,0))","v":""},{"$f":"IF(B123=\"\",\"\",VLOOKUP(B123&\"\",'Fichero de Jugadores'!$A$2:$H$5142,8,0))","v":""},{"$error":"#N/A"},{"$f":"IF(A123=\"\",\"\",VLOOKUP(A123&\"\",'Fichero de Jugadores'!$A$2:$I$5142,9,0))","v":""},{"$f":"IF(B123=\"\",\"\",VLOOKUP(B123&\"\",'Fichero de Jugadores'!$A$2:$I$5142,9,0))","v":""},"",null,null,{"$f":"IF(A123=\"\",\"\",VLOOKUP(A123&\"\",'Fichero de Jugadores'!$A$2:$J$5142,10,0))","v":""},{"$f":"IF(B123=\"\",\"\",VLOOKUP(B123&\"\",'Fichero de Jugadores'!$A$2:$J$5142,10,0))","v":""},{"$f":"IF(C123=\"\",\"\",VLOOKUP(A123&\"\",'Fichero de Jugadores'!$A$2:$I$5142,7,0))","v":{"$error":"#N/A"}},{"$f":"IF(C123=\"\",\"\",VLOOKUP(B123&\"\",'Fichero de Jugadores'!$A$2:$I$5142,7,0))","v":{"$error":"#N/A"}}]
[null,null,121,{"$f":"IF(A124=\"\",\"\",VLOOKUP(A124&\"\",'Fichero de Jugadores'!$A$2:$H$5142,2,0))","v":""},{"$f":"IF(B124=\"\",\"\",VLOOKUP(B124&\"\",'Fichero de Jugadores'!$A$2:$H$5142,2,0))","v":""},null,{"$f":"IF(A124=\"\",\"\",VLOOKUP(A124&\"\",'Fichero de Jugadores'!$A$2:$H$5142,8,0))","v":""},{"$f":"IF(B124=\"\",\"\",VLOOKUP(B124&\"\",'Fichero de Jugadores'!$A$2:$H$5142,8,0))","v":""},{"$error":"#N/A"},{"$f":"IF(A124=\"\",\"\",VLOOKUP(A124&\"\",'Fichero de Jugadores'!$A$2:$I$5142,9,0))","v":""},{"$f":"IF(B124=\"\",\"\",VLOOKUP(B124&\"\",'Fichero de Jugadores'!$A$2:$I$5142,9,0))","v":""},"",null,null,{"$f":"IF(A124=\"\",\"\",VLOOKUP(A124&\"\",'Fichero de Jugadores'!$A$2:$J$5142,10,0))","v":""},{"$f":"IF(B124=\"\",\"\",VLOOKUP(B124&\"\",'Fichero de Jugadores'!$A$2:$J$5142,10,0))","v":""},{"$f":"IF(C124=\"\",\"\",VLOOKUP(A124&\"\",'Fichero de Jugadores'!$A$2:$I$5142,7,0))","v":{"$error":"#N/A"}},{"$f":"IF(C124=\"\",\"\",VLOOKUP(B124&\"\",'Fichero de Jugadores'!$A$2:$I$5142,7,0))","v":{"$error":"#N/A"}}]
[null,null,122,{"$f":"IF(A125=\"\",\"\",VLOOKUP(A125&\"\",'Fichero de Jugadores'!$A$2:$H$5142,2,0))","v":""},{"$f":"IF(B125=\"\",\"\",VLOOKUP(B125&\"\",'Fichero de Jugadores'!$A$2:$H$5142,2,0))","v":""},null,{"$f":"IF(A125=\"\",\"\",VLOOKUP(A125&\"\",'Fichero de Jugadores'!$A$2:$H$5142,8,0))","v":""},{"$f":"IF(B125=\"\",\"\",VLOOKUP(B125&\"\",'Fichero de Jugadores'!$A$2:$H$5142,8,0))","v":""},{"$error":"#N/A"},{"$f":"IF(A125=\"\",\"\",VLOOKUP(A125&\"\",'Fichero de Jugadores'!$A$2:$I$5142,9,0))","v":""},{"$f":"IF(B125=\"\",\"\",VLOOKUP(B125&\"\",'Fichero de Jugadores'!$A$2:$I$5142,9,0))","v":""},"",null,null,{"$f":"IF(A125=\"\",\"\",VLOOKUP(A125&\"\",'Fichero de Jugadores'!$A$2:$J$5142,10,0))","v":""},{"$f":"IF(B125=\"\",\"\",VLOOKUP(B125&\"\",'Fichero de Jugadores'!$A$2:$J$5142,10,0))","v":""},{"$f":"IF(C125=\"\",\"\",VLOOKUP(A125&\"\",'Fichero de Jugadores'!$A$2:$I$5142,7,0))","v":{"$error":"#N/A"}},{"$f":"IF(C125=\"\",\"\",VLOOKUP(B125&\"\",'Fichero de Jugadores'!$A$2:$I$5142,7,0))","v":{"$error":"#N/A"}}]
[null,null,123,{"$f":"IF(A126=\"\",\"\",VLOOKUP(A126&\"\",'Fichero de Jugadores'!$A$2:$H$5142,2,0))","v":""},{"$f":"IF(B126=\"\",\"\",VLOOKUP(B126&\"\",'Fichero de Jugadores'!$A$2:$H$5142,2,0))","v":""},null,{"$f":"IF(A126=\"\",\"\",VLOOKUP(A126&\"\",'Fichero de Jugadores'!$A$2:$H$5142,8,0))","v":""},{"$f":"IF(B126=\"\",\"\",VLOOKUP(B126&\"\",'Fichero de Jugadores'!$A$2:$H$5142,8,0))","v":""},{"$error":"#N/A"},{"$f":"IF(A126=\"\",\"\",VLOOKUP(A126&\"\",'Fichero de Jugadores'!$A$2:$I$5142,9,0))","v":""},{"$f":"IF(B126=\"\",\"\",VLOOKUP(B126&\"\",'Fichero de Jugadores'!$A$2:$I$5142,9,0))","v":""},"",null,null,{"$f":"IF(A126=\"\",\"\",VLOOKUP(A126&\"\",'Fichero de Jugadores'!$A$2:$J$5142,10,0))","v":""},{"$f":"IF(B126=\"\",\"\",VLOOKUP(B126&\"\",'Fichero de Jugadores'!$A$2:$J$5142,10,0))","v":""},{"$f":"IF(C126=\"\",\"\",VLOOKUP(A126&\"\",'Fichero de Jugadores'!$A$2:$I$5142,7,0))","v":{"$error":"#N/A"}},{"$f":"IF(C126=\"\",\"\",VLOOKUP(B126&\"\",'Fichero de Jugadores'!$A$2:$I$5142,7,0))","v":{"$error":"#N/A"}}]
[null,null,124,{"$f":"IF(A127=\"\",\"\",VLOOKUP(A127&\"\",'Fichero de Jugadores'!$A$2:$H$5142,2,0))","v":""},{"$f":"IF(B127=\"\",\"\",VLOOKUP(B127&\"\",'Fichero de Jugadores'!$A$2:$H$5142,2,0))","v":""},null,{"$f":"IF(A127=\"\",\"\",VLOOKUP(A127&\"\",'Fichero de Jugadores'!$A$2:$H$5142,8,0))","v":""},{"$f":"IF(B127=\"\",\"\",VLOOKUP(B127&\"\",'Fichero de Jugadores'!$A$2:$H$5142,8,0))","v":""},{"$error":"#N/A"},{"$f":"IF(A127=\"\",\"\",VLOOKUP(A127&\"\",'Fichero de Jugadores'!$A$2:$I$5142,9,0))","v":""},{"$f":"IF(B127=\"\",\"\",VLOOKUP(B127&\"\",'Fichero de Jugadores'!$A$2:$I$5142,9,0))","v":""},"",null,null,{"$f":"IF(A127=\"\",\"\",VLOOKUP(A127&\"\",'Fichero de Jugadores'!$A$2:$J$5142,10,0))","v":""},{"$f":"IF(B127=\"\",\"\",VLOOKUP(B127&\"\",'Fichero de Jugadores'!$A$2:$J$5142,10,0))","v":""},{"$f":"IF(C127=\"\",\"\",VLOOKUP(A127&\"\",'Fichero de Jugadores'!$A$2:$I$5142,7,0))","v":{"$error":"#N/A"}},{"$f":"IF(C127=\"\",\"\",VLOOKUP(B127&\"\",'Fichero de Jugadores'!$A$2:$I$5142,7,0))","v":{"$error":"#N/A"}}]
[null,null,125,{"$f":"IF(A128=\"\",\"\",VLOOKUP(A128&\"\",'Fichero de Jugadores'!$A$2:$H$5142,2,0))","v":""},{"$f":"IF(B128=\"\",\"\",VLOOKUP(B128&\"\",'Fichero de Jugadores'!$A$2:$H$5142,2,0))","v":""},null,{"$f":"IF(A128=\"\",\"\",VLOOKUP(A128&\"\",'Fichero de Jugadores'!$A$2:$H$5142,8,0))","v":""},{"$f":"IF(B128=\"\",\"\",VLOOKUP(B128&\"\",'Fichero de Jugadores'!$A$2:$H$5142,8,0))","v":""},{"$error":"#N/A"},{"$f":"IF(A128=\"\",\"\",VLOOKUP(A128&\"\",'Fichero de Jugadores'!$A$2:$I$5142,9,0))","v":""},{"$f":"IF(B128=\"\",\"\",VLOOKUP(B128&\"\",'Fichero de Jugadores'!$A$2:$I$5142,9,0))","v":""},"",null,null,{"$f":"IF(A128=\"\",\"\",VLOOKUP(A128&\"\",'Fichero de Jugadores'!$A$2:$J$5142,10,0))","v":""},{"$f":"IF(B128=\"\",\"\",VLOOKUP(B128&\"\",'Fichero de Jugadores'!$A$2:$J$5142,10,0))","v":""},{"$f":"IF(C128=\"\",\"\",VLOOKUP(A128&\"\",'Fichero de Jugadores'!$A$2:$I$5142,7,0))","v":{"$error":"#N/A"}},{"$f":"IF(C128=\"\",\"\",VLOOKUP(B128&\"\",'Fichero de Jugadores'!$A$2:$I$5142,7,0))","v":{"$error":"#N/A"}}]
[null,null,126,{"$f":"IF(A129=\"\",\"\",VLOOKUP(A129&\"\",'Fichero de Jugadores'!$A$2:$H$5142,2,0))","v":""},{"$f":"IF(B129=\"\",\"\",VLOOKUP(B129&\"\",'Fichero de Jugadores'!$A$2:$H$5142,2,0))","v":""},null,{"$f":"IF(A129=\"\",\"\",VLOOKUP(A129&\"\",'Fichero de Jugadores'!$A$2:$H$5142,8,0))","v":""},{"$f":"IF(B129=\"\",\"\",VLOOKUP(B129&\"\",'Fichero de Jugadores'!$A$2:$H$5142,8,0))","v":""},{"$error":"#N/A"},{"$f":"IF(A129=\"\",\"\",VLOOKUP(A129&\"\",'Fichero de Jugadores'!$A$2:$I$5142,9,0))","v":""},{"$f":"IF(B129=\"\",\"\",VLOOKUP(B129&\"\",'Fichero de Jugadores'!$A$2:$I$5142,9,0))","v":""},"",null,null,{"$f":"IF(A129=\"\",\"\",VLOOKUP(A129&\"\",'Fichero de Jugadores'!$A$2:$J$5142,10,0))","v":""},{"$f":"IF(B129=\"\",\"\",VLOOKUP(B129&\"\",'Fichero de Jugadores'!$A$2:$J$5142,10,0))","v":""},{"$f":"IF(C129=\"\",\"\",VLOOKUP(A129&\"\",'Fichero de Jugadores'!$A$2:$I$5142,7,0))","v":{"$error":"#N/A"}},{"$f":"IF(C129=\"\",\"\",VLOOKUP(B129&\"\",'Fichero de Jugadores'!$A$2:$I$5142,7,0))","v":{"$error":"#N/A"}}]
[null,null,127,{"$f":"IF(A130=\"\",\"\",VLOOKUP(A130&\"\",'Fichero de Jugadores'!$A$2:$H$5142,2,0))","v":""},{"$f":"IF(B130=\"\",\"\",VLOOKUP(B130&\"\",'Fichero de Jugadores'!$A$2:$H$5142,2,0))","v":""},null,{"$f":"IF(A130=\"\",\"\",VLOOKUP(A130&\"\",'Fichero de Jugadores'!$A$2:$H$5142,8,0))","v":""},{"$f":"IF(B130=\"\",\"\",VLOOKUP(B130&\"\",'Fichero de Jugadores'!$A$2:$H$5142,8,0))","v":""},{"$error":"#N/A"},{"$f":"IF(A130=\"\",\"\",VLOOKUP(A130&\"\",'Fichero de Jugadores'!$A$2:$I$5142,9,0))","v":""},{"$f":"IF(B130=\"\",\"\",VLOOKUP(B130&\"\",'Fichero de Jugadores'!$A$2:$I$5142,9,0))","v":""},"",null,null,{"$f":"IF(A130=\"\",\"\",VLOOKUP(A130&\"\",'Fichero de Jugadores'!$A$2:$J$5142,10,0))","v":""},{"$f":"IF(B130=\"\",\"\",VLOOKUP(B130&\"\",'Fichero de Jugadores'!$A$2:$J$5142,10,0))","v":""},{"$f":"IF(C130=\"\",\"\",VLOOKUP(A130&\"\",'Fichero de Jugadores'!$A$2:$I$5142,7,0))","v":{"$error":"#N/A"}},{"$f":"IF(C130=\"\",\"\",VLOOKUP(B130&\"\",'Fichero de Jugadores'!$A$2:$I$5142,7,0))","v":{"$error":"#N/A"}}]
[null,null,128,{"$f":"IF(A131=\"\",\"\",VLOOKUP(A131&\"\",'Fichero de Jugadores'!$A$2:$H$5142,2,0))","v":""},{"$f":"IF(B131=\"\",\"\",VLOOKUP(B131&\"\",'Fichero de Jugadores'!$A$2:$H$5142,2,0))","v":""},null,{"$f":"IF(A131=\"\",\"\",VLOOKUP(A131&\"\",'Fichero de Jugadores'!$A$2:$H$5142,8,0))","v":""},{"$f":"IF(B131=\"\",\"\",VLOOKUP(B131&\"\",'Fichero de Jugadores'!$A$2:$H$5142,8,0))","v":""},{"$error":"#N/A"},{"$f":"IF(A131=\"\",\"\",VLOOKUP(A131&\"\",'Fichero de Jugadores'!$A$2:$I$5142,9,0))","v":""},{"$f":"IF(B131=\"\",\"\",VLOOKUP(B131&\"\",'Fichero de Jugadores'!$A$2:$I$5142,9,0))","v":""},"",null,null,{"$f":"IF(A131=\"\",\"\",VLOOKUP(A131&\"\",'Fichero de Jugadores'!$A$2:$J$5142,10,0))","v":""},{"$f":"IF(B131=\"\",\"\",VLOOKUP(B131&\"\",'Fichero de Jugadores'!$A$2:$J$5142,10,0))","v":""},{"$f":"IF(C131=\"\",\"\",VLOOKUP(A131&\"\",'Fichero de Jugadores'!$A$2:$I$5142,7,0))","v":{"$error":"#N/A"}},{"$f":"IF(C131=\"\",\"\",VLOOKUP(B131&\"\",'Fichero de Jugadores'!$A$2:$I$5142,7,0))","v":{"$error":"#N/A"}}]
[null,null,129,{"$f":"IF(A132=\"\",\"\",VLOOKUP(A132&\"\",'Fichero de Jugadores'!$A$2:$H$5142,2,0))","v":""},{"$f":"IF(B132=\"\",\"\",VLOOKUP(B132&\"\",'Fichero de Jugadores'!$A$2:$H$5142,2,0))","v":""},null,{"$f":"IF(A132=\"\",\"\",VLOOKUP(A132&\"\",'Fichero de Jugadores'!$A$2:$H$5142,8,0))","v":""},{"$f":"IF(B132=\"\",\"\",VLOOKUP(B132&\"\",'Fichero de Jugadores'!$A$2:$H$5142,8,0))","v":""},{"$f":"INDEX(AN$4:AS$9,(Q132)+2,(R132)+2)","v":{"$error":"#N/A"}},{"$f":"IF(A132=\"\",\"\",VLOOKUP(A132&\"\",'Fichero de Jugadores'!$A$2:$I$5142,9,0))","v":""},{"$f":"IF(B132=\"\",\"\",VLOOKUP(B132&\"\",'Fichero de Jugadores'!$A$2:$I$5142,9,0))","v":""},{"$f":"IF(AND(O132=\"D\",P132=\"D\"),\"D\",IF(AND(O132=\"D\",P132=\"C\"),\"X\",IF(AND(O132=\"C\",P132=\"D\"),\"X\",IF(AND(O132=\"C\",P132=\"C\"),\"C\",IF(OR(O132=\"\",P132=\"\"),\"\")))))","v":""},null,null,{"$f":"IF(A132=\"\",\"\",VLOOKUP(A132&\"\",'Fichero de Jugadores'!$A$2:$J$5142,10,0))","v":""},{"$f":"IF(B132=\"\",\"\",VLOOKUP(B132&\"\",'Fichero de Jugadores'!$A$2:$J$5142,10,0))","v":""},{"$f":"IF(C132=\"\",\"\",VLOOKUP(A132&\"\",'Fichero de Jugadores'!$A$2:$I$5142,7,0))","v":{"$error":"#N/A"}},{"$f":"IF(C132=\"\",\"\",VLOOKUP(B132&\"\",'Fichero de Jugadores'!$A$2:$I$5142,7,0))","v":{"$error":"#N/A"}}]
[null,null,130,{"$f":"IF(A133=\"\",\"\",VLOOKUP(A133&\"\",'Fichero de Jugadores'!$A$2:$H$5142,2,0))","v":""},{"$f":"IF(B133=\"\",\"\",VLOOKUP(B133&\"\",'Fichero de Jugadores'!$A$2:$H$5142,2,0))","v":""},null,{"$f":"IF(A133=\"\",\"\",VLOOKUP(A133&\"\",'Fichero de Jugadores'!$A$2:$H$5142,8,0))","v":""},{"$f":"IF(B133=\"\",\"\",VLOOKUP(B133&\"\",'Fichero de Jugadores'!$A$2:$H$5142,8,0))","v":""},{"$error":"#N/A"},{"$f":"IF(A133=\"\",\"\",VLOOKUP(A133&\"\",'Fichero de Jugadores'!$A$2:$I$5142,9,0))","v":""},{"$f":"IF(B133=\"\",\"\",VLOOKUP(B133&\"\",'Fichero de Jugadores'!$A$2:$I$5142,9,0))","v":""},"",null,null,{"$f":"IF(A133=\"\",\"\",VLOOKUP(A133&\"\",'Fichero de Jugadores'!$A$2:$J$5142,10,0))","v":""},{"$f":"IF(B133=\"\",\"\",VLOOKUP(B133&\"\",'Fichero de Jugadores'!$A$2:$J$5142,10,0))","v":""},{"$f":"IF(C133=\"\",\"\",VLOOKUP(A133&\"\",'Fichero de Jugadores'!$A$2:$I$5142,7,0))","v":{"$error":"#N/A"}},{"$f":"IF(C133=\"\",\"\",VLOOKUP(B133&\"\",'Fichero de Jugadores'!$A$2:$I$5142,7,0))","v":{"$error":"#N/A"}}]
[null,null,131,{"$f":"IF(A134=\"\",\"\",VLOOKUP(A134&\"\",'Fichero de Jugadores'!$A$2:$H$5142,2,0))","v":""},{"$f":"IF(B134=\"\",\"\",VLOOKUP(B134&\"\",'Fichero de Jugadores'!$A$2:$H$5142,2,0))","v":""},null,{"$f":"IF(A134=\"\",\"\",VLOOKUP(A134&\"\",'Fichero de Jugadores'!$A$2:$H$5142,8,0))","v":""},{"$f":"IF(B134=\"\",\"\",VLOOKUP(B134&\"\",'Fichero de Jugadores'!$A$2:$H$5142,8,0))","v":""},{"$error":"#N/A"},{"$f":"IF(A134=\"\",\"\",VLOOKUP(A134&\"\",'Fichero de Jugadores'!$A$2:$I$5142,9,0))","v":""},{"$f":"IF(B134=\"\",\"\",VLOOKUP(B134&\"\",'Fichero de Jugadores'!$A$2:$I$5142,9,0))","v":""},"",null,null,{"$f":"IF(A134=\"\",\"\",VLOOKUP(A134&\"\",'Fichero de Jugadores'!$A$2:$J$5142,10,0))","v":""},{"$f":"IF(B134=\"\",\"\",VLOOKUP(B134&\"\",'Fichero de Jugadores'!$A$2:$J$5142,10,0))","v":""},{"$f":"IF(C134=\"\",\"\",VLOOKUP(A134&\"\",'Fichero de Jugadores'!$A$2:$I$5142,7,0))","v":{"$error":"#N/A"}},{"$f":"IF(C134=\"\",\"\",VLOOKUP(B134&\"\",'Fichero de Jugadores'!$A$2:$I$5142,7,0))","v":{"$error":"#N/A"}}]
[null,null,132,{"$f":"IF(A135=\"\",\"\",VLOOKUP(A135&\"\",'Fichero de Jugadores'!$A$2:$H$5142,2,0))","v":""},{"$f":"IF(B135=\"\",\"\",VLOOKUP(B135&\"\",'Fichero de Jugadores'!$A$2:$H$5142,2,0))","v":""},null,{"$f":"IF(A135=\"\",\"\",VLOOKUP(A135&\"\",'Fichero de Jugadores'!$A$2:$H$5142,8,0))","v":""},{"$f":"IF(B135=\"\",\"\",VLOOKUP(B135&\"\",'Fichero de Jugadores'!$A$2:$H$5142,8,0))","v":""},{"$error":"#N/A"},{"$f":"IF(A135=\"\",\"\",VLOOKUP(A135&\"\",'Fichero de Jugadores'!$A$2:$I$5142,9,0))","v":""},{"$f":"IF(B135=\"\",\"\",VLOOKUP(B135&\"\",'Fichero de Jugadores'!$A$2:$I$5142,9,0))","v":""},"",null,null,{"$f":"IF(A135=\"\",\"\",VLOOKUP(A135&\"\",'Fichero de Jugadores'!$A$2:$J$5142,10,0))","v":""},{"$f":"IF(B135=\"\",\"\",VLOOKUP(B135&\"\",'Fichero de Jugadores'!$A$2:$J$5142,10,0))","v":""},{"$f":"IF(C135=\"\",\"\",VLOOKUP(A135&\"\",'Fichero de Jugadores'!$A$2:$I$5142,7,0))","v":{"$error":"#N/A"}},{"$f":"IF(C135=\"\",\"\",VLOOKUP(B135&\"\",'Fichero de Jugadores'!$A$2:$I$5142,7,0))","v":{"$error":"#N/A"}}]
[null,null,133,{"$f":"IF(A136=\"\",\"\",VLOOKUP(A136&\"\",'Fichero de Jugadores'!$A$2:$H$5142,2,0))","v":""},{"$f":"IF(B136=\"\",\"\",VLOOKUP(B136&\"\",'Fichero de Jugadores'!$A$2:$H$5142,2,0))","v":""},null,{"$f":"IF(A136=\"\",\"\",VLOOKUP(A136&\"\",'Fichero de Jugadores'!$A$2:$H$5142,8,0))","v":""},{"$f":"IF(B136=\"\",\"\",VLOOKUP(B136&\"\",'Fichero de Jugadores'!$A$2:$H$5142,8,0))","v":""},{"$error":"#N/A"},{"$f":"IF(A136=\"\",\"\",VLOOKUP(A136&\"\",'Fichero de Jugadores'!$A$2:$I$5142,9,0))","v":""},{"$f":"IF(B136=\"\",\"\",VLOOKUP(B136&\"\",'Fichero de Jugadores'!$A$2:$I$5142,9,0))","v":""},"",null,null,{"$f":"IF(A136=\"\",\"\",VLOOKUP(A136&\"\",'Fichero de Jugadores'!$A$2:$J$5142,10,0))","v":""},{"$f":"IF(B136=\"\",\"\",VLOOKUP(B136&\"\",'Fichero de Jugadores'!$A$2:$J$5142,10,0))","v":""},{"$f":"IF(C136=\"\",\"\",VLOOKUP(A136&\"\",'Fichero de Jugadores'!$A$2:$I$5142,7,0))","v":{"$error":"#N/A"}},{"$f":"IF(C136=\"\",\"\",VLOOKUP(B136&\"\",'Fichero de Jugadores'!$A$2:$I$5142,7,0))","v":{"$error":"#N/A"}}]
[null,null,134,{"$f":"IF(A137=\"\",\"\",VLOOKUP(A137&\"\",'Fichero de Jugadores'!$A$2:$H$5142,2,0))","v":""},{"$f":"IF(B137=\"\",\"\",VLOOKUP(B137&\"\",'Fichero de Jugadores'!$A$2:$H$5142,2,0))","v":""},null,{"$f":"IF(A137=\"\",\"\",VLOOKUP(A137&\"\",'Fichero de Jugadores'!$A$2:$H$5142,8,0))","v":""},{"$f":"IF(B137=\"\",\"\",VLOOKUP(B137&\"\",'Fichero de Jugadores'!$A$2:$H$5142,8,0))","v":""},{"$error":"#N/A"},{"$f":"IF(A137=\"\",\"\",VLOOKUP(A137&\"\",'Fichero de Jugadores'!$A$2:$I$5142,9,0))","v":""},{"$f":"IF(B137=\"\",\"\",VLOOKUP(B137&\"\",'Fichero de Jugadores'!$A$2:$I$5142,9,0))","v":""},"",null,null,{"$f":"IF(A137=\"\",\"\",VLOOKUP(A137&\"\",'Fichero de Jugadores'!$A$2:$J$5142,10,0))","v":""},{"$f":"IF(B137=\"\",\"\",VLOOKUP(B137&\"\",'Fichero de Jugadores'!$A$2:$J$5142,10,0))","v":""},{"$f":"IF(C137=\"\",\"\",VLOOKUP(A137&\"\",'Fichero de Jugadores'!$A$2:$I$5142,7,0))","v":{"$error":"#N/A"}},{"$f":"IF(C137=\"\",\"\",VLOOKUP(B137&\"\",'Fichero de Jugadores'!$A$2:$I$5142,7,0))","v":{"$error":"#N/A"}}]
[null,null,135,{"$f":"IF(A138=\"\",\"\",VLOOKUP(A138&\"\",'Fichero de Jugadores'!$A$2:$H$5142,2,0))","v":""},{"$f":"IF(B138=\"\",\"\",VLOOKUP(B138&\"\",'Fichero de Jugadores'!$A$2:$H$5142,2,0))","v":""},null,{"$f":"IF(A138=\"\",\"\",VLOOKUP(A138&\"\",'Fichero de Jugadores'!$A$2:$H$5142,8,0))","v":""},{"$f":"IF(B138=\"\",\"\",VLOOKUP(B138&\"\",'Fichero de Jugadores'!$A$2:$H$5142,8,0))","v":""},{"$error":"#N/A"},{"$f":"IF(A138=\"\",\"\",VLOOKUP(A138&\"\",'Fichero de Jugadores'!$A$2:$I$5142,9,0))","v":""},{"$f":"IF(B138=\"\",\"\",VLOOKUP(B138&\"\",'Fichero de Jugadores'!$A$2:$I$5142,9,0))","v":""},"",null,null,{"$f":"IF(A138=\"\",\"\",VLOOKUP(A138&\"\",'Fichero de Jugadores'!$A$2:$J$5142,10,0))","v":""},{"$f":"IF(B138=\"\",\"\",VLOOKUP(B138&\"\",'Fichero de Jugadores'!$A$2:$J$5142,10,0))","v":""},{"$f":"IF(C138=\"\",\"\",VLOOKUP(A138&\"\",'Fichero de Jugadores'!$A$2:$I$5142,7,0))","v":{"$error":"#N/A"}},{"$f":"IF(C138=\"\",\"\",VLOOKUP(B138&\"\",'Fichero de Jugadores'!$A$2:$I$5142,7,0))","v":{"$error":"#N/A"}}]
[null,null,136,{"$f":"IF(A139=\"\",\"\",VLOOKUP(A139&\"\",'Fichero de Jugadores'!$A$2:$H$5142,2,0))","v":""},{"$f":"IF(B139=\"\",\"\",VLOOKUP(B139&\"\",'Fichero de Jugadores'!$A$2:$H$5142,2,0))","v":""},null,{"$f":"IF(A139=\"\",\"\",VLOOKUP(A139&\"\",'Fichero de Jugadores'!$A$2:$H$5142,8,0))","v":""},{"$f":"IF(B139=\"\",\"\",VLOOKUP(B139&\"\",'Fichero de Jugadores'!$A$2:$H$5142,8,0))","v":""},{"$error":"#N/A"},{"$f":"IF(A139=\"\",\"\",VLOOKUP(A139&\"\",'Fichero de Jugadores'!$A$2:$I$5142,9,0))","v":""},{"$f":"IF(B139=\"\",\"\",VLOOKUP(B139&\"\",'Fichero de Jugadores'!$A$2:$I$5142,9,0))","v":""},"",null,null,{"$f":"IF(A139=\"\",\"\",VLOOKUP(A139&\"\",'Fichero de Jugadores'!$A$2:$J$5142,10,0))","v":""},{"$f":"IF(B139=\"\",\"\",VLOOKUP(B139&\"\",'Fichero de Jugadores'!$A$2:$J$5142,10,0))","v":""},{"$f":"IF(C139=\"\",\"\",VLOOKUP(A139&\"\",'Fichero de Jugadores'!$A$2:$I$5142,7,0))","v":{"$error":"#N/A"}},{"$f":"IF(C139=\"\",\"\",VLOOKUP(B139&\"\",'Fichero de Jugadores'!$A$2:$I$5142,7,0))","v":{"$error":"#N/A"}}]
[null,null,137,{"$f":"IF(A140=\"\",\"\",VLOOKUP(A140&\"\",'Fichero de Jugadores'!$A$2:$H$5142,2,0))","v":""},{"$f":"IF(B140=\"\",\"\",VLOOKUP(B140&\"\",'Fichero de Jugadores'!$A$2:$H$5142,2,0))","v":""},null,{"$f":"IF(A140=\"\",\"\",VLOOKUP(A140&\"\",'Fichero de Jugadores'!$A$2:$H$5142,8,0))","v":""},{"$f":"IF(B140=\"\",\"\",VLOOKUP(B140&\"\",'Fichero de Jugadores'!$A$2:$H$5142,8,0))","v":""},{"$error":"#N/A"},{"$f":"IF(A140=\"\",\"\",VLOOKUP(A140&\"\",'Fichero de Jugadores'!$A$2:$I$5142,9,0))","v":""},{"$f":"IF(B140=\"\",\"\",VLOOKUP(B140&\"\",'Fichero de Jugadores'!$A$2:$I$5142,9,0))","v":""},"",null,null,{"$f":"IF(A140=\"\",\"\",VLOOKUP(A140&\"\",'Fichero de Jugadores'!$A$2:$J$5142,10,0))","v":""},{"$f":"IF(B140=\"\",\"\",VLOOKUP(B140&\"\",'Fichero de Jugadores'!$A$2:$J$5142,10,0))","v":""},{"$f":"IF(C140=\"\",\"\",VLOOKUP(A140&\"\",'Fichero de Jugadores'!$A$2:$I$5142,7,0))","v":{"$error":"#N/A"}},{"$f":"IF(C140=\"\",\"\",VLOOKUP(B140&\"\",'Fichero de Jugadores'!$A$2:$I$5142,7,0))","v":{"$error":"#N/A"}}]
[null,null,138,{"$f":"IF(A141=\"\",\"\",VLOOKUP(A141&\"\",'Fichero de Jugadores'!$A$2:$H$5142,2,0))","v":""},{"$f":"IF(B141=\"\",\"\",VLOOKUP(B141&\"\",'Fichero de Jugadores'!$A$2:$H$5142,2,0))","v":""},null,{"$f":"IF(A141=\"\",\"\",VLOOKUP(A141&\"\",'Fichero de Jugadores'!$A$2:$H$5142,8,0))","v":""},{"$f":"IF(B141=\"\",\"\",VLOOKUP(B141&\"\",'Fichero de Jugadores'!$A$2:$H$5142,8,0))","v":""},{"$error":"#N/A"},{"$f":"IF(A141=\"\",\"\",VLOOKUP(A141&\"\",'Fichero de Jugadores'!$A$2:$I$5142,9,0))","v":""},{"$f":"IF(B141=\"\",\"\",VLOOKUP(B141&\"\",'Fichero de Jugadores'!$A$2:$I$5142,9,0))","v":""},"",null,null,{"$f":"IF(A141=\"\",\"\",VLOOKUP(A141&\"\",'Fichero de Jugadores'!$A$2:$J$5142,10,0))","v":""},{"$f":"IF(B141=\"\",\"\",VLOOKUP(B141&\"\",'Fichero de Jugadores'!$A$2:$J$5142,10,0))","v":""},{"$f":"IF(C141=\"\",\"\",VLOOKUP(A141&\"\",'Fichero de Jugadores'!$A$2:$I$5142,7,0))","v":{"$error":"#N/A"}},{"$f":"IF(C141=\"\",\"\",VLOOKUP(B141&\"\",'Fichero de Jugadores'!$A$2:$I$5142,7,0))","v":{"$error":"#N/A"}}]
[null,null,139,{"$f":"IF(A142=\"\",\"\",VLOOKUP(A142&\"\",'Fichero de Jugadores'!$A$2:$H$5142,2,0))","v":""},{"$f":"IF(B142=\"\",\"\",VLOOKUP(B142&\"\",'Fichero de Jugadores'!$A$2:$H$5142,2,0))","v":""},null,{"$f":"IF(A142=\"\",\"\",VLOOKUP(A142&\"\",'Fichero de Jugadores'!$A$2:$H$5142,8,0))","v":""},{"$f":"IF(B142=\"\",\"\",VLOOKUP(B142&\"\",'Fichero de Jugadores'!$A$2:$H$5142,8,0))","v":""},{"$error":"#N/A"},{"$f":"IF(A142=\"\",\"\",VLOOKUP(A142&\"\",'Fichero de Jugadores'!$A$2:$I$5142,9,0))","v":""},{"$f":"IF(B142=\"\",\"\",VLOOKUP(B142&\"\",'Fichero de Jugadores'!$A$2:$I$5142,9,0))","v":""},"",null,null,{"$f":"IF(A142=\"\",\"\",VLOOKUP(A142&\"\",'Fichero de Jugadores'!$A$2:$J$5142,10,0))","v":""},{"$f":"IF(B142=\"\",\"\",VLOOKUP(B142&\"\",'Fichero de Jugadores'!$A$2:$J$5142,10,0))","v":""},{"$f":"IF(C142=\"\",\"\",VLOOKUP(A142&\"\",'Fichero de Jugadores'!$A$2:$I$5142,7,0))","v":{"$error":"#N/A"}},{"$f":"IF(C142=\"\",\"\",VLOOKUP(B142&\"\",'Fichero de Jugadores'!$A$2:$I$5142,7,0))","v":{"$error":"#N/A"}}]
[null,null,140,{"$f":"IF(A143=\"\",\"\",VLOOKUP(A143&\"\",'Fichero de Jugadores'!$A$2:$H$5142,2,0))","v":""},{"$f":"IF(B143=\"\",\"\",VLOOKUP(B143&\"\",'Fichero de Jugadores'!$A$2:$H$5142,2,0))","v":""},null,{"$f":"IF(A143=\"\",\"\",VLOOKUP(A143&\"\",'Fichero de Jugadores'!$A$2:$H$5142,8,0))","v":""},{"$f":"IF(B143=\"\",\"\",VLOOKUP(B143&\"\",'Fichero de Jugadores'!$A$2:$H$5142,8,0))","v":""},{"$error":"#N/A"},{"$f":"IF(A143=\"\",\"\",VLOOKUP(A143&\"\",'Fichero de Jugadores'!$A$2:$I$5142,9,0))","v":""},{"$f":"IF(B143=\"\",\"\",VLOOKUP(B143&\"\",'Fichero de Jugadores'!$A$2:$I$5142,9,0))","v":""},"",null,null,{"$f":"IF(A143=\"\",\"\",VLOOKUP(A143&\"\",'Fichero de Jugadores'!$A$2:$J$5142,10,0))","v":""},{"$f":"IF(B143=\"\",\"\",VLOOKUP(B143&\"\",'Fichero de Jugadores'!$A$2:$J$5142,10,0))","v":""},{"$f":"IF(C143=\"\",\"\",VLOOKUP(A143&\"\",'Fichero de Jugadores'!$A$2:$I$5142,7,0))","v":{"$error":"#N/A"}},{"$f":"IF(C143=\"\",\"\",VLOOKUP(B143&\"\",'Fichero de Jugadores'!$A$2:$I$5142,7,0))","v":{"$error":"#N/A"}}]
[null,null,141,{"$f":"IF(A144=\"\",\"\",VLOOKUP(A144&\"\",'Fichero de Jugadores'!$A$2:$H$5142,2,0))","v":""},{"$f":"IF(B144=\"\",\"\",VLOOKUP(B144&\"\",'Fichero de Jugadores'!$A$2:$H$5142,2,0))","v":""},null,{"$f":"IF(A144=\"\",\"\",VLOOKUP(A144&\"\",'Fichero de Jugadores'!$A$2:$H$5142,8,0))","v":""},{"$f":"IF(B144=\"\",\"\",VLOOKUP(B144&\"\",'Fichero de Jugadores'!$A$2:$H$5142,8,0))","v":""},{"$error":"#N/A"},{"$f":"IF(A144=\"\",\"\",VLOOKUP(A144&\"\",'Fichero de Jugadores'!$A$2:$I$5142,9,0))","v":""},{"$f":"IF(B144=\"\",\"\",VLOOKUP(B144&\"\",'Fichero de Jugadores'!$A$2:$I$5142,9,0))","v":""},"",null,null,{"$f":"IF(A144=\"\",\"\",VLOOKUP(A144&\"\",'Fichero de Jugadores'!$A$2:$J$5142,10,0))","v":""},{"$f":"IF(B144=\"\",\"\",VLOOKUP(B144&\"\",'Fichero de Jugadores'!$A$2:$J$5142,10,0))","v":""},{"$f":"IF(C144=\"\",\"\",VLOOKUP(A144&\"\",'Fichero de Jugadores'!$A$2:$I$5142,7,0))","v":{"$error":"#N/A"}},{"$f":"IF(C144=\"\",\"\",VLOOKUP(B144&\"\",'Fichero de Jugadores'!$A$2:$I$5142,7,0))","v":{"$error":"#N/A"}}]
[null,null,142,{"$f":"IF(A145=\"\",\"\",VLOOKUP(A145&\"\",'Fichero de Jugadores'!$A$2:$H$5142,2,0))","v":""},{"$f":"IF(B145=\"\",\"\",VLOOKUP(B145&\"\",'Fichero de Jugadores'!$A$2:$H$5142,2,0))","v":""},null,{"$f":"IF(A145=\"\",\"\",VLOOKUP(A145&\"\",'Fichero de Jugadores'!$A$2:$H$5142,8,0))","v":""},{"$f":"IF(B145=\"\",\"\",VLOOKUP(B145&\"\",'Fichero de Jugadores'!$A$2:$H$5142,8,0))","v":""},{"$error":"#N/A"},{"$f":"IF(A145=\"\",\"\",VLOOKUP(A145&\"\",'Fichero de Jugadores'!$A$2:$I$5142,9,0))","v":""},{"$f":"IF(B145=\"\",\"\",VLOOKUP(B145&\"\",'Fichero de Jugadores'!$A$2:$I$5142,9,0))","v":""},"",null,null,{"$f":"IF(A145=\"\",\"\",VLOOKUP(A145&\"\",'Fichero de Jugadores'!$A$2:$J$5142,10,0))","v":""},{"$f":"IF(B145=\"\",\"\",VLOOKUP(B145&\"\",'Fichero de Jugadores'!$A$2:$J$5142,10,0))","v":""},{"$f":"IF(C145=\"\",\"\",VLOOKUP(A145&\"\",'Fichero de Jugadores'!$A$2:$I$5142,7,0))","v":{"$error":"#N/A"}},{"$f":"IF(C145=\"\",\"\",VLOOKUP(B145&\"\",'Fichero de Jugadores'!$A$2:$I$5142,7,0))","v":{"$error":"#N/A"}}]
[null,null,143,{"$f":"IF(A146=\"\",\"\",VLOOKUP(A146&\"\",'Fichero de Jugadores'!$A$2:$H$5142,2,0))","v":""},{"$f":"IF(B146=\"\",\"\",VLOOKUP(B146&\"\",'Fichero de Jugadores'!$A$2:$H$5142,2,0))","v":""},null,{"$f":"IF(A146=\"\",\"\",VLOOKUP(A146&\"\",'Fichero de Jugadores'!$A$2:$H$5142,8,0))","v":""},{"$f":"IF(B146=\"\",\"\",VLOOKUP(B146&\"\",'Fichero de Jugadores'!$A$2:$H$5142,8,0))","v":""},{"$error":"#N/A"},{"$f":"IF(A146=\"\",\"\",VLOOKUP(A146&\"\",'Fichero de Jugadores'!$A$2:$I$5142,9,0))","v":""},{"$f":"IF(B146=\"\",\"\",VLOOKUP(B146&\"\",'Fichero de Jugadores'!$A$2:$I$5142,9,0))","v":""},"",null,null,{"$f":"IF(A146=\"\",\"\",VLOOKUP(A146&\"\",'Fichero de Jugadores'!$A$2:$J$5142,10,0))","v":""},{"$f":"IF(B146=\"\",\"\",VLOOKUP(B146&\"\",'Fichero de Jugadores'!$A$2:$J$5142,10,0))","v":""},{"$f":"IF(C146=\"\",\"\",VLOOKUP(A146&\"\",'Fichero de Jugadores'!$A$2:$I$5142,7,0))","v":{"$error":"#N/A"}},{"$f":"IF(C146=\"\",\"\",VLOOKUP(B146&\"\",'Fichero de Jugadores'!$A$2:$I$5142,7,0))","v":{"$error":"#N/A"}}]
[null,null,144,{"$f":"IF(A147=\"\",\"\",VLOOKUP(A147&\"\",'Fichero de Jugadores'!$A$2:$H$5142,2,0))","v":""},{"$f":"IF(B147=\"\",\"\",VLOOKUP(B147&\"\",'Fichero de Jugadores'!$A$2:$H$5142,2,0))","v":""},null,{"$f":"IF(A147=\"\",\"\",VLOOKUP(A147&\"\",'Fichero de Jugadores'!$A$2:$H$5142,8,0))","v":""},{"$f":"IF(B147=\"\",\"\",VLOOKUP(B147&\"\",'Fichero de Jugadores'!$A$2:$H$5142,8,0))","v":""},{"$error":"#N/A"},{"$f":"IF(A147=\"\",\"\",VLOOKUP(A147&\"\",'Fichero de Jugadores'!$A$2:$I$5142,9,0))","v":""},{"$f":"IF(B147=\"\",\"\",VLOOKUP(B147&\"\",'Fichero de Jugadores'!$A$2:$I$5142,9,0))","v":""},"",null,null,{"$f":"IF(A147=\"\",\"\",VLOOKUP(A147&\"\",'Fichero de Jugadores'!$A$2:$J$5142,10,0))","v":""},{"$f":"IF(B147=\"\",\"\",VLOOKUP(B147&\"\",'Fichero de Jugadores'!$A$2:$J$5142,10,0))","v":""},{"$f":"IF(C147=\"\",\"\",VLOOKUP(A147&\"\",'Fichero de Jugadores'!$A$2:$I$5142,7,0))","v":{"$error":"#N/A"}},{"$f":"IF(C147=\"\",\"\",VLOOKUP(B147&\"\",'Fichero de Jugadores'!$A$2:$I$5142,7,0))","v":{"$error":"#N/A"}}]
[null,null,145,{"$f":"IF(A148=\"\",\"\",VLOOKUP(A148&\"\",'Fichero de Jugadores'!$A$2:$H$5142,2,0))","v":""},{"$f":"IF(B148=\"\",\"\",VLOOKUP(B148&\"\",'Fichero de Jugadores'!$A$2:$H$5142,2,0))","v":""},null,{"$f":"IF(A148=\"\",\"\",VLOOKUP(A148&\"\",'Fichero de Jugadores'!$A$2:$H$5142,8,0))","v":""},{"$f":"IF(B148=\"\",\"\",VLOOKUP(B148&\"\",'Fichero de Jugadores'!$A$2:$H$5142,8,0))","v":""},{"$error":"#N/A"},{"$f":"IF(A148=\"\",\"\",VLOOKUP(A148&\"\",'Fichero de Jugadores'!$A$2:$I$5142,9,0))","v":""},{"$f":"IF(B148=\"\",\"\",VLOOKUP(B148&\"\",'Fichero de Jugadores'!$A$2:$I$5142,9,0))","v":""},"",null,null,{"$f":"IF(A148=\"\",\"\",VLOOKUP(A148&\"\",'Fichero de Jugadores'!$A$2:$J$5142,10,0))","v":""},{"$f":"IF(B148=\"\",\"\",VLOOKUP(B148&\"\",'Fichero de Jugadores'!$A$2:$J$5142,10,0))","v":""},{"$f":"IF(C148=\"\",\"\",VLOOKUP(A148&\"\",'Fichero de Jugadores'!$A$2:$I$5142,7,0))","v":{"$error":"#N/A"}},{"$f":"IF(C148=\"\",\"\",VLOOKUP(B148&\"\",'Fichero de Jugadores'!$A$2:$I$5142,7,0))","v":{"$error":"#N/A"}}]
[null,null,146,{"$f":"IF(A149=\"\",\"\",VLOOKUP(A149&\"\",'Fichero de Jugadores'!$A$2:$H$5142,2,0))","v":""},{"$f":"IF(B149=\"\",\"\",VLOOKUP(B149&\"\",'Fichero de Jugadores'!$A$2:$H$5142,2,0))","v":""},null,{"$f":"IF(A149=\"\",\"\",VLOOKUP(A149&\"\",'Fichero de Jugadores'!$A$2:$H$5142,8,0))","v":""},{"$f":"IF(B149=\"\",\"\",VLOOKUP(B149&\"\",'Fichero de Jugadores'!$A$2:$H$5142,8,0))","v":""},{"$error":"#N/A"},{"$f":"IF(A149=\"\",\"\",VLOOKUP(A149&\"\",'Fichero de Jugadores'!$A$2:$I$5142,9,0))","v":""},{"$f":"IF(B149=\"\",\"\",VLOOKUP(B149&\"\",'Fichero de Jugadores'!$A$2:$I$5142,9,0))","v":""},"",null,null,{"$f":"IF(A149=\"\",\"\",VLOOKUP(A149&\"\",'Fichero de Jugadores'!$A$2:$J$5142,10,0))","v":""},{"$f":"IF(B149=\"\",\"\",VLOOKUP(B149&\"\",'Fichero de Jugadores'!$A$2:$J$5142,10,0))","v":""},{"$f":"IF(C149=\"\",\"\",VLOOKUP(A149&\"\",'Fichero de Jugadores'!$A$2:$I$5142,7,0))","v":{"$error":"#N/A"}},{"$f":"IF(C149=\"\",\"\",VLOOKUP(B149&\"\",'Fichero de Jugadores'!$A$2:$I$5142,7,0))","v":{"$error":"#N/A"}}]
[null,null,147,{"$f":"IF(A150=\"\",\"\",VLOOKUP(A150&\"\",'Fichero de Jugadores'!$A$2:$H$5142,2,0))","v":""},{"$f":"IF(B150=\"\",\"\",VLOOKUP(B150&\"\",'Fichero de Jugadores'!$A$2:$H$5142,2,0))","v":""},null,{"$f":"IF(A150=\"\",\"\",VLOOKUP(A150&\"\",'Fichero de Jugadores'!$A$2:$H$5142,8,0))","v":""},{"$f":"IF(B150=\"\",\"\",VLOOKUP(B150&\"\",'Fichero de Jugadores'!$A$2:$H$5142,8,0))","v":""},{"$error":"#N/A"},{"$f":"IF(A150=\"\",\"\",VLOOKUP(A150&\"\",'Fichero de Jugadores'!$A$2:$I$5142,9,0))","v":""},{"$f":"IF(B150=\"\",\"\",VLOOKUP(B150&\"\",'Fichero de Jugadores'!$A$2:$I$5142,9,0))","v":""},"",null,null,{"$f":"IF(A150=\"\",\"\",VLOOKUP(A150&\"\",'Fichero de Jugadores'!$A$2:$J$5142,10,0))","v":""},{"$f":"IF(B150=\"\",\"\",VLOOKUP(B150&\"\",'Fichero de Jugadores'!$A$2:$J$5142,10,0))","v":""},{"$f":"IF(C150=\"\",\"\",VLOOKUP(A150&\"\",'Fichero de Jugadores'!$A$2:$I$5142,7,0))","v":{"$error":"#N/A"}},{"$f":"IF(C150=\"\",\"\",VLOOKUP(B150&\"\",'Fichero de Jugadores'!$A$2:$I$5142,7,0))","v":{"$error":"#N/A"}}]
[null,null,148,{"$f":"IF(A151=\"\",\"\",VLOOKUP(A151&\"\",'Fichero de Jugadores'!$A$2:$H$5142,2,0))","v":""},{"$f":"IF(B151=\"\",\"\",VLOOKUP(B151&\"\",'Fichero de Jugadores'!$A$2:$H$5142,2,0))","v":""},null,{"$f":"IF(A151=\"\",\"\",VLOOKUP(A151&\"\",'Fichero de Jugadores'!$A$2:$H$5142,8,0))","v":""},{"$f":"IF(B151=\"\",\"\",VLOOKUP(B151&\"\",'Fichero de Jugadores'!$A$2:$H$5142,8,0))","v":""},{"$error":"#N/A"},{"$f":"IF(A151=\"\",\"\",VLOOKUP(A151&\"\",'Fichero de Jugadores'!$A$2:$I$5142,9,0))","v":""},{"$f":"IF(B151=\"\",\"\",VLOOKUP(B151&\"\",'Fichero de Jugadores'!$A$2:$I$5142,9,0))","v":""},"",null,null,{"$f":"IF(A151=\"\",\"\",VLOOKUP(A151&\"\",'Fichero de Jugadores'!$A$2:$J$5142,10,0))","v":""},{"$f":"IF(B151=\"\",\"\",VLOOKUP(B151&\"\",'Fichero de Jugadores'!$A$2:$J$5142,10,0))","v":""},{"$f":"IF(C151=\"\",\"\",VLOOKUP(A151&\"\",'Fichero de Jugadores'!$A$2:$I$5142,7,0))","v":{"$error":"#N/A"}},{"$f":"IF(C151=\"\",\"\",VLOOKUP(B151&\"\",'Fichero de Jugadores'!$A$2:$I$5142,7,0))","v":{"$error":"#N/A"}}]
[null,null,149,{"$f":"IF(A152=\"\",\"\",VLOOKUP(A152&\"\",'Fichero de Jugadores'!$A$2:$H$5142,2,0))","v":""},{"$f":"IF(B152=\"\",\"\",VLOOKUP(B152&\"\",'Fichero de Jugadores'!$A$2:$H$5142,2,0))","v":""},null,{"$f":"IF(A152=\"\",\"\",VLOOKUP(A152&\"\",'Fichero de Jugadores'!$A$2:$H$5142,8,0))","v":""},{"$f":"IF(B152=\"\",\"\",VLOOKUP(B152&\"\",'Fichero de Jugadores'!$A$2:$H$5142,8,0))","v":""},{"$error":"#N/A"},{"$f":"IF(A152=\"\",\"\",VLOOKUP(A152&\"\",'Fichero de Jugadores'!$A$2:$I$5142,9,0))","v":""},{"$f":"IF(B152=\"\",\"\",VLOOKUP(B152&\"\",'Fichero de Jugadores'!$A$2:$I$5142,9,0))","v":""},"",null,null,{"$f":"IF(A152=\"\",\"\",VLOOKUP(A152&\"\",'Fichero de Jugadores'!$A$2:$J$5142,10,0))","v":""},{"$f":"IF(B152=\"\",\"\",VLOOKUP(B152&\"\",'Fichero de Jugadores'!$A$2:$J$5142,10,0))","v":""},{"$f":"IF(C152=\"\",\"\",VLOOKUP(A152&\"\",'Fichero de Jugadores'!$A$2:$I$5142,7,0))","v":{"$error":"#N/A"}},{"$f":"IF(C152=\"\",\"\",VLOOKUP(B152&\"\",'Fichero de Jugadores'!$A$2:$I$5142,7,0))","v":{"$error":"#N/A"}}]
[null,null,150,{"$f":"IF(A153=\"\",\"\",VLOOKUP(A153&\"\",'Fichero de Jugadores'!$A$2:$H$5142,2,0))","v":""},{"$f":"IF(B153=\"\",\"\",VLOOKUP(B153&\"\",'Fichero de Jugadores'!$A$2:$H$5142,2,0))","v":""},null,{"$f":"IF(A153=\"\",\"\",VLOOKUP(A153&\"\",'Fichero de Jugadores'!$A$2:$H$5142,8,0))","v":""},{"$f":"IF(B153=\"\",\"\",VLOOKUP(B153&\"\",'Fichero de Jugadores'!$A$2:$H$5142,8,0))","v":""},{"$error":"#N/A"},{"$f":"IF(A153=\"\",\"\",VLOOKUP(A153&\"\",'Fichero de Jugadores'!$A$2:$I$5142,9,0))","v":""},{"$f":"IF(B153=\"\",\"\",VLOOKUP(B153&\"\",'Fichero de Jugadores'!$A$2:$I$5142,9,0))","v":""},"",null,null,{"$f":"IF(A153=\"\",\"\",VLOOKUP(A153&\"\",'Fichero de Jugadores'!$A$2:$J$5142,10,0))","v":""},{"$f":"IF(B153=\"\",\"\",VLOOKUP(B153&\"\",'Fichero de Jugadores'!$A$2:$J$5142,10,0))","v":""},{"$f":"IF(C153=\"\",\"\",VLOOKUP(A153&\"\",'Fichero de Jugadores'!$A$2:$I$5142,7,0))","v":{"$error":"#N/A"}},{"$f":"IF(C153=\"\",\"\",VLOOKUP(B153&\"\",'Fichero de Jugadores'!$A$2:$I$5142,7,0))","v":{"$error":"#N/A"}}]
[null,null,151,{"$f":"IF(A154=\"\",\"\",VLOOKUP(A154&\"\",'Fichero de Jugadores'!$A$2:$H$5142,2,0))","v":""},{"$f":"IF(B154=\"\",\"\",VLOOKUP(B154&\"\",'Fichero de Jugadores'!$A$2:$H$5142,2,0))","v":""},null,{"$f":"IF(A154=\"\",\"\",VLOOKUP(A154&\"\",'Fichero de Jugadores'!$A$2:$H$5142,8,0))","v":""},{"$f":"IF(B154=\"\",\"\",VLOOKUP(B154&\"\",'Fichero de Jugadores'!$A$2:$H$5142,8,0))","v":""},{"$error":"#N/A"},{"$f":"IF(A154=\"\",\"\",VLOOKUP(A154&\"\",'Fichero de Jugadores'!$A$2:$I$5142,9,0))","v":""},{"$f":"IF(B154=\"\",\"\",VLOOKUP(B154&\"\",'Fichero de Jugadores'!$A$2:$I$5142,9,0))","v":""},"",null,null,{"$f":"IF(A154=\"\",\"\",VLOOKUP(A154&\"\",'Fichero de Jugadores'!$A$2:$J$5142,10,0))","v":""},{"$f":"IF(B154=\"\",\"\",VLOOKUP(B154&\"\",'Fichero de Jugadores'!$A$2:$J$5142,10,0))","v":""},{"$f":"IF(C154=\"\",\"\",VLOOKUP(A154&\"\",'Fichero de Jugadores'!$A$2:$I$5142,7,0))","v":{"$error":"#N/A"}},{"$f":"IF(C154=\"\",\"\",VLOOKUP(B154&\"\",'Fichero de Jugadores'!$A$2:$I$5142,7,0))","v":{"$error":"#N/A"}}]
[null,null,152,{"$f":"IF(A155=\"\",\"\",VLOOKUP(A155&\"\",'Fichero de Jugadores'!$A$2:$H$5142,2,0))","v":""},{"$f":"IF(B155=\"\",\"\",VLOOKUP(B155&\"\",'Fichero de Jugadores'!$A$2:$H$5142,2,0))","v":""},null,{"$f":"IF(A155=\"\",\"\",VLOOKUP(A155&\"\",'Fichero de Jugadores'!$A$2:$H$5142,8,0))","v":""},{"$f":"IF(B155=\"\",\"\",VLOOKUP(B155&\"\",'Fichero de Jugadores'!$A$2:$H$5142,8,0))","v":""},{"$error":"#N/A"},{"$f":"IF(A155=\"\",\"\",VLOOKUP(A155&\"\",'Fichero de Jugadores'!$A$2:$I$5142,9,0))","v":""},{"$f":"IF(B155=\"\",\"\",VLOOKUP(B155&\"\",'Fichero de Jugadores'!$A$2:$I$5142,9,0))","v":""},"",null,null,{"$f":"IF(A155=\"\",\"\",VLOOKUP(A155&\"\",'Fichero de Jugadores'!$A$2:$J$5142,10,0))","v":""},{"$f":"IF(B155=\"\",\"\",VLOOKUP(B155&\"\",'Fichero de Jugadores'!$A$2:$J$5142,10,0))","v":""},{"$f":"IF(C155=\"\",\"\",VLOOKUP(A155&\"\",'Fichero de Jugadores'!$A$2:$I$5142,7,0))","v":{"$error":"#N/A"}},{"$f":"IF(C155=\"\",\"\",VLOOKUP(B155&\"\",'Fichero de Jugadores'!$A$2:$I$5142,7,0))","v":{"$error":"#N/A"}}]
[null,null,153,{"$f":"IF(A156=\"\",\"\",VLOOKUP(A156&\"\",'Fichero de Jugadores'!$A$2:$H$5142,2,0))","v":""},{"$f":"IF(B156=\"\",\"\",VLOOKUP(B156&\"\",'Fichero de Jugadores'!$A$2:$H$5142,2,0))","v":""},null,{"$f":"IF(A156=\"\",\"\",VLOOKUP(A156&\"\",'Fichero de Jugadores'!$A$2:$H$5142,8,0))","v":""},{"$f":"IF(B156=\"\",\"\",VLOOKUP(B156&\"\",'Fichero de Jugadores'!$A$2:$H$5142,8,0))","v":""},{"$error":"#N/A"},{"$f":"IF(A156=\"\",\"\",VLOOKUP(A156&\"\",'Fichero de Jugadores'!$A$2:$I$5142,9,0))","v":""},{"$f":"IF(B156=\"\",\"\",VLOOKUP(B156&\"\",'Fichero de Jugadores'!$A$2:$I$5142,9,0))","v":""},"",null,null,{"$f":"IF(A156=\"\",\"\",VLOOKUP(A156&\"\",'Fichero de Jugadores'!$A$2:$J$5142,10,0))","v":""},{"$f":"IF(B156=\"\",\"\",VLOOKUP(B156&\"\",'Fichero de Jugadores'!$A$2:$J$5142,10,0))","v":""},{"$f":"IF(C156=\"\",\"\",VLOOKUP(A156&\"\",'Fichero de Jugadores'!$A$2:$I$5142,7,0))","v":{"$error":"#N/A"}},{"$f":"IF(C156=\"\",\"\",VLOOKUP(B156&\"\",'Fichero de Jugadores'!$A$2:$I$5142,7,0))","v":{"$error":"#N/A"}}]
[null,null,154,{"$f":"IF(A157=\"\",\"\",VLOOKUP(A157&\"\",'Fichero de Jugadores'!$A$2:$H$5142,2,0))","v":""},{"$f":"IF(B157=\"\",\"\",VLOOKUP(B157&\"\",'Fichero de Jugadores'!$A$2:$H$5142,2,0))","v":""},null,{"$f":"IF(A157=\"\",\"\",VLOOKUP(A157&\"\",'Fichero de Jugadores'!$A$2:$H$5142,8,0))","v":""},{"$f":"IF(B157=\"\",\"\",VLOOKUP(B157&\"\",'Fichero de Jugadores'!$A$2:$H$5142,8,0))","v":""},{"$error":"#N/A"},{"$f":"IF(A157=\"\",\"\",VLOOKUP(A157&\"\",'Fichero de Jugadores'!$A$2:$I$5142,9,0))","v":""},{"$f":"IF(B157=\"\",\"\",VLOOKUP(B157&\"\",'Fichero de Jugadores'!$A$2:$I$5142,9,0))","v":""},"",null,null,{"$f":"IF(A157=\"\",\"\",VLOOKUP(A157&\"\",'Fichero de Jugadores'!$A$2:$J$5142,10,0))","v":""},{"$f":"IF(B157=\"\",\"\",VLOOKUP(B157&\"\",'Fichero de Jugadores'!$A$2:$J$5142,10,0))","v":""},{"$f":"IF(C157=\"\",\"\",VLOOKUP(A157&\"\",'Fichero de Jugadores'!$A$2:$I$5142,7,0))","v":{"$error":"#N/A"}},{"$f":"IF(C157=\"\",\"\",VLOOKUP(B157&\"\",'Fichero de Jugadores'!$A$2:$I$5142,7,0))","v":{"$error":"#N/A"}}]
[null,null,155,{"$f":"IF(A158=\"\",\"\",VLOOKUP(A158&\"\",'Fichero de Jugadores'!$A$2:$H$5142,2,0))","v":""},{"$f":"IF(B158=\"\",\"\",VLOOKUP(B158&\"\",'Fichero de Jugadores'!$A$2:$H$5142,2,0))","v":""},null,{"$f":"IF(A158=\"\",\"\",VLOOKUP(A158&\"\",'Fichero de Jugadores'!$A$2:$H$5142,8,0))","v":""},{"$f":"IF(B158=\"\",\"\",VLOOKUP(B158&\"\",'Fichero de Jugadores'!$A$2:$H$5142,8,0))","v":""},{"$error":"#N/A"},{"$f":"IF(A158=\"\",\"\",VLOOKUP(A158&\"\",'Fichero de Jugadores'!$A$2:$I$5142,9,0))","v":""},{"$f":"IF(B158=\"\",\"\",VLOOKUP(B158&\"\",'Fichero de Jugadores'!$A$2:$I$5142,9,0))","v":""},"",null,null,{"$f":"IF(A158=\"\",\"\",VLOOKUP(A158&\"\",'Fichero de Jugadores'!$A$2:$J$5142,10,0))","v":""},{"$f":"IF(B158=\"\",\"\",VLOOKUP(B158&\"\",'Fichero de Jugadores'!$A$2:$J$5142,10,0))","v":""},{"$f":"IF(C158=\"\",\"\",VLOOKUP(A158&\"\",'Fichero de Jugadores'!$A$2:$I$5142,7,0))","v":{"$error":"#N/A"}},{"$f":"IF(C158=\"\",\"\",VLOOKUP(B158&\"\",'Fichero de Jugadores'!$A$2:$I$5142,7,0))","v":{"$error":"#N/A"}}]
[null,null,156,{"$f":"IF(A159=\"\",\"\",VLOOKUP(A159&\"\",'Fichero de Jugadores'!$A$2:$H$5142,2,0))","v":""},{"$f":"IF(B159=\"\",\"\",VLOOKUP(B159&\"\",'Fichero de Jugadores'!$A$2:$H$5142,2,0))","v":""},null,{"$f":"IF(A159=\"\",\"\",VLOOKUP(A159&\"\",'Fichero de Jugadores'!$A$2:$H$5142,8,0))","v":""},{"$f":"IF(B159=\"\",\"\",VLOOKUP(B159&\"\",'Fichero de Jugadores'!$A$2:$H$5142,8,0))","v":""},{"$error":"#N/A"},{"$f":"IF(A159=\"\",\"\",VLOOKUP(A159&\"\",'Fichero de Jugadores'!$A$2:$I$5142,9,0))","v":""},{"$f":"IF(B159=\"\",\"\",VLOOKUP(B159&\"\",'Fichero de Jugadores'!$A$2:$I$5142,9,0))","v":""},"",null,null,{"$f":"IF(A159=\"\",\"\",VLOOKUP(A159&\"\",'Fichero de Jugadores'!$A$2:$J$5142,10,0))","v":""},{"$f":"IF(B159=\"\",\"\",VLOOKUP(B159&\"\",'Fichero de Jugadores'!$A$2:$J$5142,10,0))","v":""},{"$f":"IF(C159=\"\",\"\",VLOOKUP(A159&\"\",'Fichero de Jugadores'!$A$2:$I$5142,7,0))","v":{"$error":"#N/A"}},{"$f":"IF(C159=\"\",\"\",VLOOKUP(B159&\"\",'Fichero de Jugadores'!$A$2:$I$5142,7,0))","v":{"$error":"#N/A"}}]
[null,null,157,{"$f":"IF(A160=\"\",\"\",VLOOKUP(A160&\"\",'Fichero de Jugadores'!$A$2:$H$5142,2,0))","v":""},{"$f":"IF(B160=\"\",\"\",VLOOKUP(B160&\"\",'Fichero de Jugadores'!$A$2:$H$5142,2,0))","v":""},null,{"$f":"IF(A160=\"\",\"\",VLOOKUP(A160&\"\",'Fichero de Jugadores'!$A$2:$H$5142,8,0))","v":""},{"$f":"IF(B160=\"\",\"\",VLOOKUP(B160&\"\",'Fichero de Jugadores'!$A$2:$H$5142,8,0))","v":""},{"$error":"#N/A"},{"$f":"IF(A160=\"\",\"\",VLOOKUP(A160&\"\",'Fichero de Jugadores'!$A$2:$I$5142,9,0))","v":""},{"$f":"IF(B160=\"\",\"\",VLOOKUP(B160&\"\",'Fichero de Jugadores'!$A$2:$I$5142,9,0))","v":""},"",null,null,{"$f":"IF(A160=\"\",\"\",VLOOKUP(A160&\"\",'Fichero de Jugadores'!$A$2:$J$5142,10,0))","v":""},{"$f":"IF(B160=\"\",\"\",VLOOKUP(B160&\"\",'Fichero de Jugadores'!$A$2:$J$5142,10,0))","v":""},{"$f":"IF(C160=\"\",\"\",VLOOKUP(A160&\"\",'Fichero de Jugadores'!$A$2:$I$5142,7,0))","v":{"$error":"#N/A"}},{"$f":"IF(C160=\"\",\"\",VLOOKUP(B160&\"\",'Fichero de Jugadores'!$A$2:$I$5142,7,0))","v":{"$error":"#N/A"}}]
[null,null,158,{"$f":"IF(A161=\"\",\"\",VLOOKUP(A161&\"\",'Fichero de Jugadores'!$A$2:$H$5142,2,0))","v":""},{"$f":"IF(B161=\"\",\"\",VLOOKUP(B161&\"\",'Fichero de Jugadores'!$A$2:$H$5142,2,0))","v":""},null,{"$f":"IF(A161=\"\",\"\",VLOOKUP(A161&\"\",'Fichero de Jugadores'!$A$2:$H$5142,8,0))","v":""},{"$f":"IF(B161=\"\",\"\",VLOOKUP(B161&\"\",'Fichero de Jugadores'!$A$2:$H$5142,8,0))","v":""},{"$error":"#N/A"},{"$f":"IF(A161=\"\",\"\",VLOOKUP(A161&\"\",'Fichero de Jugadores'!$A$2:$I$5142,9,0))","v":""},{"$f":"IF(B161=\"\",\"\",VLOOKUP(B161&\"\",'Fichero de Jugadores'!$A$2:$I$5142,9,0))","v":""},"",null,null,{"$f":"IF(A161=\"\",\"\",VLOOKUP(A161&\"\",'Fichero de Jugadores'!$A$2:$J$5142,10,0))","v":""},{"$f":"IF(B161=\"\",\"\",VLOOKUP(B161&\"\",'Fichero de Jugadores'!$A$2:$J$5142,10,0))","v":""},{"$f":"IF(C161=\"\",\"\",VLOOKUP(A161&\"\",'Fichero de Jugadores'!$A$2:$I$5142,7,0))","v":{"$error":"#N/A"}},{"$f":"IF(C161=\"\",\"\",VLOOKUP(B161&\"\",'Fichero de Jugadores'!$A$2:$I$5142,7,0))","v":{"$error":"#N/A"}}]
[null,null,159,{"$f":"IF(A162=\"\",\"\",VLOOKUP(A162&\"\",'Fichero de Jugadores'!$A$2:$H$5142,2,0))","v":""},{"$f":"IF(B162=\"\",\"\",VLOOKUP(B162&\"\",'Fichero de Jugadores'!$A$2:$H$5142,2,0))","v":""},null,{"$f":"IF(A162=\"\",\"\",VLOOKUP(A162&\"\",'Fichero de Jugadores'!$A$2:$H$5142,8,0))","v":""},{"$f":"IF(B162=\"\",\"\",VLOOKUP(B162&\"\",'Fichero de Jugadores'!$A$2:$H$5142,8,0))","v":""},{"$error":"#N/A"},{"$f":"IF(A162=\"\",\"\",VLOOKUP(A162&\"\",'Fichero de Jugadores'!$A$2:$I$5142,9,0))","v":""},{"$f":"IF(B162=\"\",\"\",VLOOKUP(B162&\"\",'Fichero de Jugadores'!$A$2:$I$5142,9,0))","v":""},"",null,null,{"$f":"IF(A162=\"\",\"\",VLOOKUP(A162&\"\",'Fichero de Jugadores'!$A$2:$J$5142,10,0))","v":""},{"$f":"IF(B162=\"\",\"\",VLOOKUP(B162&\"\",'Fichero de Jugadores'!$A$2:$J$5142,10,0))","v":""},{"$f":"IF(C162=\"\",\"\",VLOOKUP(A162&\"\",'Fichero de Jugadores'!$A$2:$I$5142,7,0))","v":{"$error":"#N/A"}},{"$f":"IF(C162=\"\",\"\",VLOOKUP(B162&\"\",'Fichero de Jugadores'!$A$2:$I$5142,7,0))","v":{"$error":"#N/A"}}]
[null,null,160,{"$f":"IF(A163=\"\",\"\",VLOOKUP(A163&\"\",'Fichero de Jugadores'!$A$2:$H$5142,2,0))","v":""},{"$f":"IF(B163=\"\",\"\",VLOOKUP(B163&\"\",'Fichero de Jugadores'!$A$2:$H$5142,2,0))","v":""},null,{"$f":"IF(A163=\"\",\"\",VLOOKUP(A163&\"\",'Fichero de Jugadores'!$A$2:$H$5142,8,0))","v":""},{"$f":"IF(B163=\"\",\"\",VLOOKUP(B163&\"\",'Fichero de Jugadores'!$A$2:$H$5142,8,0))","v":""},{"$error":"#N/A"},{"$f":"IF(A163=\"\",\"\",VLOOKUP(A163&\"\",'Fichero de Jugadores'!$A$2:$I$5142,9,0))","v":""},{"$f":"IF(B163=\"\",\"\",VLOOKUP(B163&\"\",'Fichero de Jugadores'!$A$2:$I$5142,9,0))","v":""},"",null,null,{"$f":"IF(A163=\"\",\"\",VLOOKUP(A163&\"\",'Fichero de Jugadores'!$A$2:$J$5142,10,0))","v":""},{"$f":"IF(B163=\"\",\"\",VLOOKUP(B163&\"\",'Fichero de Jugadores'!$A$2:$J$5142,10,0))","v":""},{"$f":"IF(C163=\"\",\"\",VLOOKUP(A163&\"\",'Fichero de Jugadores'!$A$2:$I$5142,7,0))","v":{"$error":"#N/A"}},{"$f":"IF(C163=\"\",\"\",VLOOKUP(B163&\"\",'Fichero de Jugadores'!$A$2:$I$5142,7,0))","v":{"$error":"#N/A"}}]
[null,null,161,{"$f":"IF(A164=\"\",\"\",VLOOKUP(A164&\"\",'Fichero de Jugadores'!$A$2:$H$5142,2,0))","v":""},{"$f":"IF(B164=\"\",\"\",VLOOKUP(B164&\"\",'Fichero de Jugadores'!$A$2:$H$5142,2,0))","v":""},null,{"$f":"IF(A164=\"\",\"\",VLOOKUP(A164&\"\",'Fichero de Jugadores'!$A$2:$H$5142,8,0))","v":""},{"$f":"IF(B164=\"\",\"\",VLOOKUP(B164&\"\",'Fichero de Jugadores'!$A$2:$H$5142,8,0))","v":""},{"$error":"#N/A"},{"$f":"IF(A164=\"\",\"\",VLOOKUP(A164&\"\",'Fichero de Jugadores'!$A$2:$I$5142,9,0))","v":""},{"$f":"IF(B164=\"\",\"\",VLOOKUP(B164&\"\",'Fichero de Jugadores'!$A$2:$I$5142,9,0))","v":""},"",null,null,{"$f":"IF(A164=\"\",\"\",VLOOKUP(A164&\"\",'Fichero de Jugadores'!$A$2:$J$5142,10,0))","v":""},{"$f":"IF(B164=\"\",\"\",VLOOKUP(B164&\"\",'Fichero de Jugadores'!$A$2:$J$5142,10,0))","v":""},{"$f":"IF(C164=\"\",\"\",VLOOKUP(A164&\"\",'Fichero de Jugadores'!$A$2:$I$5142,7,0))","v":{"$error":"#N/A"}},{"$f":"IF(C164=\"\",\"\",VLOOKUP(B164&\"\",'Fichero de Jugadores'!$A$2:$I$5142,7,0))","v":{"$error":"#N/A"}}]
[null,null,162,{"$f":"IF(A165=\"\",\"\",VLOOKUP(A165&\"\",'Fichero de Jugadores'!$A$2:$H$5142,2,0))","v":""},{"$f":"IF(B165=\"\",\"\",VLOOKUP(B165&\"\",'Fichero de Jugadores'!$A$2:$H$5142,2,0))","v":""},null,{"$f":"IF(A165=\"\",\"\",VLOOKUP(A165&\"\",'Fichero de Jugadores'!$A$2:$H$5142,8,0))","v":""},{"$f":"IF(B165=\"\",\"\",VLOOKUP(B165&\"\",'Fichero de Jugadores'!$A$2:$H$5142,8,0))","v":""},{"$error":"#N/A"},{"$f":"IF(A165=\"\",\"\",VLOOKUP(A165&\"\",'Fichero de Jugadores'!$A$2:$I$5142,9,0))","v":""},{"$f":"IF(B165=\"\",\"\",VLOOKUP(B165&\"\",'Fichero de Jugadores'!$A$2:$I$5142,9,0))","v":""},"",null,null,{"$f":"IF(A165=\"\",\"\",VLOOKUP(A165&\"\",'Fichero de Jugadores'!$A$2:$J$5142,10,0))","v":""},{"$f":"IF(B165=\"\",\"\",VLOOKUP(B165&\"\",'Fichero de Jugadores'!$A$2:$J$5142,10,0))","v":""},{"$f":"IF(C165=\"\",\"\",VLOOKUP(A165&\"\",'Fichero de Jugadores'!$A$2:$I$5142,7,0))","v":{"$error":"#N/A"}},{"$f":"IF(C165=\"\",\"\",VLOOKUP(B165&\"\",'Fichero de Jugadores'!$A$2:$I$5142,7,0))","v":{"$error":"#N/A"}}]
[null,null,163,{"$f":"IF(A166=\"\",\"\",VLOOKUP(A166&\"\",'Fichero de Jugadores'!$A$2:$H$5142,2,0))","v":""},{"$f":"IF(B166=\"\",\"\",VLOOKUP(B166&\"\",'Fichero de Jugadores'!$A$2:$H$5142,2,0))","v":""},null,{"$f":"IF(A166=\"\",\"\",VLOOKUP(A166&\"\",'Fichero de Jugadores'!$A$2:$H$5142,8,0))","v":""},{"$f":"IF(B166=\"\",\"\",VLOOKUP(B166&\"\",'Fichero de Jugadores'!$A$2:$H$5142,8,0))","v":""},{"$error":"#N/A"},{"$f":"IF(A166=\"\",\"\",VLOOKUP(A166&\"\",'Fichero de Jugadores'!$A$2:$I$5142,9,0))","v":""},{"$f":"IF(B166=\"\",\"\",VLOOKUP(B166&\"\",'Fichero de Jugadores'!$A$2:$I$5142,9,0))","v":""},"",null,null,{"$f":"IF(A166=\"\",\"\",VLOOKUP(A166&\"\",'Fichero de Jugadores'!$A$2:$J$5142,10,0))","v":""},{"$f":"IF(B166=\"\",\"\",VLOOKUP(B166&\"\",'Fichero de Jugadores'!$A$2:$J$5142,10,0))","v":""},{"$f":"IF(C166=\"\",\"\",VLOOKUP(A166&\"\",'Fichero de Jugadores'!$A$2:$I$5142,7,0))","v":{"$error":"#N/A"}},{"$f":"IF(C166=\"\",\"\",VLOOKUP(B166&\"\",'Fichero de Jugadores'!$A$2:$I$5142,7,0))","v":{"$error":"#N/A"}}]
[null,null,164,{"$f":"IF(A167=\"\",\"\",VLOOKUP(A167&\"\",'Fichero de Jugadores'!$A$2:$H$5142,2,0))","v":""},{"$f":"IF(B167=\"\",\"\",VLOOKUP(B167&\"\",'Fichero de Jugadores'!$A$2:$H$5142,2,0))","v":""},null,{"$f":"IF(A167=\"\",\"\",VLOOKUP(A167&\"\",'Fichero de Jugadores'!$A$2:$H$5142,8,0))","v":""},{"$f":"IF(B167=\"\",\"\",VLOOKUP(B167&\"\",'Fichero de Jugadores'!$A$2:$H$5142,8,0))","v":""},{"$error":"#N/A"},{"$f":"IF(A167=\"\",\"\",VLOOKUP(A167&\"\",'Fichero de Jugadores'!$A$2:$I$5142,9,0))","v":""},{"$f":"IF(B167=\"\",\"\",VLOOKUP(B167&\"\",'Fichero de Jugadores'!$A$2:$I$5142,9,0))","v":""},"",null,null,{"$f":"IF(A167=\"\",\"\",VLOOKUP(A167&\"\",'Fichero de Jugadores'!$A$2:$J$5142,10,0))","v":""},{"$f":"IF(B167=\"\",\"\",VLOOKUP(B167&\"\",'Fichero de Jugadores'!$A$2:$J$5142,10,0))","v":""},{"$f":"IF(C167=\"\",\"\",VLOOKUP(A167&\"\",'Fichero de Jugadores'!$A$2:$I$5142,7,0))","v":{"$error":"#N/A"}},{"$f":"IF(C167=\"\",\"\",VLOOKUP(B167&\"\",'Fichero de Jugadores'!$A$2:$I$5142,7,0))","v":{"$error":"#N/A"}}]
[null,null,165,{"$f":"IF(A168=\"\",\"\",VLOOKUP(A168&\"\",'Fichero de Jugadores'!$A$2:$H$5142,2,0))","v":""},{"$f":"IF(B168=\"\",\"\",VLOOKUP(B168&\"\",'Fichero de Jugadores'!$A$2:$H$5142,2,0))","v":""},null,{"$f":"IF(A168=\"\",\"\",VLOOKUP(A168&\"\",'Fichero de Jugadores'!$A$2:$H$5142,8,0))","v":""},{"$f":"IF(B168=\"\",\"\",VLOOKUP(B168&\"\",'Fichero de Jugadores'!$A$2:$H$5142,8,0))","v":""},{"$error":"#N/A"},{"$f":"IF(A168=\"\",\"\",VLOOKUP(A168&\"\",'Fichero de Jugadores'!$A$2:$I$5142,9,0))","v":""},{"$f":"IF(B168=\"\",\"\",VLOOKUP(B168&\"\",'Fichero de Jugadores'!$A$2:$I$5142,9,0))","v":""},"",null,null,{"$f":"IF(A168=\"\",\"\",VLOOKUP(A168&\"\",'Fichero de Jugadores'!$A$2:$J$5142,10,0))","v":""},{"$f":"IF(B168=\"\",\"\",VLOOKUP(B168&\"\",'Fichero de Jugadores'!$A$2:$J$5142,10,0))","v":""},{"$f":"IF(C168=\"\",\"\",VLOOKUP(A168&\"\",'Fichero de Jugadores'!$A$2:$I$5142,7,0))","v":{"$error":"#N/A"}},{"$f":"IF(C168=\"\",\"\",VLOOKUP(B168&\"\",'Fichero de Jugadores'!$A$2:$I$5142,7,0))","v":{"$error":"#N/A"}}]
[null,null,166,{"$f":"IF(A169=\"\",\"\",VLOOKUP(A169&\"\",'Fichero de Jugadores'!$A$2:$H$5142,2,0))","v":""},{"$f":"IF(B169=\"\",\"\",VLOOKUP(B169&\"\",'Fichero de Jugadores'!$A$2:$H$5142,2,0))","v":""},null,{"$f":"IF(A169=\"\",\"\",VLOOKUP(A169&\"\",'Fichero de Jugadores'!$A$2:$H$5142,8,0))","v":""},{"$f":"IF(B169=\"\",\"\",VLOOKUP(B169&\"\",'Fichero de Jugadores'!$A$2:$H$5142,8,0))","v":""},{"$error":"#N/A"},{"$f":"IF(A169=\"\",\"\",VLOOKUP(A169&\"\",'Fichero de Jugadores'!$A$2:$I$5142,9,0))","v":""},{"$f":"IF(B169=\"\",\"\",VLOOKUP(B169&\"\",'Fichero de Jugadores'!$A$2:$I$5142,9,0))","v":""},"",null,null,{"$f":"IF(A169=\"\",\"\",VLOOKUP(A169&\"\",'Fichero de Jugadores'!$A$2:$J$5142,10,0))","v":""},{"$f":"IF(B169=\"\",\"\",VLOOKUP(B169&\"\",'Fichero de Jugadores'!$A$2:$J$5142,10,0))","v":""},{"$f":"IF(C169=\"\",\"\",VLOOKUP(A169&\"\",'Fichero de Jugadores'!$A$2:$I$5142,7,0))","v":{"$error":"#N/A"}},{"$f":"IF(C169=\"\",\"\",VLOOKUP(B169&\"\",'Fichero de Jugadores'!$A$2:$I$5142,7,0))","v":{"$error":"#N/A"}}]
[null,null,167,{"$f":"IF(A170=\"\",\"\",VLOOKUP(A170&\"\",'Fichero de Jugadores'!$A$2:$H$5142,2,0))","v":""},{"$f":"IF(B170=\"\",\"\",VLOOKUP(B170&\"\",'Fichero de Jugadores'!$A$2:$H$5142,2,0))","v":""},null,{"$f":"IF(A170=\"\",\"\",VLOOKUP(A170&\"\",'Fichero de Jugadores'!$A$2:$H$5142,8,0))","v":""},{"$f":"IF(B170=\"\",\"\",VLOOKUP(B170&\"\",'Fichero de Jugadores'!$A$2:$H$5142,8,0))","v":""},{"$error":"#N/A"},{"$f":"IF(A170=\"\",\"\",VLOOKUP(A170&\"\",'Fichero de Jugadores'!$A$2:$I$5142,9,0))","v":""},{"$f":"IF(B170=\"\",\"\",VLOOKUP(B170&\"\",'Fichero de Jugadores'!$A$2:$I$5142,9,0))","v":""},"",null,null,{"$f":"IF(A170=\"\",\"\",VLOOKUP(A170&\"\",'Fichero de Jugadores'!$A$2:$J$5142,10,0))","v":""},{"$f":"IF(B170=\"\",\"\",VLOOKUP(B170&\"\",'Fichero de Jugadores'!$A$2:$J$5142,10,0))","v":""},{"$f":"IF(C170=\"\",\"\",VLOOKUP(A170&\"\",'Fichero de Jugadores'!$A$2:$I$5142,7,0))","v":{"$error":"#N/A"}},{"$f":"IF(C170=\"\",\"\",VLOOKUP(B170&\"\",'Fichero de Jugadores'!$A$2:$I$5142,7,0))","v":{"$error":"#N/A"}}]
[null,null,168,{"$f":"IF(A171=\"\",\"\",VLOOKUP(A171&\"\",'Fichero de Jugadores'!$A$2:$H$5142,2,0))","v":""},{"$f":"IF(B171=\"\",\"\",VLOOKUP(B171&\"\",'Fichero de Jugadores'!$A$2:$H$5142,2,0))","v":""},null,{"$f":"IF(A171=\"\",\"\",VLOOKUP(A171&\"\",'Fichero de Jugadores'!$A$2:$H$5142,8,0))","v":""},{"$f":"IF(B171=\"\",\"\",VLOOKUP(B171&\"\",'Fichero de Jugadores'!$A$2:$H$5142,8,0))","v":""},{"$error":"#N/A"},{"$f":"IF(A171=\"\",\"\",VLOOKUP(A171&\"\",'Fichero de Jugadores'!$A$2:$I$5142,9,0))","v":""},{"$f":"IF(B171=\"\",\"\",VLOOKUP(B171&\"\",'Fichero de Jugadores'!$A$2:$I$5142,9,0))","v":""},"",null,null,{"$f":"IF(A171=\"\",\"\",VLOOKUP(A171&\"\",'Fichero de Jugadores'!$A$2:$J$5142,10,0))","v":""},{"$f":"IF(B171=\"\",\"\",VLOOKUP(B171&\"\",'Fichero de Jugadores'!$A$2:$J$5142,10,0))","v":""},{"$f":"IF(C171=\"\",\"\",VLOOKUP(A171&\"\",'Fichero de Jugadores'!$A$2:$I$5142,7,0))","v":{"$error":"#N/A"}},{"$f":"IF(C171=\"\",\"\",VLOOKUP(B171&\"\",'Fichero de Jugadores'!$A$2:$I$5142,7,0))","v":{"$error":"#N/A"}}]
[null,null,169,{"$f":"IF(A172=\"\",\"\",VLOOKUP(A172&\"\",'Fichero de Jugadores'!$A$2:$H$5142,2,0))","v":""},{"$f":"IF(B172=\"\",\"\",VLOOKUP(B172&\"\",'Fichero de Jugadores'!$A$2:$H$5142,2,0))","v":""},null,{"$f":"IF(A172=\"\",\"\",VLOOKUP(A172&\"\",'Fichero de Jugadores'!$A$2:$H$5142,8,0))","v":""},{"$f":"IF(B172=\"\",\"\",VLOOKUP(B172&\"\",'Fichero de Jugadores'!$A$2:$H$5142,8,0))","v":""},{"$error":"#N/A"},{"$f":"IF(A172=\"\",\"\",VLOOKUP(A172&\"\",'Fichero de Jugadores'!$A$2:$I$5142,9,0))","v":""},{"$f":"IF(B172=\"\",\"\",VLOOKUP(B172&\"\",'Fichero de Jugadores'!$A$2:$I$5142,9,0))","v":""},"",null,null,{"$f":"IF(A172=\"\",\"\",VLOOKUP(A172&\"\",'Fichero de Jugadores'!$A$2:$J$5142,10,0))","v":""},{"$f":"IF(B172=\"\",\"\",VLOOKUP(B172&\"\",'Fichero de Jugadores'!$A$2:$J$5142,10,0))","v":""},{"$f":"IF(C172=\"\",\"\",VLOOKUP(A172&\"\",'Fichero de Jugadores'!$A$2:$I$5142,7,0))","v":{"$error":"#N/A"}},{"$f":"IF(C172=\"\",\"\",VLOOKUP(B172&\"\",'Fichero de Jugadores'!$A$2:$I$5142,7,0))","v":{"$error":"#N/A"}}]
[null,null,170,{"$f":"IF(A173=\"\",\"\",VLOOKUP(A173&\"\",'Fichero de Jugadores'!$A$2:$H$5142,2,0))","v":""},{"$f":"IF(B173=\"\",\"\",VLOOKUP(B173&\"\",'Fichero de Jugadores'!$A$2:$H$5142,2,0))","v":""},null,{"$f":"IF(A173=\"\",\"\",VLOOKUP(A173&\"\",'Fichero de Jugadores'!$A$2:$H$5142,8,0))","v":""},{"$f":"IF(B173=\"\",\"\",VLOOKUP(B173&\"\",'Fichero de Jugadores'!$A$2:$H$5142,8,0))","v":""},{"$error":"#N/A"},{"$f":"IF(A173=\"\",\"\",VLOOKUP(A173&\"\",'Fichero de Jugadores'!$A$2:$I$5142,9,0))","v":""},{"$f":"IF(B173=\"\",\"\",VLOOKUP(B173&\"\",'Fichero de Jugadores'!$A$2:$I$5142,9,0))","v":""},"",null,null,{"$f":"IF(A173=\"\",\"\",VLOOKUP(A173&\"\",'Fichero de Jugadores'!$A$2:$J$5142,10,0))","v":""},{"$f":"IF(B173=\"\",\"\",VLOOKUP(B173&\"\",'Fichero de Jugadores'!$A$2:$J$5142,10,0))","v":""},{"$f":"IF(C173=\"\",\"\",VLOOKUP(A173&\"\",'Fichero de Jugadores'!$A$2:$I$5142,7,0))","v":{"$error":"#N/A"}},{"$f":"IF(C173=\"\",\"\",VLOOKUP(B173&\"\",'Fichero de Jugadores'!$A$2:$I$5142,7,0))","v":{"$error":"#N/A"}}]
[null,null,171,{"$f":"IF(A174=\"\",\"\",VLOOKUP(A174&\"\",'Fichero de Jugadores'!$A$2:$H$5142,2,0))","v":""},{"$f":"IF(B174=\"\",\"\",VLOOKUP(B174&\"\",'Fichero de Jugadores'!$A$2:$H$5142,2,0))","v":""},null,{"$f":"IF(A174=\"\",\"\",VLOOKUP(A174&\"\",'Fichero de Jugadores'!$A$2:$H$5142,8,0))","v":""},{"$f":"IF(B174=\"\",\"\",VLOOKUP(B174&\"\",'Fichero de Jugadores'!$A$2:$H$5142,8,0))","v":""},{"$error":"#N/A"},{"$f":"IF(A174=\"\",\"\",VLOOKUP(A174&\"\",'Fichero de Jugadores'!$A$2:$I$5142,9,0))","v":""},{"$f":"IF(B174=\"\",\"\",VLOOKUP(B174&\"\",'Fichero de Jugadores'!$A$2:$I$5142,9,0))","v":""},"",null,null,{"$f":"IF(A174=\"\",\"\",VLOOKUP(A174&\"\",'Fichero de Jugadores'!$A$2:$J$5142,10,0))","v":""},{"$f":"IF(B174=\"\",\"\",VLOOKUP(B174&\"\",'Fichero de Jugadores'!$A$2:$J$5142,10,0))","v":""},{"$f":"IF(C174=\"\",\"\",VLOOKUP(A174&\"\",'Fichero de Jugadores'!$A$2:$I$5142,7,0))","v":{"$error":"#N/A"}},{"$f":"IF(C174=\"\",\"\",VLOOKUP(B174&\"\",'Fichero de Jugadores'!$A$2:$I$5142,7,0))","v":{"$error":"#N/A"}}]
[null,null,172,{"$f":"IF(A175=\"\",\"\",VLOOKUP(A175&\"\",'Fichero de Jugadores'!$A$2:$H$5142,2,0))","v":""},{"$f":"IF(B175=\"\",\"\",VLOOKUP(B175&\"\",'Fichero de Jugadores'!$A$2:$H$5142,2,0))","v":""},null,{"$f":"IF(A175=\"\",\"\",VLOOKUP(A175&\"\",'Fichero de Jugadores'!$A$2:$H$5142,8,0))","v":""},{"$f":"IF(B175=\"\",\"\",VLOOKUP(B175&\"\",'Fichero de Jugadores'!$A$2:$H$5142,8,0))","v":""},{"$error":"#N/A"},{"$f":"IF(A175=\"\",\"\",VLOOKUP(A175&\"\",'Fichero de Jugadores'!$A$2:$I$5142,9,0))","v":""},{"$f":"IF(B175=\"\",\"\",VLOOKUP(B175&\"\",'Fichero de Jugadores'!$A$2:$I$5142,9,0))","v":""},"",null,null,{"$f":"IF(A175=\"\",\"\",VLOOKUP(A175&\"\",'Fichero de Jugadores'!$A$2:$J$5142,10,0))","v":""},{"$f":"IF(B175=\"\",\"\",VLOOKUP(B175&\"\",'Fichero de Jugadores'!$A$2:$J$5142,10,0))","v":""},{"$f":"IF(C175=\"\",\"\",VLOOKUP(A175&\"\",'Fichero de Jugadores'!$A$2:$I$5142,7,0))","v":{"$error":"#N/A"}},{"$f":"IF(C175=\"\",\"\",VLOOKUP(B175&\"\",'Fichero de Jugadores'!$A$2:$I$5142,7,0))","v":{"$error":"#N/A"}}]
[null,null,173,{"$f":"IF(A176=\"\",\"\",VLOOKUP(A176&\"\",'Fichero de Jugadores'!$A$2:$H$5142,2,0))","v":""},{"$f":"IF(B176=\"\",\"\",VLOOKUP(B176&\"\",'Fichero de Jugadores'!$A$2:$H$5142,2,0))","v":""},null,{"$f":"IF(A176=\"\",\"\",VLOOKUP(A176&\"\",'Fichero de Jugadores'!$A$2:$H$5142,8,0))","v":""},{"$f":"IF(B176=\"\",\"\",VLOOKUP(B176&\"\",'Fichero de Jugadores'!$A$2:$H$5142,8,0))","v":""},{"$error":"#N/A"},{"$f":"IF(A176=\"\",\"\",VLOOKUP(A176&\"\",'Fichero de Jugadores'!$A$2:$I$5142,9,0))","v":""},{"$f":"IF(B176=\"\",\"\",VLOOKUP(B176&\"\",'Fichero de Jugadores'!$A$2:$I$5142,9,0))","v":""},"",null,null,{"$f":"IF(A176=\"\",\"\",VLOOKUP(A176&\"\",'Fichero de Jugadores'!$A$2:$J$5142,10,0))","v":""},{"$f":"IF(B176=\"\",\"\",VLOOKUP(B176&\"\",'Fichero de Jugadores'!$A$2:$J$5142,10,0))","v":""},{"$f":"IF(C176=\"\",\"\",VLOOKUP(A176&\"\",'Fichero de Jugadores'!$A$2:$I$5142,7,0))","v":{"$error":"#N/A"}},{"$f":"IF(C176=\"\",\"\",VLOOKUP(B176&\"\",'Fichero de Jugadores'!$A$2:$I$5142,7,0))","v":{"$error":"#N/A"}}]
[null,null,174,{"$f":"IF(A177=\"\",\"\",VLOOKUP(A177&\"\",'Fichero de Jugadores'!$A$2:$H$5142,2,0))","v":""},{"$f":"IF(B177=\"\",\"\",VLOOKUP(B177&\"\",'Fichero de Jugadores'!$A$2:$H$5142,2,0))","v":""},null,{"$f":"IF(A177=\"\",\"\",VLOOKUP(A177&\"\",'Fichero de Jugadores'!$A$2:$H$5142,8,0))","v":""},{"$f":"IF(B177=\"\",\"\",VLOOKUP(B177&\"\",'Fichero de Jugadores'!$A$2:$H$5142,8,0))","v":""},{"$error":"#N/A"},{"$f":"IF(A177=\"\",\"\",VLOOKUP(A177&\"\",'Fichero de Jugadores'!$A$2:$I$5142,9,0))","v":""},{"$f":"IF(B177=\"\",\"\",VLOOKUP(B177&\"\",'Fichero de Jugadores'!$A$2:$I$5142,9,0))","v":""},"",null,null,{"$f":"IF(A177=\"\",\"\",VLOOKUP(A177&\"\",'Fichero de Jugadores'!$A$2:$J$5142,10,0))","v":""},{"$f":"IF(B177=\"\",\"\",VLOOKUP(B177&\"\",'Fichero de Jugadores'!$A$2:$J$5142,10,0))","v":""},{"$f":"IF(C177=\"\",\"\",VLOOKUP(A177&\"\",'Fichero de Jugadores'!$A$2:$I$5142,7,0))","v":{"$error":"#N/A"}},{"$f":"IF(C177=\"\",\"\",VLOOKUP(B177&\"\",'Fichero de Jugadores'!$A$2:$I$5142,7,0))","v":{"$error":"#N/A"}}]
[null,null,175,{"$f":"IF(A178=\"\",\"\",VLOOKUP(A178&\"\",'Fichero de Jugadores'!$A$2:$H$5142,2,0))","v":""},{"$f":"IF(B178=\"\",\"\",VLOOKUP(B178&\"\",'Fichero de Jugadores'!$A$2:$H$5142,2,0))","v":""},null,{"$f":"IF(A178=\"\",\"\",VLOOKUP(A178&\"\",'Fichero de Jugadores'!$A$2:$H$5142,8,0))","v":""},{"$f":"IF(B178=\"\",\"\",VLOOKUP(B178&\"\",'Fichero de Jugadores'!$A$2:$H$5142,8,0))","v":""},{"$error":"#N/A"},{"$f":"IF(A178=\"\",\"\",VLOOKUP(A178&\"\",'Fichero de Jugadores'!$A$2:$I$5142,9,0))","v":""},{"$f":"IF(B178=\"\",\"\",VLOOKUP(B178&\"\",'Fichero de Jugadores'!$A$2:$I$5142,9,0))","v":""},"",null,null,{"$f":"IF(A178=\"\",\"\",VLOOKUP(A178&\"\",'Fichero de Jugadores'!$A$2:$J$5142,10,0))","v":""},{"$f":"IF(B178=\"\",\"\",VLOOKUP(B178&\"\",'Fichero de Jugadores'!$A$2:$J$5142,10,0))","v":""},{"$f":"IF(C178=\"\",\"\",VLOOKUP(A178&\"\",'Fichero de Jugadores'!$A$2:$I$5142,7,0))","v":{"$error":"#N/A"}},{"$f":"IF(C178=\"\",\"\",VLOOKUP(B178&\"\",'Fichero de Jugadores'!$A$2:$I$5142,7,0))","v":{"$error":"#N/A"}}]
[null,null,176,{"$f":"IF(A179=\"\",\"\",VLOOKUP(A179&\"\",'Fichero de Jugadores'!$A$2:$H$5142,2,0))","v":""},{"$f":"IF(B179=\"\",\"\",VLOOKUP(B179&\"\",'Fichero de Jugadores'!$A$2:$H$5142,2,0))","v":""},null,{"$f":"IF(A179=\"\",\"\",VLOOKUP(A179&\"\",'Fichero de Jugadores'!$A$2:$H$5142,8,0))","v":""},{"$f":"IF(B179=\"\",\"\",VLOOKUP(B179&\"\",'Fichero de Jugadores'!$A$2:$H$5142,8,0))","v":""},{"$error":"#N/A"},{"$f":"IF(A179=\"\",\"\",VLOOKUP(A179&\"\",'Fichero de Jugadores'!$A$2:$I$5142,9,0))","v":""},{"$f":"IF(B179=\"\",\"\",VLOOKUP(B179&\"\",'Fichero de Jugadores'!$A$2:$I$5142,9,0))","v":""},"",null,null,{"$f":"IF(A179=\"\",\"\",VLOOKUP(A179&\"\",'Fichero de Jugadores'!$A$2:$J$5142,10,0))","v":""},{"$f":"IF(B179=\"\",\"\",VLOOKUP(B179&\"\",'Fichero de Jugadores'!$A$2:$J$5142,10,0))","v":""},{"$f":"IF(C179=\"\",\"\",VLOOKUP(A179&\"\",'Fichero de Jugadores'!$A$2:$I$5142,7,0))","v":{"$error":"#N/A"}},{"$f":"IF(C179=\"\",\"\",VLOOKUP(B179&\"\",'Fichero de Jugadores'!$A$2:$I$5142,7,0))","v":{"$error":"#N/A"}}]
[null,null,177,{"$f":"IF(A180=\"\",\"\",VLOOKUP(A180&\"\",'Fichero de Jugadores'!$A$2:$H$5142,2,0))","v":""},{"$f":"IF(B180=\"\",\"\",VLOOKUP(B180&\"\",'Fichero de Jugadores'!$A$2:$H$5142,2,0))","v":""},null,{"$f":"IF(A180=\"\",\"\",VLOOKUP(A180&\"\",'Fichero de Jugadores'!$A$2:$H$5142,8,0))","v":""},{"$f":"IF(B180=\"\",\"\",VLOOKUP(B180&\"\",'Fichero de Jugadores'!$A$2:$H$5142,8,0))","v":""},{"$error":"#N/A"},{"$f":"IF(A180=\"\",\"\",VLOOKUP(A180&\"\",'Fichero de Jugadores'!$A$2:$I$5142,9,0))","v":""},{"$f":"IF(B180=\"\",\"\",VLOOKUP(B180&\"\",'Fichero de Jugadores'!$A$2:$I$5142,9,0))","v":""},"",null,null,{"$f":"IF(A180=\"\",\"\",VLOOKUP(A180&\"\",'Fichero de Jugadores'!$A$2:$J$5142,10,0))","v":""},{"$f":"IF(B180=\"\",\"\",VLOOKUP(B180&\"\",'Fichero de Jugadores'!$A$2:$J$5142,10,0))","v":""},{"$f":"IF(C180=\"\",\"\",VLOOKUP(A180&\"\",'Fichero de Jugadores'!$A$2:$I$5142,7,0))","v":{"$error":"#N/A"}},{"$f":"IF(C180=\"\",\"\",VLOOKUP(B180&\"\",'Fichero de Jugadores'!$A$2:$I$5142,7,0))","v":{"$error":"#N/A"}}]
[null,null,178,{"$f":"IF(A181=\"\",\"\",VLOOKUP(A181&\"\",'Fichero de Jugadores'!$A$2:$H$5142,2,0))","v":""},{"$f":"IF(B181=\"\",\"\",VLOOKUP(B181&\"\",'Fichero de Jugadores'!$A$2:$H$5142,2,0))","v":""},null,{"$f":"IF(A181=\"\",\"\",VLOOKUP(A181&\"\",'Fichero de Jugadores'!$A$2:$H$5142,8,0))","v":""},{"$f":"IF(B181=\"\",\"\",VLOOKUP(B181&\"\",'Fichero de Jugadores'!$A$2:$H$5142,8,0))","v":""},{"$error":"#N/A"},{"$f":"IF(A181=\"\",\"\",VLOOKUP(A181&\"\",'Fichero de Jugadores'!$A$2:$I$5142,9,0))","v":""},{"$f":"IF(B181=\"\",\"\",VLOOKUP(B181&\"\",'Fichero de Jugadores'!$A$2:$I$5142,9,0))","v":""},"",null,null,{"$f":"IF(A181=\"\",\"\",VLOOKUP(A181&\"\",'Fichero de Jugadores'!$A$2:$J$5142,10,0))","v":""},{"$f":"IF(B181=\"\",\"\",VLOOKUP(B181&\"\",'Fichero de Jugadores'!$A$2:$J$5142,10,0))","v":""},{"$f":"IF(C181=\"\",\"\",VLOOKUP(A181&\"\",'Fichero de Jugadores'!$A$2:$I$5142,7,0))","v":{"$error":"#N/A"}},{"$f":"IF(C181=\"\",\"\",VLOOKUP(B181&\"\",'Fichero de Jugadores'!$A$2:$I$5142,7,0))","v":{"$error":"#N/A"}}]
[null,null,179,{"$f":"IF(A182=\"\",\"\",VLOOKUP(A182&\"\",'Fichero de Jugadores'!$A$2:$H$5142,2,0))","v":""},{"$f":"IF(B182=\"\",\"\",VLOOKUP(B182&\"\",'Fichero de Jugadores'!$A$2:$H$5142,2,0))","v":""},null,{"$f":"IF(A182=\"\",\"\",VLOOKUP(A182&\"\",'Fichero de Jugadores'!$A$2:$H$5142,8,0))","v":""},{"$f":"IF(B182=\"\",\"\",VLOOKUP(B182&\"\",'Fichero de Jugadores'!$A$2:$H$5142,8,0))","v":""},{"$error":"#N/A"},{"$f":"IF(A182=\"\",\"\",VLOOKUP(A182&\"\",'Fichero de Jugadores'!$A$2:$I$5142,9,0))","v":""},{"$f":"IF(B182=\"\",\"\",VLOOKUP(B182&\"\",'Fichero de Jugadores'!$A$2:$I$5142,9,0))","v":""},"",null,null,{"$f":"IF(A182=\"\",\"\",VLOOKUP(A182&\"\",'Fichero de Jugadores'!$A$2:$J$5142,10,0))","v":""},{"$f":"IF(B182=\"\",\"\",VLOOKUP(B182&\"\",'Fichero de Jugadores'!$A$2:$J$5142,10,0))","v":""},{"$f":"IF(C182=\"\",\"\",VLOOKUP(A182&\"\",'Fichero de Jugadores'!$A$2:$I$5142,7,0))","v":{"$error":"#N/A"}},{"$f":"IF(C182=\"\",\"\",VLOOKUP(B182&\"\",'Fichero de Jugadores'!$A$2:$I$5142,7,0))","v":{"$error":"#N/A"}}]
[null,null,180,{"$f":"IF(A183=\"\",\"\",VLOOKUP(A183&\"\",'Fichero de Jugadores'!$A$2:$H$5142,2,0))","v":""},{"$f":"IF(B183=\"\",\"\",VLOOKUP(B183&\"\",'Fichero de Jugadores'!$A$2:$H$5142,2,0))","v":""},null,{"$f":"IF(A183=\"\",\"\",VLOOKUP(A183&\"\",'Fichero de Jugadores'!$A$2:$H$5142,8,0))","v":""},{"$f":"IF(B183=\"\",\"\",VLOOKUP(B183&\"\",'Fichero de Jugadores'!$A$2:$H$5142,8,0))","v":""},{"$error":"#N/A"},{"$f":"IF(A183=\"\",\"\",VLOOKUP(A183&\"\",'Fichero de Jugadores'!$A$2:$I$5142,9,0))","v":""},{"$f":"IF(B183=\"\",\"\",VLOOKUP(B183&\"\",'Fichero de Jugadores'!$A$2:$I$5142,9,0))","v":""},"",null,null,{"$f":"IF(A183=\"\",\"\",VLOOKUP(A183&\"\",'Fichero de Jugadores'!$A$2:$J$5142,10,0))","v":""},{"$f":"IF(B183=\"\",\"\",VLOOKUP(B183&\"\",'Fichero de Jugadores'!$A$2:$J$5142,10,0))","v":""},{"$f":"IF(C183=\"\",\"\",VLOOKUP(A183&\"\",'Fichero de Jugadores'!$A$2:$I$5142,7,0))","v":{"$error":"#N/A"}},{"$f":"IF(C183=\"\",\"\",VLOOKUP(B183&\"\",'Fichero de Jugadores'!$A$2:$I$5142,7,0))","v":{"$error":"#N/A"}}]
[null,null,181,{"$f":"IF(A184=\"\",\"\",VLOOKUP(A184&\"\",'Fichero de Jugadores'!$A$2:$H$5142,2,0))","v":""},{"$f":"IF(B184=\"\",\"\",VLOOKUP(B184&\"\",'Fichero de Jugadores'!$A$2:$H$5142,2,0))","v":""},null,{"$f":"IF(A184=\"\",\"\",VLOOKUP(A184&\"\",'Fichero de Jugadores'!$A$2:$H$5142,8,0))","v":""},{"$f":"IF(B184=\"\",\"\",VLOOKUP(B184&\"\",'Fichero de Jugadores'!$A$2:$H$5142,8,0))","v":""},{"$error":"#N/A"},{"$f":"IF(A184=\"\",\"\",VLOOKUP(A184&\"\",'Fichero de Jugadores'!$A$2:$I$5142,9,0))","v":""},{"$f":"IF(B184=\"\",\"\",VLOOKUP(B184&\"\",'Fichero de Jugadores'!$A$2:$I$5142,9,0))","v":""},"",null,null,{"$f":"IF(A184=\"\",\"\",VLOOKUP(A184&\"\",'Fichero de Jugadores'!$A$2:$J$5142,10,0))","v":""},{"$f":"IF(B184=\"\",\"\",VLOOKUP(B184&\"\",'Fichero de Jugadores'!$A$2:$J$5142,10,0))","v":""},{"$f":"IF(C184=\"\",\"\",VLOOKUP(A184&\"\",'Fichero de Jugadores'!$A$2:$I$5142,7,0))","v":{"$error":"#N/A"}},{"$f":"IF(C184=\"\",\"\",VLOOKUP(B184&\"\",'Fichero de Jugadores'!$A$2:$I$5142,7,0))","v":{"$error":"#N/A"}}]
[null,null,182,{"$f":"IF(A185=\"\",\"\",VLOOKUP(A185&\"\",'Fichero de Jugadores'!$A$2:$H$5142,2,0))","v":""},{"$f":"IF(B185=\"\",\"\",VLOOKUP(B185&\"\",'Fichero de Jugadores'!$A$2:$H$5142,2,0))","v":""},null,{"$f":"IF(A185=\"\",\"\",VLOOKUP(A185&\"\",'Fichero de Jugadores'!$A$2:$H$5142,8,0))","v":""},{"$f":"IF(B185=\"\",\"\",VLOOKUP(B185&\"\",'Fichero de Jugadores'!$A$2:$H$5142,8,0))","v":""},{"$error":"#N/A"},{"$f":"IF(A185=\"\",\"\",VLOOKUP(A185&\"\",'Fichero de Jugadores'!$A$2:$I$5142,9,0))","v":""},{"$f":"IF(B185=\"\",\"\",VLOOKUP(B185&\"\",'Fichero de Jugadores'!$A$2:$I$5142,9,0))","v":""},"",null,null,{"$f":"IF(A185=\"\",\"\",VLOOKUP(A185&\"\",'Fichero de Jugadores'!$A$2:$J$5142,10,0))","v":""},{"$f":"IF(B185=\"\",\"\",VLOOKUP(B185&\"\",'Fichero de Jugadores'!$A$2:$J$5142,10,0))","v":""},{"$f":"IF(C185=\"\",\"\",VLOOKUP(A185&\"\",'Fichero de Jugadores'!$A$2:$I$5142,7,0))","v":{"$error":"#N/A"}},{"$f":"IF(C185=\"\",\"\",VLOOKUP(B185&\"\",'Fichero de Jugadores'!$A$2:$I$5142,7,0))","v":{"$error":"#N/A"}}]
[null,null,183,{"$f":"IF(A186=\"\",\"\",VLOOKUP(A186&\"\",'Fichero de Jugadores'!$A$2:$H$5142,2,0))","v":""},{"$f":"IF(B186=\"\",\"\",VLOOKUP(B186&\"\",'Fichero de Jugadores'!$A$2:$H$5142,2,0))","v":""},null,{"$f":"IF(A186=\"\",\"\",VLOOKUP(A186&\"\",'Fichero de Jugadores'!$A$2:$H$5142,8,0))","v":""},{"$f":"IF(B186=\"\",\"\",VLOOKUP(B186&\"\",'Fichero de Jugadores'!$A$2:$H$5142,8,0))","v":""},{"$error":"#N/A"},{"$f":"IF(A186=\"\",\"\",VLOOKUP(A186&\"\",'Fichero de Jugadores'!$A$2:$I$5142,9,0))","v":""},{"$f":"IF(B186=\"\",\"\",VLOOKUP(B186&\"\",'Fichero de Jugadores'!$A$2:$I$5142,9,0))","v":""},"",null,null,{"$f":"IF(A186=\"\",\"\",VLOOKUP(A186&\"\",'Fichero de Jugadores'!$A$2:$J$5142,10,0))","v":""},{"$f":"IF(B186=\"\",\"\",VLOOKUP(B186&\"\",'Fichero de Jugadores'!$A$2:$J$5142,10,0))","v":""},{"$f":"IF(C186=\"\",\"\",VLOOKUP(A186&\"\",'Fichero de Jugadores'!$A$2:$I$5142,7,0))","v":{"$error":"#N/A"}},{"$f":"IF(C186=\"\",\"\",VLOOKUP(B186&\"\",'Fichero de Jugadores'!$A$2:$I$5142,7,0))","v":{"$error":"#N/A"}}]
[null,null,184,{"$f":"IF(A187=\"\",\"\",VLOOKUP(A187&\"\",'Fichero de Jugadores'!$A$2:$H$5142,2,0))","v":""},{"$f":"IF(B187=\"\",\"\",VLOOKUP(B187&\"\",'Fichero de Jugadores'!$A$2:$H$5142,2,0))","v":""},null,{"$f":"IF(A187=\"\",\"\",VLOOKUP(A187&\"\",'Fichero de Jugadores'!$A$2:$H$5142,8,0))","v":""},{"$f":"IF(B187=\"\",\"\",VLOOKUP(B187&\"\",'Fichero de Jugadores'!$A$2:$H$5142,8,0))","v":""},{"$error":"#N/A"},{"$f":"IF(A187=\"\",\"\",VLOOKUP(A187&\"\",'Fichero de Jugadores'!$A$2:$I$5142,9,0))","v":""},{"$f":"IF(B187=\"\",\"\",VLOOKUP(B187&\"\",'Fichero de Jugadores'!$A$2:$I$5142,9,0))","v":""},"",null,null,{"$f":"IF(A187=\"\",\"\",VLOOKUP(A187&\"\",'Fichero de Jugadores'!$A$2:$J$5142,10,0))","v":""},{"$f":"IF(B187=\"\",\"\",VLOOKUP(B187&\"\",'Fichero de Jugadores'!$A$2:$J$5142,10,0))","v":""},{"$f":"IF(C187=\"\",\"\",VLOOKUP(A187&\"\",'Fichero de Jugadores'!$A$2:$I$5142,7,0))","v":{"$error":"#N/A"}},{"$f":"IF(C187=\"\",\"\",VLOOKUP(B187&\"\",'Fichero de Jugadores'!$A$2:$I$5142,7,0))","v":{"$error":"#N/A"}}]
[null,null,185,{"$f":"IF(A188=\"\",\"\",VLOOKUP(A188&\"\",'Fichero de Jugadores'!$A$2:$H$5142,2,0))","v":""},{"$f":"IF(B188=\"\",\"\",VLOOKUP(B188&\"\",'Fichero de Jugadores'!$A$2:$H$5142,2,0))","v":""},null,{"$f":"IF(A188=\"\",\"\",VLOOKUP(A188&\"\",'Fichero de Jugadores'!$A$2:$H$5142,8,0))","v":""},{"$f":"IF(B188=\"\",\"\",VLOOKUP(B188&\"\",'Fichero de Jugadores'!$A$2:$H$5142,8,0))","v":""},{"$error":"#N/A"},{"$f":"IF(A188=\"\",\"\",VLOOKUP(A188&\"\",'Fichero de Jugadores'!$A$2:$I$5142,9,0))","v":""},{"$f":"IF(B188=\"\",\"\",VLOOKUP(B188&\"\",'Fichero de Jugadores'!$A$2:$I$5142,9,0))","v":""},"",null,null,{"$f":"IF(A188=\"\",\"\",VLOOKUP(A188&\"\",'Fichero de Jugadores'!$A$2:$J$5142,10,0))","v":""},{"$f":"IF(B188=\"\",\"\",VLOOKUP(B188&\"\",'Fichero de Jugadores'!$A$2:$J$5142,10,0))","v":""},{"$f":"IF(C188=\"\",\"\",VLOOKUP(A188&\"\",'Fichero de Jugadores'!$A$2:$I$5142,7,0))","v":{"$error":"#N/A"}},{"$f":"IF(C188=\"\",\"\",VLOOKUP(B188&\"\",'Fichero de Jugadores'!$A$2:$I$5142,7,0))","v":{"$error":"#N/A"}}]
[null,null,186,{"$f":"IF(A189=\"\",\"\",VLOOKUP(A189&\"\",'Fichero de Jugadores'!$A$2:$H$5142,2,0))","v":""},{"$f":"IF(B189=\"\",\"\",VLOOKUP(B189&\"\",'Fichero de Jugadores'!$A$2:$H$5142,2,0))","v":""},null,{"$f":"IF(A189=\"\",\"\",VLOOKUP(A189&\"\",'Fichero de Jugadores'!$A$2:$H$5142,8,0))","v":""},{"$f":"IF(B189=\"\",\"\",VLOOKUP(B189&\"\",'Fichero de Jugadores'!$A$2:$H$5142,8,0))","v":""},{"$error":"#N/A"},{"$f":"IF(A189=\"\",\"\",VLOOKUP(A189&\"\",'Fichero de Jugadores'!$A$2:$I$5142,9,0))","v":""},{"$f":"IF(B189=\"\",\"\",VLOOKUP(B189&\"\",'Fichero de Jugadores'!$A$2:$I$5142,9,0))","v":""},"",null,null,{"$f":"IF(A189=\"\",\"\",VLOOKUP(A189&\"\",'Fichero de Jugadores'!$A$2:$J$5142,10,0))","v":""},{"$f":"IF(B189=\"\",\"\",VLOOKUP(B189&\"\",'Fichero de Jugadores'!$A$2:$J$5142,10,0))","v":""},{"$f":"IF(C189=\"\",\"\",VLOOKUP(A189&\"\",'Fichero de Jugadores'!$A$2:$I$5142,7,0))","v":{"$error":"#N/A"}},{"$f":"IF(C189=\"\",\"\",VLOOKUP(B189&\"\",'Fichero de Jugadores'!$A$2:$I$5142,7,0))","v":{"$error":"#N/A"}}]
[null,null,187,{"$f":"IF(A190=\"\",\"\",VLOOKUP(A190&\"\",'Fichero de Jugadores'!$A$2:$H$5142,2,0))","v":""},{"$f":"IF(B190=\"\",\"\",VLOOKUP(B190&\"\",'Fichero de Jugadores'!$A$2:$H$5142,2,0))","v":""},null,{"$f":"IF(A190=\"\",\"\",VLOOKUP(A190&\"\",'Fichero de Jugadores'!$A$2:$H$5142,8,0))","v":""},{"$f":"IF(B190=\"\",\"\",VLOOKUP(B190&\"\",'Fichero de Jugadores'!$A$2:$H$5142,8,0))","v":""},{"$error":"#N/A"},{"$f":"IF(A190=\"\",\"\",VLOOKUP(A190&\"\",'Fichero de Jugadores'!$A$2:$I$5142,9,0))","v":""},{"$f":"IF(B190=\"\",\"\",VLOOKUP(B190&\"\",'Fichero de Jugadores'!$A$2:$I$5142,9,0))","v":""},"",null,null,{"$f":"IF(A190=\"\",\"\",VLOOKUP(A190&\"\",'Fichero de Jugadores'!$A$2:$J$5142,10,0))","v":""},{"$f":"IF(B190=\"\",\"\",VLOOKUP(B190&\"\",'Fichero de Jugadores'!$A$2:$J$5142,10,0))","v":""},{"$f":"IF(C190=\"\",\"\",VLOOKUP(A190&\"\",'Fichero de Jugadores'!$A$2:$I$5142,7,0))","v":{"$error":"#N/A"}},{"$f":"IF(C190=\"\",\"\",VLOOKUP(B190&\"\",'Fichero de Jugadores'!$A$2:$I$5142,7,0))","v":{"$error":"#N/A"}}]
[null,null,188,{"$f":"IF(A191=\"\",\"\",VLOOKUP(A191&\"\",'Fichero de Jugadores'!$A$2:$H$5142,2,0))","v":""},{"$f":"IF(B191=\"\",\"\",VLOOKUP(B191&\"\",'Fichero de Jugadores'!$A$2:$H$5142,2,0))","v":""},null,{"$f":"IF(A191=\"\",\"\",VLOOKUP(A191&\"\",'Fichero de Jugadores'!$A$2:$H$5142,8,0))","v":""},{"$f":"IF(B191=\"\",\"\",VLOOKUP(B191&\"\",'Fichero de Jugadores'!$A$2:$H$5142,8,0))","v":""},{"$error":"#N/A"},{"$f":"IF(A191=\"\",\"\",VLOOKUP(A191&\"\",'Fichero de Jugadores'!$A$2:$I$5142,9,0))","v":""},{"$f":"IF(B191=\"\",\"\",VLOOKUP(B191&\"\",'Fichero de Jugadores'!$A$2:$I$5142,9,0))","v":""},"",null,null,{"$f":"IF(A191=\"\",\"\",VLOOKUP(A191&\"\",'Fichero de Jugadores'!$A$2:$J$5142,10,0))","v":""},{"$f":"IF(B191=\"\",\"\",VLOOKUP(B191&\"\",'Fichero de Jugadores'!$A$2:$J$5142,10,0))","v":""},{"$f":"IF(C191=\"\",\"\",VLOOKUP(A191&\"\",'Fichero de Jugadores'!$A$2:$I$5142,7,0))","v":{"$error":"#N/A"}},{"$f":"IF(C191=\"\",\"\",VLOOKUP(B191&\"\",'Fichero de Jugadores'!$A$2:$I$5142,7,0))","v":{"$error":"#N/A"}}]
[null,null,189,{"$f":"IF(A192=\"\",\"\",VLOOKUP(A192&\"\",'Fichero de Jugadores'!$A$2:$H$5142,2,0))","v":""},{"$f":"IF(B192=\"\",\"\",VLOOKUP(B192&\"\",'Fichero de Jugadores'!$A$2:$H$5142,2,0))","v":""},null,{"$f":"IF(A192=\"\",\"\",VLOOKUP(A192&\"\",'Fichero de Jugadores'!$A$2:$H$5142,8,0))","v":""},{"$f":"IF(B192=\"\",\"\",VLOOKUP(B192&\"\",'Fichero de Jugadores'!$A$2:$H$5142,8,0))","v":""},{"$error":"#N/A"},{"$f":"IF(A192=\"\",\"\",VLOOKUP(A192&\"\",'Fichero de Jugadores'!$A$2:$I$5142,9,0))","v":""},{"$f":"IF(B192=\"\",\"\",VLOOKUP(B192&\"\",'Fichero de Jugadores'!$A$2:$I$5142,9,0))","v":""},"",null,null,{"$f":"IF(A192=\"\",\"\",VLOOKUP(A192&\"\",'Fichero de Jugadores'!$A$2:$J$5142,10,0))","v":""},{"$f":"IF(B192=\"\",\"\",VLOOKUP(B192&\"\",'Fichero de Jugadores'!$A$2:$J$5142,10,0))","v":""},{"$f":"IF(C192=\"\",\"\",VLOOKUP(A192&\"\",'Fichero de Jugadores'!$A$2:$I$5142,7,0))","v":{"$error":"#N/A"}},{"$f":"IF(C192=\"\",\"\",VLOOKUP(B192&\"\",'Fichero de Jugadores'!$A$2:$I$5142,7,0))","v":{"$error":"#N/A"}}]
[null,null,190,{"$f":"IF(A193=\"\",\"\",VLOOKUP(A193&\"\",'Fichero de Jugadores'!$A$2:$H$5142,2,0))","v":""},{"$f":"IF(B193=\"\",\"\",VLOOKUP(B193&\"\",'Fichero de Jugadores'!$A$2:$H$5142,2,0))","v":""},null,{"$f":"IF(A193=\"\",\"\",VLOOKUP(A193&\"\",'Fichero de Jugadores'!$A$2:$H$5142,8,0))","v":""},{"$f":"IF(B193=\"\",\"\",VLOOKUP(B193&\"\",'Fichero de Jugadores'!$A$2:$H$5142,8,0))","v":""},{"$error":"#N/A"},{"$f":"IF(A193=\"\",\"\",VLOOKUP(A193&\"\",'Fichero de Jugadores'!$A$2:$I$5142,9,0))","v":""},{"$f":"IF(B193=\"\",\"\",VLOOKUP(B193&\"\",'Fichero de Jugadores'!$A$2:$I$5142,9,0))","v":""},"",null,null,{"$f":"IF(A193=\"\",\"\",VLOOKUP(A193&\"\",'Fichero de Jugadores'!$A$2:$J$5142,10,0))","v":""},{"$f":"IF(B193=\"\",\"\",VLOOKUP(B193&\"\",'Fichero de Jugadores'!$A$2:$J$5142,10,0))","v":""},{"$f":"IF(C193=\"\",\"\",VLOOKUP(A193&\"\",'Fichero de Jugadores'!$A$2:$I$5142,7,0))","v":{"$error":"#N/A"}},{"$f":"IF(C193=\"\",\"\",VLOOKUP(B193&\"\",'Fichero de Jugadores'!$A$2:$I$5142,7,0))","v":{"$error":"#N/A"}}]
[null,null,191,{"$f":"IF(A194=\"\",\"\",VLOOKUP(A194&\"\",'Fichero de Jugadores'!$A$2:$H$5142,2,0))","v":""},{"$f":"IF(B194=\"\",\"\",VLOOKUP(B194&\"\",'Fichero de Jugadores'!$A$2:$H$5142,2,0))","v":""},null,{"$f":"IF(A194=\"\",\"\",VLOOKUP(A194&\"\",'Fichero de Jugadores'!$A$2:$H$5142,8,0))","v":""},{"$f":"IF(B194=\"\",\"\",VLOOKUP(B194&\"\",'Fichero de Jugadores'!$A$2:$H$5142,8,0))","v":""},{"$error":"#N/A"},{"$f":"IF(A194=\"\",\"\",VLOOKUP(A194&\"\",'Fichero de Jugadores'!$A$2:$I$5142,9,0))","v":""},{"$f":"IF(B194=\"\",\"\",VLOOKUP(B194&\"\",'Fichero de Jugadores'!$A$2:$I$5142,9,0))","v":""},"",null,null,{"$f":"IF(A194=\"\",\"\",VLOOKUP(A194&\"\",'Fichero de Jugadores'!$A$2:$J$5142,10,0))","v":""},{"$f":"IF(B194=\"\",\"\",VLOOKUP(B194&\"\",'Fichero de Jugadores'!$A$2:$J$5142,10,0))","v":""},{"$f":"IF(C194=\"\",\"\",VLOOKUP(A194&\"\",'Fichero de Jugadores'!$A$2:$I$5142,7,0))","v":{"$error":"#N/A"}},{"$f":"IF(C194=\"\",\"\",VLOOKUP(B194&\"\",'Fichero de Jugadores'!$A$2:$I$5142,7,0))","v":{"$error":"#N/A"}}]
[null,null,192,{"$f":"IF(A195=\"\",\"\",VLOOKUP(A195&\"\",'Fichero de Jugadores'!$A$2:$H$5142,2,0))","v":""},{"$f":"IF(B195=\"\",\"\",VLOOKUP(B195&\"\",'Fichero de Jugadores'!$A$2:$H$5142,2,0))","v":""},null,{"$f":"IF(A195=\"\",\"\",VLOOKUP(A195&\"\",'Fichero de Jugadores'!$A$2:$H$5142,8,0))","v":""},{"$f":"IF(B195=\"\",\"\",VLOOKUP(B195&\"\",'Fichero de Jugadores'!$A$2:$H$5142,8,0))","v":""},{"$error":"#N/A"},{"$f":"IF(A195=\"\",\"\",VLOOKUP(A195&\"\",'Fichero de Jugadores'!$A$2:$I$5142,9,0))","v":""},{"$f":"IF(B195=\"\",\"\",VLOOKUP(B195&\"\",'Fichero de Jugadores'!$A$2:$I$5142,9,0))","v":""},"",null,null,{"$f":"IF(A195=\"\",\"\",VLOOKUP(A195&\"\",'Fichero de Jugadores'!$A$2:$J$5142,10,0))","v":""},{"$f":"IF(B195=\"\",\"\",VLOOKUP(B195&\"\",'Fichero de Jugadores'!$A$2:$J$5142,10,0))","v":""},{"$f":"IF(C195=\"\",\"\",VLOOKUP(A195&\"\",'Fichero de Jugadores'!$A$2:$I$5142,7,0))","v":{"$error":"#N/A"}},{"$f":"IF(C195=\"\",\"\",VLOOKUP(B195&\"\",'Fichero de Jugadores'!$A$2:$I$5142,7,0))","v":{"$error":"#N/A"}}]
[null,null,193,{"$f":"IF(A196=\"\",\"\",VLOOKUP(A196&\"\",'Fichero de Jugadores'!$A$2:$H$5142,2,0))","v":""},{"$f":"IF(B196=\"\",\"\",VLOOKUP(B196&\"\",'Fichero de Jugadores'!$A$2:$H$5142,2,0))","v":""},null,{"$f":"IF(A196=\"\",\"\",VLOOKUP(A196&\"\",'Fichero de Jugadores'!$A$2:$H$5142,8,0))","v":""},{"$f":"IF(B196=\"\",\"\",VLOOKUP(B196&\"\",'Fichero de Jugadores'!$A$2:$H$5142,8,0))","v":""},{"$f":"INDEX(AN$4:AS$9,(Q196)+2,(R196)+2)","v":{"$error":"#N/A"}},{"$f":"IF(A196=\"\",\"\",VLOOKUP(A196&\"\",'Fichero de Jugadores'!$A$2:$I$5142,9,0))","v":""},{"$f":"IF(B196=\"\",\"\",VLOOKUP(B196&\"\",'Fichero de Jugadores'!$A$2:$I$5142,9,0))","v":""},{"$f":"IF(AND(O196=\"D\",P196=\"D\"),\"D\",IF(AND(O196=\"D\",P196=\"C\"),\"X\",IF(AND(O196=\"C\",P196=\"D\"),\"X\",IF(AND(O196=\"C\",P196=\"C\"),\"C\",IF(OR(O196=\"\",P196=\"\"),\"\")))))","v":""},null,null,{"$f":"IF(A196=\"\",\"\",VLOOKUP(A196&\"\",'Fichero de Jugadores'!$A$2:$J$5142,10,0))","v":""},{"$f":"IF(B196=\"\",\"\",VLOOKUP(B196&\"\",'Fichero de Jugadores'!$A$2:$J$5142,10,0))","v":""},{"$f":"IF(C196=\"\",\"\",VLOOKUP(A196&\"\",'Fichero de Jugadores'!$A$2:$I$5142,7,0))","v":{"$error":"#N/A"}},{"$f":"IF(C196=\"\",\"\",VLOOKUP(B196&\"\",'Fichero de Jugadores'!$A$2:$I$5142,7,0))","v":{"$error":"#N/A"}}]
[null,null,194,{"$f":"IF(A197=\"\",\"\",VLOOKUP(A197&\"\",'Fichero de Jugadores'!$A$2:$H$5142,2,0))","v":""},{"$f":"IF(B197=\"\",\"\",VLOOKUP(B197&\"\",'Fichero de Jugadores'!$A$2:$H$5142,2,0))","v":""},null,{"$f":"IF(A197=\"\",\"\",VLOOKUP(A197&\"\",'Fichero de Jugadores'!$A$2:$H$5142,8,0))","v":""},{"$f":"IF(B197=\"\",\"\",VLOOKUP(B197&\"\",'Fichero de Jugadores'!$A$2:$H$5142,8,0))","v":""},{"$error":"#N/A"},{"$f":"IF(A197=\"\",\"\",VLOOKUP(A197&\"\",'Fichero de Jugadores'!$A$2:$I$5142,9,0))","v":""},{"$f":"IF(B197=\"\",\"\",VLOOKUP(B197&\"\",'Fichero de Jugadores'!$A$2:$I$5142,9,0))","v":""},"",null,null,{"$f":"IF(A197=\"\",\"\",VLOOKUP(A197&\"\",'Fichero de Jugadores'!$A$2:$J$5142,10,0))","v":""},{"$f":"IF(B197=\"\",\"\",VLOOKUP(B197&\"\",'Fichero de Jugadores'!$A$2:$J$5142,10,0))","v":""},{"$f":"IF(C197=\"\",\"\",VLOOKUP(A197&\"\",'Fichero de Jugadores'!$A$2:$I$5142,7,0))","v":{"$error":"#N/A"}},{"$f":"IF(C197=\"\",\"\",VLOOKUP(B197&\"\",'Fichero de Jugadores'!$A$2:$I$5142,7,0))","v":{"$error":"#N/A"}}]
[null,null,195,{"$f":"IF(A198=\"\",\"\",VLOOKUP(A198&\"\",'Fichero de Jugadores'!$A$2:$H$5142,2,0))","v":""},{"$f":"IF(B198=\"\",\"\",VLOOKUP(B198&\"\",'Fichero de Jugadores'!$A$2:$H$5142,2,0))","v":""},null,{"$f":"IF(A198=\"\",\"\",VLOOKUP(A198&\"\",'Fichero de Jugadores'!$A$2:$H$5142,8,0))","v":""},{"$f":"IF(B198=\"\",\"\",VLOOKUP(B198&\"\",'Fichero de Jugadores'!$A$2:$H$5142,8,0))","v":""},{"$error":"#N/A"},{"$f":"IF(A198=\"\",\"\",VLOOKUP(A198&\"\",'Fichero de Jugadores'!$A$2:$I$5142,9,0))","v":""},{"$f":"IF(B198=\"\",\"\",VLOOKUP(B198&\"\",'Fichero de Jugadores'!$A$2:$I$5142,9,0))","v":""},"",null,null,{"$f":"IF(A198=\"\",\"\",VLOOKUP(A198&\"\",'Fichero de Jugadores'!$A$2:$J$5142,10,0))","v":""},{"$f":"IF(B198=\"\",\"\",VLOOKUP(B198&\"\",'Fichero de Jugadores'!$A$2:$J$5142,10,0))","v":""},{"$f":"IF(C198=\"\",\"\",VLOOKUP(A198&\"\",'Fichero de Jugadores'!$A$2:$I$5142,7,0))","v":{"$error":"#N/A"}},{"$f":"IF(C198=\"\",\"\",VLOOKUP(B198&\"\",'Fichero de Jugadores'!$A$2:$I$5142,7,0))","v":{"$error":"#N/A"}}]
[null,null,196,{"$f":"IF(A199=\"\",\"\",VLOOKUP(A199&\"\",'Fichero de Jugadores'!$A$2:$H$5142,2,0))","v":""},{"$f":"IF(B199=\"\",\"\",VLOOKUP(B199&\"\",'Fichero de Jugadores'!$A$2:$H$5142,2,0))","v":""},null,{"$f":"IF(A199=\"\",\"\",VLOOKUP(A199&\"\",'Fichero de Jugadores'!$A$2:$H$5142,8,0))","v":""},{"$f":"IF(B199=\"\",\"\",VLOOKUP(B199&\"\",'Fichero de Jugadores'!$A$2:$H$5142,8,0))","v":""},{"$error":"#N/A"},{"$f":"IF(A199=\"\",\"\",VLOOKUP(A199&\"\",'Fichero de Jugadores'!$A$2:$I$5142,9,0))","v":""},{"$f":"IF(B199=\"\",\"\",VLOOKUP(B199&\"\",'Fichero de Jugadores'!$A$2:$I$5142,9,0))","v":""},"",null,null,{"$f":"IF(A199=\"\",\"\",VLOOKUP(A199&\"\",'Fichero de Jugadores'!$A$2:$J$5142,10,0))","v":""},{"$f":"IF(B199=\"\",\"\",VLOOKUP(B199&\"\",'Fichero de Jugadores'!$A$2:$J$5142,10,0))","v":""},{"$f":"IF(C199=\"\",\"\",VLOOKUP(A199&\"\",'Fichero de Jugadores'!$A$2:$I$5142,7,0))","v":{"$error":"#N/A"}},{"$f":"IF(C199=\"\",\"\",VLOOKUP(B199&\"\",'Fichero de Jugadores'!$A$2:$I$5142,7,0))","v":{"$error":"#N/A"}}]
[null,null,197,{"$f":"IF(A200=\"\",\"\",VLOOKUP(A200&\"\",'Fichero de Jugadores'!$A$2:$H$5142,2,0))","v":""},{"$f":"IF(B200=\"\",\"\",VLOOKUP(B200&\"\",'Fichero de Jugadores'!$A$2:$H$5142,2,0))","v":""},null,{"$f":"IF(A200=\"\",\"\",VLOOKUP(A200&\"\",'Fichero de Jugadores'!$A$2:$H$5142,8,0))","v":""},{"$f":"IF(B200=\"\",\"\",VLOOKUP(B200&\"\",'Fichero de Jugadores'!$A$2:$H$5142,8,0))","v":""},{"$error":"#N/A"},{"$f":"IF(A200=\"\",\"\",VLOOKUP(A200&\"\",'Fichero de Jugadores'!$A$2:$I$5142,9,0))","v":""},{"$f":"IF(B200=\"\",\"\",VLOOKUP(B200&\"\",'Fichero de Jugadores'!$A$2:$I$5142,9,0))","v":""},"",null,null,{"$f":"IF(A200=\"\",\"\",VLOOKUP(A200&\"\",'Fichero de Jugadores'!$A$2:$J$5142,10,0))","v":""},{"$f":"IF(B200=\"\",\"\",VLOOKUP(B200&\"\",'Fichero de Jugadores'!$A$2:$J$5142,10,0))","v":""},{"$f":"IF(C200=\"\",\"\",VLOOKUP(A200&\"\",'Fichero de Jugadores'!$A$2:$I$5142,7,0))","v":{"$error":"#N/A"}},{"$f":"IF(C200=\"\",\"\",VLOOKUP(B200&\"\",'Fichero de Jugadores'!$A$2:$I$5142,7,0))","v":{"$error":"#N/A"}}]
[null,null,198,{"$f":"IF(A201=\"\",\"\",VLOOKUP(A201&\"\",'Fichero de Jugadores'!$A$2:$H$5142,2,0))","v":""},{"$f":"IF(B201=\"\",\"\",VLOOKUP(B201&\"\",'Fichero de Jugadores'!$A$2:$H$5142,2,0))","v":""},null,{"$f":"IF(A201=\"\",\"\",VLOOKUP(A201&\"\",'Fichero de Jugadores'!$A$2:$H$5142,8,0))","v":""},{"$f":"IF(B201=\"\",\"\",VLOOKUP(B201&\"\",'Fichero de Jugadores'!$A$2:$H$5142,8,0))","v":""},{"$error":"#N/A"},{"$f":"IF(A201=\"\",\"\",VLOOKUP(A201&\"\",'Fichero de Jugadores'!$A$2:$I$5142,9,0))","v":""},{"$f":"IF(B201=\"\",\"\",VLOOKUP(B201&\"\",'Fichero de Jugadores'!$A$2:$I$5142,9,0))","v":""},"",null,null,{"$f":"IF(A201=\"\",\"\",VLOOKUP(A201&\"\",'Fichero de Jugadores'!$A$2:$J$5142,10,0))","v":""},{"$f":"IF(B201=\"\",\"\",VLOOKUP(B201&\"\",'Fichero de Jugadores'!$A$2:$J$5142,10,0))","v":""},{"$f":"IF(C201=\"\",\"\",VLOOKUP(A201&\"\",'Fichero de Jugadores'!$A$2:$I$5142,7,0))","v":{"$error":"#N/A"}},{"$f":"IF(C201=\"\",\"\",VLOOKUP(B201&\"\",'Fichero de Jugadores'!$A$2:$I$5142,7,0))","v":{"$error":"#N/A"}}]
[null,null,199,{"$f":"IF(A202=\"\",\"\",VLOOKUP(A202&\"\",'Fichero de Jugadores'!$A$2:$H$5142,2,0))","v":""},{"$f":"IF(B202=\"\",\"\",VLOOKUP(B202&\"\",'Fichero de Jugadores'!$A$2:$H$5142,2,0))","v":""},null,{"$f":"IF(A202=\"\",\"\",VLOOKUP(A202&\"\",'Fichero de Jugadores'!$A$2:$H$5142,8,0))","v":""},{"$f":"IF(B202=\"\",\"\",VLOOKUP(B202&\"\",'Fichero de Jugadores'!$A$2:$H$5142,8,0))","v":""},{"$error":"#N/A"},{"$f":"IF(A202=\"\",\"\",VLOOKUP(A202&\"\",'Fichero de Jugadores'!$A$2:$I$5142,9,0))","v":""},{"$f":"IF(B202=\"\",\"\",VLOOKUP(B202&\"\",'Fichero de Jugadores'!$A$2:$I$5142,9,0))","v":""},"",null,null,{"$f":"IF(A202=\"\",\"\",VLOOKUP(A202&\"\",'Fichero de Jugadores'!$A$2:$J$5142,10,0))","v":""},{"$f":"IF(B202=\"\",\"\",VLOOKUP(B202&\"\",'Fichero de Jugadores'!$A$2:$J$5142,10,0))","v":""},{"$f":"IF(C202=\"\",\"\",VLOOKUP(A202&\"\",'Fichero de Jugadores'!$A$2:$I$5142,7,0))","v":{"$error":"#N/A"}},{"$f":"IF(C202=\"\",\"\",VLOOKUP(B202&\"\",'Fichero de Jugadores'!$A$2:$I$5142,7,0))","v":{"$error":"#N/A"}}]
[null,null,200,{"$f":"IF(A203=\"\",\"\",VLOOKUP(A203&\"\",'Fichero de Jugadores'!$A$2:$H$5142,2,0))","v":""},{"$f":"IF(B203=\"\",\"\",VLOOKUP(B203&\"\",'Fichero de Jugadores'!$A$2:$H$5142,2,0))","v":""},null,{"$f":"IF(A203=\"\",\"\",VLOOKUP(A203&\"\",'Fichero de Jugadores'!$A$2:$H$5142,8,0))","v":""},{"$f":"IF(B203=\"\",\"\",VLOOKUP(B203&\"\",'Fichero de Jugadores'!$A$2:$H$5142,8,0))","v":""},{"$error":"#N/A"},{"$f":"IF(A203=\"\",\"\",VLOOKUP(A203&\"\",'Fichero de Jugadores'!$A$2:$I$5142,9,0))","v":""},{"$f":"IF(B203=\"\",\"\",VLOOKUP(B203&\"\",'Fichero de Jugadores'!$A$2:$I$5142,9,0))","v":""},"",null,null,{"$f":"IF(A203=\"\",\"\",VLOOKUP(A203&\"\",'Fichero de Jugadores'!$A$2:$J$5142,10,0))","v":""},{"$f":"IF(B203=\"\",\"\",VLOOKUP(B203&\"\",'Fichero de Jugadores'!$A$2:$J$5142,10,0))","v":""},{"$f":"IF(C203=\"\",\"\",VLOOKUP(A203&\"\",'Fichero de Jugadores'!$A$2:$I$5142,7,0))","v":{"$error":"#N/A"}},{"$f":"IF(C203=\"\",\"\",VLOOKUP(B203&\"\",'Fichero de Jugadores'!$A$2:$I$5142,7,0))","v":{"$error":"#N/A"}}]

{"sheet":"Fichero de Jugadores","index":1,"n_rows":5060,"n_cols":11,"rows_kept":5060,"cut":false,"hidden":false,"merged":[[0,10,0,14]]}
["     field_numero_de_licencia","field_apellidos","field_territorial","field_damacaballero","field_categoria","field_tipo_de_licencia","field_categoria_1","CAT","AT","DC","NO ESCRIBIR LAS COLUMNAS GRISES"]
["0341032","García Ruiz, Mercedes","Levantina","D","Sin Categoría","Competición",4,{"$f":"VLOOKUP(E2,Referencias!$B$4:$C$15,2,FALSE())","v":"SC"},{"$f":"VLOOKUP(C2,Referencias!$B$18:$C$34,2,FALSE())","v":"V"},{"$f":"IF(D2=\"Dama\",\"D\",\"C\")","v":"C"}]
["0341214","Caturla Camino, Pilar","Levantina","D","Sin Categoría","Competición",4,{"$f":"VLOOKUP(E3,Referencias!$B$4:$C$15,2,FALSE())","v":"SC"},{"$f":"VLOOKUP(C3,Referencias!$B$18:$C$34,2,FALSE())","v":"V"},"C"]
["0341288","Pont Beneyto, M. Dolores","Levantina","D","Sin Categoría","Competición",4,{"$f":"VLOOKUP(E4,Referencias!$B$4:$C$15,2,FALSE())","v":"SC"},{"$f":"VLOOKUP(C4,Referencias!$B$18:$C$34,2,FALSE())","v":"V"},"C"]
["0341335","Coloma Carbonell, Marisa","Levantina","D","Sin Categoría","Competición",4,{"$f":"VLOOKUP(E5,Referencias!$B$4:$C$15,2,FALSE())","v":"SC"},{"$f":"VLOOKUP(C5,Referencias!$B$18:$C$34,2,FALSE())","v":"V"},"C"]
["0341336","Rodríguez-Murcia, Manuel José","Levantina","C","Sin Categoría","Competición",4,{"$f":"VLOOKUP(E6,Referencias!$B$4:$C$15,2,FALSE())","v":"SC"},{"$f":"VLOOKUP(C6,Referencias!$B$18:$C$34,2,FALSE())","v":"V"},"C"]
["0341366","Maestre Navarro, Mª Mercedes","Levantina","D","Tercera Diamante","Competición",3,{"$f":"VLOOKUP(E7,Referencias!$B$4:$C$15,2,FALSE())","v":"3D"},{"$f":"VLOOKUP(C7,Referencias!$B$18:$C$34,2,FALSE())","v":"V"},"C"]
["0341385","Gallego Aura, María José","Levantina","D","Tercera Corazón","Competición",3,{"$f":"VLOOKUP(E8,Referencias!$B$4:$C$15,2,FALSE())","v":"3C"},{"$f":"VLOOKUP(C8,Referencias!$B$18:$C$34,2,FALSE())","v":"V"},"C"]
["0341604","Fernández Montoya, Emilia","Levantina","D","Sin Categoría","Competición",4,{"$f":"VLOOKUP(E9,Referencias!$B$4:$C$15,2,FALSE())","v":"SC"},{"$f":"VLOOKUP(C9,Referencias!$B$18:$C$34,2,FALSE())","v":"V"},"C"]
["0341654","Cañada del Pino, Mª Concepción","Levantina","D","Sin Categoría","Competición",4,{"$f":"VLOOKUP(E10,Referencias!$B$4:$C$15,2,FALSE())","v":"SC"},{"$f":"VLOOKUP(C10,Referencias!$B$18:$C$34,2,FALSE())","v":"V"},"C"]
["0341748","Van de Voorde, Christian","Levantina","C","Sin Categoría","Competición",4,{"$f":"VLOOKUP(E11,Referencias!$B$4:$C$15,2,FALSE())","v":"SC"},{"$f":"VLOOKUP(C11,Referencias!$B$18:$C$34,2,FALSE())","v":"V"},"C"]
["0341757","Gala Pérez, Elena","Levantina","D","Sin Categoría","Competición",4,{"$f":"VLOOKUP(E12,Referencias!$B$4:$C$15,2,FALSE())","v":"SC"},{"$f":"VLOOKUP(C12,Referencias!$B$18:$C$34,2,FALSE())","v":"V"},"C"]
["0341758","Hernández García, Inmaculada","Levantina","D","Tercera Diamante","Competición",3,{"$f":"VLOOKUP(E13,Referencias!$B$4:$C$15,2,FALSE())","v":"3D"},{"$f":"VLOOKUP(C13,Referencias!$B$18:$C$34,2,FALSE())","v":"V"},"C"]
["0341759","Alvarez Fernández, Mª Margarita","Levantina","D","Sin Categoría","Competición",4,{"$f":"VLOOKUP(E14,Referencias!$B$4:$C$15,2,FALSE())","v":"SC"},{"$f":"VLOOKUP(C14,Referencias!$B$18:$C$34,2,FALSE())","v":"V"},"C"]
["0341760","Ruiz Ortuño, Virtudes","Levantina","D","Tercera Corazón","Competición",3,{"$f":"VLOOKUP(E15,Referencias!$B$4:$C$15,2,FALSE())","v":"3C"},{"$f":"VLOOKUP(C15,Referencias!$B$18:$C$34,2,FALSE())","v":"V"},"C"]
["0341761","Ripoll Linares, Adelina","Levantina","D","Tercera Corazón","Competición",3,{"$f":"VLOOKUP(E16,Referencias!$B$4:$C$15,2,FALSE())","v":"3C"},{"$f":"VLOOKUP(C16,Referencias!$B$18:$C$34,2,FALSE())","v":"V"},"C"]
["0341762","Madrid San Martín, Ana","Levantina","D","Tercera Diamante","Competición",3,{"$f":"VLOOKUP(E17,Referencias!$B$4:$C$15,2,FALSE())","v":"3D"},{"$f":"VLOOKUP(C17,Referencias!$B$18:$C$34,2,FALSE())","v":"V"},"C"]
["0341763","Cuenca Martínez, Nieves","Levantina","D","Tercera Diamante","Competición",3,{"$f":"VLOOKUP(E18,Referencias!$B$4:$C$15,2,FALSE())","v":"3D"},{"$f":"VLOOKUP(C18,Referencias!$B$18:$C$34,2,FALSE())","v":"V"},"C"]
["0341764","Cortes Aracil, Sara","Levantina","D","Sin Categoría","Competición",4,{"$f":"VLOOKUP(E19,Referencias!$B$4:$C$15,2,FALSE())","v":"SC"},{"$f":"VLOOKUP(C19,Referencias!$B$18:$C$34,2,FALSE())","v":"V"},"C"]
["0341765","Dols Abellán, Mª Gracia","Levantina","D","Sin Categoría","Competición",4,{"$f":"VLOOKUP(E20,Referencias!$B$4:$C$15,2,FALSE())","v":"SC"},{"$f":"VLOOKUP(C20,Referencias!$B$18:$C$34,2,FALSE())","v":"V"},"C"]
["0341766","Barceló Bonet, Pilar","Levantina","D","Tercera Diamante","Competición",3,{"$f":"VLOOKUP(E21,Referencias!$B$4:$C$15,2,FALSE())","v":"3D"},{"$f":"VLOOKUP(C21,Referencias!$B$18:$C$34,2,FALSE())","v":"V"},"C"]
["0341767","Belmonte Lon, Mª Teresa","Levantina","D","Tercera Diamante","Competición",3,{"$f":"VLOOKUP(E22,Referencias!$B$4:$C$15,2,FALSE())","v":"3D"},{"$f":"VLOOKUP(C22,Referencias!$B$18:$C$34,2,FALSE())","v":"V"},"C"]
["0341768","Cremades Sirvent, Ana","Levantina","D","Tercera Diamante","Competición",3,{"$f":"VLOOKUP(E23,Referencias!$B$4:$C$15,2,FALSE())","v":"3D"},{"$f":"VLOOKUP(C23,Referencias!$B$18:$C$34,2,FALSE())","v":"V"},"C"]
["0341769","Jurado García, Maria Carmen","Levantina","D","Tercera Diamante","Competición",3,{"$f":"VLOOKUP(E24,Referencias!$B$4:$C$15,2,FALSE())","v":"3D"},{"$f":"VLOOKUP(C24,Referencias!$B$18:$C$34,2,FALSE())","v":"V"},"C"]
["0341770","Candela Martínez, Mª Concepción","Levantina","D","Sin Categoría","Competición",4,{"$f":"VLOOKUP(E25,Referencias!$B$4:$C$15,2,FALSE())","v":"SC"},{"$f":"VLOOKUP(C25,Referencias!$B$18:$C$34,2,FALSE())","v":"V"},"C"]
["0341771","Reyes Wajsman, Aixa","Levantina","D","Tercera Diamante","Competición",3,{"$f":"VLOOKUP(E26,Referencias!$B$4:$C$15,2,FALSE())","v":"3D"},{"$f":"VLOOKUP(C26,Referencias!$B$18:$C$34,2,FALSE())","v":"V"},"C"]
["0341791","García Ivañez, Adelia","Levantina","D","Tercera Diamante","Competición",3,{"$f":"VLOOKUP(E27,Referencias!$B$4:$C$15,2,FALSE())","v":"3D"},{"$f":"VLOOKUP(C27,Referencias!$B$18:$C$34,2,FALSE())","v":"V"},"C"]
["0341798","Hesedenz, Mathilda","Levantina","D","Sin Categoría","Competición",4,{"$f":"VLOOKUP(E28,Referencias!$B$4:$C$15,2,FALSE())","v":"SC"},{"$f":"VLOOKUP(C28,Referencias!$B$18:$C$34,2,FALSE())","v":"V"},"C"]
["0341803","Faura Giner, Clara","Levantina","D","Sin Categoría","Competición",4,{"$f":"VLOOKUP(E29,Referencias!$B$4:$C$15,2,FALSE())","v":"SC"},{"$f":"VLOOKUP(C29,Referencias!$B$18:$C$34,2,FALSE())","v":"V"},"C"]
["0341804","Manero Soler, Herminia","Levantina","D","Sin Categoría","Competición",4,{"$f":"VLOOKUP(E30,Referencias!$B$4:$C$15,2,FALSE())","v":"SC"},{"$f":"VLOOKUP(C30,Referencias!$B$18:$C$34,2,FALSE())","v":"V"},"C"]
["0341805","Ribelles Nicolás, Eva","Levantina","D","Sin Categoría","Competición",4,{"$f":"VLOOKUP(E31,Referencias!$B$4:$C$15,2,FALSE())","v":"SC"},{"$f":"VLOOKUP(C31,Referencias!$B$18:$C$34,2,FALSE())","v":"V"},"C"]
["0341842","Parera Camprecios, Magdalena","Levantina","D","Sin Categoría","Competición",4,{"$f":"VLOOKUP(E32,Referencias!$B$4:$C$15,2,FALSE())","v":"SC"},{"$f":"VLOOKUP(C32,Referencias!$B$18:$C$34,2,FALSE())","v":"V"},"C"]
["0341869","Mayodormo Fuentes, Isabel","Levantina","D","Tercera Diamante","Competición",3,{"$f":"VLOOKUP(E33,Referencias!$B$4:$C$15,2,FALSE())","v":"3D"},{"$f":"VLOOKUP(C33,Referencias!$B$18:$C$34,2,FALSE())","v":"V"},"C"]
["0341875","Alvarez Mendoza, Virginia","Levantina","D","Sin Categoría","Competición",4,{"$f":"VLOOKUP(E34,Referencias!$B$4:$C$15,2,FALSE())","v":"SC"},{"$f":"VLOOKUP(C34,Referencias!$B$18:$C$34,2,FALSE())","v":"V"},"C"]
["0341878","Ripoll Sánchez,, Josefa","Levantina","D","Sin Categoría","Competición",4,{"$f":"VLOOKUP(E35,Referencias!$B$4:$C$15,2,FALSE())","v":"SC"},{"$f":"VLOOKUP(C35,Referencias!$B$18:$C$34,2,FALSE())","v":"V"},"C"]
["0341879","Molto Aguado, Isabel","Levantina","D","Sin Categoría","Competición",4,{"$f":"VLOOKUP(E36,Referencias!$B$4:$C$15,2,FALSE())","v":"SC"},{"$f":"VLOOKUP(C36,Referencias!$B$18:$C$34,2,FALSE())","v":"V"},"C"]
["0341880","García Cuartero, Angeles","Levantina","D","Sin Categoría","Competición",4,{"$f":"VLOOKUP(E37,Referencias!$B$4:$C$15,2,FALSE())","v":"SC"},{"$f":"VLOOKUP(C37,Referencias!$B$18:$C$34,2,FALSE())","v":"V"},"C"]
["0341881","Romero Gómez, María Jesús","Levantina","D","Tercera Diamante","Competición",3,{"$f":"VLOOKUP(E38,Referencias!$B$4:$C$15,2,FALSE())","v":"3D"},{"$f":"VLOOKUP(C38,Referencias!$B$18:$C$34,2,FALSE())","v":"V"},"C"]
["0341882","Carrillo Llorente, Marilo","Levantina","D","Sin Categoría","Competición",4,{"$f":"VLOOKUP(E39,Referencias!$B$4:$C$15,2,FALSE())","v":"SC"},{"$f":"VLOOKUP(C39,Referencias!$B$18:$C$34,2,FALSE())","v":"V"},"C"]
["0341883","Rodenas Flores, Mª Angeles","Levantina","D","Sin Categoría","Competición",4,{"$f":"VLOOKUP(E40,Referencias!$B$4:$C$15,2,FALSE())","v":"SC"},{"$f":"VLOOKUP(C40,Referencias!$B$18:$C$34,2,FALSE())","v":"V"},"C"]
["0341899","Ciriza Lamigueiro, Magdalena","Levantina","D","Sin Categoría","Competición",4,{"$f":"VLOOKUP(E41,Referencias!$B$4:$C$15,2,FALSE())","v":"SC"},{"$f":"VLOOKUP(C41,Referencias!$B$18:$C$34,2,FALSE())","v":"V"},"C"]
["0341900","Andruszkiewicz, Eric","Levantina","C","Sin Categoría","Competición",4,{"$f":"VLOOKUP(E42,Referencias!$B$4:$C$15,2,FALSE())","v":"SC"},{"$f":"VLOOKUP(C42,Referencias!$B$18:$C$34,2,FALSE())","v":"V"},"C"]
["0341901","Martinez Cuevas, M. Carmen","Levantina","D","Sin Categoría","Competición",4,{"$f":"VLOOKUP(E43,Referencias!$B$4:$C$15,2,FALSE())","v":"SC"},{"$f":"VLOOKUP(C43,Referencias!$B$18:$C$34,2,FALSE())","v":"V"},"C"]
["0341903","Paya Mas, María Aurora","Levantina","D","Sin Categoría","Competición",4,{"$f":"VLOOKUP(E44,Referencias!$B$4:$C$15,2,FALSE())","v":"SC"},{"$f":"VLOOKUP(C44,Referencias!$B$18:$C$34,2,FALSE())","v":"V"},"C"]
["0341905","Giménez Esplá, Mª Carmen","Levantina","D","Sin Categoría","Competición",4,{"$f":"VLOOKUP(E45,Referencias!$B$4:$C$15,2,FALSE())","v":"SC"},{"$f":"VLOOKUP(C45,Referencias!$B$18:$C$34,2,FALSE())","v":"V"},"C"]
["0341907","Nomdedeu Bertomeu, Marina","Levantina","D","Sin Categoría","Competición",4,{"$f":"VLOOKUP(E46,Referencias!$B$4:$C$15,2,FALSE())","v":"SC"},{"$f":"VLOOKUP(C46,Referencias!$B$18:$C$34,2,FALSE())","v":"V"},"C"]
["0341908","Álvarez de Toledo, Genoveva","Levantina","D","Sin Categoría","Competición",4,{"$f":"VLOOKUP(E47,Referencias!$B$4:$C$15,2,FALSE())","v":"SC"},{"$f":"VLOOKUP(C47,Referencias!$B$18:$C$34,2,FALSE())","v":"V"},"C"]
["0341909","Igea Gil, María Rosario","Levantina","D","Sin Categoría","Competición",4,{"$f":"VLOOKUP(E48,Referencias!$B$4:$C$15,2,FALSE())","v":"SC"},{"$f":"VLOOKUP(C48,Referencias!$B$18:$C$34,2,FALSE())","v":"V"},"C"]
["0341914","Jiménez Moya Angeler, Carlos","Levantina","C","Sin Categoría","Competición",4,{"$f":"VLOOKUP(E49,Referencias!$B$4:$C$15,2,FALSE())","v":"SC"},{"$f":"VLOOKUP(C49,Referencias!$B$18:$C$34,2,FALSE())","v":"V"},"C"]
["0341924","Vargas Hergueta, Isabel","Levantina","D","Sin Categoría","Competición",4,{"$f":"VLOOKUP(E50,Referencias!$B$4:$C$15,2,FALSE())","v":"SC"},{"$f":"VLOOKUP(C50,Referencias!$B$18:$C$34,2,FALSE())","v":"V"},"C"]
["0341925","Lafaye del Valle, Francoise","Levantina","D","Sin Categoría","Competición",4,{"$f":"VLOOKUP(E51,Referencias!$B$4:$C$15,2,FALSE())","v":"SC"},{"$f":"VLOOKUP(C51,Referencias!$B$18:$C$34,2,FALSE())","v":"V"},"C"]
["0341929","Pitt, Jason","Levantina","C","Primera Picas","Competición",1,{"$f":"VLOOKUP(E52,Referencias!$B$4:$C$15,2,FALSE())","v":"1P"},{"$f":"VLOOKUP(C52,Referencias!$B$18:$C$34,2,FALSE())","v":"V"},"C"]
["0346418","Arboli Ayala, Francisca","Levantina","D","Segunda Diamante","Competición",2,{"$f":"VLOOKUP(E53,Referencias!$B$4:$C$15,2,FALSE())","v":"2D"},{"$f":"VLOOKUP(C53,Referencias!$B$18:$C$34,2,FALSE())","v":"V"},"C"]
["0346420","Arrizabalaga Echave, M. Jesús","Levantina","D","Sin Categoría","Competición",4,{"$f":"VLOOKUP(E54,Referencias!$B$4:$C$15,2,FALSE())","v":"SC"},{"$f":"VLOOKUP(C54,Referencias!$B$18:$C$34,2,FALSE())","v":"V"},"C"]
["0606001","Sánchez Cuadrado, Fernando","Extremeña","C","Sin Categoría","Competición",4,{"$f":"VLOOKUP(E55,Referencias!$B$4:$C$15,2,FALSE())","v":"SC"},{"$f":"VLOOKUP(C55,Referencias!$B$18:$C$34,2,FALSE())","v":"E"},"C"]
["0703005","Catany Lee, Jaime","Balear","C","Sin Categoría","Competición",4,{"$f":"VLOOKUP(E56,Referencias!$B$4:$C$15,2,FALSE())","v":"SC"},{"$f":"VLOOKUP(C56,Referencias!$B$18:$C$34,2,FALSE())","v":"IB"},"C"]
["0703011","Marqués Cardell, Catalina","Balear","D","Tercera Picas","Competición",3,{"$f":"VLOOKUP(E57,Referencias!$B$4:$C$15,2,FALSE())","v":"3P"},{"$f":"VLOOKUP(C57,Referencias!$B$18:$C$34,2,FALSE())","v":"IB"},"C"]
["0703018","Seguí Colom, Magdalena","Balear","D","Tercera Corazón","Competición",3,{"$f":"VLOOKUP(E58,Referencias!$B$4:$C$15,2,FALSE())","v":"3C"},{"$f":"VLOOKUP(C58,Referencias!$B$18:$C$34,2,FALSE())","v":"IB"},"C"]
["0703022","Casasnovas Siquier, Juana","Balear","D","Segunda Diamante","Competición",2,{"$f":"VLOOKUP(E59,Referencias!$B$4:$C$15,2,FALSE())","v":"2D"},{"$f":"VLOOKUP(C59,Referencias!$B$18:$C$34,2,FALSE())","v":"IB"},"C"]
["0703024","Hjorngaard, Bodil","Balear","D","Segunda Diamante","Competición",2,{"$f":"VLOOKUP(E60,Referencias!$B$4:$C$15,2,FALSE())","v":"2D"},{"$f":"VLOOKUP(C60,Referencias!$B$18:$C$34,2,FALSE())","v":"IB"},"C"]
["0703035","Casasayas Truyols, Juana","Balear","D","Tercera Picas","Competición",3,{"$f":"VLOOKUP(E61,Referencias!$B$4:$C$15,2,FALSE())","v":"3P"},{"$f":"VLOOKUP(C61,Referencias!$B$18:$C$34,2,FALSE())","v":"IB"},"C"]
["0703046","Juan de Sentmenat, Marta","Balear","D","Tercera Picas","Competición",3,{"$f":"VLOOKUP(E62,Referencias!$B$4:$C$15,2,FALSE())","v":"3P"},{"$f":"VLOOKUP(C62,Referencias!$B$18:$C$34,2,FALSE())","v":"IB"},"C"]
["0703059","Vergara Benedetti, Annabelle","Balear","D","Segunda Diamante","Competición",2,{"$f":"VLOOKUP(E63,Referencias!$B$4:$C$15,2,FALSE())","v":"2D"},{"$f":"VLOOKUP(C63,Referencias!$B$18:$C$34,2,FALSE())","v":"IB"},"C"]
["0703065","Vila Mas, Magdalena","Balear","D","Segunda Picas","Competición",2,{"$f":"VLOOKUP(E64,Referencias!$B$4:$C$15,2,FALSE())","v":"2P"},{"$f":"VLOOKUP(C64,Referencias!$B$18:$C$34,2,FALSE())","v":"IB"},{"$f":"IF(D64=\"Dama\",\"D\",\"C\")","v":"C"}]
["0703066","Llinás Gonzaga, Catalina","Balear","D","Tercera Corazón","Competición",3,{"$f":"VLOOKUP(E65,Referencias!$B$4:$C$15,2,FALSE())","v":"3C"},{"$f":"VLOOKUP(C65,Referencias!$B$18:$C$34,2,FALSE())","v":"IB"},"C"]
["0703068","Puigserver Loberas, Catalina","Balear","D","Tercera Picas","Competición",3,{"$f":"VLOOKUP(E66,Referencias!$B$4:$C$15,2,FALSE())","v":"3P"},{"$f":"VLOOKUP(C66,Referencias!$B$18:$C$34,2,FALSE())","v":"IB"},"C"]
["0703073","Sabaté Beltrán, Yvonne","Balear","D","Tercera Picas","Competición",3,{"$f":"VLOOKUP(E67,Referencias!$B$4:$C$15,2,FALSE())","v":"3P"},{"$f":"VLOOKUP(C67,Referencias!$B$18:$C$34,2,FALSE())","v":"IB"},"C"]
["0703076","Jaume Muñoz, Carmen","Balear","D","Tercera Picas","Competición",3,{"$f":"VLOOKUP(E68,Referencias!$B$4:$C$15,2,FALSE())","v":"3P"},{"$f":"VLOOKUP(C68,Referencias!$B$18:$C$34,2,FALSE())","v":"IB"},"C"]
["0703078","Cuenca Serna, Mª Teresa","Balear","D","Tercera Picas","Competición",3,{"$f":"VLOOKUP(E69,Referencias!$B$4:$C$15,2,FALSE())","v":"3P"},{"$f":"VLOOKUP(C69,Referencias!$B$18:$C$34,2,FALSE())","v":"IB"},"C"]
["0703079","Carmona Jímenez, Antonia","Balear","D","Sin Categoría","Competición",4,{"$f":"VLOOKUP(E70,Referencias!$B$4:$C$15,2,FALSE())","v":"SC"},{"$f":"VLOOKUP(C70,Referencias!$B$18:$C$34,2,FALSE())","v":"IB"},"C"]
["0703081","Mundó Guixa, Montserrat","Balear","D","Tercera Diamante","Competición",3,{"$f":"VLOOKUP(E71,Referencias!$B$4:$C$15,2,FALSE())","v":"3D"},{"$f":"VLOOKUP(C71,Referencias!$B$18:$C$34,2,FALSE())","v":"IB"},"C"]
["0703083","Vaquer Colom, Margarita","Balear","D","Tercera Corazón","Competición",3,{"$f":"VLOOKUP(E72,Referencias!$B$4:$C$15,2,FALSE())","v":"3C"},{"$f":"VLOOKUP(C72,Referencias!$B$18:$C$34,2,FALSE())","v":"IB"},"C"]
["0703084","Gual Alos, Francisca","Balear","D","Segunda Diamante","Competición",2,{"$f":"VLOOKUP(E73,Referencias!$B$4:$C$15,2,FALSE())","v":"2D"},{"$f":"VLOOKUP(C73,Referencias!$B$18:$C$34,2,FALSE())","v":"IB"},"C"]
["0703085","Alomar Cardell, Mª Antonia","Balear","D","Segunda Diamante","Competición",2,{"$f":"VLOOKUP(E74,Referencias!$B$4:$C$15,2,FALSE())","v":"2D"},{"$f":"VLOOKUP(C74,Referencias!$B$18:$C$34,2,FALSE())","v":"IB"},"C"]
["0703086","Vidal Reynes, Araceli","Balear","D","Tercera Picas","Competición",3,{"$f":"VLOOKUP(E75,Referencias!$B$4:$C$15,2,FALSE())","v":"3P"},{"$f":"VLOOKUP(C75,Referencias!$B$18:$C$34,2,FALSE())","v":"IB"},"C"]
["0703090","Cifuentes, Paloma","Balear","D","Tercera Picas","Competición",3,{"$f":"VLOOKUP(E76,Referencias!$B$4:$C$15,2,FALSE())","v":"3P"},{"$f":"VLOOKUP(C76,Referencias!$B$18:$C$34,2,FALSE())","v":"IB"},"C"]
["0703091","Campuzano Casasayas, Paz","Balear","D","Tercera Corazón","Competición",3,{"$f":"VLOOKUP(E77,Referencias!$B$4:$C$15,2,FALSE())","v":"3C"},{"$f":"VLOOKUP(C77,Referencias!$B$18:$C$34,2,FALSE())","v":"IB"},"C"]
["0703092","Feliu Martorell, Juana","Balear","D","Tercera Picas","Competición",3,{"$f":"VLOOKUP(E78,Referencias!$B$4:$C$15,2,FALSE())","v":"3P"},{"$f":"VLOOKUP(C78,Referencias!$B$18:$C$34,2,FALSE())","v":"IB"},"C"]
["0703094","Zaforteza de Olives, María de las Nieves","Balear","D","Tercera Diamante","Competición",3,{"$f":"VLOOKUP(E79,Referencias!$B$4:$C$15,2,FALSE())","v":"3D"},{"$f":"VLOOKUP(C79,Referencias!$B$18:$C$34,2,FALSE())","v":"IB"},"C"]
["0703099","Marqués de Oleza, Luis","Balear","C","Segunda Corazón","Competición",2,{"$f":"VLOOKUP(E80,Referencias!$B$4:$C$15,2,FALSE())","v":"2C"},{"$f":"VLOOKUP(C80,Referencias!$B$18:$C$34,2,FALSE())","v":"IB"},"C"]
["0703100","Soeffker, Heide","Balear","D","Segunda Corazón","Competición",2,{"$f":"VLOOKUP(E81,Referencias!$B$4:$C$15,2,FALSE())","v":"2C"},{"$f":"VLOOKUP(C81,Referencias!$B$18:$C$34,2,FALSE())","v":"IB"},"C"]
["0703102","Segui, Maguy","Balear","D","Segunda Corazón","Competición",2,{"$f":"VLOOKUP(E82,Referencias!$B$4:$C$15,2,FALSE())","v":"2C"},{"$f":"VLOOKUP(C82,Referencias!$B$18:$C$34,2,FALSE())","v":"IB"},"C"]
["0703103","García Quesada, Luis","Balear","C","Sin Categoría","Competición",4,{"$f":"VLOOKUP(E83,Referencias!$B$4:$C$15,2,FALSE())","v":"SC"},{"$f":"VLOOKUP(C83,Referencias!$B$18:$C$34,2,FALSE())","v":"IB"},"C"]
["0703104","Varela Puig, Mercedes","Balear","D","Primera Diamante","Competición",1,{"$f":"VLOOKUP(E84,Referencias!$B$4:$C$15,2,FALSE())","v":"1D"},{"$f":"VLOOKUP(C84,Referencias!$B$18:$C$34,2,FALSE())","v":"IB"},"C"]
["0703108","Miro Bibiloni, Francisca","Balear","D","Tercera Picas","Competición",3,{"$f":"VLOOKUP(E85,Referencias!$B$4:$C$15,2,FALSE())","v":"3P"},{"$f":"VLOOKUP(C85,Referencias!$B$18:$C$34,2,FALSE())","v":"IB"},"C"]
["0703109","Font Vidal, José Mª","Balear","C","Primera Picas","Competición",1,{"$f":"VLOOKUP(E86,Referencias!$B$4:$C$15,2,FALSE())","v":"1P"},{"$f":"VLOOKUP(C86,Referencias!$B$18:$C$34,2,FALSE())","v":"IB"},"C"]
["0703110","Van Noolen, María José","Balear","D","Tercera Picas","Competición",3,{"$f":"VLOOKUP(E87,Referencias!$B$4:$C$15,2,FALSE())","v":"3P"},{"$f":"VLOOKUP(C87,Referencias!$B$18:$C$34,2,FALSE())","v":"IB"},"C"]
["0703112","Vidal Jiménez Alfaro, Margarita","Balear","D","Primera Picas","Competición",1,{"$f":"VLOOKUP(E88,Referencias!$B$4:$C$15,2,FALSE())","v":"1P"},{"$f":"VLOOKUP(C88,Referencias!$B$18:$C$34,2,FALSE())","v":"IB"},"C"]
["0703113","Alvarez Merino, Mª del Pilar","Balear","D","Primera Diamante","Competición",1,{"$f":"VLOOKUP(E89,Referencias!$B$4:$C$15,2,FALSE())","v":"1D"},{"$f":"VLOOKUP(C89,Referencias!$B$18:$C$34,2,FALSE())","v":"IB"},"C"]
["0703114","Ramis Sans, María","Balear","D","Tercera Corazón","Competición",3,{"$f":"VLOOKUP(E90,Referencias!$B$4:$C$15,2,FALSE())","v":"3C"},{"$f":"VLOOKUP(C90,Referencias!$B$18:$C$34,2,FALSE())","v":"IB"},"C"]
["0703117","Allessie Van Wel, Wilhelmina Anna","Balear","D","Tercera Picas","Competición",3,{"$f":"VLOOKUP(E91,Referencias!$B$4:$C$15,2,FALSE())","v":"3P"},{"$f":"VLOOKUP(C91,Referencias!$B$18:$C$34,2,FALSE())","v":"IB"},"C"]
["0703119","Villar Alastrué, Pilar","Levantina","D","Segunda Corazón","Competición",2,{"$f":"VLOOKUP(E92,Referencias!$B$4:$C$15,2,FALSE())","v":"2C"},{"$f":"VLOOKUP(C92,Referencias!$B$18:$C$34,2,FALSE())","v":"V"},"C"]
["0703131","Muller, Annie","Balear","D","Segunda Diamante","Competición",2,{"$f":"VLOOKUP(E93,Referencias!$B$4:$C$15,2,FALSE())","v":"2D"},{"$f":"VLOOKUP(C93,Referencias!$B$18:$C$34,2,FALSE())","v":"IB"},"C"]
["0703132","Fabré de Balanzó, Fernando","Balear","C","Sin Categoría","Competición",4,{"$f":"VLOOKUP(E94,Referencias!$B$4:$C$15,2,FALSE())","v":"SC"},{"$f":"VLOOKUP(C94,Referencias!$B$18:$C$34,2,FALSE())","v":"IB"},"C"]
["0703133","Vicens Orell, Catalina","Balear","D","Tercera Corazón","Competición",3,{"$f":"VLOOKUP(E95,Referencias!$B$4:$C$15,2,FALSE())","v":"3C"},{"$f":"VLOOKUP(C95,Referencias!$B$18:$C$34,2,FALSE())","v":"IB"},"C"]
["0703134","Zitrone, Beatriz","Balear","D","Segunda Diamante","Competición",2,{"$f":"VLOOKUP(E96,Referencias!$B$4:$C$15,2,FALSE())","v":"2D"},{"$f":"VLOOKUP(C96,Referencias!$B$18:$C$34,2,FALSE())","v":"IB"},"C"]
["0703135","Pou Jaume, Maria Carme","Balear","D","Sin Categoría","Competición",4,{"$f":"VLOOKUP(E97,Referencias!$B$4:$C$15,2,FALSE())","v":"SC"},{"$f":"VLOOKUP(C97,Referencias!$B$18:$C$34,2,FALSE())","v":"IB"},"C"]
["0703137","Roses Canet, Emilia","Balear","D","Segunda Corazón","Competición",2,{"$f":"VLOOKUP(E98,Referencias!$B$4:$C$15,2,FALSE())","v":"2C"},{"$f":"VLOOKUP(C98,Referencias!$B$18:$C$34,2,FALSE())","v":"IB"},"C"]
["0703138","Roses Abrines, Dolores","Balear","D","Tercera Picas","Competición",3,{"$f":"VLOOKUP(E99,Referencias!$B$4:$C$15,2,FALSE())","v":"3P"},{"$f":"VLOOKUP(C99,Referencias!$B$18:$C$34,2,FALSE())","v":"IB"},"C"]
["0703140","Van Stuikvenberg, Ildiko","Balear","D","Segunda Corazón","Competición",2,{"$f":"VLOOKUP(E100,Referencias!$B$4:$C$15,2,FALSE())","v":"2C"},{"$f":"VLOOKUP(C100,Referencias!$B$18:$C$34,2,FALSE())","v":"IB"},"C"]
["0703142","Van Haute, Margot","Balear","D","Tercera Picas","Competición",3,{"$f":"VLOOKUP(E101,Referencias!$B$4:$C$15,2,FALSE())","v":"3P"},{"$f":"VLOOKUP(C101,Referencias!$B$18:$C$34,2,FALSE())","v":"IB"},"C"]
["0703143","Gaengl-Ehrenwerth, Astrid","Balear","D","Primera Diamante","Competición",1,{"$f":"VLOOKUP(E102,Referencias!$B$4:$C$15,2,FALSE())","v":"1D"},{"$f":"VLOOKUP(C102,Referencias!$B$18:$C$34,2,FALSE())","v":"IB"},"C"]
["0703146","Vidal Berga, Mª Catalina","Balear","D","Tercera Picas","Competición",3,{"$f":"VLOOKUP(E103,Referencias!$B$4:$C$15,2,FALSE())","v":"3P"},{"$f":"VLOOKUP(C103,Referencias!$B$18:$C$34,2,FALSE())","v":"IB"},"C"]
["0703147","Ramis de Ayreflor Cardell, Pilar","Balear","D","Tercera Corazón","Competición",3,{"$f":"VLOOKUP(E104,Referencias!$B$4:$C$15,2,FALSE())","v":"3C"},{"$f":"VLOOKUP(C104,Referencias!$B$18:$C$34,2,FALSE())","v":"IB"},"C"]
["0703150","Zoreda de la Rosa, Marta","Balear","D","Primera Picas","Competición",1,{"$f":"VLOOKUP(E105,Referencias!$B$4:$C$15,2,FALSE())","v":"1P"},{"$f":"VLOOKUP(C105,Referencias!$B$18:$C$34,2,FALSE())","v":"IB"},"C"]
["0703152","Riss, Christine","Balear","D","Tercera Diamante","Competición",3,{"$f":"VLOOKUP(E106,Referencias!$B$4:$C$15,2,FALSE())","v":"3D"},{"$f":"VLOOKUP(C106,Referencias!$B$18:$C$34,2,FALSE())","v":"IB"},"C"]
["0703153","Kerstiens, Dorothee","Balear","D","Tercera Corazón","Competición",3,{"$f":"VLOOKUP(E107,Referencias!$B$4:$C$15,2,FALSE())","v":"3C"},{"$f":"VLOOKUP(C107,Referencias!$B$18:$C$34,2,FALSE())","v":"IB"},"C"]
["0703154","Saporta Navarro, Francoise","Balear","D","Tercera Picas","Competición",3,{"$f":"VLOOKUP(E108,Referencias!$B$4:$C$15,2,FALSE())","v":"3P"},{"$f":"VLOOKUP(C108,Referencias!$B$18:$C$34,2,FALSE())","v":"IB"},"C"]
["0703157","Fernández López, Carmen","Balear","D","Segunda Diamante","Competición",2,{"$f":"VLOOKUP(E109,Referencias!$B$4:$C$15,2,FALSE())","v":"2D"},{"$f":"VLOOKUP(C109,Referencias!$B$18:$C$34,2,FALSE())","v":"IB"},"C"]
["0703158","Marti Ramón, María Antonia","Balear","D","Tercera Diamante","Competición",3,{"$f":"VLOOKUP(E110,Referencias!$B$4:$C$15,2,FALSE())","v":"3D"},{"$f":"VLOOKUP(C110,Referencias!$B$18:$C$34,2,FALSE())","v":"IB"},"C"]
["0703163","Webber, William","Balear","C","Tercera Corazón","Competición",3,{"$f":"VLOOKUP(E111,Referencias!$B$4:$C$15,2,FALSE())","v":"3C"},{"$f":"VLOOKUP(C111,Referencias!$B$18:$C$34,2,FALSE())","v":"IB"},"C"]
["0703164","Mut Bibiloni, Gregorio","Balear","C","Tercera Diamante","Competición",3,{"$f":"VLOOKUP(E112,Referencias!$B$4:$C$15,2,FALSE())","v":"3D"},{"$f":"VLOOKUP(C112,Referencias!$B$18:$C$34,2,FALSE())","v":"IB"},"C"]
["0703170","Serrano Lloret, Mª Angeles","Balear","D","Tercera Corazón","Competición",3,{"$f":"VLOOKUP(E113,Referencias!$B$4:$C$15,2,FALSE())","v":"3C"},{"$f":"VLOOKUP(C113,Referencias!$B$18:$C$34,2,FALSE())","v":"IB"},"C"]
["0703172","Simarro Marques, María","Balear","D","Tercera Corazón","Competición",3,{"$f":"VLOOKUP(E114,Referencias!$B$4:$C$15,2,FALSE())","v":"3C"},{"$f":"VLOOKUP(C114,Referencias!$B$18:$C$34,2,FALSE())","v":"IB"},"C"]
["0703174","Burgos Ballesteros, María Isabel","Balear","D","Tercera Diamante","Competición",3,{"$f":"VLOOKUP(E115,Referencias!$B$4:$C$15,2,FALSE())","v":"3D"},{"$f":"VLOOKUP(C115,Referencias!$B$18:$C$34,2,FALSE())","v":"IB"},"C"]
["0703179","Brungs, Hans","Balear","C","Tercera Picas","Competición",3,{"$f":"VLOOKUP(E116,Referencias!$B$4:$C$15,2,FALSE())","v":"3P"},{"$f":"VLOOKUP(C116,Referencias!$B$18:$C$34,2,FALSE())","v":"IB"},"C"]
["0703182","Barcos Toro, Maria Dolores","Balear","D","Tercera Diamante","Competición",3,{"$f":"VLOOKUP(E117,Referencias!$B$4:$C$15,2,FALSE())","v":"3D"},{"$f":"VLOOKUP(C117,Referencias!$B$18:$C$34,2,FALSE())","v":"IB"},"C"]
["0703189","Colom Alberti, Marie Madeleine","Balear","D","Tercera Picas","Competición",3,{"$f":"VLOOKUP(E118,Referencias!$B$4:$C$15,2,FALSE())","v":"3P"},{"$f":"VLOOKUP(C118,Referencias!$B$18:$C$34,2,FALSE())","v":"IB"},"C"]
["0703193","Estermann, Margareta","Balear","D","Sin Categoría","Competición",4,{"$f":"VLOOKUP(E119,Referencias!$B$4:$C$15,2,FALSE())","v":"SC"},{"$f":"VLOOKUP(C119,Referencias!$B$18:$C$34,2,FALSE())","v":"IB"},"C"]
["0703201","Bosch Montaner, María del Pilar","Balear","D","Segunda Diamante","Competición",2,{"$f":"VLOOKUP(E120,Referencias!$B$4:$C$15,2,FALSE())","v":"2D"},{"$f":"VLOOKUP(C120,Referencias!$B$18:$C$34,2,FALSE())","v":"IB"},"C"]
["0703203","de Lis, Ignacio","Balear","C","Primera Diamante","Competición",1,{"$f":"VLOOKUP(E121,Referencias!$B$4:$C$15,2,FALSE())","v":"1D"},{"$f":"VLOOKUP(C121,Referencias!$B$18:$C$34,2,FALSE())","v":"IB"},"C"]
["0703205","Rifa Ferrer, Rosa","Balear","D","Tercera Diamante","Competición",3,{"$f":"VLOOKUP(E122,Referencias!$B$4:$C$15,2,FALSE())","v":"3D"},{"$f":"VLOOKUP(C122,Referencias!$B$18:$C$34,2,FALSE())","v":"IB"},"C"]
["0703207","Viehweg, Hans","Balear","C","Segunda Diamante","Competición",2,{"$f":"VLOOKUP(E123,Referencias!$B$4:$C$15,2,FALSE())","v":"2D"},{"$f":"VLOOKUP(C123,Referencias!$B$18:$C$34,2,FALSE())","v":"IB"},"C"]
["0703209","Seibel, Renata","Balear","D","Tercera Picas","Competición",3,{"$f":"VLOOKUP(E124,Referencias!$B$4:$C$15,2,FALSE())","v":"3P"},{"$f":"VLOOKUP(C124,Referencias!$B$18:$C$34,2,FALSE())","v":"IB"},"C"]
["0703212","Marone Cinzano Borbon, Anna Alessandra","Balear","D","Sin Categoría","Competición",4,{"$f":"VLOOKUP(E125,Referencias!$B$4:$C$15,2,FALSE())","v":"SC"},{"$f":"VLOOKUP(C125,Referencias!$B$18:$C$34,2,FALSE())","v":"IB"},"C"]
["0703214","Bilbao Egaña, Begoña","Balear","D","Tercera Diamante","Competición",3,{"$f":"VLOOKUP(E126,Referencias!$B$4:$C$15,2,FALSE())","v":"3D"},{"$f":"VLOOKUP(C126,Referencias!$B$18:$C$34,2,FALSE())","v":"IB"},"C"]
["0703215","Campuzano Casasayas, Mª del Carmen","Balear","D","Tercera Diamante","Competición",3,{"$f":"VLOOKUP(E127,Referencias!$B$4:$C$15,2,FALSE())","v":"3D"},{"$f":"VLOOKUP(C127,Referencias!$B$18:$C$34,2,FALSE())","v":"IB"},"C"]
["0703216","Piña Saiz, Ramón","Balear","C","Tercera Corazón","Competición",3,{"$f":"VLOOKUP(E128,Referencias!$B$4:$C$15,2,FALSE())","v":"3C"},{"$f":"VLOOKUP(C128,Referencias!$B$18:$C$34,2,FALSE())","v":"IB"},{"$f":"IF(D128=\"Dama\",\"D\",\"C\")","v":"C"}]
["0703217","Campuzano Casasayas, Margarita","Balear","D","Tercera Diamante","Competición",3,{"$f":"VLOOKUP(E129,Referencias!$B$4:$C$15,2,FALSE())","v":"3D"},{"$f":"VLOOKUP(C129,Referencias!$B$18:$C$34,2,FALSE())","v":"IB"},"C"]
["0703221","Verd Herrero, Fernando","Balear","C","Sin Categoría","Competición",4,{"$f":"VLOOKUP(E130,Referencias!$B$4:$C$15,2,FALSE())","v":"SC"},{"$f":"VLOOKUP(C130,Referencias!$B$18:$C$34,2,FALSE())","v":"IB"},"C"]
["0703222","Stone Reeves-Rowland, Jennifer","Balear","D","Tercera Picas","Competición",3,{"$f":"VLOOKUP(E131,Referencias!$B$4:$C$15,2,FALSE())","v":"3P"},{"$f":"VLOOKUP(C131,Referencias!$B$18:$C$34,2,FALSE())","v":"IB"},"C"]
["0703232","Varela de Limia Neyra, Jacobo","Balear","C","Sin Categoría","Competición",4,{"$f":"VLOOKUP(E132,Referencias!$B$4:$C$15,2,FALSE())","v":"SC"},{"$f":"VLOOKUP(C132,Referencias!$B$18:$C$34,2,FALSE())","v":"IB"},"C"]
["0703238","Estrades Berná, Mercedes","Balear","D","Tercera Diamante","Competición",3,{"$f":"VLOOKUP(E133,Referencias!$B$4:$C$15,2,FALSE())","v":"3D"},{"$f":"VLOOKUP(C133,Referencias!$B$18:$C$34,2,FALSE())","v":"IB"},"C"]
["0703239","Abad Rico, Manuel","Balear","C","Tercera Diamante","Competición",3,{"$f":"VLOOKUP(E134,Referencias!$B$4:$C$15,2,FALSE())","v":"3D"},{"$f":"VLOOKUP(C134,Referencias!$B$18:$C$34,2,FALSE())","v":"IB"},"C"]
["0703241","Grua Llanares, Catalina","Balear","D","Tercera Diamante","Competición",3,{"$f":"VLOOKUP(E135,Referencias!$B$4:$C$15,2,FALSE())","v":"3D"},{"$f":"VLOOKUP(C135,Referencias!$B$18:$C$34,2,FALSE())","v":"IB"},"C"]
["0703242","Amengual Cifre, Coloma","Balear","D","Sin Categoría","Competición",4,{"$f":"VLOOKUP(E136,Referencias!$B$4:$C$15,2,FALSE())","v":"SC"},{"$f":"VLOOKUP(C136,Referencias!$B$18:$C$34,2,FALSE())","v":"IB"},"C"]
["0703245","Coll, Margarita","Balear","D","Sin Categoría","Competición",4,{"$f":"VLOOKUP(E137,Referencias!$B$4:$C$15,2,FALSE())","v":"SC"},{"$f":"VLOOKUP(C137,Referencias!$B$18:$C$34,2,FALSE())","v":"IB"},"C"]
["0703246","Schwartz Girón, Fernando","Balear","C","Sin Categoría","Competición",4,{"$f":"VLOOKUP(E138,Referencias!$B$4:$C$15,2,FALSE())","v":"SC"},{"$f":"VLOOKUP(C138,Referencias!$B$18:$C$34,2,FALSE())","v":"IB"},"C"]
["0703247","Soyer Férnandez, Nery Adelina","Balear","D","Tercera Diamante","Competición",3,{"$f":"VLOOKUP(E139,Referencias!$B$4:$C$15,2,FALSE())","v":"3D"},{"$f":"VLOOKUP(C139,Referencias!$B$18:$C$34,2,FALSE())","v":"IB"},"C"]
["0703248","Tolonen Toyryla, Laura Silvia","Balear","D","Sin Categoría","Competición",4,{"$f":"VLOOKUP(E140,Referencias!$B$4:$C$15,2,FALSE())","v":"SC"},{"$f":"VLOOKUP(C140,Referencias!$B$18:$C$34,2,FALSE())","v":"IB"},"C"]
["0703249","Cañellas Vich, Miquel","Balear","C","Tercera Corazón","Competición",3,{"$f":"VLOOKUP(E141,Referencias!$B$4:$C$15,2,FALSE())","v":"3C"},{"$f":"VLOOKUP(C141,Referencias!$B$18:$C$34,2,FALSE())","v":"IB"},"C"]
["0703252","Bennassar Gutierrez de la Concha, María Julia","Balear","D","Tercera Diamante","Competición",3,{"$f":"VLOOKUP(E142,Referencias!$B$4:$C$15,2,FALSE())","v":"3D"},{"$f":"VLOOKUP(C142,Referencias!$B$18:$C$34,2,FALSE())","v":"IB"},"C"]
["0703254","D´Ormesson, Anne","Balear","D","Tercera Diamante","Competición",3,{"$f":"VLOOKUP(E143,Referencias!$B$4:$C$15,2,FALSE())","v":"3D"},{"$f":"VLOOKUP(C143,Referencias!$B$18:$C$34,2,FALSE())","v":"IB"},"C"]
["0703256","Zaforteza de Corral, Mª Dolores","Balear","D","Tercera Corazón","Competición",3,{"$f":"VLOOKUP(E144,Referencias!$B$4:$C$15,2,FALSE())","v":"3C"},{"$f":"VLOOKUP(C144,Referencias!$B$18:$C$34,2,FALSE())","v":"IB"},"C"]
["0703257","Vaquero Hernández, Cruz","Balear","D","Sin Categoría","Competición",4,{"$f":"VLOOKUP(E145,Referencias!$B$4:$C$15,2,FALSE())","v":"SC"},{"$f":"VLOOKUP(C145,Referencias!$B$18:$C$34,2,FALSE())","v":"IB"},"C"]
["0703258","Stange, Heidi","Balear","D","Tercera Corazón","Competición",3,{"$f":"VLOOKUP(E146,Referencias!$B$4:$C$15,2,FALSE())","v":"3C"},{"$f":"VLOOKUP(C146,Referencias!$B$18:$C$34,2,FALSE())","v":"IB"},"C"]
["0703261","Dudley, Anita Louise","Balear","D","Tercera Corazón","Competición",3,{"$f":"VLOOKUP(E147,Referencias!$B$4:$C$15,2,FALSE())","v":"3C"},{"$f":"VLOOKUP(C147,Referencias!$B$18:$C$34,2,FALSE())","v":"IB"},"C"]
["0703262","Novoa Sola, José María","Balear","C","Sin Categoría","Competición",4,{"$f":"VLOOKUP(E148,Referencias!$B$4:$C$15,2,FALSE())","v":"SC"},{"$f":"VLOOKUP(C148,Referencias!$B$18:$C$34,2,FALSE())","v":"IB"},"C"]
["0703263","Höhr, Christel","Balear","C","Sin Categoría","Competición",4,{"$f":"VLOOKUP(E149,Referencias!$B$4:$C$15,2,FALSE())","v":"SC"},{"$f":"VLOOKUP(C149,Referencias!$B$18:$C$34,2,FALSE())","v":"IB"},"C"]
["0703264","Bacher S, Hans","Balear","C","Tercera Diamante","Competición",3,{"$f":"VLOOKUP(E150,Referencias!$B$4:$C$15,2,FALSE())","v":"3D"},{"$f":"VLOOKUP(C150,Referencias!$B$18:$C$34,2,FALSE())","v":"IB"},"C"]
["0703265","Moragues Muñoz, Gloria","Balear","D","Tercera Corazón","Competición",3,{"$f":"VLOOKUP(E151,Referencias!$B$4:$C$15,2,FALSE())","v":"3C"},{"$f":"VLOOKUP(C151,Referencias!$B$18:$C$34,2,FALSE())","v":"IB"},"C"]
["0703266","Armenteros Costosa, Nuria","Balear","D","Tercera Corazón","Competición",3,{"$f":"VLOOKUP(E152,Referencias!$B$4:$C$15,2,FALSE())","v":"3C"},{"$f":"VLOOKUP(C152,Referencias!$B$18:$C$34,2,FALSE())","v":"IB"},"C"]
["0703267","Middelmann Blome, Alvaro","Balear","C","Sin Categoría","Competición",4,{"$f":"VLOOKUP(E153,Referencias!$B$4:$C$15,2,FALSE())","v":"SC"},{"$f":"VLOOKUP(C153,Referencias!$B$18:$C$34,2,FALSE())","v":"IB"},"C"]
["0703268","Middelmann Blome, Isabelle","Balear","D","Sin Categoría","Competición",4,{"$f":"VLOOKUP(E154,Referencias!$B$4:$C$15,2,FALSE())","v":"SC"},{"$f":"VLOOKUP(C154,Referencias!$B$18:$C$34,2,FALSE())","v":"IB"},"C"]
["0703269","Eiraldi Mautone, Selva","Balear","D","Primera Corazón","Competición",1,{"$f":"VLOOKUP(E155,Referencias!$B$4:$C$15,2,FALSE())","v":"1C"},{"$f":"VLOOKUP(C155,Referencias!$B$18:$C$34,2,FALSE())","v":"IB"},"C"]
["0703270","Legnani, Enzo","Balear","C","Segunda Picas","Competición",2,{"$f":"VLOOKUP(E156,Referencias!$B$4:$C$15,2,FALSE())","v":"2P"},{"$f":"VLOOKUP(C156,Referencias!$B$18:$C$34,2,FALSE())","v":"IB"},"C"]
["0703271","Rivaroli, Giancarla","Balear","D","Segunda Diamante","Competición",2,{"$f":"VLOOKUP(E157,Referencias!$B$4:$C$15,2,FALSE())","v":"2D"},{"$f":"VLOOKUP(C157,Referencias!$B$18:$C$34,2,FALSE())","v":"IB"},"C"]
["0703272","Mª de Lluch, Deya Frutos","Balear","D","Tercera Diamante","Competición",3,{"$f":"VLOOKUP(E158,Referencias!$B$4:$C$15,2,FALSE())","v":"3D"},{"$f":"VLOOKUP(C158,Referencias!$B$18:$C$34,2,FALSE())","v":"IB"},"C"]
["0703273","Loeffler, Isabel","Balear","D","Primera Diamante","Competición",1,{"$f":"VLOOKUP(E159,Referencias!$B$4:$C$15,2,FALSE())","v":"1D"},{"$f":"VLOOKUP(C159,Referencias!$B$18:$C$34,2,FALSE())","v":"IB"},"C"]
["0703274","Roennberg, Carlos","Balear","C","Tercera Diamante","Competición",3,{"$f":"VLOOKUP(E160,Referencias!$B$4:$C$15,2,FALSE())","v":"3D"},{"$f":"VLOOKUP(C160,Referencias!$B$18:$C$34,2,FALSE())","v":"IB"},"C"]
["0703275","Obrador Capó, Antonio","Balear","C","Tercera Corazón","Competición",3,{"$f":"VLOOKUP(E161,Referencias!$B$4:$C$15,2,FALSE())","v":"3C"},{"$f":"VLOOKUP(C161,Referencias!$B$18:$C$34,2,FALSE())","v":"IB"},"C"]
["0703277","Ferrer Villalonga, Catalina","Balear","C","Sin Categoría","Competición",4,{"$f":"VLOOKUP(E162,Referencias!$B$4:$C$15,2,FALSE())","v":"SC"},{"$f":"VLOOKUP(C162,Referencias!$B$18:$C$34,2,FALSE())","v":"IB"},"C"]
["0703278","García de Oteyza Fenández, Maria del Pilar","Balear","D","Sin Categoría","Competición",4,{"$f":"VLOOKUP(E163,Referencias!$B$4:$C$15,2,FALSE())","v":"SC"},{"$f":"VLOOKUP(C163,Referencias!$B$18:$C$34,2,FALSE())","v":"IB"},"C"]
["0703279","Rullán Moyá, Diego","Balear","C","Tercera Diamante","Competición",3,{"$f":"VLOOKUP(E164,Referencias!$B$4:$C$15,2,FALSE())","v":"3D"},{"$f":"VLOOKUP(C164,Referencias!$B$18:$C$34,2,FALSE())","v":"IB"},"C"]
["0703280","Arias Neira, Mercedes","Balear","D","Tercera Corazón","Competición",3,{"$f":"VLOOKUP(E165,Referencias!$B$4:$C$15,2,FALSE())","v":"3C"},{"$f":"VLOOKUP(C165,Referencias!$B$18:$C$34,2,FALSE())","v":"IB"},"C"]
["0703281","Moreto Matosas, María","Balear","D","Tercera Corazón","Competición",3,{"$f":"VLOOKUP(E166,Referencias!$B$4:$C$15,2,FALSE())","v":"3C"},{"$f":"VLOOKUP(C166,Referencias!$B$18:$C$34,2,FALSE())","v":"IB"},"C"]
["0703282","Obrador Rigo, María","Balear","D","Segunda Diamante","Competición",2,{"$f":"VLOOKUP(E167,Referencias!$B$4:$C$15,2,FALSE())","v":"2D"},{"$f":"VLOOKUP(C167,Referencias!$B$18:$C$34,2,FALSE())","v":"IB"},"C"]
["0703283","Jauch, Petra","Balear","D","Sin Categoría","Competición",4,{"$f":"VLOOKUP(E168,Referencias!$B$4:$C$15,2,FALSE())","v":"SC"},{"$f":"VLOOKUP(C168,Referencias!$B$18:$C$34,2,FALSE())","v":"IB"},"C"]
["0703285","Gual de Torrella Vidal, Marieta","Balear","D","Sin Categoría","Competición",4,{"$f":"VLOOKUP(E169,Referencias!$B$4:$C$15,2,FALSE())","v":"SC"},{"$f":"VLOOKUP(C169,Referencias!$B$18:$C$34,2,FALSE())","v":"IB"},"C"]
["0703286","Martín Rebollo, Mª Luisa","Balear","D","Tercera Diamante","Competición",3,{"$f":"VLOOKUP(E170,Referencias!$B$4:$C$15,2,FALSE())","v":"3D"},{"$f":"VLOOKUP(C170,Referencias!$B$18:$C$34,2,FALSE())","v":"IB"},"C"]
["0703287","Bascuñana de Castro, Pilar","Balear","D","Tercera Corazón","Competición",3,{"$f":"VLOOKUP(E171,Referencias!$B$4:$C$15,2,FALSE())","v":"3C"},{"$f":"VLOOKUP(C171,Referencias!$B$18:$C$34,2,FALSE())","v":"IB"},"C"]
["0703288","Ribera Ramón, Ana María","Balear","D","Tercera Diamante","Competición",3,{"$f":"VLOOKUP(E172,Referencias!$B$4:$C$15,2,FALSE())","v":"3D"},{"$f":"VLOOKUP(C172,Referencias!$B$18:$C$34,2,FALSE())","v":"IB"},"C"]
["0703289","Zaforteza de Corral, Clotilde","Balear","D","Sin Categoría","Competición",4,{"$f":"VLOOKUP(E173,Referencias!$B$4:$C$15,2,FALSE())","v":"SC"},{"$f":"VLOOKUP(C173,Referencias!$B$18:$C$34,2,FALSE())","v":"IB"},"C"]
["0703290","Zaforteza de Corral, Ana","Balear","D","Sin Categoría","Competición",4,{"$f":"VLOOKUP(E174,Referencias!$B$4:$C$15,2,FALSE())","v":"SC"},{"$f":"VLOOKUP(C174,Referencias!$B$18:$C$34,2,FALSE())","v":"IB"},"C"]
["0703291","Batten, Evi","Balear","D","Tercera Corazón","Competición",3,{"$f":"VLOOKUP(E175,Referencias!$B$4:$C$15,2,FALSE())","v":"3C"},{"$f":"VLOOKUP(C175,Referencias!$B$18:$C$34,2,FALSE())","v":"IB"},"C"]
["0703292","Batten, David","Balear","C","Tercera Corazón","Competición",3,{"$f":"VLOOKUP(E176,Referencias!$B$4:$C$15,2,FALSE())","v":"3C"},{"$f":"VLOOKUP(C176,Referencias!$B$18:$C$34,2,FALSE())","v":"IB"},"C"]
["0703293","Gross, Ronald","Balear","C","Segunda Diamante","Competición",2,{"$f":"VLOOKUP(E177,Referencias!$B$4:$C$15,2,FALSE())","v":"2D"},{"$f":"VLOOKUP(C177,Referencias!$B$18:$C$34,2,FALSE())","v":"IB"},"C"]
["0703294","Watson, Margit","Balear","D","Tercera Corazón","Competición",3,{"$f":"VLOOKUP(E178,Referencias!$B$4:$C$15,2,FALSE())","v":"3C"},{"$f":"VLOOKUP(C178,Referencias!$B$18:$C$34,2,FALSE())","v":"IB"},"C"]
["0703295","Daniels, Elizabeth Jane","Balear","C","Sin Categoría","Competición",4,{"$f":"VLOOKUP(E179,Referencias!$B$4:$C$15,2,FALSE())","v":"SC"},{"$f":"VLOOKUP(C179,Referencias!$B$18:$C$34,2,FALSE())","v":"IB"},"C"]
["0703296","Zaforteza Dezcallar, María","Balear","D","Sin Categoría","Competición",4,{"$f":"VLOOKUP(E180,Referencias!$B$4:$C$15,2,FALSE())","v":"SC"},{"$f":"VLOOKUP(C180,Referencias!$B$18:$C$34,2,FALSE())","v":"IB"},"C"]
["0703297","Quadreny Guasp, Pilar","Balear","D","Sin Categoría","Competición",4,{"$f":"VLOOKUP(E181,Referencias!$B$4:$C$15,2,FALSE())","v":"SC"},{"$f":"VLOOKUP(C181,Referencias!$B$18:$C$34,2,FALSE())","v":"IB"},"C"]
["0703626","Catany Sánchez, Ventura","Balear","C","Segunda Diamante","Competición",2,{"$f":"VLOOKUP(E182,Referencias!$B$4:$C$15,2,FALSE())","v":"2D"},{"$f":"VLOOKUP(C182,Referencias!$B$18:$C$34,2,FALSE())","v":"IB"},"C"]
["0820009","Escudé Bonet, Manel","Catalana","C","Sin Categoría","Competición",4,{"$f":"VLOOKUP(E183,Referencias!$B$4:$C$15,2,FALSE())","v":"SC"},{"$f":"VLOOKUP(C183,Referencias!$B$18:$C$34,2,FALSE())","v":"C"},"C"]
["0820041","Almirall Vall, Nuria","Catalana","D","Maestro Mundial","Competición",0,{"$f":"VLOOKUP(E184,Referencias!$B$4:$C$15,2,FALSE())","v":"MM"},{"$f":"VLOOKUP(C184,Referencias!$B$18:$C$34,2,FALSE())","v":"C"},"C"]
["0820042","Fernández Sanchiz, Carlos","Catalana","C","Maestro Nacional","Competición",0,{"$f":"VLOOKUP(E185,Referencias!$B$4:$C$15,2,FALSE())","v":"MN"},{"$f":"VLOOKUP(C185,Referencias!$B$18:$C$34,2,FALSE())","v":"C"},"C"]
["0820044","Almirall Vall, Marta","Catalana","D","Maestro Mundial","Competición",0,{"$f":"VLOOKUP(E186,Referencias!$B$4:$C$15,2,FALSE())","v":"MM"},{"$f":"VLOOKUP(C186,Referencias!$B$18:$C$34,2,FALSE())","v":"C"},"C"]
["0820046","Ventin Camprubi, Juan Carlos","Catalana","C","Maestro Mundial","Competición",0,{"$f":"VLOOKUP(E187,Referencias!$B$4:$C$15,2,FALSE())","v":"MM"},{"$f":"VLOOKUP(C187,Referencias!$B$18:$C$34,2,FALSE())","v":"C"},"C"]
["0820047","Llopart Egea, Amadeo","Catalana","C","Maestro Nacional","Competición",0,{"$f":"VLOOKUP(E188,Referencias!$B$4:$C$15,2,FALSE())","v":"MN"},{"$f":"VLOOKUP(C188,Referencias!$B$18:$C$34,2,FALSE())","v":"C"},"C"]
["0820052","Deó Valera, Santiago","Catalana","C","Sin Categoría","Competición",4,{"$f":"VLOOKUP(E189,Referencias!$B$4:$C$15,2,FALSE())","v":"SC"},{"$f":"VLOOKUP(C189,Referencias!$B$18:$C$34,2,FALSE())","v":"C"},"C"]
["0820053","Creuheras Margenat, Jose","Catalana","C","Maestro Nacional","Competición",0,{"$f":"VLOOKUP(E190,Referencias!$B$4:$C$15,2,FALSE())","v":"MN"},{"$f":"VLOOKUP(C190,Referencias!$B$18:$C$34,2,FALSE())","v":"C"},"C"]
["0820065","Almirall Vall, Lluis","Catalana","C","Primera Picas","Competición",1,{"$f":"VLOOKUP(E191,Referencias!$B$4:$C$15,2,FALSE())","v":"1P"},{"$f":"VLOOKUP(C191,Referencias!$B$18:$C$34,2,FALSE())","v":"C"},"C"]
["0820066","Pont Artigas, Juan","Catalana","C","Maestro Nacional","Competición",0,{"$f":"VLOOKUP(E192,Referencias!$B$4:$C$15,2,FALSE())","v":"MN"},{"$f":"VLOOKUP(C192,Referencias!$B$18:$C$34,2,FALSE())","v":"C"},{"$f":"IF(D192=\"Dama\",\"D\",\"C\")","v":"C"}]
["0820071","Mestres Rodriguez, Montserrat","Catalana","D","Maestro Nacional","Competición",0,{"$f":"VLOOKUP(E193,Referencias!$B$4:$C$15,2,FALSE())","v":"MN"},{"$f":"VLOOKUP(C193,Referencias!$B$18:$C$34,2,FALSE())","v":"C"},"C"]
["0820095","Goberna Redonnet, Xavier","AEB","C","Primera Diamante","Competición",1,{"$f":"VLOOKUP(E194,Referencias!$B$4:$C$15,2,FALSE())","v":"1D"},{"$f":"VLOOKUP(C194,Referencias!$B$18:$C$34,2,FALSE())","v":{"$error":"#N/A"}},"C"]
["0820102","Tatxe Salas, Mª Teresa","Catalana","D","Primera Picas","Competición",1,{"$f":"VLOOKUP(E195,Referencias!$B$4:$C$15,2,FALSE())","v":"1P"},{"$f":"VLOOKUP(C195,Referencias!$B$18:$C$34,2,FALSE())","v":"C"},"C"]
["0820107","Morego Sala, Juan Mª","Catalana","C","Sin Categoría","Competición",4,{"$f":"VLOOKUP(E196,Referencias!$B$4:$C$15,2,FALSE())","v":"SC"},{"$f":"VLOOKUP(C196,Referencias!$B$18:$C$34,2,FALSE())","v":"C"},"C"]
["0820115","Cabestany Illana, Jose Luis","Catalana","C","Primera Picas","Competición",1,{"$f":"VLOOKUP(E197,Referencias!$B$4:$C$15,2,FALSE())","v":"1P"},{"$f":"VLOOKUP(C197,Referencias!$B$18:$C$34,2,FALSE())","v":"C"},"C"]
["0820128","Quer Fabregas, Juan","Catalana","C","Primera Diamante","Competición",1,{"$f":"VLOOKUP(E198,Referencias!$B$4:$C$15,2,FALSE())","v":"1D"},{"$f":"VLOOKUP(C198,Referencias!$B$18:$C$34,2,FALSE())","v":"C"},"C"]
["0820131","Chokron Serfaty, Elias","Catalana","C","Primera Picas","Competición",1,{"$f":"VLOOKUP(E199,Referencias!$B$4:$C$15,2,FALSE())","v":"1P"},{"$f":"VLOOKUP(C199,Referencias!$B$18:$C$34,2,FALSE())","v":"C"},"C"]
["0820136","Pons Martorell, Jaime","Catalana","C","Primera Picas","Competición",1,{"$f":"VLOOKUP(E200,Referencias!$B$4:$C$15,2,FALSE())","v":"1P"},{"$f":"VLOOKUP(C200,Referencias!$B$18:$C$34,2,FALSE())","v":"C"},"C"]
["0820139","Boguña Riera, Inmaculada","Catalana","D","Segunda Corazón","Competición",2,{"$f":"VLOOKUP(E201,Referencias!$B$4:$C$15,2,FALSE())","v":"2C"},{"$f":"VLOOKUP(C201,Referencias!$B$18:$C$34,2,FALSE())","v":"C"},"C"]
["0820144","Jodar Laguna, Carmen","Catalana","D","Primera Picas","Competición",1,{"$f":"VLOOKUP(E202,Referencias!$B$4:$C$15,2,FALSE())","v":"1P"},{"$f":"VLOOKUP(C202,Referencias!$B$18:$C$34,2,FALSE())","v":"C"},"C"]
["0820148","Borrell Calonge, Soledad","Catalana","D","Primera Corazón","Competición",1,{"$f":"VLOOKUP(E203,Referencias!$B$4:$C$15,2,FALSE())","v":"1C"},{"$f":"VLOOKUP(C203,Referencias!$B$18:$C$34,2,FALSE())","v":"C"},"C"]
["0820169","Anidjar, Nina","Catalana","D","Primera Picas","Competición",1,{"$f":"VLOOKUP(E204,Referencias!$B$4:$C$15,2,FALSE())","v":"1P"},{"$f":"VLOOKUP(C204,Referencias!$B$18:$C$34,2,FALSE())","v":"C"},"C"]
["0820180","Ribalta Baro, Mercedes","Catalana","D","Segunda Picas","Competición",2,{"$f":"VLOOKUP(E205,Referencias!$B$4:$C$15,2,FALSE())","v":"2P"},{"$f":"VLOOKUP(C205,Referencias!$B$18:$C$34,2,FALSE())","v":"C"},"C"]
["0820195","Cañellas, Victor","Catalana","C","Primera Picas","Competición",1,{"$f":"VLOOKUP(E206,Referencias!$B$4:$C$15,2,FALSE())","v":"1P"},{"$f":"VLOOKUP(C206,Referencias!$B$18:$C$34,2,FALSE())","v":"C"},"C"]
["0820218","Marques de Caralt, Emilia","Catalana","D","Primera Corazón","Competición",1,{"$f":"VLOOKUP(E207,Referencias!$B$4:$C$15,2,FALSE())","v":"1C"},{"$f":"VLOOKUP(C207,Referencias!$B$18:$C$34,2,FALSE())","v":"C"},"C"]
["0820219","De Miquel Berenguer, Julio","Catalana","C","Segunda Picas","Competición",2,{"$f":"VLOOKUP(E208,Referencias!$B$4:$C$15,2,FALSE())","v":"2P"},{"$f":"VLOOKUP(C208,Referencias!$B$18:$C$34,2,FALSE())","v":"C"},"C"]
["0820242","Salsas Roig, Juan Alberto","Catalana","C","Primera Picas","Competición",1,{"$f":"VLOOKUP(E209,Referencias!$B$4:$C$15,2,FALSE())","v":"1P"},{"$f":"VLOOKUP(C209,Referencias!$B$18:$C$34,2,FALSE())","v":"C"},"C"]
["0820243","Montsalvatge Perez, Yvette","Catalana","D","Primera Diamante","Competición",1,{"$f":"VLOOKUP(E210,Referencias!$B$4:$C$15,2,FALSE())","v":"1D"},{"$f":"VLOOKUP(C210,Referencias!$B$18:$C$34,2,FALSE())","v":"C"},"C"]
["0820255","Monguió Morera, José","Catalana","C","Primera Picas","Competición",1,{"$f":"VLOOKUP(E211,Referencias!$B$4:$C$15,2,FALSE())","v":"1P"},{"$f":"VLOOKUP(C211,Referencias!$B$18:$C$34,2,FALSE())","v":"C"},"C"]
["0820256","Nadal Giro, Patricia","Catalana","D","Segunda Picas","Competición",2,{"$f":"VLOOKUP(E212,Referencias!$B$4:$C$15,2,FALSE())","v":"2P"},{"$f":"VLOOKUP(C212,Referencias!$B$18:$C$34,2,FALSE())","v":"C"},"C"]
["0820279","Estefanell Pañella, Carina","Cántabra","D","Segunda Corazón","Competición",2,{"$f":"VLOOKUP(E213,Referencias!$B$4:$C$15,2,FALSE())","v":"2C"},{"$f":"VLOOKUP(C213,Referencias!$B$18:$C$34,2,FALSE())","v":"CN"},"C"]
["0820305","Sanahuja Romani, Maribel","Catalana","D","Sin Categoría","Competición",4,{"$f":"VLOOKUP(E214,Referencias!$B$4:$C$15,2,FALSE())","v":"SC"},{"$f":"VLOOKUP(C214,Referencias!$B$18:$C$34,2,FALSE())","v":"C"},"C"]
["0820339","Latorre Mesa, Mª Isabel","Catalana","D","Sin Categoría","Competición",4,{"$f":"VLOOKUP(E215,Referencias!$B$4:$C$15,2,FALSE())","v":"SC"},{"$f":"VLOOKUP(C215,Referencias!$B$18:$C$34,2,FALSE())","v":"C"},"C"]
["0820368","Conti Penina, Ferran","Catalana","C","Primera Picas","Competición",1,{"$f":"VLOOKUP(E216,Referencias!$B$4:$C$15,2,FALSE())","v":"1P"},{"$f":"VLOOKUP(C216,Referencias!$B$18:$C$34,2,FALSE())","v":"C"},"C"]
["0820399","Font Formosa, Jose Mª","Catalana","C","Sin Categoría","Competición",4,{"$f":"VLOOKUP(E217,Referencias!$B$4:$C$15,2,FALSE())","v":"SC"},{"$f":"VLOOKUP(C217,Referencias!$B$18:$C$34,2,FALSE())","v":"C"},"C"]
["0820429","Torresi Cunill, Viviana","Catalana","D","Primera Diamante","Competición",1,{"$f":"VLOOKUP(E218,Referencias!$B$4:$C$15,2,FALSE())","v":"1D"},{"$f":"VLOOKUP(C218,Referencias!$B$18:$C$34,2,FALSE())","v":"C"},"C"]
["0820466","Almirall de Castellar, Montse","Catalana","D","Primera Picas","Competición",1,{"$f":"VLOOKUP(E219,Referencias!$B$4:$C$15,2,FALSE())","v":"1P"},{"$f":"VLOOKUP(C219,Referencias!$B$18:$C$34,2,FALSE())","v":"C"},"C"]
["0820478","Trapé Viladomat, Miquel","Catalana","C","Primera Picas","Competición",1,{"$f":"VLOOKUP(E220,Referencias!$B$4:$C$15,2,FALSE())","v":"1P"},{"$f":"VLOOKUP(C220,Referencias!$B$18:$C$34,2,FALSE())","v":"C"},"C"]
["0820496","Olano, Mª Dolores","Catalana","D","Primera Picas","Competición",1,{"$f":"VLOOKUP(E221,Referencias!$B$4:$C$15,2,FALSE())","v":"1P"},{"$f":"VLOOKUP(C221,Referencias!$B$18:$C$34,2,FALSE())","v":"C"},"C"]
["0820498","Riquelme, Mary","Catalana","D","Primera Picas","Competición",1,{"$f":"VLOOKUP(E222,Referencias!$B$4:$C$15,2,FALSE())","v":"1P"},{"$f":"VLOOKUP(C222,Referencias!$B$18:$C$34,2,FALSE())","v":"C"},"C"]
["0820500","Magriña de Sabala, Mª Teresa","Catalana","D","Primera Picas","Competición",1,{"$f":"VLOOKUP(E223,Referencias!$B$4:$C$15,2,FALSE())","v":"1P"},{"$f":"VLOOKUP(C223,Referencias!$B$18:$C$34,2,FALSE())","v":"C"},"C"]
["0820547","Rivera Avila, Neus","Catalana","D","Sin Categoría","Competición",4,{"$f":"VLOOKUP(E224,Referencias!$B$4:$C$15,2,FALSE())","v":"SC"},{"$f":"VLOOKUP(C224,Referencias!$B$18:$C$34,2,FALSE())","v":"C"},"C"]
["0820578","Garcigoy Graells, Beatriz","Catalana","D","Segunda Picas","Competición",2,{"$f":"VLOOKUP(E225,Referencias!$B$4:$C$15,2,FALSE())","v":"2P"},{"$f":"VLOOKUP(C225,Referencias!$B$18:$C$34,2,FALSE())","v":"C"},"C"]
["0820597","Alonso Santos, Mª Nieves","Catalana","D","Sin Categoría","Competición",4,{"$f":"VLOOKUP(E226,Referencias!$B$4:$C$15,2,FALSE())","v":"SC"},{"$f":"VLOOKUP(C226,Referencias!$B$18:$C$34,2,FALSE())","v":"C"},"C"]
["0820617","Heredia Arnabat, Francesc","Catalana","C","Primera Picas","Competición",1,{"$f":"VLOOKUP(E227,Referencias!$B$4:$C$15,2,FALSE())","v":"1P"},{"$f":"VLOOKUP(C227,Referencias!$B$18:$C$34,2,FALSE())","v":"C"},"C"]
["0820628","Querol Puig, Delfi","Catalana","C","Primera Picas","Competición",1,{"$f":"VLOOKUP(E228,Referencias!$B$4:$C$15,2,FALSE())","v":"1P"},{"$f":"VLOOKUP(C228,Referencias!$B$18:$C$34,2,FALSE())","v":"C"},"C"]
["0820654","Bensadon Laredo, Margaret","Catalana","D","Primera Picas","Competición",1,{"$f":"VLOOKUP(E229,Referencias!$B$4:$C$15,2,FALSE())","v":"1P"},{"$f":"VLOOKUP(C229,Referencias!$B$18:$C$34,2,FALSE())","v":"C"},"C"]
["0820657","Roselló Barrios, Teresa","AEB","D","Segunda Corazón","Competición",2,{"$f":"VLOOKUP(E230,Referencias!$B$4:$C$15,2,FALSE())","v":"2C"},{"$f":"VLOOKUP(C230,Referencias!$B$18:$C$34,2,FALSE())","v":{"$error":"#N/A"}},"C"]
["0820713","Cullere Cosido, Maria","Catalana","D","Tercera Diamante","Competición",3,{"$f":"VLOOKUP(E231,Referencias!$B$4:$C$15,2,FALSE())","v":"3D"},{"$f":"VLOOKUP(C231,Referencias!$B$18:$C$34,2,FALSE())","v":"C"},"C"]
["0820733","Frey, Jan","Catalana",null,"Primera Picas","Competición",1,{"$f":"VLOOKUP(E232,Referencias!$B$4:$C$15,2,FALSE())","v":"1P"},{"$f":"VLOOKUP(C232,Referencias!$B$18:$C$34,2,FALSE())","v":"C"},"C"]
["0820895","Martinez Monge, Bertha","Catalana","D","Primera Picas","Competición",1,{"$f":"VLOOKUP(E233,Referencias!$B$4:$C$15,2,FALSE())","v":"1P"},{"$f":"VLOOKUP(C233,Referencias!$B$18:$C$34,2,FALSE())","v":"C"},"C"]
["0820900","Berenguer, Pilar","Catalana","D","Segunda Picas","Competición",2,{"$f":"VLOOKUP(E234,Referencias!$B$4:$C$15,2,FALSE())","v":"2P"},{"$f":"VLOOKUP(C234,Referencias!$B$18:$C$34,2,FALSE())","v":"C"},"C"]
["0820903","Vilella Rahn, Ana","Catalana","D","Primera Picas","Competición",1,{"$f":"VLOOKUP(E235,Referencias!$B$4:$C$15,2,FALSE())","v":"1P"},{"$f":"VLOOKUP(C235,Referencias!$B$18:$C$34,2,FALSE())","v":"C"},"C"]
["0820976","Sandoval, Antonio","Catalana","C","Primera Picas","Competición",1,{"$f":"VLOOKUP(E236,Referencias!$B$4:$C$15,2,FALSE())","v":"1P"},{"$f":"VLOOKUP(C236,Referencias!$B$18:$C$34,2,FALSE())","v":"C"},"C"]
["0821074","Asayag, Moises","Catalana","C","Primera Picas","Competición",1,{"$f":"VLOOKUP(E237,Referencias!$B$4:$C$15,2,FALSE())","v":"1P"},{"$f":"VLOOKUP(C237,Referencias!$B$18:$C$34,2,FALSE())","v":"C"},"C"]
["0821105","Navarro de Guilera, Maribel","Catalana","D","Segunda Corazón","Competición",2,{"$f":"VLOOKUP(E238,Referencias!$B$4:$C$15,2,FALSE())","v":"2C"},{"$f":"VLOOKUP(C238,Referencias!$B$18:$C$34,2,FALSE())","v":"C"},"C"]
["0821111","Cobas Ros, Angel","Catalana","C","Primera Picas","Competición",1,{"$f":"VLOOKUP(E239,Referencias!$B$4:$C$15,2,FALSE())","v":"1P"},{"$f":"VLOOKUP(C239,Referencias!$B$18:$C$34,2,FALSE())","v":"C"},"C"]
["0821117","Mihaescu, Olga","Catalana","D","Primera Picas","Competición",1,{"$f":"VLOOKUP(E240,Referencias!$B$4:$C$15,2,FALSE())","v":"1P"},{"$f":"VLOOKUP(C240,Referencias!$B$18:$C$34,2,FALSE())","v":"C"},"C"]
["0821131","Markovic, Dragan","Catalana","C","Primera Picas","Competición",1,{"$f":"VLOOKUP(E241,Referencias!$B$4:$C$15,2,FALSE())","v":"1P"},{"$f":"VLOOKUP(C241,Referencias!$B$18:$C$34,2,FALSE())","v":"C"},"C"]
["0821167","Casals Ramis, Jorge","Catalana","C","Sin Categoría","Competición",4,{"$f":"VLOOKUP(E242,Referencias!$B$4:$C$15,2,FALSE())","v":"SC"},{"$f":"VLOOKUP(C242,Referencias!$B$18:$C$34,2,FALSE())","v":"C"},"C"]
["0821170","Frutos Dominguez, Juanjo","Catalana","C","Primera Picas","Competición",1,{"$f":"VLOOKUP(E243,Referencias!$B$4:$C$15,2,FALSE())","v":"1P"},{"$f":"VLOOKUP(C243,Referencias!$B$18:$C$34,2,FALSE())","v":"C"},"C"]
["0821235","Esteruelas Diez, Juan","Catalana","C","Primera Picas","Competición",1,{"$f":"VLOOKUP(E244,Referencias!$B$4:$C$15,2,FALSE())","v":"1P"},{"$f":"VLOOKUP(C244,Referencias!$B$18:$C$34,2,FALSE())","v":"C"},"C"]
["0821238","Liron Casas, Felipe","Catalana","C","Primera Picas","Competición",1,{"$f":"VLOOKUP(E245,Referencias!$B$4:$C$15,2,FALSE())","v":"1P"},{"$f":"VLOOKUP(C245,Referencias!$B$18:$C$34,2,FALSE())","v":"C"},"C"]
["0821411","De Llanza Maña, Carmen","Catalana","D","Segunda Picas","Competición",2,{"$f":"VLOOKUP(E246,Referencias!$B$4:$C$15,2,FALSE())","v":"2P"},{"$f":"VLOOKUP(C246,Referencias!$B$18:$C$34,2,FALSE())","v":"C"},"C"]
["0821468","Barrabeig de Negra, Carmen","Catalana","D","Sin Categoría","Competición",4,{"$f":"VLOOKUP(E247,Referencias!$B$4:$C$15,2,FALSE())","v":"SC"},{"$f":"VLOOKUP(C247,Referencias!$B$18:$C$34,2,FALSE())","v":"C"},"C"]
["0821533","Revuelta de La Poza, Alejandro","Catalana","C","Primera Picas","Competición",1,{"$f":"VLOOKUP(E248,Referencias!$B$4:$C$15,2,FALSE())","v":"1P"},{"$f":"VLOOKUP(C248,Referencias!$B$18:$C$34,2,FALSE())","v":"C"},"C"]
["0821535","Sanchez, Koldo","Catalana","C","Primera Picas","Competición",1,{"$f":"VLOOKUP(E249,Referencias!$B$4:$C$15,2,FALSE())","v":"1P"},{"$f":"VLOOKUP(C249,Referencias!$B$18:$C$34,2,FALSE())","v":"C"},"C"]
["0821543","Paravisini Marsans, Tania","Cántabra","D","Primera Diamante","Competición",1,{"$f":"VLOOKUP(E250,Referencias!$B$4:$C$15,2,FALSE())","v":"1D"},{"$f":"VLOOKUP(C250,Referencias!$B$18:$C$34,2,FALSE())","v":"CN"},"C"]
["0821546","Trillo, Patricia","Catalana","D","Segunda Corazón","Competición",2,{"$f":"VLOOKUP(E251,Referencias!$B$4:$C$15,2,FALSE())","v":"2C"},{"$f":"VLOOKUP(C251,Referencias!$B$18:$C$34,2,FALSE())","v":"C"},"C"]
["0821641","Azagury, Sidney","Catalana","C","Primera Picas","Competición",1,{"$f":"VLOOKUP(E252,Referencias!$B$4:$C$15,2,FALSE())","v":"1P"},{"$f":"VLOOKUP(C252,Referencias!$B$18:$C$34,2,FALSE())","v":"C"},"C"]
["0821677","Ojeda Gomez, Ramon","Catalana","C","Primera Picas","Competición",1,{"$f":"VLOOKUP(E253,Referencias!$B$4:$C$15,2,FALSE())","v":"1P"},{"$f":"VLOOKUP(C253,Referencias!$B$18:$C$34,2,FALSE())","v":"C"},"C"]
["0821701","Mansilla Llobet, Maria","Catalana","D","Primera Picas","Competición",1,{"$f":"VLOOKUP(E254,Referencias!$B$4:$C$15,2,FALSE())","v":"1P"},{"$f":"VLOOKUP(C254,Referencias!$B$18:$C$34,2,FALSE())","v":"C"},"C"]
["0821714","Portabella Cornet, Mª José","AEB","D","Sin Categoría","Competición",4,{"$f":"VLOOKUP(E255,Referencias!$B$4:$C$15,2,FALSE())","v":"SC"},{"$f":"VLOOKUP(C255,Referencias!$B$18:$C$34,2,FALSE())","v":{"$error":"#N/A"}},"C"]
["0821827","Trias, Lourdes","Catalana","D","Segunda Picas","Competición",2,{"$f":"VLOOKUP(E256,Referencias!$B$4:$C$15,2,FALSE())","v":"2P"},{"$f":"VLOOKUP(C256,Referencias!$B$18:$C$34,2,FALSE())","v":"C"},{"$f":"IF(D256=\"Dama\",\"D\",\"C\")","v":"C"}]
["0821854","Ballabriga Muñoz, Mariano","Catalana","C","Segunda Picas","Competición",2,{"$f":"VLOOKUP(E257,Referencias!$B$4:$C$15,2,FALSE())","v":"2P"},{"$f":"VLOOKUP(C257,Referencias!$B$18:$C$34,2,FALSE())","v":"C"},"C"]
["0821876","Acero Casamitja, Carles","Catalana","C","Sin Categoría","Competición",4,{"$f":"VLOOKUP(E258,Referencias!$B$4:$C$15,2,FALSE())","v":"SC"},{"$f":"VLOOKUP(C258,Referencias!$B$18:$C$34,2,FALSE())","v":"C"},"C"]
["0821883","Filella Cunill, Ramon","Catalana","C","Primera Picas","Competición",1,{"$f":"VLOOKUP(E259,Referencias!$B$4:$C$15,2,FALSE())","v":"1P"},{"$f":"VLOOKUP(C259,Referencias!$B$18:$C$34,2,FALSE())","v":"C"},"C"]
["0821900","Lopez Arilla, Xavier","Catalana","C","Primera Picas","Competición",1,{"$f":"VLOOKUP(E260,Referencias!$B$4:$C$15,2,FALSE())","v":"1P"},{"$f":"VLOOKUP(C260,Referencias!$B$18:$C$34,2,FALSE())","v":"C"},"C"]
["0821943","Soudan, Luc","Catalana","C","Maestro Mundial","Competición",0,{"$f":"VLOOKUP(E261,Referencias!$B$4:$C$15,2,FALSE())","v":"MM"},{"$f":"VLOOKUP(C261,Referencias!$B$18:$C$34,2,FALSE())","v":"C"},"C"]
["0821948","Suñol Torres, Llorens","Catalana","C","Primera Picas","Competición",1,{"$f":"VLOOKUP(E262,Referencias!$B$4:$C$15,2,FALSE())","v":"1P"},{"$f":"VLOOKUP(C262,Referencias!$B$18:$C$34,2,FALSE())","v":"C"},"C"]
["0821959","Gómez Hierro, Ramón","Catalana","C","Maestro Nacional","Competición",0,{"$f":"VLOOKUP(E263,Referencias!$B$4:$C$15,2,FALSE())","v":"MN"},{"$f":"VLOOKUP(C263,Referencias!$B$18:$C$34,2,FALSE())","v":"C"},"C"]
["0821960","Priu Tous, Joan","Catalana","C","Primera Picas","Competición",1,{"$f":"VLOOKUP(E264,Referencias!$B$4:$C$15,2,FALSE())","v":"1P"},{"$f":"VLOOKUP(C264,Referencias!$B$18:$C$34,2,FALSE())","v":"C"},"C"]
["0821974","Massana, Aleix","Catalana","C","Segunda Corazón","Competición",2,{"$f":"VLOOKUP(E265,Referencias!$B$4:$C$15,2,FALSE())","v":"2C"},{"$f":"VLOOKUP(C265,Referencias!$B$18:$C$34,2,FALSE())","v":"C"},"C"]
["0822037","Brenner, Diego","Catalana","C","Maestro Mundial","Competición",0,{"$f":"VLOOKUP(E266,Referencias!$B$4:$C$15,2,FALSE())","v":"MM"},{"$f":"VLOOKUP(C266,Referencias!$B$18:$C$34,2,FALSE())","v":"C"},"C"]
["0822040","Ugalde, Marisa","Catalana","D","Segunda Picas","Competición",2,{"$f":"VLOOKUP(E267,Referencias!$B$4:$C$15,2,FALSE())","v":"2P"},{"$f":"VLOOKUP(C267,Referencias!$B$18:$C$34,2,FALSE())","v":"C"},"C"]
["0822042","Andreu Serra, Carlota","AEB","D","Tercera Diamante","Competición",3,{"$f":"VLOOKUP(E268,Referencias!$B$4:$C$15,2,FALSE())","v":"3D"},{"$f":"VLOOKUP(C268,Referencias!$B$18:$C$34,2,FALSE())","v":{"$error":"#N/A"}},"C"]
["0822051","Soler Masana, Pilar","Catalana","D","Segunda Picas","Competición",2,{"$f":"VLOOKUP(E269,Referencias!$B$4:$C$15,2,FALSE())","v":"2P"},{"$f":"VLOOKUP(C269,Referencias!$B$18:$C$34,2,FALSE())","v":"C"},"C"]
["0822052","Puigdomenech, Montse","Catalana","D","Segunda Picas","Competición",2,{"$f":"VLOOKUP(E270,Referencias!$B$4:$C$15,2,FALSE())","v":"2P"},{"$f":"VLOOKUP(C270,Referencias!$B$18:$C$34,2,FALSE())","v":"C"},"C"]
["0822054","Ceballos Cortes, Carmen","Catalana","D","Primera Picas","Competición",1,{"$f":"VLOOKUP(E271,Referencias!$B$4:$C$15,2,FALSE())","v":"1P"},{"$f":"VLOOKUP(C271,Referencias!$B$18:$C$34,2,FALSE())","v":"C"},"C"]
["0822055","Serra Galobart, Jose Isidro","Catalana","C","Primera Picas","Competición",1,{"$f":"VLOOKUP(E272,Referencias!$B$4:$C$15,2,FALSE())","v":"1P"},{"$f":"VLOOKUP(C272,Referencias!$B$18:$C$34,2,FALSE())","v":"C"},"C"]
["0822088","Hortal Jodar, Joaquin","Catalana","C","Primera Diamante","Competición",1,{"$f":"VLOOKUP(E273,Referencias!$B$4:$C$15,2,FALSE())","v":"1D"},{"$f":"VLOOKUP(C273,Referencias!$B$18:$C$34,2,FALSE())","v":"C"},"C"]
["0822095","Porras Angostures, Susana","Catalana","D","Segunda Picas","Competición",2,{"$f":"VLOOKUP(E274,Referencias!$B$4:$C$15,2,FALSE())","v":"2P"},{"$f":"VLOOKUP(C274,Referencias!$B$18:$C$34,2,FALSE())","v":"C"},"C"]
["0822117","Alegre de Miquel, Ignacio","Catalana","C","Segunda Corazón","Competición",2,{"$f":"VLOOKUP(E275,Referencias!$B$4:$C$15,2,FALSE())","v":"2C"},{"$f":"VLOOKUP(C275,Referencias!$B$18:$C$34,2,FALSE())","v":"C"},"C"]
["0822125","González Freire, Neus","AEB","D","Sin Categoría","Competición",4,{"$f":"VLOOKUP(E276,Referencias!$B$4:$C$15,2,FALSE())","v":"SC"},{"$f":"VLOOKUP(C276,Referencias!$B$18:$C$34,2,FALSE())","v":{"$error":"#N/A"}},"C"]
["0822142","Jordá López, Carles","Catalana","C","Sin Categoría","Competición",4,{"$f":"VLOOKUP(E277,Referencias!$B$4:$C$15,2,FALSE())","v":"SC"},{"$f":"VLOOKUP(C277,Referencias!$B$18:$C$34,2,FALSE())","v":"C"},"C"]
["0822144","Espinosa Goedert, Teha","Catalana","D","Primera Corazón","Competición",1,{"$f":"VLOOKUP(E278,Referencias!$B$4:$C$15,2,FALSE())","v":"1C"},{"$f":"VLOOKUP(C278,Referencias!$B$18:$C$34,2,FALSE())","v":"C"},"C"]
["0822161","Font Quer, Gabriela","Catalana","D","Primera Picas","Competición",1,{"$f":"VLOOKUP(E279,Referencias!$B$4:$C$15,2,FALSE())","v":"1P"},{"$f":"VLOOKUP(C279,Referencias!$B$18:$C$34,2,FALSE())","v":"C"},"C"]
["0822169","Canti Torrabadella, Isabel","Catalana","D","Sin Categoría","Competición",4,{"$f":"VLOOKUP(E280,Referencias!$B$4:$C$15,2,FALSE())","v":"SC"},{"$f":"VLOOKUP(C280,Referencias!$B$18:$C$34,2,FALSE())","v":"C"},"C"]
["0822173","Saenz de Cabezón Millet, Marta","Catalana","D","Primera Corazón","Competición",1,{"$f":"VLOOKUP(E281,Referencias!$B$4:$C$15,2,FALSE())","v":"1C"},{"$f":"VLOOKUP(C281,Referencias!$B$18:$C$34,2,FALSE())","v":"C"},"C"]
["0822176","Frowein, Marisa","Catalana","D","Tercera Corazón","Competición",3,{"$f":"VLOOKUP(E282,Referencias!$B$4:$C$15,2,FALSE())","v":"3C"},{"$f":"VLOOKUP(C282,Referencias!$B$18:$C$34,2,FALSE())","v":"C"},"C"]
["0822230","Balcells García, Alfredo","AEB","C","Segunda Corazón","Competición",2,{"$f":"VLOOKUP(E283,Referencias!$B$4:$C$15,2,FALSE())","v":"2C"},{"$f":"VLOOKUP(C283,Referencias!$B$18:$C$34,2,FALSE())","v":{"$error":"#N/A"}},"C"]
["0822257","Lillo Espinosa, Rosa María","Catalana","D","Segunda Corazón","Competición",2,{"$f":"VLOOKUP(E284,Referencias!$B$4:$C$15,2,FALSE())","v":"2C"},{"$f":"VLOOKUP(C284,Referencias!$B$18:$C$34,2,FALSE())","v":"C"},"C"]
["0822299","Rotger Briones, Helena","AEB","D","Segunda Corazón","Competición",2,{"$f":"VLOOKUP(E285,Referencias!$B$4:$C$15,2,FALSE())","v":"2C"},{"$f":"VLOOKUP(C285,Referencias!$B$18:$C$34,2,FALSE())","v":{"$error":"#N/A"}},"C"]
["0822300","Pericas Pages, Mª Antonia","AEB","D","Sin Categoría","Competición",4,{"$f":"VLOOKUP(E286,Referencias!$B$4:$C$15,2,FALSE())","v":"SC"},{"$f":"VLOOKUP(C286,Referencias!$B$18:$C$34,2,FALSE())","v":{"$error":"#N/A"}},"C"]
["0822302","García Canet, Mª Ángeles","Catalana","D","Segunda Picas","Competición",2,{"$f":"VLOOKUP(E287,Referencias!$B$4:$C$15,2,FALSE())","v":"2P"},{"$f":"VLOOKUP(C287,Referencias!$B$18:$C$34,2,FALSE())","v":"C"},"C"]
["0822303","Yagüe Romero, Juan José","Catalana","C","Segunda Picas","Competición",2,{"$f":"VLOOKUP(E288,Referencias!$B$4:$C$15,2,FALSE())","v":"2P"},{"$f":"VLOOKUP(C288,Referencias!$B$18:$C$34,2,FALSE())","v":"C"},"C"]
["0822317","Pallares Just, Nuria","Catalana","D","Segunda Corazón","Competición",2,{"$f":"VLOOKUP(E289,Referencias!$B$4:$C$15,2,FALSE())","v":"2C"},{"$f":"VLOOKUP(C289,Referencias!$B$18:$C$34,2,FALSE())","v":"C"},"C"]
["0822318","Gras de Molins, Miguel","Catalana","C","Segunda Corazón","Competición",2,{"$f":"VLOOKUP(E290,Referencias!$B$4:$C$15,2,FALSE())","v":"2C"},{"$f":"VLOOKUP(C290,Referencias!$B$18:$C$34,2,FALSE())","v":"C"},"C"]
["0822351","Seinen, Siger","Catalana","C","Sin Categoría","Competición",4,{"$f":"VLOOKUP(E291,Referencias!$B$4:$C$15,2,FALSE())","v":"SC"},{"$f":"VLOOKUP(C291,Referencias!$B$18:$C$34,2,FALSE())","v":"C"},"C"]
["0822386","Salvany Rius, Joaquim Jordi","Catalana","C","Primera Corazón","Competición",1,{"$f":"VLOOKUP(E292,Referencias!$B$4:$C$15,2,FALSE())","v":"1C"},{"$f":"VLOOKUP(C292,Referencias!$B$18:$C$34,2,FALSE())","v":"C"},"C"]
["0822393","Bigas Bonamusa, Jaume","Catalana",null,"Segunda Diamante","Competición",2,{"$f":"VLOOKUP(E293,Referencias!$B$4:$C$15,2,FALSE())","v":"2D"},{"$f":"VLOOKUP(C293,Referencias!$B$18:$C$34,2,FALSE())","v":"C"},"C"]
["0822397","Cabestany Illana, Eva","Catalana","D","Tercera Corazón","Competición",3,{"$f":"VLOOKUP(E294,Referencias!$B$4:$C$15,2,FALSE())","v":"3C"},{"$f":"VLOOKUP(C294,Referencias!$B$18:$C$34,2,FALSE())","v":"C"},"C"]
["0822405","Lliso Lis, Elisabet","Catalana",null,"Tercera Picas","Competición",3,{"$f":"VLOOKUP(E295,Referencias!$B$4:$C$15,2,FALSE())","v":"3P"},{"$f":"VLOOKUP(C295,Referencias!$B$18:$C$34,2,FALSE())","v":"C"},"C"]
["0822408","Villalobos, Xavier","Catalana",null,"Segunda Corazón","Competición",2,{"$f":"VLOOKUP(E296,Referencias!$B$4:$C$15,2,FALSE())","v":"2C"},{"$f":"VLOOKUP(C296,Referencias!$B$18:$C$34,2,FALSE())","v":"C"},"C"]
["0822440","Llagostera Soto, Esther","Catalana",null,"Tercera Picas","Competición",3,{"$f":"VLOOKUP(E297,Referencias!$B$4:$C$15,2,FALSE())","v":"3P"},{"$f":"VLOOKUP(C297,Referencias!$B$18:$C$34,2,FALSE())","v":"C"},"C"]
["0822449","Madrazo Serna, Jose Manuel","Catalana","C","Segunda Corazón","Competición",2,{"$f":"VLOOKUP(E298,Referencias!$B$4:$C$15,2,FALSE())","v":"2C"},{"$f":"VLOOKUP(C298,Referencias!$B$18:$C$34,2,FALSE())","v":"C"},"C"]
["0822451","Linares Del Valle, Joaquina","Catalana","D","Tercera Picas","Competición",3,{"$f":"VLOOKUP(E299,Referencias!$B$4:$C$15,2,FALSE())","v":"3P"},{"$f":"VLOOKUP(C299,Referencias!$B$18:$C$34,2,FALSE())","v":"C"},"C"]
["0822463","Agut, Tomas","Catalana","C","Segunda Diamante","Competición",2,{"$f":"VLOOKUP(E300,Referencias!$B$4:$C$15,2,FALSE())","v":"2D"},{"$f":"VLOOKUP(C300,Referencias!$B$18:$C$34,2,FALSE())","v":"C"},"C"]
["0822464","Casals Fradera, Juan","Catalana",null,"Tercera Diamante","Competición",3,{"$f":"VLOOKUP(E301,Referencias!$B$4:$C$15,2,FALSE())","v":"3D"},{"$f":"VLOOKUP(C301,Referencias!$B$18:$C$34,2,FALSE())","v":"C"},"C"]
["0822469","Garriga Sole, Jordi","Catalana",null,"Segunda Corazón","Competición",2,{"$f":"VLOOKUP(E302,Referencias!$B$4:$C$15,2,FALSE())","v":"2C"},{"$f":"VLOOKUP(C302,Referencias!$B$18:$C$34,2,FALSE())","v":"C"},"C"]
["0822513","Callejo Castillo,  Joan","Catalana",null,"Segunda Diamante","Competición",2,{"$f":"VLOOKUP(E303,Referencias!$B$4:$C$15,2,FALSE())","v":"2D"},{"$f":"VLOOKUP(C303,Referencias!$B$18:$C$34,2,FALSE())","v":"C"},"C"]
["0822514","Callejo Olmos, Justo","Catalana","C","Tercera Picas","Competición",3,{"$f":"VLOOKUP(E304,Referencias!$B$4:$C$15,2,FALSE())","v":"3P"},{"$f":"VLOOKUP(C304,Referencias!$B$18:$C$34,2,FALSE())","v":"C"},"C"]
["0822515","Castillo De La Rosa, Elena","Catalana",null,"Tercera Picas","Competición",3,{"$f":"VLOOKUP(E305,Referencias!$B$4:$C$15,2,FALSE())","v":"3P"},{"$f":"VLOOKUP(C305,Referencias!$B$18:$C$34,2,FALSE())","v":"C"},"C"]
["0822522","Puerto Moreno, Daniel","Catalana","C","Segunda Picas","Competición",2,{"$f":"VLOOKUP(E306,Referencias!$B$4:$C$15,2,FALSE())","v":"2P"},{"$f":"VLOOKUP(C306,Referencias!$B$18:$C$34,2,FALSE())","v":"C"},"C"]
["0822531","Gazulla Baldenas, Fermín","Catalana","C","Segunda Picas","Competición",2,{"$f":"VLOOKUP(E307,Referencias!$B$4:$C$15,2,FALSE())","v":"2P"},{"$f":"VLOOKUP(C307,Referencias!$B$18:$C$34,2,FALSE())","v":"C"},"C"]
["0822538","Rafecas Ventosa, Jordi","Catalana","C","Primera Diamante","Competición",1,{"$f":"VLOOKUP(E308,Referencias!$B$4:$C$15,2,FALSE())","v":"1D"},{"$f":"VLOOKUP(C308,Referencias!$B$18:$C$34,2,FALSE())","v":"C"},"C"]
["0822545","Palau Ponsa, Francesc","Catalana","C","Sin Categoría","Competición",4,{"$f":"VLOOKUP(E309,Referencias!$B$4:$C$15,2,FALSE())","v":"SC"},{"$f":"VLOOKUP(C309,Referencias!$B$18:$C$34,2,FALSE())","v":"C"},"C"]
["0822546","Bascones Gleave, Juan","Catalana","C","Segunda Corazón","Competición",2,{"$f":"VLOOKUP(E310,Referencias!$B$4:$C$15,2,FALSE())","v":"2C"},{"$f":"VLOOKUP(C310,Referencias!$B$18:$C$34,2,FALSE())","v":"C"},"C"]
["0822548","Mundo Tricas, Pilar","AEB","D","Sin Categoría","Competición",4,{"$f":"VLOOKUP(E311,Referencias!$B$4:$C$15,2,FALSE())","v":"SC"},{"$f":"VLOOKUP(C311,Referencias!$B$18:$C$34,2,FALSE())","v":{"$error":"#N/A"}},"C"]
["0822549","Hugas Segarra, May","Catalana","D","Sin Categoría","Competición",4,{"$f":"VLOOKUP(E312,Referencias!$B$4:$C$15,2,FALSE())","v":"SC"},{"$f":"VLOOKUP(C312,Referencias!$B$18:$C$34,2,FALSE())","v":"C"},"C"]
["0822550","Pujol Niubo, Agustin","Catalana","C","Sin Categoría","Competición",4,{"$f":"VLOOKUP(E313,Referencias!$B$4:$C$15,2,FALSE())","v":"SC"},{"$f":"VLOOKUP(C313,Referencias!$B$18:$C$34,2,FALSE())","v":"C"},"C"]
["0822561","Marti Aixela, Montse","Catalana","D","Sin Categoría","Competición",4,{"$f":"VLOOKUP(E314,Referencias!$B$4:$C$15,2,FALSE())","v":"SC"},{"$f":"VLOOKUP(C314,Referencias!$B$18:$C$34,2,FALSE())","v":"C"},"C"]
["0822565","Milesi, Eric","Catalana","C","Sin Categoría","Junior",4,{"$f":"VLOOKUP(E315,Referencias!$B$4:$C$15,2,FALSE())","v":"SC"},{"$f":"VLOOKUP(C315,Referencias!$B$18:$C$34,2,FALSE())","v":"C"},"C"]
["0822569","Valls-Taberner, Marta","Catalana","D","Sin Categoría","Competición",4,{"$f":"VLOOKUP(E316,Referencias!$B$4:$C$15,2,FALSE())","v":"SC"},{"$f":"VLOOKUP(C316,Referencias!$B$18:$C$34,2,FALSE())","v":"C"},"C"]
["0823358","Catalán Bartrina, Pep","Catalana","C","Sin Categoría","Competición",4,{"$f":"VLOOKUP(E317,Referencias!$B$4:$C$15,2,FALSE())","v":"SC"},{"$f":"VLOOKUP(C317,Referencias!$B$18:$C$34,2,FALSE())","v":"C"},"C"]
["0823361","Gardenghi, Oslo","Catalana","C","Sin Categoría","Junior",4,{"$f":"VLOOKUP(E318,Referencias!$B$4:$C$15,2,FALSE())","v":"SC"},{"$f":"VLOOKUP(C318,Referencias!$B$18:$C$34,2,FALSE())","v":"C"},"C"]
["0823363","Garcia López, Nicolás","Catalana","C","Sin Categoría","Competición",4,{"$f":"VLOOKUP(E319,Referencias!$B$4:$C$15,2,FALSE())","v":"SC"},{"$f":"VLOOKUP(C319,Referencias!$B$18:$C$34,2,FALSE())","v":"C"},"C"]
["0823364","Palma, Antonio","Catalana","C","Sin Categoría","Competición",4,{"$f":"VLOOKUP(E320,Referencias!$B$4:$C$15,2,FALSE())","v":"SC"},{"$f":"VLOOKUP(C320,Referencias!$B$18:$C$34,2,FALSE())","v":"C"},{"$f":"IF(D320=\"Dama\",\"D\",\"C\")","v":"C"}]
["0823372","Jaumandreu Patxot, Alex","Catalana","C","Sin Categoría","Competición",4,{"$f":"VLOOKUP(E321,Referencias!$B$4:$C$15,2,FALSE())","v":"SC"},{"$f":"VLOOKUP(C321,Referencias!$B$18:$C$34,2,FALSE())","v":"C"},"C"]
["0823373","Cirera Nogueras, Gabriel","Catalana","C","Sin Categoría","Competición",4,{"$f":"VLOOKUP(E322,Referencias!$B$4:$C$15,2,FALSE())","v":"SC"},{"$f":"VLOOKUP(C322,Referencias!$B$18:$C$34,2,FALSE())","v":"C"},"C"]
["0823382","Bonafonte Magri, Jorge","Catalana","C","Sin Categoría","Competición",4,{"$f":"VLOOKUP(E323,Referencias!$B$4:$C$15,2,FALSE())","v":"SC"},{"$f":"VLOOKUP(C323,Referencias!$B$18:$C$34,2,FALSE())","v":"C"},"C"]
["0971062","Vences Quintela, Mari Carmen","Castilla y León","D","Tercera Corazón","Competición",3,{"$f":"VLOOKUP(E324,Referencias!$B$4:$C$15,2,FALSE())","v":"3C"},{"$f":"VLOOKUP(C324,Referencias!$B$18:$C$34,2,FALSE())","v":"CL"},"C"]
["0971064","García Miño, M. del Carmen","Castilla y León","D","Sin Categoría","Competición",4,{"$f":"VLOOKUP(E325,Referencias!$B$4:$C$15,2,FALSE())","v":"SC"},{"$f":"VLOOKUP(C325,Referencias!$B$18:$C$34,2,FALSE())","v":"CL"},"C"]
["0971070","Mozas Bartolome, Jesús","Castilla y León","C","Sin Categoría","Competición",4,{"$f":"VLOOKUP(E326,Referencias!$B$4:$C$15,2,FALSE())","v":"SC"},{"$f":"VLOOKUP(C326,Referencias!$B$18:$C$34,2,FALSE())","v":"CL"},"C"]
["0971123","Senderos Martinez, Carmen","Castilla y León","D","Sin Categoría","Competición",4,{"$f":"VLOOKUP(E327,Referencias!$B$4:$C$15,2,FALSE())","v":"SC"},{"$f":"VLOOKUP(C327,Referencias!$B$18:$C$34,2,FALSE())","v":"CL"},"C"]
["0971124","Derqui, Ana María","Castilla y León","D","Tercera Corazón","Competición",3,{"$f":"VLOOKUP(E328,Referencias!$B$4:$C$15,2,FALSE())","v":"3C"},{"$f":"VLOOKUP(C328,Referencias!$B$18:$C$34,2,FALSE())","v":"CL"},"C"]
["0971141","García Larrouy, José Luis","Castilla y León","C","Primera Picas","Competición",1,{"$f":"VLOOKUP(E329,Referencias!$B$4:$C$15,2,FALSE())","v":"1P"},{"$f":"VLOOKUP(C329,Referencias!$B$18:$C$34,2,FALSE())","v":"CL"},"C"]
["0971165","Díez Puertas, Carlos","Castilla y León","C","Segunda Diamante","Competición",2,{"$f":"VLOOKUP(E330,Referencias!$B$4:$C$15,2,FALSE())","v":"2D"},{"$f":"VLOOKUP(C330,Referencias!$B$18:$C$34,2,FALSE())","v":"CL"},"C"]
["0971177","Valderrama Alcalde, Juan Rodrigo","Castilla y León","C","Primera Picas","Competición",1,{"$f":"VLOOKUP(E331,Referencias!$B$4:$C$15,2,FALSE())","v":"1P"},{"$f":"VLOOKUP(C331,Referencias!$B$18:$C$34,2,FALSE())","v":"CL"},"C"]
["0971192","Díez Puertas, Luis Gonzaga","Castilla y León","C","Segunda Picas","Competición",2,{"$f":"VLOOKUP(E332,Referencias!$B$4:$C$15,2,FALSE())","v":"2P"},{"$f":"VLOOKUP(C332,Referencias!$B$18:$C$34,2,FALSE())","v":"CL"},"C"]
["0971193","Díez Puertas, Gregorio","Castilla y León","C","Segunda Corazón","Competición",2,{"$f":"VLOOKUP(E333,Referencias!$B$4:$C$15,2,FALSE())","v":"2C"},{"$f":"VLOOKUP(C333,Referencias!$B$18:$C$34,2,FALSE())","v":"CL"},"C"]
["0971215","Jorgensen, Allan","Castilla y León","C","Segunda Picas","Competición",2,{"$f":"VLOOKUP(E334,Referencias!$B$4:$C$15,2,FALSE())","v":"2P"},{"$f":"VLOOKUP(C334,Referencias!$B$18:$C$34,2,FALSE())","v":"CL"},"C"]
["0971348","Martín Mateo, María del Carmen","Cántabra","D","Tercera Diamante","Competición",3,{"$f":"VLOOKUP(E335,Referencias!$B$4:$C$15,2,FALSE())","v":"3D"},{"$f":"VLOOKUP(C335,Referencias!$B$18:$C$34,2,FALSE())","v":"CN"},"C"]
["0971349","Rodríguez Saez, Carlos","Cántabra","C","Tercera Diamante","Competición",3,{"$f":"VLOOKUP(E336,Referencias!$B$4:$C$15,2,FALSE())","v":"3D"},{"$f":"VLOOKUP(C336,Referencias!$B$18:$C$34,2,FALSE())","v":"CN"},"C"]
["0971363","González García, Mª Carmen","Castilla y León","D","Sin Categoría","Competición",4,{"$f":"VLOOKUP(E337,Referencias!$B$4:$C$15,2,FALSE())","v":"SC"},{"$f":"VLOOKUP(C337,Referencias!$B$18:$C$34,2,FALSE())","v":"CL"},"C"]
["0975205","Gil P. de Barquin, M. Gertrudis","Castilla y León","D","Sin Categoría","Competición",4,{"$f":"VLOOKUP(E338,Referencias!$B$4:$C$15,2,FALSE())","v":"SC"},{"$f":"VLOOKUP(C338,Referencias!$B$18:$C$34,2,FALSE())","v":"CL"},"C"]
["0975212","Abeytua de Cobo, Mayte","Castilla y León","D","Sin Categoría","Competición",4,{"$f":"VLOOKUP(E339,Referencias!$B$4:$C$15,2,FALSE())","v":"SC"},{"$f":"VLOOKUP(C339,Referencias!$B$18:$C$34,2,FALSE())","v":"CL"},"C"]
["0975219","García de Viedma, Enrique","Castilla y León","C","Sin Categoría","Competición",4,{"$f":"VLOOKUP(E340,Referencias!$B$4:$C$15,2,FALSE())","v":"SC"},{"$f":"VLOOKUP(C340,Referencias!$B$18:$C$34,2,FALSE())","v":"CL"},"C"]
["0975222","Gómez de Cadiñanos Rodriguez, M. Francisca","Castilla y León","D","Sin Categoría","Competición",4,{"$f":"VLOOKUP(E341,Referencias!$B$4:$C$15,2,FALSE())","v":"SC"},{"$f":"VLOOKUP(C341,Referencias!$B$18:$C$34,2,FALSE())","v":"CL"},"C"]
["0975224","Alonso de Miralpeix, M. Victoria","Castilla y León","D","Tercera Corazón","Competición",3,{"$f":"VLOOKUP(E342,Referencias!$B$4:$C$15,2,FALSE())","v":"3C"},{"$f":"VLOOKUP(C342,Referencias!$B$18:$C$34,2,FALSE())","v":"CL"},"C"]
["0975233","Villaluenga de García, Ana María","Castilla y León","D","Sin Categoría","Competición",4,{"$f":"VLOOKUP(E343,Referencias!$B$4:$C$15,2,FALSE())","v":"SC"},{"$f":"VLOOKUP(C343,Referencias!$B$18:$C$34,2,FALSE())","v":"CL"},"C"]
["0975240","Calzada Martínez, Rosalía","Castilla y León","D","Sin Categoría","Competición",4,{"$f":"VLOOKUP(E344,Referencias!$B$4:$C$15,2,FALSE())","v":"SC"},{"$f":"VLOOKUP(C344,Referencias!$B$18:$C$34,2,FALSE())","v":"CL"},"C"]
["1161018","De la Yglesia Colom, Rosario","Andaluza","D","Primera Corazón","Competición",1,{"$f":"VLOOKUP(E345,Referencias!$B$4:$C$15,2,FALSE())","v":"1C"},{"$f":"VLOOKUP(C345,Referencias!$B$18:$C$34,2,FALSE())","v":"A"},"C"]
["1161019","De Cozar Pardo, Felipe José","Andaluza","C","Primera Corazón","Competición",1,{"$f":"VLOOKUP(E346,Referencias!$B$4:$C$15,2,FALSE())","v":"1C"},{"$f":"VLOOKUP(C346,Referencias!$B$18:$C$34,2,FALSE())","v":"A"},"C"]
["1161054","Palomares Saéz, Inmaculada","Andaluza","D","Segunda Picas","Competición",2,{"$f":"VLOOKUP(E347,Referencias!$B$4:$C$15,2,FALSE())","v":"2P"},{"$f":"VLOOKUP(C347,Referencias!$B$18:$C$34,2,FALSE())","v":"A"},"C"]
["1161062","Pardo Otero, Mercedes","Andaluza","D","Primera Diamante","Competición",1,{"$f":"VLOOKUP(E348,Referencias!$B$4:$C$15,2,FALSE())","v":"1D"},{"$f":"VLOOKUP(C348,Referencias!$B$18:$C$34,2,FALSE())","v":"A"},"C"]
["1161078","Mateos Zurdo, José","Andaluza","C","Primera Diamante","Competición",1,{"$f":"VLOOKUP(E349,Referencias!$B$4:$C$15,2,FALSE())","v":"1D"},{"$f":"VLOOKUP(C349,Referencias!$B$18:$C$34,2,FALSE())","v":"A"},"C"]
["1161271","Jiménez Fernández, Marina","Andaluza","D","Sin Categoría","Competición",4,{"$f":"VLOOKUP(E350,Referencias!$B$4:$C$15,2,FALSE())","v":"SC"},{"$f":"VLOOKUP(C350,Referencias!$B$18:$C$34,2,FALSE())","v":"A"},"C"]
["1161278","Blanco Gallardo, Carlos","Andaluza","C","Segunda Diamante","Competición",2,{"$f":"VLOOKUP(E351,Referencias!$B$4:$C$15,2,FALSE())","v":"2D"},{"$f":"VLOOKUP(C351,Referencias!$B$18:$C$34,2,FALSE())","v":"A"},"C"]
["1161287","Villota Osborne, Ana","Andaluza","D","Primera Corazón","Competición",1,{"$f":"VLOOKUP(E352,Referencias!$B$4:$C$15,2,FALSE())","v":"1C"},{"$f":"VLOOKUP(C352,Referencias!$B$18:$C$34,2,FALSE())","v":"A"},"C"]
["1161313","Nieto Moreno, Noemí","Andaluza","D","Segunda Picas","Competición",2,{"$f":"VLOOKUP(E353,Referencias!$B$4:$C$15,2,FALSE())","v":"2P"},{"$f":"VLOOKUP(C353,Referencias!$B$18:$C$34,2,FALSE())","v":"A"},"C"]
["1161384","Gárate Martínez, José María","Andaluza","C","Primera Picas","Competición",1,{"$f":"VLOOKUP(E354,Referencias!$B$4:$C$15,2,FALSE())","v":"1P"},{"$f":"VLOOKUP(C354,Referencias!$B$18:$C$34,2,FALSE())","v":"A"},"C"]
["1161421","Osborne Sánz-Magallón, María","Andaluza","D","Primera Corazón","Competición",1,{"$f":"VLOOKUP(E355,Referencias!$B$4:$C$15,2,FALSE())","v":"1C"},{"$f":"VLOOKUP(C355,Referencias!$B$18:$C$34,2,FALSE())","v":"A"},"C"]
["1161423","Romaní Cabanillas, Francisco","Andaluza","C","Segunda Picas","Competición",2,{"$f":"VLOOKUP(E356,Referencias!$B$4:$C$15,2,FALSE())","v":"2P"},{"$f":"VLOOKUP(C356,Referencias!$B$18:$C$34,2,FALSE())","v":"A"},"C"]
["1161451","Arteaga Dávila, Elvira","Andaluza","D","Segunda Corazón","Competición",2,{"$f":"VLOOKUP(E357,Referencias!$B$4:$C$15,2,FALSE())","v":"2C"},{"$f":"VLOOKUP(C357,Referencias!$B$18:$C$34,2,FALSE())","v":"A"},"C"]
["1161452","Jiménez-Alfaro Romero, Francisco","Andaluza","C","Primera Picas","Competición",1,{"$f":"VLOOKUP(E358,Referencias!$B$4:$C$15,2,FALSE())","v":"1P"},{"$f":"VLOOKUP(C358,Referencias!$B$18:$C$34,2,FALSE())","v":"A"},"C"]
["1161453","Rodríguez Puelles, Mercedes","Andaluza","D","Primera Diamante","Competición",1,{"$f":"VLOOKUP(E359,Referencias!$B$4:$C$15,2,FALSE())","v":"1D"},{"$f":"VLOOKUP(C359,Referencias!$B$18:$C$34,2,FALSE())","v":"A"},"C"]
["1161513","Velázquez Alcazar, María Paz","Andaluza","D","Tercera Picas","Competición",3,{"$f":"VLOOKUP(E360,Referencias!$B$4:$C$15,2,FALSE())","v":"3P"},{"$f":"VLOOKUP(C360,Referencias!$B$18:$C$34,2,FALSE())","v":"A"},"C"]
["1161514","Pardo Pubul, Angeles","Andaluza","D","Primera Diamante","Competición",1,{"$f":"VLOOKUP(E361,Referencias!$B$4:$C$15,2,FALSE())","v":"1D"},{"$f":"VLOOKUP(C361,Referencias!$B$18:$C$34,2,FALSE())","v":"A"},"C"]
["1161529","Rivero Menendez-Ormaza, Victoria","Andaluza","C","Primera Diamante","Competición",1,{"$f":"VLOOKUP(E362,Referencias!$B$4:$C$15,2,FALSE())","v":"1D"},{"$f":"VLOOKUP(C362,Referencias!$B$18:$C$34,2,FALSE())","v":"A"},"C"]
["1161530","Díez Vergara, Pilar","Andaluza","D","Tercera Picas","Competición",3,{"$f":"VLOOKUP(E363,Referencias!$B$4:$C$15,2,FALSE())","v":"3P"},{"$f":"VLOOKUP(C363,Referencias!$B$18:$C$34,2,FALSE())","v":"A"},"C"]
["1161531","Díaz-Gálvez de la Cámara, Carmen","Andaluza","D","Tercera Picas","Competición",3,{"$f":"VLOOKUP(E364,Referencias!$B$4:$C$15,2,FALSE())","v":"3P"},{"$f":"VLOOKUP(C364,Referencias!$B$18:$C$34,2,FALSE())","v":"A"},"C"]
["1161532","Filhol, Claire","Andaluza","D","Segunda Diamante","Competición",2,{"$f":"VLOOKUP(E365,Referencias!$B$4:$C$15,2,FALSE())","v":"2D"},{"$f":"VLOOKUP(C365,Referencias!$B$18:$C$34,2,FALSE())","v":"A"},"C"]
["1161535","Bustamante Molina, Mª Angeles","Andaluza","D","Tercera Picas","Competición",3,{"$f":"VLOOKUP(E366,Referencias!$B$4:$C$15,2,FALSE())","v":"3P"},{"$f":"VLOOKUP(C366,Referencias!$B$18:$C$34,2,FALSE())","v":"A"},"C"]
["1161536","Mariñas Dávila, Emilia","Andaluza","D","Tercera Picas","Competición",3,{"$f":"VLOOKUP(E367,Referencias!$B$4:$C$15,2,FALSE())","v":"3P"},{"$f":"VLOOKUP(C367,Referencias!$B$18:$C$34,2,FALSE())","v":"A"},"C"]
["1161549","Alvarez-Requejo Pérez, Marta","Andaluza","D","Sin Categoría","Competición",4,{"$f":"VLOOKUP(E368,Referencias!$B$4:$C$15,2,FALSE())","v":"SC"},{"$f":"VLOOKUP(C368,Referencias!$B$18:$C$34,2,FALSE())","v":"A"},"C"]
["1161550","Sánchez-Briñas de Leyva, Salud","Andaluza","D","Sin Categoría","Competición",4,{"$f":"VLOOKUP(E369,Referencias!$B$4:$C$15,2,FALSE())","v":"SC"},{"$f":"VLOOKUP(C369,Referencias!$B$18:$C$34,2,FALSE())","v":"A"},"C"]
["1161551","Gandarias Nuñez, Mª Luz","Andaluza","D","Tercera Corazón","Competición",3,{"$f":"VLOOKUP(E370,Referencias!$B$4:$C$15,2,FALSE())","v":"3C"},{"$f":"VLOOKUP(C370,Referencias!$B$18:$C$34,2,FALSE())","v":"A"},"C"]
["1161567","Artesero Pinilla, Pilar","Andaluza","D","Tercera Picas","Competición",3,{"$f":"VLOOKUP(E371,Referencias!$B$4:$C$15,2,FALSE())","v":"3P"},{"$f":"VLOOKUP(C371,Referencias!$B$18:$C$34,2,FALSE())","v":"A"},"C"]
["1161568","Cobian Echevarria,  Mª Dolores","Andaluza","D","Segunda Corazón","Competición",2,{"$f":"VLOOKUP(E372,Referencias!$B$4:$C$15,2,FALSE())","v":"2C"},{"$f":"VLOOKUP(C372,Referencias!$B$18:$C$34,2,FALSE())","v":"A"},"C"]
["1161570","Foley, Simón","Andaluza","C","Tercera Diamante","Competición",3,{"$f":"VLOOKUP(E373,Referencias!$B$4:$C$15,2,FALSE())","v":"3D"},{"$f":"VLOOKUP(C373,Referencias!$B$18:$C$34,2,FALSE())","v":"A"},"C"]
["1161572","Juliá Díaz, Marian","Andaluza","D","Tercera Corazón","Competición",3,{"$f":"VLOOKUP(E374,Referencias!$B$4:$C$15,2,FALSE())","v":"3C"},{"$f":"VLOOKUP(C374,Referencias!$B$18:$C$34,2,FALSE())","v":"A"},"C"]
["1161574","Robina Porras, Josefina","Andaluza","D","Tercera Picas","Competición",3,{"$f":"VLOOKUP(E375,Referencias!$B$4:$C$15,2,FALSE())","v":"3P"},{"$f":"VLOOKUP(C375,Referencias!$B$18:$C$34,2,FALSE())","v":"A"},"C"]
["1161576","Sutil Marcos, Antonio","Andaluza","C","Segunda Corazón","Competición",2,{"$f":"VLOOKUP(E376,Referencias!$B$4:$C$15,2,FALSE())","v":"2C"},{"$f":"VLOOKUP(C376,Referencias!$B$18:$C$34,2,FALSE())","v":"A"},"C"]
["1161579","Miralles de Imperial, Mª Luisa","Andaluza","D","Tercera Picas","Competición",3,{"$f":"VLOOKUP(E377,Referencias!$B$4:$C$15,2,FALSE())","v":"3P"},{"$f":"VLOOKUP(C377,Referencias!$B$18:$C$34,2,FALSE())","v":"A"},"C"]
["1161598","Mateos Zurdo, Isabel","Andaluza","D","Segunda Corazón","Competición",2,{"$f":"VLOOKUP(E378,Referencias!$B$4:$C$15,2,FALSE())","v":"2C"},{"$f":"VLOOKUP(C378,Referencias!$B$18:$C$34,2,FALSE())","v":"A"},"C"]
["1161600","Fernández Dosal, Pilar","Andaluza","D","Tercera Diamante","Competición",3,{"$f":"VLOOKUP(E379,Referencias!$B$4:$C$15,2,FALSE())","v":"3D"},{"$f":"VLOOKUP(C379,Referencias!$B$18:$C$34,2,FALSE())","v":"A"},"C"]
["1161601","Freire, María","Andaluza","D","Tercera Diamante","Competición",3,{"$f":"VLOOKUP(E380,Referencias!$B$4:$C$15,2,FALSE())","v":"3D"},{"$f":"VLOOKUP(C380,Referencias!$B$18:$C$34,2,FALSE())","v":"A"},"C"]
["1161604","Perdigones, Francisco","Andaluza","C","Tercera Diamante","Competición",3,{"$f":"VLOOKUP(E381,Referencias!$B$4:$C$15,2,FALSE())","v":"3D"},{"$f":"VLOOKUP(C381,Referencias!$B$18:$C$34,2,FALSE())","v":"A"},"C"]
["1161605","Pérez, Piluca","Andaluza","D","Tercera Corazón","Competición",3,{"$f":"VLOOKUP(E382,Referencias!$B$4:$C$15,2,FALSE())","v":"3C"},{"$f":"VLOOKUP(C382,Referencias!$B$18:$C$34,2,FALSE())","v":"A"},"C"]
["1161606","Serrera, Salud","Andaluza","D","Sin Categoría","Competición",4,{"$f":"VLOOKUP(E383,Referencias!$B$4:$C$15,2,FALSE())","v":"SC"},{"$f":"VLOOKUP(C383,Referencias!$B$18:$C$34,2,FALSE())","v":"A"},"C"]
["1161609","Cozar Pardo, Rafael","Andaluza","C","Tercera Picas","Competición",3,{"$f":"VLOOKUP(E384,Referencias!$B$4:$C$15,2,FALSE())","v":"3P"},{"$f":"VLOOKUP(C384,Referencias!$B$18:$C$34,2,FALSE())","v":"A"},{"$f":"IF(D384=\"Dama\",\"D\",\"C\")","v":"C"}]
["1161611","Thorpe, Nicholas","Andaluza","C","Tercera Picas","Competición",3,{"$f":"VLOOKUP(E385,Referencias!$B$4:$C$15,2,FALSE())","v":"3P"},{"$f":"VLOOKUP(C385,Referencias!$B$18:$C$34,2,FALSE())","v":"A"},"C"]
["1161612","Palomares Sáez, Ana","Andaluza","D","Tercera Diamante","Competición",3,{"$f":"VLOOKUP(E386,Referencias!$B$4:$C$15,2,FALSE())","v":"3D"},{"$f":"VLOOKUP(C386,Referencias!$B$18:$C$34,2,FALSE())","v":"A"},"C"]
["1161638","Pardo Manuel de Villena, Pedro","Andaluza","C","Sin Categoría","Competición",4,{"$f":"VLOOKUP(E387,Referencias!$B$4:$C$15,2,FALSE())","v":"SC"},{"$f":"VLOOKUP(C387,Referencias!$B$18:$C$34,2,FALSE())","v":"A"},"C"]
["1161639","González Martínez, Corona","Andaluza","D","Sin Categoría","Competición",4,{"$f":"VLOOKUP(E388,Referencias!$B$4:$C$15,2,FALSE())","v":"SC"},{"$f":"VLOOKUP(C388,Referencias!$B$18:$C$34,2,FALSE())","v":"A"},"C"]
["1161642","Medina, Rosario","Andaluza","D","Sin Categoría","Competición",4,{"$f":"VLOOKUP(E389,Referencias!$B$4:$C$15,2,FALSE())","v":"SC"},{"$f":"VLOOKUP(C389,Referencias!$B$18:$C$34,2,FALSE())","v":"A"},"C"]
["1161643","Benjumea Llorente, Rocío","Andaluza","D","Sin Categoría","Competición",4,{"$f":"VLOOKUP(E390,Referencias!$B$4:$C$15,2,FALSE())","v":"SC"},{"$f":"VLOOKUP(C390,Referencias!$B$18:$C$34,2,FALSE())","v":"A"},"C"]
["1161648","Carvallo de Cora, Jorge","Andaluza","C","Sin Categoría","Competición",4,{"$f":"VLOOKUP(E391,Referencias!$B$4:$C$15,2,FALSE())","v":"SC"},{"$f":"VLOOKUP(C391,Referencias!$B$18:$C$34,2,FALSE())","v":"A"},"C"]
["1161649","Bajo Arenas, Rosario","Andaluza","D","Segunda Diamante","Competición",2,{"$f":"VLOOKUP(E392,Referencias!$B$4:$C$15,2,FALSE())","v":"2D"},{"$f":"VLOOKUP(C392,Referencias!$B$18:$C$34,2,FALSE())","v":"A"},"C"]
["1161662","Ales Esteban, Carlos","Andaluza","C","Tercera Diamante","Competición",3,{"$f":"VLOOKUP(E393,Referencias!$B$4:$C$15,2,FALSE())","v":"3D"},{"$f":"VLOOKUP(C393,Referencias!$B$18:$C$34,2,FALSE())","v":"A"},"C"]
["1161663","Gómez Valero, Mª Teresa","Andaluza","D","Tercera Diamante","Competición",3,{"$f":"VLOOKUP(E394,Referencias!$B$4:$C$15,2,FALSE())","v":"3D"},{"$f":"VLOOKUP(C394,Referencias!$B$18:$C$34,2,FALSE())","v":"A"},"C"]
["1161664","Bardet Lascaux-Laforest, Liliana","Andaluza","D","Tercera Diamante","Competición",3,{"$f":"VLOOKUP(E395,Referencias!$B$4:$C$15,2,FALSE())","v":"3D"},{"$f":"VLOOKUP(C395,Referencias!$B$18:$C$34,2,FALSE())","v":"A"},"C"]
["1161665","Ayuso García, Pilar","Andaluza","D","Tercera Diamante","Competición",3,{"$f":"VLOOKUP(E396,Referencias!$B$4:$C$15,2,FALSE())","v":"3D"},{"$f":"VLOOKUP(C396,Referencias!$B$18:$C$34,2,FALSE())","v":"A"},"C"]
["1161667","Sánchez de Cos Escuin, Javier","Andaluza","C","Tercera Diamante","Competición",3,{"$f":"VLOOKUP(E397,Referencias!$B$4:$C$15,2,FALSE())","v":"3D"},{"$f":"VLOOKUP(C397,Referencias!$B$18:$C$34,2,FALSE())","v":"A"},"C"]
["1161668","Miguel de la Villa, Ricardo","Andaluza","C","Tercera Diamante","Competición",3,{"$f":"VLOOKUP(E398,Referencias!$B$4:$C$15,2,FALSE())","v":"3D"},{"$f":"VLOOKUP(C398,Referencias!$B$18:$C$34,2,FALSE())","v":"A"},"C"]
["1161669","Terry Osborne, Elisa","Andaluza","D","Sin Categoría","Competición",4,{"$f":"VLOOKUP(E399,Referencias!$B$4:$C$15,2,FALSE())","v":"SC"},{"$f":"VLOOKUP(C399,Referencias!$B$18:$C$34,2,FALSE())","v":"A"},"C"]
["1161671","Sánchez-Ferragut  Guelfo, María del Carmen","Andaluza","D","Tercera Diamante","Competición",3,{"$f":"VLOOKUP(E400,Referencias!$B$4:$C$15,2,FALSE())","v":"3D"},{"$f":"VLOOKUP(C400,Referencias!$B$18:$C$34,2,FALSE())","v":"A"},"C"]
["1161676","Merchante Gutierrez, Mª José","Andaluza","D","Tercera Diamante","Competición",3,{"$f":"VLOOKUP(E401,Referencias!$B$4:$C$15,2,FALSE())","v":"3D"},{"$f":"VLOOKUP(C401,Referencias!$B$18:$C$34,2,FALSE())","v":"A"},"C"]
["1161677","Moreno Valiente, Cristobal","Andaluza","C","Tercera Diamante","Competición",3,{"$f":"VLOOKUP(E402,Referencias!$B$4:$C$15,2,FALSE())","v":"3D"},{"$f":"VLOOKUP(C402,Referencias!$B$18:$C$34,2,FALSE())","v":"A"},"C"]
["1161678","Siloniz Fernández, Encarnación","Andaluza","D","Tercera Diamante","Competición",3,{"$f":"VLOOKUP(E403,Referencias!$B$4:$C$15,2,FALSE())","v":"3D"},{"$f":"VLOOKUP(C403,Referencias!$B$18:$C$34,2,FALSE())","v":"A"},"C"]
["1161679","Aguado Santos, Julia María","Andaluza","D","Sin Categoría","Competición",4,{"$f":"VLOOKUP(E404,Referencias!$B$4:$C$15,2,FALSE())","v":"SC"},{"$f":"VLOOKUP(C404,Referencias!$B$18:$C$34,2,FALSE())","v":"A"},"C"]
["1161683","Sánchez Gracián, Mª Luisa","Andaluza","D","Tercera Diamante","Competición",3,{"$f":"VLOOKUP(E405,Referencias!$B$4:$C$15,2,FALSE())","v":"3D"},{"$f":"VLOOKUP(C405,Referencias!$B$18:$C$34,2,FALSE())","v":"A"},"C"]
["1161685","Hortelano de la Lastra, Ana María","Andaluza","D","Tercera Diamante","Competición",3,{"$f":"VLOOKUP(E406,Referencias!$B$4:$C$15,2,FALSE())","v":"3D"},{"$f":"VLOOKUP(C406,Referencias!$B$18:$C$34,2,FALSE())","v":"A"},"C"]
["1161686","Asencio Marchante, Maria del Rosario","Andaluza","D","Tercera Diamante","Competición",3,{"$f":"VLOOKUP(E407,Referencias!$B$4:$C$15,2,FALSE())","v":"3D"},{"$f":"VLOOKUP(C407,Referencias!$B$18:$C$34,2,FALSE())","v":"A"},"C"]
["1161699","Fernández de Bobadilla Rivero, Alvaro","Andaluza","C","Maestro Nacional","Competición",0,{"$f":"VLOOKUP(E408,Referencias!$B$4:$C$15,2,FALSE())","v":"MN"},{"$f":"VLOOKUP(C408,Referencias!$B$18:$C$34,2,FALSE())","v":"A"},"C"]
["1161707","Lamana Chico, Mª Cristina","Andaluza","D","Tercera Diamante","Competición",3,{"$f":"VLOOKUP(E409,Referencias!$B$4:$C$15,2,FALSE())","v":"3D"},{"$f":"VLOOKUP(C409,Referencias!$B$18:$C$34,2,FALSE())","v":"A"},"C"]
["1161720","Mendoza Delgado, Carmen","Andaluza","D","Sin Categoría","Competición",4,{"$f":"VLOOKUP(E410,Referencias!$B$4:$C$15,2,FALSE())","v":"SC"},{"$f":"VLOOKUP(C410,Referencias!$B$18:$C$34,2,FALSE())","v":"A"},"C"]
["1161721","Villanueva Ruíz-Mateos, Cristina","Andaluza","D","Sin Categoría","Competición",4,{"$f":"VLOOKUP(E411,Referencias!$B$4:$C$15,2,FALSE())","v":"SC"},{"$f":"VLOOKUP(C411,Referencias!$B$18:$C$34,2,FALSE())","v":"A"},"C"]
["1161729","Van Kretschmar, Rutgera Eugenie","Andaluza","D","Sin Categoría","Competición",4,{"$f":"VLOOKUP(E412,Referencias!$B$4:$C$15,2,FALSE())","v":"SC"},{"$f":"VLOOKUP(C412,Referencias!$B$18:$C$34,2,FALSE())","v":"A"},"C"]
["1161730","Barreras Pérez, Julio","Andaluza","C","Tercera Diamante","Competición",3,{"$f":"VLOOKUP(E413,Referencias!$B$4:$C$15,2,FALSE())","v":"3D"},{"$f":"VLOOKUP(C413,Referencias!$B$18:$C$34,2,FALSE())","v":"A"},"C"]
["1161732","Braña Pino, Julio","Andaluza","C","Segunda Diamante","Competición",2,{"$f":"VLOOKUP(E414,Referencias!$B$4:$C$15,2,FALSE())","v":"2D"},{"$f":"VLOOKUP(C414,Referencias!$B$18:$C$34,2,FALSE())","v":"A"},"C"]
["1161734","Arrospide Carrero, Alfonso","Andaluza","C","Segunda Diamante","Competición",2,{"$f":"VLOOKUP(E415,Referencias!$B$4:$C$15,2,FALSE())","v":"2D"},{"$f":"VLOOKUP(C415,Referencias!$B$18:$C$34,2,FALSE())","v":"A"},"C"]
["1161737","Español Lage, Luis","Andaluza","C","Tercera Diamante","Competición",3,{"$f":"VLOOKUP(E416,Referencias!$B$4:$C$15,2,FALSE())","v":"3D"},{"$f":"VLOOKUP(C416,Referencias!$B$18:$C$34,2,FALSE())","v":"A"},"C"]
["1161740","Domecq Solis, María Micaela","Andaluza","D","Sin Categoría","Competición",4,{"$f":"VLOOKUP(E417,Referencias!$B$4:$C$15,2,FALSE())","v":"SC"},{"$f":"VLOOKUP(C417,Referencias!$B$18:$C$34,2,FALSE())","v":"A"},"C"]
["1161742","Morenes Giles, Mercedes","Andaluza","D","Tercera Diamante","Competición",3,{"$f":"VLOOKUP(E418,Referencias!$B$4:$C$15,2,FALSE())","v":"3D"},{"$f":"VLOOKUP(C418,Referencias!$B$18:$C$34,2,FALSE())","v":"A"},"C"]
["1161743","Gutierrez Colosia, Elisa","Andaluza","D","Sin Categoría","Competición",4,{"$f":"VLOOKUP(E419,Referencias!$B$4:$C$15,2,FALSE())","v":"SC"},{"$f":"VLOOKUP(C419,Referencias!$B$18:$C$34,2,FALSE())","v":"A"},"C"]
["1161744","Roca de Togores Pérez de Gúzman, Pedro","Andaluza","C","Sin Categoría","Competición",4,{"$f":"VLOOKUP(E420,Referencias!$B$4:$C$15,2,FALSE())","v":"SC"},{"$f":"VLOOKUP(C420,Referencias!$B$18:$C$34,2,FALSE())","v":"A"},"C"]
["1161760","O´Farrel Cervera, Verónica","Andaluza","D","Sin Categoría","Competición",4,{"$f":"VLOOKUP(E421,Referencias!$B$4:$C$15,2,FALSE())","v":"SC"},{"$f":"VLOOKUP(C421,Referencias!$B$18:$C$34,2,FALSE())","v":"A"},"C"]
["1161762","Bruno William Maria, Krul","Andaluza","C","Sin Categoría","Competición",4,{"$f":"VLOOKUP(E422,Referencias!$B$4:$C$15,2,FALSE())","v":"SC"},{"$f":"VLOOKUP(C422,Referencias!$B$18:$C$34,2,FALSE())","v":"A"},"C"]
["1161764","Hildegard, Williams","Andaluza","D","Sin Categoría","Competición",4,{"$f":"VLOOKUP(E423,Referencias!$B$4:$C$15,2,FALSE())","v":"SC"},{"$f":"VLOOKUP(C423,Referencias!$B$18:$C$34,2,FALSE())","v":"A"},"C"]
["1161770","Karel, Matthijs","Andaluza","C","Sin Categoría","Competición",4,{"$f":"VLOOKUP(E424,Referencias!$B$4:$C$15,2,FALSE())","v":"SC"},{"$f":"VLOOKUP(C424,Referencias!$B$18:$C$34,2,FALSE())","v":"A"},"C"]
["1167009","De Lorgeril Dupeyron, Sabine","Andaluza","D","Segunda Corazón","Competición",2,{"$f":"VLOOKUP(E425,Referencias!$B$4:$C$15,2,FALSE())","v":"2C"},{"$f":"VLOOKUP(C425,Referencias!$B$18:$C$34,2,FALSE())","v":"A"},"C"]
["1167015","Fdez. de Bobadilla Rivero, Regla","Andaluza","D","Primera Corazón","Competición",1,{"$f":"VLOOKUP(E426,Referencias!$B$4:$C$15,2,FALSE())","v":"1C"},{"$f":"VLOOKUP(C426,Referencias!$B$18:$C$34,2,FALSE())","v":"A"},"C"]
["1167021","Jurado Alvarez, Alfonso","Andaluza","C","Segunda Picas","Competición",2,{"$f":"VLOOKUP(E427,Referencias!$B$4:$C$15,2,FALSE())","v":"2P"},{"$f":"VLOOKUP(C427,Referencias!$B$18:$C$34,2,FALSE())","v":"A"},"C"]
["1167026","Pemartín Díez, Agueda","Andaluza","D","Segunda Corazón","Competición",2,{"$f":"VLOOKUP(E428,Referencias!$B$4:$C$15,2,FALSE())","v":"2C"},{"$f":"VLOOKUP(C428,Referencias!$B$18:$C$34,2,FALSE())","v":"A"},"C"]
["1241070","Villalonga Sancho, Amparo","Levantina","D","Sin Categoría","Competición",4,{"$f":"VLOOKUP(E429,Referencias!$B$4:$C$15,2,FALSE())","v":"SC"},{"$f":"VLOOKUP(C429,Referencias!$B$18:$C$34,2,FALSE())","v":"V"},"C"]
["1241076","Gómez Llopis, José","Levantina","C","Sin Categoría","Competición",4,{"$f":"VLOOKUP(E430,Referencias!$B$4:$C$15,2,FALSE())","v":"SC"},{"$f":"VLOOKUP(C430,Referencias!$B$18:$C$34,2,FALSE())","v":"V"},"C"]
["1241163","Torres Tena, Vicente","Levantina","C","Sin Categoría","Competición",4,{"$f":"VLOOKUP(E431,Referencias!$B$4:$C$15,2,FALSE())","v":"SC"},{"$f":"VLOOKUP(C431,Referencias!$B$18:$C$34,2,FALSE())","v":"V"},"C"]
["1241164","De la Torre Nuñez, Gabriela","Levantina","D","Sin Categoría","Competición",4,{"$f":"VLOOKUP(E432,Referencias!$B$4:$C$15,2,FALSE())","v":"SC"},{"$f":"VLOOKUP(C432,Referencias!$B$18:$C$34,2,FALSE())","v":"V"},"C"]
["1241165","Hernández Sanchis, María José","Levantina","D","Sin Categoría","Competición",4,{"$f":"VLOOKUP(E433,Referencias!$B$4:$C$15,2,FALSE())","v":"SC"},{"$f":"VLOOKUP(C433,Referencias!$B$18:$C$34,2,FALSE())","v":"V"},"C"]
["1241178","Ferrer Ros de Ursinos, Mercedes","Levantina","D","Sin Categoría","Competición",4,{"$f":"VLOOKUP(E434,Referencias!$B$4:$C$15,2,FALSE())","v":"SC"},{"$f":"VLOOKUP(C434,Referencias!$B$18:$C$34,2,FALSE())","v":"V"},"C"]
["1241189","Pellicer Tarrega, María Teresa","Levantina","D","Sin Categoría","Competición",4,{"$f":"VLOOKUP(E435,Referencias!$B$4:$C$15,2,FALSE())","v":"SC"},{"$f":"VLOOKUP(C435,Referencias!$B$18:$C$34,2,FALSE())","v":"V"},"C"]
["1241268","Torla Cepria, Carlos","Levantina","C","Sin Categoría","Competición",4,{"$f":"VLOOKUP(E436,Referencias!$B$4:$C$15,2,FALSE())","v":"SC"},{"$f":"VLOOKUP(C436,Referencias!$B$18:$C$34,2,FALSE())","v":"V"},"C"]
["1241272","Estornell Cifre, Francisca","Levantina","D","Tercera Corazón","Competición",3,{"$f":"VLOOKUP(E437,Referencias!$B$4:$C$15,2,FALSE())","v":"3C"},{"$f":"VLOOKUP(C437,Referencias!$B$18:$C$34,2,FALSE())","v":"V"},"C"]
["1241275","Tomas Vilanova, Ana-Evelia","Levantina","D","Sin Categoría","Competición",4,{"$f":"VLOOKUP(E438,Referencias!$B$4:$C$15,2,FALSE())","v":"SC"},{"$f":"VLOOKUP(C438,Referencias!$B$18:$C$34,2,FALSE())","v":"V"},"C"]
["1241277","Aranda Catalá, María Teresa","Levantina","D","Sin Categoría","Competición",4,{"$f":"VLOOKUP(E439,Referencias!$B$4:$C$15,2,FALSE())","v":"SC"},{"$f":"VLOOKUP(C439,Referencias!$B$18:$C$34,2,FALSE())","v":"V"},"C"]
["1241382","Ballester Bustos, Asunción","Levantina","D","Sin Categoría","Competición",4,{"$f":"VLOOKUP(E440,Referencias!$B$4:$C$15,2,FALSE())","v":"SC"},{"$f":"VLOOKUP(C440,Referencias!$B$18:$C$34,2,FALSE())","v":"V"},"C"]
["1241425","Bru Cortés, Mª Dolores","Levantina","D","Sin Categoría","Competición",4,{"$f":"VLOOKUP(E441,Referencias!$B$4:$C$15,2,FALSE())","v":"SC"},{"$f":"VLOOKUP(C441,Referencias!$B$18:$C$34,2,FALSE())","v":"V"},"C"]
["1241426","Morales Monsalvez, Milagros","Levantina","D","Sin Categoría","Competición",4,{"$f":"VLOOKUP(E442,Referencias!$B$4:$C$15,2,FALSE())","v":"SC"},{"$f":"VLOOKUP(C442,Referencias!$B$18:$C$34,2,FALSE())","v":"V"},"C"]
["1241427","Heydorn Rethmeier, Kate","Levantina","D","Sin Categoría","Competición",4,{"$f":"VLOOKUP(E443,Referencias!$B$4:$C$15,2,FALSE())","v":"SC"},{"$f":"VLOOKUP(C443,Referencias!$B$18:$C$34,2,FALSE())","v":"V"},"C"]
["1241583","Astley, Janice","Levantina","D","Sin Categoría","Competición",4,{"$f":"VLOOKUP(E444,Referencias!$B$4:$C$15,2,FALSE())","v":"SC"},{"$f":"VLOOKUP(C444,Referencias!$B$18:$C$34,2,FALSE())","v":"V"},"C"]
["1241644","De la Riva Mayans, Amalia","Levantina","D","Sin Categoría","Competición",4,{"$f":"VLOOKUP(E445,Referencias!$B$4:$C$15,2,FALSE())","v":"SC"},{"$f":"VLOOKUP(C445,Referencias!$B$18:$C$34,2,FALSE())","v":"V"},"C"]
["1241650","Guinot Peris, Mª Isabel","Levantina","D","Sin Categoría","Competición",4,{"$f":"VLOOKUP(E446,Referencias!$B$4:$C$15,2,FALSE())","v":"SC"},{"$f":"VLOOKUP(C446,Referencias!$B$18:$C$34,2,FALSE())","v":"V"},"C"]
["1241657","Valls Zaballos, Emilia","Levantina","D","Sin Categoría","Competición",4,{"$f":"VLOOKUP(E447,Referencias!$B$4:$C$15,2,FALSE())","v":"SC"},{"$f":"VLOOKUP(C447,Referencias!$B$18:$C$34,2,FALSE())","v":"V"},"C"]
["1241729","Almela Gil, Consuelo","Levantina","D","Sin Categoría","Competición",4,{"$f":"VLOOKUP(E448,Referencias!$B$4:$C$15,2,FALSE())","v":"SC"},{"$f":"VLOOKUP(C448,Referencias!$B$18:$C$34,2,FALSE())","v":"V"},{"$f":"IF(D448=\"Dama\",\"D\",\"C\")","v":"C"}]
["1241731","Utrilla Suarez, Blanca","Levantina","D","Tercera Diamante","Competición",3,{"$f":"VLOOKUP(E449,Referencias!$B$4:$C$15,2,FALSE())","v":"3D"},{"$f":"VLOOKUP(C449,Referencias!$B$18:$C$34,2,FALSE())","v":"V"},"C"]
["1241732","Lofberg, Bárbara","Levantina","D","Sin Categoría","Competición",4,{"$f":"VLOOKUP(E450,Referencias!$B$4:$C$15,2,FALSE())","v":"SC"},{"$f":"VLOOKUP(C450,Referencias!$B$18:$C$34,2,FALSE())","v":"V"},"C"]
["1241733","Gómez Contell, Amparo","Levantina","D","Tercera Picas","Competición",3,{"$f":"VLOOKUP(E451,Referencias!$B$4:$C$15,2,FALSE())","v":"3P"},{"$f":"VLOOKUP(C451,Referencias!$B$18:$C$34,2,FALSE())","v":"V"},"C"]
["1241735","Barbara Lamolla, Pilar","Levantina","D","Sin Categoría","Competición",4,{"$f":"VLOOKUP(E452,Referencias!$B$4:$C$15,2,FALSE())","v":"SC"},{"$f":"VLOOKUP(C452,Referencias!$B$18:$C$34,2,FALSE())","v":"V"},"C"]
["1241738","Pardo Raga, Mª Carmen","Levantina","D","Sin Categoría","Competición",4,{"$f":"VLOOKUP(E453,Referencias!$B$4:$C$15,2,FALSE())","v":"SC"},{"$f":"VLOOKUP(C453,Referencias!$B$18:$C$34,2,FALSE())","v":"V"},"C"]
["1241740","Gimeno Ballester, Asela","Levantina","D","Sin Categoría","Competición",4,{"$f":"VLOOKUP(E454,Referencias!$B$4:$C$15,2,FALSE())","v":"SC"},{"$f":"VLOOKUP(C454,Referencias!$B$18:$C$34,2,FALSE())","v":"V"},"C"]
["1241741","Lemmens, Claude Roger","Levantina","D","Sin Categoría","Competición",4,{"$f":"VLOOKUP(E455,Referencias!$B$4:$C$15,2,FALSE())","v":"SC"},{"$f":"VLOOKUP(C455,Referencias!$B$18:$C$34,2,FALSE())","v":"V"},"C"]
["1241742","Matarredona Soler, Inmaculada","Levantina","D","Sin Categoría","Competición",4,{"$f":"VLOOKUP(E456,Referencias!$B$4:$C$15,2,FALSE())","v":"SC"},{"$f":"VLOOKUP(C456,Referencias!$B$18:$C$34,2,FALSE())","v":"V"},"C"]
["1241743","Tirado Braulio, María Josefa","Levantina","D","Tercera Diamante","Competición",3,{"$f":"VLOOKUP(E457,Referencias!$B$4:$C$15,2,FALSE())","v":"3D"},{"$f":"VLOOKUP(C457,Referencias!$B$18:$C$34,2,FALSE())","v":"V"},"C"]
["1241749","Eugui Rodríguez, Alicia","Levantina","D","Sin Categoría","Competición",4,{"$f":"VLOOKUP(E458,Referencias!$B$4:$C$15,2,FALSE())","v":"SC"},{"$f":"VLOOKUP(C458,Referencias!$B$18:$C$34,2,FALSE())","v":"V"},"C"]
["1241755","Barroso Gómez de Segura, Carmen","Levantina","D","Sin Categoría","Competición",4,{"$f":"VLOOKUP(E459,Referencias!$B$4:$C$15,2,FALSE())","v":"SC"},{"$f":"VLOOKUP(C459,Referencias!$B$18:$C$34,2,FALSE())","v":"V"},"C"]
["1241869","Linde Paniagua, Helga","Levantina","D","Sin Categoría","Competición",4,{"$f":"VLOOKUP(E460,Referencias!$B$4:$C$15,2,FALSE())","v":"SC"},{"$f":"VLOOKUP(C460,Referencias!$B$18:$C$34,2,FALSE())","v":"V"},"C"]
["1241870","Ibañez Larrauri, Mª Pilar","Levantina","D","Sin Categoría","Competición",4,{"$f":"VLOOKUP(E461,Referencias!$B$4:$C$15,2,FALSE())","v":"SC"},{"$f":"VLOOKUP(C461,Referencias!$B$18:$C$34,2,FALSE())","v":"V"},"C"]
["1241871","Godoy Casanova, Amparo","Levantina","D","Sin Categoría","Competición",4,{"$f":"VLOOKUP(E462,Referencias!$B$4:$C$15,2,FALSE())","v":"SC"},{"$f":"VLOOKUP(C462,Referencias!$B$18:$C$34,2,FALSE())","v":"V"},"C"]
["1241872","Ofelia Bianchi, Marta","Levantina","D","Sin Categoría","Competición",4,{"$f":"VLOOKUP(E463,Referencias!$B$4:$C$15,2,FALSE())","v":"SC"},{"$f":"VLOOKUP(C463,Referencias!$B$18:$C$34,2,FALSE())","v":"V"},"C"]
["1241882","Gros Cambronero, Mª Angeles","Levantina","D","Sin Categoría","Competición",4,{"$f":"VLOOKUP(E464,Referencias!$B$4:$C$15,2,FALSE())","v":"SC"},{"$f":"VLOOKUP(C464,Referencias!$B$18:$C$34,2,FALSE())","v":"V"},"C"]
["1241884","Moreno López, Pedro","Levantina","C","Sin Categoría","Competición",4,{"$f":"VLOOKUP(E465,Referencias!$B$4:$C$15,2,FALSE())","v":"SC"},{"$f":"VLOOKUP(C465,Referencias!$B$18:$C$34,2,FALSE())","v":"V"},"C"]
["1241898","Barnes Fernández, Rafael","Levantina","C","Sin Categoría","Competición",4,{"$f":"VLOOKUP(E466,Referencias!$B$4:$C$15,2,FALSE())","v":"SC"},{"$f":"VLOOKUP(C466,Referencias!$B$18:$C$34,2,FALSE())","v":"V"},"C"]
["1246356","Ibañez Larrauri, Amelia","Levantina","D","Sin Categoría","Competición",4,{"$f":"VLOOKUP(E467,Referencias!$B$4:$C$15,2,FALSE())","v":"SC"},{"$f":"VLOOKUP(C467,Referencias!$B$18:$C$34,2,FALSE())","v":"V"},"C"]
["1246357","Brunori Albergotti, Massimo","Levantina","C","Sin Categoría","Competición",4,{"$f":"VLOOKUP(E468,Referencias!$B$4:$C$15,2,FALSE())","v":"SC"},{"$f":"VLOOKUP(C468,Referencias!$B$18:$C$34,2,FALSE())","v":"V"},"C"]
["1246358","Checa Sánchez, Carmen","Levantina","D","Sin Categoría","Competición",4,{"$f":"VLOOKUP(E469,Referencias!$B$4:$C$15,2,FALSE())","v":"SC"},{"$f":"VLOOKUP(C469,Referencias!$B$18:$C$34,2,FALSE())","v":"V"},"C"]
["1461262","del Arenal , Marquesa","Andaluza","D","Tercera Corazón","Competición",3,{"$f":"VLOOKUP(E470,Referencias!$B$4:$C$15,2,FALSE())","v":"3C"},{"$f":"VLOOKUP(C470,Referencias!$B$18:$C$34,2,FALSE())","v":"A"},"C"]
["1461328","Miño Fugarolas, Alberto","Andaluza","C","Sin Categoría","Competición",4,{"$f":"VLOOKUP(E471,Referencias!$B$4:$C$15,2,FALSE())","v":"SC"},{"$f":"VLOOKUP(C471,Referencias!$B$18:$C$34,2,FALSE())","v":"A"},"C"]
["1461506","Blanco Cruz, Araceli","Andaluza","D","Sin Categoría","Competición",4,{"$f":"VLOOKUP(E472,Referencias!$B$4:$C$15,2,FALSE())","v":"SC"},{"$f":"VLOOKUP(C472,Referencias!$B$18:$C$34,2,FALSE())","v":"A"},"C"]
["1461509","Durrant, Michael","Andaluza","C","Segunda Diamante","Competición",2,{"$f":"VLOOKUP(E473,Referencias!$B$4:$C$15,2,FALSE())","v":"2D"},{"$f":"VLOOKUP(C473,Referencias!$B$18:$C$34,2,FALSE())","v":"A"},"C"]
["1461565","Pueyo Benet, Gloria","Andaluza","D","Tercera Corazón","Competición",3,{"$f":"VLOOKUP(E474,Referencias!$B$4:$C$15,2,FALSE())","v":"3C"},{"$f":"VLOOKUP(C474,Referencias!$B$18:$C$34,2,FALSE())","v":"A"},"C"]
["1461657","Sebastián Bueno, Concepción","Andaluza","D","Segunda Picas","Competición",2,{"$f":"VLOOKUP(E475,Referencias!$B$4:$C$15,2,FALSE())","v":"2P"},{"$f":"VLOOKUP(C475,Referencias!$B$18:$C$34,2,FALSE())","v":"A"},"C"]
["1461658","Mansilla Cuevas, Francisco","Andaluza","C","Tercera Picas","Competición",3,{"$f":"VLOOKUP(E476,Referencias!$B$4:$C$15,2,FALSE())","v":"3P"},{"$f":"VLOOKUP(C476,Referencias!$B$18:$C$34,2,FALSE())","v":"A"},"C"]
["1461659","Montijano-Carbonell López, Carmen","Andaluza","D","Sin Categoría","Competición",4,{"$f":"VLOOKUP(E477,Referencias!$B$4:$C$15,2,FALSE())","v":"SC"},{"$f":"VLOOKUP(C477,Referencias!$B$18:$C$34,2,FALSE())","v":"A"},"C"]
["1461660","De Alcaraz Troya, Fernando","Andaluza","C","Sin Categoría","Competición",4,{"$f":"VLOOKUP(E478,Referencias!$B$4:$C$15,2,FALSE())","v":"SC"},{"$f":"VLOOKUP(C478,Referencias!$B$18:$C$34,2,FALSE())","v":"A"},"C"]
["1461661","Sebastián Bueno, Araceli","Andaluza","D","Segunda Diamante","Competición",2,{"$f":"VLOOKUP(E479,Referencias!$B$4:$C$15,2,FALSE())","v":"2D"},{"$f":"VLOOKUP(C479,Referencias!$B$18:$C$34,2,FALSE())","v":"A"},"C"]
["1461671","Medina Ricart, María Antonia","Andaluza","D","Tercera Picas","Competición",3,{"$f":"VLOOKUP(E480,Referencias!$B$4:$C$15,2,FALSE())","v":"3P"},{"$f":"VLOOKUP(C480,Referencias!$B$18:$C$34,2,FALSE())","v":"A"},"C"]
["1461673","Rodríguez Sedano, María Victoría","Andaluza","D","Tercera Diamante","Competición",3,{"$f":"VLOOKUP(E481,Referencias!$B$4:$C$15,2,FALSE())","v":"3D"},{"$f":"VLOOKUP(C481,Referencias!$B$18:$C$34,2,FALSE())","v":"A"},"C"]
["1461674","Pérez-Fragero Rey, Mª del Sol","Andaluza","D","Tercera Diamante","Competición",3,{"$f":"VLOOKUP(E482,Referencias!$B$4:$C$15,2,FALSE())","v":"3D"},{"$f":"VLOOKUP(C482,Referencias!$B$18:$C$34,2,FALSE())","v":"A"},"C"]
["1461683","Arroyo García, Pilar","Andaluza","D","Segunda Diamante","Competición",2,{"$f":"VLOOKUP(E483,Referencias!$B$4:$C$15,2,FALSE())","v":"2D"},{"$f":"VLOOKUP(C483,Referencias!$B$18:$C$34,2,FALSE())","v":"A"},"C"]
["1461691","Alameda Aragoneses, Josefina","Andaluza","D","Sin Categoría","Competición",4,{"$f":"VLOOKUP(E484,Referencias!$B$4:$C$15,2,FALSE())","v":"SC"},{"$f":"VLOOKUP(C484,Referencias!$B$18:$C$34,2,FALSE())","v":"A"},"C"]
["1461699","Cabrera Ansio, Piki","Andaluza","D","Sin Categoría","Competición",4,{"$f":"VLOOKUP(E485,Referencias!$B$4:$C$15,2,FALSE())","v":"SC"},{"$f":"VLOOKUP(C485,Referencias!$B$18:$C$34,2,FALSE())","v":"A"},"C"]
["1461700","Santaolalla Sebastia, Juan","Andaluza","C","Segunda Diamante","Competición",2,{"$f":"VLOOKUP(E486,Referencias!$B$4:$C$15,2,FALSE())","v":"2D"},{"$f":"VLOOKUP(C486,Referencias!$B$18:$C$34,2,FALSE())","v":"A"},"C"]
["1461701","Marchal Molina, María Magdalena","Andaluza","D","Segunda Diamante","Competición",2,{"$f":"VLOOKUP(E487,Referencias!$B$4:$C$15,2,FALSE())","v":"2D"},{"$f":"VLOOKUP(C487,Referencias!$B$18:$C$34,2,FALSE())","v":"A"},"C"]
["1461702","Martínez López, Rosa","Andaluza","D","Tercera Picas","Competición",3,{"$f":"VLOOKUP(E488,Referencias!$B$4:$C$15,2,FALSE())","v":"3P"},{"$f":"VLOOKUP(C488,Referencias!$B$18:$C$34,2,FALSE())","v":"A"},"C"]
["1461705","De la Moneda Cabello, María Inmaculada","Andaluza","D","Segunda Corazón","Competición",2,{"$f":"VLOOKUP(E489,Referencias!$B$4:$C$15,2,FALSE())","v":"2C"},{"$f":"VLOOKUP(C489,Referencias!$B$18:$C$34,2,FALSE())","v":"A"},"C"]
["1461726","Delgado-Brackenbury Ferrer, Silvia","Andaluza","D","Sin Categoría","Competición",4,{"$f":"VLOOKUP(E490,Referencias!$B$4:$C$15,2,FALSE())","v":"SC"},{"$f":"VLOOKUP(C490,Referencias!$B$18:$C$34,2,FALSE())","v":"A"},"C"]
["1461727","García-Jarana Caro, Delia","Andaluza","D","Sin Categoría","Competición",4,{"$f":"VLOOKUP(E491,Referencias!$B$4:$C$15,2,FALSE())","v":"SC"},{"$f":"VLOOKUP(C491,Referencias!$B$18:$C$34,2,FALSE())","v":"A"},"C"]
["1461728","Luna Gómez, Mª Dolores","Andaluza","D","Sin Categoría","Competición",4,{"$f":"VLOOKUP(E492,Referencias!$B$4:$C$15,2,FALSE())","v":"SC"},{"$f":"VLOOKUP(C492,Referencias!$B$18:$C$34,2,FALSE())","v":"A"},"C"]
["1461729","Bajo Arenas, Teresa","Andaluza","D","Tercera Corazón","Competición",3,{"$f":"VLOOKUP(E493,Referencias!$B$4:$C$15,2,FALSE())","v":"3C"},{"$f":"VLOOKUP(C493,Referencias!$B$18:$C$34,2,FALSE())","v":"A"},"C"]
["1461738","Hombrados Bermúdez de Castro, Trinidad","Andaluza","D","Tercera Picas","Competición",3,{"$f":"VLOOKUP(E494,Referencias!$B$4:$C$15,2,FALSE())","v":"3P"},{"$f":"VLOOKUP(C494,Referencias!$B$18:$C$34,2,FALSE())","v":"A"},"C"]
["1461740","Eguilaz de Prado, Mª Francisca","Andaluza","D","Sin Categoría","Competición",4,{"$f":"VLOOKUP(E495,Referencias!$B$4:$C$15,2,FALSE())","v":"SC"},{"$f":"VLOOKUP(C495,Referencias!$B$18:$C$34,2,FALSE())","v":"A"},"C"]
["1461741","Baeza Ordoñez, Mª Luisa","Andaluza","D","Tercera Diamante","Competición",3,{"$f":"VLOOKUP(E496,Referencias!$B$4:$C$15,2,FALSE())","v":"3D"},{"$f":"VLOOKUP(C496,Referencias!$B$18:$C$34,2,FALSE())","v":"A"},"C"]
["1461745","Vivo Rodriguez, Mª Araceli","Andaluza","D","Sin Categoría","Competición",4,{"$f":"VLOOKUP(E497,Referencias!$B$4:$C$15,2,FALSE())","v":"SC"},{"$f":"VLOOKUP(C497,Referencias!$B$18:$C$34,2,FALSE())","v":"A"},"C"]
["1461746","Blanco Cruz, María Luisa","Andaluza","D","Sin Categoría","Competición",4,{"$f":"VLOOKUP(E498,Referencias!$B$4:$C$15,2,FALSE())","v":"SC"},{"$f":"VLOOKUP(C498,Referencias!$B$18:$C$34,2,FALSE())","v":"A"},"C"]
["1461747","De Prado Alcalá, María Luisa","Andaluza","D","Sin Categoría","Competición",4,{"$f":"VLOOKUP(E499,Referencias!$B$4:$C$15,2,FALSE())","v":"SC"},{"$f":"VLOOKUP(C499,Referencias!$B$18:$C$34,2,FALSE())","v":"A"},"C"]
["1461750","Martínez Miguel, Pilar","Andaluza","D","Tercera Diamante","Competición",3,{"$f":"VLOOKUP(E500,Referencias!$B$4:$C$15,2,FALSE())","v":"3D"},{"$f":"VLOOKUP(C500,Referencias!$B$18:$C$34,2,FALSE())","v":"A"},"C"]
["1461751","Marin Pineda, Mª Carmen","Andaluza","D","Tercera Picas","Competición",3,{"$f":"VLOOKUP(E501,Referencias!$B$4:$C$15,2,FALSE())","v":"3P"},{"$f":"VLOOKUP(C501,Referencias!$B$18:$C$34,2,FALSE())","v":"A"},"C"]
["1461756","Azpilcueta Roel, Mª Ángeles","Andaluza","D","Sin Categoría","Competición",4,{"$f":"VLOOKUP(E502,Referencias!$B$4:$C$15,2,FALSE())","v":"SC"},{"$f":"VLOOKUP(C502,Referencias!$B$18:$C$34,2,FALSE())","v":"A"},"C"]
["1461757","Fuentes de Rio, Sofia","Andaluza","D","Sin Categoría","Competición",4,{"$f":"VLOOKUP(E503,Referencias!$B$4:$C$15,2,FALSE())","v":"SC"},{"$f":"VLOOKUP(C503,Referencias!$B$18:$C$34,2,FALSE())","v":"A"},"C"]
["1461759","Martín Conde, Mª Ángeles","Andaluza","D","Sin Categoría","Competición",4,{"$f":"VLOOKUP(E504,Referencias!$B$4:$C$15,2,FALSE())","v":"SC"},{"$f":"VLOOKUP(C504,Referencias!$B$18:$C$34,2,FALSE())","v":"A"},"C"]
["1461775","Gragera de León Prieto, Yedra","Andaluza",null,"Sin Categoría","Competición",4,{"$f":"VLOOKUP(E505,Referencias!$B$4:$C$15,2,FALSE())","v":"SC"},{"$f":"VLOOKUP(C505,Referencias!$B$18:$C$34,2,FALSE())","v":"A"},"C"]
["1467443","Manzanares López, Pilar","Andaluza","D","Sin Categoría","Competición",4,{"$f":"VLOOKUP(E506,Referencias!$B$4:$C$15,2,FALSE())","v":"SC"},{"$f":"VLOOKUP(C506,Referencias!$B$18:$C$34,2,FALSE())","v":"A"},"C"]
["1467508","Díaz Guijarro, Elena","Andaluza","D","Segunda Diamante","Competición",2,{"$f":"VLOOKUP(E507,Referencias!$B$4:$C$15,2,FALSE())","v":"2D"},{"$f":"VLOOKUP(C507,Referencias!$B$18:$C$34,2,FALSE())","v":"A"},"C"]
["1531002","Aviles Martínez, Dolores","Gallega","D","Primera Picas","Competición",1,{"$f":"VLOOKUP(E508,Referencias!$B$4:$C$15,2,FALSE())","v":"1P"},{"$f":"VLOOKUP(C508,Referencias!$B$18:$C$34,2,FALSE())","v":"G"},"C"]
["1531011","García-Cambón, Manola","Gallega","D","Primera Corazón","Competición",1,{"$f":"VLOOKUP(E509,Referencias!$B$4:$C$15,2,FALSE())","v":"1C"},{"$f":"VLOOKUP(C509,Referencias!$B$18:$C$34,2,FALSE())","v":"G"},"C"]
["1531045","García Marín, Ana María","Gallega","D","Segunda Corazón","Competición",2,{"$f":"VLOOKUP(E510,Referencias!$B$4:$C$15,2,FALSE())","v":"2C"},{"$f":"VLOOKUP(C510,Referencias!$B$18:$C$34,2,FALSE())","v":"G"},"C"]
["1531058","Hernández Cochón, Luisa","Gallega","D","Tercera Corazón","Competición",3,{"$f":"VLOOKUP(E511,Referencias!$B$4:$C$15,2,FALSE())","v":"3C"},{"$f":"VLOOKUP(C511,Referencias!$B$18:$C$34,2,FALSE())","v":"G"},"C"]
["1531098","Reventos Soler, Rosa","Gallega","D","Tercera Corazón","Competición",3,{"$f":"VLOOKUP(E512,Referencias!$B$4:$C$15,2,FALSE())","v":"3C"},{"$f":"VLOOKUP(C512,Referencias!$B$18:$C$34,2,FALSE())","v":"G"},{"$f":"IF(D512=\"Dama\",\"D\",\"C\")","v":"C"}]
["1531099","Arrojo Paredes, Ana","Gallega","D","Tercera Diamante","Competición",3,{"$f":"VLOOKUP(E513,Referencias!$B$4:$C$15,2,FALSE())","v":"3D"},{"$f":"VLOOKUP(C513,Referencias!$B$18:$C$34,2,FALSE())","v":"G"},"C"]
["1531108","Gila Ferreiro, Ana María","Gallega","D","Tercera Diamante","Competición",3,{"$f":"VLOOKUP(E514,Referencias!$B$4:$C$15,2,FALSE())","v":"3D"},{"$f":"VLOOKUP(C514,Referencias!$B$18:$C$34,2,FALSE())","v":"G"},"C"]
["1531136","Ces Ramos, María Dolores","Gallega","D","Segunda Corazón","Competición",2,{"$f":"VLOOKUP(E515,Referencias!$B$4:$C$15,2,FALSE())","v":"2C"},{"$f":"VLOOKUP(C515,Referencias!$B$18:$C$34,2,FALSE())","v":"G"},"C"]
["1531137","García Puente, Teresa","Gallega","D","Segunda Corazón","Competición",2,{"$f":"VLOOKUP(E516,Referencias!$B$4:$C$15,2,FALSE())","v":"2C"},{"$f":"VLOOKUP(C516,Referencias!$B$18:$C$34,2,FALSE())","v":"G"},"C"]
["1531141","Arjona Alonso, Berta","Gallega","D","Tercera Diamante","Competición",3,{"$f":"VLOOKUP(E517,Referencias!$B$4:$C$15,2,FALSE())","v":"3D"},{"$f":"VLOOKUP(C517,Referencias!$B$18:$C$34,2,FALSE())","v":"G"},"C"]
["1531164","Arranz Iglesias, María Jesús","Gallega","D","Tercera Picas","Competición",3,{"$f":"VLOOKUP(E518,Referencias!$B$4:$C$15,2,FALSE())","v":"3P"},{"$f":"VLOOKUP(C518,Referencias!$B$18:$C$34,2,FALSE())","v":"G"},"C"]
["1531165","Peña Díaz, Isabel","Gallega","D","Sin Categoría","Competición",4,{"$f":"VLOOKUP(E519,Referencias!$B$4:$C$15,2,FALSE())","v":"SC"},{"$f":"VLOOKUP(C519,Referencias!$B$18:$C$34,2,FALSE())","v":"G"},"C"]
["1531188","Fernández Varela, Pilar","Gallega","D","Tercera Diamante","Competición",3,{"$f":"VLOOKUP(E520,Referencias!$B$4:$C$15,2,FALSE())","v":"3D"},{"$f":"VLOOKUP(C520,Referencias!$B$18:$C$34,2,FALSE())","v":"G"},"C"]
["1531208","Feliu Lourido, María Dolores","Gallega","D","Primera Diamante","Competición",1,{"$f":"VLOOKUP(E521,Referencias!$B$4:$C$15,2,FALSE())","v":"1D"},{"$f":"VLOOKUP(C521,Referencias!$B$18:$C$34,2,FALSE())","v":"G"},"C"]
["1531232","Seijo Fraga, Olga","Gallega","D","Tercera Picas","Competición",3,{"$f":"VLOOKUP(E522,Referencias!$B$4:$C$15,2,FALSE())","v":"3P"},{"$f":"VLOOKUP(C522,Referencias!$B$18:$C$34,2,FALSE())","v":"G"},"C"]
["1531242","Saavedra Maldonado, Luis","Gallega","C","Tercera Picas","Competición",3,{"$f":"VLOOKUP(E523,Referencias!$B$4:$C$15,2,FALSE())","v":"3P"},{"$f":"VLOOKUP(C523,Referencias!$B$18:$C$34,2,FALSE())","v":"G"},"C"]
["1531243","Brizuela Martínez, Mª Rosario","Gallega","D","Tercera Corazón","Competición",3,{"$f":"VLOOKUP(E524,Referencias!$B$4:$C$15,2,FALSE())","v":"3C"},{"$f":"VLOOKUP(C524,Referencias!$B$18:$C$34,2,FALSE())","v":"G"},"C"]
["1531269","Peralbo Alvarez de los Corrale, Esperanza","Gallega","D","Tercera Diamante","Competición",3,{"$f":"VLOOKUP(E525,Referencias!$B$4:$C$15,2,FALSE())","v":"3D"},{"$f":"VLOOKUP(C525,Referencias!$B$18:$C$34,2,FALSE())","v":"G"},"C"]
["1531273","Riverós López, Camila","Gallega","D","Tercera Diamante","Competición",3,{"$f":"VLOOKUP(E526,Referencias!$B$4:$C$15,2,FALSE())","v":"3D"},{"$f":"VLOOKUP(C526,Referencias!$B$18:$C$34,2,FALSE())","v":"G"},"C"]
["1531293","Cuenda Sánchez, Manuel","Gallega","C","Primera Diamante","Competición",1,{"$f":"VLOOKUP(E527,Referencias!$B$4:$C$15,2,FALSE())","v":"1D"},{"$f":"VLOOKUP(C527,Referencias!$B$18:$C$34,2,FALSE())","v":"G"},"C"]
["1531294","Molinelli Iglesias, Marta María","Gallega","D","Primera Diamante","Competición",1,{"$f":"VLOOKUP(E528,Referencias!$B$4:$C$15,2,FALSE())","v":"1D"},{"$f":"VLOOKUP(C528,Referencias!$B$18:$C$34,2,FALSE())","v":"G"},"C"]
["1531299","Roa Alonso-Bartol, Julia","Gallega","D","Segunda Corazón","Competición",2,{"$f":"VLOOKUP(E529,Referencias!$B$4:$C$15,2,FALSE())","v":"2C"},{"$f":"VLOOKUP(C529,Referencias!$B$18:$C$34,2,FALSE())","v":"G"},"C"]
["1531302","González-Botas Ladron de Gueva, Javier","Gallega","C","Primera Corazón","Competición",1,{"$f":"VLOOKUP(E530,Referencias!$B$4:$C$15,2,FALSE())","v":"1C"},{"$f":"VLOOKUP(C530,Referencias!$B$18:$C$34,2,FALSE())","v":"G"},"C"]
["1531318","Gómez Cid, Benito","Gallega","C","Sin Categoría","Honorífica",4,{"$f":"VLOOKUP(E531,Referencias!$B$4:$C$15,2,FALSE())","v":"SC"},{"$f":"VLOOKUP(C531,Referencias!$B$18:$C$34,2,FALSE())","v":"G"},"C"]
["1531328","Junquera de Yturralde, Rosa","Gallega","D","Tercera Diamante","Competición",3,{"$f":"VLOOKUP(E532,Referencias!$B$4:$C$15,2,FALSE())","v":"3D"},{"$f":"VLOOKUP(C532,Referencias!$B$18:$C$34,2,FALSE())","v":"G"},"C"]
["1531356","Cao Barjacoba, Jovino","Gallega","C","Primera Corazón","Competición",1,{"$f":"VLOOKUP(E533,Referencias!$B$4:$C$15,2,FALSE())","v":"1C"},{"$f":"VLOOKUP(C533,Referencias!$B$18:$C$34,2,FALSE())","v":"G"},"C"]
["1531359","Ruiz de Valbuena Escudero, José A.","Gallega","C","Segunda Picas","Competición",2,{"$f":"VLOOKUP(E534,Referencias!$B$4:$C$15,2,FALSE())","v":"2P"},{"$f":"VLOOKUP(C534,Referencias!$B$18:$C$34,2,FALSE())","v":"G"},"C"]
["1531360","Bueno Tejeiro, Carmen","Gallega","D","Segunda Corazón","Competición",2,{"$f":"VLOOKUP(E535,Referencias!$B$4:$C$15,2,FALSE())","v":"2C"},{"$f":"VLOOKUP(C535,Referencias!$B$18:$C$34,2,FALSE())","v":"G"},"C"]
["1531374","Santamaría Sánchez, Mª Luisa","Gallega","D","Tercera Diamante","Competición",3,{"$f":"VLOOKUP(E536,Referencias!$B$4:$C$15,2,FALSE())","v":"3D"},{"$f":"VLOOKUP(C536,Referencias!$B$18:$C$34,2,FALSE())","v":"G"},"C"]
["1531378","Castiñeira Selles, Dolores","Gallega","D","Segunda Corazón","Competición",2,{"$f":"VLOOKUP(E537,Referencias!$B$4:$C$15,2,FALSE())","v":"2C"},{"$f":"VLOOKUP(C537,Referencias!$B$18:$C$34,2,FALSE())","v":"G"},"C"]
["1531379","García y González-Moro, Mª Dolores","Gallega","D","Tercera Corazón","Competición",3,{"$f":"VLOOKUP(E538,Referencias!$B$4:$C$15,2,FALSE())","v":"3C"},{"$f":"VLOOKUP(C538,Referencias!$B$18:$C$34,2,FALSE())","v":"G"},"C"]
["1531382","Lacarra Guerendiain, Mª Antonia","Gallega","D","Segunda Diamante","Competición",2,{"$f":"VLOOKUP(E539,Referencias!$B$4:$C$15,2,FALSE())","v":"2D"},{"$f":"VLOOKUP(C539,Referencias!$B$18:$C$34,2,FALSE())","v":"G"},"C"]
["1531389","Jover Pons, Antonio","Gallega","C","Segunda Picas","Competición",2,{"$f":"VLOOKUP(E540,Referencias!$B$4:$C$15,2,FALSE())","v":"2P"},{"$f":"VLOOKUP(C540,Referencias!$B$18:$C$34,2,FALSE())","v":"G"},"C"]
["1531392","De Soto Vázquez, Pacha","Gallega","D","Tercera Corazón","Competición",3,{"$f":"VLOOKUP(E541,Referencias!$B$4:$C$15,2,FALSE())","v":"3C"},{"$f":"VLOOKUP(C541,Referencias!$B$18:$C$34,2,FALSE())","v":"G"},"C"]
["1531396","Alcántara Múñoz, Isabel","Gallega","D","Tercera Corazón","Competición",3,{"$f":"VLOOKUP(E542,Referencias!$B$4:$C$15,2,FALSE())","v":"3C"},{"$f":"VLOOKUP(C542,Referencias!$B$18:$C$34,2,FALSE())","v":"G"},"C"]
["1531398","Conde Guillán, Valentina","Gallega","D","Tercera Picas","Competición",3,{"$f":"VLOOKUP(E543,Referencias!$B$4:$C$15,2,FALSE())","v":"3P"},{"$f":"VLOOKUP(C543,Referencias!$B$18:$C$34,2,FALSE())","v":"G"},"C"]
["1531403","García San Román, María José","Gallega","D","Segunda Corazón","Competición",2,{"$f":"VLOOKUP(E544,Referencias!$B$4:$C$15,2,FALSE())","v":"2C"},{"$f":"VLOOKUP(C544,Referencias!$B$18:$C$34,2,FALSE())","v":"G"},"C"]
["1531404","Ramos Caridad, Angela","Gallega","D","Segunda Corazón","Competición",2,{"$f":"VLOOKUP(E545,Referencias!$B$4:$C$15,2,FALSE())","v":"2C"},{"$f":"VLOOKUP(C545,Referencias!$B$18:$C$34,2,FALSE())","v":"G"},"C"]
["1531405","Romero Rodríguez, Consuelo","Gallega","D","Tercera Diamante","Competición",3,{"$f":"VLOOKUP(E546,Referencias!$B$4:$C$15,2,FALSE())","v":"3D"},{"$f":"VLOOKUP(C546,Referencias!$B$18:$C$34,2,FALSE())","v":"G"},"C"]
["1531409","Pedreira Otero, María","Gallega","D","Segunda Diamante","Competición",2,{"$f":"VLOOKUP(E547,Referencias!$B$4:$C$15,2,FALSE())","v":"2D"},{"$f":"VLOOKUP(C547,Referencias!$B$18:$C$34,2,FALSE())","v":"G"},"C"]
["1531415","Varela Grela, Ricardo","Gallega","C","Segunda Picas","Competición",2,{"$f":"VLOOKUP(E548,Referencias!$B$4:$C$15,2,FALSE())","v":"2P"},{"$f":"VLOOKUP(C548,Referencias!$B$18:$C$34,2,FALSE())","v":"G"},"C"]
["1531416","Sánchez Saurina, Flora","Gallega","D","Segunda Picas","Competición",2,{"$f":"VLOOKUP(E549,Referencias!$B$4:$C$15,2,FALSE())","v":"2P"},{"$f":"VLOOKUP(C549,Referencias!$B$18:$C$34,2,FALSE())","v":"G"},"C"]
["1531417","Pombo Liria, Manuel","Gallega","C","Primera Diamante","Competición",1,{"$f":"VLOOKUP(E550,Referencias!$B$4:$C$15,2,FALSE())","v":"1D"},{"$f":"VLOOKUP(C550,Referencias!$B$18:$C$34,2,FALSE())","v":"G"},"C"]
["1531421","Marqués López, Amalia","Gallega","D","Segunda Corazón","Competición",2,{"$f":"VLOOKUP(E551,Referencias!$B$4:$C$15,2,FALSE())","v":"2C"},{"$f":"VLOOKUP(C551,Referencias!$B$18:$C$34,2,FALSE())","v":"G"},"C"]
["1531429","López Pantión, José María","Gallega","C","Segunda Diamante","Competición",2,{"$f":"VLOOKUP(E552,Referencias!$B$4:$C$15,2,FALSE())","v":"2D"},{"$f":"VLOOKUP(C552,Referencias!$B$18:$C$34,2,FALSE())","v":"G"},"C"]
["1531439","Pardo Varela, Leonor","Gallega","D","Tercera Corazón","Competición",3,{"$f":"VLOOKUP(E553,Referencias!$B$4:$C$15,2,FALSE())","v":"3C"},{"$f":"VLOOKUP(C553,Referencias!$B$18:$C$34,2,FALSE())","v":"G"},"C"]
["1531442","Selles Ferreiro, Juan","Gallega","C","Tercera Picas","Competición",3,{"$f":"VLOOKUP(E554,Referencias!$B$4:$C$15,2,FALSE())","v":"3P"},{"$f":"VLOOKUP(C554,Referencias!$B$18:$C$34,2,FALSE())","v":"G"},"C"]
["1531444","Del Valle Rodríguez, Fernando","Gallega","C","Segunda Corazón","Competición",2,{"$f":"VLOOKUP(E555,Referencias!$B$4:$C$15,2,FALSE())","v":"2C"},{"$f":"VLOOKUP(C555,Referencias!$B$18:$C$34,2,FALSE())","v":"G"},"C"]
["1531445","Del Río Sendino, María Teresa","Gallega","D","Segunda Corazón","Competición",2,{"$f":"VLOOKUP(E556,Referencias!$B$4:$C$15,2,FALSE())","v":"2C"},{"$f":"VLOOKUP(C556,Referencias!$B$18:$C$34,2,FALSE())","v":"G"},"C"]
["1531446","Mateo Sevilla, Juan","Gallega","C","Tercera Corazón","Competición",3,{"$f":"VLOOKUP(E557,Referencias!$B$4:$C$15,2,FALSE())","v":"3C"},{"$f":"VLOOKUP(C557,Referencias!$B$18:$C$34,2,FALSE())","v":"G"},"C"]
["1531447","Villar de Ibarra, José Miguel","Gallega","C","Segunda Diamante","Competición",2,{"$f":"VLOOKUP(E558,Referencias!$B$4:$C$15,2,FALSE())","v":"2D"},{"$f":"VLOOKUP(C558,Referencias!$B$18:$C$34,2,FALSE())","v":"G"},"C"]
["1531449","Lorenzo Montero, Isabel","Gallega","D","Tercera Picas","Competición",3,{"$f":"VLOOKUP(E559,Referencias!$B$4:$C$15,2,FALSE())","v":"3P"},{"$f":"VLOOKUP(C559,Referencias!$B$18:$C$34,2,FALSE())","v":"G"},"C"]
["1531450","Larrañaga Ces, Francisco Javier","Gallega","C","Segunda Corazón","Competición",2,{"$f":"VLOOKUP(E560,Referencias!$B$4:$C$15,2,FALSE())","v":"2C"},{"$f":"VLOOKUP(C560,Referencias!$B$18:$C$34,2,FALSE())","v":"G"},"C"]
["1531451","Rodríguez Pino, Alicia","Gallega","D","Segunda Picas","Competición",2,{"$f":"VLOOKUP(E561,Referencias!$B$4:$C$15,2,FALSE())","v":"2P"},{"$f":"VLOOKUP(C561,Referencias!$B$18:$C$34,2,FALSE())","v":"G"},"C"]
["1531452","Ortega Peñamaria, Araceli","Gallega","D","Tercera Diamante","Competición",3,{"$f":"VLOOKUP(E562,Referencias!$B$4:$C$15,2,FALSE())","v":"3D"},{"$f":"VLOOKUP(C562,Referencias!$B$18:$C$34,2,FALSE())","v":"G"},"C"]
["1531453","Ricoy Iriarte, Carmen","Gallega","D","Tercera Diamante","Competición",3,{"$f":"VLOOKUP(E563,Referencias!$B$4:$C$15,2,FALSE())","v":"3D"},{"$f":"VLOOKUP(C563,Referencias!$B$18:$C$34,2,FALSE())","v":"G"},"C"]
["1531454","Morodo Lorenzo, Pilar","Gallega","D","Tercera Corazón","Competición",3,{"$f":"VLOOKUP(E564,Referencias!$B$4:$C$15,2,FALSE())","v":"3C"},{"$f":"VLOOKUP(C564,Referencias!$B$18:$C$34,2,FALSE())","v":"G"},"C"]
["1531458","Alvarellos Galve, Mª del Pilar","Gallega","D","Sin Categoría","Competición",4,{"$f":"VLOOKUP(E565,Referencias!$B$4:$C$15,2,FALSE())","v":"SC"},{"$f":"VLOOKUP(C565,Referencias!$B$18:$C$34,2,FALSE())","v":"G"},"C"]
["1531459","Lariño Lago, Francisco","Gallega","C","Tercera Diamante","Competición",3,{"$f":"VLOOKUP(E566,Referencias!$B$4:$C$15,2,FALSE())","v":"3D"},{"$f":"VLOOKUP(C566,Referencias!$B$18:$C$34,2,FALSE())","v":"G"},"C"]
["1531460","González Ruíz, María del Prado","Gallega","D","Tercera Corazón","Competición",3,{"$f":"VLOOKUP(E567,Referencias!$B$4:$C$15,2,FALSE())","v":"3C"},{"$f":"VLOOKUP(C567,Referencias!$B$18:$C$34,2,FALSE())","v":"G"},"C"]
["1531463","Penas Mazaira, Mercedes","Gallega","D","Segunda Diamante","Competición",2,{"$f":"VLOOKUP(E568,Referencias!$B$4:$C$15,2,FALSE())","v":"2D"},{"$f":"VLOOKUP(C568,Referencias!$B$18:$C$34,2,FALSE())","v":"G"},"C"]
["1531467","Urgoiti San Vicente, José Ignacio","Gallega","C","Tercera Picas","Competición",3,{"$f":"VLOOKUP(E569,Referencias!$B$4:$C$15,2,FALSE())","v":"3P"},{"$f":"VLOOKUP(C569,Referencias!$B$18:$C$34,2,FALSE())","v":"G"},"C"]
["1531478","Rodríguez Benitez, Mª Rosario","Gallega","D","Sin Categoría","Competición",4,{"$f":"VLOOKUP(E570,Referencias!$B$4:$C$15,2,FALSE())","v":"SC"},{"$f":"VLOOKUP(C570,Referencias!$B$18:$C$34,2,FALSE())","v":"G"},"C"]
["1531479","Pellón Castelo, María del Carmen","Gallega","D","Tercera Diamante","Competición",3,{"$f":"VLOOKUP(E571,Referencias!$B$4:$C$15,2,FALSE())","v":"3D"},{"$f":"VLOOKUP(C571,Referencias!$B$18:$C$34,2,FALSE())","v":"G"},"C"]
["1531483","Ferreiro Arias, Manuel","Gallega","C","Tercera Diamante","Competición",3,{"$f":"VLOOKUP(E572,Referencias!$B$4:$C$15,2,FALSE())","v":"3D"},{"$f":"VLOOKUP(C572,Referencias!$B$18:$C$34,2,FALSE())","v":"G"},"C"]
["1531498","López Pérez, Blanca","Gallega","D","Tercera Corazón","Competición",3,{"$f":"VLOOKUP(E573,Referencias!$B$4:$C$15,2,FALSE())","v":"3C"},{"$f":"VLOOKUP(C573,Referencias!$B$18:$C$34,2,FALSE())","v":"G"},"C"]
["1531499","Prada Blanco, Julieta","Gallega","D","Tercera Diamante","Competición",3,{"$f":"VLOOKUP(E574,Referencias!$B$4:$C$15,2,FALSE())","v":"3D"},{"$f":"VLOOKUP(C574,Referencias!$B$18:$C$34,2,FALSE())","v":"G"},"C"]
["1531500","Roura Ferradas, Concepción","Gallega","D","Sin Categoría","Competición",4,{"$f":"VLOOKUP(E575,Referencias!$B$4:$C$15,2,FALSE())","v":"SC"},{"$f":"VLOOKUP(C575,Referencias!$B$18:$C$34,2,FALSE())","v":"G"},"C"]
["1531503","Lúgaro Cabaleiro, Mª Luisa","Gallega","D","Tercera Diamante","Competición",3,{"$f":"VLOOKUP(E576,Referencias!$B$4:$C$15,2,FALSE())","v":"3D"},{"$f":"VLOOKUP(C576,Referencias!$B$18:$C$34,2,FALSE())","v":"G"},{"$f":"IF(D576=\"Dama\",\"D\",\"C\")","v":"C"}]
["1531511","González Arias, José Gabriel","Gallega","C","Tercera Diamante","Competición",3,{"$f":"VLOOKUP(E577,Referencias!$B$4:$C$15,2,FALSE())","v":"3D"},{"$f":"VLOOKUP(C577,Referencias!$B$18:$C$34,2,FALSE())","v":"G"},"C"]
["1531513","Riestra Rivas, María José","Gallega","D","Sin Categoría","Competición",4,{"$f":"VLOOKUP(E578,Referencias!$B$4:$C$15,2,FALSE())","v":"SC"},{"$f":"VLOOKUP(C578,Referencias!$B$18:$C$34,2,FALSE())","v":"G"},"C"]
["1531514","Morán López, María Aurora","Gallega","D","Tercera Diamante","Competición",3,{"$f":"VLOOKUP(E579,Referencias!$B$4:$C$15,2,FALSE())","v":"3D"},{"$f":"VLOOKUP(C579,Referencias!$B$18:$C$34,2,FALSE())","v":"G"},"C"]
["1531516","Da Silva Figueira, María de los Angeles","Gallega","D","Tercera Corazón","Competición",3,{"$f":"VLOOKUP(E580,Referencias!$B$4:$C$15,2,FALSE())","v":"3C"},{"$f":"VLOOKUP(C580,Referencias!$B$18:$C$34,2,FALSE())","v":"G"},"C"]
["1531517","Merino Selgas, Mercedes","Gallega","D","Sin Categoría","Competición",4,{"$f":"VLOOKUP(E581,Referencias!$B$4:$C$15,2,FALSE())","v":"SC"},{"$f":"VLOOKUP(C581,Referencias!$B$18:$C$34,2,FALSE())","v":"G"},"C"]
["1531518","Figueroa Naya, Mari Carmen","Gallega","D","Tercera Corazón","Competición",3,{"$f":"VLOOKUP(E582,Referencias!$B$4:$C$15,2,FALSE())","v":"3C"},{"$f":"VLOOKUP(C582,Referencias!$B$18:$C$34,2,FALSE())","v":"G"},"C"]
["1531519","Mayo Franco, Chuca","Gallega","D","Segunda Diamante","Competición",2,{"$f":"VLOOKUP(E583,Referencias!$B$4:$C$15,2,FALSE())","v":"2D"},{"$f":"VLOOKUP(C583,Referencias!$B$18:$C$34,2,FALSE())","v":"G"},"C"]
["1531521","Alonso Landeta, Covadonga","Gallega","D","Tercera Corazón","Competición",3,{"$f":"VLOOKUP(E584,Referencias!$B$4:$C$15,2,FALSE())","v":"3C"},{"$f":"VLOOKUP(C584,Referencias!$B$18:$C$34,2,FALSE())","v":"G"},"C"]
["1531522","Rodríguez Madriñán, María José","Gallega","D","Tercera Diamante","Competición",3,{"$f":"VLOOKUP(E585,Referencias!$B$4:$C$15,2,FALSE())","v":"3D"},{"$f":"VLOOKUP(C585,Referencias!$B$18:$C$34,2,FALSE())","v":"G"},"C"]
["1531523","Fontenla Rodiles, Juana Mari","Gallega","D","Sin Categoría","Competición",4,{"$f":"VLOOKUP(E586,Referencias!$B$4:$C$15,2,FALSE())","v":"SC"},{"$f":"VLOOKUP(C586,Referencias!$B$18:$C$34,2,FALSE())","v":"G"},"C"]
["1531524","Santos Vilariño, Emilio","Gallega","C","Tercera Picas","Competición",3,{"$f":"VLOOKUP(E587,Referencias!$B$4:$C$15,2,FALSE())","v":"3P"},{"$f":"VLOOKUP(C587,Referencias!$B$18:$C$34,2,FALSE())","v":"G"},"C"]
["1531525","Coello Lorenzo, Consuelo","Gallega","D","Sin Categoría","Competición",4,{"$f":"VLOOKUP(E588,Referencias!$B$4:$C$15,2,FALSE())","v":"SC"},{"$f":"VLOOKUP(C588,Referencias!$B$18:$C$34,2,FALSE())","v":"G"},"C"]
["1531532","Taboada Manteiga, José Manuel","Gallega","C","Tercera Diamante","Competición",3,{"$f":"VLOOKUP(E589,Referencias!$B$4:$C$15,2,FALSE())","v":"3D"},{"$f":"VLOOKUP(C589,Referencias!$B$18:$C$34,2,FALSE())","v":"G"},"C"]
["1531534","Docampo Rojo, Dolores","Gallega","D","Tercera Corazón","Competición",3,{"$f":"VLOOKUP(E590,Referencias!$B$4:$C$15,2,FALSE())","v":"3C"},{"$f":"VLOOKUP(C590,Referencias!$B$18:$C$34,2,FALSE())","v":"G"},"C"]
["1531535","Fraga Peña, Daris","Gallega","D","Tercera Diamante","Competición",3,{"$f":"VLOOKUP(E591,Referencias!$B$4:$C$15,2,FALSE())","v":"3D"},{"$f":"VLOOKUP(C591,Referencias!$B$18:$C$34,2,FALSE())","v":"G"},"C"]
["1531541","Ramírez Escudero, Pilar","Gallega","D","Tercera Diamante","Competición",3,{"$f":"VLOOKUP(E592,Referencias!$B$4:$C$15,2,FALSE())","v":"3D"},{"$f":"VLOOKUP(C592,Referencias!$B$18:$C$34,2,FALSE())","v":"G"},"C"]
["1531567","Pereira González, María José","Gallega","D","Tercera Diamante","Competición",3,{"$f":"VLOOKUP(E593,Referencias!$B$4:$C$15,2,FALSE())","v":"3D"},{"$f":"VLOOKUP(C593,Referencias!$B$18:$C$34,2,FALSE())","v":"G"},"C"]
["1531570","Gutiérrez Arroba, Inmaculada","Gallega","D","Tercera Corazón","Competición",3,{"$f":"VLOOKUP(E594,Referencias!$B$4:$C$15,2,FALSE())","v":"3C"},{"$f":"VLOOKUP(C594,Referencias!$B$18:$C$34,2,FALSE())","v":"G"},"C"]
["1531573","Rodriguez Blanco, Luisa Manuela","Gallega","D","Tercera Corazón","Competición",3,{"$f":"VLOOKUP(E595,Referencias!$B$4:$C$15,2,FALSE())","v":"3C"},{"$f":"VLOOKUP(C595,Referencias!$B$18:$C$34,2,FALSE())","v":"G"},"C"]
["1531574","Cortizas lópez, Andrea","Gallega","D","Tercera Diamante","Competición",3,{"$f":"VLOOKUP(E596,Referencias!$B$4:$C$15,2,FALSE())","v":"3D"},{"$f":"VLOOKUP(C596,Referencias!$B$18:$C$34,2,FALSE())","v":"G"},"C"]
["1531590","Cerdeiriña Vázquez, Elvira","Gallega","D","Tercera Picas","Competición",3,{"$f":"VLOOKUP(E597,Referencias!$B$4:$C$15,2,FALSE())","v":"3P"},{"$f":"VLOOKUP(C597,Referencias!$B$18:$C$34,2,FALSE())","v":"G"},"C"]
["1531595","Carballo Gestal, Ricardo","Gallega","C","Tercera Corazón","Competición",3,{"$f":"VLOOKUP(E598,Referencias!$B$4:$C$15,2,FALSE())","v":"3C"},{"$f":"VLOOKUP(C598,Referencias!$B$18:$C$34,2,FALSE())","v":"G"},"C"]
["1531596","Junquera Llaneza, Jesús Angel","Gallega","C","Tercera Picas","Competición",3,{"$f":"VLOOKUP(E599,Referencias!$B$4:$C$15,2,FALSE())","v":"3P"},{"$f":"VLOOKUP(C599,Referencias!$B$18:$C$34,2,FALSE())","v":"G"},"C"]
["1531607","Castro Naya, María","Gallega","D","Tercera Diamante","Competición",3,{"$f":"VLOOKUP(E600,Referencias!$B$4:$C$15,2,FALSE())","v":"3D"},{"$f":"VLOOKUP(C600,Referencias!$B$18:$C$34,2,FALSE())","v":"G"},"C"]
["1531608","Maceiras Rio, Manuela","Gallega","D","Tercera Corazón","Competición",3,{"$f":"VLOOKUP(E601,Referencias!$B$4:$C$15,2,FALSE())","v":"3C"},{"$f":"VLOOKUP(C601,Referencias!$B$18:$C$34,2,FALSE())","v":"G"},"C"]
["1531611","Santos Insua, Ana","Gallega","D","Tercera Diamante","Competición",3,{"$f":"VLOOKUP(E602,Referencias!$B$4:$C$15,2,FALSE())","v":"3D"},{"$f":"VLOOKUP(C602,Referencias!$B$18:$C$34,2,FALSE())","v":"G"},"C"]
["1531613","Fouz Vázquez, Marisol","Gallega","D","Segunda Corazón","Competición",2,{"$f":"VLOOKUP(E603,Referencias!$B$4:$C$15,2,FALSE())","v":"2C"},{"$f":"VLOOKUP(C603,Referencias!$B$18:$C$34,2,FALSE())","v":"G"},"C"]
["1531619","Trillo Cayón, María","Gallega","D","Tercera Diamante","Competición",3,{"$f":"VLOOKUP(E604,Referencias!$B$4:$C$15,2,FALSE())","v":"3D"},{"$f":"VLOOKUP(C604,Referencias!$B$18:$C$34,2,FALSE())","v":"G"},"C"]
["1531622","Sainz Hernanz, Regina","Gallega","D","Sin Categoría","Competición",4,{"$f":"VLOOKUP(E605,Referencias!$B$4:$C$15,2,FALSE())","v":"SC"},{"$f":"VLOOKUP(C605,Referencias!$B$18:$C$34,2,FALSE())","v":"G"},"C"]
["1531624","Vázquez Rey, María Lucia","Gallega","D","Tercera Diamante","Competición",3,{"$f":"VLOOKUP(E606,Referencias!$B$4:$C$15,2,FALSE())","v":"3D"},{"$f":"VLOOKUP(C606,Referencias!$B$18:$C$34,2,FALSE())","v":"G"},"C"]
["1531641","Caruncho Cea, Francisco Javier","Gallega","C","Tercera Corazón","Competición",3,{"$f":"VLOOKUP(E607,Referencias!$B$4:$C$15,2,FALSE())","v":"3C"},{"$f":"VLOOKUP(C607,Referencias!$B$18:$C$34,2,FALSE())","v":"G"},"C"]
["1531645","Gabaldón Folla, María Fátima","Gallega","D","Tercera Diamante","Competición",3,{"$f":"VLOOKUP(E608,Referencias!$B$4:$C$15,2,FALSE())","v":"3D"},{"$f":"VLOOKUP(C608,Referencias!$B$18:$C$34,2,FALSE())","v":"G"},"C"]
["1531646","Ricoy Iriarte, Luis","Gallega","C","Tercera Diamante","Competición",3,{"$f":"VLOOKUP(E609,Referencias!$B$4:$C$15,2,FALSE())","v":"3D"},{"$f":"VLOOKUP(C609,Referencias!$B$18:$C$34,2,FALSE())","v":"G"},"C"]
["1531648","Malpica Saleta, Elvira","Gallega","D","Segunda Corazón","Competición",2,{"$f":"VLOOKUP(E610,Referencias!$B$4:$C$15,2,FALSE())","v":"2C"},{"$f":"VLOOKUP(C610,Referencias!$B$18:$C$34,2,FALSE())","v":"G"},"C"]
["1531654","Fernández del Barrio, Juan Antonio","Gallega","C","Segunda Picas","Competición",2,{"$f":"VLOOKUP(E611,Referencias!$B$4:$C$15,2,FALSE())","v":"2P"},{"$f":"VLOOKUP(C611,Referencias!$B$18:$C$34,2,FALSE())","v":"G"},"C"]
["1531655","Puente Sánchez, María Luisa","Gallega","D","Tercera Picas","Competición",3,{"$f":"VLOOKUP(E612,Referencias!$B$4:$C$15,2,FALSE())","v":"3P"},{"$f":"VLOOKUP(C612,Referencias!$B$18:$C$34,2,FALSE())","v":"G"},"C"]
["1531656","Saavedra Vázquez, Roberto","Gallega","C","Tercera Diamante","Competición",3,{"$f":"VLOOKUP(E613,Referencias!$B$4:$C$15,2,FALSE())","v":"3D"},{"$f":"VLOOKUP(C613,Referencias!$B$18:$C$34,2,FALSE())","v":"G"},"C"]
["1531658","Portela Gómez, Laura","Gallega","D","Tercera Diamante","Competición",3,{"$f":"VLOOKUP(E614,Referencias!$B$4:$C$15,2,FALSE())","v":"3D"},{"$f":"VLOOKUP(C614,Referencias!$B$18:$C$34,2,FALSE())","v":"G"},"C"]
["1531660","Sanjurjo Martín, Antonio","Gallega","C","Tercera Picas","Competición",3,{"$f":"VLOOKUP(E615,Referencias!$B$4:$C$15,2,FALSE())","v":"3P"},{"$f":"VLOOKUP(C615,Referencias!$B$18:$C$34,2,FALSE())","v":"G"},"C"]
["1531668","Rey de Benito, María Dolores","Gallega","D","Tercera Diamante","Competición",3,{"$f":"VLOOKUP(E616,Referencias!$B$4:$C$15,2,FALSE())","v":"3D"},{"$f":"VLOOKUP(C616,Referencias!$B$18:$C$34,2,FALSE())","v":"G"},"C"]
["1531669","García Blanco Cicerón, Isabel","Gallega","D","Tercera Diamante","Competición",3,{"$f":"VLOOKUP(E617,Referencias!$B$4:$C$15,2,FALSE())","v":"3D"},{"$f":"VLOOKUP(C617,Referencias!$B$18:$C$34,2,FALSE())","v":"G"},"C"]
["1531673","Llorente Reglero, Miguel","Gallega","C","Sin Categoría","Competición",4,{"$f":"VLOOKUP(E618,Referencias!$B$4:$C$15,2,FALSE())","v":"SC"},{"$f":"VLOOKUP(C618,Referencias!$B$18:$C$34,2,FALSE())","v":"G"},"C"]
["1531676","Fernández Casabella, Carmen","Gallega","D","Tercera Corazón","Competición",3,{"$f":"VLOOKUP(E619,Referencias!$B$4:$C$15,2,FALSE())","v":"3C"},{"$f":"VLOOKUP(C619,Referencias!$B$18:$C$34,2,FALSE())","v":"G"},"C"]
["1531686","García Hermida, Elba","Gallega","D","Tercera Diamante","Junior",3,{"$f":"VLOOKUP(E620,Referencias!$B$4:$C$15,2,FALSE())","v":"3D"},{"$f":"VLOOKUP(C620,Referencias!$B$18:$C$34,2,FALSE())","v":"G"},"C"]
["1531687","Orois Añon, Ricardo","Gallega","C","Tercera Diamante","Junior",3,{"$f":"VLOOKUP(E621,Referencias!$B$4:$C$15,2,FALSE())","v":"3D"},{"$f":"VLOOKUP(C621,Referencias!$B$18:$C$34,2,FALSE())","v":"G"},"C"]
["1531688","Ramos Serrano, Allan","Gallega","C","Sin Categoría","Junior",4,{"$f":"VLOOKUP(E622,Referencias!$B$4:$C$15,2,FALSE())","v":"SC"},{"$f":"VLOOKUP(C622,Referencias!$B$18:$C$34,2,FALSE())","v":"G"},"C"]
["1531690","Freire Eimil, María José","Gallega","D","Tercera Corazón","Competición",3,{"$f":"VLOOKUP(E623,Referencias!$B$4:$C$15,2,FALSE())","v":"3C"},{"$f":"VLOOKUP(C623,Referencias!$B$18:$C$34,2,FALSE())","v":"G"},"C"]
["1531691","Peña Díaz, María Rosa","Gallega","D","Tercera Diamante","Competición",3,{"$f":"VLOOKUP(E624,Referencias!$B$4:$C$15,2,FALSE())","v":"3D"},{"$f":"VLOOKUP(C624,Referencias!$B$18:$C$34,2,FALSE())","v":"G"},"C"]
["1531692","Sánz Piury, María","Gallega","D","Tercera Diamante","Competición",3,{"$f":"VLOOKUP(E625,Referencias!$B$4:$C$15,2,FALSE())","v":"3D"},{"$f":"VLOOKUP(C625,Referencias!$B$18:$C$34,2,FALSE())","v":"G"},"C"]
["1531694","Mohamed Mañas, Myriam","Gallega","D","Tercera Diamante","Competición",3,{"$f":"VLOOKUP(E626,Referencias!$B$4:$C$15,2,FALSE())","v":"3D"},{"$f":"VLOOKUP(C626,Referencias!$B$18:$C$34,2,FALSE())","v":"G"},"C"]
["1531696","Bermúdez de la Puente, Jose María","Gallega","C","Tercera Diamante","Competición",3,{"$f":"VLOOKUP(E627,Referencias!$B$4:$C$15,2,FALSE())","v":"3D"},{"$f":"VLOOKUP(C627,Referencias!$B$18:$C$34,2,FALSE())","v":"G"},"C"]
["1531697","Morros-Sarda Montenegro, Julieta","Gallega","D","Tercera Diamante","Competición",3,{"$f":"VLOOKUP(E628,Referencias!$B$4:$C$15,2,FALSE())","v":"3D"},{"$f":"VLOOKUP(C628,Referencias!$B$18:$C$34,2,FALSE())","v":"G"},"C"]
["1531700","Pedrosa López, Miguel Ángel","Gallega","C","Tercera Picas","Competición",3,{"$f":"VLOOKUP(E629,Referencias!$B$4:$C$15,2,FALSE())","v":"3P"},{"$f":"VLOOKUP(C629,Referencias!$B$18:$C$34,2,FALSE())","v":"G"},"C"]
["1531706","Ruiz Tovar, María Josefa","Gallega","D","Tercera Diamante","Competición",3,{"$f":"VLOOKUP(E630,Referencias!$B$4:$C$15,2,FALSE())","v":"3D"},{"$f":"VLOOKUP(C630,Referencias!$B$18:$C$34,2,FALSE())","v":"G"},"C"]
["1531709","Martínez Muñiz, Angel José","Gallega","C","Tercera Diamante","Competición",3,{"$f":"VLOOKUP(E631,Referencias!$B$4:$C$15,2,FALSE())","v":"3D"},{"$f":"VLOOKUP(C631,Referencias!$B$18:$C$34,2,FALSE())","v":"G"},"C"]
["1531713","De María Angulo, Antonio","Gallega","C","Tercera Diamante","Competición",3,{"$f":"VLOOKUP(E632,Referencias!$B$4:$C$15,2,FALSE())","v":"3D"},{"$f":"VLOOKUP(C632,Referencias!$B$18:$C$34,2,FALSE())","v":"G"},"C"]
["1531737","Alonso Usero, Pilar","Gallega","D","Sin Categoría","Competición",4,{"$f":"VLOOKUP(E633,Referencias!$B$4:$C$15,2,FALSE())","v":"SC"},{"$f":"VLOOKUP(C633,Referencias!$B$18:$C$34,2,FALSE())","v":"G"},"C"]
["1531738","Sexto Villanueva, Rosa M.","Gallega","D","Tercera Diamante","Competición",3,{"$f":"VLOOKUP(E634,Referencias!$B$4:$C$15,2,FALSE())","v":"3D"},{"$f":"VLOOKUP(C634,Referencias!$B$18:$C$34,2,FALSE())","v":"G"},"C"]
["1531740","Hidalgo González, María Gloria","Gallega","D","Sin Categoría","Competición",4,{"$f":"VLOOKUP(E635,Referencias!$B$4:$C$15,2,FALSE())","v":"SC"},{"$f":"VLOOKUP(C635,Referencias!$B$18:$C$34,2,FALSE())","v":"G"},"C"]
["1531743","Porteiro Tuñas, María Jesús","Gallega","D","Sin Categoría","Competición",4,{"$f":"VLOOKUP(E636,Referencias!$B$4:$C$15,2,FALSE())","v":"SC"},{"$f":"VLOOKUP(C636,Referencias!$B$18:$C$34,2,FALSE())","v":"G"},"C"]
["1531767","Muñoz, Carlos","Gallega","C","Tercera Diamante","Competición",3,{"$f":"VLOOKUP(E637,Referencias!$B$4:$C$15,2,FALSE())","v":"3D"},{"$f":"VLOOKUP(C637,Referencias!$B$18:$C$34,2,FALSE())","v":"G"},"C"]
["1531798","Olmo García, Fernando","Gallega","C","Sin Categoría","Competición",4,{"$f":"VLOOKUP(E638,Referencias!$B$4:$C$15,2,FALSE())","v":"SC"},{"$f":"VLOOKUP(C638,Referencias!$B$18:$C$34,2,FALSE())","v":"G"},"C"]
["1531799","Gorina Sáenz de Cabezón, Ana","Gallega","D","Primera Picas","Competición",1,{"$f":"VLOOKUP(E639,Referencias!$B$4:$C$15,2,FALSE())","v":"1P"},{"$f":"VLOOKUP(C639,Referencias!$B$18:$C$34,2,FALSE())","v":"G"},"C"]
["1531803","Méndez Vázquez, Mª Luisa","Gallega","D","Tercera Picas","Competición",3,{"$f":"VLOOKUP(E640,Referencias!$B$4:$C$15,2,FALSE())","v":"3P"},{"$f":"VLOOKUP(C640,Referencias!$B$18:$C$34,2,FALSE())","v":"G"},{"$f":"IF(D640=\"Dama\",\"D\",\"C\")","v":"C"}]
["1531804","García-Siso Pardo, Teresa","Gallega","D","Tercera Picas","Competición",3,{"$f":"VLOOKUP(E641,Referencias!$B$4:$C$15,2,FALSE())","v":"3P"},{"$f":"VLOOKUP(C641,Referencias!$B$18:$C$34,2,FALSE())","v":"G"},"C"]
["1531805","Rodríguez Cid, Mª Teresa","Gallega","D","Tercera Diamante","Competición",3,{"$f":"VLOOKUP(E642,Referencias!$B$4:$C$15,2,FALSE())","v":"3D"},{"$f":"VLOOKUP(C642,Referencias!$B$18:$C$34,2,FALSE())","v":"G"},"C"]
["1531806","Trepat Silva, Consuelo","Gallega","D","Tercera Picas","Competición",3,{"$f":"VLOOKUP(E643,Referencias!$B$4:$C$15,2,FALSE())","v":"3P"},{"$f":"VLOOKUP(C643,Referencias!$B$18:$C$34,2,FALSE())","v":"G"},"C"]
["1531821","Villar y Martín-Barbadillo, María","Gallega","D","Tercera Diamante","Competición",3,{"$f":"VLOOKUP(E644,Referencias!$B$4:$C$15,2,FALSE())","v":"3D"},{"$f":"VLOOKUP(C644,Referencias!$B$18:$C$34,2,FALSE())","v":"G"},"C"]
["1531825","Bermudez de La Puente, Mª Magdalena","Gallega","D","Tercera Diamante","Competición",3,{"$f":"VLOOKUP(E645,Referencias!$B$4:$C$15,2,FALSE())","v":"3D"},{"$f":"VLOOKUP(C645,Referencias!$B$18:$C$34,2,FALSE())","v":"G"},"C"]
["1531827","Juega Puig, Francisco Javier","Gallega","C","Tercera Corazón","Competición",3,{"$f":"VLOOKUP(E646,Referencias!$B$4:$C$15,2,FALSE())","v":"3C"},{"$f":"VLOOKUP(C646,Referencias!$B$18:$C$34,2,FALSE())","v":"G"},"C"]
["1531928","Rodriguez Madriñán, Fernando","Gallega","C","Tercera Diamante","Competición",3,{"$f":"VLOOKUP(E647,Referencias!$B$4:$C$15,2,FALSE())","v":"3D"},{"$f":"VLOOKUP(C647,Referencias!$B$18:$C$34,2,FALSE())","v":"G"},"C"]
["1531929","Varela Porteiro, Maria","Gallega","D","Sin Categoría","Competición",4,{"$f":"VLOOKUP(E648,Referencias!$B$4:$C$15,2,FALSE())","v":"SC"},{"$f":"VLOOKUP(C648,Referencias!$B$18:$C$34,2,FALSE())","v":"G"},"C"]
["1531930","Nuñez Coello, Alfonso","Gallega",null,"Sin Categoría","Competición",4,{"$f":"VLOOKUP(E649,Referencias!$B$4:$C$15,2,FALSE())","v":"SC"},{"$f":"VLOOKUP(C649,Referencias!$B$18:$C$34,2,FALSE())","v":"G"},"C"]
["1531931","Peletiro Fernández, Ramón","Gallega","C","Sin Categoría","Competición",4,{"$f":"VLOOKUP(E650,Referencias!$B$4:$C$15,2,FALSE())","v":"SC"},{"$f":"VLOOKUP(C650,Referencias!$B$18:$C$34,2,FALSE())","v":"G"},"C"]
["1531932","Romero Lopez-Grado, Jaime","Gallega","C","Sin Categoría","Competición",4,{"$f":"VLOOKUP(E651,Referencias!$B$4:$C$15,2,FALSE())","v":"SC"},{"$f":"VLOOKUP(C651,Referencias!$B$18:$C$34,2,FALSE())","v":"G"},"C"]
["1535009","de Figueroa , Marquesa","Gallega","D","Primera Picas","Competición",1,{"$f":"VLOOKUP(E652,Referencias!$B$4:$C$15,2,FALSE())","v":"1P"},{"$f":"VLOOKUP(C652,Referencias!$B$18:$C$34,2,FALSE())","v":"G"},"C"]
["1535010","Ferrer Pages, Montserrat","Gallega","D","Segunda Corazón","Competición",2,{"$f":"VLOOKUP(E653,Referencias!$B$4:$C$15,2,FALSE())","v":"2C"},{"$f":"VLOOKUP(C653,Referencias!$B$18:$C$34,2,FALSE())","v":"G"},"C"]
["1535043","Vázquez-Pimentel Llamas, German","Gallega","C","Primera Picas","Competición",1,{"$f":"VLOOKUP(E654,Referencias!$B$4:$C$15,2,FALSE())","v":"1P"},{"$f":"VLOOKUP(C654,Referencias!$B$18:$C$34,2,FALSE())","v":"G"},"C"]
["1535100","Cortés Lobato, Chitina","Gallega","D","Segunda Diamante","Competición",2,{"$f":"VLOOKUP(E655,Referencias!$B$4:$C$15,2,FALSE())","v":"2D"},{"$f":"VLOOKUP(C655,Referencias!$B$18:$C$34,2,FALSE())","v":"G"},"C"]
["1535112","Romero López-Grado, Marcelo","Gallega","C","Primera Picas","Competición",1,{"$f":"VLOOKUP(E656,Referencias!$B$4:$C$15,2,FALSE())","v":"1P"},{"$f":"VLOOKUP(C656,Referencias!$B$18:$C$34,2,FALSE())","v":"G"},"C"]
["1535114","Solorzano Rojo, Josefina","Gallega","D","Primera Diamante","Competición",1,{"$f":"VLOOKUP(E657,Referencias!$B$4:$C$15,2,FALSE())","v":"1D"},{"$f":"VLOOKUP(C657,Referencias!$B$18:$C$34,2,FALSE())","v":"G"},"C"]
["1535117","Formoso Galdo, Irene Dolores","Gallega","D","Segunda Picas","Competición",2,{"$f":"VLOOKUP(E658,Referencias!$B$4:$C$15,2,FALSE())","v":"2P"},{"$f":"VLOOKUP(C658,Referencias!$B$18:$C$34,2,FALSE())","v":"G"},"C"]
["1535118","Berguer Sández, Margarita","Gallega","D","Primera Picas","Competición",1,{"$f":"VLOOKUP(E659,Referencias!$B$4:$C$15,2,FALSE())","v":"1P"},{"$f":"VLOOKUP(C659,Referencias!$B$18:$C$34,2,FALSE())","v":"G"},"C"]
["1535119","Pérez Rubido, Fuensanta","Gallega","D","Primera Picas","Competición",1,{"$f":"VLOOKUP(E660,Referencias!$B$4:$C$15,2,FALSE())","v":"1P"},{"$f":"VLOOKUP(C660,Referencias!$B$18:$C$34,2,FALSE())","v":"G"},"C"]
["1535131","Mazaira Garro, Carmen","Gallega","D","Segunda Corazón","Competición",2,{"$f":"VLOOKUP(E661,Referencias!$B$4:$C$15,2,FALSE())","v":"2C"},{"$f":"VLOOKUP(C661,Referencias!$B$18:$C$34,2,FALSE())","v":"G"},"C"]
["1535143","Berguer Sández, Celia","Gallega","D","Tercera Picas","Competición",3,{"$f":"VLOOKUP(E662,Referencias!$B$4:$C$15,2,FALSE())","v":"3P"},{"$f":"VLOOKUP(C662,Referencias!$B$18:$C$34,2,FALSE())","v":"G"},"C"]
["1535144","Etcheverría Vázquez, Encarnación","Gallega","D","Segunda Corazón","Competición",2,{"$f":"VLOOKUP(E663,Referencias!$B$4:$C$15,2,FALSE())","v":"2C"},{"$f":"VLOOKUP(C663,Referencias!$B$18:$C$34,2,FALSE())","v":"G"},"C"]
["1535148","Ayora Rodríguez, Pilar","Gallega","D","Tercera Picas","Competición",3,{"$f":"VLOOKUP(E664,Referencias!$B$4:$C$15,2,FALSE())","v":"3P"},{"$f":"VLOOKUP(C664,Referencias!$B$18:$C$34,2,FALSE())","v":"G"},"C"]
["1535150","Novo Prego, Pancha","Gallega","D","Primera Picas","Competición",1,{"$f":"VLOOKUP(E665,Referencias!$B$4:$C$15,2,FALSE())","v":"1P"},{"$f":"VLOOKUP(C665,Referencias!$B$18:$C$34,2,FALSE())","v":"G"},"C"]
["1535177","Muñiz de las Cuevas, Isabel","Gallega","D","Segunda Picas","Competición",2,{"$f":"VLOOKUP(E666,Referencias!$B$4:$C$15,2,FALSE())","v":"2P"},{"$f":"VLOOKUP(C666,Referencias!$B$18:$C$34,2,FALSE())","v":"G"},"C"]
["1535179","López Luaces, M. Olga","Gallega","D","Segunda Picas","Competición",2,{"$f":"VLOOKUP(E667,Referencias!$B$4:$C$15,2,FALSE())","v":"2P"},{"$f":"VLOOKUP(C667,Referencias!$B$18:$C$34,2,FALSE())","v":"G"},"C"]
["1535180","Muñiz Vega, Marina","Gallega","D","Primera Picas","Competición",1,{"$f":"VLOOKUP(E668,Referencias!$B$4:$C$15,2,FALSE())","v":"1P"},{"$f":"VLOOKUP(C668,Referencias!$B$18:$C$34,2,FALSE())","v":"G"},"C"]
["1535183","Martínez Casal, Luisa","Gallega","D","Primera Picas","Competición",1,{"$f":"VLOOKUP(E669,Referencias!$B$4:$C$15,2,FALSE())","v":"1P"},{"$f":"VLOOKUP(C669,Referencias!$B$18:$C$34,2,FALSE())","v":"G"},"C"]
["1535187","Balás Pedreira, María","Gallega","D","Primera Corazón","Competición",1,{"$f":"VLOOKUP(E670,Referencias!$B$4:$C$15,2,FALSE())","v":"1C"},{"$f":"VLOOKUP(C670,Referencias!$B$18:$C$34,2,FALSE())","v":"G"},"C"]
["1535772","Pereiro  López, Eva","Gallega","D","Tercera Picas","Competición",3,{"$f":"VLOOKUP(E671,Referencias!$B$4:$C$15,2,FALSE())","v":"3P"},{"$f":"VLOOKUP(C671,Referencias!$B$18:$C$34,2,FALSE())","v":"G"},"C"]
["1535773","Romero Gorriz, Amparo","Gallega","D","Tercera Corazón","Competición",3,{"$f":"VLOOKUP(E672,Referencias!$B$4:$C$15,2,FALSE())","v":"3C"},{"$f":"VLOOKUP(C672,Referencias!$B$18:$C$34,2,FALSE())","v":"G"},"C"]
["1535808","Balás Pedreira, Angel","Gallega","C","Primera Picas","Competición",1,{"$f":"VLOOKUP(E673,Referencias!$B$4:$C$15,2,FALSE())","v":"1P"},{"$f":"VLOOKUP(C673,Referencias!$B$18:$C$34,2,FALSE())","v":"G"},"C"]
["1535828","Ponte Fernández, Manuel","Gallega","C","Sin Categoría","Competición",4,{"$f":"VLOOKUP(E674,Referencias!$B$4:$C$15,2,FALSE())","v":"SC"},{"$f":"VLOOKUP(C674,Referencias!$B$18:$C$34,2,FALSE())","v":"G"},"C"]
["1535850","De la Colina Unda, Helena","Gallega","D","Primera Diamante","Competición",1,{"$f":"VLOOKUP(E675,Referencias!$B$4:$C$15,2,FALSE())","v":"1D"},{"$f":"VLOOKUP(C675,Referencias!$B$18:$C$34,2,FALSE())","v":"G"},"C"]
["1861692","Bourquin, Helmut","Andaluza","C","Segunda Diamante","Competición",2,{"$f":"VLOOKUP(E676,Referencias!$B$4:$C$15,2,FALSE())","v":"2D"},{"$f":"VLOOKUP(C676,Referencias!$B$18:$C$34,2,FALSE())","v":"A"},"C"]
["1861748","Pineau, Sandra","Andaluza","D","Sin Categoría","Competición",4,{"$f":"VLOOKUP(E677,Referencias!$B$4:$C$15,2,FALSE())","v":"SC"},{"$f":"VLOOKUP(C677,Referencias!$B$18:$C$34,2,FALSE())","v":"A"},"C"]
["1861749","Levman, Martin","Andaluza","C","Sin Categoría","Competición",4,{"$f":"VLOOKUP(E678,Referencias!$B$4:$C$15,2,FALSE())","v":"SC"},{"$f":"VLOOKUP(C678,Referencias!$B$18:$C$34,2,FALSE())","v":"A"},"C"]
["1908000","Jódar Rodríguez, José","Castellano-Manchega","C","Tercera Diamante","Competición",3,{"$f":"VLOOKUP(E679,Referencias!$B$4:$C$15,2,FALSE())","v":"3D"},{"$f":"VLOOKUP(C679,Referencias!$B$18:$C$34,2,FALSE())","v":"CM"},"C"]
["2081031","Ruiz Lopetedi, María Paz","Vasca","D","Sin Categoría","Competición",4,{"$f":"VLOOKUP(E680,Referencias!$B$4:$C$15,2,FALSE())","v":"SC"},{"$f":"VLOOKUP(C680,Referencias!$B$18:$C$34,2,FALSE())","v":"PV"},"C"]
["2081092","Serraller Ibañez, Carmen","Vasca","D","Tercera Diamante","Competición",3,{"$f":"VLOOKUP(E681,Referencias!$B$4:$C$15,2,FALSE())","v":"3D"},{"$f":"VLOOKUP(C681,Referencias!$B$18:$C$34,2,FALSE())","v":"PV"},"C"]
["2081093","Drehs del Castro, Ana María","Vasca","D","Tercera Diamante","Competición",3,{"$f":"VLOOKUP(E682,Referencias!$B$4:$C$15,2,FALSE())","v":"3D"},{"$f":"VLOOKUP(C682,Referencias!$B$18:$C$34,2,FALSE())","v":"PV"},"C"]
["2081098","Telleria Usabiaga, Isabel","Vasca","D","Tercera Diamante","Competición",3,{"$f":"VLOOKUP(E683,Referencias!$B$4:$C$15,2,FALSE())","v":"3D"},{"$f":"VLOOKUP(C683,Referencias!$B$18:$C$34,2,FALSE())","v":"PV"},"C"]
["2081134","Escribano Uzcudun, Miguel","Vasca","C","Tercera Corazón","Competición",3,{"$f":"VLOOKUP(E684,Referencias!$B$4:$C$15,2,FALSE())","v":"3C"},{"$f":"VLOOKUP(C684,Referencias!$B$18:$C$34,2,FALSE())","v":"PV"},"C"]
["2081167","Lasarte Alzua, José León","Vasca","C","Segunda Corazón","Competición",2,{"$f":"VLOOKUP(E685,Referencias!$B$4:$C$15,2,FALSE())","v":"2C"},{"$f":"VLOOKUP(C685,Referencias!$B$18:$C$34,2,FALSE())","v":"PV"},"C"]
["2081168","Sainz Armada, Paz","Vasca","D","Segunda Diamante","Competición",2,{"$f":"VLOOKUP(E686,Referencias!$B$4:$C$15,2,FALSE())","v":"2D"},{"$f":"VLOOKUP(C686,Referencias!$B$18:$C$34,2,FALSE())","v":"PV"},"C"]
["2081191","Elio Lopetedi, María Pilar","Vasca","D","Tercera Diamante","Competición",3,{"$f":"VLOOKUP(E687,Referencias!$B$4:$C$15,2,FALSE())","v":"3D"},{"$f":"VLOOKUP(C687,Referencias!$B$18:$C$34,2,FALSE())","v":"PV"},"C"]
["2081207","Gimenez Aurusa, María Jesús","Vasca","D","Sin Categoría","Competición",4,{"$f":"VLOOKUP(E688,Referencias!$B$4:$C$15,2,FALSE())","v":"SC"},{"$f":"VLOOKUP(C688,Referencias!$B$18:$C$34,2,FALSE())","v":"PV"},"C"]
["2081208","Gimenez Aurusa, María Victoria","Vasca","D","Sin Categoría","Competición",4,{"$f":"VLOOKUP(E689,Referencias!$B$4:$C$15,2,FALSE())","v":"SC"},{"$f":"VLOOKUP(C689,Referencias!$B$18:$C$34,2,FALSE())","v":"PV"},"C"]
["2081209","Pennes Miangolarra, Michel","Vasca","C","Tercera Corazón","Competición",3,{"$f":"VLOOKUP(E690,Referencias!$B$4:$C$15,2,FALSE())","v":"3C"},{"$f":"VLOOKUP(C690,Referencias!$B$18:$C$34,2,FALSE())","v":"PV"},"C"]
["2081239","Rodriguez Huerta, Elena","Vasca","D","Sin Categoría","Competición",4,{"$f":"VLOOKUP(E691,Referencias!$B$4:$C$15,2,FALSE())","v":"SC"},{"$f":"VLOOKUP(C691,Referencias!$B$18:$C$34,2,FALSE())","v":"PV"},"C"]
["2081241","Uriarte Seminario, Ana María","Vasca","D","Sin Categoría","Competición",4,{"$f":"VLOOKUP(E692,Referencias!$B$4:$C$15,2,FALSE())","v":"SC"},{"$f":"VLOOKUP(C692,Referencias!$B$18:$C$34,2,FALSE())","v":"PV"},"C"]
["2081242","Ostolaza Gómez, Cristina","Vasca","D","Sin Categoría","Competición",4,{"$f":"VLOOKUP(E693,Referencias!$B$4:$C$15,2,FALSE())","v":"SC"},{"$f":"VLOOKUP(C693,Referencias!$B$18:$C$34,2,FALSE())","v":"PV"},"C"]
["2081256","Velarde Altolaguirre, Guadalupe","Vasca","D","Tercera Picas","Competición",3,{"$f":"VLOOKUP(E694,Referencias!$B$4:$C$15,2,FALSE())","v":"3P"},{"$f":"VLOOKUP(C694,Referencias!$B$18:$C$34,2,FALSE())","v":"PV"},"C"]
["2081257","Gabilondo Usabiaga, Miren","Vasca","D","Sin Categoría","Competición",4,{"$f":"VLOOKUP(E695,Referencias!$B$4:$C$15,2,FALSE())","v":"SC"},{"$f":"VLOOKUP(C695,Referencias!$B$18:$C$34,2,FALSE())","v":"PV"},"C"]
["2081262","Botín Gros, Marisol","Vasca","D","Sin Categoría","Competición",4,{"$f":"VLOOKUP(E696,Referencias!$B$4:$C$15,2,FALSE())","v":"SC"},{"$f":"VLOOKUP(C696,Referencias!$B$18:$C$34,2,FALSE())","v":"PV"},"C"]
["2081264","Olasagasti Duñabeitia, María del Coro","Vasca","D","Sin Categoría","Competición",4,{"$f":"VLOOKUP(E697,Referencias!$B$4:$C$15,2,FALSE())","v":"SC"},{"$f":"VLOOKUP(C697,Referencias!$B$18:$C$34,2,FALSE())","v":"PV"},"C"]
["2081265","Olasagasti Duñabeitia, Ana","Vasca","D","Sin Categoría","Competición",4,{"$f":"VLOOKUP(E698,Referencias!$B$4:$C$15,2,FALSE())","v":"SC"},{"$f":"VLOOKUP(C698,Referencias!$B$18:$C$34,2,FALSE())","v":"PV"},"C"]
["2081275","Murua Urruticoechea, Antonio","Vasca","C","Tercera Picas","Competición",3,{"$f":"VLOOKUP(E699,Referencias!$B$4:$C$15,2,FALSE())","v":"3P"},{"$f":"VLOOKUP(C699,Referencias!$B$18:$C$34,2,FALSE())","v":"PV"},"C"]
["2081276","Murua Urruticoechea, Laura","Vasca","D","Segunda Diamante","Competición",2,{"$f":"VLOOKUP(E700,Referencias!$B$4:$C$15,2,FALSE())","v":"2D"},{"$f":"VLOOKUP(C700,Referencias!$B$18:$C$34,2,FALSE())","v":"PV"},"C"]
["2081277","Barandiaran Barbeira, Juan","Vasca","C","Sin Categoría","Competición",4,{"$f":"VLOOKUP(E701,Referencias!$B$4:$C$15,2,FALSE())","v":"SC"},{"$f":"VLOOKUP(C701,Referencias!$B$18:$C$34,2,FALSE())","v":"PV"},"C"]
["2081454","Martínez Fresneda, Álvaro","Cántabra","C","Primera Picas","Competición",1,{"$f":"VLOOKUP(E702,Referencias!$B$4:$C$15,2,FALSE())","v":"1P"},{"$f":"VLOOKUP(C702,Referencias!$B$18:$C$34,2,FALSE())","v":"CN"},"C"]
["2083348","Pilarte Pilarte, Fernando","Vasca","C","Primera Picas","Competición",1,{"$f":"VLOOKUP(E703,Referencias!$B$4:$C$15,2,FALSE())","v":"1P"},{"$f":"VLOOKUP(C703,Referencias!$B$18:$C$34,2,FALSE())","v":"PV"},"C"]
["2161189","Barranco Molina, Mari Carmen","Andaluza","D","Sin Categoría","Competición",4,{"$f":"VLOOKUP(E704,Referencias!$B$4:$C$15,2,FALSE())","v":"SC"},{"$f":"VLOOKUP(C704,Referencias!$B$18:$C$34,2,FALSE())","v":"A"},{"$f":"IF(D704=\"Dama\",\"D\",\"C\")","v":"C"}]
["2161289","Garrigos Perucha, Pedro","Andaluza","C","Segunda Diamante","Competición",2,{"$f":"VLOOKUP(E705,Referencias!$B$4:$C$15,2,FALSE())","v":"2D"},{"$f":"VLOOKUP(C705,Referencias!$B$18:$C$34,2,FALSE())","v":"A"},"C"]
["2161290","López Urieta, Alejandro","Andaluza","C","Primera Picas","Competición",1,{"$f":"VLOOKUP(E706,Referencias!$B$4:$C$15,2,FALSE())","v":"1P"},{"$f":"VLOOKUP(C706,Referencias!$B$18:$C$34,2,FALSE())","v":"A"},"C"]
["2161457","Carrasco Vila, Jesús","Andaluza","C","Sin Categoría","Competición",4,{"$f":"VLOOKUP(E707,Referencias!$B$4:$C$15,2,FALSE())","v":"SC"},{"$f":"VLOOKUP(C707,Referencias!$B$18:$C$34,2,FALSE())","v":"A"},"C"]
["2161460","Calvo Sánchez, Jesús María","Andaluza","C","Sin Categoría","Competición",4,{"$f":"VLOOKUP(E708,Referencias!$B$4:$C$15,2,FALSE())","v":"SC"},{"$f":"VLOOKUP(C708,Referencias!$B$18:$C$34,2,FALSE())","v":"A"},"C"]
["2161461","Villalón Cuesta, Manuel","Andaluza","C","Tercera Corazón","Competición",3,{"$f":"VLOOKUP(E709,Referencias!$B$4:$C$15,2,FALSE())","v":"3C"},{"$f":"VLOOKUP(C709,Referencias!$B$18:$C$34,2,FALSE())","v":"A"},"C"]
["2161463","Guerrero Lowndes, Ana Verónica","Andaluza","D","Sin Categoría","Competición",4,{"$f":"VLOOKUP(E710,Referencias!$B$4:$C$15,2,FALSE())","v":"SC"},{"$f":"VLOOKUP(C710,Referencias!$B$18:$C$34,2,FALSE())","v":"A"},"C"]
["2161510","Prado Fernández, Juan","Andaluza","C","Sin Categoría","Competición",4,{"$f":"VLOOKUP(E711,Referencias!$B$4:$C$15,2,FALSE())","v":"SC"},{"$f":"VLOOKUP(C711,Referencias!$B$18:$C$34,2,FALSE())","v":"A"},"C"]
["2161717","Romero Albarracin, Agustín","Andaluza","C","Sin Categoría","Competición",4,{"$f":"VLOOKUP(E712,Referencias!$B$4:$C$15,2,FALSE())","v":"SC"},{"$f":"VLOOKUP(C712,Referencias!$B$18:$C$34,2,FALSE())","v":"A"},"C"]
["2161719","Pena Rodriguez, Maria Cristina","Andaluza","D","Sin Categoría","Competición",4,{"$f":"VLOOKUP(E713,Referencias!$B$4:$C$15,2,FALSE())","v":"SC"},{"$f":"VLOOKUP(C713,Referencias!$B$18:$C$34,2,FALSE())","v":"A"},"C"]
["2161725","Espada Criado, Antonio","Andaluza","C","Sin Categoría","Competición",4,{"$f":"VLOOKUP(E714,Referencias!$B$4:$C$15,2,FALSE())","v":"SC"},{"$f":"VLOOKUP(C714,Referencias!$B$18:$C$34,2,FALSE())","v":"A"},"C"]
["2168207","Golmar Izquierdo, Alfonso","Andaluza","C","Primera Picas","Competición",1,{"$f":"VLOOKUP(E715,Referencias!$B$4:$C$15,2,FALSE())","v":"1P"},{"$f":"VLOOKUP(C715,Referencias!$B$18:$C$34,2,FALSE())","v":"A"},"C"]
["2471000","Martínez Puente, Miguel Angel","Castilla y León","C","Primera Corazón","Competición",1,{"$f":"VLOOKUP(E716,Referencias!$B$4:$C$15,2,FALSE())","v":"1C"},{"$f":"VLOOKUP(C716,Referencias!$B$18:$C$34,2,FALSE())","v":"CL"},"C"]
["2471001","Almarza Riesco, Mercedes","Castilla y León","D","Primera Corazón","Competición",1,{"$f":"VLOOKUP(E717,Referencias!$B$4:$C$15,2,FALSE())","v":"1C"},{"$f":"VLOOKUP(C717,Referencias!$B$18:$C$34,2,FALSE())","v":"CL"},"C"]
["2471002","Gutierrez González, Vicente","Castilla y León","C","Tercera Corazón","Competición",3,{"$f":"VLOOKUP(E718,Referencias!$B$4:$C$15,2,FALSE())","v":"3C"},{"$f":"VLOOKUP(C718,Referencias!$B$18:$C$34,2,FALSE())","v":"CL"},"C"]
["2471037","Alonso Grima, Pilar","Castilla y León","D","Tercera Corazón","Competición",3,{"$f":"VLOOKUP(E719,Referencias!$B$4:$C$15,2,FALSE())","v":"3C"},{"$f":"VLOOKUP(C719,Referencias!$B$18:$C$34,2,FALSE())","v":"CL"},"C"]
["2471038","Muñoz López, José Luis","Castilla y León","C","Tercera Diamante","Competición",3,{"$f":"VLOOKUP(E720,Referencias!$B$4:$C$15,2,FALSE())","v":"3D"},{"$f":"VLOOKUP(C720,Referencias!$B$18:$C$34,2,FALSE())","v":"CL"},"C"]
["2471039","Alaejos González, Ana","Castilla y León","D","Tercera Corazón","Competición",3,{"$f":"VLOOKUP(E721,Referencias!$B$4:$C$15,2,FALSE())","v":"3C"},{"$f":"VLOOKUP(C721,Referencias!$B$18:$C$34,2,FALSE())","v":"CL"},"C"]
["2471041","Porras de Fernández, Manuela","Castilla y León","D","Tercera Corazón","Competición",3,{"$f":"VLOOKUP(E722,Referencias!$B$4:$C$15,2,FALSE())","v":"3C"},{"$f":"VLOOKUP(C722,Referencias!$B$18:$C$34,2,FALSE())","v":"CL"},"C"]
["2471164","González Martinena, M. Amparo","Castilla y León","D","Tercera Corazón","Competición",3,{"$f":"VLOOKUP(E723,Referencias!$B$4:$C$15,2,FALSE())","v":"3C"},{"$f":"VLOOKUP(C723,Referencias!$B$18:$C$34,2,FALSE())","v":"CL"},"C"]
["2471231","Martínez Concejo, Rosa Mª","Castilla y León","D","Tercera Corazón","Competición",3,{"$f":"VLOOKUP(E724,Referencias!$B$4:$C$15,2,FALSE())","v":"3C"},{"$f":"VLOOKUP(C724,Referencias!$B$18:$C$34,2,FALSE())","v":"CL"},"C"]
["2471232","González Gutierrez, Mercedes","Castilla y León","D","Tercera Corazón","Competición",3,{"$f":"VLOOKUP(E725,Referencias!$B$4:$C$15,2,FALSE())","v":"3C"},{"$f":"VLOOKUP(C725,Referencias!$B$18:$C$34,2,FALSE())","v":"CL"},"C"]
["2471271","Toral Marcos, José","Castilla y León","C","Primera Diamante","Competición",1,{"$f":"VLOOKUP(E726,Referencias!$B$4:$C$15,2,FALSE())","v":"1D"},{"$f":"VLOOKUP(C726,Referencias!$B$18:$C$34,2,FALSE())","v":"CL"},"C"]
["2471272","Larriba Molina, Marina","Castilla y León","D","Primera Diamante","Competición",1,{"$f":"VLOOKUP(E727,Referencias!$B$4:$C$15,2,FALSE())","v":"1D"},{"$f":"VLOOKUP(C727,Referencias!$B$18:$C$34,2,FALSE())","v":"CL"},"C"]
["2471274","Alonso Pérez, Nieves","Castilla y León","D","Tercera Diamante","Competición",3,{"$f":"VLOOKUP(E728,Referencias!$B$4:$C$15,2,FALSE())","v":"3D"},{"$f":"VLOOKUP(C728,Referencias!$B$18:$C$34,2,FALSE())","v":"CL"},"C"]
["2471275","Coma Luengo, Angeles","Castilla y León","D","Tercera Picas","Competición",3,{"$f":"VLOOKUP(E729,Referencias!$B$4:$C$15,2,FALSE())","v":"3P"},{"$f":"VLOOKUP(C729,Referencias!$B$18:$C$34,2,FALSE())","v":"CL"},"C"]
["2471320","Carnero Gutierrez, Dori","Castilla y León","D","Primera Diamante","Competición",1,{"$f":"VLOOKUP(E730,Referencias!$B$4:$C$15,2,FALSE())","v":"1D"},{"$f":"VLOOKUP(C730,Referencias!$B$18:$C$34,2,FALSE())","v":"CL"},"C"]
["2471321","Feo de la Fuente, Josefa","Castilla y León","D","Tercera Diamante","Competición",3,{"$f":"VLOOKUP(E731,Referencias!$B$4:$C$15,2,FALSE())","v":"3D"},{"$f":"VLOOKUP(C731,Referencias!$B$18:$C$34,2,FALSE())","v":"CL"},"C"]
["2471376","De Paz, María Rosa","Castilla y León","D","Tercera Picas","Competición",3,{"$f":"VLOOKUP(E732,Referencias!$B$4:$C$15,2,FALSE())","v":"3P"},{"$f":"VLOOKUP(C732,Referencias!$B$18:$C$34,2,FALSE())","v":"CL"},"C"]
["2471409","Calvo Rodríguez, Mariluz","Castilla y León","D","Segunda Diamante","Competición",2,{"$f":"VLOOKUP(E733,Referencias!$B$4:$C$15,2,FALSE())","v":"2D"},{"$f":"VLOOKUP(C733,Referencias!$B$18:$C$34,2,FALSE())","v":"CL"},"C"]
["2471410","González Guillén, Mª Angeles","Castilla y León","D","Tercera Corazón","Competición",3,{"$f":"VLOOKUP(E734,Referencias!$B$4:$C$15,2,FALSE())","v":"3C"},{"$f":"VLOOKUP(C734,Referencias!$B$18:$C$34,2,FALSE())","v":"CL"},"C"]
["2471421","Ameijide Calleja, Luis Helio","Castilla y León","C","Sin Categoría","Competición",4,{"$f":"VLOOKUP(E735,Referencias!$B$4:$C$15,2,FALSE())","v":"SC"},{"$f":"VLOOKUP(C735,Referencias!$B$18:$C$34,2,FALSE())","v":"CL"},"C"]
["2471433","Rebollo Martínez, Victoria","Castilla y León","D","Sin Categoría","Competición",4,{"$f":"VLOOKUP(E736,Referencias!$B$4:$C$15,2,FALSE())","v":"SC"},{"$f":"VLOOKUP(C736,Referencias!$B$18:$C$34,2,FALSE())","v":"CL"},"C"]
["2471435","Graña González, Emma","Castilla y León","D","Tercera Picas","Competición",3,{"$f":"VLOOKUP(E737,Referencias!$B$4:$C$15,2,FALSE())","v":"3P"},{"$f":"VLOOKUP(C737,Referencias!$B$18:$C$34,2,FALSE())","v":"CL"},"C"]
["2471437","Díez Tejerina, Maria Q.","Castilla y León","D","Tercera Diamante","Competición",3,{"$f":"VLOOKUP(E738,Referencias!$B$4:$C$15,2,FALSE())","v":"3D"},{"$f":"VLOOKUP(C738,Referencias!$B$18:$C$34,2,FALSE())","v":"CL"},"C"]
["2471438","Piñón Gutiérrez, María Teresa","Castilla y León","D","Tercera Diamante","Competición",3,{"$f":"VLOOKUP(E739,Referencias!$B$4:$C$15,2,FALSE())","v":"3D"},{"$f":"VLOOKUP(C739,Referencias!$B$18:$C$34,2,FALSE())","v":"CL"},"C"]
["2471478","Sánchez Picazas, Marta","Castilla y León","D","Tercera Diamante","Competición",3,{"$f":"VLOOKUP(E740,Referencias!$B$4:$C$15,2,FALSE())","v":"3D"},{"$f":"VLOOKUP(C740,Referencias!$B$18:$C$34,2,FALSE())","v":"CL"},"C"]
["2471480","Santos Rodriguez, María del Carmen","Castilla y León","D","Tercera Diamante","Competición",3,{"$f":"VLOOKUP(E741,Referencias!$B$4:$C$15,2,FALSE())","v":"3D"},{"$f":"VLOOKUP(C741,Referencias!$B$18:$C$34,2,FALSE())","v":"CL"},"C"]
["2471522","Palmero, Corry","Castilla y León","D","Primera Diamante","Competición",1,{"$f":"VLOOKUP(E742,Referencias!$B$4:$C$15,2,FALSE())","v":"1D"},{"$f":"VLOOKUP(C742,Referencias!$B$18:$C$34,2,FALSE())","v":"CL"},"C"]
["2475713","Ameijide Montenegro, Luis","Castilla y León","C","Primera Picas","Competición",1,{"$f":"VLOOKUP(E743,Referencias!$B$4:$C$15,2,FALSE())","v":"1P"},{"$f":"VLOOKUP(C743,Referencias!$B$18:$C$34,2,FALSE())","v":"CL"},"C"]
["2475714","Calleja Medel, Gilda","Castilla y León","D","Tercera Picas","Competición",3,{"$f":"VLOOKUP(E744,Referencias!$B$4:$C$15,2,FALSE())","v":"3P"},{"$f":"VLOOKUP(C744,Referencias!$B$18:$C$34,2,FALSE())","v":"CL"},"C"]
["2607000","Camacho García, Nieves","Riojana","D","Tercera Diamante","Competición",3,{"$f":"VLOOKUP(E745,Referencias!$B$4:$C$15,2,FALSE())","v":"3D"},{"$f":"VLOOKUP(C745,Referencias!$B$18:$C$34,2,FALSE())","v":"R"},"C"]
["2607001","Le Barzic, Anne-Marie","Riojana","D","Tercera Corazón","Competición",3,{"$f":"VLOOKUP(E746,Referencias!$B$4:$C$15,2,FALSE())","v":"3C"},{"$f":"VLOOKUP(C746,Referencias!$B$18:$C$34,2,FALSE())","v":"R"},"C"]
["2607002","Torres González, Lucía","Riojana","D","Tercera Corazón","Competición",3,{"$f":"VLOOKUP(E747,Referencias!$B$4:$C$15,2,FALSE())","v":"3C"},{"$f":"VLOOKUP(C747,Referencias!$B$18:$C$34,2,FALSE())","v":"R"},"C"]
["2607004","Cordier Jolivot, Josette","Riojana","D","Sin Categoría","Competición",4,{"$f":"VLOOKUP(E748,Referencias!$B$4:$C$15,2,FALSE())","v":"SC"},{"$f":"VLOOKUP(C748,Referencias!$B$18:$C$34,2,FALSE())","v":"R"},"C"]
["2607006","Anuncibay Ruiz, Carmen Jesús","Riojana","D","Tercera Diamante","Competición",3,{"$f":"VLOOKUP(E749,Referencias!$B$4:$C$15,2,FALSE())","v":"3D"},{"$f":"VLOOKUP(C749,Referencias!$B$18:$C$34,2,FALSE())","v":"R"},"C"]
["2607007","García Jimenez, María Luz","Riojana","D","Sin Categoría","Competición",4,{"$f":"VLOOKUP(E750,Referencias!$B$4:$C$15,2,FALSE())","v":"SC"},{"$f":"VLOOKUP(C750,Referencias!$B$18:$C$34,2,FALSE())","v":"R"},"C"]
["2607008","Rodríguez Andollo, Rosa María","Riojana","D","Sin Categoría","Competición",4,{"$f":"VLOOKUP(E751,Referencias!$B$4:$C$15,2,FALSE())","v":"SC"},{"$f":"VLOOKUP(C751,Referencias!$B$18:$C$34,2,FALSE())","v":"R"},"C"]
["2607009","Meneses Mtnez. Bernal, Celia","Riojana","D","Sin Categoría","Competición",4,{"$f":"VLOOKUP(E752,Referencias!$B$4:$C$15,2,FALSE())","v":"SC"},{"$f":"VLOOKUP(C752,Referencias!$B$18:$C$34,2,FALSE())","v":"R"},"C"]
["2607010","García González, Míguel Angel","Riojana","C","Sin Categoría","Competición",4,{"$f":"VLOOKUP(E753,Referencias!$B$4:$C$15,2,FALSE())","v":"SC"},{"$f":"VLOOKUP(C753,Referencias!$B$18:$C$34,2,FALSE())","v":"R"},"C"]
["2607011","Marin Gallardo, Eloisa","Riojana","D","Tercera Corazón","Competición",3,{"$f":"VLOOKUP(E754,Referencias!$B$4:$C$15,2,FALSE())","v":"3C"},{"$f":"VLOOKUP(C754,Referencias!$B$18:$C$34,2,FALSE())","v":"R"},"C"]
["2607013","Pastor Zubiri, Maria Jesús","Riojana","D","Sin Categoría","Competición",4,{"$f":"VLOOKUP(E755,Referencias!$B$4:$C$15,2,FALSE())","v":"SC"},{"$f":"VLOOKUP(C755,Referencias!$B$18:$C$34,2,FALSE())","v":"R"},"C"]
["2607014","De Miguel Cordon, María del Carmen","Riojana","D","Sin Categoría","Competición",4,{"$f":"VLOOKUP(E756,Referencias!$B$4:$C$15,2,FALSE())","v":"SC"},{"$f":"VLOOKUP(C756,Referencias!$B$18:$C$34,2,FALSE())","v":"R"},"C"]
["2731217","Fernández López, Julia","Gallega","D","Tercera Diamante","Competición",3,{"$f":"VLOOKUP(E757,Referencias!$B$4:$C$15,2,FALSE())","v":"3D"},{"$f":"VLOOKUP(C757,Referencias!$B$18:$C$34,2,FALSE())","v":"G"},"C"]
["2731250","Latas López, Elisa","Gallega","D","Sin Categoría","Competición",4,{"$f":"VLOOKUP(E758,Referencias!$B$4:$C$15,2,FALSE())","v":"SC"},{"$f":"VLOOKUP(C758,Referencias!$B$18:$C$34,2,FALSE())","v":"G"},"C"]
["2731251","Quiroga Codesido, Pilar","Gallega","D","Tercera Diamante","Honorífica",3,{"$f":"VLOOKUP(E759,Referencias!$B$4:$C$15,2,FALSE())","v":"3D"},{"$f":"VLOOKUP(C759,Referencias!$B$18:$C$34,2,FALSE())","v":"G"},"C"]
["2731310","De Wit den Breeje, Walter","Gallega","C","Sin Categoría","Competición",4,{"$f":"VLOOKUP(E760,Referencias!$B$4:$C$15,2,FALSE())","v":"SC"},{"$f":"VLOOKUP(C760,Referencias!$B$18:$C$34,2,FALSE())","v":"G"},"C"]
["2731312","López Ferreiro, Carlota","Gallega","D","Segunda Diamante","Competición",2,{"$f":"VLOOKUP(E761,Referencias!$B$4:$C$15,2,FALSE())","v":"2D"},{"$f":"VLOOKUP(C761,Referencias!$B$18:$C$34,2,FALSE())","v":"G"},"C"]
["2731313","de Castel Blanco, Condesa","Gallega","D","Primera Picas","Competición",1,{"$f":"VLOOKUP(E762,Referencias!$B$4:$C$15,2,FALSE())","v":"1P"},{"$f":"VLOOKUP(C762,Referencias!$B$18:$C$34,2,FALSE())","v":"G"},"C"]
["2731330","Vázquez Rodríguez, María","Gallega","D","Tercera Corazón","Competición",3,{"$f":"VLOOKUP(E763,Referencias!$B$4:$C$15,2,FALSE())","v":"3C"},{"$f":"VLOOKUP(C763,Referencias!$B$18:$C$34,2,FALSE())","v":"G"},"C"]
["2731331","Varga Rivero, Ana","Gallega","D","Tercera Picas","Competición",3,{"$f":"VLOOKUP(E764,Referencias!$B$4:$C$15,2,FALSE())","v":"3P"},{"$f":"VLOOKUP(C764,Referencias!$B$18:$C$34,2,FALSE())","v":"G"},"C"]
["2731332","López González, Marina","Gallega","D","Sin Categoría","Competición",4,{"$f":"VLOOKUP(E765,Referencias!$B$4:$C$15,2,FALSE())","v":"SC"},{"$f":"VLOOKUP(C765,Referencias!$B$18:$C$34,2,FALSE())","v":"G"},"C"]
["2731336","Dorrego Magadan, Enriqueta","Gallega","D","Tercera Picas","Competición",3,{"$f":"VLOOKUP(E766,Referencias!$B$4:$C$15,2,FALSE())","v":"3P"},{"$f":"VLOOKUP(C766,Referencias!$B$18:$C$34,2,FALSE())","v":"G"},"C"]
["2731338","Caridad Arias, Chelo","Gallega","D","Segunda Diamante","Competición",2,{"$f":"VLOOKUP(E767,Referencias!$B$4:$C$15,2,FALSE())","v":"2D"},{"$f":"VLOOKUP(C767,Referencias!$B$18:$C$34,2,FALSE())","v":"G"},"C"]
["2731361","Barreiro Carrasco, Mª Trinidad","Gallega","D","Tercera Picas","Competición",3,{"$f":"VLOOKUP(E768,Referencias!$B$4:$C$15,2,FALSE())","v":"3P"},{"$f":"VLOOKUP(C768,Referencias!$B$18:$C$34,2,FALSE())","v":"G"},{"$f":"IF(D768=\"Dama\",\"D\",\"C\")","v":"C"}]
["2731368","Velayos Pardo, Celia María","Gallega","D","Tercera Diamante","Competición",3,{"$f":"VLOOKUP(E769,Referencias!$B$4:$C$15,2,FALSE())","v":"3D"},{"$f":"VLOOKUP(C769,Referencias!$B$18:$C$34,2,FALSE())","v":"G"},"C"]
["2731370","Alvárez Llamas, Montserrat","Gallega","D","Tercera Diamante","Competición",3,{"$f":"VLOOKUP(E770,Referencias!$B$4:$C$15,2,FALSE())","v":"3D"},{"$f":"VLOOKUP(C770,Referencias!$B$18:$C$34,2,FALSE())","v":"G"},"C"]
["2731411","Cabanas Tranchez, Aurora","Gallega","D","Sin Categoría","Competición",4,{"$f":"VLOOKUP(E771,Referencias!$B$4:$C$15,2,FALSE())","v":"SC"},{"$f":"VLOOKUP(C771,Referencias!$B$18:$C$34,2,FALSE())","v":"G"},"C"]
["2731413","Nóvoa Arechaga, Isabel","Gallega","D","Segunda Picas","Competición",2,{"$f":"VLOOKUP(E772,Referencias!$B$4:$C$15,2,FALSE())","v":"2P"},{"$f":"VLOOKUP(C772,Referencias!$B$18:$C$34,2,FALSE())","v":"G"},"C"]
["2731415","González Cabanas, Mª Angeles","Gallega","D","Tercera Diamante","Competición",3,{"$f":"VLOOKUP(E773,Referencias!$B$4:$C$15,2,FALSE())","v":"3D"},{"$f":"VLOOKUP(C773,Referencias!$B$18:$C$34,2,FALSE())","v":"G"},"C"]
["2731435","Sayagues Gómez, Aurora","Gallega","D","Tercera Diamante","Competición",3,{"$f":"VLOOKUP(E774,Referencias!$B$4:$C$15,2,FALSE())","v":"3D"},{"$f":"VLOOKUP(C774,Referencias!$B$18:$C$34,2,FALSE())","v":"G"},"C"]
["2731437","Palmeiro Díaz, Elvira","Gallega","D","Tercera Corazón","Competición",3,{"$f":"VLOOKUP(E775,Referencias!$B$4:$C$15,2,FALSE())","v":"3C"},{"$f":"VLOOKUP(C775,Referencias!$B$18:$C$34,2,FALSE())","v":"G"},"C"]
["2731438","Rodríguez Freire, Celia","Gallega","D","Tercera Diamante","Competición",3,{"$f":"VLOOKUP(E776,Referencias!$B$4:$C$15,2,FALSE())","v":"3D"},{"$f":"VLOOKUP(C776,Referencias!$B$18:$C$34,2,FALSE())","v":"G"},"C"]
["2731584","Refojo Díaz, María Teresa","Gallega","D","Tercera Diamante","Competición",3,{"$f":"VLOOKUP(E777,Referencias!$B$4:$C$15,2,FALSE())","v":"3D"},{"$f":"VLOOKUP(C777,Referencias!$B$18:$C$34,2,FALSE())","v":"G"},"C"]
["2731586","Seijas Soto, María Dolores","Gallega","D","Tercera Diamante","Competición",3,{"$f":"VLOOKUP(E778,Referencias!$B$4:$C$15,2,FALSE())","v":"3D"},{"$f":"VLOOKUP(C778,Referencias!$B$18:$C$34,2,FALSE())","v":"G"},"C"]
["2731588","Fernández Gómez, Berta Victoria","Gallega","D","Tercera Diamante","Competición",3,{"$f":"VLOOKUP(E779,Referencias!$B$4:$C$15,2,FALSE())","v":"3D"},{"$f":"VLOOKUP(C779,Referencias!$B$18:$C$34,2,FALSE())","v":"G"},"C"]
["2731609","Iglesias González, Mª Luisa","Gallega","D","Tercera Diamante","Competición",3,{"$f":"VLOOKUP(E780,Referencias!$B$4:$C$15,2,FALSE())","v":"3D"},{"$f":"VLOOKUP(C780,Referencias!$B$18:$C$34,2,FALSE())","v":"G"},"C"]
["2731610","Varela Novoa, Consuelo","Gallega","D","Sin Categoría","Competición",4,{"$f":"VLOOKUP(E781,Referencias!$B$4:$C$15,2,FALSE())","v":"SC"},{"$f":"VLOOKUP(C781,Referencias!$B$18:$C$34,2,FALSE())","v":"G"},"C"]
["2731626","García Castro, Manuel Jesús","Gallega","C","Tercera Diamante","Competición",3,{"$f":"VLOOKUP(E782,Referencias!$B$4:$C$15,2,FALSE())","v":"3D"},{"$f":"VLOOKUP(C782,Referencias!$B$18:$C$34,2,FALSE())","v":"G"},"C"]
["2731627","Fernández Freire, Antonia","Gallega","D","Tercera Diamante","Competición",3,{"$f":"VLOOKUP(E783,Referencias!$B$4:$C$15,2,FALSE())","v":"3D"},{"$f":"VLOOKUP(C783,Referencias!$B$18:$C$34,2,FALSE())","v":"G"},"C"]
["2731631","Raíces Madriñan, Manuel Jesús","Gallega","C","Segunda Corazón","Competición",2,{"$f":"VLOOKUP(E784,Referencias!$B$4:$C$15,2,FALSE())","v":"2C"},{"$f":"VLOOKUP(C784,Referencias!$B$18:$C$34,2,FALSE())","v":"G"},"C"]
["2731657","Martínez Modia, Mª Carmen","Gallega","D","Tercera Diamante","Competición",3,{"$f":"VLOOKUP(E785,Referencias!$B$4:$C$15,2,FALSE())","v":"3D"},{"$f":"VLOOKUP(C785,Referencias!$B$18:$C$34,2,FALSE())","v":"G"},"C"]
["2731670","Trigo Vázquez, Melania","Gallega","D","Sin Categoría","Competición",4,{"$f":"VLOOKUP(E786,Referencias!$B$4:$C$15,2,FALSE())","v":"SC"},{"$f":"VLOOKUP(C786,Referencias!$B$18:$C$34,2,FALSE())","v":"G"},"C"]
["2731671","Lombardero Díaz, Isabel","Gallega","D","Sin Categoría","Competición",4,{"$f":"VLOOKUP(E787,Referencias!$B$4:$C$15,2,FALSE())","v":"SC"},{"$f":"VLOOKUP(C787,Referencias!$B$18:$C$34,2,FALSE())","v":"G"},"C"]
["2731674","Valcarce Neira, Mª Teresa","Gallega","D","Tercera Diamante","Competición",3,{"$f":"VLOOKUP(E788,Referencias!$B$4:$C$15,2,FALSE())","v":"3D"},{"$f":"VLOOKUP(C788,Referencias!$B$18:$C$34,2,FALSE())","v":"G"},"C"]
["2731677","Goyanes López, María Pilar","Gallega","D","Tercera Diamante","Competición",3,{"$f":"VLOOKUP(E789,Referencias!$B$4:$C$15,2,FALSE())","v":"3D"},{"$f":"VLOOKUP(C789,Referencias!$B$18:$C$34,2,FALSE())","v":"G"},"C"]
["2731678","Blanco Ruiz, Mª Adoración","Gallega","D","Tercera Diamante","Competición",3,{"$f":"VLOOKUP(E790,Referencias!$B$4:$C$15,2,FALSE())","v":"3D"},{"$f":"VLOOKUP(C790,Referencias!$B$18:$C$34,2,FALSE())","v":"G"},"C"]
["2731704","Fernández García, Mª Isabel","Gallega","D","Sin Categoría","Competición",4,{"$f":"VLOOKUP(E791,Referencias!$B$4:$C$15,2,FALSE())","v":"SC"},{"$f":"VLOOKUP(C791,Referencias!$B$18:$C$34,2,FALSE())","v":"G"},"C"]
["2731720","Del Pozo Andrés, Mercedes","Gallega","D","Tercera Diamante","Competición",3,{"$f":"VLOOKUP(E792,Referencias!$B$4:$C$15,2,FALSE())","v":"3D"},{"$f":"VLOOKUP(C792,Referencias!$B$18:$C$34,2,FALSE())","v":"G"},"C"]
["2731721","González Encinar, Lucinda Victoria","Gallega","D","Tercera Diamante","Competición",3,{"$f":"VLOOKUP(E793,Referencias!$B$4:$C$15,2,FALSE())","v":"3D"},{"$f":"VLOOKUP(C793,Referencias!$B$18:$C$34,2,FALSE())","v":"G"},"C"]
["2731722","Campo Rodicio, Celso","Gallega","D","Tercera Diamante","Competición",3,{"$f":"VLOOKUP(E794,Referencias!$B$4:$C$15,2,FALSE())","v":"3D"},{"$f":"VLOOKUP(C794,Referencias!$B$18:$C$34,2,FALSE())","v":"G"},"C"]
["2731724","Franco Losada, Adelina","Gallega","D","Sin Categoría","Competición",4,{"$f":"VLOOKUP(E795,Referencias!$B$4:$C$15,2,FALSE())","v":"SC"},{"$f":"VLOOKUP(C795,Referencias!$B$18:$C$34,2,FALSE())","v":"G"},"C"]
["2731809","Rodríguez Cedrón, Amalia Aurea","Gallega","D","Sin Categoría","Competición",4,{"$f":"VLOOKUP(E796,Referencias!$B$4:$C$15,2,FALSE())","v":"SC"},{"$f":"VLOOKUP(C796,Referencias!$B$18:$C$34,2,FALSE())","v":"G"},"C"]
["2731810","Meijide Calvo, José Juan","Gallega","C","Sin Categoría","Competición",4,{"$f":"VLOOKUP(E797,Referencias!$B$4:$C$15,2,FALSE())","v":"SC"},{"$f":"VLOOKUP(C797,Referencias!$B$18:$C$34,2,FALSE())","v":"G"},"C"]
["2731811","Díaz Rodríguez, Abel","Gallega","C","Sin Categoría","Competición",4,{"$f":"VLOOKUP(E798,Referencias!$B$4:$C$15,2,FALSE())","v":"SC"},{"$f":"VLOOKUP(C798,Referencias!$B$18:$C$34,2,FALSE())","v":"G"},"C"]
["2731814","González Cabanas, María Loreto","Gallega","D","Sin Categoría","Competición",4,{"$f":"VLOOKUP(E799,Referencias!$B$4:$C$15,2,FALSE())","v":"SC"},{"$f":"VLOOKUP(C799,Referencias!$B$18:$C$34,2,FALSE())","v":"G"},"C"]
["2731815","Rey Quiroga, Francisco Javier","Gallega","C","Sin Categoría","Competición",4,{"$f":"VLOOKUP(E800,Referencias!$B$4:$C$15,2,FALSE())","v":"SC"},{"$f":"VLOOKUP(C800,Referencias!$B$18:$C$34,2,FALSE())","v":"G"},"C"]
["2731816","Prieto Alonso, José Manuel","Gallega","C","Sin Categoría","Competición",4,{"$f":"VLOOKUP(E801,Referencias!$B$4:$C$15,2,FALSE())","v":"SC"},{"$f":"VLOOKUP(C801,Referencias!$B$18:$C$34,2,FALSE())","v":"G"},"C"]
["2731818","López López, Alfonso","Gallega","C","Sin Categoría","Competición",4,{"$f":"VLOOKUP(E802,Referencias!$B$4:$C$15,2,FALSE())","v":"SC"},{"$f":"VLOOKUP(C802,Referencias!$B$18:$C$34,2,FALSE())","v":"G"},"C"]
["2731819","Argiz Quintas, María Purificación","Gallega","D","Sin Categoría","Competición",4,{"$f":"VLOOKUP(E803,Referencias!$B$4:$C$15,2,FALSE())","v":"SC"},{"$f":"VLOOKUP(C803,Referencias!$B$18:$C$34,2,FALSE())","v":"G"},"C"]
["2731821","González Cabanas, María Aurora","Gallega","D","Sin Categoría","Honorífica",4,{"$f":"VLOOKUP(E804,Referencias!$B$4:$C$15,2,FALSE())","v":"SC"},{"$f":"VLOOKUP(C804,Referencias!$B$18:$C$34,2,FALSE())","v":"G"},"C"]
["2731826","Fraga Cendán, Alicia María del Carmen","Gallega","C","Sin Categoría","Competición",4,{"$f":"VLOOKUP(E805,Referencias!$B$4:$C$15,2,FALSE())","v":"SC"},{"$f":"VLOOKUP(C805,Referencias!$B$18:$C$34,2,FALSE())","v":"G"},"C"]
["2731827","Moure Parrilla, María José","Madrileña","D","Sin Categoría","Competición",4,{"$f":"VLOOKUP(E806,Referencias!$B$4:$C$15,2,FALSE())","v":"SC"},{"$f":"VLOOKUP(C806,Referencias!$B$18:$C$34,2,FALSE())","v":"M"},"C"]
["2735836","Seijas Soto, Mary Luz","Gallega","D","Tercera Picas","Competición",3,{"$f":"VLOOKUP(E807,Referencias!$B$4:$C$15,2,FALSE())","v":"3P"},{"$f":"VLOOKUP(C807,Referencias!$B$18:$C$34,2,FALSE())","v":"G"},"C"]
["2735840","Ordoñez Guevara, M. Pilar","Gallega","D","Segunda Diamante","Competición",2,{"$f":"VLOOKUP(E808,Referencias!$B$4:$C$15,2,FALSE())","v":"2D"},{"$f":"VLOOKUP(C808,Referencias!$B$18:$C$34,2,FALSE())","v":"G"},"C"]
["2810009","Muñoz , Rafael","Madrileña","C","Maestro Nacional","Honorífica",0,{"$f":"VLOOKUP(E809,Referencias!$B$4:$C$15,2,FALSE())","v":"MN"},{"$f":"VLOOKUP(C809,Referencias!$B$18:$C$34,2,FALSE())","v":"M"},"C"]
["2810010","Francés De Mateo, Antonio","Madrileña","C","Sin Categoría","Competición",4,{"$f":"VLOOKUP(E810,Referencias!$B$4:$C$15,2,FALSE())","v":"SC"},{"$f":"VLOOKUP(C810,Referencias!$B$18:$C$34,2,FALSE())","v":"M"},"C"]
["2810016","Martorell Sáenz, Juan","Madrileña","C","Sin Categoría","Competición",4,{"$f":"VLOOKUP(E811,Referencias!$B$4:$C$15,2,FALSE())","v":"SC"},{"$f":"VLOOKUP(C811,Referencias!$B$18:$C$34,2,FALSE())","v":"M"},"C"]
["2811001","Gómez de Pablos González, Pablo","Madrileña","C","Maestro Nacional","Competición",0,{"$f":"VLOOKUP(E812,Referencias!$B$4:$C$15,2,FALSE())","v":"MN"},{"$f":"VLOOKUP(C812,Referencias!$B$18:$C$34,2,FALSE())","v":"M"},"C"]
["2811002","Vassallo Moreno, Alberto","Madrileña","C","Segunda Corazón","Competición",2,{"$f":"VLOOKUP(E813,Referencias!$B$4:$C$15,2,FALSE())","v":"2C"},{"$f":"VLOOKUP(C813,Referencias!$B$18:$C$34,2,FALSE())","v":"M"},"C"]
["2811005","Martínez-Avial Marín, Alvaro","Madrileña","C","Primera Picas","Competición",1,{"$f":"VLOOKUP(E814,Referencias!$B$4:$C$15,2,FALSE())","v":"1P"},{"$f":"VLOOKUP(C814,Referencias!$B$18:$C$34,2,FALSE())","v":"M"},"C"]
["2811006","Gómez, Ana Luz","Madrileña","D","Primera Corazón","Competición",1,{"$f":"VLOOKUP(E815,Referencias!$B$4:$C$15,2,FALSE())","v":"1C"},{"$f":"VLOOKUP(C815,Referencias!$B$18:$C$34,2,FALSE())","v":"M"},"C"]
["2811009","de Cerverales, Marqués","Madrileña","C","Maestro Nacional","Competición",0,{"$f":"VLOOKUP(E816,Referencias!$B$4:$C$15,2,FALSE())","v":"MN"},{"$f":"VLOOKUP(C816,Referencias!$B$18:$C$34,2,FALSE())","v":"M"},"C"]
["2811012","Molero Cervantes, Eduardo","Madrileña","C","Primera Picas","Competición",1,{"$f":"VLOOKUP(E817,Referencias!$B$4:$C$15,2,FALSE())","v":"1P"},{"$f":"VLOOKUP(C817,Referencias!$B$18:$C$34,2,FALSE())","v":"M"},"C"]
["2811014","Cuadrillero Muñoz de Baena, Rosa","Madrileña","D","Primera Picas","Competición",1,{"$f":"VLOOKUP(E818,Referencias!$B$4:$C$15,2,FALSE())","v":"1P"},{"$f":"VLOOKUP(C818,Referencias!$B$18:$C$34,2,FALSE())","v":"M"},"C"]
["2811017","Fernández Cavada, Consuelo","Madrileña","D","Primera Diamante","Competición",1,{"$f":"VLOOKUP(E819,Referencias!$B$4:$C$15,2,FALSE())","v":"1D"},{"$f":"VLOOKUP(C819,Referencias!$B$18:$C$34,2,FALSE())","v":"M"},"C"]
["2811018","Aranguren Gárate, Julio","Madrileña","C","Primera Diamante","Competición",1,{"$f":"VLOOKUP(E820,Referencias!$B$4:$C$15,2,FALSE())","v":"1D"},{"$f":"VLOOKUP(C820,Referencias!$B$18:$C$34,2,FALSE())","v":"M"},"C"]
["2811019","Goded Merino, Gonzalo","Madrileña","C","Maestro Mundial","Competición",0,{"$f":"VLOOKUP(E821,Referencias!$B$4:$C$15,2,FALSE())","v":"MM"},{"$f":"VLOOKUP(C821,Referencias!$B$18:$C$34,2,FALSE())","v":"M"},"C"]
["2811021","Arranz Poole, Miguel","Madrileña","C","Segunda Picas","Competición",2,{"$f":"VLOOKUP(E822,Referencias!$B$4:$C$15,2,FALSE())","v":"2P"},{"$f":"VLOOKUP(C822,Referencias!$B$18:$C$34,2,FALSE())","v":"M"},"C"]
["2811023","Angoloti Apolinario, Mercedes","Madrileña","D","Sin Categoría","Competición",4,{"$f":"VLOOKUP(E823,Referencias!$B$4:$C$15,2,FALSE())","v":"SC"},{"$f":"VLOOKUP(C823,Referencias!$B$18:$C$34,2,FALSE())","v":"M"},"C"]
["2811030","Vincent Callet, Hervé","Madrileña","C","Maestro Nacional","Competición",0,{"$f":"VLOOKUP(E824,Referencias!$B$4:$C$15,2,FALSE())","v":"MN"},{"$f":"VLOOKUP(C824,Referencias!$B$18:$C$34,2,FALSE())","v":"M"},"C"]
["2811032","Corchado Enriquez, Juan Manuel","Madrileña","C","Primera Picas","Competición",1,{"$f":"VLOOKUP(E825,Referencias!$B$4:$C$15,2,FALSE())","v":"1P"},{"$f":"VLOOKUP(C825,Referencias!$B$18:$C$34,2,FALSE())","v":"M"},"C"]
["2811033","Ruiz-Jarabo Ferrán, Rosa Mª","Madrileña","D","Primera Corazón","Competición",1,{"$f":"VLOOKUP(E826,Referencias!$B$4:$C$15,2,FALSE())","v":"1C"},{"$f":"VLOOKUP(C826,Referencias!$B$18:$C$34,2,FALSE())","v":"M"},"C"]
["2811041","Martínez García-Ciudad, José Miguel","Madrileña","C","Primera Picas","Competición",1,{"$f":"VLOOKUP(E827,Referencias!$B$4:$C$15,2,FALSE())","v":"1P"},{"$f":"VLOOKUP(C827,Referencias!$B$18:$C$34,2,FALSE())","v":"M"},"C"]
["2811042","Sanz Pérez, Consuelo","Madrileña","D","Tercera Diamante","Competición",3,{"$f":"VLOOKUP(E828,Referencias!$B$4:$C$15,2,FALSE())","v":"3D"},{"$f":"VLOOKUP(C828,Referencias!$B$18:$C$34,2,FALSE())","v":"M"},"C"]
["2811044","Aizpurúa Garzón, Mª Rosario","Madrileña","D","Tercera Picas","Competición",3,{"$f":"VLOOKUP(E829,Referencias!$B$4:$C$15,2,FALSE())","v":"3P"},{"$f":"VLOOKUP(C829,Referencias!$B$18:$C$34,2,FALSE())","v":"M"},"C"]
["2811045","Fractman , Gabriel","Madrileña","C","Maestro Nacional","Competición",0,{"$f":"VLOOKUP(E830,Referencias!$B$4:$C$15,2,FALSE())","v":"MN"},{"$f":"VLOOKUP(C830,Referencias!$B$18:$C$34,2,FALSE())","v":"M"},"C"]
["2811054","Gutiérrez-Herrero Barrera, Miryam","Madrileña","D","Primera Picas","Competición",1,{"$f":"VLOOKUP(E831,Referencias!$B$4:$C$15,2,FALSE())","v":"1P"},{"$f":"VLOOKUP(C831,Referencias!$B$18:$C$34,2,FALSE())","v":"M"},"C"]
["2811061","Castiñeira Vilaseca, Ana Mª","Madrileña","D","Segunda Diamante","Competición",2,{"$f":"VLOOKUP(E832,Referencias!$B$4:$C$15,2,FALSE())","v":"2D"},{"$f":"VLOOKUP(C832,Referencias!$B$18:$C$34,2,FALSE())","v":"M"},{"$f":"IF(D832=\"Dama\",\"D\",\"C\")","v":"C"}]
["2811062","Yraola Sánchez de la Bodega, Ana","Madrileña","D","Tercera Picas","Competición",3,{"$f":"VLOOKUP(E833,Referencias!$B$4:$C$15,2,FALSE())","v":"3P"},{"$f":"VLOOKUP(C833,Referencias!$B$18:$C$34,2,FALSE())","v":"M"},"C"]
["2811063","Cantos Figuerola, Carmen","Madrileña","D","Segunda Diamante","Competición",2,{"$f":"VLOOKUP(E834,Referencias!$B$4:$C$15,2,FALSE())","v":"2D"},{"$f":"VLOOKUP(C834,Referencias!$B$18:$C$34,2,FALSE())","v":"M"},"C"]
["2811065","López-Chicheri Dabán, Virginia","Madrileña","D","Segunda Diamante","Competición",2,{"$f":"VLOOKUP(E835,Referencias!$B$4:$C$15,2,FALSE())","v":"2D"},{"$f":"VLOOKUP(C835,Referencias!$B$18:$C$34,2,FALSE())","v":"M"},"C"]
["2811067","Batista Pernas, Gloria","Madrileña","D","Sin Categoría","Competición",4,{"$f":"VLOOKUP(E836,Referencias!$B$4:$C$15,2,FALSE())","v":"SC"},{"$f":"VLOOKUP(C836,Referencias!$B$18:$C$34,2,FALSE())","v":"M"},"C"]
["2811068","Beamonte , Carlos","Madrileña","C","Primera Picas","Competición",1,{"$f":"VLOOKUP(E837,Referencias!$B$4:$C$15,2,FALSE())","v":"1P"},{"$f":"VLOOKUP(C837,Referencias!$B$18:$C$34,2,FALSE())","v":"M"},"C"]
["2811070","Hermann , Agui","Madrileña","D","Segunda Diamante","Competición",2,{"$f":"VLOOKUP(E838,Referencias!$B$4:$C$15,2,FALSE())","v":"2D"},{"$f":"VLOOKUP(C838,Referencias!$B$18:$C$34,2,FALSE())","v":"M"},"C"]
["2811074","Montes-Jovellar Stern, Concha","Madrileña","D","Tercera Picas","Competición",3,{"$f":"VLOOKUP(E839,Referencias!$B$4:$C$15,2,FALSE())","v":"3P"},{"$f":"VLOOKUP(C839,Referencias!$B$18:$C$34,2,FALSE())","v":"M"},"C"]
["2811077","Beneyto Aspíroz, Miguel","Madrileña","C","Tercera Diamante","Competición",3,{"$f":"VLOOKUP(E840,Referencias!$B$4:$C$15,2,FALSE())","v":"3D"},{"$f":"VLOOKUP(C840,Referencias!$B$18:$C$34,2,FALSE())","v":"M"},"C"]
["2811079","García-Reyes , Beatríz","Madrileña","D","Tercera Picas","Competición",3,{"$f":"VLOOKUP(E841,Referencias!$B$4:$C$15,2,FALSE())","v":"3P"},{"$f":"VLOOKUP(C841,Referencias!$B$18:$C$34,2,FALSE())","v":"M"},"C"]
["2811080","Cafranga Cavestany, Carmen","Madrileña","D","Maestro Mundial","Competición",0,{"$f":"VLOOKUP(E842,Referencias!$B$4:$C$15,2,FALSE())","v":"MM"},{"$f":"VLOOKUP(C842,Referencias!$B$18:$C$34,2,FALSE())","v":"M"},"C"]
["2811083","Benavides Salas, Concepción","Madrileña","D","Tercera Picas","Competición",3,{"$f":"VLOOKUP(E843,Referencias!$B$4:$C$15,2,FALSE())","v":"3P"},{"$f":"VLOOKUP(C843,Referencias!$B$18:$C$34,2,FALSE())","v":"M"},"C"]
["2811085","García de Oteyza Llansó, Ignacio","Madrileña","C","Primera Picas","Competición",1,{"$f":"VLOOKUP(E844,Referencias!$B$4:$C$15,2,FALSE())","v":"1P"},{"$f":"VLOOKUP(C844,Referencias!$B$18:$C$34,2,FALSE())","v":"M"},"C"]
["2811086","Marín Cubillo, Rosana","Madrileña","D","Segunda Picas","Competición",2,{"$f":"VLOOKUP(E845,Referencias!$B$4:$C$15,2,FALSE())","v":"2P"},{"$f":"VLOOKUP(C845,Referencias!$B$18:$C$34,2,FALSE())","v":"M"},"C"]
["2811091","Pinto Tardón, Pedro","Madrileña","C","Segunda Picas","Competición",2,{"$f":"VLOOKUP(E846,Referencias!$B$4:$C$15,2,FALSE())","v":"2P"},{"$f":"VLOOKUP(C846,Referencias!$B$18:$C$34,2,FALSE())","v":"M"},"C"]
["2811092","Mallada Ezquerra, Mª Jesús","Madrileña","D","Tercera Picas","Competición",3,{"$f":"VLOOKUP(E847,Referencias!$B$4:$C$15,2,FALSE())","v":"3P"},{"$f":"VLOOKUP(C847,Referencias!$B$18:$C$34,2,FALSE())","v":"M"},"C"]
["2811093","Herrero Mateo, Mª Encarnación","Madrileña","D","Sin Categoría","Competición",4,{"$f":"VLOOKUP(E848,Referencias!$B$4:$C$15,2,FALSE())","v":"SC"},{"$f":"VLOOKUP(C848,Referencias!$B$18:$C$34,2,FALSE())","v":"M"},"C"]
["2811094","Manglano de la Lastra, Josefina","Madrileña","D","Primera Picas","Competición",1,{"$f":"VLOOKUP(E849,Referencias!$B$4:$C$15,2,FALSE())","v":"1P"},{"$f":"VLOOKUP(C849,Referencias!$B$18:$C$34,2,FALSE())","v":"M"},"C"]
["2811096","De la Peña Vela, Juan Ignacio","Madrileña","C","Maestro Nacional","Competición",0,{"$f":"VLOOKUP(E850,Referencias!$B$4:$C$15,2,FALSE())","v":"MN"},{"$f":"VLOOKUP(C850,Referencias!$B$18:$C$34,2,FALSE())","v":"M"},"C"]
["2811105","Castells De Castro, Antonio","Madrileña","C","Sin Categoría","Competición",4,{"$f":"VLOOKUP(E851,Referencias!$B$4:$C$15,2,FALSE())","v":"SC"},{"$f":"VLOOKUP(C851,Referencias!$B$18:$C$34,2,FALSE())","v":"M"},"C"]
["2811108","García Perrote, Federico","Madrileña","C","Tercera Corazón","Competición",3,{"$f":"VLOOKUP(E852,Referencias!$B$4:$C$15,2,FALSE())","v":"3C"},{"$f":"VLOOKUP(C852,Referencias!$B$18:$C$34,2,FALSE())","v":"M"},"C"]
["2811114","Valmaseda Rubio, Javier","Madrileña","C","Primera Diamante","Competición",1,{"$f":"VLOOKUP(E853,Referencias!$B$4:$C$15,2,FALSE())","v":"1D"},{"$f":"VLOOKUP(C853,Referencias!$B$18:$C$34,2,FALSE())","v":"M"},"C"]
["2811117","Estévez Senra, Mª Dolores","Madrileña","D","Segunda Diamante","Competición",2,{"$f":"VLOOKUP(E854,Referencias!$B$4:$C$15,2,FALSE())","v":"2D"},{"$f":"VLOOKUP(C854,Referencias!$B$18:$C$34,2,FALSE())","v":"M"},"C"]
["2811127","Kindelán Segura, Cristina","Madrileña","D","Primera Picas","Competición",1,{"$f":"VLOOKUP(E855,Referencias!$B$4:$C$15,2,FALSE())","v":"1P"},{"$f":"VLOOKUP(C855,Referencias!$B$18:$C$34,2,FALSE())","v":"M"},"C"]
["2811129","Latorre De las Gagigas, María Elena","Madrileña","D","Tercera Picas","Competición",3,{"$f":"VLOOKUP(E856,Referencias!$B$4:$C$15,2,FALSE())","v":"3P"},{"$f":"VLOOKUP(C856,Referencias!$B$18:$C$34,2,FALSE())","v":"M"},"C"]
["2811133","Sánchez Rubio, Pilar","Madrileña","D","Tercera Picas","Competición",3,{"$f":"VLOOKUP(E857,Referencias!$B$4:$C$15,2,FALSE())","v":"3P"},{"$f":"VLOOKUP(C857,Referencias!$B$18:$C$34,2,FALSE())","v":"M"},"C"]
["2811134","Francés Velasco, Antonio","Madrileña","C","Maestro Mundial","Competición",0,{"$f":"VLOOKUP(E858,Referencias!$B$4:$C$15,2,FALSE())","v":"MM"},{"$f":"VLOOKUP(C858,Referencias!$B$18:$C$34,2,FALSE())","v":"M"},"C"]
["2811135","Castells Cuadrillero, Pablo","Madrileña","C","Sin Categoría","Junior",4,{"$f":"VLOOKUP(E859,Referencias!$B$4:$C$15,2,FALSE())","v":"SC"},{"$f":"VLOOKUP(C859,Referencias!$B$18:$C$34,2,FALSE())","v":"M"},"C"]
["2811138","Martín de Cabiedes Arranz, Asís","Madrileña","C","Sin Categoría","Competición",4,{"$f":"VLOOKUP(E860,Referencias!$B$4:$C$15,2,FALSE())","v":"SC"},{"$f":"VLOOKUP(C860,Referencias!$B$18:$C$34,2,FALSE())","v":"M"},"C"]
["2811140","Rodulfo Puy, Carlos","Madrileña","C","Sin Categoría","Competición",4,{"$f":"VLOOKUP(E861,Referencias!$B$4:$C$15,2,FALSE())","v":"SC"},{"$f":"VLOOKUP(C861,Referencias!$B$18:$C$34,2,FALSE())","v":"M"},"C"]
["2811145","Sandres Salas, Paule","Madrileña","D","Primera Picas","Competición",1,{"$f":"VLOOKUP(E862,Referencias!$B$4:$C$15,2,FALSE())","v":"1P"},{"$f":"VLOOKUP(C862,Referencias!$B$18:$C$34,2,FALSE())","v":"M"},"C"]
["2811155","Gómez Solera, José Luis","Madrileña","C","Tercera Picas","Competición",3,{"$f":"VLOOKUP(E863,Referencias!$B$4:$C$15,2,FALSE())","v":"3P"},{"$f":"VLOOKUP(C863,Referencias!$B$18:$C$34,2,FALSE())","v":"M"},"C"]
["2811157","Alvarado Ballester, Lucinia","Madrileña","D","Segunda Corazón","Competición",2,{"$f":"VLOOKUP(E864,Referencias!$B$4:$C$15,2,FALSE())","v":"2C"},{"$f":"VLOOKUP(C864,Referencias!$B$18:$C$34,2,FALSE())","v":"M"},"C"]
["2811164","Montenegro, María Rosario","Madrileña","D","Primera Diamante","Competición",1,{"$f":"VLOOKUP(E865,Referencias!$B$4:$C$15,2,FALSE())","v":"1D"},{"$f":"VLOOKUP(C865,Referencias!$B$18:$C$34,2,FALSE())","v":"M"},"C"]
["2811167","Cerame Fernández-Vijande, Margarita","Madrileña","D","Primera Picas","Competición",1,{"$f":"VLOOKUP(E866,Referencias!$B$4:$C$15,2,FALSE())","v":"1P"},{"$f":"VLOOKUP(C866,Referencias!$B$18:$C$34,2,FALSE())","v":"M"},"C"]
["2811168","Del Pozuelo Robles, Mª Ángeles","Madrileña","D","Tercera Picas","Competición",3,{"$f":"VLOOKUP(E867,Referencias!$B$4:$C$15,2,FALSE())","v":"3P"},{"$f":"VLOOKUP(C867,Referencias!$B$18:$C$34,2,FALSE())","v":"M"},"C"]
["2811174","Prados del Amo, Ana","Madrileña","D","Primera Picas","Competición",1,{"$f":"VLOOKUP(E868,Referencias!$B$4:$C$15,2,FALSE())","v":"1P"},{"$f":"VLOOKUP(C868,Referencias!$B$18:$C$34,2,FALSE())","v":"M"},"C"]
["2811178","Maraver , Concepción","Madrileña","D","Tercera Picas","Competición",3,{"$f":"VLOOKUP(E869,Referencias!$B$4:$C$15,2,FALSE())","v":"3P"},{"$f":"VLOOKUP(C869,Referencias!$B$18:$C$34,2,FALSE())","v":"M"},"C"]
["2811181","de Aranda , Marquesa","Madrileña","D","Tercera Corazón","Competición",3,{"$f":"VLOOKUP(E870,Referencias!$B$4:$C$15,2,FALSE())","v":"3C"},{"$f":"VLOOKUP(C870,Referencias!$B$18:$C$34,2,FALSE())","v":"M"},"C"]
["2811185","Puyol Gómez, Araceli","Madrileña","D","Primera Diamante","Competición",1,{"$f":"VLOOKUP(E871,Referencias!$B$4:$C$15,2,FALSE())","v":"1D"},{"$f":"VLOOKUP(C871,Referencias!$B$18:$C$34,2,FALSE())","v":"M"},"C"]
["2811190","Götze Grossman, Sigfrido","Madrileña","C","Primera Diamante","Competición",1,{"$f":"VLOOKUP(E872,Referencias!$B$4:$C$15,2,FALSE())","v":"1D"},{"$f":"VLOOKUP(C872,Referencias!$B$18:$C$34,2,FALSE())","v":"M"},"C"]
["2811192","Mendoza , Amada","Madrileña","D","Tercera Picas","Competición",3,{"$f":"VLOOKUP(E873,Referencias!$B$4:$C$15,2,FALSE())","v":"3P"},{"$f":"VLOOKUP(C873,Referencias!$B$18:$C$34,2,FALSE())","v":"M"},"C"]
["2811205","la Enjarada, Condesa de","Madrileña","D","Segunda Picas","Honorífica",2,{"$f":"VLOOKUP(E874,Referencias!$B$4:$C$15,2,FALSE())","v":"2P"},{"$f":"VLOOKUP(C874,Referencias!$B$18:$C$34,2,FALSE())","v":"M"},"C"]
["2811233","Hekneby , Mercedes","Madrileña","D","Segunda Picas","Competición",2,{"$f":"VLOOKUP(E875,Referencias!$B$4:$C$15,2,FALSE())","v":"2P"},{"$f":"VLOOKUP(C875,Referencias!$B$18:$C$34,2,FALSE())","v":"M"},"C"]
["2811236","Criado del Rey Linaje, Isabel","Madrileña","D","Maestro Nacional","Competición",0,{"$f":"VLOOKUP(E876,Referencias!$B$4:$C$15,2,FALSE())","v":"MN"},{"$f":"VLOOKUP(C876,Referencias!$B$18:$C$34,2,FALSE())","v":"M"},"C"]
["2811239","De la Vega Peñaranda, Carmen","Madrileña","D","Sin Categoría","Competición",4,{"$f":"VLOOKUP(E877,Referencias!$B$4:$C$15,2,FALSE())","v":"SC"},{"$f":"VLOOKUP(C877,Referencias!$B$18:$C$34,2,FALSE())","v":"M"},"C"]
["2811240","Zabia Lasala, Elisa","Madrileña","D","Segunda Corazón","Competición",2,{"$f":"VLOOKUP(E878,Referencias!$B$4:$C$15,2,FALSE())","v":"2C"},{"$f":"VLOOKUP(C878,Referencias!$B$18:$C$34,2,FALSE())","v":"M"},"C"]
["2811244","Peña Marcos, Mª Patrocinio","Madrileña","D","Primera Corazón","Competición",1,{"$f":"VLOOKUP(E879,Referencias!$B$4:$C$15,2,FALSE())","v":"1C"},{"$f":"VLOOKUP(C879,Referencias!$B$18:$C$34,2,FALSE())","v":"M"},"C"]
["2811246","Goded , Federico","Madrileña","C","Maestro Mundial","Competición",0,{"$f":"VLOOKUP(E880,Referencias!$B$4:$C$15,2,FALSE())","v":"MM"},{"$f":"VLOOKUP(C880,Referencias!$B$18:$C$34,2,FALSE())","v":"M"},"C"]
["2811247","Jarabo Payá, Enrique","Madrileña","C","Segunda Diamante","Honorífica",2,{"$f":"VLOOKUP(E881,Referencias!$B$4:$C$15,2,FALSE())","v":"2D"},{"$f":"VLOOKUP(C881,Referencias!$B$18:$C$34,2,FALSE())","v":"M"},"C"]
["2811248","Vera , Victoria","Madrileña","D","Primera Diamante","Competición",1,{"$f":"VLOOKUP(E882,Referencias!$B$4:$C$15,2,FALSE())","v":"1D"},{"$f":"VLOOKUP(C882,Referencias!$B$18:$C$34,2,FALSE())","v":"M"},"C"]
["2811257","Franco Chato, Marta","Madrileña","D","Segunda Corazón","Competición",2,{"$f":"VLOOKUP(E883,Referencias!$B$4:$C$15,2,FALSE())","v":"2C"},{"$f":"VLOOKUP(C883,Referencias!$B$18:$C$34,2,FALSE())","v":"M"},"C"]
["2811261","Bannazar Martínez, Fernando","Madrileña","C","Sin Categoría","Honorífica",4,{"$f":"VLOOKUP(E884,Referencias!$B$4:$C$15,2,FALSE())","v":"SC"},{"$f":"VLOOKUP(C884,Referencias!$B$18:$C$34,2,FALSE())","v":"M"},"C"]
["2811263","Lonchez Escribano, Victoria Eugenia","Madrileña","D","Primera Corazón","Competición",1,{"$f":"VLOOKUP(E885,Referencias!$B$4:$C$15,2,FALSE())","v":"1C"},{"$f":"VLOOKUP(C885,Referencias!$B$18:$C$34,2,FALSE())","v":"M"},"C"]
["2811269","Gavia, Conde de","Madrileña","C","Tercera Picas","Competición",3,{"$f":"VLOOKUP(E886,Referencias!$B$4:$C$15,2,FALSE())","v":"3P"},{"$f":"VLOOKUP(C886,Referencias!$B$18:$C$34,2,FALSE())","v":"M"},"C"]
["2811272","Ruíz de Velasco Larrea, Concha","Madrileña","D","Primera Picas","Competición",1,{"$f":"VLOOKUP(E887,Referencias!$B$4:$C$15,2,FALSE())","v":"1P"},{"$f":"VLOOKUP(C887,Referencias!$B$18:$C$34,2,FALSE())","v":"M"},"C"]
["2811273","Bustillo , Beatríz","Madrileña","D","Segunda Diamante","Competición",2,{"$f":"VLOOKUP(E888,Referencias!$B$4:$C$15,2,FALSE())","v":"2D"},{"$f":"VLOOKUP(C888,Referencias!$B$18:$C$34,2,FALSE())","v":"M"},"C"]
["2811274","Vila Despujol, Mercedes","Madrileña","D","Tercera Picas","Competición",3,{"$f":"VLOOKUP(E889,Referencias!$B$4:$C$15,2,FALSE())","v":"3P"},{"$f":"VLOOKUP(C889,Referencias!$B$18:$C$34,2,FALSE())","v":"M"},"C"]
["2811275","Velázquez-Duro González de Regueral, Mª José","Madrileña","D","Primera Picas","Competición",1,{"$f":"VLOOKUP(E890,Referencias!$B$4:$C$15,2,FALSE())","v":"1P"},{"$f":"VLOOKUP(C890,Referencias!$B$18:$C$34,2,FALSE())","v":"M"},"C"]
["2811281","Muñoz , Mercedes","Madrileña","D","Primera Picas","Competición",1,{"$f":"VLOOKUP(E891,Referencias!$B$4:$C$15,2,FALSE())","v":"1P"},{"$f":"VLOOKUP(C891,Referencias!$B$18:$C$34,2,FALSE())","v":"M"},"C"]
["2811283","Goded Nadal, Paloma","Madrileña","D","Primera Picas","Competición",1,{"$f":"VLOOKUP(E892,Referencias!$B$4:$C$15,2,FALSE())","v":"1P"},{"$f":"VLOOKUP(C892,Referencias!$B$18:$C$34,2,FALSE())","v":"M"},"C"]
["2811286","Santías , Carmen","Madrileña","D","Primera Corazón","Competición",1,{"$f":"VLOOKUP(E893,Referencias!$B$4:$C$15,2,FALSE())","v":"1C"},{"$f":"VLOOKUP(C893,Referencias!$B$18:$C$34,2,FALSE())","v":"M"},"C"]
["2811287","Moraleda Álvarez, Emilio","Madrileña","C","Segunda Diamante","Competición",2,{"$f":"VLOOKUP(E894,Referencias!$B$4:$C$15,2,FALSE())","v":"2D"},{"$f":"VLOOKUP(C894,Referencias!$B$18:$C$34,2,FALSE())","v":"M"},"C"]
["2811290","Gil , Mª Luisa","Madrileña","D","Segunda Diamante","Competición",2,{"$f":"VLOOKUP(E895,Referencias!$B$4:$C$15,2,FALSE())","v":"2D"},{"$f":"VLOOKUP(C895,Referencias!$B$18:$C$34,2,FALSE())","v":"M"},"C"]
["2811291","Álvarez de Tejera Fort, Carmen","Madrileña","D","Primera Corazón","Competición",1,{"$f":"VLOOKUP(E896,Referencias!$B$4:$C$15,2,FALSE())","v":"1C"},{"$f":"VLOOKUP(C896,Referencias!$B$18:$C$34,2,FALSE())","v":"M"},{"$f":"IF(D896=\"Dama\",\"D\",\"C\")","v":"C"}]
["2811319","Arroyo Rodríguez, Carmen","Madrileña","D","Tercera Picas","Competición",3,{"$f":"VLOOKUP(E897,Referencias!$B$4:$C$15,2,FALSE())","v":"3P"},{"$f":"VLOOKUP(C897,Referencias!$B$18:$C$34,2,FALSE())","v":"M"},"C"]
["2811322","Haym , Dilva","Madrileña","D","Primera Diamante","Competición",1,{"$f":"VLOOKUP(E898,Referencias!$B$4:$C$15,2,FALSE())","v":"1D"},{"$f":"VLOOKUP(C898,Referencias!$B$18:$C$34,2,FALSE())","v":"M"},"C"]
["2811328","Cuenca Fernández, Eduardo","Madrileña","C","Primera Corazón","Competición",1,{"$f":"VLOOKUP(E899,Referencias!$B$4:$C$15,2,FALSE())","v":"1C"},{"$f":"VLOOKUP(C899,Referencias!$B$18:$C$34,2,FALSE())","v":"M"},"C"]
["2811331","Cousteau , Paul","Madrileña","C","Sin Categoría","Competición",4,{"$f":"VLOOKUP(E900,Referencias!$B$4:$C$15,2,FALSE())","v":"SC"},{"$f":"VLOOKUP(C900,Referencias!$B$18:$C$34,2,FALSE())","v":"M"},"C"]
["2811332","Cousteau , Mary Luz","Madrileña","D","Sin Categoría","Competición",4,{"$f":"VLOOKUP(E901,Referencias!$B$4:$C$15,2,FALSE())","v":"SC"},{"$f":"VLOOKUP(C901,Referencias!$B$18:$C$34,2,FALSE())","v":"M"},"C"]
["2811334","Arimón López, Joaquín","Madrileña","C","Primera Picas","Competición",1,{"$f":"VLOOKUP(E902,Referencias!$B$4:$C$15,2,FALSE())","v":"1P"},{"$f":"VLOOKUP(C902,Referencias!$B$18:$C$34,2,FALSE())","v":"M"},"C"]
["2811335","González-Estrada , Ignacio","Madrileña","C","Primera Picas","Competición",1,{"$f":"VLOOKUP(E903,Referencias!$B$4:$C$15,2,FALSE())","v":"1P"},{"$f":"VLOOKUP(C903,Referencias!$B$18:$C$34,2,FALSE())","v":"M"},"C"]
["2811342","García-Badell , Iñigo","Madrileña","C","Primera Corazón","Competición",1,{"$f":"VLOOKUP(E904,Referencias!$B$4:$C$15,2,FALSE())","v":"1C"},{"$f":"VLOOKUP(C904,Referencias!$B$18:$C$34,2,FALSE())","v":"M"},"C"]
["2811345","Huici Casal, Amparo","Madrileña","D","Tercera Picas","Competición",3,{"$f":"VLOOKUP(E905,Referencias!$B$4:$C$15,2,FALSE())","v":"3P"},{"$f":"VLOOKUP(C905,Referencias!$B$18:$C$34,2,FALSE())","v":"M"},"C"]
["2811346","Jiménez Arroyo, Marta","Madrileña","D","Primera Picas","Competición",1,{"$f":"VLOOKUP(E906,Referencias!$B$4:$C$15,2,FALSE())","v":"1P"},{"$f":"VLOOKUP(C906,Referencias!$B$18:$C$34,2,FALSE())","v":"M"},"C"]
["2811348","Bergese Pesenti, Grazia","Madrileña","D","Sin Categoría","Competición",4,{"$f":"VLOOKUP(E907,Referencias!$B$4:$C$15,2,FALSE())","v":"SC"},{"$f":"VLOOKUP(C907,Referencias!$B$18:$C$34,2,FALSE())","v":"M"},"C"]
["2811349","Delage García de Cáceres, Pilar","Madrileña","D","Primera Picas","Competición",1,{"$f":"VLOOKUP(E908,Referencias!$B$4:$C$15,2,FALSE())","v":"1P"},{"$f":"VLOOKUP(C908,Referencias!$B$18:$C$34,2,FALSE())","v":"M"},"C"]
["2811350","Varela Díaz, Ignacio","Madrileña","C","Primera Picas","Competición",1,{"$f":"VLOOKUP(E909,Referencias!$B$4:$C$15,2,FALSE())","v":"1P"},{"$f":"VLOOKUP(C909,Referencias!$B$18:$C$34,2,FALSE())","v":"M"},"C"]
["2811356","García de la Rasilla de Pineda, Pilar","Madrileña","D","Tercera Picas","Competición",3,{"$f":"VLOOKUP(E910,Referencias!$B$4:$C$15,2,FALSE())","v":"3P"},{"$f":"VLOOKUP(C910,Referencias!$B$18:$C$34,2,FALSE())","v":"M"},"C"]
["2811357","Serrano Terrades, José","Madrileña","C","Primera Diamante","Honorífica",1,{"$f":"VLOOKUP(E911,Referencias!$B$4:$C$15,2,FALSE())","v":"1D"},{"$f":"VLOOKUP(C911,Referencias!$B$18:$C$34,2,FALSE())","v":"M"},"C"]
["2811358","Azcárraga Arana, Álvaro","Madrileña","C","Tercera Picas","Competición",3,{"$f":"VLOOKUP(E912,Referencias!$B$4:$C$15,2,FALSE())","v":"3P"},{"$f":"VLOOKUP(C912,Referencias!$B$18:$C$34,2,FALSE())","v":"M"},"C"]
["2811359","Gonzalo , Luz","Madrileña","D","Segunda Picas","Competición",2,{"$f":"VLOOKUP(E913,Referencias!$B$4:$C$15,2,FALSE())","v":"2P"},{"$f":"VLOOKUP(C913,Referencias!$B$18:$C$34,2,FALSE())","v":"M"},"C"]
["2811361","Partearroyo , David","Madrileña","C","Primera Picas","Competición",1,{"$f":"VLOOKUP(E914,Referencias!$B$4:$C$15,2,FALSE())","v":"1P"},{"$f":"VLOOKUP(C914,Referencias!$B$18:$C$34,2,FALSE())","v":"M"},"C"]
["2811362","Ortega Peñamaría, María Adela","Madrileña","D","Primera Diamante","Competición",1,{"$f":"VLOOKUP(E915,Referencias!$B$4:$C$15,2,FALSE())","v":"1D"},{"$f":"VLOOKUP(C915,Referencias!$B$18:$C$34,2,FALSE())","v":"M"},"C"]
["2811365","Durán , Enrique","Madrileña","C","Primera Corazón","Competición",1,{"$f":"VLOOKUP(E916,Referencias!$B$4:$C$15,2,FALSE())","v":"1C"},{"$f":"VLOOKUP(C916,Referencias!$B$18:$C$34,2,FALSE())","v":"M"},"C"]
["2811366","Carredano , Gloria","Madrileña","D","Primera Picas","Competición",1,{"$f":"VLOOKUP(E917,Referencias!$B$4:$C$15,2,FALSE())","v":"1P"},{"$f":"VLOOKUP(C917,Referencias!$B$18:$C$34,2,FALSE())","v":"M"},"C"]
["2811370","Aristoy Martínez, Laura","Madrileña","D","Sin Categoría","Competición",4,{"$f":"VLOOKUP(E918,Referencias!$B$4:$C$15,2,FALSE())","v":"SC"},{"$f":"VLOOKUP(C918,Referencias!$B$18:$C$34,2,FALSE())","v":"M"},"C"]
["2811371","Garrigues López-Chicheri, Isabel","Madrileña","D","Segunda Picas","Competición",2,{"$f":"VLOOKUP(E919,Referencias!$B$4:$C$15,2,FALSE())","v":"2P"},{"$f":"VLOOKUP(C919,Referencias!$B$18:$C$34,2,FALSE())","v":"M"},"C"]
["2811372","Ruíz Constantino, Inés","Madrileña","D","Primera Corazón","Honorífica",1,{"$f":"VLOOKUP(E920,Referencias!$B$4:$C$15,2,FALSE())","v":"1C"},{"$f":"VLOOKUP(C920,Referencias!$B$18:$C$34,2,FALSE())","v":"M"},"C"]
["2811373","Hurtado de Mendoza Páramo, Mª Concepción","Madrileña","D","Tercera Corazón","Competición",3,{"$f":"VLOOKUP(E921,Referencias!$B$4:$C$15,2,FALSE())","v":"3C"},{"$f":"VLOOKUP(C921,Referencias!$B$18:$C$34,2,FALSE())","v":"M"},"C"]
["2811383","Bravo Rodríguez, María Teresa","Madrileña","D","Tercera Picas","Competición",3,{"$f":"VLOOKUP(E922,Referencias!$B$4:$C$15,2,FALSE())","v":"3P"},{"$f":"VLOOKUP(C922,Referencias!$B$18:$C$34,2,FALSE())","v":"M"},"C"]
["2811384","Quilez Martínez de la Vega, Pino","Madrileña","D","Tercera Picas","Competición",3,{"$f":"VLOOKUP(E923,Referencias!$B$4:$C$15,2,FALSE())","v":"3P"},{"$f":"VLOOKUP(C923,Referencias!$B$18:$C$34,2,FALSE())","v":"M"},"C"]
["2811385","Cantalapiedra Benjumea, Inés","Madrileña","D","Segunda Corazón","Competición",2,{"$f":"VLOOKUP(E924,Referencias!$B$4:$C$15,2,FALSE())","v":"2C"},{"$f":"VLOOKUP(C924,Referencias!$B$18:$C$34,2,FALSE())","v":"M"},"C"]
["2811389","Torres Santaella, Manuela","Madrileña","D","Tercera Picas","Competición",3,{"$f":"VLOOKUP(E925,Referencias!$B$4:$C$15,2,FALSE())","v":"3P"},{"$f":"VLOOKUP(C925,Referencias!$B$18:$C$34,2,FALSE())","v":"M"},"C"]
["2811392","Soler , Beatríz","Madrileña","D","Segunda Picas","Competición",2,{"$f":"VLOOKUP(E926,Referencias!$B$4:$C$15,2,FALSE())","v":"2P"},{"$f":"VLOOKUP(C926,Referencias!$B$18:$C$34,2,FALSE())","v":"M"},"C"]
["2811395","Casanova Colomer, Mª Dolores","Madrileña","D","Primera Diamante","Competición",1,{"$f":"VLOOKUP(E927,Referencias!$B$4:$C$15,2,FALSE())","v":"1D"},{"$f":"VLOOKUP(C927,Referencias!$B$18:$C$34,2,FALSE())","v":"M"},"C"]
["2811411","Fernández-Monasterio García, Ana","Madrileña","D","Tercera Picas","Competición",3,{"$f":"VLOOKUP(E928,Referencias!$B$4:$C$15,2,FALSE())","v":"3P"},{"$f":"VLOOKUP(C928,Referencias!$B$18:$C$34,2,FALSE())","v":"M"},"C"]
["2811413","Carmona, Lucía","Madrileña","D","Primera Diamante","Competición",1,{"$f":"VLOOKUP(E929,Referencias!$B$4:$C$15,2,FALSE())","v":"1D"},{"$f":"VLOOKUP(C929,Referencias!$B$18:$C$34,2,FALSE())","v":"M"},"C"]
["2811414","Torres Gutiérrez, José Ignacio","Madrileña","C","Maestro Mundial","Competición",0,{"$f":"VLOOKUP(E930,Referencias!$B$4:$C$15,2,FALSE())","v":"MM"},{"$f":"VLOOKUP(C930,Referencias!$B$18:$C$34,2,FALSE())","v":"M"},"C"]
["2811416","Novo Dominguez, Mª Antonia","Madrileña","D","Tercera Corazón","Competición",3,{"$f":"VLOOKUP(E931,Referencias!$B$4:$C$15,2,FALSE())","v":"3C"},{"$f":"VLOOKUP(C931,Referencias!$B$18:$C$34,2,FALSE())","v":"M"},"C"]
["2811417","R. de Sánchez Cortes, Inés","Madrileña","D","Tercera Picas","Competición",3,{"$f":"VLOOKUP(E932,Referencias!$B$4:$C$15,2,FALSE())","v":"3P"},{"$f":"VLOOKUP(C932,Referencias!$B$18:$C$34,2,FALSE())","v":"M"},"C"]
["2811422","Alonso-Carriazo , Mª Victoria","Madrileña","D","Segunda Corazón","Competición",2,{"$f":"VLOOKUP(E933,Referencias!$B$4:$C$15,2,FALSE())","v":"2C"},{"$f":"VLOOKUP(C933,Referencias!$B$18:$C$34,2,FALSE())","v":"M"},"C"]
["2811423","Ruíz Jarabo, Jesús","Madrileña","C","Tercera Corazón","Competición",3,{"$f":"VLOOKUP(E934,Referencias!$B$4:$C$15,2,FALSE())","v":"3C"},{"$f":"VLOOKUP(C934,Referencias!$B$18:$C$34,2,FALSE())","v":"M"},"C"]
["2811428","Villanueva Ibáñez, Marta","Madrileña","D","Segunda Picas","Competición",2,{"$f":"VLOOKUP(E935,Referencias!$B$4:$C$15,2,FALSE())","v":"2P"},{"$f":"VLOOKUP(C935,Referencias!$B$18:$C$34,2,FALSE())","v":"M"},"C"]
["2811429","Angulo Barquín, Francisco","Madrileña","C","Segunda Picas","Competición",2,{"$f":"VLOOKUP(E936,Referencias!$B$4:$C$15,2,FALSE())","v":"2P"},{"$f":"VLOOKUP(C936,Referencias!$B$18:$C$34,2,FALSE())","v":"M"},"C"]
["2811434","Fondevilla Calderón, Ricardo","Madrileña","C","Tercera Picas","Competición",3,{"$f":"VLOOKUP(E937,Referencias!$B$4:$C$15,2,FALSE())","v":"3P"},{"$f":"VLOOKUP(C937,Referencias!$B$18:$C$34,2,FALSE())","v":"M"},"C"]
["2811435","Kindelán , Beatríz","Madrileña","D","Primera Picas","Competición",1,{"$f":"VLOOKUP(E938,Referencias!$B$4:$C$15,2,FALSE())","v":"1P"},{"$f":"VLOOKUP(C938,Referencias!$B$18:$C$34,2,FALSE())","v":"M"},"C"]
["2811437","Bordallo Cortina, Mercedes","Madrileña","D","Segunda Picas","Competición",2,{"$f":"VLOOKUP(E939,Referencias!$B$4:$C$15,2,FALSE())","v":"2P"},{"$f":"VLOOKUP(C939,Referencias!$B$18:$C$34,2,FALSE())","v":"M"},"C"]
["2811441","Holczer Braun, Erika","Madrileña","D","Primera Diamante","Competición",1,{"$f":"VLOOKUP(E940,Referencias!$B$4:$C$15,2,FALSE())","v":"1D"},{"$f":"VLOOKUP(C940,Referencias!$B$18:$C$34,2,FALSE())","v":"M"},"C"]
["2811445","Hernando , Jorge","Madrileña","C","Primera Picas","Competición",1,{"$f":"VLOOKUP(E941,Referencias!$B$4:$C$15,2,FALSE())","v":"1P"},{"$f":"VLOOKUP(C941,Referencias!$B$18:$C$34,2,FALSE())","v":"M"},"C"]
["2811446","Suárez del Villar Ruíz de Huidobro, Marta","Madrileña","D","Primera Picas","Competición",1,{"$f":"VLOOKUP(E942,Referencias!$B$4:$C$15,2,FALSE())","v":"1P"},{"$f":"VLOOKUP(C942,Referencias!$B$18:$C$34,2,FALSE())","v":"M"},"C"]
["2811451","Alemán Bandrich, Mª del Carmen","Madrileña","D","Segunda Corazón","Competición",2,{"$f":"VLOOKUP(E943,Referencias!$B$4:$C$15,2,FALSE())","v":"2C"},{"$f":"VLOOKUP(C943,Referencias!$B$18:$C$34,2,FALSE())","v":"M"},"C"]
["2811455","Melgar Escoriaza, Juan Manuel","Madrileña","C","Primera Picas","Competición",1,{"$f":"VLOOKUP(E944,Referencias!$B$4:$C$15,2,FALSE())","v":"1P"},{"$f":"VLOOKUP(C944,Referencias!$B$18:$C$34,2,FALSE())","v":"M"},"C"]
["2811456","Biritos Ortiz, Raquel","Madrileña","D","Primera Corazón","Competición",1,{"$f":"VLOOKUP(E945,Referencias!$B$4:$C$15,2,FALSE())","v":"1C"},{"$f":"VLOOKUP(C945,Referencias!$B$18:$C$34,2,FALSE())","v":"M"},"C"]
["2811460","Goicoechea Iparraguirre, Mª Luisa","Madrileña","D","Tercera Picas","Competición",3,{"$f":"VLOOKUP(E946,Referencias!$B$4:$C$15,2,FALSE())","v":"3P"},{"$f":"VLOOKUP(C946,Referencias!$B$18:$C$34,2,FALSE())","v":"M"},"C"]
["2811462","Díaz Revenga, Lorenzo","Madrileña","C","Primera Picas","Competición",1,{"$f":"VLOOKUP(E947,Referencias!$B$4:$C$15,2,FALSE())","v":"1P"},{"$f":"VLOOKUP(C947,Referencias!$B$18:$C$34,2,FALSE())","v":"M"},"C"]
["2811463","López Guardia, Sagrario","Madrileña","D","Primera Picas","Competición",1,{"$f":"VLOOKUP(E948,Referencias!$B$4:$C$15,2,FALSE())","v":"1P"},{"$f":"VLOOKUP(C948,Referencias!$B$18:$C$34,2,FALSE())","v":"M"},"C"]
["2811464","De Castro López-Cortijo, Mª Soledad","Madrileña","D","Segunda Corazón","Competición",2,{"$f":"VLOOKUP(E949,Referencias!$B$4:$C$15,2,FALSE())","v":"2C"},{"$f":"VLOOKUP(C949,Referencias!$B$18:$C$34,2,FALSE())","v":"M"},"C"]
["2811465","Jerez Méndez, Ángel","Madrileña","C","Primera Corazón","Competición",1,{"$f":"VLOOKUP(E950,Referencias!$B$4:$C$15,2,FALSE())","v":"1C"},{"$f":"VLOOKUP(C950,Referencias!$B$18:$C$34,2,FALSE())","v":"M"},"C"]
["2811466","Merino Selgas, Paloma","Madrileña","D","Sin Categoría","Competición",4,{"$f":"VLOOKUP(E951,Referencias!$B$4:$C$15,2,FALSE())","v":"SC"},{"$f":"VLOOKUP(C951,Referencias!$B$18:$C$34,2,FALSE())","v":"M"},"C"]
["2811469","Sáenz de Buruaga Dans, Pilar","Madrileña","D","Tercera Diamante","Competición",3,{"$f":"VLOOKUP(E952,Referencias!$B$4:$C$15,2,FALSE())","v":"3D"},{"$f":"VLOOKUP(C952,Referencias!$B$18:$C$34,2,FALSE())","v":"M"},"C"]
["2811477","Navarro Pérez-Paves, Sara","Asturiana","D","Segunda Picas","Competición",2,{"$f":"VLOOKUP(E953,Referencias!$B$4:$C$15,2,FALSE())","v":"2P"},{"$f":"VLOOKUP(C953,Referencias!$B$18:$C$34,2,FALSE())","v":"PA"},"C"]
["2811479","Rocabert , Pilar","Madrileña","D","Primera Picas","Competición",1,{"$f":"VLOOKUP(E954,Referencias!$B$4:$C$15,2,FALSE())","v":"1P"},{"$f":"VLOOKUP(C954,Referencias!$B$18:$C$34,2,FALSE())","v":"M"},"C"]
["2811484","Romero Herrero, Mª Josefa","Madrileña","D","Primera Picas","Competición",1,{"$f":"VLOOKUP(E955,Referencias!$B$4:$C$15,2,FALSE())","v":"1P"},{"$f":"VLOOKUP(C955,Referencias!$B$18:$C$34,2,FALSE())","v":"M"},"C"]
["2811485","Molero Manglano, Carlos","Asturiana","C","Primera Diamante","Competición",1,{"$f":"VLOOKUP(E956,Referencias!$B$4:$C$15,2,FALSE())","v":"1D"},{"$f":"VLOOKUP(C956,Referencias!$B$18:$C$34,2,FALSE())","v":"PA"},"C"]
["2811495","Echeverría Y de Meer, Esperanza","Madrileña","D","Segunda Diamante","Competición",2,{"$f":"VLOOKUP(E957,Referencias!$B$4:$C$15,2,FALSE())","v":"2D"},{"$f":"VLOOKUP(C957,Referencias!$B$18:$C$34,2,FALSE())","v":"M"},"C"]
["2811502","García Sánchez Grande, Mª Elena","Madrileña","D","Sin Categoría","Competición",4,{"$f":"VLOOKUP(E958,Referencias!$B$4:$C$15,2,FALSE())","v":"SC"},{"$f":"VLOOKUP(C958,Referencias!$B$18:$C$34,2,FALSE())","v":"M"},"C"]
["2811508","Castells Conrado, Marina","Madrileña","D","Maestro Nacional","Competición",0,{"$f":"VLOOKUP(E959,Referencias!$B$4:$C$15,2,FALSE())","v":"MN"},{"$f":"VLOOKUP(C959,Referencias!$B$18:$C$34,2,FALSE())","v":"M"},"C"]
["2811510","Muruaga López, Mª Ángeles","Madrileña","D","Maestro Nacional","Competición",0,{"$f":"VLOOKUP(E960,Referencias!$B$4:$C$15,2,FALSE())","v":"MN"},{"$f":"VLOOKUP(C960,Referencias!$B$18:$C$34,2,FALSE())","v":"M"},{"$f":"IF(D960=\"Dama\",\"D\",\"C\")","v":"C"}]
["2811513","Guijarro , Antonio","Madrileña","C","Primera Picas","Competición",1,{"$f":"VLOOKUP(E961,Referencias!$B$4:$C$15,2,FALSE())","v":"1P"},{"$f":"VLOOKUP(C961,Referencias!$B$18:$C$34,2,FALSE())","v":"M"},"C"]
["2811530","Ruiz Frías, Rosa","Madrileña","D","Primera Diamante","Competición",1,{"$f":"VLOOKUP(E962,Referencias!$B$4:$C$15,2,FALSE())","v":"1D"},{"$f":"VLOOKUP(C962,Referencias!$B$18:$C$34,2,FALSE())","v":"M"},"C"]
["2811538","Inclán Giraldo, Pilar","Madrileña","D","Sin Categoría","Competición",4,{"$f":"VLOOKUP(E963,Referencias!$B$4:$C$15,2,FALSE())","v":"SC"},{"$f":"VLOOKUP(C963,Referencias!$B$18:$C$34,2,FALSE())","v":"M"},"C"]
["2811540","Hernández Gainza, María Eugenia","Madrileña","D","Maestro Mundial","Competición",0,{"$f":"VLOOKUP(E964,Referencias!$B$4:$C$15,2,FALSE())","v":"MM"},{"$f":"VLOOKUP(C964,Referencias!$B$18:$C$34,2,FALSE())","v":"M"},"C"]
["2811547","Alvargonzalez-Junquera , Suni","Madrileña","D","Tercera Diamante","Competición",3,{"$f":"VLOOKUP(E965,Referencias!$B$4:$C$15,2,FALSE())","v":"3D"},{"$f":"VLOOKUP(C965,Referencias!$B$18:$C$34,2,FALSE())","v":"M"},"C"]
["2811552","Ybarra Jiménez de la Serna, Mª Angustias","Madrileña","D","Tercera Diamante","Honorífica",3,{"$f":"VLOOKUP(E966,Referencias!$B$4:$C$15,2,FALSE())","v":"3D"},{"$f":"VLOOKUP(C966,Referencias!$B$18:$C$34,2,FALSE())","v":"M"},"C"]
["2811553","Benmergui Esayag, Jacobo","Madrileña","C","Primera Picas","Competición",1,{"$f":"VLOOKUP(E967,Referencias!$B$4:$C$15,2,FALSE())","v":"1P"},{"$f":"VLOOKUP(C967,Referencias!$B$18:$C$34,2,FALSE())","v":"M"},"C"]
["2811554","Palicio , Marta","Madrileña","D","Segunda Diamante","Competición",2,{"$f":"VLOOKUP(E968,Referencias!$B$4:$C$15,2,FALSE())","v":"2D"},{"$f":"VLOOKUP(C968,Referencias!$B$18:$C$34,2,FALSE())","v":"M"},"C"]
["2811559","Villanueva Ibáñez, Mª Mar","Madrileña","D","Sin Categoría","Competición",4,{"$f":"VLOOKUP(E969,Referencias!$B$4:$C$15,2,FALSE())","v":"SC"},{"$f":"VLOOKUP(C969,Referencias!$B$18:$C$34,2,FALSE())","v":"M"},"C"]
["2811560","Olivares Santiago, Rosa","Madrileña","D","Primera Diamante","Competición",1,{"$f":"VLOOKUP(E970,Referencias!$B$4:$C$15,2,FALSE())","v":"1D"},{"$f":"VLOOKUP(C970,Referencias!$B$18:$C$34,2,FALSE())","v":"M"},"C"]
["2811565","Verdía Catoyra, María Cruz","Madrileña","D","Segunda Diamante","Competición",2,{"$f":"VLOOKUP(E971,Referencias!$B$4:$C$15,2,FALSE())","v":"2D"},{"$f":"VLOOKUP(C971,Referencias!$B$18:$C$34,2,FALSE())","v":"M"},"C"]
["2811567","Rbibo , Monique","Madrileña","D","Tercera Picas","Competición",3,{"$f":"VLOOKUP(E972,Referencias!$B$4:$C$15,2,FALSE())","v":"3P"},{"$f":"VLOOKUP(C972,Referencias!$B$18:$C$34,2,FALSE())","v":"M"},"C"]
["2811574","Iranzo De Cabannes, Mª France","Madrileña","D","Tercera Corazón","Competición",3,{"$f":"VLOOKUP(E973,Referencias!$B$4:$C$15,2,FALSE())","v":"3C"},{"$f":"VLOOKUP(C973,Referencias!$B$18:$C$34,2,FALSE())","v":"M"},"C"]
["2811578","Villalba Salgado, Mercedes","Madrileña","D","Primera Picas","Competición",1,{"$f":"VLOOKUP(E974,Referencias!$B$4:$C$15,2,FALSE())","v":"1P"},{"$f":"VLOOKUP(C974,Referencias!$B$18:$C$34,2,FALSE())","v":"M"},"C"]
["2811579","Gassó Hernández, Ángeles","Madrileña","D","Segunda Corazón","Competición",2,{"$f":"VLOOKUP(E975,Referencias!$B$4:$C$15,2,FALSE())","v":"2C"},{"$f":"VLOOKUP(C975,Referencias!$B$18:$C$34,2,FALSE())","v":"M"},"C"]
["2811583","Castells Conrado, Laura","Madrileña","D","Maestro Nacional","Competición",0,{"$f":"VLOOKUP(E976,Referencias!$B$4:$C$15,2,FALSE())","v":"MN"},{"$f":"VLOOKUP(C976,Referencias!$B$18:$C$34,2,FALSE())","v":"M"},"C"]
["2811588","Blasco Marín, Pedro","Madrileña","C","Tercera Diamante","Competición",3,{"$f":"VLOOKUP(E977,Referencias!$B$4:$C$15,2,FALSE())","v":"3D"},{"$f":"VLOOKUP(C977,Referencias!$B$18:$C$34,2,FALSE())","v":"M"},"C"]
["2811595","Iglesias-Sarria , Blanca","Madrileña","D","Tercera Picas","Competición",3,{"$f":"VLOOKUP(E978,Referencias!$B$4:$C$15,2,FALSE())","v":"3P"},{"$f":"VLOOKUP(C978,Referencias!$B$18:$C$34,2,FALSE())","v":"M"},"C"]
["2811596","Jiménez García-Alzórriz, Ignacio","Madrileña","C","Maestro Nacional","Competición",0,{"$f":"VLOOKUP(E979,Referencias!$B$4:$C$15,2,FALSE())","v":"MN"},{"$f":"VLOOKUP(C979,Referencias!$B$18:$C$34,2,FALSE())","v":"M"},"C"]
["2811598","Segura , María","Madrileña","D","Tercera Picas","Honorífica",3,{"$f":"VLOOKUP(E980,Referencias!$B$4:$C$15,2,FALSE())","v":"3P"},{"$f":"VLOOKUP(C980,Referencias!$B$18:$C$34,2,FALSE())","v":"M"},"C"]
["2811601","Criado Del Rey , Victoria","Madrileña","D","Tercera Picas","Competición",3,{"$f":"VLOOKUP(E981,Referencias!$B$4:$C$15,2,FALSE())","v":"3P"},{"$f":"VLOOKUP(C981,Referencias!$B$18:$C$34,2,FALSE())","v":"M"},"C"]
["2811603","Guerra del Río Manrique de Lara, Adolfina","Madrileña","D","Tercera Corazón","Competición",3,{"$f":"VLOOKUP(E982,Referencias!$B$4:$C$15,2,FALSE())","v":"3C"},{"$f":"VLOOKUP(C982,Referencias!$B$18:$C$34,2,FALSE())","v":"M"},"C"]
["2811604","Chacón Roca, Pilar","Madrileña","D","Segunda Picas","Competición",2,{"$f":"VLOOKUP(E983,Referencias!$B$4:$C$15,2,FALSE())","v":"2P"},{"$f":"VLOOKUP(C983,Referencias!$B$18:$C$34,2,FALSE())","v":"M"},"C"]
["2811605","Ferrández Del Cacho, Mercedes","Madrileña","D","Primera Picas","Competición",1,{"$f":"VLOOKUP(E984,Referencias!$B$4:$C$15,2,FALSE())","v":"1P"},{"$f":"VLOOKUP(C984,Referencias!$B$18:$C$34,2,FALSE())","v":"M"},"C"]
["2811610","Ferrer Crespo, Francisca","Madrileña","D","Tercera Picas","Competición",3,{"$f":"VLOOKUP(E985,Referencias!$B$4:$C$15,2,FALSE())","v":"3P"},{"$f":"VLOOKUP(C985,Referencias!$B$18:$C$34,2,FALSE())","v":"M"},"C"]
["2811616","Giménez-Arnau , Mª Carmen","Madrileña","D","Segunda Corazón","Competición",2,{"$f":"VLOOKUP(E986,Referencias!$B$4:$C$15,2,FALSE())","v":"2C"},{"$f":"VLOOKUP(C986,Referencias!$B$18:$C$34,2,FALSE())","v":"M"},"C"]
["2811617","Nicolás-Correa Barragán, Elisa","Madrileña","D","Primera Corazón","Competición",1,{"$f":"VLOOKUP(E987,Referencias!$B$4:$C$15,2,FALSE())","v":"1C"},{"$f":"VLOOKUP(C987,Referencias!$B$18:$C$34,2,FALSE())","v":"M"},"C"]
["2811620","Castells Conrado, Antonio","Madrileña","C","Primera Corazón","Competición",1,{"$f":"VLOOKUP(E988,Referencias!$B$4:$C$15,2,FALSE())","v":"1C"},{"$f":"VLOOKUP(C988,Referencias!$B$18:$C$34,2,FALSE())","v":"M"},"C"]
["2811622","Goya de Sáiz, Mª Antonia","Madrileña","D","Primera Picas","Competición",1,{"$f":"VLOOKUP(E989,Referencias!$B$4:$C$15,2,FALSE())","v":"1P"},{"$f":"VLOOKUP(C989,Referencias!$B$18:$C$34,2,FALSE())","v":"M"},"C"]
["2811625","Satrústegui Silvela, Fernanda","Madrileña","D","Tercera Picas","Competición",3,{"$f":"VLOOKUP(E990,Referencias!$B$4:$C$15,2,FALSE())","v":"3P"},{"$f":"VLOOKUP(C990,Referencias!$B$18:$C$34,2,FALSE())","v":"M"},"C"]
["2811628","Valderrábano Núñez, Carmen","Madrileña","D","Tercera Diamante","Competición",3,{"$f":"VLOOKUP(E991,Referencias!$B$4:$C$15,2,FALSE())","v":"3D"},{"$f":"VLOOKUP(C991,Referencias!$B$18:$C$34,2,FALSE())","v":"M"},"C"]
["2811632","Castro Guerra, Dorina","Madrileña","D","Tercera Corazón","Competición",3,{"$f":"VLOOKUP(E992,Referencias!$B$4:$C$15,2,FALSE())","v":"3C"},{"$f":"VLOOKUP(C992,Referencias!$B$18:$C$34,2,FALSE())","v":"M"},"C"]
["2811633","Prida Peláez, María Teresa","Madrileña","D","Tercera Diamante","Competición",3,{"$f":"VLOOKUP(E993,Referencias!$B$4:$C$15,2,FALSE())","v":"3D"},{"$f":"VLOOKUP(C993,Referencias!$B$18:$C$34,2,FALSE())","v":"M"},"C"]
["2811642","Bujack , Karin","Madrileña","D","Primera Picas","Competición",1,{"$f":"VLOOKUP(E994,Referencias!$B$4:$C$15,2,FALSE())","v":"1P"},{"$f":"VLOOKUP(C994,Referencias!$B$18:$C$34,2,FALSE())","v":"M"},"C"]
["2811643","Taberna Ruíz, Ana","Madrileña","D","Tercera Diamante","Competición",3,{"$f":"VLOOKUP(E995,Referencias!$B$4:$C$15,2,FALSE())","v":"3D"},{"$f":"VLOOKUP(C995,Referencias!$B$18:$C$34,2,FALSE())","v":"M"},"C"]
["2811648","Carmona de Argila, Irene","Madrileña","D","Segunda Picas","Competición",2,{"$f":"VLOOKUP(E996,Referencias!$B$4:$C$15,2,FALSE())","v":"2P"},{"$f":"VLOOKUP(C996,Referencias!$B$18:$C$34,2,FALSE())","v":"M"},"C"]
["2811650","Santos Campano, Isabel","Madrileña","D","Segunda Corazón","Competición",2,{"$f":"VLOOKUP(E997,Referencias!$B$4:$C$15,2,FALSE())","v":"2C"},{"$f":"VLOOKUP(C997,Referencias!$B$18:$C$34,2,FALSE())","v":"M"},"C"]
["2811659","Ramos Martínez, Rafael","Madrileña","C","Primera Picas","Competición",1,{"$f":"VLOOKUP(E998,Referencias!$B$4:$C$15,2,FALSE())","v":"1P"},{"$f":"VLOOKUP(C998,Referencias!$B$18:$C$34,2,FALSE())","v":"M"},"C"]
["2811660","Reventún Núñez, Alberto","Madrileña","C","Segunda Corazón","Competición",2,{"$f":"VLOOKUP(E999,Referencias!$B$4:$C$15,2,FALSE())","v":"2C"},{"$f":"VLOOKUP(C999,Referencias!$B$18:$C$34,2,FALSE())","v":"M"},"C"]
["2811663","Marín García de Mora, Belén","Madrileña","D","Segunda Diamante","Competición",2,{"$f":"VLOOKUP(E1000,Referencias!$B$4:$C$15,2,FALSE())","v":"2D"},{"$f":"VLOOKUP(C1000,Referencias!$B$18:$C$34,2,FALSE())","v":"M"},"C"]
["2811664","Peidró Conde, José Manuel","Madrileña","C","Maestro Nacional","Competición",0,{"$f":"VLOOKUP(E1001,Referencias!$B$4:$C$15,2,FALSE())","v":"MN"},{"$f":"VLOOKUP(C1001,Referencias!$B$18:$C$34,2,FALSE())","v":"M"},"C"]
["2811666","Basabe Armijo, Enrique","Madrileña","C","Maestro Nacional","Competición",0,{"$f":"VLOOKUP(E1002,Referencias!$B$4:$C$15,2,FALSE())","v":"MN"},{"$f":"VLOOKUP(C1002,Referencias!$B$18:$C$34,2,FALSE())","v":"M"},"C"]
["2811671","Ruíz Rojas, Mª Isabel","Madrileña","D","Segunda Picas","Competición",2,{"$f":"VLOOKUP(E1003,Referencias!$B$4:$C$15,2,FALSE())","v":"2P"},{"$f":"VLOOKUP(C1003,Referencias!$B$18:$C$34,2,FALSE())","v":"M"},"C"]
["2811676","Sierra López-Barrante, María del Carmen","Madrileña","D","Tercera Diamante","Competición",3,{"$f":"VLOOKUP(E1004,Referencias!$B$4:$C$15,2,FALSE())","v":"3D"},{"$f":"VLOOKUP(C1004,Referencias!$B$18:$C$34,2,FALSE())","v":"M"},"C"]
["2811677","Sierra López, Josefina","Madrileña","D","Tercera Corazón","Competición",3,{"$f":"VLOOKUP(E1005,Referencias!$B$4:$C$15,2,FALSE())","v":"3C"},{"$f":"VLOOKUP(C1005,Referencias!$B$18:$C$34,2,FALSE())","v":"M"},"C"]
["2811679","De Juanes Lago, Julia Mª","Madrileña","D","Segunda Diamante","Competición",2,{"$f":"VLOOKUP(E1006,Referencias!$B$4:$C$15,2,FALSE())","v":"2D"},{"$f":"VLOOKUP(C1006,Referencias!$B$18:$C$34,2,FALSE())","v":"M"},"C"]
["2811685","Gálvez Morros, Magdalena","Madrileña","D","Tercera Picas","Competición",3,{"$f":"VLOOKUP(E1007,Referencias!$B$4:$C$15,2,FALSE())","v":"3P"},{"$f":"VLOOKUP(C1007,Referencias!$B$18:$C$34,2,FALSE())","v":"M"},"C"]
["2811693","García González, Benigno","Madrileña","C","Tercera Diamante","Competición",3,{"$f":"VLOOKUP(E1008,Referencias!$B$4:$C$15,2,FALSE())","v":"3D"},{"$f":"VLOOKUP(C1008,Referencias!$B$18:$C$34,2,FALSE())","v":"M"},"C"]
["2811696","Mazario Marañón, Jose Luis","Madrileña","C","Tercera Diamante","Competición",3,{"$f":"VLOOKUP(E1009,Referencias!$B$4:$C$15,2,FALSE())","v":"3D"},{"$f":"VLOOKUP(C1009,Referencias!$B$18:$C$34,2,FALSE())","v":"M"},"C"]
["2811704","Guaps Maldonado, Marisol","Madrileña","D","Sin Categoría","Competición",4,{"$f":"VLOOKUP(E1010,Referencias!$B$4:$C$15,2,FALSE())","v":"SC"},{"$f":"VLOOKUP(C1010,Referencias!$B$18:$C$34,2,FALSE())","v":"M"},"C"]
["2811708","Aldasoro , Judith","Madrileña","D","Tercera Picas","Competición",3,{"$f":"VLOOKUP(E1011,Referencias!$B$4:$C$15,2,FALSE())","v":"3P"},{"$f":"VLOOKUP(C1011,Referencias!$B$18:$C$34,2,FALSE())","v":"M"},"C"]
["2811709","Castells Conrado, Mª Ángeles","Madrileña","D","Primera Corazón","Competición",1,{"$f":"VLOOKUP(E1012,Referencias!$B$4:$C$15,2,FALSE())","v":"1C"},{"$f":"VLOOKUP(C1012,Referencias!$B$18:$C$34,2,FALSE())","v":"M"},"C"]
["2811716","Jiménez Garrido, Francisco","Madrileña","C","Primera Corazón","Competición",1,{"$f":"VLOOKUP(E1013,Referencias!$B$4:$C$15,2,FALSE())","v":"1C"},{"$f":"VLOOKUP(C1013,Referencias!$B$18:$C$34,2,FALSE())","v":"M"},"C"]
["2811717","Pérez Pareja, Jesús","Madrileña","C","Tercera Picas","Competición",3,{"$f":"VLOOKUP(E1014,Referencias!$B$4:$C$15,2,FALSE())","v":"3P"},{"$f":"VLOOKUP(C1014,Referencias!$B$18:$C$34,2,FALSE())","v":"M"},"C"]
["2811718","Del Nogal Ropero, Mª Teresa","Madrileña","D","Tercera Picas","Competición",3,{"$f":"VLOOKUP(E1015,Referencias!$B$4:$C$15,2,FALSE())","v":"3P"},{"$f":"VLOOKUP(C1015,Referencias!$B$18:$C$34,2,FALSE())","v":"M"},"C"]
["2811724","Romeo Viñas, Mª Inés","Madrileña","D","Maestro Nacional","Competición",0,{"$f":"VLOOKUP(E1016,Referencias!$B$4:$C$15,2,FALSE())","v":"MN"},{"$f":"VLOOKUP(C1016,Referencias!$B$18:$C$34,2,FALSE())","v":"M"},"C"]
["2811725","Pañella Giralt, Ana","Madrileña","D","Primera Corazón","Competición",1,{"$f":"VLOOKUP(E1017,Referencias!$B$4:$C$15,2,FALSE())","v":"1C"},{"$f":"VLOOKUP(C1017,Referencias!$B$18:$C$34,2,FALSE())","v":"M"},"C"]
["2811730","López De Sagredo, Estrella","Madrileña","D","Segunda Picas","Competición",2,{"$f":"VLOOKUP(E1018,Referencias!$B$4:$C$15,2,FALSE())","v":"2P"},{"$f":"VLOOKUP(C1018,Referencias!$B$18:$C$34,2,FALSE())","v":"M"},"C"]
["2811733","Rodríguez-Cano Hamparzoumian, Pedro","Madrileña","C","Primera Picas","Competición",1,{"$f":"VLOOKUP(E1019,Referencias!$B$4:$C$15,2,FALSE())","v":"1P"},{"$f":"VLOOKUP(C1019,Referencias!$B$18:$C$34,2,FALSE())","v":"M"},"C"]
["2811735","Gaztañaga Sertucha, José María","Madrileña","C","Sin Categoría","Competición",4,{"$f":"VLOOKUP(E1020,Referencias!$B$4:$C$15,2,FALSE())","v":"SC"},{"$f":"VLOOKUP(C1020,Referencias!$B$18:$C$34,2,FALSE())","v":"M"},"C"]
["2811738","Pumar Mariño, Carmen","Madrileña","D","Segunda Picas","Competición",2,{"$f":"VLOOKUP(E1021,Referencias!$B$4:$C$15,2,FALSE())","v":"2P"},{"$f":"VLOOKUP(C1021,Referencias!$B$18:$C$34,2,FALSE())","v":"M"},"C"]
["2811739","Pfeiffer De Maura, Marifé","Madrileña","D","Tercera Picas","Competición",3,{"$f":"VLOOKUP(E1022,Referencias!$B$4:$C$15,2,FALSE())","v":"3P"},{"$f":"VLOOKUP(C1022,Referencias!$B$18:$C$34,2,FALSE())","v":"M"},"C"]
["2811742","Martínez Laya, Carlos","Madrileña","C","Sin Categoría","Competición",4,{"$f":"VLOOKUP(E1023,Referencias!$B$4:$C$15,2,FALSE())","v":"SC"},{"$f":"VLOOKUP(C1023,Referencias!$B$18:$C$34,2,FALSE())","v":"M"},"C"]
["2811746","Gárate Murillo, Rosa Mª","Madrileña","D","Segunda Corazón","Competición",2,{"$f":"VLOOKUP(E1024,Referencias!$B$4:$C$15,2,FALSE())","v":"2C"},{"$f":"VLOOKUP(C1024,Referencias!$B$18:$C$34,2,FALSE())","v":"M"},{"$f":"IF(D1024=\"Dama\",\"D\",\"C\")","v":"C"}]
["2811748","Valdés Zubiría, Jaime","Madrileña","C","Segunda Diamante","Competición",2,{"$f":"VLOOKUP(E1025,Referencias!$B$4:$C$15,2,FALSE())","v":"2D"},{"$f":"VLOOKUP(C1025,Referencias!$B$18:$C$34,2,FALSE())","v":"M"},"C"]
["2811752","Menéndez De Luarca Navia Osorio , María","Madrileña","D","Primera Diamante","Competición",1,{"$f":"VLOOKUP(E1026,Referencias!$B$4:$C$15,2,FALSE())","v":"1D"},{"$f":"VLOOKUP(C1026,Referencias!$B$18:$C$34,2,FALSE())","v":"M"},"C"]
["2811753","Rubio Egurbide, Aurora","Madrileña","D","Tercera Picas","Competición",3,{"$f":"VLOOKUP(E1027,Referencias!$B$4:$C$15,2,FALSE())","v":"3P"},{"$f":"VLOOKUP(C1027,Referencias!$B$18:$C$34,2,FALSE())","v":"M"},"C"]
["2811760","Morales Piga, Concepción","Madrileña","D","Segunda Corazón","Competición",2,{"$f":"VLOOKUP(E1028,Referencias!$B$4:$C$15,2,FALSE())","v":"2C"},{"$f":"VLOOKUP(C1028,Referencias!$B$18:$C$34,2,FALSE())","v":"M"},"C"]
["2811762","Lantarón Pinedo, Luis","Madrileña","C","Maestro Mundial","Competición",0,{"$f":"VLOOKUP(E1029,Referencias!$B$4:$C$15,2,FALSE())","v":"MM"},{"$f":"VLOOKUP(C1029,Referencias!$B$18:$C$34,2,FALSE())","v":"M"},"C"]
["2811772","Aizpurua Saenz-Alonso, Ana Isabel","Madrileña","D","Segunda Picas","Competición",2,{"$f":"VLOOKUP(E1030,Referencias!$B$4:$C$15,2,FALSE())","v":"2P"},{"$f":"VLOOKUP(C1030,Referencias!$B$18:$C$34,2,FALSE())","v":"M"},"C"]
["2811777","De Miguel , Joaquín","Madrileña","C","Primera Corazón","Competición",1,{"$f":"VLOOKUP(E1031,Referencias!$B$4:$C$15,2,FALSE())","v":"1C"},{"$f":"VLOOKUP(C1031,Referencias!$B$18:$C$34,2,FALSE())","v":"M"},"C"]
["2811779","Hombravella Pérez de Ozores, Mª Paz","Madrileña","D","Tercera Corazón","Competición",3,{"$f":"VLOOKUP(E1032,Referencias!$B$4:$C$15,2,FALSE())","v":"3C"},{"$f":"VLOOKUP(C1032,Referencias!$B$18:$C$34,2,FALSE())","v":"M"},"C"]
["2811780","Suárez Martínez, Sofía","Madrileña","D","Segunda Picas","Competición",2,{"$f":"VLOOKUP(E1033,Referencias!$B$4:$C$15,2,FALSE())","v":"2P"},{"$f":"VLOOKUP(C1033,Referencias!$B$18:$C$34,2,FALSE())","v":"M"},"C"]
["2811782","Castells Conrado, Alberto","Madrileña","C","Primera Picas","Competición",1,{"$f":"VLOOKUP(E1034,Referencias!$B$4:$C$15,2,FALSE())","v":"1P"},{"$f":"VLOOKUP(C1034,Referencias!$B$18:$C$34,2,FALSE())","v":"M"},"C"]
["2811783","De Cossío, Carmen","Madrileña","D","Tercera Corazón","Competición",3,{"$f":"VLOOKUP(E1035,Referencias!$B$4:$C$15,2,FALSE())","v":"3C"},{"$f":"VLOOKUP(C1035,Referencias!$B$18:$C$34,2,FALSE())","v":"M"},"C"]
["2811795","Carrasco Hervás, Gabriel","Madrileña","C","Maestro Nacional","Competición",0,{"$f":"VLOOKUP(E1036,Referencias!$B$4:$C$15,2,FALSE())","v":"MN"},{"$f":"VLOOKUP(C1036,Referencias!$B$18:$C$34,2,FALSE())","v":"M"},"C"]
["2811796","Ramírez Sánchez, Mª Victoria","Madrileña","D","Segunda Diamante","Competición",2,{"$f":"VLOOKUP(E1037,Referencias!$B$4:$C$15,2,FALSE())","v":"2D"},{"$f":"VLOOKUP(C1037,Referencias!$B$18:$C$34,2,FALSE())","v":"M"},"C"]
["2811798","de Isasa López, Ana María","Madrileña","D","Sin Categoría","Competición",4,{"$f":"VLOOKUP(E1038,Referencias!$B$4:$C$15,2,FALSE())","v":"SC"},{"$f":"VLOOKUP(C1038,Referencias!$B$18:$C$34,2,FALSE())","v":"M"},"C"]
["2811799","Navarro Iglesias, Virgilio","Madrileña","C","Tercera Picas","Competición",3,{"$f":"VLOOKUP(E1039,Referencias!$B$4:$C$15,2,FALSE())","v":"3P"},{"$f":"VLOOKUP(C1039,Referencias!$B$18:$C$34,2,FALSE())","v":"M"},"C"]
["2811801","De Agustín Estanislao, Myriam","Madrileña","D","Segunda Picas","Competición",2,{"$f":"VLOOKUP(E1040,Referencias!$B$4:$C$15,2,FALSE())","v":"2P"},{"$f":"VLOOKUP(C1040,Referencias!$B$18:$C$34,2,FALSE())","v":"M"},"C"]
["2811806","Chico Álvarez, María Rosa","Madrileña","D","Primera Picas","Competición",1,{"$f":"VLOOKUP(E1041,Referencias!$B$4:$C$15,2,FALSE())","v":"1P"},{"$f":"VLOOKUP(C1041,Referencias!$B$18:$C$34,2,FALSE())","v":"M"},"C"]
["2811807","Del Castillo, Elisa","Madrileña","D","Tercera Picas","Competición",3,{"$f":"VLOOKUP(E1042,Referencias!$B$4:$C$15,2,FALSE())","v":"3P"},{"$f":"VLOOKUP(C1042,Referencias!$B$18:$C$34,2,FALSE())","v":"M"},"C"]
["2811808","Marcos Nicolás, Marisa","Madrileña","D","Segunda Picas","Competición",2,{"$f":"VLOOKUP(E1043,Referencias!$B$4:$C$15,2,FALSE())","v":"2P"},{"$f":"VLOOKUP(C1043,Referencias!$B$18:$C$34,2,FALSE())","v":"M"},"C"]
["2811809","De Roda Marchesi, Mª José","Madrileña","D","Segunda Picas","Competición",2,{"$f":"VLOOKUP(E1044,Referencias!$B$4:$C$15,2,FALSE())","v":"2P"},{"$f":"VLOOKUP(C1044,Referencias!$B$18:$C$34,2,FALSE())","v":"M"},"C"]
["2811810","Urdiales Terry, Luis","Madrileña","C","Primera Diamante","Competición",1,{"$f":"VLOOKUP(E1045,Referencias!$B$4:$C$15,2,FALSE())","v":"1D"},{"$f":"VLOOKUP(C1045,Referencias!$B$18:$C$34,2,FALSE())","v":"M"},"C"]
["2811811","Vida Llorente, Mercedes","Madrileña","D","Primera Diamante","Competición",1,{"$f":"VLOOKUP(E1046,Referencias!$B$4:$C$15,2,FALSE())","v":"1D"},{"$f":"VLOOKUP(C1046,Referencias!$B$18:$C$34,2,FALSE())","v":"M"},"C"]
["2811818","Castiñeira Villaseca, Mª Paz","Madrileña","D","Primera Diamante","Competición",1,{"$f":"VLOOKUP(E1047,Referencias!$B$4:$C$15,2,FALSE())","v":"1D"},{"$f":"VLOOKUP(C1047,Referencias!$B$18:$C$34,2,FALSE())","v":"M"},"C"]
["2811819","Asín Pelay, Mª Jesús","Madrileña","D","Primera Diamante","Competición",1,{"$f":"VLOOKUP(E1048,Referencias!$B$4:$C$15,2,FALSE())","v":"1D"},{"$f":"VLOOKUP(C1048,Referencias!$B$18:$C$34,2,FALSE())","v":"M"},"C"]
["2811824","Sandoval Renshaw, Carmen","Madrileña","D","Primera Corazón","Competición",1,{"$f":"VLOOKUP(E1049,Referencias!$B$4:$C$15,2,FALSE())","v":"1C"},{"$f":"VLOOKUP(C1049,Referencias!$B$18:$C$34,2,FALSE())","v":"M"},"C"]
["2811828","Granda Rubio, Jesús","Madrileña","C","Tercera Diamante","Competición",3,{"$f":"VLOOKUP(E1050,Referencias!$B$4:$C$15,2,FALSE())","v":"3D"},{"$f":"VLOOKUP(C1050,Referencias!$B$18:$C$34,2,FALSE())","v":"M"},"C"]
["2811835","Estefanell Solá, Trinidad","Madrileña","D","Sin Categoría","Competición",4,{"$f":"VLOOKUP(E1051,Referencias!$B$4:$C$15,2,FALSE())","v":"SC"},{"$f":"VLOOKUP(C1051,Referencias!$B$18:$C$34,2,FALSE())","v":"M"},"C"]
["2811841","Lafita Gorostiza, Begoña","Madrileña","D","Segunda Picas","Competición",2,{"$f":"VLOOKUP(E1052,Referencias!$B$4:$C$15,2,FALSE())","v":"2P"},{"$f":"VLOOKUP(C1052,Referencias!$B$18:$C$34,2,FALSE())","v":"M"},"C"]
["2811849","Francés de Velasco, Ana","Madrileña","D","Maestro Mundial","Competición",0,{"$f":"VLOOKUP(E1053,Referencias!$B$4:$C$15,2,FALSE())","v":"MM"},{"$f":"VLOOKUP(C1053,Referencias!$B$18:$C$34,2,FALSE())","v":"M"},"C"]
["2811859","Vicent Martínez, Mariel","Madrileña","D","Primera Corazón","Competición",1,{"$f":"VLOOKUP(E1054,Referencias!$B$4:$C$15,2,FALSE())","v":"1C"},{"$f":"VLOOKUP(C1054,Referencias!$B$18:$C$34,2,FALSE())","v":"M"},"C"]
["2811860","Dhainault , Marie France","Madrileña","D","Segunda Picas","Competición",2,{"$f":"VLOOKUP(E1055,Referencias!$B$4:$C$15,2,FALSE())","v":"2P"},{"$f":"VLOOKUP(C1055,Referencias!$B$18:$C$34,2,FALSE())","v":"M"},"C"]
["2811861","Tavira , Mª Dolores","Madrileña","D","Tercera Picas","Competición",3,{"$f":"VLOOKUP(E1056,Referencias!$B$4:$C$15,2,FALSE())","v":"3P"},{"$f":"VLOOKUP(C1056,Referencias!$B$18:$C$34,2,FALSE())","v":"M"},"C"]
["2811863","Julian Moreno, Mª Carmen","Madrileña","D","Segunda Diamante","Competición",2,{"$f":"VLOOKUP(E1057,Referencias!$B$4:$C$15,2,FALSE())","v":"2D"},{"$f":"VLOOKUP(C1057,Referencias!$B$18:$C$34,2,FALSE())","v":"M"},"C"]
["2811878","Von Wichmann , Leles","Madrileña","D","Primera Corazón","Competición",1,{"$f":"VLOOKUP(E1058,Referencias!$B$4:$C$15,2,FALSE())","v":"1C"},{"$f":"VLOOKUP(C1058,Referencias!$B$18:$C$34,2,FALSE())","v":"M"},"C"]
["2811881","Espinosa Ochoa, José Miguel","Madrileña","C","Primera Diamante","Competición",1,{"$f":"VLOOKUP(E1059,Referencias!$B$4:$C$15,2,FALSE())","v":"1D"},{"$f":"VLOOKUP(C1059,Referencias!$B$18:$C$34,2,FALSE())","v":"M"},"C"]
["2811882","Guerrero , Manuela","Madrileña","D","Segunda Picas","Competición",2,{"$f":"VLOOKUP(E1060,Referencias!$B$4:$C$15,2,FALSE())","v":"2P"},{"$f":"VLOOKUP(C1060,Referencias!$B$18:$C$34,2,FALSE())","v":"M"},"C"]
["2811884","Peralta Sánchez, Pilar","Madrileña","D","Tercera Picas","Competición",3,{"$f":"VLOOKUP(E1061,Referencias!$B$4:$C$15,2,FALSE())","v":"3P"},{"$f":"VLOOKUP(C1061,Referencias!$B$18:$C$34,2,FALSE())","v":"M"},"C"]
["2811890","Sorensen Alber, Cristina","Madrileña","D","Primera Diamante","Competición",1,{"$f":"VLOOKUP(E1062,Referencias!$B$4:$C$15,2,FALSE())","v":"1D"},{"$f":"VLOOKUP(C1062,Referencias!$B$18:$C$34,2,FALSE())","v":"M"},"C"]
["2811891","Todesco Contardo, Luisa","Madrileña","D","Segunda Picas","Competición",2,{"$f":"VLOOKUP(E1063,Referencias!$B$4:$C$15,2,FALSE())","v":"2P"},{"$f":"VLOOKUP(C1063,Referencias!$B$18:$C$34,2,FALSE())","v":"M"},"C"]
["2811892","Sinovas Mate, Carmen","Madrileña","D","Sin Categoría","Competición",4,{"$f":"VLOOKUP(E1064,Referencias!$B$4:$C$15,2,FALSE())","v":"SC"},{"$f":"VLOOKUP(C1064,Referencias!$B$18:$C$34,2,FALSE())","v":"M"},"C"]
["2811893","Flórez , Mª Eugenia","Madrileña","D","Tercera Picas","Competición",3,{"$f":"VLOOKUP(E1065,Referencias!$B$4:$C$15,2,FALSE())","v":"3P"},{"$f":"VLOOKUP(C1065,Referencias!$B$18:$C$34,2,FALSE())","v":"M"},"C"]
["2811894","Sendagorta , Luz","Madrileña","D","Segunda Picas","Competición",2,{"$f":"VLOOKUP(E1066,Referencias!$B$4:$C$15,2,FALSE())","v":"2P"},{"$f":"VLOOKUP(C1066,Referencias!$B$18:$C$34,2,FALSE())","v":"M"},"C"]
["2811895","Roessink , Gerardo","Madrileña","C","Tercera Picas","Competición",3,{"$f":"VLOOKUP(E1067,Referencias!$B$4:$C$15,2,FALSE())","v":"3P"},{"$f":"VLOOKUP(C1067,Referencias!$B$18:$C$34,2,FALSE())","v":"M"},"C"]
["2811901","Vargas Román, Mª Dolores","Madrileña","D","Segunda Corazón","Competición",2,{"$f":"VLOOKUP(E1068,Referencias!$B$4:$C$15,2,FALSE())","v":"2C"},{"$f":"VLOOKUP(C1068,Referencias!$B$18:$C$34,2,FALSE())","v":"M"},"C"]
["2811902","Castillo Sales, Milagros","Madrileña","D","Tercera Corazón","Competición",3,{"$f":"VLOOKUP(E1069,Referencias!$B$4:$C$15,2,FALSE())","v":"3C"},{"$f":"VLOOKUP(C1069,Referencias!$B$18:$C$34,2,FALSE())","v":"M"},"C"]
["2811906","Leiva Rodríguez-Valdés, Cristina","Madrileña","D","Maestro Nacional","Competición",0,{"$f":"VLOOKUP(E1070,Referencias!$B$4:$C$15,2,FALSE())","v":"MN"},{"$f":"VLOOKUP(C1070,Referencias!$B$18:$C$34,2,FALSE())","v":"M"},"C"]
["2811909","De Lorenzo, Juan Manuel","Madrileña","C","Primera Picas","Competición",1,{"$f":"VLOOKUP(E1071,Referencias!$B$4:$C$15,2,FALSE())","v":"1P"},{"$f":"VLOOKUP(C1071,Referencias!$B$18:$C$34,2,FALSE())","v":"M"},"C"]
["2811910","Wasik , Arturo","Madrileña","C","Maestro Mundial","Competición",0,{"$f":"VLOOKUP(E1072,Referencias!$B$4:$C$15,2,FALSE())","v":"MM"},{"$f":"VLOOKUP(C1072,Referencias!$B$18:$C$34,2,FALSE())","v":"M"},"C"]
["2811911","Knap , Andrés","Madrileña","C","Maestro Mundial","Competición",0,{"$f":"VLOOKUP(E1073,Referencias!$B$4:$C$15,2,FALSE())","v":"MM"},{"$f":"VLOOKUP(C1073,Referencias!$B$18:$C$34,2,FALSE())","v":"M"},"C"]
["2811915","Jaureguízar Francés, Antonio","Madrileña","C","Tercera Picas","Competición",3,{"$f":"VLOOKUP(E1074,Referencias!$B$4:$C$15,2,FALSE())","v":"3P"},{"$f":"VLOOKUP(C1074,Referencias!$B$18:$C$34,2,FALSE())","v":"M"},"C"]
["2811916","LLarena Rey del Castillo, Pilar","Madrileña","D","Sin Categoría","Competición",4,{"$f":"VLOOKUP(E1075,Referencias!$B$4:$C$15,2,FALSE())","v":"SC"},{"$f":"VLOOKUP(C1075,Referencias!$B$18:$C$34,2,FALSE())","v":"M"},"C"]
["2811934","Del Río Castromil, Evaristo","Madrileña","C","Tercera Picas","Competición",3,{"$f":"VLOOKUP(E1076,Referencias!$B$4:$C$15,2,FALSE())","v":"3P"},{"$f":"VLOOKUP(C1076,Referencias!$B$18:$C$34,2,FALSE())","v":"M"},"C"]
["2811941","Zulueta Sanchíz, Mercedes","Madrileña","D","Sin Categoría","Competición",4,{"$f":"VLOOKUP(E1077,Referencias!$B$4:$C$15,2,FALSE())","v":"SC"},{"$f":"VLOOKUP(C1077,Referencias!$B$18:$C$34,2,FALSE())","v":"M"},"C"]
["2811942","González Urtiaga, Julia","Madrileña","D","Tercera Diamante","Honorífica",3,{"$f":"VLOOKUP(E1078,Referencias!$B$4:$C$15,2,FALSE())","v":"3D"},{"$f":"VLOOKUP(C1078,Referencias!$B$18:$C$34,2,FALSE())","v":"M"},"C"]
["2811944","Sáenz Sáez, José Felipe","Madrileña","C","Primera Diamante","Competición",1,{"$f":"VLOOKUP(E1079,Referencias!$B$4:$C$15,2,FALSE())","v":"1D"},{"$f":"VLOOKUP(C1079,Referencias!$B$18:$C$34,2,FALSE())","v":"M"},"C"]
["2811955","Blázquez , Guadalupe","Madrileña","D","Segunda Corazón","Competición",2,{"$f":"VLOOKUP(E1080,Referencias!$B$4:$C$15,2,FALSE())","v":"2C"},{"$f":"VLOOKUP(C1080,Referencias!$B$18:$C$34,2,FALSE())","v":"M"},"C"]
["2811957","Velasco Peña, Ana María","Madrileña","D","Maestro Nacional","Competición",0,{"$f":"VLOOKUP(E1081,Referencias!$B$4:$C$15,2,FALSE())","v":"MN"},{"$f":"VLOOKUP(C1081,Referencias!$B$18:$C$34,2,FALSE())","v":"M"},"C"]
["2811959","Erhardt Alzaga, Sol","Madrileña","D","Sin Categoría","Competición",4,{"$f":"VLOOKUP(E1082,Referencias!$B$4:$C$15,2,FALSE())","v":"SC"},{"$f":"VLOOKUP(C1082,Referencias!$B$18:$C$34,2,FALSE())","v":"M"},"C"]
["2811964","Esparza , Mercedes","Madrileña","D","Segunda Picas","Competición",2,{"$f":"VLOOKUP(E1083,Referencias!$B$4:$C$15,2,FALSE())","v":"2P"},{"$f":"VLOOKUP(C1083,Referencias!$B$18:$C$34,2,FALSE())","v":"M"},"C"]
["2811965","Cartassac , Mª Luisa","Madrileña","D","Sin Categoría","Competición",4,{"$f":"VLOOKUP(E1084,Referencias!$B$4:$C$15,2,FALSE())","v":"SC"},{"$f":"VLOOKUP(C1084,Referencias!$B$18:$C$34,2,FALSE())","v":"M"},"C"]
["2811967","Castellanos Borrego, Silvia","Madrileña","D","Segunda Picas","Competición",2,{"$f":"VLOOKUP(E1085,Referencias!$B$4:$C$15,2,FALSE())","v":"2P"},{"$f":"VLOOKUP(C1085,Referencias!$B$18:$C$34,2,FALSE())","v":"M"},"C"]
["2811970","Valdivieso Martínez, Alejandro","Madrileña","C","Sin Categoría","Competición",4,{"$f":"VLOOKUP(E1086,Referencias!$B$4:$C$15,2,FALSE())","v":"SC"},{"$f":"VLOOKUP(C1086,Referencias!$B$18:$C$34,2,FALSE())","v":"M"},"C"]
["2811971","Pardina Díez, Pilar","Madrileña","D","Sin Categoría","Competición",4,{"$f":"VLOOKUP(E1087,Referencias!$B$4:$C$15,2,FALSE())","v":"SC"},{"$f":"VLOOKUP(C1087,Referencias!$B$18:$C$34,2,FALSE())","v":"M"},"C"]
["2811972","Ariño Oporto, Julia","Madrileña","D","Segunda Corazón","Competición",2,{"$f":"VLOOKUP(E1088,Referencias!$B$4:$C$15,2,FALSE())","v":"2C"},{"$f":"VLOOKUP(C1088,Referencias!$B$18:$C$34,2,FALSE())","v":"M"},{"$f":"IF(D1088=\"Dama\",\"D\",\"C\")","v":"C"}]
["2811987","Filippini Martínez, Carlos","Madrileña","C","Tercera Diamante","Competición",3,{"$f":"VLOOKUP(E1089,Referencias!$B$4:$C$15,2,FALSE())","v":"3D"},{"$f":"VLOOKUP(C1089,Referencias!$B$18:$C$34,2,FALSE())","v":"M"},"C"]
["2811988","Entero Wandossell, Isabel","Madrileña","D","Tercera Picas","Competición",3,{"$f":"VLOOKUP(E1090,Referencias!$B$4:$C$15,2,FALSE())","v":"3P"},{"$f":"VLOOKUP(C1090,Referencias!$B$18:$C$34,2,FALSE())","v":"M"},"C"]
["2811993","Ochoa de Ocáriz Herrero, Mª Luisa","Madrileña","D","Tercera Diamante","Honorífica",3,{"$f":"VLOOKUP(E1091,Referencias!$B$4:$C$15,2,FALSE())","v":"3D"},{"$f":"VLOOKUP(C1091,Referencias!$B$18:$C$34,2,FALSE())","v":"M"},"C"]
["2811995","Santos Bergua, Mª Ángeles","Madrileña","D","Tercera Picas","Competición",3,{"$f":"VLOOKUP(E1092,Referencias!$B$4:$C$15,2,FALSE())","v":"3P"},{"$f":"VLOOKUP(C1092,Referencias!$B$18:$C$34,2,FALSE())","v":"M"},"C"]
["2811996","Riestra Pardo, Javier","Madrileña","C","Segunda Diamante","Competición",2,{"$f":"VLOOKUP(E1093,Referencias!$B$4:$C$15,2,FALSE())","v":"2D"},{"$f":"VLOOKUP(C1093,Referencias!$B$18:$C$34,2,FALSE())","v":"M"},"C"]
["2812001","Rodríguez Manzano, Ana María","Madrileña","D","Segunda Diamante","Competición",2,{"$f":"VLOOKUP(E1094,Referencias!$B$4:$C$15,2,FALSE())","v":"2D"},{"$f":"VLOOKUP(C1094,Referencias!$B$18:$C$34,2,FALSE())","v":"M"},"C"]
["2812006","González Sanjoaquín, Rafael","Madrileña","C","Segunda Diamante","Competición",2,{"$f":"VLOOKUP(E1095,Referencias!$B$4:$C$15,2,FALSE())","v":"2D"},{"$f":"VLOOKUP(C1095,Referencias!$B$18:$C$34,2,FALSE())","v":"M"},"C"]
["2812008","Rifé Bertrán, Mª Luisa","Madrileña","D","Tercera Corazón","Competición",3,{"$f":"VLOOKUP(E1096,Referencias!$B$4:$C$15,2,FALSE())","v":"3C"},{"$f":"VLOOKUP(C1096,Referencias!$B$18:$C$34,2,FALSE())","v":"M"},"C"]
["2812014","Del Hierro Mutiozábal, Concepción","Madrileña","D","Segunda Diamante","Competición",2,{"$f":"VLOOKUP(E1097,Referencias!$B$4:$C$15,2,FALSE())","v":"2D"},{"$f":"VLOOKUP(C1097,Referencias!$B$18:$C$34,2,FALSE())","v":"M"},"C"]
["2812015","Padial Aguirre, Enrique","Madrileña","C","Segunda Corazón","Competición",2,{"$f":"VLOOKUP(E1098,Referencias!$B$4:$C$15,2,FALSE())","v":"2C"},{"$f":"VLOOKUP(C1098,Referencias!$B$18:$C$34,2,FALSE())","v":"M"},"C"]
["2812017","Martín Álvaro-Gracia, Paloma","Madrileña","D","Primera Picas","Competición",1,{"$f":"VLOOKUP(E1099,Referencias!$B$4:$C$15,2,FALSE())","v":"1P"},{"$f":"VLOOKUP(C1099,Referencias!$B$18:$C$34,2,FALSE())","v":"M"},"C"]
["2812025","Moreno Mendoza, Fernando","Madrileña","C","Primera Diamante","Competición",1,{"$f":"VLOOKUP(E1100,Referencias!$B$4:$C$15,2,FALSE())","v":"1D"},{"$f":"VLOOKUP(C1100,Referencias!$B$18:$C$34,2,FALSE())","v":"M"},"C"]
["2812026","Leva Ríos, Ana","Madrileña","D","Tercera Picas","Competición",3,{"$f":"VLOOKUP(E1101,Referencias!$B$4:$C$15,2,FALSE())","v":"3P"},{"$f":"VLOOKUP(C1101,Referencias!$B$18:$C$34,2,FALSE())","v":"M"},"C"]
["2812028","Armijo Navarro-Reverter, Dolores","Madrileña","D","Primera Corazón","Competición",1,{"$f":"VLOOKUP(E1102,Referencias!$B$4:$C$15,2,FALSE())","v":"1C"},{"$f":"VLOOKUP(C1102,Referencias!$B$18:$C$34,2,FALSE())","v":"M"},"C"]
["2812029","Ojeda Targioni, Patricia","Madrileña","D","Segunda Diamante","Competición",2,{"$f":"VLOOKUP(E1103,Referencias!$B$4:$C$15,2,FALSE())","v":"2D"},{"$f":"VLOOKUP(C1103,Referencias!$B$18:$C$34,2,FALSE())","v":"M"},"C"]
["2812030","Enríquez Ortega, Javier","Madrileña","C","Tercera Corazón","Competición",3,{"$f":"VLOOKUP(E1104,Referencias!$B$4:$C$15,2,FALSE())","v":"3C"},{"$f":"VLOOKUP(C1104,Referencias!$B$18:$C$34,2,FALSE())","v":"M"},"C"]
["2812031","Alija López, Mª Trinidad","Madrileña","D","Primera Corazón","Competición",1,{"$f":"VLOOKUP(E1105,Referencias!$B$4:$C$15,2,FALSE())","v":"1C"},{"$f":"VLOOKUP(C1105,Referencias!$B$18:$C$34,2,FALSE())","v":"M"},"C"]
["2812032","Sánchez Gil, Evencio","Madrileña","C","Primera Picas","Competición",1,{"$f":"VLOOKUP(E1106,Referencias!$B$4:$C$15,2,FALSE())","v":"1P"},{"$f":"VLOOKUP(C1106,Referencias!$B$18:$C$34,2,FALSE())","v":"M"},"C"]
["2812033","Arangüena Docet, Rosa","Madrileña","D","Sin Categoría","Competición",4,{"$f":"VLOOKUP(E1107,Referencias!$B$4:$C$15,2,FALSE())","v":"SC"},{"$f":"VLOOKUP(C1107,Referencias!$B$18:$C$34,2,FALSE())","v":"M"},"C"]
["2812040","Rubio de Martínez de Salas, Emilia","Madrileña","D","Tercera Picas","Competición",3,{"$f":"VLOOKUP(E1108,Referencias!$B$4:$C$15,2,FALSE())","v":"3P"},{"$f":"VLOOKUP(C1108,Referencias!$B$18:$C$34,2,FALSE())","v":"M"},"C"]
["2812041","Kindelán Segura, Manuel","Madrileña","C","Segunda Picas","Competición",2,{"$f":"VLOOKUP(E1109,Referencias!$B$4:$C$15,2,FALSE())","v":"2P"},{"$f":"VLOOKUP(C1109,Referencias!$B$18:$C$34,2,FALSE())","v":"M"},"C"]
["2812042","Vázquez Pimentel, Isabel","Madrileña","D","Primera Corazón","Competición",1,{"$f":"VLOOKUP(E1110,Referencias!$B$4:$C$15,2,FALSE())","v":"1C"},{"$f":"VLOOKUP(C1110,Referencias!$B$18:$C$34,2,FALSE())","v":"M"},"C"]
["2812046","De Sagarra Goday, Margarita","Madrileña","D","Tercera Diamante","Competición",3,{"$f":"VLOOKUP(E1111,Referencias!$B$4:$C$15,2,FALSE())","v":"3D"},{"$f":"VLOOKUP(C1111,Referencias!$B$18:$C$34,2,FALSE())","v":"M"},"C"]
["2812051","Panadero Martín, Mª Fernanda","Madrileña","D","Maestro Mundial","Competición",0,{"$f":"VLOOKUP(E1112,Referencias!$B$4:$C$15,2,FALSE())","v":"MM"},{"$f":"VLOOKUP(C1112,Referencias!$B$18:$C$34,2,FALSE())","v":"M"},"C"]
["2812052","Ramos Covarrubias, Iliana","Madrileña","D","Tercera Picas","Competición",3,{"$f":"VLOOKUP(E1113,Referencias!$B$4:$C$15,2,FALSE())","v":"3P"},{"$f":"VLOOKUP(C1113,Referencias!$B$18:$C$34,2,FALSE())","v":"M"},"C"]
["2812056","Alcalá Santaella, Regina","Madrileña","D","Tercera Diamante","Competición",3,{"$f":"VLOOKUP(E1114,Referencias!$B$4:$C$15,2,FALSE())","v":"3D"},{"$f":"VLOOKUP(C1114,Referencias!$B$18:$C$34,2,FALSE())","v":"M"},"C"]
["2812067","Bueno Valverde, León","Madrileña","C","Primera Corazón","Competición",1,{"$f":"VLOOKUP(E1115,Referencias!$B$4:$C$15,2,FALSE())","v":"1C"},{"$f":"VLOOKUP(C1115,Referencias!$B$18:$C$34,2,FALSE())","v":"M"},"C"]
["2812070","Orgaz Orna, Mª Engracia","Madrileña","D","Sin Categoría","Competición",4,{"$f":"VLOOKUP(E1116,Referencias!$B$4:$C$15,2,FALSE())","v":"SC"},{"$f":"VLOOKUP(C1116,Referencias!$B$18:$C$34,2,FALSE())","v":"M"},"C"]
["2812075","De Juanes Lago, Angela","Madrileña","D","Tercera Corazón","Competición",3,{"$f":"VLOOKUP(E1117,Referencias!$B$4:$C$15,2,FALSE())","v":"3C"},{"$f":"VLOOKUP(C1117,Referencias!$B$18:$C$34,2,FALSE())","v":"M"},"C"]
["2812076","Figueroa Melgar, Rafael","Madrileña","C","Sin Categoría","Competición",4,{"$f":"VLOOKUP(E1118,Referencias!$B$4:$C$15,2,FALSE())","v":"SC"},{"$f":"VLOOKUP(C1118,Referencias!$B$18:$C$34,2,FALSE())","v":"M"},"C"]
["2812080","Corbacho Villar, Carlos","Madrileña","C","Sin Categoría","Competición",4,{"$f":"VLOOKUP(E1119,Referencias!$B$4:$C$15,2,FALSE())","v":"SC"},{"$f":"VLOOKUP(C1119,Referencias!$B$18:$C$34,2,FALSE())","v":"M"},"C"]
["2812081","Mediero Hernández, Marina","Madrileña","D","Primera Picas","Competición",1,{"$f":"VLOOKUP(E1120,Referencias!$B$4:$C$15,2,FALSE())","v":"1P"},{"$f":"VLOOKUP(C1120,Referencias!$B$18:$C$34,2,FALSE())","v":"M"},"C"]
["2812083","Sevillano López, Mª Ángeles","Madrileña","D","Primera Picas","Competición",1,{"$f":"VLOOKUP(E1121,Referencias!$B$4:$C$15,2,FALSE())","v":"1P"},{"$f":"VLOOKUP(C1121,Referencias!$B$18:$C$34,2,FALSE())","v":"M"},"C"]
["2812087","Corral Salas, Fernando","Madrileña","C","Primera Corazón","Competición",1,{"$f":"VLOOKUP(E1122,Referencias!$B$4:$C$15,2,FALSE())","v":"1C"},{"$f":"VLOOKUP(C1122,Referencias!$B$18:$C$34,2,FALSE())","v":"M"},"C"]
["2812094","Arteta Arana, Ramón","Madrileña","C","Primera Picas","Competición",1,{"$f":"VLOOKUP(E1123,Referencias!$B$4:$C$15,2,FALSE())","v":"1P"},{"$f":"VLOOKUP(C1123,Referencias!$B$18:$C$34,2,FALSE())","v":"M"},"C"]
["2812095","Moragues Andreu, Juana","Madrileña","D","Primera Picas","Competición",1,{"$f":"VLOOKUP(E1124,Referencias!$B$4:$C$15,2,FALSE())","v":"1P"},{"$f":"VLOOKUP(C1124,Referencias!$B$18:$C$34,2,FALSE())","v":"M"},"C"]
["2812097","Puyol Gómez, Mª Pilar","Madrileña","D","Tercera Picas","Competición",3,{"$f":"VLOOKUP(E1125,Referencias!$B$4:$C$15,2,FALSE())","v":"3P"},{"$f":"VLOOKUP(C1125,Referencias!$B$18:$C$34,2,FALSE())","v":"M"},"C"]
["2812106","Goicoechea Echaide, Rosario","Madrileña","D","Sin Categoría","Competición",4,{"$f":"VLOOKUP(E1126,Referencias!$B$4:$C$15,2,FALSE())","v":"SC"},{"$f":"VLOOKUP(C1126,Referencias!$B$18:$C$34,2,FALSE())","v":"M"},"C"]
["2812108","Díaz Grande, Javier","Madrileña","C","Primera Picas","Competición",1,{"$f":"VLOOKUP(E1127,Referencias!$B$4:$C$15,2,FALSE())","v":"1P"},{"$f":"VLOOKUP(C1127,Referencias!$B$18:$C$34,2,FALSE())","v":"M"},"C"]
["2812116","Osborne Sanz-Magallón, Cristina","Madrileña","D","Segunda Diamante","Competición",2,{"$f":"VLOOKUP(E1128,Referencias!$B$4:$C$15,2,FALSE())","v":"2D"},{"$f":"VLOOKUP(C1128,Referencias!$B$18:$C$34,2,FALSE())","v":"M"},"C"]
["2812117","Lerma Millan, Adela","Madrileña","D","Tercera Picas","Competición",3,{"$f":"VLOOKUP(E1129,Referencias!$B$4:$C$15,2,FALSE())","v":"3P"},{"$f":"VLOOKUP(C1129,Referencias!$B$18:$C$34,2,FALSE())","v":"M"},"C"]
["2812124","Bolander Larsson, Bárbara","Madrileña","D","Segunda Diamante","Competición",2,{"$f":"VLOOKUP(E1130,Referencias!$B$4:$C$15,2,FALSE())","v":"2D"},{"$f":"VLOOKUP(C1130,Referencias!$B$18:$C$34,2,FALSE())","v":"M"},"C"]
["2812126","Satrústegui Figueroa, Mª Rosa","Madrileña","D","Tercera Corazón","Competición",3,{"$f":"VLOOKUP(E1131,Referencias!$B$4:$C$15,2,FALSE())","v":"3C"},{"$f":"VLOOKUP(C1131,Referencias!$B$18:$C$34,2,FALSE())","v":"M"},"C"]
["2812134","Gómez De Gracia, Mª Amelia","Madrileña","D","Segunda Diamante","Competición",2,{"$f":"VLOOKUP(E1132,Referencias!$B$4:$C$15,2,FALSE())","v":"2D"},{"$f":"VLOOKUP(C1132,Referencias!$B$18:$C$34,2,FALSE())","v":"M"},"C"]
["2812139","García Ibarrola, Mercedes","Madrileña","D","Segunda Picas","Competición",2,{"$f":"VLOOKUP(E1133,Referencias!$B$4:$C$15,2,FALSE())","v":"2P"},{"$f":"VLOOKUP(C1133,Referencias!$B$18:$C$34,2,FALSE())","v":"M"},"C"]
["2812141","Barañano Fernández, Ana Mª","Madrileña","D","Segunda Picas","Competición",2,{"$f":"VLOOKUP(E1134,Referencias!$B$4:$C$15,2,FALSE())","v":"2P"},{"$f":"VLOOKUP(C1134,Referencias!$B$18:$C$34,2,FALSE())","v":"M"},"C"]
["2812148","Antón Nebreda, Luis","Madrileña","C","Tercera Diamante","Competición",3,{"$f":"VLOOKUP(E1135,Referencias!$B$4:$C$15,2,FALSE())","v":"3D"},{"$f":"VLOOKUP(C1135,Referencias!$B$18:$C$34,2,FALSE())","v":"M"},"C"]
["2812149","Goded Nadal, Mª del Pilar","Madrileña","D","Segunda Diamante","Competición",2,{"$f":"VLOOKUP(E1136,Referencias!$B$4:$C$15,2,FALSE())","v":"2D"},{"$f":"VLOOKUP(C1136,Referencias!$B$18:$C$34,2,FALSE())","v":"M"},"C"]
["2812157","Tavares Mesquita, Mª Fernanda","Madrileña","D","Segunda Picas","Competición",2,{"$f":"VLOOKUP(E1137,Referencias!$B$4:$C$15,2,FALSE())","v":"2P"},{"$f":"VLOOKUP(C1137,Referencias!$B$18:$C$34,2,FALSE())","v":"M"},"C"]
["2812161","Ruíz Oriol, David","Madrileña","C","Primera Picas","Competición",1,{"$f":"VLOOKUP(E1138,Referencias!$B$4:$C$15,2,FALSE())","v":"1P"},{"$f":"VLOOKUP(C1138,Referencias!$B$18:$C$34,2,FALSE())","v":"M"},"C"]
["2812162","Sanfrutos Cañizares, Marta","Madrileña","D","Sin Categoría","Competición",4,{"$f":"VLOOKUP(E1139,Referencias!$B$4:$C$15,2,FALSE())","v":"SC"},{"$f":"VLOOKUP(C1139,Referencias!$B$18:$C$34,2,FALSE())","v":"M"},"C"]
["2812164","Sanz Pérez, Rosa","Madrileña","D","Primera Picas","Competición",1,{"$f":"VLOOKUP(E1140,Referencias!$B$4:$C$15,2,FALSE())","v":"1P"},{"$f":"VLOOKUP(C1140,Referencias!$B$18:$C$34,2,FALSE())","v":"M"},"C"]
["2812172","Mansilla Ruiz, Ana Mª","Madrileña","D","Primera Picas","Competición",1,{"$f":"VLOOKUP(E1141,Referencias!$B$4:$C$15,2,FALSE())","v":"1P"},{"$f":"VLOOKUP(C1141,Referencias!$B$18:$C$34,2,FALSE())","v":"M"},"C"]
["2812175","García Helfenberger, Dora","Madrileña","D","Segunda Diamante","Competición",2,{"$f":"VLOOKUP(E1142,Referencias!$B$4:$C$15,2,FALSE())","v":"2D"},{"$f":"VLOOKUP(C1142,Referencias!$B$18:$C$34,2,FALSE())","v":"M"},"C"]
["2812178","Gerez Pascual, Paloma","Madrileña","D","Segunda Diamante","Competición",2,{"$f":"VLOOKUP(E1143,Referencias!$B$4:$C$15,2,FALSE())","v":"2D"},{"$f":"VLOOKUP(C1143,Referencias!$B$18:$C$34,2,FALSE())","v":"M"},"C"]
["2812179","González De Las Heras, Carmen","Madrileña","D","Tercera Picas","Competición",3,{"$f":"VLOOKUP(E1144,Referencias!$B$4:$C$15,2,FALSE())","v":"3P"},{"$f":"VLOOKUP(C1144,Referencias!$B$18:$C$34,2,FALSE())","v":"M"},"C"]
["2812182","Quintián , Eva","Madrileña","D","Tercera Corazón","Competición",3,{"$f":"VLOOKUP(E1145,Referencias!$B$4:$C$15,2,FALSE())","v":"3C"},{"$f":"VLOOKUP(C1145,Referencias!$B$18:$C$34,2,FALSE())","v":"M"},"C"]
["2812185","García Carla, Victoria","Madrileña","D","Segunda Picas","Competición",2,{"$f":"VLOOKUP(E1146,Referencias!$B$4:$C$15,2,FALSE())","v":"2P"},{"$f":"VLOOKUP(C1146,Referencias!$B$18:$C$34,2,FALSE())","v":"M"},"C"]
["2812186","Sandoval Renshaw, Esperanza","Madrileña","D","Segunda Corazón","Competición",2,{"$f":"VLOOKUP(E1147,Referencias!$B$4:$C$15,2,FALSE())","v":"2C"},{"$f":"VLOOKUP(C1147,Referencias!$B$18:$C$34,2,FALSE())","v":"M"},"C"]
["2812196","Castillo Vega, Tamy","Madrileña","D","Primera Picas","Competición",1,{"$f":"VLOOKUP(E1148,Referencias!$B$4:$C$15,2,FALSE())","v":"1P"},{"$f":"VLOOKUP(C1148,Referencias!$B$18:$C$34,2,FALSE())","v":"M"},"C"]
["2812203","Hernández Font, Rafaela","Madrileña","D","Segunda Corazón","Competición",2,{"$f":"VLOOKUP(E1149,Referencias!$B$4:$C$15,2,FALSE())","v":"2C"},{"$f":"VLOOKUP(C1149,Referencias!$B$18:$C$34,2,FALSE())","v":"M"},"C"]
["2812205","de los Trujillos , Marqués","Madrileña","C","Primera Diamante","Competición",1,{"$f":"VLOOKUP(E1150,Referencias!$B$4:$C$15,2,FALSE())","v":"1D"},{"$f":"VLOOKUP(C1150,Referencias!$B$18:$C$34,2,FALSE())","v":"M"},"C"]
["2812207","De la Rocha Eizmendi, Mª Piedad","Madrileña","D","Primera Picas","Competición",1,{"$f":"VLOOKUP(E1151,Referencias!$B$4:$C$15,2,FALSE())","v":"1P"},{"$f":"VLOOKUP(C1151,Referencias!$B$18:$C$34,2,FALSE())","v":"M"},"C"]
["2812214","de Castel Blanco , Conde","Gallega","C","Primera Picas","Competición",1,{"$f":"VLOOKUP(E1152,Referencias!$B$4:$C$15,2,FALSE())","v":"1P"},{"$f":"VLOOKUP(C1152,Referencias!$B$18:$C$34,2,FALSE())","v":"G"},{"$f":"IF(D1152=\"Dama\",\"D\",\"C\")","v":"C"}]
["2812216","Chicharro de Clairac Ortega, Jaime","Madrileña","C","Segunda Corazón","Competición",2,{"$f":"VLOOKUP(E1153,Referencias!$B$4:$C$15,2,FALSE())","v":"2C"},{"$f":"VLOOKUP(C1153,Referencias!$B$18:$C$34,2,FALSE())","v":"M"},"C"]
["2812217","Marcos Ballester, Mª José","Madrileña","D","Primera Picas","Competición",1,{"$f":"VLOOKUP(E1154,Referencias!$B$4:$C$15,2,FALSE())","v":"1P"},{"$f":"VLOOKUP(C1154,Referencias!$B$18:$C$34,2,FALSE())","v":"M"},"C"]
["2812218","Garrido Martín, José Manuel","Madrileña","C","Tercera Corazón","Competición",3,{"$f":"VLOOKUP(E1155,Referencias!$B$4:$C$15,2,FALSE())","v":"3C"},{"$f":"VLOOKUP(C1155,Referencias!$B$18:$C$34,2,FALSE())","v":"M"},"C"]
["2812219","González Felgueroso, Mª Sol","Madrileña","D","Tercera Corazón","Competición",3,{"$f":"VLOOKUP(E1156,Referencias!$B$4:$C$15,2,FALSE())","v":"3C"},{"$f":"VLOOKUP(C1156,Referencias!$B$18:$C$34,2,FALSE())","v":"M"},"C"]
["2812220","Sánchez Gómez, Marianela","Madrileña","D","Primera Picas","Competición",1,{"$f":"VLOOKUP(E1157,Referencias!$B$4:$C$15,2,FALSE())","v":"1P"},{"$f":"VLOOKUP(C1157,Referencias!$B$18:$C$34,2,FALSE())","v":"M"},"C"]
["2812221","Ramírez López-Terradas, Cristina","Madrileña","D","Primera Corazón","Competición",1,{"$f":"VLOOKUP(E1158,Referencias!$B$4:$C$15,2,FALSE())","v":"1C"},{"$f":"VLOOKUP(C1158,Referencias!$B$18:$C$34,2,FALSE())","v":"M"},"C"]
["2812223","Raichs Balet, Manuel Cayetano","Madrileña","C","Sin Categoría","Competición",4,{"$f":"VLOOKUP(E1159,Referencias!$B$4:$C$15,2,FALSE())","v":"SC"},{"$f":"VLOOKUP(C1159,Referencias!$B$18:$C$34,2,FALSE())","v":"M"},"C"]
["2812224","Fernández Menéndez, Margarita","Madrileña","D","Maestro Nacional","Competición",0,{"$f":"VLOOKUP(E1160,Referencias!$B$4:$C$15,2,FALSE())","v":"MN"},{"$f":"VLOOKUP(C1160,Referencias!$B$18:$C$34,2,FALSE())","v":"M"},"C"]
["2812226","Barceló Rico-Avelló, Gabriel","Madrileña","C","Sin Categoría","Competición",4,{"$f":"VLOOKUP(E1161,Referencias!$B$4:$C$15,2,FALSE())","v":"SC"},{"$f":"VLOOKUP(C1161,Referencias!$B$18:$C$34,2,FALSE())","v":"M"},"C"]
["2812228","de Unzá del Valle , Marquesa","Madrileña","D","Tercera Picas","Competición",3,{"$f":"VLOOKUP(E1162,Referencias!$B$4:$C$15,2,FALSE())","v":"3P"},{"$f":"VLOOKUP(C1162,Referencias!$B$18:$C$34,2,FALSE())","v":"M"},"C"]
["2812229","Ausocua Sanz, Ana","Madrileña","D","Tercera Picas","Competición",3,{"$f":"VLOOKUP(E1163,Referencias!$B$4:$C$15,2,FALSE())","v":"3P"},{"$f":"VLOOKUP(C1163,Referencias!$B$18:$C$34,2,FALSE())","v":"M"},"C"]
["2812236","Muguerza Balesta, Marcela","Madrileña","D","Tercera Picas","Competición",3,{"$f":"VLOOKUP(E1164,Referencias!$B$4:$C$15,2,FALSE())","v":"3P"},{"$f":"VLOOKUP(C1164,Referencias!$B$18:$C$34,2,FALSE())","v":"M"},"C"]
["2812238","López-Chicheri Sáinz, Dolores","Madrileña","D","Tercera Picas","Competición",3,{"$f":"VLOOKUP(E1165,Referencias!$B$4:$C$15,2,FALSE())","v":"3P"},{"$f":"VLOOKUP(C1165,Referencias!$B$18:$C$34,2,FALSE())","v":"M"},"C"]
["2812239","Goyoaga Travesedo, Ana","Madrileña","D","Tercera Picas","Competición",3,{"$f":"VLOOKUP(E1166,Referencias!$B$4:$C$15,2,FALSE())","v":"3P"},{"$f":"VLOOKUP(C1166,Referencias!$B$18:$C$34,2,FALSE())","v":"M"},"C"]
["2812246","González Domínguez, Pilar","Madrileña","D","Sin Categoría","Competición",4,{"$f":"VLOOKUP(E1167,Referencias!$B$4:$C$15,2,FALSE())","v":"SC"},{"$f":"VLOOKUP(C1167,Referencias!$B$18:$C$34,2,FALSE())","v":"M"},"C"]
["2812252","Gallego Salguero, Petra","Madrileña","D","Tercera Diamante","Competición",3,{"$f":"VLOOKUP(E1168,Referencias!$B$4:$C$15,2,FALSE())","v":"3D"},{"$f":"VLOOKUP(C1168,Referencias!$B$18:$C$34,2,FALSE())","v":"M"},"C"]
["2812257","López de Anca Ostáriz, Francisco Javier","Madrileña","C","Segunda Diamante","Competición",2,{"$f":"VLOOKUP(E1169,Referencias!$B$4:$C$15,2,FALSE())","v":"2D"},{"$f":"VLOOKUP(C1169,Referencias!$B$18:$C$34,2,FALSE())","v":"M"},"C"]
["2812258","Gálvez Ruíz, Ascensión","Madrileña","D","Primera Diamante","Competición",1,{"$f":"VLOOKUP(E1170,Referencias!$B$4:$C$15,2,FALSE())","v":"1D"},{"$f":"VLOOKUP(C1170,Referencias!$B$18:$C$34,2,FALSE())","v":"M"},"C"]
["2812261","Dietl Sagües, Marina","Madrileña","D","Tercera Corazón","Competición",3,{"$f":"VLOOKUP(E1171,Referencias!$B$4:$C$15,2,FALSE())","v":"3C"},{"$f":"VLOOKUP(C1171,Referencias!$B$18:$C$34,2,FALSE())","v":"M"},"C"]
["2812262","Ferrández , Blanca","Madrileña","D","Tercera Picas","Competición",3,{"$f":"VLOOKUP(E1172,Referencias!$B$4:$C$15,2,FALSE())","v":"3P"},{"$f":"VLOOKUP(C1172,Referencias!$B$18:$C$34,2,FALSE())","v":"M"},"C"]
["2812272","Lamo De Espinosa, Mª Luisa","Madrileña","D","Primera Diamante","Competición",1,{"$f":"VLOOKUP(E1173,Referencias!$B$4:$C$15,2,FALSE())","v":"1D"},{"$f":"VLOOKUP(C1173,Referencias!$B$18:$C$34,2,FALSE())","v":"M"},"C"]
["2812273","González Cruz, Mª Teresa","Madrileña","D","Segunda Diamante","Competición",2,{"$f":"VLOOKUP(E1174,Referencias!$B$4:$C$15,2,FALSE())","v":"2D"},{"$f":"VLOOKUP(C1174,Referencias!$B$18:$C$34,2,FALSE())","v":"M"},"C"]
["2812274","López López, Mª Carmen","Madrileña","D","Tercera Picas","Competición",3,{"$f":"VLOOKUP(E1175,Referencias!$B$4:$C$15,2,FALSE())","v":"3P"},{"$f":"VLOOKUP(C1175,Referencias!$B$18:$C$34,2,FALSE())","v":"M"},"C"]
["2812275","Fortet Rodríguez, Raquel","Madrileña","D","Primera Corazón","Competición",1,{"$f":"VLOOKUP(E1176,Referencias!$B$4:$C$15,2,FALSE())","v":"1C"},{"$f":"VLOOKUP(C1176,Referencias!$B$18:$C$34,2,FALSE())","v":"M"},"C"]
["2812277","Herrero García, francisco Javier","Madrileña","C","Segunda Corazón","Competición",2,{"$f":"VLOOKUP(E1177,Referencias!$B$4:$C$15,2,FALSE())","v":"2C"},{"$f":"VLOOKUP(C1177,Referencias!$B$18:$C$34,2,FALSE())","v":"M"},"C"]
["2812282","Sánchez Sicilia, Mª Carmen","Madrileña","D","Tercera Picas","Competición",3,{"$f":"VLOOKUP(E1178,Referencias!$B$4:$C$15,2,FALSE())","v":"3P"},{"$f":"VLOOKUP(C1178,Referencias!$B$18:$C$34,2,FALSE())","v":"M"},"C"]
["2812286","Navarro Suárez, Mª José","Madrileña","D","Sin Categoría","Competición",4,{"$f":"VLOOKUP(E1179,Referencias!$B$4:$C$15,2,FALSE())","v":"SC"},{"$f":"VLOOKUP(C1179,Referencias!$B$18:$C$34,2,FALSE())","v":"M"},"C"]
["2812288","Mergelina Dessy, Eduarda","Madrileña","D","Sin Categoría","Competición",4,{"$f":"VLOOKUP(E1180,Referencias!$B$4:$C$15,2,FALSE())","v":"SC"},{"$f":"VLOOKUP(C1180,Referencias!$B$18:$C$34,2,FALSE())","v":"M"},"C"]
["2812289","Martos Aguirre, Angustias","Madrileña","D","Sin Categoría","Competición",4,{"$f":"VLOOKUP(E1181,Referencias!$B$4:$C$15,2,FALSE())","v":"SC"},{"$f":"VLOOKUP(C1181,Referencias!$B$18:$C$34,2,FALSE())","v":"M"},"C"]
["2812291","Garayo De Orbe, Manuel","Madrileña","C","Sin Categoría","Competición",4,{"$f":"VLOOKUP(E1182,Referencias!$B$4:$C$15,2,FALSE())","v":"SC"},{"$f":"VLOOKUP(C1182,Referencias!$B$18:$C$34,2,FALSE())","v":"M"},"C"]
["2812292","Orbe Zalba, Pilar","Madrileña","D","Segunda Diamante","Competición",2,{"$f":"VLOOKUP(E1183,Referencias!$B$4:$C$15,2,FALSE())","v":"2D"},{"$f":"VLOOKUP(C1183,Referencias!$B$18:$C$34,2,FALSE())","v":"M"},"C"]
["2812294","Munaiz Aparicio, Mercedes","Madrileña","D","Primera Corazón","Competición",1,{"$f":"VLOOKUP(E1184,Referencias!$B$4:$C$15,2,FALSE())","v":"1C"},{"$f":"VLOOKUP(C1184,Referencias!$B$18:$C$34,2,FALSE())","v":"M"},"C"]
["2812295","Saldaña González, Carlos","Madrileña","C","Tercera Picas","Competición",3,{"$f":"VLOOKUP(E1185,Referencias!$B$4:$C$15,2,FALSE())","v":"3P"},{"$f":"VLOOKUP(C1185,Referencias!$B$18:$C$34,2,FALSE())","v":"M"},"C"]
["2812298","Morenes Solís-Beaumont, Mercedes","Madrileña","D","Primera Picas","Competición",1,{"$f":"VLOOKUP(E1186,Referencias!$B$4:$C$15,2,FALSE())","v":"1P"},{"$f":"VLOOKUP(C1186,Referencias!$B$18:$C$34,2,FALSE())","v":"M"},"C"]
["2812299","Martín Cano, Juan","Madrileña","C","Primera Picas","Competición",1,{"$f":"VLOOKUP(E1187,Referencias!$B$4:$C$15,2,FALSE())","v":"1P"},{"$f":"VLOOKUP(C1187,Referencias!$B$18:$C$34,2,FALSE())","v":"M"},"C"]
["2812300","Navarro Rodríguez, Patricia","Madrileña","D","Primera Picas","Competición",1,{"$f":"VLOOKUP(E1188,Referencias!$B$4:$C$15,2,FALSE())","v":"1P"},{"$f":"VLOOKUP(C1188,Referencias!$B$18:$C$34,2,FALSE())","v":"M"},"C"]
["2812303","Cotoner Martos, Marta","Madrileña","D","Primera Diamante","Competición",1,{"$f":"VLOOKUP(E1189,Referencias!$B$4:$C$15,2,FALSE())","v":"1D"},{"$f":"VLOOKUP(C1189,Referencias!$B$18:$C$34,2,FALSE())","v":"M"},"C"]
["2812309","Navia-Osorio , Javier","Madrileña","C","Sin Categoría","Competición",4,{"$f":"VLOOKUP(E1190,Referencias!$B$4:$C$15,2,FALSE())","v":"SC"},{"$f":"VLOOKUP(C1190,Referencias!$B$18:$C$34,2,FALSE())","v":"M"},"C"]
["2812314","Macaya Torres-Solanot, Carmen","Madrileña","D","Sin Categoría","Competición",4,{"$f":"VLOOKUP(E1191,Referencias!$B$4:$C$15,2,FALSE())","v":"SC"},{"$f":"VLOOKUP(C1191,Referencias!$B$18:$C$34,2,FALSE())","v":"M"},"C"]
["2812320","Cotoner Martos, María","Madrileña","D","Segunda Diamante","Competición",2,{"$f":"VLOOKUP(E1192,Referencias!$B$4:$C$15,2,FALSE())","v":"2D"},{"$f":"VLOOKUP(C1192,Referencias!$B$18:$C$34,2,FALSE())","v":"M"},"C"]
["2812321","Botín Gros, Mercedes","Madrileña","D","Tercera Picas","Competición",3,{"$f":"VLOOKUP(E1193,Referencias!$B$4:$C$15,2,FALSE())","v":"3P"},{"$f":"VLOOKUP(C1193,Referencias!$B$18:$C$34,2,FALSE())","v":"M"},"C"]
["2812325","Barrio Monerrubio, Mª Luisa","Madrileña","D","Sin Categoría","Competición",4,{"$f":"VLOOKUP(E1194,Referencias!$B$4:$C$15,2,FALSE())","v":"SC"},{"$f":"VLOOKUP(C1194,Referencias!$B$18:$C$34,2,FALSE())","v":"M"},"C"]
["2812326","Bayo , Mª Dolores","Madrileña","D","Segunda Corazón","Competición",2,{"$f":"VLOOKUP(E1195,Referencias!$B$4:$C$15,2,FALSE())","v":"2C"},{"$f":"VLOOKUP(C1195,Referencias!$B$18:$C$34,2,FALSE())","v":"M"},"C"]
["2812330","Lapetra Escoriaza, Teresa","Madrileña","D","Sin Categoría","Competición",4,{"$f":"VLOOKUP(E1196,Referencias!$B$4:$C$15,2,FALSE())","v":"SC"},{"$f":"VLOOKUP(C1196,Referencias!$B$18:$C$34,2,FALSE())","v":"M"},"C"]
["2812331","García de Viedma Hitos, José Luis","Madrileña","C","Sin Categoría","Competición",4,{"$f":"VLOOKUP(E1197,Referencias!$B$4:$C$15,2,FALSE())","v":"SC"},{"$f":"VLOOKUP(C1197,Referencias!$B$18:$C$34,2,FALSE())","v":"M"},"C"]
["2812332","Lleó García, Josefina","Madrileña","D","Segunda Diamante","Competición",2,{"$f":"VLOOKUP(E1198,Referencias!$B$4:$C$15,2,FALSE())","v":"2D"},{"$f":"VLOOKUP(C1198,Referencias!$B$18:$C$34,2,FALSE())","v":"M"},"C"]
["2812335","López Goicoechea, Lourdes","Madrileña","D","Segunda Picas","Competición",2,{"$f":"VLOOKUP(E1199,Referencias!$B$4:$C$15,2,FALSE())","v":"2P"},{"$f":"VLOOKUP(C1199,Referencias!$B$18:$C$34,2,FALSE())","v":"M"},"C"]
["2812339","Masaveu Álvarez, Santiago","Madrileña","C","Sin Categoría","Competición",4,{"$f":"VLOOKUP(E1200,Referencias!$B$4:$C$15,2,FALSE())","v":"SC"},{"$f":"VLOOKUP(C1200,Referencias!$B$18:$C$34,2,FALSE())","v":"M"},"C"]
["2812340","Rodríguez Cortes, Amelia","Madrileña","D","Tercera Picas","Competición",3,{"$f":"VLOOKUP(E1201,Referencias!$B$4:$C$15,2,FALSE())","v":"3P"},{"$f":"VLOOKUP(C1201,Referencias!$B$18:$C$34,2,FALSE())","v":"M"},"C"]
["2812342","Martell Díaz-Llanos, Mª Carmen","Madrileña","D","Tercera Corazón","Competición",3,{"$f":"VLOOKUP(E1202,Referencias!$B$4:$C$15,2,FALSE())","v":"3C"},{"$f":"VLOOKUP(C1202,Referencias!$B$18:$C$34,2,FALSE())","v":"M"},"C"]
["2812344","Garay Despujol, Pilar","Madrileña","D","Tercera Picas","Competición",3,{"$f":"VLOOKUP(E1203,Referencias!$B$4:$C$15,2,FALSE())","v":"3P"},{"$f":"VLOOKUP(C1203,Referencias!$B$18:$C$34,2,FALSE())","v":"M"},"C"]
["2812355","de Torre Milanos, Marquesa","Madrileña","D","Primera Diamante","Competición",1,{"$f":"VLOOKUP(E1204,Referencias!$B$4:$C$15,2,FALSE())","v":"1D"},{"$f":"VLOOKUP(C1204,Referencias!$B$18:$C$34,2,FALSE())","v":"M"},"C"]
["2812359","Hernández Mercado, Mª Luisa","Madrileña","D","Sin Categoría","Competición",4,{"$f":"VLOOKUP(E1205,Referencias!$B$4:$C$15,2,FALSE())","v":"SC"},{"$f":"VLOOKUP(C1205,Referencias!$B$18:$C$34,2,FALSE())","v":"M"},"C"]
["2812360","García Sánchez Grande, Rosario","Madrileña","D","Segunda Corazón","Competición",2,{"$f":"VLOOKUP(E1206,Referencias!$B$4:$C$15,2,FALSE())","v":"2C"},{"$f":"VLOOKUP(C1206,Referencias!$B$18:$C$34,2,FALSE())","v":"M"},"C"]
["2812363","De la Chica Fleischer, Isabel","Madrileña","D","Tercera Diamante","Competición",3,{"$f":"VLOOKUP(E1207,Referencias!$B$4:$C$15,2,FALSE())","v":"3D"},{"$f":"VLOOKUP(C1207,Referencias!$B$18:$C$34,2,FALSE())","v":"M"},"C"]
["2812364","Salazar-Simpson Bos, Luis Alberto","Madrileña","C","Sin Categoría","Competición",4,{"$f":"VLOOKUP(E1208,Referencias!$B$4:$C$15,2,FALSE())","v":"SC"},{"$f":"VLOOKUP(C1208,Referencias!$B$18:$C$34,2,FALSE())","v":"M"},"C"]
["2812367","Bueso-Inchausti Inchausti, Alejandro","Madrileña","C","Primera Picas","Competición",1,{"$f":"VLOOKUP(E1209,Referencias!$B$4:$C$15,2,FALSE())","v":"1P"},{"$f":"VLOOKUP(C1209,Referencias!$B$18:$C$34,2,FALSE())","v":"M"},"C"]
["2812370","Tamames , Saita","Madrileña","D","Segunda Diamante","Competición",2,{"$f":"VLOOKUP(E1210,Referencias!$B$4:$C$15,2,FALSE())","v":"2D"},{"$f":"VLOOKUP(C1210,Referencias!$B$18:$C$34,2,FALSE())","v":"M"},"C"]
["2812373","Salgado Villegas, Mª Dolores","Madrileña","D","Tercera Corazón","Competición",3,{"$f":"VLOOKUP(E1211,Referencias!$B$4:$C$15,2,FALSE())","v":"3C"},{"$f":"VLOOKUP(C1211,Referencias!$B$18:$C$34,2,FALSE())","v":"M"},"C"]
["2812374","Salgado Orozco, Mª Teresa","Madrileña","D","Sin Categoría","Competición",4,{"$f":"VLOOKUP(E1212,Referencias!$B$4:$C$15,2,FALSE())","v":"SC"},{"$f":"VLOOKUP(C1212,Referencias!$B$18:$C$34,2,FALSE())","v":"M"},"C"]
["2812378","Arranz , Jacqueline","Madrileña","D","Tercera Picas","Competición",3,{"$f":"VLOOKUP(E1213,Referencias!$B$4:$C$15,2,FALSE())","v":"3P"},{"$f":"VLOOKUP(C1213,Referencias!$B$18:$C$34,2,FALSE())","v":"M"},"C"]
["2812379","De Lorenzo , Paula","Madrileña","D","Maestro Nacional","Competición",0,{"$f":"VLOOKUP(E1214,Referencias!$B$4:$C$15,2,FALSE())","v":"MN"},{"$f":"VLOOKUP(C1214,Referencias!$B$18:$C$34,2,FALSE())","v":"M"},"C"]
["2812383","Gento Peña, Marta","Madrileña","D","Primera Diamante","Competición",1,{"$f":"VLOOKUP(E1215,Referencias!$B$4:$C$15,2,FALSE())","v":"1D"},{"$f":"VLOOKUP(C1215,Referencias!$B$18:$C$34,2,FALSE())","v":"M"},"C"]
["2812384","Beneyto Arias, José Jaime","Madrileña","C","Primera Picas","Competición",1,{"$f":"VLOOKUP(E1216,Referencias!$B$4:$C$15,2,FALSE())","v":"1P"},{"$f":"VLOOKUP(C1216,Referencias!$B$18:$C$34,2,FALSE())","v":"M"},{"$f":"IF(D1216=\"Dama\",\"D\",\"C\")","v":"C"}]
["2812397","Romero González, Mª Luisa","Madrileña","D","Segunda Picas","Competición",2,{"$f":"VLOOKUP(E1217,Referencias!$B$4:$C$15,2,FALSE())","v":"2P"},{"$f":"VLOOKUP(C1217,Referencias!$B$18:$C$34,2,FALSE())","v":"M"},"C"]
["2812398","Hortal López, Victoria","Madrileña","D","Tercera Diamante","Competición",3,{"$f":"VLOOKUP(E1218,Referencias!$B$4:$C$15,2,FALSE())","v":"3D"},{"$f":"VLOOKUP(C1218,Referencias!$B$18:$C$34,2,FALSE())","v":"M"},"C"]
["2812399","Mahave Albar, Ángel","Madrileña","C","Tercera Diamante","Competición",3,{"$f":"VLOOKUP(E1219,Referencias!$B$4:$C$15,2,FALSE())","v":"3D"},{"$f":"VLOOKUP(C1219,Referencias!$B$18:$C$34,2,FALSE())","v":"M"},"C"]
["2812403","Balderrábano Suárez-Inclán, Carmen","Madrileña","D","Tercera Picas","Competición",3,{"$f":"VLOOKUP(E1220,Referencias!$B$4:$C$15,2,FALSE())","v":"3P"},{"$f":"VLOOKUP(C1220,Referencias!$B$18:$C$34,2,FALSE())","v":"M"},"C"]
["2812407","Falk, Larserik","Madrileña","C","Segunda Corazón","Competición",2,{"$f":"VLOOKUP(E1221,Referencias!$B$4:$C$15,2,FALSE())","v":"2C"},{"$f":"VLOOKUP(C1221,Referencias!$B$18:$C$34,2,FALSE())","v":"M"},"C"]
["2812408","Cajal López, Mercedes","Madrileña","D","Segunda Diamante","Competición",2,{"$f":"VLOOKUP(E1222,Referencias!$B$4:$C$15,2,FALSE())","v":"2D"},{"$f":"VLOOKUP(C1222,Referencias!$B$18:$C$34,2,FALSE())","v":"M"},"C"]
["2812409","Regalado Jofre, Cristina","Madrileña","D","Tercera Picas","Competición",3,{"$f":"VLOOKUP(E1223,Referencias!$B$4:$C$15,2,FALSE())","v":"3P"},{"$f":"VLOOKUP(C1223,Referencias!$B$18:$C$34,2,FALSE())","v":"M"},"C"]
["2812410","Albaladejo Carrión, Josefina","Madrileña","D","Tercera Picas","Competición",3,{"$f":"VLOOKUP(E1224,Referencias!$B$4:$C$15,2,FALSE())","v":"3P"},{"$f":"VLOOKUP(C1224,Referencias!$B$18:$C$34,2,FALSE())","v":"M"},"C"]
["2812411","Echeverría, JoséIgnacio","Madrileña","C","Tercera Picas","Competición",3,{"$f":"VLOOKUP(E1225,Referencias!$B$4:$C$15,2,FALSE())","v":"3P"},{"$f":"VLOOKUP(C1225,Referencias!$B$18:$C$34,2,FALSE())","v":"M"},"C"]
["2812421","De Silva Villalón, Luis","Madrileña","C","Segunda Diamante","Competición",2,{"$f":"VLOOKUP(E1226,Referencias!$B$4:$C$15,2,FALSE())","v":"2D"},{"$f":"VLOOKUP(C1226,Referencias!$B$18:$C$34,2,FALSE())","v":"M"},"C"]
["2812422","Cubillo Jordán, Jacobo","Madrileña","C","Sin Categoría","Competición",4,{"$f":"VLOOKUP(E1227,Referencias!$B$4:$C$15,2,FALSE())","v":"SC"},{"$f":"VLOOKUP(C1227,Referencias!$B$18:$C$34,2,FALSE())","v":"M"},"C"]
["2812423","Zulueta Velázquez-Duro, Itzíar","Madrileña","D","Segunda Picas","Competición",2,{"$f":"VLOOKUP(E1228,Referencias!$B$4:$C$15,2,FALSE())","v":"2P"},{"$f":"VLOOKUP(C1228,Referencias!$B$18:$C$34,2,FALSE())","v":"M"},"C"]
["2812429","Blanco Díez, Juan","Madrileña","C","Primera Corazón","Competición",1,{"$f":"VLOOKUP(E1229,Referencias!$B$4:$C$15,2,FALSE())","v":"1C"},{"$f":"VLOOKUP(C1229,Referencias!$B$18:$C$34,2,FALSE())","v":"M"},"C"]
["2812431","Gutiérrez Arroba, Elena","Madrileña","D","Sin Categoría","Competición",4,{"$f":"VLOOKUP(E1230,Referencias!$B$4:$C$15,2,FALSE())","v":"SC"},{"$f":"VLOOKUP(C1230,Referencias!$B$18:$C$34,2,FALSE())","v":"M"},"C"]
["2812438","Lesikín Jurado, Bárbara","Madrileña","D","Tercera Picas","Competición",3,{"$f":"VLOOKUP(E1231,Referencias!$B$4:$C$15,2,FALSE())","v":"3P"},{"$f":"VLOOKUP(C1231,Referencias!$B$18:$C$34,2,FALSE())","v":"M"},"C"]
["2812448","Cantero Buitrón, José María","Madrileña","C","Segunda Diamante","Competición",2,{"$f":"VLOOKUP(E1232,Referencias!$B$4:$C$15,2,FALSE())","v":"2D"},{"$f":"VLOOKUP(C1232,Referencias!$B$18:$C$34,2,FALSE())","v":"M"},"C"]
["2812449","Montes-Jovellar Cuesta, Mª Alcira","Madrileña","D","Tercera Picas","Competición",3,{"$f":"VLOOKUP(E1233,Referencias!$B$4:$C$15,2,FALSE())","v":"3P"},{"$f":"VLOOKUP(C1233,Referencias!$B$18:$C$34,2,FALSE())","v":"M"},"C"]
["2812454","Lamana Torres, Manuel María","Madrileña","C","Sin Categoría","Competición",4,{"$f":"VLOOKUP(E1234,Referencias!$B$4:$C$15,2,FALSE())","v":"SC"},{"$f":"VLOOKUP(C1234,Referencias!$B$18:$C$34,2,FALSE())","v":"M"},"C"]
["2812466","Gutiérrez-Mellado Blasco, Ana","Madrileña","D","Tercera Corazón","Competición",3,{"$f":"VLOOKUP(E1235,Referencias!$B$4:$C$15,2,FALSE())","v":"3C"},{"$f":"VLOOKUP(C1235,Referencias!$B$18:$C$34,2,FALSE())","v":"M"},"C"]
["2812467","Galán Sánchez, Aurora","Madrileña","D","Segunda Diamante","Competición",2,{"$f":"VLOOKUP(E1236,Referencias!$B$4:$C$15,2,FALSE())","v":"2D"},{"$f":"VLOOKUP(C1236,Referencias!$B$18:$C$34,2,FALSE())","v":"M"},"C"]
["2812474","Esquivias Férriz, Amparo","Madrileña","D","Tercera Picas","Competición",3,{"$f":"VLOOKUP(E1237,Referencias!$B$4:$C$15,2,FALSE())","v":"3P"},{"$f":"VLOOKUP(C1237,Referencias!$B$18:$C$34,2,FALSE())","v":"M"},"C"]
["2812475","Pardo de Santayana Bustillo, Alfredo","Madrileña","C","Tercera Picas","Competición",3,{"$f":"VLOOKUP(E1238,Referencias!$B$4:$C$15,2,FALSE())","v":"3P"},{"$f":"VLOOKUP(C1238,Referencias!$B$18:$C$34,2,FALSE())","v":"M"},"C"]
["2812476","Kindelán Segura, Isabel","Madrileña","D","Segunda Diamante","Competición",2,{"$f":"VLOOKUP(E1239,Referencias!$B$4:$C$15,2,FALSE())","v":"2D"},{"$f":"VLOOKUP(C1239,Referencias!$B$18:$C$34,2,FALSE())","v":"M"},"C"]
["2812477","Fernández-Balbuena Azqueta, Rosa Mª","Madrileña","D","Tercera Picas","Competición",3,{"$f":"VLOOKUP(E1240,Referencias!$B$4:$C$15,2,FALSE())","v":"3P"},{"$f":"VLOOKUP(C1240,Referencias!$B$18:$C$34,2,FALSE())","v":"M"},"C"]
["2812478","Eizaguirre Orbe, Luisa María","Madrileña","D","Tercera Diamante","Competición",3,{"$f":"VLOOKUP(E1241,Referencias!$B$4:$C$15,2,FALSE())","v":"3D"},{"$f":"VLOOKUP(C1241,Referencias!$B$18:$C$34,2,FALSE())","v":"M"},"C"]
["2812479","Uriarte Monereo, Cruz","Madrileña","D","Tercera Picas","Competición",3,{"$f":"VLOOKUP(E1242,Referencias!$B$4:$C$15,2,FALSE())","v":"3P"},{"$f":"VLOOKUP(C1242,Referencias!$B$18:$C$34,2,FALSE())","v":"M"},"C"]
["2812480","Colsa Suárez de Tangil, Ignacio","Madrileña","C","Tercera Picas","Competición",3,{"$f":"VLOOKUP(E1243,Referencias!$B$4:$C$15,2,FALSE())","v":"3P"},{"$f":"VLOOKUP(C1243,Referencias!$B$18:$C$34,2,FALSE())","v":"M"},"C"]
["2812481","Regalado Jofre, Marichu","Madrileña","D","Segunda Picas","Competición",2,{"$f":"VLOOKUP(E1244,Referencias!$B$4:$C$15,2,FALSE())","v":"2P"},{"$f":"VLOOKUP(C1244,Referencias!$B$18:$C$34,2,FALSE())","v":"M"},"C"]
["2812482","Mesa Jiménez, Silvia","Madrileña","D","Tercera Diamante","Competición",3,{"$f":"VLOOKUP(E1245,Referencias!$B$4:$C$15,2,FALSE())","v":"3D"},{"$f":"VLOOKUP(C1245,Referencias!$B$18:$C$34,2,FALSE())","v":"M"},"C"]
["2812484","de Valcabra , Marquesa","Madrileña","D","Tercera Corazón","Honorífica",3,{"$f":"VLOOKUP(E1246,Referencias!$B$4:$C$15,2,FALSE())","v":"3C"},{"$f":"VLOOKUP(C1246,Referencias!$B$18:$C$34,2,FALSE())","v":"M"},"C"]
["2812485","González Condie, Aurora","Madrileña","D","Sin Categoría","Competición",4,{"$f":"VLOOKUP(E1247,Referencias!$B$4:$C$15,2,FALSE())","v":"SC"},{"$f":"VLOOKUP(C1247,Referencias!$B$18:$C$34,2,FALSE())","v":"M"},"C"]
["2812494","Ipiña Eguiluz, Carmen","Madrileña","D","Segunda Corazón","Competición",2,{"$f":"VLOOKUP(E1248,Referencias!$B$4:$C$15,2,FALSE())","v":"2C"},{"$f":"VLOOKUP(C1248,Referencias!$B$18:$C$34,2,FALSE())","v":"M"},"C"]
["2812495","Valdés , Natalia","Madrileña","D","Sin Categoría","Honorífica",4,{"$f":"VLOOKUP(E1249,Referencias!$B$4:$C$15,2,FALSE())","v":"SC"},{"$f":"VLOOKUP(C1249,Referencias!$B$18:$C$34,2,FALSE())","v":"M"},"C"]
["2812497","Romaguera Cuevas, Nuria","Madrileña","D","Primera Picas","Competición",1,{"$f":"VLOOKUP(E1250,Referencias!$B$4:$C$15,2,FALSE())","v":"1P"},{"$f":"VLOOKUP(C1250,Referencias!$B$18:$C$34,2,FALSE())","v":"M"},"C"]
["2812501","Ludeman , Gertrud","Madrileña","D","Sin Categoría","Competición",4,{"$f":"VLOOKUP(E1251,Referencias!$B$4:$C$15,2,FALSE())","v":"SC"},{"$f":"VLOOKUP(C1251,Referencias!$B$18:$C$34,2,FALSE())","v":"M"},"C"]
["2812508","Pardo Manuel de Villena Berthelemy, Ignacia","Madrileña","D","Tercera Picas","Competición",3,{"$f":"VLOOKUP(E1252,Referencias!$B$4:$C$15,2,FALSE())","v":"3P"},{"$f":"VLOOKUP(C1252,Referencias!$B$18:$C$34,2,FALSE())","v":"M"},"C"]
["2812510","Sabaté Iglesias, Jordi","Madrileña","C","Maestro Mundial","Competición",0,{"$f":"VLOOKUP(E1253,Referencias!$B$4:$C$15,2,FALSE())","v":"MM"},{"$f":"VLOOKUP(C1253,Referencias!$B$18:$C$34,2,FALSE())","v":"M"},"C"]
["2812516","Moreno Mendoza, Macarena","Madrileña","D","Sin Categoría","Competición",4,{"$f":"VLOOKUP(E1254,Referencias!$B$4:$C$15,2,FALSE())","v":"SC"},{"$f":"VLOOKUP(C1254,Referencias!$B$18:$C$34,2,FALSE())","v":"M"},"C"]
["2812518","Cabrera Lorente, Marta","Madrileña","D","Tercera Picas","Competición",3,{"$f":"VLOOKUP(E1255,Referencias!$B$4:$C$15,2,FALSE())","v":"3P"},{"$f":"VLOOKUP(C1255,Referencias!$B$18:$C$34,2,FALSE())","v":"M"},"C"]
["2812524","García Del Valle, Amparo","Madrileña","D","Sin Categoría","Competición",4,{"$f":"VLOOKUP(E1256,Referencias!$B$4:$C$15,2,FALSE())","v":"SC"},{"$f":"VLOOKUP(C1256,Referencias!$B$18:$C$34,2,FALSE())","v":"M"},"C"]
["2812526","Martínez Úbeda, Ignacio","Madrileña","C","Segunda Picas","Competición",2,{"$f":"VLOOKUP(E1257,Referencias!$B$4:$C$15,2,FALSE())","v":"2P"},{"$f":"VLOOKUP(C1257,Referencias!$B$18:$C$34,2,FALSE())","v":"M"},"C"]
["2812528","Elorza González, Elena","Madrileña","D","Tercera Diamante","Competición",3,{"$f":"VLOOKUP(E1258,Referencias!$B$4:$C$15,2,FALSE())","v":"3D"},{"$f":"VLOOKUP(C1258,Referencias!$B$18:$C$34,2,FALSE())","v":"M"},"C"]
["2812529","Elorza González, Matilde","Madrileña","D","Tercera Diamante","Competición",3,{"$f":"VLOOKUP(E1259,Referencias!$B$4:$C$15,2,FALSE())","v":"3D"},{"$f":"VLOOKUP(C1259,Referencias!$B$18:$C$34,2,FALSE())","v":"M"},"C"]
["2812530","Laborde Muñoz, Piedad","Madrileña","D","Sin Categoría","Competición",4,{"$f":"VLOOKUP(E1260,Referencias!$B$4:$C$15,2,FALSE())","v":"SC"},{"$f":"VLOOKUP(C1260,Referencias!$B$18:$C$34,2,FALSE())","v":"M"},"C"]
["2812533","De L'Epine Jacquin de Margerie, Evelyne","Madrileña","D","Segunda Picas","Competición",2,{"$f":"VLOOKUP(E1261,Referencias!$B$4:$C$15,2,FALSE())","v":"2P"},{"$f":"VLOOKUP(C1261,Referencias!$B$18:$C$34,2,FALSE())","v":"M"},"C"]
["2812534","Mendizábal González, Angela","Madrileña","D","Tercera Corazón","Competición",3,{"$f":"VLOOKUP(E1262,Referencias!$B$4:$C$15,2,FALSE())","v":"3C"},{"$f":"VLOOKUP(C1262,Referencias!$B$18:$C$34,2,FALSE())","v":"M"},"C"]
["2812535","Silvela Martínez-Cubells, Elena","Madrileña","D","Sin Categoría","Competición",4,{"$f":"VLOOKUP(E1263,Referencias!$B$4:$C$15,2,FALSE())","v":"SC"},{"$f":"VLOOKUP(C1263,Referencias!$B$18:$C$34,2,FALSE())","v":"M"},"C"]
["2812536","Soler López, Carlo José","Madrileña","C","Sin Categoría","Competición",4,{"$f":"VLOOKUP(E1264,Referencias!$B$4:$C$15,2,FALSE())","v":"SC"},{"$f":"VLOOKUP(C1264,Referencias!$B$18:$C$34,2,FALSE())","v":"M"},"C"]
["2812540","Gómez Montejo, Ignacio","Madrileña","C","Segunda Picas","Competición",2,{"$f":"VLOOKUP(E1265,Referencias!$B$4:$C$15,2,FALSE())","v":"2P"},{"$f":"VLOOKUP(C1265,Referencias!$B$18:$C$34,2,FALSE())","v":"M"},"C"]
["2812549","Alonso Vega de Seoane, María Luisa","Madrileña","D","Tercera Diamante","Competición",3,{"$f":"VLOOKUP(E1266,Referencias!$B$4:$C$15,2,FALSE())","v":"3D"},{"$f":"VLOOKUP(C1266,Referencias!$B$18:$C$34,2,FALSE())","v":"M"},"C"]
["2812550","Ruíz-Jarabo , Ana","Madrileña","D","Sin Categoría","Competición",4,{"$f":"VLOOKUP(E1267,Referencias!$B$4:$C$15,2,FALSE())","v":"SC"},{"$f":"VLOOKUP(C1267,Referencias!$B$18:$C$34,2,FALSE())","v":"M"},"C"]
["2812553","Faget Montero, Margarita","Madrileña","D","Tercera Diamante","Competición",3,{"$f":"VLOOKUP(E1268,Referencias!$B$4:$C$15,2,FALSE())","v":"3D"},{"$f":"VLOOKUP(C1268,Referencias!$B$18:$C$34,2,FALSE())","v":"M"},"C"]
["2812555","Guimard Tallour, Jean-Claude","Madrileña","C","Tercera Corazón","Competición",3,{"$f":"VLOOKUP(E1269,Referencias!$B$4:$C$15,2,FALSE())","v":"3C"},{"$f":"VLOOKUP(C1269,Referencias!$B$18:$C$34,2,FALSE())","v":"M"},"C"]
["2812559","Balaca Roldán, Mª Dolores","Madrileña","D","Tercera Diamante","Competición",3,{"$f":"VLOOKUP(E1270,Referencias!$B$4:$C$15,2,FALSE())","v":"3D"},{"$f":"VLOOKUP(C1270,Referencias!$B$18:$C$34,2,FALSE())","v":"M"},"C"]
["2812566","Urrutia Novoa, Federico","Madrileña","C","Segunda Corazón","Honorífica",2,{"$f":"VLOOKUP(E1271,Referencias!$B$4:$C$15,2,FALSE())","v":"2C"},{"$f":"VLOOKUP(C1271,Referencias!$B$18:$C$34,2,FALSE())","v":"M"},"C"]
["2812567","Bermúdez de Castro Rosillo, María Luisa","Madrileña","D","Primera Picas","Competición",1,{"$f":"VLOOKUP(E1272,Referencias!$B$4:$C$15,2,FALSE())","v":"1P"},{"$f":"VLOOKUP(C1272,Referencias!$B$18:$C$34,2,FALSE())","v":"M"},"C"]
["2812569","Mdez. de Luarca Navia-Osorio, Lucía","Madrileña","D","Segunda Picas","Competición",2,{"$f":"VLOOKUP(E1273,Referencias!$B$4:$C$15,2,FALSE())","v":"2P"},{"$f":"VLOOKUP(C1273,Referencias!$B$18:$C$34,2,FALSE())","v":"M"},"C"]
["2812570","Díaz Caffarena, Mª Cristina","Madrileña","D","Segunda Diamante","Competición",2,{"$f":"VLOOKUP(E1274,Referencias!$B$4:$C$15,2,FALSE())","v":"2D"},{"$f":"VLOOKUP(C1274,Referencias!$B$18:$C$34,2,FALSE())","v":"M"},"C"]
["2812571","Moral Del Carro, Elena","Madrileña","D","Segunda Picas","Competición",2,{"$f":"VLOOKUP(E1275,Referencias!$B$4:$C$15,2,FALSE())","v":"2P"},{"$f":"VLOOKUP(C1275,Referencias!$B$18:$C$34,2,FALSE())","v":"M"},"C"]
["2812580","Quéhec Barthelemy, Jeannine","Madrileña","D","Tercera Corazón","Honorífica",3,{"$f":"VLOOKUP(E1276,Referencias!$B$4:$C$15,2,FALSE())","v":"3C"},{"$f":"VLOOKUP(C1276,Referencias!$B$18:$C$34,2,FALSE())","v":"M"},"C"]
["2812581","Burillo Leal, Manuel","Madrileña","C","Sin Categoría","Competición",4,{"$f":"VLOOKUP(E1277,Referencias!$B$4:$C$15,2,FALSE())","v":"SC"},{"$f":"VLOOKUP(C1277,Referencias!$B$18:$C$34,2,FALSE())","v":"M"},"C"]
["2812583","Benito , Paloma","Madrileña","D","Sin Categoría","Competición",4,{"$f":"VLOOKUP(E1278,Referencias!$B$4:$C$15,2,FALSE())","v":"SC"},{"$f":"VLOOKUP(C1278,Referencias!$B$18:$C$34,2,FALSE())","v":"M"},"C"]
["2812584","Vassallo Moreno, Mercedes","Madrileña","D","Tercera Corazón","Competición",3,{"$f":"VLOOKUP(E1279,Referencias!$B$4:$C$15,2,FALSE())","v":"3C"},{"$f":"VLOOKUP(C1279,Referencias!$B$18:$C$34,2,FALSE())","v":"M"},"C"]
["2812585","Martínez Rodríguez, Inés","Madrileña","D","Tercera Picas","Competición",3,{"$f":"VLOOKUP(E1280,Referencias!$B$4:$C$15,2,FALSE())","v":"3P"},{"$f":"VLOOKUP(C1280,Referencias!$B$18:$C$34,2,FALSE())","v":"M"},{"$f":"IF(D1280=\"Dama\",\"D\",\"C\")","v":"C"}]
["2812586","Kindelán Segura, Dolores","Madrileña","D","Tercera Picas","Competición",3,{"$f":"VLOOKUP(E1281,Referencias!$B$4:$C$15,2,FALSE())","v":"3P"},{"$f":"VLOOKUP(C1281,Referencias!$B$18:$C$34,2,FALSE())","v":"M"},"C"]
["2812588","Fernández Fole, María","Madrileña","D","Tercera Corazón","Honorífica",3,{"$f":"VLOOKUP(E1282,Referencias!$B$4:$C$15,2,FALSE())","v":"3C"},{"$f":"VLOOKUP(C1282,Referencias!$B$18:$C$34,2,FALSE())","v":"M"},"C"]
["2812591","Barbachano San Millán, Belén","Madrileña","D","Tercera Corazón","Competición",3,{"$f":"VLOOKUP(E1283,Referencias!$B$4:$C$15,2,FALSE())","v":"3C"},{"$f":"VLOOKUP(C1283,Referencias!$B$18:$C$34,2,FALSE())","v":"M"},"C"]
["2812594","Juliá Díez de Rivera, Belén","Madrileña","D","Tercera Diamante","Competición",3,{"$f":"VLOOKUP(E1284,Referencias!$B$4:$C$15,2,FALSE())","v":"3D"},{"$f":"VLOOKUP(C1284,Referencias!$B$18:$C$34,2,FALSE())","v":"M"},"C"]
["2812595","Goytre Crespo, Clementina","Madrileña","D","Primera Diamante","Competición",1,{"$f":"VLOOKUP(E1285,Referencias!$B$4:$C$15,2,FALSE())","v":"1D"},{"$f":"VLOOKUP(C1285,Referencias!$B$18:$C$34,2,FALSE())","v":"M"},"C"]
["2812596","Menéndez Iñiguez, Mercedes","Madrileña","D","Tercera Corazón","Competición",3,{"$f":"VLOOKUP(E1286,Referencias!$B$4:$C$15,2,FALSE())","v":"3C"},{"$f":"VLOOKUP(C1286,Referencias!$B$18:$C$34,2,FALSE())","v":"M"},"C"]
["2812603","Treviño Rosales, Emilia","Madrileña","D","Segunda Corazón","Competición",2,{"$f":"VLOOKUP(E1287,Referencias!$B$4:$C$15,2,FALSE())","v":"2C"},{"$f":"VLOOKUP(C1287,Referencias!$B$18:$C$34,2,FALSE())","v":"M"},"C"]
["2812604","Moreno de la Santa Barajas, Soledad","Madrileña","D","Tercera Corazón","Competición",3,{"$f":"VLOOKUP(E1288,Referencias!$B$4:$C$15,2,FALSE())","v":"3C"},{"$f":"VLOOKUP(C1288,Referencias!$B$18:$C$34,2,FALSE())","v":"M"},"C"]
["2812606","Martínez Fernández, Marta","Madrileña","D","Segunda Picas","Competición",2,{"$f":"VLOOKUP(E1289,Referencias!$B$4:$C$15,2,FALSE())","v":"2P"},{"$f":"VLOOKUP(C1289,Referencias!$B$18:$C$34,2,FALSE())","v":"M"},"C"]
["2812608","González Fernández, Dolores","Madrileña","D","Tercera Picas","Competición",3,{"$f":"VLOOKUP(E1290,Referencias!$B$4:$C$15,2,FALSE())","v":"3P"},{"$f":"VLOOKUP(C1290,Referencias!$B$18:$C$34,2,FALSE())","v":"M"},"C"]
["2812610","Barros Barros, Mª José","Madrileña","D","Tercera Picas","Competición",3,{"$f":"VLOOKUP(E1291,Referencias!$B$4:$C$15,2,FALSE())","v":"3P"},{"$f":"VLOOKUP(C1291,Referencias!$B$18:$C$34,2,FALSE())","v":"M"},"C"]
["2812611","Beltrao , Solange","Madrileña","D","Tercera Corazón","Competición",3,{"$f":"VLOOKUP(E1292,Referencias!$B$4:$C$15,2,FALSE())","v":"3C"},{"$f":"VLOOKUP(C1292,Referencias!$B$18:$C$34,2,FALSE())","v":"M"},"C"]
["2812612","López-Manterola González de Mendoza, Almudena","Madrileña","D","Tercera Picas","Competición",3,{"$f":"VLOOKUP(E1293,Referencias!$B$4:$C$15,2,FALSE())","v":"3P"},{"$f":"VLOOKUP(C1293,Referencias!$B$18:$C$34,2,FALSE())","v":"M"},"C"]
["2812614","Cesianu Gheorghiu, Anca Elena","Madrileña","D","Tercera Picas","Competición",3,{"$f":"VLOOKUP(E1294,Referencias!$B$4:$C$15,2,FALSE())","v":"3P"},{"$f":"VLOOKUP(C1294,Referencias!$B$18:$C$34,2,FALSE())","v":"M"},"C"]
["2812618","Baselga De la Vega, Ana","Madrileña","D","Tercera Picas","Competición",3,{"$f":"VLOOKUP(E1295,Referencias!$B$4:$C$15,2,FALSE())","v":"3P"},{"$f":"VLOOKUP(C1295,Referencias!$B$18:$C$34,2,FALSE())","v":"M"},"C"]
["2812620","Benavides Helbig, Mª Dolores","Madrileña","D","Tercera Diamante","Competición",3,{"$f":"VLOOKUP(E1296,Referencias!$B$4:$C$15,2,FALSE())","v":"3D"},{"$f":"VLOOKUP(C1296,Referencias!$B$18:$C$34,2,FALSE())","v":"M"},"C"]
["2812625","Díaz de Bustamante Ulloa, Pilar","Madrileña","D","Tercera Picas","Competición",3,{"$f":"VLOOKUP(E1297,Referencias!$B$4:$C$15,2,FALSE())","v":"3P"},{"$f":"VLOOKUP(C1297,Referencias!$B$18:$C$34,2,FALSE())","v":"M"},"C"]
["2812628","Octavio de Toledo Eugui, Ysabel","Madrileña","D","Tercera Diamante","Competición",3,{"$f":"VLOOKUP(E1298,Referencias!$B$4:$C$15,2,FALSE())","v":"3D"},{"$f":"VLOOKUP(C1298,Referencias!$B$18:$C$34,2,FALSE())","v":"M"},"C"]
["2812630","Leiceaga , Belén","Madrileña","D","Tercera Corazón","Competición",3,{"$f":"VLOOKUP(E1299,Referencias!$B$4:$C$15,2,FALSE())","v":"3C"},{"$f":"VLOOKUP(C1299,Referencias!$B$18:$C$34,2,FALSE())","v":"M"},"C"]
["2812635","Salcedo Porras, Marisol","Madrileña","D","Tercera Diamante","Competición",3,{"$f":"VLOOKUP(E1300,Referencias!$B$4:$C$15,2,FALSE())","v":"3D"},{"$f":"VLOOKUP(C1300,Referencias!$B$18:$C$34,2,FALSE())","v":"M"},"C"]
["2812639","Gómez-Acebo Muriedas, Rosario","Madrileña","D","Tercera Corazón","Competición",3,{"$f":"VLOOKUP(E1301,Referencias!$B$4:$C$15,2,FALSE())","v":"3C"},{"$f":"VLOOKUP(C1301,Referencias!$B$18:$C$34,2,FALSE())","v":"M"},"C"]
["2812642","Samper Vidal, Paloma","Madrileña","D","Sin Categoría","Competición",4,{"$f":"VLOOKUP(E1302,Referencias!$B$4:$C$15,2,FALSE())","v":"SC"},{"$f":"VLOOKUP(C1302,Referencias!$B$18:$C$34,2,FALSE())","v":"M"},"C"]
["2812645","López Tartiere, Carmen","Madrileña","D","Segunda Picas","Competición",2,{"$f":"VLOOKUP(E1303,Referencias!$B$4:$C$15,2,FALSE())","v":"2P"},{"$f":"VLOOKUP(C1303,Referencias!$B$18:$C$34,2,FALSE())","v":"M"},"C"]
["2812646","Labayén La Torre, Laura","Madrileña","D","Sin Categoría","Competición",4,{"$f":"VLOOKUP(E1304,Referencias!$B$4:$C$15,2,FALSE())","v":"SC"},{"$f":"VLOOKUP(C1304,Referencias!$B$18:$C$34,2,FALSE())","v":"M"},"C"]
["2812647","Poch Broto, Elena","Madrileña","D","Tercera Picas","Competición",3,{"$f":"VLOOKUP(E1305,Referencias!$B$4:$C$15,2,FALSE())","v":"3P"},{"$f":"VLOOKUP(C1305,Referencias!$B$18:$C$34,2,FALSE())","v":"M"},"C"]
["2812651","Martens Sanders, Anne","Madrileña","D","Primera Diamante","Competición",1,{"$f":"VLOOKUP(E1306,Referencias!$B$4:$C$15,2,FALSE())","v":"1D"},{"$f":"VLOOKUP(C1306,Referencias!$B$18:$C$34,2,FALSE())","v":"M"},"C"]
["2812653","Mandiola , Marta","Madrileña","D","Sin Categoría","Competición",4,{"$f":"VLOOKUP(E1307,Referencias!$B$4:$C$15,2,FALSE())","v":"SC"},{"$f":"VLOOKUP(C1307,Referencias!$B$18:$C$34,2,FALSE())","v":"M"},"C"]
["2812655","Mazzuchelli Urquijo, Teresa","Madrileña","D","Sin Categoría","Competición",4,{"$f":"VLOOKUP(E1308,Referencias!$B$4:$C$15,2,FALSE())","v":"SC"},{"$f":"VLOOKUP(C1308,Referencias!$B$18:$C$34,2,FALSE())","v":"M"},"C"]
["2812656","Larrucea Martín, Mª Victoria","Madrileña","D","Tercera Diamante","Competición",3,{"$f":"VLOOKUP(E1309,Referencias!$B$4:$C$15,2,FALSE())","v":"3D"},{"$f":"VLOOKUP(C1309,Referencias!$B$18:$C$34,2,FALSE())","v":"M"},"C"]
["2812657","Sánchez Errazuriz, Josefina","Madrileña","D","Sin Categoría","Competición",4,{"$f":"VLOOKUP(E1310,Referencias!$B$4:$C$15,2,FALSE())","v":"SC"},{"$f":"VLOOKUP(C1310,Referencias!$B$18:$C$34,2,FALSE())","v":"M"},"C"]
["2812660","Tallada Alarcón, Concha","Madrileña","D","Primera Picas","Competición",1,{"$f":"VLOOKUP(E1311,Referencias!$B$4:$C$15,2,FALSE())","v":"1P"},{"$f":"VLOOKUP(C1311,Referencias!$B$18:$C$34,2,FALSE())","v":"M"},"C"]
["2812662","Lamana De Hoyos, Mercedes","Madrileña","D","Sin Categoría","Competición",4,{"$f":"VLOOKUP(E1312,Referencias!$B$4:$C$15,2,FALSE())","v":"SC"},{"$f":"VLOOKUP(C1312,Referencias!$B$18:$C$34,2,FALSE())","v":"M"},"C"]
["2812665","Scher Nitzki, Micaela","Madrileña","D","Primera Picas","Competición",1,{"$f":"VLOOKUP(E1313,Referencias!$B$4:$C$15,2,FALSE())","v":"1P"},{"$f":"VLOOKUP(C1313,Referencias!$B$18:$C$34,2,FALSE())","v":"M"},"C"]
["2812666","Scher Nitzki, Ernesto","Madrileña","C","Primera Picas","Competición",1,{"$f":"VLOOKUP(E1314,Referencias!$B$4:$C$15,2,FALSE())","v":"1P"},{"$f":"VLOOKUP(C1314,Referencias!$B$18:$C$34,2,FALSE())","v":"M"},"C"]
["2812667","Gómez Guerra, Fernando","Madrileña","C","Sin Categoría","Competición",4,{"$f":"VLOOKUP(E1315,Referencias!$B$4:$C$15,2,FALSE())","v":"SC"},{"$f":"VLOOKUP(C1315,Referencias!$B$18:$C$34,2,FALSE())","v":"M"},"C"]
["2812674","Policastro Franco, Carlos","Madrileña","C","Segunda Diamante","Competición",2,{"$f":"VLOOKUP(E1316,Referencias!$B$4:$C$15,2,FALSE())","v":"2D"},{"$f":"VLOOKUP(C1316,Referencias!$B$18:$C$34,2,FALSE())","v":"M"},"C"]
["2812679","Calderón Riestra, Carmen","Madrileña","D","Segunda Diamante","Competición",2,{"$f":"VLOOKUP(E1317,Referencias!$B$4:$C$15,2,FALSE())","v":"2D"},{"$f":"VLOOKUP(C1317,Referencias!$B$18:$C$34,2,FALSE())","v":"M"},"C"]
["2812680","Rengifo Calderón, Juan Francisco","Madrileña","C","Segunda Corazón","Competición",2,{"$f":"VLOOKUP(E1318,Referencias!$B$4:$C$15,2,FALSE())","v":"2C"},{"$f":"VLOOKUP(C1318,Referencias!$B$18:$C$34,2,FALSE())","v":"M"},"C"]
["2812681","Cuito Amat, Rosa","Madrileña","D","Tercera Corazón","Competición",3,{"$f":"VLOOKUP(E1319,Referencias!$B$4:$C$15,2,FALSE())","v":"3C"},{"$f":"VLOOKUP(C1319,Referencias!$B$18:$C$34,2,FALSE())","v":"M"},"C"]
["2812684","Cervera Goizueta, María","Madrileña","D","Segunda Corazón","Competición",2,{"$f":"VLOOKUP(E1320,Referencias!$B$4:$C$15,2,FALSE())","v":"2C"},{"$f":"VLOOKUP(C1320,Referencias!$B$18:$C$34,2,FALSE())","v":"M"},"C"]
["2812685","Ramos Bolufer, Rosa","Madrileña","D","Segunda Corazón","Competición",2,{"$f":"VLOOKUP(E1321,Referencias!$B$4:$C$15,2,FALSE())","v":"2C"},{"$f":"VLOOKUP(C1321,Referencias!$B$18:$C$34,2,FALSE())","v":"M"},"C"]
["2812686","Galiana Gómez, Margarita","Madrileña","D","Tercera Corazón","Competición",3,{"$f":"VLOOKUP(E1322,Referencias!$B$4:$C$15,2,FALSE())","v":"3C"},{"$f":"VLOOKUP(C1322,Referencias!$B$18:$C$34,2,FALSE())","v":"M"},"C"]
["2812689","Álvarez-Gendin , Covadonga","Madrileña","D","Tercera Corazón","Competición",3,{"$f":"VLOOKUP(E1323,Referencias!$B$4:$C$15,2,FALSE())","v":"3C"},{"$f":"VLOOKUP(C1323,Referencias!$B$18:$C$34,2,FALSE())","v":"M"},"C"]
["2812690","Bastida Fresneda, Mª Jesús","Madrileña","D","Tercera Picas","Competición",3,{"$f":"VLOOKUP(E1324,Referencias!$B$4:$C$15,2,FALSE())","v":"3P"},{"$f":"VLOOKUP(C1324,Referencias!$B$18:$C$34,2,FALSE())","v":"M"},"C"]
["2812691","Kruik van der Hoeven, Susanne","Madrileña","D","Segunda Picas","Competición",2,{"$f":"VLOOKUP(E1325,Referencias!$B$4:$C$15,2,FALSE())","v":"2P"},{"$f":"VLOOKUP(C1325,Referencias!$B$18:$C$34,2,FALSE())","v":"M"},"C"]
["2812692","Pleite Pérez, Ana María","Madrileña","D","Segunda Diamante","Competición",2,{"$f":"VLOOKUP(E1326,Referencias!$B$4:$C$15,2,FALSE())","v":"2D"},{"$f":"VLOOKUP(C1326,Referencias!$B$18:$C$34,2,FALSE())","v":"M"},"C"]
["2812694","de Dato, Duquesa","Madrileña","D","Tercera Corazón","Competición",3,{"$f":"VLOOKUP(E1327,Referencias!$B$4:$C$15,2,FALSE())","v":"3C"},{"$f":"VLOOKUP(C1327,Referencias!$B$18:$C$34,2,FALSE())","v":"M"},"C"]
["2812698","Fribourg , Jean","Madrileña","D","Tercera Corazón","Competición",3,{"$f":"VLOOKUP(E1328,Referencias!$B$4:$C$15,2,FALSE())","v":"3C"},{"$f":"VLOOKUP(C1328,Referencias!$B$18:$C$34,2,FALSE())","v":"M"},"C"]
["2812699","Lizcano Navarro, Carmen","Madrileña","D","Sin Categoría","Competición",4,{"$f":"VLOOKUP(E1329,Referencias!$B$4:$C$15,2,FALSE())","v":"SC"},{"$f":"VLOOKUP(C1329,Referencias!$B$18:$C$34,2,FALSE())","v":"M"},"C"]
["2812703","Celaya Eseverri, Mª Jesús","Madrileña","D","Sin Categoría","Competición",4,{"$f":"VLOOKUP(E1330,Referencias!$B$4:$C$15,2,FALSE())","v":"SC"},{"$f":"VLOOKUP(C1330,Referencias!$B$18:$C$34,2,FALSE())","v":"M"},"C"]
["2812708","Hylander , Michael","Madrileña","C","Segunda Picas","Competición",2,{"$f":"VLOOKUP(E1331,Referencias!$B$4:$C$15,2,FALSE())","v":"2P"},{"$f":"VLOOKUP(C1331,Referencias!$B$18:$C$34,2,FALSE())","v":"M"},"C"]
["2812709","Rodríguez Magariños, Felisa","Madrileña","D","Segunda Picas","Competición",2,{"$f":"VLOOKUP(E1332,Referencias!$B$4:$C$15,2,FALSE())","v":"2P"},{"$f":"VLOOKUP(C1332,Referencias!$B$18:$C$34,2,FALSE())","v":"M"},"C"]
["2812710","Moreno-Luque Aspe, Isabel","Madrileña","D","Sin Categoría","Competición",4,{"$f":"VLOOKUP(E1333,Referencias!$B$4:$C$15,2,FALSE())","v":"SC"},{"$f":"VLOOKUP(C1333,Referencias!$B$18:$C$34,2,FALSE())","v":"M"},"C"]
["2812711","Orbegozo Balzola, Carmen","Madrileña","D","Tercera Corazón","Competición",3,{"$f":"VLOOKUP(E1334,Referencias!$B$4:$C$15,2,FALSE())","v":"3C"},{"$f":"VLOOKUP(C1334,Referencias!$B$18:$C$34,2,FALSE())","v":"M"},"C"]
["2812715","Sada García-Lomas, Mª Victoria","Madrileña","D","Tercera Picas","Competición",3,{"$f":"VLOOKUP(E1335,Referencias!$B$4:$C$15,2,FALSE())","v":"3P"},{"$f":"VLOOKUP(C1335,Referencias!$B$18:$C$34,2,FALSE())","v":"M"},"C"]
["2812717","Lobo Ruano, Consuelo","Madrileña","D","Tercera Diamante","Competición",3,{"$f":"VLOOKUP(E1336,Referencias!$B$4:$C$15,2,FALSE())","v":"3D"},{"$f":"VLOOKUP(C1336,Referencias!$B$18:$C$34,2,FALSE())","v":"M"},"C"]
["2812718","Figar Velasco, Arturo","Madrileña","C","Sin Categoría","Competición",4,{"$f":"VLOOKUP(E1337,Referencias!$B$4:$C$15,2,FALSE())","v":"SC"},{"$f":"VLOOKUP(C1337,Referencias!$B$18:$C$34,2,FALSE())","v":"M"},"C"]
["2812719","Lacalle Noriega, Ángeles","Madrileña","D","Sin Categoría","Competición",4,{"$f":"VLOOKUP(E1338,Referencias!$B$4:$C$15,2,FALSE())","v":"SC"},{"$f":"VLOOKUP(C1338,Referencias!$B$18:$C$34,2,FALSE())","v":"M"},"C"]
["2812720","Segovia López, José Antonio","Madrileña","C","Sin Categoría","Competición",4,{"$f":"VLOOKUP(E1339,Referencias!$B$4:$C$15,2,FALSE())","v":"SC"},{"$f":"VLOOKUP(C1339,Referencias!$B$18:$C$34,2,FALSE())","v":"M"},"C"]
["2812721","García Del Pino, Lucía","Madrileña","D","Sin Categoría","Competición",4,{"$f":"VLOOKUP(E1340,Referencias!$B$4:$C$15,2,FALSE())","v":"SC"},{"$f":"VLOOKUP(C1340,Referencias!$B$18:$C$34,2,FALSE())","v":"M"},"C"]
["2812724","Posadas Mañe, Mercedes","Madrileña","D","Tercera Picas","Competición",3,{"$f":"VLOOKUP(E1341,Referencias!$B$4:$C$15,2,FALSE())","v":"3P"},{"$f":"VLOOKUP(C1341,Referencias!$B$18:$C$34,2,FALSE())","v":"M"},"C"]
["2812725","Fernández De Miguel, Consuelo","Madrileña","D","Sin Categoría","Competición",4,{"$f":"VLOOKUP(E1342,Referencias!$B$4:$C$15,2,FALSE())","v":"SC"},{"$f":"VLOOKUP(C1342,Referencias!$B$18:$C$34,2,FALSE())","v":"M"},"C"]
["2812726","López Acha, Belen","Madrileña","D","Primera Picas","Competición",1,{"$f":"VLOOKUP(E1343,Referencias!$B$4:$C$15,2,FALSE())","v":"1P"},{"$f":"VLOOKUP(C1343,Referencias!$B$18:$C$34,2,FALSE())","v":"M"},"C"]
["2812728","Castellanos Murga, Gabriela","Madrileña","D","Sin Categoría","Competición",4,{"$f":"VLOOKUP(E1344,Referencias!$B$4:$C$15,2,FALSE())","v":"SC"},{"$f":"VLOOKUP(C1344,Referencias!$B$18:$C$34,2,FALSE())","v":"M"},{"$f":"IF(D1344=\"Dama\",\"D\",\"C\")","v":"C"}]
["2812731","Fernández-Ordas Abarca, Mª Carmen","Madrileña","D","Tercera Corazón","Competición",3,{"$f":"VLOOKUP(E1345,Referencias!$B$4:$C$15,2,FALSE())","v":"3C"},{"$f":"VLOOKUP(C1345,Referencias!$B$18:$C$34,2,FALSE())","v":"M"},"C"]
["2812736","Hernández-Ros Martínez de Velasco, Mercedes","Madrileña","D","Tercera Picas","Competición",3,{"$f":"VLOOKUP(E1346,Referencias!$B$4:$C$15,2,FALSE())","v":"3P"},{"$f":"VLOOKUP(C1346,Referencias!$B$18:$C$34,2,FALSE())","v":"M"},"C"]
["2812737","Hernández-Ros Martínez de Velasco, Matilde","Madrileña","D","Tercera Corazón","Competición",3,{"$f":"VLOOKUP(E1347,Referencias!$B$4:$C$15,2,FALSE())","v":"3C"},{"$f":"VLOOKUP(C1347,Referencias!$B$18:$C$34,2,FALSE())","v":"M"},"C"]
["2812738","Aparicio Méndez-Queipo de Llano, Piedad","Madrileña","D","Tercera Picas","Competición",3,{"$f":"VLOOKUP(E1348,Referencias!$B$4:$C$15,2,FALSE())","v":"3P"},{"$f":"VLOOKUP(C1348,Referencias!$B$18:$C$34,2,FALSE())","v":"M"},"C"]
["2812740","Escandon De Aldecoa, Mª Paz","Madrileña","D","Tercera Picas","Competición",3,{"$f":"VLOOKUP(E1349,Referencias!$B$4:$C$15,2,FALSE())","v":"3P"},{"$f":"VLOOKUP(C1349,Referencias!$B$18:$C$34,2,FALSE())","v":"M"},"C"]
["2812741","Trillo-Figueroa Bruguera, Pilar","Madrileña","D","Sin Categoría","Competición",4,{"$f":"VLOOKUP(E1350,Referencias!$B$4:$C$15,2,FALSE())","v":"SC"},{"$f":"VLOOKUP(C1350,Referencias!$B$18:$C$34,2,FALSE())","v":"M"},"C"]
["2812743","Catón Vázquez, Cristal","Madrileña","D","Tercera Corazón","Competición",3,{"$f":"VLOOKUP(E1351,Referencias!$B$4:$C$15,2,FALSE())","v":"3C"},{"$f":"VLOOKUP(C1351,Referencias!$B$18:$C$34,2,FALSE())","v":"M"},"C"]
["2812744","Escribano Hortal, Carmina","Madrileña","D","Tercera Corazón","Competición",3,{"$f":"VLOOKUP(E1352,Referencias!$B$4:$C$15,2,FALSE())","v":"3C"},{"$f":"VLOOKUP(C1352,Referencias!$B$18:$C$34,2,FALSE())","v":"M"},"C"]
["2812749","Bañuelos Fournier, Carmen","Madrileña","D","Sin Categoría","Competición",4,{"$f":"VLOOKUP(E1353,Referencias!$B$4:$C$15,2,FALSE())","v":"SC"},{"$f":"VLOOKUP(C1353,Referencias!$B$18:$C$34,2,FALSE())","v":"M"},"C"]
["2812750","Ruiz de Velasco Larrea, Inés","Madrileña","D","Segunda Picas","Competición",2,{"$f":"VLOOKUP(E1354,Referencias!$B$4:$C$15,2,FALSE())","v":"2P"},{"$f":"VLOOKUP(C1354,Referencias!$B$18:$C$34,2,FALSE())","v":"M"},"C"]
["2812751","Calderón Riestra, Maria","Madrileña","D","Tercera Corazón","Competición",3,{"$f":"VLOOKUP(E1355,Referencias!$B$4:$C$15,2,FALSE())","v":"3C"},{"$f":"VLOOKUP(C1355,Referencias!$B$18:$C$34,2,FALSE())","v":"M"},"C"]
["2812752","Cabello Fernández, Matilde","Madrileña","D","Tercera Picas","Competición",3,{"$f":"VLOOKUP(E1356,Referencias!$B$4:$C$15,2,FALSE())","v":"3P"},{"$f":"VLOOKUP(C1356,Referencias!$B$18:$C$34,2,FALSE())","v":"M"},"C"]
["2812753","Silvela Foret, Javier","Madrileña","C","Segunda Corazón","Competición",2,{"$f":"VLOOKUP(E1357,Referencias!$B$4:$C$15,2,FALSE())","v":"2C"},{"$f":"VLOOKUP(C1357,Referencias!$B$18:$C$34,2,FALSE())","v":"M"},"C"]
["2812754","Damborenea Terroba, Maribel","Madrileña","D","Tercera Picas","Competición",3,{"$f":"VLOOKUP(E1358,Referencias!$B$4:$C$15,2,FALSE())","v":"3P"},{"$f":"VLOOKUP(C1358,Referencias!$B$18:$C$34,2,FALSE())","v":"M"},"C"]
["2812758","Mir Durán, Mercedes","Madrileña","D","Tercera Picas","Competición",3,{"$f":"VLOOKUP(E1359,Referencias!$B$4:$C$15,2,FALSE())","v":"3P"},{"$f":"VLOOKUP(C1359,Referencias!$B$18:$C$34,2,FALSE())","v":"M"},"C"]
["2812761","Morán Mayo, Mª Salud","Madrileña","D","Segunda Corazón","Competición",2,{"$f":"VLOOKUP(E1360,Referencias!$B$4:$C$15,2,FALSE())","v":"2C"},{"$f":"VLOOKUP(C1360,Referencias!$B$18:$C$34,2,FALSE())","v":"M"},"C"]
["2812763","Brujó Pfitz, Genoveva","Madrileña","D","Tercera Picas","Competición",3,{"$f":"VLOOKUP(E1361,Referencias!$B$4:$C$15,2,FALSE())","v":"3P"},{"$f":"VLOOKUP(C1361,Referencias!$B$18:$C$34,2,FALSE())","v":"M"},"C"]
["2812766","Arredonda Crecente, Mª Purificación","Madrileña","D","Segunda Diamante","Competición",2,{"$f":"VLOOKUP(E1362,Referencias!$B$4:$C$15,2,FALSE())","v":"2D"},{"$f":"VLOOKUP(C1362,Referencias!$B$18:$C$34,2,FALSE())","v":"M"},"C"]
["2812769","Nieto Carrasco, José Antonio","Madrileña","C","Segunda Diamante","Competición",2,{"$f":"VLOOKUP(E1363,Referencias!$B$4:$C$15,2,FALSE())","v":"2D"},{"$f":"VLOOKUP(C1363,Referencias!$B$18:$C$34,2,FALSE())","v":"M"},"C"]
["2812772","Pascual Gálvez, Mª Rosa","Madrileña","D","Tercera Diamante","Competición",3,{"$f":"VLOOKUP(E1364,Referencias!$B$4:$C$15,2,FALSE())","v":"3D"},{"$f":"VLOOKUP(C1364,Referencias!$B$18:$C$34,2,FALSE())","v":"M"},"C"]
["2812773","Bambach Gómez, Bernardita","Madrileña","D","Tercera Picas","Competición",3,{"$f":"VLOOKUP(E1365,Referencias!$B$4:$C$15,2,FALSE())","v":"3P"},{"$f":"VLOOKUP(C1365,Referencias!$B$18:$C$34,2,FALSE())","v":"M"},"C"]
["2812776","Muñoz Gutiérrez, Paloma","Madrileña","D","Primera Diamante","Competición",1,{"$f":"VLOOKUP(E1366,Referencias!$B$4:$C$15,2,FALSE())","v":"1D"},{"$f":"VLOOKUP(C1366,Referencias!$B$18:$C$34,2,FALSE())","v":"M"},"C"]
["2812777","Falcones Jaquotot, Baldomero","Madrileña","C","Tercera Corazón","Competición",3,{"$f":"VLOOKUP(E1367,Referencias!$B$4:$C$15,2,FALSE())","v":"3C"},{"$f":"VLOOKUP(C1367,Referencias!$B$18:$C$34,2,FALSE())","v":"M"},"C"]
["2812780","Cames , Mª Victoria","Madrileña","D","Tercera Diamante","Competición",3,{"$f":"VLOOKUP(E1368,Referencias!$B$4:$C$15,2,FALSE())","v":"3D"},{"$f":"VLOOKUP(C1368,Referencias!$B$18:$C$34,2,FALSE())","v":"M"},"C"]
["2812781","Von Wichmann , Gerardo","Madrileña","C","Primera Picas","Competición",1,{"$f":"VLOOKUP(E1369,Referencias!$B$4:$C$15,2,FALSE())","v":"1P"},{"$f":"VLOOKUP(C1369,Referencias!$B$18:$C$34,2,FALSE())","v":"M"},"C"]
["2812783","Vallejo Montejo, Noelia","Madrileña","D","Sin Categoría","Competición",4,{"$f":"VLOOKUP(E1370,Referencias!$B$4:$C$15,2,FALSE())","v":"SC"},{"$f":"VLOOKUP(C1370,Referencias!$B$18:$C$34,2,FALSE())","v":"M"},"C"]
["2812784","Gómez de las Cortinas Moreno de Barreda, Maria","Madrileña","D","Primera Picas","Competición",1,{"$f":"VLOOKUP(E1371,Referencias!$B$4:$C$15,2,FALSE())","v":"1P"},{"$f":"VLOOKUP(C1371,Referencias!$B$18:$C$34,2,FALSE())","v":"M"},"C"]
["2812785","Enrich Izard, Gisela","Madrileña","D","Tercera Corazón","Competición",3,{"$f":"VLOOKUP(E1372,Referencias!$B$4:$C$15,2,FALSE())","v":"3C"},{"$f":"VLOOKUP(C1372,Referencias!$B$18:$C$34,2,FALSE())","v":"M"},"C"]
["2812786","Cotoner Martos, Nicolás","Madrileña","C","Sin Categoría","Competición",4,{"$f":"VLOOKUP(E1373,Referencias!$B$4:$C$15,2,FALSE())","v":"SC"},{"$f":"VLOOKUP(C1373,Referencias!$B$18:$C$34,2,FALSE())","v":"M"},"C"]
["2812787","Passarinho Preto, Joao","Madrileña","C","Maestro Nacional","Competición",0,{"$f":"VLOOKUP(E1374,Referencias!$B$4:$C$15,2,FALSE())","v":"MN"},{"$f":"VLOOKUP(C1374,Referencias!$B$18:$C$34,2,FALSE())","v":"M"},"C"]
["2812788","Echavarri Olavarría, Ana","Madrileña","D","Sin Categoría","Competición",4,{"$f":"VLOOKUP(E1375,Referencias!$B$4:$C$15,2,FALSE())","v":"SC"},{"$f":"VLOOKUP(C1375,Referencias!$B$18:$C$34,2,FALSE())","v":"M"},"C"]
["2812789","Zurita Calderón, Ana","Madrileña","D","Tercera Picas","Competición",3,{"$f":"VLOOKUP(E1376,Referencias!$B$4:$C$15,2,FALSE())","v":"3P"},{"$f":"VLOOKUP(C1376,Referencias!$B$18:$C$34,2,FALSE())","v":"M"},"C"]
["2812793","Horcajada Navarro, María Pilar","Madrileña","D","Sin Categoría","Competición",4,{"$f":"VLOOKUP(E1377,Referencias!$B$4:$C$15,2,FALSE())","v":"SC"},{"$f":"VLOOKUP(C1377,Referencias!$B$18:$C$34,2,FALSE())","v":"M"},"C"]
["2812794","Pérez de Guirao, Mª Jesús","Madrileña","D","Segunda Diamante","Competición",2,{"$f":"VLOOKUP(E1378,Referencias!$B$4:$C$15,2,FALSE())","v":"2D"},{"$f":"VLOOKUP(C1378,Referencias!$B$18:$C$34,2,FALSE())","v":"M"},"C"]
["2812795","Bugallal Ortiz, Álvaro","Madrileña","C","Primera Corazón","Competición",1,{"$f":"VLOOKUP(E1379,Referencias!$B$4:$C$15,2,FALSE())","v":"1C"},{"$f":"VLOOKUP(C1379,Referencias!$B$18:$C$34,2,FALSE())","v":"M"},"C"]
["2812796","Garrido García, Eva","Madrileña","D","Segunda Picas","Competición",2,{"$f":"VLOOKUP(E1380,Referencias!$B$4:$C$15,2,FALSE())","v":"2P"},{"$f":"VLOOKUP(C1380,Referencias!$B$18:$C$34,2,FALSE())","v":"M"},"C"]
["2812799","De Bonilla Moreno, María","Madrileña","D","Tercera Picas","Competición",3,{"$f":"VLOOKUP(E1381,Referencias!$B$4:$C$15,2,FALSE())","v":"3P"},{"$f":"VLOOKUP(C1381,Referencias!$B$18:$C$34,2,FALSE())","v":"M"},"C"]
["2812800","Mora-Figueroa Argudo, Marta","Madrileña","D","Sin Categoría","Competición",4,{"$f":"VLOOKUP(E1382,Referencias!$B$4:$C$15,2,FALSE())","v":"SC"},{"$f":"VLOOKUP(C1382,Referencias!$B$18:$C$34,2,FALSE())","v":"M"},"C"]
["2812804","Zaballos Rincón, Juan","Madrileña","C","Primera Picas","Competición",1,{"$f":"VLOOKUP(E1383,Referencias!$B$4:$C$15,2,FALSE())","v":"1P"},{"$f":"VLOOKUP(C1383,Referencias!$B$18:$C$34,2,FALSE())","v":"M"},"C"]
["2812805","Pérez Echagüe, Carmen","Madrileña","D","Segunda Diamante","Competición",2,{"$f":"VLOOKUP(E1384,Referencias!$B$4:$C$15,2,FALSE())","v":"2D"},{"$f":"VLOOKUP(C1384,Referencias!$B$18:$C$34,2,FALSE())","v":"M"},"C"]
["2812807","Sierra Fernández, Carmen","Madrileña","D","Tercera Diamante","Competición",3,{"$f":"VLOOKUP(E1385,Referencias!$B$4:$C$15,2,FALSE())","v":"3D"},{"$f":"VLOOKUP(C1385,Referencias!$B$18:$C$34,2,FALSE())","v":"M"},"C"]
["2812808","Hidalgo de Quintana Torroba, Carmen","Madrileña","D","Segunda Diamante","Competición",2,{"$f":"VLOOKUP(E1386,Referencias!$B$4:$C$15,2,FALSE())","v":"2D"},{"$f":"VLOOKUP(C1386,Referencias!$B$18:$C$34,2,FALSE())","v":"M"},"C"]
["2812809","Amigo Souto, Julia","Madrileña","D","Tercera Corazón","Competición",3,{"$f":"VLOOKUP(E1387,Referencias!$B$4:$C$15,2,FALSE())","v":"3C"},{"$f":"VLOOKUP(C1387,Referencias!$B$18:$C$34,2,FALSE())","v":"M"},"C"]
["2812814","Mainer Casado, Javier","Madrileña","C","Segunda Picas","Competición",2,{"$f":"VLOOKUP(E1388,Referencias!$B$4:$C$15,2,FALSE())","v":"2P"},{"$f":"VLOOKUP(C1388,Referencias!$B$18:$C$34,2,FALSE())","v":"M"},"C"]
["2812816","Franco Cerame, Margot","Madrileña","D","Sin Categoría","Competición",4,{"$f":"VLOOKUP(E1389,Referencias!$B$4:$C$15,2,FALSE())","v":"SC"},{"$f":"VLOOKUP(C1389,Referencias!$B$18:$C$34,2,FALSE())","v":"M"},"C"]
["2812819","Páramo Neira, Pura","Madrileña","D","Tercera Picas","Competición",3,{"$f":"VLOOKUP(E1390,Referencias!$B$4:$C$15,2,FALSE())","v":"3P"},{"$f":"VLOOKUP(C1390,Referencias!$B$18:$C$34,2,FALSE())","v":"M"},"C"]
["2812821","Aparicio Méndez-Queipo de Llano, Beatriz","Madrileña","D","Segunda Diamante","Competición",2,{"$f":"VLOOKUP(E1391,Referencias!$B$4:$C$15,2,FALSE())","v":"2D"},{"$f":"VLOOKUP(C1391,Referencias!$B$18:$C$34,2,FALSE())","v":"M"},"C"]
["2812822","Reyes Tous, Verónica","Madrileña","D","Tercera Picas","Competición",3,{"$f":"VLOOKUP(E1392,Referencias!$B$4:$C$15,2,FALSE())","v":"3P"},{"$f":"VLOOKUP(C1392,Referencias!$B$18:$C$34,2,FALSE())","v":"M"},"C"]
["2812824","Herrera García-Moriyón, Mª Rosario","Madrileña","D","Tercera Corazón","Competición",3,{"$f":"VLOOKUP(E1393,Referencias!$B$4:$C$15,2,FALSE())","v":"3C"},{"$f":"VLOOKUP(C1393,Referencias!$B$18:$C$34,2,FALSE())","v":"M"},"C"]
["2812825","Vascones Hidalgo, Francisco","Madrileña","C","Sin Categoría","Competición",4,{"$f":"VLOOKUP(E1394,Referencias!$B$4:$C$15,2,FALSE())","v":"SC"},{"$f":"VLOOKUP(C1394,Referencias!$B$18:$C$34,2,FALSE())","v":"M"},"C"]
["2812826","Fuentes Losa, Manuel","Madrileña","C","Segunda Diamante","Competición",2,{"$f":"VLOOKUP(E1395,Referencias!$B$4:$C$15,2,FALSE())","v":"2D"},{"$f":"VLOOKUP(C1395,Referencias!$B$18:$C$34,2,FALSE())","v":"M"},"C"]
["2812828","Hernández Merino, Carmen","Madrileña","D","Primera Corazón","Competición",1,{"$f":"VLOOKUP(E1396,Referencias!$B$4:$C$15,2,FALSE())","v":"1C"},{"$f":"VLOOKUP(C1396,Referencias!$B$18:$C$34,2,FALSE())","v":"M"},"C"]
["2812830","De Alcaraz Baillo, Luis","Madrileña","C","Sin Categoría","Competición",4,{"$f":"VLOOKUP(E1397,Referencias!$B$4:$C$15,2,FALSE())","v":"SC"},{"$f":"VLOOKUP(C1397,Referencias!$B$18:$C$34,2,FALSE())","v":"M"},"C"]
["2812831","Estrada Lauret, Ascensión","Madrileña","D","Segunda Diamante","Competición",2,{"$f":"VLOOKUP(E1398,Referencias!$B$4:$C$15,2,FALSE())","v":"2D"},{"$f":"VLOOKUP(C1398,Referencias!$B$18:$C$34,2,FALSE())","v":"M"},"C"]
["2812833","Cal Souto, Pilar","Madrileña","D","Primera Picas","Competición",1,{"$f":"VLOOKUP(E1399,Referencias!$B$4:$C$15,2,FALSE())","v":"1P"},{"$f":"VLOOKUP(C1399,Referencias!$B$18:$C$34,2,FALSE())","v":"M"},"C"]
["2812834","De Vila Miranda, María","Madrileña","D","Segunda Corazón","Competición",2,{"$f":"VLOOKUP(E1400,Referencias!$B$4:$C$15,2,FALSE())","v":"2C"},{"$f":"VLOOKUP(C1400,Referencias!$B$18:$C$34,2,FALSE())","v":"M"},"C"]
["2812837","Alberdi Berriatua, Ana","Madrileña","D","Sin Categoría","Competición",4,{"$f":"VLOOKUP(E1401,Referencias!$B$4:$C$15,2,FALSE())","v":"SC"},{"$f":"VLOOKUP(C1401,Referencias!$B$18:$C$34,2,FALSE())","v":"M"},"C"]
["2812838","Castillejo Del Castaño, Ana","Madrileña","D","Tercera Corazón","Competición",3,{"$f":"VLOOKUP(E1402,Referencias!$B$4:$C$15,2,FALSE())","v":"3C"},{"$f":"VLOOKUP(C1402,Referencias!$B$18:$C$34,2,FALSE())","v":"M"},"C"]
["2812839","Sandoval Renshaw, Jose Luis","Madrileña","C","Tercera Corazón","Competición",3,{"$f":"VLOOKUP(E1403,Referencias!$B$4:$C$15,2,FALSE())","v":"3C"},{"$f":"VLOOKUP(C1403,Referencias!$B$18:$C$34,2,FALSE())","v":"M"},"C"]
["2812842","Riu Monsó, Rosa","Madrileña","D","Sin Categoría","Competición",4,{"$f":"VLOOKUP(E1404,Referencias!$B$4:$C$15,2,FALSE())","v":"SC"},{"$f":"VLOOKUP(C1404,Referencias!$B$18:$C$34,2,FALSE())","v":"M"},"C"]
["2812843","Martínez Solares, Mª Ángeles","Madrileña","D","Segunda Diamante","Competición",2,{"$f":"VLOOKUP(E1405,Referencias!$B$4:$C$15,2,FALSE())","v":"2D"},{"$f":"VLOOKUP(C1405,Referencias!$B$18:$C$34,2,FALSE())","v":"M"},"C"]
["2812844","Rodríguez San Pedro Márquez, José Carlos","Madrileña","C","Sin Categoría","Competición",4,{"$f":"VLOOKUP(E1406,Referencias!$B$4:$C$15,2,FALSE())","v":"SC"},{"$f":"VLOOKUP(C1406,Referencias!$B$18:$C$34,2,FALSE())","v":"M"},"C"]
["2812847","de los Ulagares , Marquesa","Madrileña","D","Primera Picas","Competición",1,{"$f":"VLOOKUP(E1407,Referencias!$B$4:$C$15,2,FALSE())","v":"1P"},{"$f":"VLOOKUP(C1407,Referencias!$B$18:$C$34,2,FALSE())","v":"M"},"C"]
["2812849","Fernández-Lleó García, Luis","Madrileña","C","Primera Picas","Competición",1,{"$f":"VLOOKUP(E1408,Referencias!$B$4:$C$15,2,FALSE())","v":"1P"},{"$f":"VLOOKUP(C1408,Referencias!$B$18:$C$34,2,FALSE())","v":"M"},{"$f":"IF(D1408=\"Dama\",\"D\",\"C\")","v":"C"}]
["2812852","Rodríguez Delgado, Mª Trinidad","Madrileña","D","Tercera Picas","Competición",3,{"$f":"VLOOKUP(E1409,Referencias!$B$4:$C$15,2,FALSE())","v":"3P"},{"$f":"VLOOKUP(C1409,Referencias!$B$18:$C$34,2,FALSE())","v":"M"},"C"]
["2812855","González-Baylin López, Mª del Carmen","Madrileña","D","Tercera Corazón","Competición",3,{"$f":"VLOOKUP(E1410,Referencias!$B$4:$C$15,2,FALSE())","v":"3C"},{"$f":"VLOOKUP(C1410,Referencias!$B$18:$C$34,2,FALSE())","v":"M"},"C"]
["2812856","De la Peña Riva, Cristina","Madrileña","D","Sin Categoría","Competición",4,{"$f":"VLOOKUP(E1411,Referencias!$B$4:$C$15,2,FALSE())","v":"SC"},{"$f":"VLOOKUP(C1411,Referencias!$B$18:$C$34,2,FALSE())","v":"M"},"C"]
["2812857","Suárez-Llanos Rovira, Concha","Madrileña","D","Primera Diamante","Competición",1,{"$f":"VLOOKUP(E1412,Referencias!$B$4:$C$15,2,FALSE())","v":"1D"},{"$f":"VLOOKUP(C1412,Referencias!$B$18:$C$34,2,FALSE())","v":"M"},"C"]
["2812859","Cifuentes Servitje, Beatriz","Madrileña","D","Sin Categoría","Competición",4,{"$f":"VLOOKUP(E1413,Referencias!$B$4:$C$15,2,FALSE())","v":"SC"},{"$f":"VLOOKUP(C1413,Referencias!$B$18:$C$34,2,FALSE())","v":"M"},"C"]
["2812860","Sartorius Acuña, Purificación","Madrileña","D","Tercera Corazón","Competición",3,{"$f":"VLOOKUP(E1414,Referencias!$B$4:$C$15,2,FALSE())","v":"3C"},{"$f":"VLOOKUP(C1414,Referencias!$B$18:$C$34,2,FALSE())","v":"M"},"C"]
["2812861","Artesani-Lyons , Petrana","Madrileña","D","Sin Categoría","Competición",4,{"$f":"VLOOKUP(E1415,Referencias!$B$4:$C$15,2,FALSE())","v":"SC"},{"$f":"VLOOKUP(C1415,Referencias!$B$18:$C$34,2,FALSE())","v":"M"},"C"]
["2812863","Aranaz Rodríguez, Mª Rosa","Madrileña","D","Tercera Picas","Competición",3,{"$f":"VLOOKUP(E1416,Referencias!$B$4:$C$15,2,FALSE())","v":"3P"},{"$f":"VLOOKUP(C1416,Referencias!$B$18:$C$34,2,FALSE())","v":"M"},"C"]
["2812865","Magdalena Ramos, Ángeles","Madrileña","D","Segunda Picas","Competición",2,{"$f":"VLOOKUP(E1417,Referencias!$B$4:$C$15,2,FALSE())","v":"2P"},{"$f":"VLOOKUP(C1417,Referencias!$B$18:$C$34,2,FALSE())","v":"M"},"C"]
["2812866","Vélez García-Nieto, Teresa","Madrileña","D","Primera Picas","Competición",1,{"$f":"VLOOKUP(E1418,Referencias!$B$4:$C$15,2,FALSE())","v":"1P"},{"$f":"VLOOKUP(C1418,Referencias!$B$18:$C$34,2,FALSE())","v":"M"},"C"]
["2812868","Corrales Kindelán, Jaime","Madrileña","C","Sin Categoría","Competición",4,{"$f":"VLOOKUP(E1419,Referencias!$B$4:$C$15,2,FALSE())","v":"SC"},{"$f":"VLOOKUP(C1419,Referencias!$B$18:$C$34,2,FALSE())","v":"M"},"C"]
["2812870","Vélez García-Nieto, Carmen","Madrileña","D","Primera Corazón","Competición",1,{"$f":"VLOOKUP(E1420,Referencias!$B$4:$C$15,2,FALSE())","v":"1C"},{"$f":"VLOOKUP(C1420,Referencias!$B$18:$C$34,2,FALSE())","v":"M"},"C"]
["2812871","Rodríguez Montellano, Rosa Mª","Madrileña","D","Tercera Corazón","Competición",3,{"$f":"VLOOKUP(E1421,Referencias!$B$4:$C$15,2,FALSE())","v":"3C"},{"$f":"VLOOKUP(C1421,Referencias!$B$18:$C$34,2,FALSE())","v":"M"},"C"]
["2812875","Padellano De Blas, María Teresa","Madrileña","D","Primera Picas","Competición",1,{"$f":"VLOOKUP(E1422,Referencias!$B$4:$C$15,2,FALSE())","v":"1P"},{"$f":"VLOOKUP(C1422,Referencias!$B$18:$C$34,2,FALSE())","v":"M"},"C"]
["2812876","Muñoz Torralbo, Antonio","Madrileña","C","Segunda Picas","Competición",2,{"$f":"VLOOKUP(E1423,Referencias!$B$4:$C$15,2,FALSE())","v":"2P"},{"$f":"VLOOKUP(C1423,Referencias!$B$18:$C$34,2,FALSE())","v":"M"},"C"]
["2812877","Alcocer Torra, Cristina","Madrileña","D","Tercera Picas","Competición",3,{"$f":"VLOOKUP(E1424,Referencias!$B$4:$C$15,2,FALSE())","v":"3P"},{"$f":"VLOOKUP(C1424,Referencias!$B$18:$C$34,2,FALSE())","v":"M"},"C"]
["2812878","Valdés Gómez, Marian","Madrileña","D","Tercera Corazón","Competición",3,{"$f":"VLOOKUP(E1425,Referencias!$B$4:$C$15,2,FALSE())","v":"3C"},{"$f":"VLOOKUP(C1425,Referencias!$B$18:$C$34,2,FALSE())","v":"M"},"C"]
["2812883","Pardo de Unceta , Leticia","Madrileña","D","Sin Categoría","Competición",4,{"$f":"VLOOKUP(E1426,Referencias!$B$4:$C$15,2,FALSE())","v":"SC"},{"$f":"VLOOKUP(C1426,Referencias!$B$18:$C$34,2,FALSE())","v":"M"},"C"]
["2812884","Pardo de Unceta , Mª Cristina","Madrileña","D","Sin Categoría","Competición",4,{"$f":"VLOOKUP(E1427,Referencias!$B$4:$C$15,2,FALSE())","v":"SC"},{"$f":"VLOOKUP(C1427,Referencias!$B$18:$C$34,2,FALSE())","v":"M"},"C"]
["2812885","Lee Brunner, Margaret","Madrileña","D","Segunda Diamante","Competición",2,{"$f":"VLOOKUP(E1428,Referencias!$B$4:$C$15,2,FALSE())","v":"2D"},{"$f":"VLOOKUP(C1428,Referencias!$B$18:$C$34,2,FALSE())","v":"M"},"C"]
["2812886","Müller Märki, Beatrice","Madrileña","D","Tercera Corazón","Competición",3,{"$f":"VLOOKUP(E1429,Referencias!$B$4:$C$15,2,FALSE())","v":"3C"},{"$f":"VLOOKUP(C1429,Referencias!$B$18:$C$34,2,FALSE())","v":"M"},"C"]
["2812888","Martín Rodríguez, Rosario","Madrileña","D","Tercera Corazón","Competición",3,{"$f":"VLOOKUP(E1430,Referencias!$B$4:$C$15,2,FALSE())","v":"3C"},{"$f":"VLOOKUP(C1430,Referencias!$B$18:$C$34,2,FALSE())","v":"M"},"C"]
["2812889","Domecq Urquijo, Sofía","Madrileña","D","Tercera Corazón","Competición",3,{"$f":"VLOOKUP(E1431,Referencias!$B$4:$C$15,2,FALSE())","v":"3C"},{"$f":"VLOOKUP(C1431,Referencias!$B$18:$C$34,2,FALSE())","v":"M"},"C"]
["2812890","Jiménez Arroyo, Isabel","Madrileña","D","Tercera Picas","Competición",3,{"$f":"VLOOKUP(E1432,Referencias!$B$4:$C$15,2,FALSE())","v":"3P"},{"$f":"VLOOKUP(C1432,Referencias!$B$18:$C$34,2,FALSE())","v":"M"},"C"]
["2812891","Romero Montero, Mónica","Madrileña","D","Tercera Picas","Competición",3,{"$f":"VLOOKUP(E1433,Referencias!$B$4:$C$15,2,FALSE())","v":"3P"},{"$f":"VLOOKUP(C1433,Referencias!$B$18:$C$34,2,FALSE())","v":"M"},"C"]
["2812892","Vázquez Salinero, Jorge","Madrileña","C","Tercera Corazón","Competición",3,{"$f":"VLOOKUP(E1434,Referencias!$B$4:$C$15,2,FALSE())","v":"3C"},{"$f":"VLOOKUP(C1434,Referencias!$B$18:$C$34,2,FALSE())","v":"M"},"C"]
["2812893","Badiola Gago, Susana","Madrileña","D","Segunda Picas","Competición",2,{"$f":"VLOOKUP(E1435,Referencias!$B$4:$C$15,2,FALSE())","v":"2P"},{"$f":"VLOOKUP(C1435,Referencias!$B$18:$C$34,2,FALSE())","v":"M"},"C"]
["2812894","Santos-Suárez Márquez, Beatriz","Madrileña","D","Segunda Corazón","Competición",2,{"$f":"VLOOKUP(E1436,Referencias!$B$4:$C$15,2,FALSE())","v":"2C"},{"$f":"VLOOKUP(C1436,Referencias!$B$18:$C$34,2,FALSE())","v":"M"},"C"]
["2812896","Gavia, Condesa de","Madrileña","D","Segunda Picas","Competición",2,{"$f":"VLOOKUP(E1437,Referencias!$B$4:$C$15,2,FALSE())","v":"2P"},{"$f":"VLOOKUP(C1437,Referencias!$B$18:$C$34,2,FALSE())","v":"M"},"C"]
["2812899","Guerrero Guerrero, Pedro","Madrileña","C","Primera Picas","Competición",1,{"$f":"VLOOKUP(E1438,Referencias!$B$4:$C$15,2,FALSE())","v":"1P"},{"$f":"VLOOKUP(C1438,Referencias!$B$18:$C$34,2,FALSE())","v":"M"},"C"]
["2812900","Antón Suanzes, Paloma","Madrileña","D","Primera Picas","Competición",1,{"$f":"VLOOKUP(E1439,Referencias!$B$4:$C$15,2,FALSE())","v":"1P"},{"$f":"VLOOKUP(C1439,Referencias!$B$18:$C$34,2,FALSE())","v":"M"},"C"]
["2812904","Corral Rodríguez, Consuelo","Madrileña","D","Sin Categoría","Competición",4,{"$f":"VLOOKUP(E1440,Referencias!$B$4:$C$15,2,FALSE())","v":"SC"},{"$f":"VLOOKUP(C1440,Referencias!$B$18:$C$34,2,FALSE())","v":"M"},"C"]
["2812906","Menchaca , Ángeles","Madrileña","D","Tercera Corazón","Competición",3,{"$f":"VLOOKUP(E1441,Referencias!$B$4:$C$15,2,FALSE())","v":"3C"},{"$f":"VLOOKUP(C1441,Referencias!$B$18:$C$34,2,FALSE())","v":"M"},"C"]
["2812908","Herreros De Tejada, Asunción","Madrileña","D","Tercera Picas","Competición",3,{"$f":"VLOOKUP(E1442,Referencias!$B$4:$C$15,2,FALSE())","v":"3P"},{"$f":"VLOOKUP(C1442,Referencias!$B$18:$C$34,2,FALSE())","v":"M"},"C"]
["2812909","Padró Sánchez, Nuria","Madrileña","D","Segunda Diamante","Competición",2,{"$f":"VLOOKUP(E1443,Referencias!$B$4:$C$15,2,FALSE())","v":"2D"},{"$f":"VLOOKUP(C1443,Referencias!$B$18:$C$34,2,FALSE())","v":"M"},"C"]
["2812912","Fernández-Villalta Carilla, Margarita","Madrileña","D","Sin Categoría","Competición",4,{"$f":"VLOOKUP(E1444,Referencias!$B$4:$C$15,2,FALSE())","v":"SC"},{"$f":"VLOOKUP(C1444,Referencias!$B$18:$C$34,2,FALSE())","v":"M"},"C"]
["2812913","De Miguel Roses, Belén","Madrileña","D","Tercera Corazón","Competición",3,{"$f":"VLOOKUP(E1445,Referencias!$B$4:$C$15,2,FALSE())","v":"3C"},{"$f":"VLOOKUP(C1445,Referencias!$B$18:$C$34,2,FALSE())","v":"M"},"C"]
["2812915","Herreros de Tejada Luca de Tena, Catalina","Madrileña","D","Tercera Diamante","Competición",3,{"$f":"VLOOKUP(E1446,Referencias!$B$4:$C$15,2,FALSE())","v":"3D"},{"$f":"VLOOKUP(C1446,Referencias!$B$18:$C$34,2,FALSE())","v":"M"},"C"]
["2812917","Maldonado , Susana","Madrileña","D","Tercera Corazón","Competición",3,{"$f":"VLOOKUP(E1447,Referencias!$B$4:$C$15,2,FALSE())","v":"3C"},{"$f":"VLOOKUP(C1447,Referencias!$B$18:$C$34,2,FALSE())","v":"M"},"C"]
["2812918","De la Vega Bergé, Carmen","Madrileña","D","Segunda Diamante","Competición",2,{"$f":"VLOOKUP(E1448,Referencias!$B$4:$C$15,2,FALSE())","v":"2D"},{"$f":"VLOOKUP(C1448,Referencias!$B$18:$C$34,2,FALSE())","v":"M"},"C"]
["2812920","del Serrallo, Conde","Madrileña","C","Tercera Corazón","Competición",3,{"$f":"VLOOKUP(E1449,Referencias!$B$4:$C$15,2,FALSE())","v":"3C"},{"$f":"VLOOKUP(C1449,Referencias!$B$18:$C$34,2,FALSE())","v":"M"},"C"]
["2812924","Tkatch Vintrob, Ulises","Madrileña","C","Primera Picas","Competición",1,{"$f":"VLOOKUP(E1450,Referencias!$B$4:$C$15,2,FALSE())","v":"1P"},{"$f":"VLOOKUP(C1450,Referencias!$B$18:$C$34,2,FALSE())","v":"M"},"C"]
["2812925","García de Oteyza Llansó, Javier","Madrileña","C","Primera Picas","Competición",1,{"$f":"VLOOKUP(E1451,Referencias!$B$4:$C$15,2,FALSE())","v":"1P"},{"$f":"VLOOKUP(C1451,Referencias!$B$18:$C$34,2,FALSE())","v":"M"},"C"]
["2812928","Fernández Fernández, Mª Rosa","Madrileña","D","Tercera Corazón","Competición",3,{"$f":"VLOOKUP(E1452,Referencias!$B$4:$C$15,2,FALSE())","v":"3C"},{"$f":"VLOOKUP(C1452,Referencias!$B$18:$C$34,2,FALSE())","v":"M"},"C"]
["2812931","Valero Artola, Teresa","Madrileña","D","Tercera Picas","Competición",3,{"$f":"VLOOKUP(E1453,Referencias!$B$4:$C$15,2,FALSE())","v":"3P"},{"$f":"VLOOKUP(C1453,Referencias!$B$18:$C$34,2,FALSE())","v":"M"},"C"]
["2812933","Elices López, Jerónimo","Madrileña","C","Primera Picas","Competición",1,{"$f":"VLOOKUP(E1454,Referencias!$B$4:$C$15,2,FALSE())","v":"1P"},{"$f":"VLOOKUP(C1454,Referencias!$B$18:$C$34,2,FALSE())","v":"M"},"C"]
["2812942","Fierro Jiménez-Lopera, Juan Carlos","Madrileña","C","Sin Categoría","Competición",4,{"$f":"VLOOKUP(E1455,Referencias!$B$4:$C$15,2,FALSE())","v":"SC"},{"$f":"VLOOKUP(C1455,Referencias!$B$18:$C$34,2,FALSE())","v":"M"},"C"]
["2812945","Melón Santín, Julio","Madrileña","C","Segunda Picas","Honorífica",2,{"$f":"VLOOKUP(E1456,Referencias!$B$4:$C$15,2,FALSE())","v":"2P"},{"$f":"VLOOKUP(C1456,Referencias!$B$18:$C$34,2,FALSE())","v":"M"},"C"]
["2812946","Ruiz-Jarabo Ferrán, Manuel","Madrileña","C","Segunda Diamante","Competición",2,{"$f":"VLOOKUP(E1457,Referencias!$B$4:$C$15,2,FALSE())","v":"2D"},{"$f":"VLOOKUP(C1457,Referencias!$B$18:$C$34,2,FALSE())","v":"M"},"C"]
["2812948","Orbe Ozores, Mª Asunción","Madrileña","D","Tercera Diamante","Competición",3,{"$f":"VLOOKUP(E1458,Referencias!$B$4:$C$15,2,FALSE())","v":"3D"},{"$f":"VLOOKUP(C1458,Referencias!$B$18:$C$34,2,FALSE())","v":"M"},"C"]
["2812950","Soto Pérez, Pilar","Madrileña","D","Sin Categoría","Competición",4,{"$f":"VLOOKUP(E1459,Referencias!$B$4:$C$15,2,FALSE())","v":"SC"},{"$f":"VLOOKUP(C1459,Referencias!$B$18:$C$34,2,FALSE())","v":"M"},"C"]
["2812953","Pérez-Loizaga Tous, Gloria","Madrileña","D","Segunda Corazón","Competición",2,{"$f":"VLOOKUP(E1460,Referencias!$B$4:$C$15,2,FALSE())","v":"2C"},{"$f":"VLOOKUP(C1460,Referencias!$B$18:$C$34,2,FALSE())","v":"M"},"C"]
["2812955","Guerra Orgaz, Mª Fernanda","Madrileña","D","Tercera Diamante","Competición",3,{"$f":"VLOOKUP(E1461,Referencias!$B$4:$C$15,2,FALSE())","v":"3D"},{"$f":"VLOOKUP(C1461,Referencias!$B$18:$C$34,2,FALSE())","v":"M"},"C"]
["2812960","Galíndez Zubiría, Dolores","Madrileña","D","Sin Categoría","Competición",4,{"$f":"VLOOKUP(E1462,Referencias!$B$4:$C$15,2,FALSE())","v":"SC"},{"$f":"VLOOKUP(C1462,Referencias!$B$18:$C$34,2,FALSE())","v":"M"},"C"]
["2812961","Alonso de Noriega Muñiz, Cristina","Madrileña","D","Primera Diamante","Competición",1,{"$f":"VLOOKUP(E1463,Referencias!$B$4:$C$15,2,FALSE())","v":"1D"},{"$f":"VLOOKUP(C1463,Referencias!$B$18:$C$34,2,FALSE())","v":"M"},"C"]
["2812962","Granado Cordero, Ana María","Madrileña","D","Sin Categoría","Competición",4,{"$f":"VLOOKUP(E1464,Referencias!$B$4:$C$15,2,FALSE())","v":"SC"},{"$f":"VLOOKUP(C1464,Referencias!$B$18:$C$34,2,FALSE())","v":"M"},"C"]
["2812965","Luque Hernández, Carmen","Madrileña","D","Primera Picas","Competición",1,{"$f":"VLOOKUP(E1465,Referencias!$B$4:$C$15,2,FALSE())","v":"1P"},{"$f":"VLOOKUP(C1465,Referencias!$B$18:$C$34,2,FALSE())","v":"M"},"C"]
["2812966","Rodríguez López de Carrasco, Cristina","Madrileña","D","Tercera Diamante","Competición",3,{"$f":"VLOOKUP(E1466,Referencias!$B$4:$C$15,2,FALSE())","v":"3D"},{"$f":"VLOOKUP(C1466,Referencias!$B$18:$C$34,2,FALSE())","v":"M"},"C"]
["2812968","Dolz de Espejo Arróspide, Sol","Madrileña","D","Sin Categoría","Competición",4,{"$f":"VLOOKUP(E1467,Referencias!$B$4:$C$15,2,FALSE())","v":"SC"},{"$f":"VLOOKUP(C1467,Referencias!$B$18:$C$34,2,FALSE())","v":"M"},"C"]
["2812969","García-Atance Lafuente, Salvador","Madrileña","C","Primera Picas","Competición",1,{"$f":"VLOOKUP(E1468,Referencias!$B$4:$C$15,2,FALSE())","v":"1P"},{"$f":"VLOOKUP(C1468,Referencias!$B$18:$C$34,2,FALSE())","v":"M"},"C"]
["2812972","De Miguel Ortiz, María","Madrileña","D","Tercera Picas","Competición",3,{"$f":"VLOOKUP(E1469,Referencias!$B$4:$C$15,2,FALSE())","v":"3P"},{"$f":"VLOOKUP(C1469,Referencias!$B$18:$C$34,2,FALSE())","v":"M"},"C"]
["2812976","Nicotra Alessie, Lucía","Madrileña","D","Segunda Picas","Competición",2,{"$f":"VLOOKUP(E1470,Referencias!$B$4:$C$15,2,FALSE())","v":"2P"},{"$f":"VLOOKUP(C1470,Referencias!$B$18:$C$34,2,FALSE())","v":"M"},"C"]
["2812977","Aldaz Barrera, Pablo","Madrileña","C","Sin Categoría","Competición",4,{"$f":"VLOOKUP(E1471,Referencias!$B$4:$C$15,2,FALSE())","v":"SC"},{"$f":"VLOOKUP(C1471,Referencias!$B$18:$C$34,2,FALSE())","v":"M"},"C"]
["2812978","González-Mayo Vega, Oriente","Madrileña","D","Sin Categoría","Competición",4,{"$f":"VLOOKUP(E1472,Referencias!$B$4:$C$15,2,FALSE())","v":"SC"},{"$f":"VLOOKUP(C1472,Referencias!$B$18:$C$34,2,FALSE())","v":"M"},{"$f":"IF(D1472=\"Dama\",\"D\",\"C\")","v":"C"}]
["2812981","Paz-Ares Rodríguez, Juan Pablo","Madrileña","C","Primera Picas","Competición",1,{"$f":"VLOOKUP(E1473,Referencias!$B$4:$C$15,2,FALSE())","v":"1P"},{"$f":"VLOOKUP(C1473,Referencias!$B$18:$C$34,2,FALSE())","v":"M"},"C"]
["2812982","Juliá Díez de Rivera, Dolores","Madrileña","D","Tercera Picas","Competición",3,{"$f":"VLOOKUP(E1474,Referencias!$B$4:$C$15,2,FALSE())","v":"3P"},{"$f":"VLOOKUP(C1474,Referencias!$B$18:$C$34,2,FALSE())","v":"M"},"C"]
["2812985","Serrano Pardo, Isabel","Madrileña","D","Tercera Diamante","Competición",3,{"$f":"VLOOKUP(E1475,Referencias!$B$4:$C$15,2,FALSE())","v":"3D"},{"$f":"VLOOKUP(C1475,Referencias!$B$18:$C$34,2,FALSE())","v":"M"},"C"]
["2812986","Fernández Latorre, César","Madrileña","C","Tercera Corazón","Competición",3,{"$f":"VLOOKUP(E1476,Referencias!$B$4:$C$15,2,FALSE())","v":"3C"},{"$f":"VLOOKUP(C1476,Referencias!$B$18:$C$34,2,FALSE())","v":"M"},"C"]
["2812987","Fernández De Bobadilla, Helena","Madrileña","D","Primera Corazón","Competición",1,{"$f":"VLOOKUP(E1477,Referencias!$B$4:$C$15,2,FALSE())","v":"1C"},{"$f":"VLOOKUP(C1477,Referencias!$B$18:$C$34,2,FALSE())","v":"M"},"C"]
["2812990","Lezama-Leguizamón , Adelaida","Madrileña","D","Sin Categoría","Competición",4,{"$f":"VLOOKUP(E1478,Referencias!$B$4:$C$15,2,FALSE())","v":"SC"},{"$f":"VLOOKUP(C1478,Referencias!$B$18:$C$34,2,FALSE())","v":"M"},"C"]
["2812991","P. Manuel de Villena, Luis","Madrileña","C","Segunda Diamante","Competición",2,{"$f":"VLOOKUP(E1479,Referencias!$B$4:$C$15,2,FALSE())","v":"2D"},{"$f":"VLOOKUP(C1479,Referencias!$B$18:$C$34,2,FALSE())","v":"M"},"C"]
["2812992","San Martín Colera, Pedro","Madrileña","C","Sin Categoría","Competición",4,{"$f":"VLOOKUP(E1480,Referencias!$B$4:$C$15,2,FALSE())","v":"SC"},{"$f":"VLOOKUP(C1480,Referencias!$B$18:$C$34,2,FALSE())","v":"M"},"C"]
["2812993","Casajuana , Rosa María","Madrileña","D","Sin Categoría","Competición",4,{"$f":"VLOOKUP(E1481,Referencias!$B$4:$C$15,2,FALSE())","v":"SC"},{"$f":"VLOOKUP(C1481,Referencias!$B$18:$C$34,2,FALSE())","v":"M"},"C"]
["2812994","Carvajal Vallejo, Mari Carmen","Madrileña","D","Segunda Picas","Competición",2,{"$f":"VLOOKUP(E1482,Referencias!$B$4:$C$15,2,FALSE())","v":"2P"},{"$f":"VLOOKUP(C1482,Referencias!$B$18:$C$34,2,FALSE())","v":"M"},"C"]
["2812995","Penella Saus, Ángeles","Madrileña","D","Sin Categoría","Competición",4,{"$f":"VLOOKUP(E1483,Referencias!$B$4:$C$15,2,FALSE())","v":"SC"},{"$f":"VLOOKUP(C1483,Referencias!$B$18:$C$34,2,FALSE())","v":"M"},"C"]
["2812997","Casado Falcones, Luis","Madrileña","C","Sin Categoría","Competición",4,{"$f":"VLOOKUP(E1484,Referencias!$B$4:$C$15,2,FALSE())","v":"SC"},{"$f":"VLOOKUP(C1484,Referencias!$B$18:$C$34,2,FALSE())","v":"M"},"C"]
["2813000","Canseco Viejo, Covadonga","Madrileña","D","Segunda Corazón","Competición",2,{"$f":"VLOOKUP(E1485,Referencias!$B$4:$C$15,2,FALSE())","v":"2C"},{"$f":"VLOOKUP(C1485,Referencias!$B$18:$C$34,2,FALSE())","v":"M"},"C"]
["2813001","Maestre , Carmen","Madrileña","D","Tercera Diamante","Competición",3,{"$f":"VLOOKUP(E1486,Referencias!$B$4:$C$15,2,FALSE())","v":"3D"},{"$f":"VLOOKUP(C1486,Referencias!$B$18:$C$34,2,FALSE())","v":"M"},"C"]
["2813004","Rumeu Cruzat, Cristina","Madrileña","D","Sin Categoría","Competición",4,{"$f":"VLOOKUP(E1487,Referencias!$B$4:$C$15,2,FALSE())","v":"SC"},{"$f":"VLOOKUP(C1487,Referencias!$B$18:$C$34,2,FALSE())","v":"M"},"C"]
["2813005","Mazario Marañón, Carmen","Madrileña","D","Tercera Picas","Competición",3,{"$f":"VLOOKUP(E1488,Referencias!$B$4:$C$15,2,FALSE())","v":"3P"},{"$f":"VLOOKUP(C1488,Referencias!$B$18:$C$34,2,FALSE())","v":"M"},"C"]
["2813006","Monasterio Chicharro, Camila","Madrileña","D","Tercera Picas","Competición",3,{"$f":"VLOOKUP(E1489,Referencias!$B$4:$C$15,2,FALSE())","v":"3P"},{"$f":"VLOOKUP(C1489,Referencias!$B$18:$C$34,2,FALSE())","v":"M"},"C"]
["2813007","Villegas Sánchez, David","Madrileña","C","Segunda Diamante","Competición",2,{"$f":"VLOOKUP(E1490,Referencias!$B$4:$C$15,2,FALSE())","v":"2D"},{"$f":"VLOOKUP(C1490,Referencias!$B$18:$C$34,2,FALSE())","v":"M"},"C"]
["2813008","Hombravella López, Guillermo","Madrileña","C","Sin Categoría","Competición",4,{"$f":"VLOOKUP(E1491,Referencias!$B$4:$C$15,2,FALSE())","v":"SC"},{"$f":"VLOOKUP(C1491,Referencias!$B$18:$C$34,2,FALSE())","v":"M"},"C"]
["2813009","Fuentes López, Patricia","Madrileña","D","Primera Picas","Competición",1,{"$f":"VLOOKUP(E1492,Referencias!$B$4:$C$15,2,FALSE())","v":"1P"},{"$f":"VLOOKUP(C1492,Referencias!$B$18:$C$34,2,FALSE())","v":"M"},"C"]
["2813010","Tehrani , Fataneh","Madrileña","D","Tercera Picas","Competición",3,{"$f":"VLOOKUP(E1493,Referencias!$B$4:$C$15,2,FALSE())","v":"3P"},{"$f":"VLOOKUP(C1493,Referencias!$B$18:$C$34,2,FALSE())","v":"M"},"C"]
["2813012","Blanco Paniego, Carmen Mª","Madrileña","D","Tercera Corazón","Competición",3,{"$f":"VLOOKUP(E1494,Referencias!$B$4:$C$15,2,FALSE())","v":"3C"},{"$f":"VLOOKUP(C1494,Referencias!$B$18:$C$34,2,FALSE())","v":"M"},"C"]
["2813014","Ortiz González, Mª Rosa","Madrileña","D","Tercera Diamante","Competición",3,{"$f":"VLOOKUP(E1495,Referencias!$B$4:$C$15,2,FALSE())","v":"3D"},{"$f":"VLOOKUP(C1495,Referencias!$B$18:$C$34,2,FALSE())","v":"M"},"C"]
["2813015","Saro Saiz, Concepción","Madrileña","D","Sin Categoría","Competición",4,{"$f":"VLOOKUP(E1496,Referencias!$B$4:$C$15,2,FALSE())","v":"SC"},{"$f":"VLOOKUP(C1496,Referencias!$B$18:$C$34,2,FALSE())","v":"M"},"C"]
["2813016","Ruiz de Gámiz Arrabal, Juan Pablo","Madrileña","C","Sin Categoría","Competición",4,{"$f":"VLOOKUP(E1497,Referencias!$B$4:$C$15,2,FALSE())","v":"SC"},{"$f":"VLOOKUP(C1497,Referencias!$B$18:$C$34,2,FALSE())","v":"M"},"C"]
["2813017","Pallarés De la Morena, Mª Luisa","Madrileña","D","Tercera Diamante","Competición",3,{"$f":"VLOOKUP(E1498,Referencias!$B$4:$C$15,2,FALSE())","v":"3D"},{"$f":"VLOOKUP(C1498,Referencias!$B$18:$C$34,2,FALSE())","v":"M"},"C"]
["2813018","Fernández-Nespral Bertrand, Graciela","Madrileña","D","Sin Categoría","Competición",4,{"$f":"VLOOKUP(E1499,Referencias!$B$4:$C$15,2,FALSE())","v":"SC"},{"$f":"VLOOKUP(C1499,Referencias!$B$18:$C$34,2,FALSE())","v":"M"},"C"]
["2813019","García-Miñaur Rotaeche, Inés","Madrileña","D","Tercera Picas","Competición",3,{"$f":"VLOOKUP(E1500,Referencias!$B$4:$C$15,2,FALSE())","v":"3P"},{"$f":"VLOOKUP(C1500,Referencias!$B$18:$C$34,2,FALSE())","v":"M"},"C"]
["2813020","López Goicoechea, Ignacio","Madrileña","C","Sin Categoría","Competición",4,{"$f":"VLOOKUP(E1501,Referencias!$B$4:$C$15,2,FALSE())","v":"SC"},{"$f":"VLOOKUP(C1501,Referencias!$B$18:$C$34,2,FALSE())","v":"M"},"C"]
["2813021","De Miguel Ortíz, Pilar","Madrileña","D","Tercera Corazón","Competición",3,{"$f":"VLOOKUP(E1502,Referencias!$B$4:$C$15,2,FALSE())","v":"3C"},{"$f":"VLOOKUP(C1502,Referencias!$B$18:$C$34,2,FALSE())","v":"M"},"C"]
["2813022","De Miguel , Luisa","Madrileña","D","Sin Categoría","Competición",4,{"$f":"VLOOKUP(E1503,Referencias!$B$4:$C$15,2,FALSE())","v":"SC"},{"$f":"VLOOKUP(C1503,Referencias!$B$18:$C$34,2,FALSE())","v":"M"},"C"]
["2813025","Georget Lassagne, Catherine","Madrileña","D","Tercera Picas","Competición",3,{"$f":"VLOOKUP(E1504,Referencias!$B$4:$C$15,2,FALSE())","v":"3P"},{"$f":"VLOOKUP(C1504,Referencias!$B$18:$C$34,2,FALSE())","v":"M"},"C"]
["2813026","Alcocer Pérez-España, Josefina","Madrileña","D","Tercera Picas","Competición",3,{"$f":"VLOOKUP(E1505,Referencias!$B$4:$C$15,2,FALSE())","v":"3P"},{"$f":"VLOOKUP(C1505,Referencias!$B$18:$C$34,2,FALSE())","v":"M"},"C"]
["2813027","Mañes García, Neftalí","Madrileña","C","Tercera Picas","Competición",3,{"$f":"VLOOKUP(E1506,Referencias!$B$4:$C$15,2,FALSE())","v":"3P"},{"$f":"VLOOKUP(C1506,Referencias!$B$18:$C$34,2,FALSE())","v":"M"},"C"]
["2813028","Guerra Galván, Antonia","Madrileña","D","Tercera Corazón","Competición",3,{"$f":"VLOOKUP(E1507,Referencias!$B$4:$C$15,2,FALSE())","v":"3C"},{"$f":"VLOOKUP(C1507,Referencias!$B$18:$C$34,2,FALSE())","v":"M"},"C"]
["2813029","Canosa Penaba, Ángeles","Madrileña","D","Tercera Corazón","Honorífica",3,{"$f":"VLOOKUP(E1508,Referencias!$B$4:$C$15,2,FALSE())","v":"3C"},{"$f":"VLOOKUP(C1508,Referencias!$B$18:$C$34,2,FALSE())","v":"M"},"C"]
["2813030","Sainz Muñoz, Marisa","Madrileña","D","Tercera Corazón","Competición",3,{"$f":"VLOOKUP(E1509,Referencias!$B$4:$C$15,2,FALSE())","v":"3C"},{"$f":"VLOOKUP(C1509,Referencias!$B$18:$C$34,2,FALSE())","v":"M"},"C"]
["2813031","Jiménez-Ontiveros Solís, Mª Jesús","Madrileña","D","Tercera Corazón","Competición",3,{"$f":"VLOOKUP(E1510,Referencias!$B$4:$C$15,2,FALSE())","v":"3C"},{"$f":"VLOOKUP(C1510,Referencias!$B$18:$C$34,2,FALSE())","v":"M"},"C"]
["2813033","Ordoñez Mallarino, Antonio","Madrileña","C","Sin Categoría","Competición",4,{"$f":"VLOOKUP(E1511,Referencias!$B$4:$C$15,2,FALSE())","v":"SC"},{"$f":"VLOOKUP(C1511,Referencias!$B$18:$C$34,2,FALSE())","v":"M"},"C"]
["2813034","Rodulfo Lavilla, Carlos","Madrileña","C","Primera Corazón","Competición",1,{"$f":"VLOOKUP(E1512,Referencias!$B$4:$C$15,2,FALSE())","v":"1C"},{"$f":"VLOOKUP(C1512,Referencias!$B$18:$C$34,2,FALSE())","v":"M"},"C"]
["2813035","Puy Fernández, Ana","Madrileña","D","Segunda Picas","Competición",2,{"$f":"VLOOKUP(E1513,Referencias!$B$4:$C$15,2,FALSE())","v":"2P"},{"$f":"VLOOKUP(C1513,Referencias!$B$18:$C$34,2,FALSE())","v":"M"},"C"]
["2813036","Rosa Keesen, Neiva Elisabeth","Madrileña","D","Segunda Picas","Competición",2,{"$f":"VLOOKUP(E1514,Referencias!$B$4:$C$15,2,FALSE())","v":"2P"},{"$f":"VLOOKUP(C1514,Referencias!$B$18:$C$34,2,FALSE())","v":"M"},"C"]
["2813037","Kindelán Everett, Patricia","Madrileña","D","Sin Categoría","Competición",4,{"$f":"VLOOKUP(E1515,Referencias!$B$4:$C$15,2,FALSE())","v":"SC"},{"$f":"VLOOKUP(C1515,Referencias!$B$18:$C$34,2,FALSE())","v":"M"},"C"]
["2813040","Sagües Martínez De Azagra, Amparo","Madrileña","D","Sin Categoría","Competición",4,{"$f":"VLOOKUP(E1516,Referencias!$B$4:$C$15,2,FALSE())","v":"SC"},{"$f":"VLOOKUP(C1516,Referencias!$B$18:$C$34,2,FALSE())","v":"M"},"C"]
["2813041","Teran Saenz, Bertha","Madrileña","D","Segunda Diamante","Competición",2,{"$f":"VLOOKUP(E1517,Referencias!$B$4:$C$15,2,FALSE())","v":"2D"},{"$f":"VLOOKUP(C1517,Referencias!$B$18:$C$34,2,FALSE())","v":"M"},"C"]
["2813043","Mato Rodríguez, Carmen","Madrileña","D","Sin Categoría","Competición",4,{"$f":"VLOOKUP(E1518,Referencias!$B$4:$C$15,2,FALSE())","v":"SC"},{"$f":"VLOOKUP(C1518,Referencias!$B$18:$C$34,2,FALSE())","v":"M"},"C"]
["2813044","Sánchez-Harguindey Gobartt, Mª Carmen","Madrileña","D","Sin Categoría","Competición",4,{"$f":"VLOOKUP(E1519,Referencias!$B$4:$C$15,2,FALSE())","v":"SC"},{"$f":"VLOOKUP(C1519,Referencias!$B$18:$C$34,2,FALSE())","v":"M"},"C"]
["2813048","Ballestero Aguilar, Alfonso","Madrileña","C","Primera Diamante","Competición",1,{"$f":"VLOOKUP(E1520,Referencias!$B$4:$C$15,2,FALSE())","v":"1D"},{"$f":"VLOOKUP(C1520,Referencias!$B$18:$C$34,2,FALSE())","v":"M"},"C"]
["2813049","Aguilar González, Francisco","Madrileña","C","Tercera Picas","Competición",3,{"$f":"VLOOKUP(E1521,Referencias!$B$4:$C$15,2,FALSE())","v":"3P"},{"$f":"VLOOKUP(C1521,Referencias!$B$18:$C$34,2,FALSE())","v":"M"},"C"]
["2813050","Trevijano Grasset, Susana","Madrileña","D","Tercera Picas","Competición",3,{"$f":"VLOOKUP(E1522,Referencias!$B$4:$C$15,2,FALSE())","v":"3P"},{"$f":"VLOOKUP(C1522,Referencias!$B$18:$C$34,2,FALSE())","v":"M"},"C"]
["2813052","Chover Latorre, Amparo","Madrileña","D","Sin Categoría","Competición",4,{"$f":"VLOOKUP(E1523,Referencias!$B$4:$C$15,2,FALSE())","v":"SC"},{"$f":"VLOOKUP(C1523,Referencias!$B$18:$C$34,2,FALSE())","v":"M"},"C"]
["2813055","Alarcón Torres, Esteban","Madrileña","C","Segunda Picas","Competición",2,{"$f":"VLOOKUP(E1524,Referencias!$B$4:$C$15,2,FALSE())","v":"2P"},{"$f":"VLOOKUP(C1524,Referencias!$B$18:$C$34,2,FALSE())","v":"M"},"C"]
["2813056","Tejada Chacón, Ignacio","Madrileña","C","Segunda Corazón","Competición",2,{"$f":"VLOOKUP(E1525,Referencias!$B$4:$C$15,2,FALSE())","v":"2C"},{"$f":"VLOOKUP(C1525,Referencias!$B$18:$C$34,2,FALSE())","v":"M"},"C"]
["2813062","Núñez Moreno, Carmen","Madrileña","D","Primera Picas","Competición",1,{"$f":"VLOOKUP(E1526,Referencias!$B$4:$C$15,2,FALSE())","v":"1P"},{"$f":"VLOOKUP(C1526,Referencias!$B$18:$C$34,2,FALSE())","v":"M"},"C"]
["2813064","Maza García, Ignacio","Madrileña","C","Tercera Picas","Competición",3,{"$f":"VLOOKUP(E1527,Referencias!$B$4:$C$15,2,FALSE())","v":"3P"},{"$f":"VLOOKUP(C1527,Referencias!$B$18:$C$34,2,FALSE())","v":"M"},"C"]
["2813065","Aleixandre García, Almudena","Madrileña","D","Segunda Corazón","Competición",2,{"$f":"VLOOKUP(E1528,Referencias!$B$4:$C$15,2,FALSE())","v":"2C"},{"$f":"VLOOKUP(C1528,Referencias!$B$18:$C$34,2,FALSE())","v":"M"},"C"]
["2813068","Santias Viada, Javier","Madrileña","C","Tercera Picas","Competición",3,{"$f":"VLOOKUP(E1529,Referencias!$B$4:$C$15,2,FALSE())","v":"3P"},{"$f":"VLOOKUP(C1529,Referencias!$B$18:$C$34,2,FALSE())","v":"M"},"C"]
["2813069","Doporto Laguia, Mariano","Madrileña","C","Primera Picas","Competición",1,{"$f":"VLOOKUP(E1530,Referencias!$B$4:$C$15,2,FALSE())","v":"1P"},{"$f":"VLOOKUP(C1530,Referencias!$B$18:$C$34,2,FALSE())","v":"M"},"C"]
["2813070","Russo Isola, Annabelle","Madrileña","D","Segunda Picas","Competición",2,{"$f":"VLOOKUP(E1531,Referencias!$B$4:$C$15,2,FALSE())","v":"2P"},{"$f":"VLOOKUP(C1531,Referencias!$B$18:$C$34,2,FALSE())","v":"M"},"C"]
["2813072","Casado Del Castillo, Mª Jesús","Madrileña","D","Tercera Diamante","Competición",3,{"$f":"VLOOKUP(E1532,Referencias!$B$4:$C$15,2,FALSE())","v":"3D"},{"$f":"VLOOKUP(C1532,Referencias!$B$18:$C$34,2,FALSE())","v":"M"},"C"]
["2813073","Riestra-Morales De los Ríos, Mª Dolores","Madrileña","D","Tercera Diamante","Competición",3,{"$f":"VLOOKUP(E1533,Referencias!$B$4:$C$15,2,FALSE())","v":"3D"},{"$f":"VLOOKUP(C1533,Referencias!$B$18:$C$34,2,FALSE())","v":"M"},"C"]
["2813074","Panera López, Consuelo","Madrileña","D","Tercera Picas","Competición",3,{"$f":"VLOOKUP(E1534,Referencias!$B$4:$C$15,2,FALSE())","v":"3P"},{"$f":"VLOOKUP(C1534,Referencias!$B$18:$C$34,2,FALSE())","v":"M"},"C"]
["2813075","Rico Villaverde, Mª Luisa","Madrileña","D","Tercera Picas","Competición",3,{"$f":"VLOOKUP(E1535,Referencias!$B$4:$C$15,2,FALSE())","v":"3P"},{"$f":"VLOOKUP(C1535,Referencias!$B$18:$C$34,2,FALSE())","v":"M"},"C"]
["2813077","Magirena Varela, Mª José","Madrileña","D","Primera Diamante","Competición",1,{"$f":"VLOOKUP(E1536,Referencias!$B$4:$C$15,2,FALSE())","v":"1D"},{"$f":"VLOOKUP(C1536,Referencias!$B$18:$C$34,2,FALSE())","v":"M"},{"$f":"IF(D1536=\"Dama\",\"D\",\"C\")","v":"C"}]
["2813079","Rosado Jerez, Mª Jesús","Madrileña","D","Sin Categoría","Competición",4,{"$f":"VLOOKUP(E1537,Referencias!$B$4:$C$15,2,FALSE())","v":"SC"},{"$f":"VLOOKUP(C1537,Referencias!$B$18:$C$34,2,FALSE())","v":"M"},"C"]
["2813080","Muñecas Alonso, Consolación","Madrileña","D","Tercera Picas","Competición",3,{"$f":"VLOOKUP(E1538,Referencias!$B$4:$C$15,2,FALSE())","v":"3P"},{"$f":"VLOOKUP(C1538,Referencias!$B$18:$C$34,2,FALSE())","v":"M"},"C"]
["2813081","Cristóbal Murcia, Pilar","Madrileña","D","Tercera Diamante","Competición",3,{"$f":"VLOOKUP(E1539,Referencias!$B$4:$C$15,2,FALSE())","v":"3D"},{"$f":"VLOOKUP(C1539,Referencias!$B$18:$C$34,2,FALSE())","v":"M"},"C"]
["2813082","Ballestero Aguilar, Elena","Madrileña","D","Primera Diamante","Competición",1,{"$f":"VLOOKUP(E1540,Referencias!$B$4:$C$15,2,FALSE())","v":"1D"},{"$f":"VLOOKUP(C1540,Referencias!$B$18:$C$34,2,FALSE())","v":"M"},"C"]
["2813083","Langdon Ruiz, Flora","Madrileña","D","Segunda Corazón","Competición",2,{"$f":"VLOOKUP(E1541,Referencias!$B$4:$C$15,2,FALSE())","v":"2C"},{"$f":"VLOOKUP(C1541,Referencias!$B$18:$C$34,2,FALSE())","v":"M"},"C"]
["2813084","Díaz-Pedregal Gutiérrez, Aurea","Madrileña","D","Tercera Diamante","Competición",3,{"$f":"VLOOKUP(E1542,Referencias!$B$4:$C$15,2,FALSE())","v":"3D"},{"$f":"VLOOKUP(C1542,Referencias!$B$18:$C$34,2,FALSE())","v":"M"},"C"]
["2813086","Romeu Roigé, Marta","Madrileña","D","Tercera Diamante","Competición",3,{"$f":"VLOOKUP(E1543,Referencias!$B$4:$C$15,2,FALSE())","v":"3D"},{"$f":"VLOOKUP(C1543,Referencias!$B$18:$C$34,2,FALSE())","v":"M"},"C"]
["2813088","Álvarez de las Asturias Bohorques, Inés","Madrileña","D","Segunda Diamante","Competición",2,{"$f":"VLOOKUP(E1544,Referencias!$B$4:$C$15,2,FALSE())","v":"2D"},{"$f":"VLOOKUP(C1544,Referencias!$B$18:$C$34,2,FALSE())","v":"M"},"C"]
["2813089","Jiménez-Ugarte Hernández, Emilio","Madrileña","C","Sin Categoría","Competición",4,{"$f":"VLOOKUP(E1545,Referencias!$B$4:$C$15,2,FALSE())","v":"SC"},{"$f":"VLOOKUP(C1545,Referencias!$B$18:$C$34,2,FALSE())","v":"M"},"C"]
["2813090","Monllor Martí, Consuelo","Madrileña","D","Segunda Diamante","Competición",2,{"$f":"VLOOKUP(E1546,Referencias!$B$4:$C$15,2,FALSE())","v":"2D"},{"$f":"VLOOKUP(C1546,Referencias!$B$18:$C$34,2,FALSE())","v":"M"},"C"]
["2813091","Antón López, Francisco","Madrileña","C","Tercera Corazón","Competición",3,{"$f":"VLOOKUP(E1547,Referencias!$B$4:$C$15,2,FALSE())","v":"3C"},{"$f":"VLOOKUP(C1547,Referencias!$B$18:$C$34,2,FALSE())","v":"M"},"C"]
["2813092","Zoppas Navarro, Gianna","Madrileña","C","Sin Categoría","Competición",4,{"$f":"VLOOKUP(E1548,Referencias!$B$4:$C$15,2,FALSE())","v":"SC"},{"$f":"VLOOKUP(C1548,Referencias!$B$18:$C$34,2,FALSE())","v":"M"},"C"]
["2813093","Kapica , Krzysztof","Madrileña","C","Primera Picas","Competición",1,{"$f":"VLOOKUP(E1549,Referencias!$B$4:$C$15,2,FALSE())","v":"1P"},{"$f":"VLOOKUP(C1549,Referencias!$B$18:$C$34,2,FALSE())","v":"M"},"C"]
["2813094","Kapica , Bárbara Lidia","Madrileña","D","Primera Picas","Competición",1,{"$f":"VLOOKUP(E1550,Referencias!$B$4:$C$15,2,FALSE())","v":"1P"},{"$f":"VLOOKUP(C1550,Referencias!$B$18:$C$34,2,FALSE())","v":"M"},"C"]
["2813095","Palicio , Carmen","Madrileña","D","Tercera Diamante","Competición",3,{"$f":"VLOOKUP(E1551,Referencias!$B$4:$C$15,2,FALSE())","v":"3D"},{"$f":"VLOOKUP(C1551,Referencias!$B$18:$C$34,2,FALSE())","v":"M"},"C"]
["2813096","Martínez Velez, Jorge","Madrileña","C","Primera Picas","Competición",1,{"$f":"VLOOKUP(E1552,Referencias!$B$4:$C$15,2,FALSE())","v":"1P"},{"$f":"VLOOKUP(C1552,Referencias!$B$18:$C$34,2,FALSE())","v":"M"},"C"]
["2813099","Goizueta Arias-Dávila, Marta","Madrileña","D","Tercera Diamante","Competición",3,{"$f":"VLOOKUP(E1553,Referencias!$B$4:$C$15,2,FALSE())","v":"3D"},{"$f":"VLOOKUP(C1553,Referencias!$B$18:$C$34,2,FALSE())","v":"M"},"C"]
["2813103","D´Aubarede Paya, Inés","Madrileña","D","Tercera Picas","Competición",3,{"$f":"VLOOKUP(E1554,Referencias!$B$4:$C$15,2,FALSE())","v":"3P"},{"$f":"VLOOKUP(C1554,Referencias!$B$18:$C$34,2,FALSE())","v":"M"},"C"]
["2813104","Mendia Alcain, Ana","Madrileña","D","Segunda Corazón","Competición",2,{"$f":"VLOOKUP(E1555,Referencias!$B$4:$C$15,2,FALSE())","v":"2C"},{"$f":"VLOOKUP(C1555,Referencias!$B$18:$C$34,2,FALSE())","v":"M"},"C"]
["2813107","Claver Madurga, Lucinda","Madrileña","D","Segunda Diamante","Competición",2,{"$f":"VLOOKUP(E1556,Referencias!$B$4:$C$15,2,FALSE())","v":"2D"},{"$f":"VLOOKUP(C1556,Referencias!$B$18:$C$34,2,FALSE())","v":"M"},"C"]
["2813108","Claver Madurga, Guadalupe","Madrileña","D","Segunda Diamante","Competición",2,{"$f":"VLOOKUP(E1557,Referencias!$B$4:$C$15,2,FALSE())","v":"2D"},{"$f":"VLOOKUP(C1557,Referencias!$B$18:$C$34,2,FALSE())","v":"M"},"C"]
["2813109","Santesmases , María Teresa","Madrileña","D","Segunda Picas","Competición",2,{"$f":"VLOOKUP(E1558,Referencias!$B$4:$C$15,2,FALSE())","v":"2P"},{"$f":"VLOOKUP(C1558,Referencias!$B$18:$C$34,2,FALSE())","v":"M"},"C"]
["2813110","Cardiel Vicario , Francisco José","Madrileña","C","Segunda Picas","Competición",2,{"$f":"VLOOKUP(E1559,Referencias!$B$4:$C$15,2,FALSE())","v":"2P"},{"$f":"VLOOKUP(C1559,Referencias!$B$18:$C$34,2,FALSE())","v":"M"},"C"]
["2813112","González Garcimartín, Mª Paz","Madrileña","D","Sin Categoría","Competición",4,{"$f":"VLOOKUP(E1560,Referencias!$B$4:$C$15,2,FALSE())","v":"SC"},{"$f":"VLOOKUP(C1560,Referencias!$B$18:$C$34,2,FALSE())","v":"M"},"C"]
["2813114","Sánchez Rubio, Maite","Madrileña","D","Segunda Picas","Competición",2,{"$f":"VLOOKUP(E1561,Referencias!$B$4:$C$15,2,FALSE())","v":"2P"},{"$f":"VLOOKUP(C1561,Referencias!$B$18:$C$34,2,FALSE())","v":"M"},"C"]
["2813116","Bermúdez de Castro Rosillo, Luis","Madrileña","C","Segunda Picas","Competición",2,{"$f":"VLOOKUP(E1562,Referencias!$B$4:$C$15,2,FALSE())","v":"2P"},{"$f":"VLOOKUP(C1562,Referencias!$B$18:$C$34,2,FALSE())","v":"M"},"C"]
["2813117","Rubio Liniers, Teresa","Madrileña","D","Tercera Corazón","Competición",3,{"$f":"VLOOKUP(E1563,Referencias!$B$4:$C$15,2,FALSE())","v":"3C"},{"$f":"VLOOKUP(C1563,Referencias!$B$18:$C$34,2,FALSE())","v":"M"},"C"]
["2813118","López Socas, Constantino","Madrileña","C","Sin Categoría","Competición",4,{"$f":"VLOOKUP(E1564,Referencias!$B$4:$C$15,2,FALSE())","v":"SC"},{"$f":"VLOOKUP(C1564,Referencias!$B$18:$C$34,2,FALSE())","v":"M"},"C"]
["2813119","Benson Betterley, Judi","Madrileña","D","Sin Categoría","Competición",4,{"$f":"VLOOKUP(E1565,Referencias!$B$4:$C$15,2,FALSE())","v":"SC"},{"$f":"VLOOKUP(C1565,Referencias!$B$18:$C$34,2,FALSE())","v":"M"},"C"]
["2813120","Delibes Liniers, María","Madrileña","D","Primera Diamante","Competición",1,{"$f":"VLOOKUP(E1566,Referencias!$B$4:$C$15,2,FALSE())","v":"1D"},{"$f":"VLOOKUP(C1566,Referencias!$B$18:$C$34,2,FALSE())","v":"M"},"C"]
["2813121","Moreno Fernández de Córdova, Fátima","Madrileña","D","Segunda Picas","Competición",2,{"$f":"VLOOKUP(E1567,Referencias!$B$4:$C$15,2,FALSE())","v":"2P"},{"$f":"VLOOKUP(C1567,Referencias!$B$18:$C$34,2,FALSE())","v":"M"},"C"]
["2813122","Sánchez Rubio, Paz","Madrileña","D","Sin Categoría","Competición",4,{"$f":"VLOOKUP(E1568,Referencias!$B$4:$C$15,2,FALSE())","v":"SC"},{"$f":"VLOOKUP(C1568,Referencias!$B$18:$C$34,2,FALSE())","v":"M"},"C"]
["2813123","Prados Martín, Paloma","Madrileña","D","Sin Categoría","Competición",4,{"$f":"VLOOKUP(E1569,Referencias!$B$4:$C$15,2,FALSE())","v":"SC"},{"$f":"VLOOKUP(C1569,Referencias!$B$18:$C$34,2,FALSE())","v":"M"},"C"]
["2813124","García-Escudero Marquez, Teresa","Madrileña","D","Primera Picas","Competición",1,{"$f":"VLOOKUP(E1570,Referencias!$B$4:$C$15,2,FALSE())","v":"1P"},{"$f":"VLOOKUP(C1570,Referencias!$B$18:$C$34,2,FALSE())","v":"M"},"C"]
["2813125","Moser-Haarseth , Cathrine","Madrileña","D","Segunda Diamante","Competición",2,{"$f":"VLOOKUP(E1571,Referencias!$B$4:$C$15,2,FALSE())","v":"2D"},{"$f":"VLOOKUP(C1571,Referencias!$B$18:$C$34,2,FALSE())","v":"M"},"C"]
["2813126","González Díaz, Ana Mª","Madrileña","D","Primera Corazón","Competición",1,{"$f":"VLOOKUP(E1572,Referencias!$B$4:$C$15,2,FALSE())","v":"1C"},{"$f":"VLOOKUP(C1572,Referencias!$B$18:$C$34,2,FALSE())","v":"M"},"C"]
["2813128","Bielsa Ferrer, Pilar","Madrileña","D","Tercera Corazón","Competición",3,{"$f":"VLOOKUP(E1573,Referencias!$B$4:$C$15,2,FALSE())","v":"3C"},{"$f":"VLOOKUP(C1573,Referencias!$B$18:$C$34,2,FALSE())","v":"M"},"C"]
["2813129","Blanco Rodríguez, Dolores","Madrileña","D","Tercera Corazón","Competición",3,{"$f":"VLOOKUP(E1574,Referencias!$B$4:$C$15,2,FALSE())","v":"3C"},{"$f":"VLOOKUP(C1574,Referencias!$B$18:$C$34,2,FALSE())","v":"M"},"C"]
["2813130","Creus Ramírez de Haro, Mª Asunción","Madrileña","D","Segunda Diamante","Competición",2,{"$f":"VLOOKUP(E1575,Referencias!$B$4:$C$15,2,FALSE())","v":"2D"},{"$f":"VLOOKUP(C1575,Referencias!$B$18:$C$34,2,FALSE())","v":"M"},"C"]
["2813131","Krohn , Ingrid","Madrileña","D","Tercera Corazón","Competición",3,{"$f":"VLOOKUP(E1576,Referencias!$B$4:$C$15,2,FALSE())","v":"3C"},{"$f":"VLOOKUP(C1576,Referencias!$B$18:$C$34,2,FALSE())","v":"M"},"C"]
["2813132","Wendel , Ingrid","Madrileña","D","Tercera Diamante","Competición",3,{"$f":"VLOOKUP(E1577,Referencias!$B$4:$C$15,2,FALSE())","v":"3D"},{"$f":"VLOOKUP(C1577,Referencias!$B$18:$C$34,2,FALSE())","v":"M"},"C"]
["2813133","Kremers , Marlis","Madrileña","D","Primera Diamante","Competición",1,{"$f":"VLOOKUP(E1578,Referencias!$B$4:$C$15,2,FALSE())","v":"1D"},{"$f":"VLOOKUP(C1578,Referencias!$B$18:$C$34,2,FALSE())","v":"M"},"C"]
["2813134","Sagi-Vela Pilón, Elena","Madrileña","D","Segunda Picas","Competición",2,{"$f":"VLOOKUP(E1579,Referencias!$B$4:$C$15,2,FALSE())","v":"2P"},{"$f":"VLOOKUP(C1579,Referencias!$B$18:$C$34,2,FALSE())","v":"M"},"C"]
["2813135","Sanz-Pastor Mingot, Miryam","Madrileña","D","Segunda Picas","Competición",2,{"$f":"VLOOKUP(E1580,Referencias!$B$4:$C$15,2,FALSE())","v":"2P"},{"$f":"VLOOKUP(C1580,Referencias!$B$18:$C$34,2,FALSE())","v":"M"},"C"]
["2813139","Aparicio De Lázaro, Blanca","Madrileña","D","Sin Categoría","Competición",4,{"$f":"VLOOKUP(E1581,Referencias!$B$4:$C$15,2,FALSE())","v":"SC"},{"$f":"VLOOKUP(C1581,Referencias!$B$18:$C$34,2,FALSE())","v":"M"},"C"]
["2813140","Ivanov Zahariev, Nedeltcho","Madrileña","C","Primera Picas","Competición",1,{"$f":"VLOOKUP(E1582,Referencias!$B$4:$C$15,2,FALSE())","v":"1P"},{"$f":"VLOOKUP(C1582,Referencias!$B$18:$C$34,2,FALSE())","v":"M"},"C"]
["2813141","Cillero Mourelo, Antonio","Madrileña","C","Tercera Picas","Competición",3,{"$f":"VLOOKUP(E1583,Referencias!$B$4:$C$15,2,FALSE())","v":"3P"},{"$f":"VLOOKUP(C1583,Referencias!$B$18:$C$34,2,FALSE())","v":"M"},"C"]
["2813142","Cavero Crespi, Joaquín","Madrileña","C","Primera Corazón","Competición",1,{"$f":"VLOOKUP(E1584,Referencias!$B$4:$C$15,2,FALSE())","v":"1C"},{"$f":"VLOOKUP(C1584,Referencias!$B$18:$C$34,2,FALSE())","v":"M"},"C"]
["2813144","Zamora Paguaga, Paz","Madrileña","D","Tercera Picas","Competición",3,{"$f":"VLOOKUP(E1585,Referencias!$B$4:$C$15,2,FALSE())","v":"3P"},{"$f":"VLOOKUP(C1585,Referencias!$B$18:$C$34,2,FALSE())","v":"M"},"C"]
["2813147","Azcárraga Gonzalo, Álvaro","Madrileña","C","Segunda Picas","Competición",2,{"$f":"VLOOKUP(E1586,Referencias!$B$4:$C$15,2,FALSE())","v":"2P"},{"$f":"VLOOKUP(C1586,Referencias!$B$18:$C$34,2,FALSE())","v":"M"},"C"]
["2813151","Ribó de Oteyza, Jose María","Madrileña","C","Tercera Corazón","Competición",3,{"$f":"VLOOKUP(E1587,Referencias!$B$4:$C$15,2,FALSE())","v":"3C"},{"$f":"VLOOKUP(C1587,Referencias!$B$18:$C$34,2,FALSE())","v":"M"},"C"]
["2813153","Falcones Jaquotot, José Miguel","Madrileña","C","Segunda Picas","Competición",2,{"$f":"VLOOKUP(E1588,Referencias!$B$4:$C$15,2,FALSE())","v":"2P"},{"$f":"VLOOKUP(C1588,Referencias!$B$18:$C$34,2,FALSE())","v":"M"},"C"]
["2813155","Romaguera Cuevas, Luisa María","Madrileña","D","Tercera Diamante","Competición",3,{"$f":"VLOOKUP(E1589,Referencias!$B$4:$C$15,2,FALSE())","v":"3D"},{"$f":"VLOOKUP(C1589,Referencias!$B$18:$C$34,2,FALSE())","v":"M"},"C"]
["2813156","Eizaguirre Orbe, Coro","Madrileña","D","Tercera Diamante","Competición",3,{"$f":"VLOOKUP(E1590,Referencias!$B$4:$C$15,2,FALSE())","v":"3D"},{"$f":"VLOOKUP(C1590,Referencias!$B$18:$C$34,2,FALSE())","v":"M"},"C"]
["2813160","Megias Comín, Myriam","Madrileña","D","Tercera Picas","Competición",3,{"$f":"VLOOKUP(E1591,Referencias!$B$4:$C$15,2,FALSE())","v":"3P"},{"$f":"VLOOKUP(C1591,Referencias!$B$18:$C$34,2,FALSE())","v":"M"},"C"]
["2813161","Rodríguez Sarasa, Mª Luz","Madrileña","D","Sin Categoría","Competición",4,{"$f":"VLOOKUP(E1592,Referencias!$B$4:$C$15,2,FALSE())","v":"SC"},{"$f":"VLOOKUP(C1592,Referencias!$B$18:$C$34,2,FALSE())","v":"M"},"C"]
["2813162","García de la Rasilla Domínguez, Mª Socorro","Madrileña","D","Tercera Corazón","Competición",3,{"$f":"VLOOKUP(E1593,Referencias!$B$4:$C$15,2,FALSE())","v":"3C"},{"$f":"VLOOKUP(C1593,Referencias!$B$18:$C$34,2,FALSE())","v":"M"},"C"]
["2813163","Alvaro Bermejo, Ángela","Madrileña","D","Tercera Picas","Competición",3,{"$f":"VLOOKUP(E1594,Referencias!$B$4:$C$15,2,FALSE())","v":"3P"},{"$f":"VLOOKUP(C1594,Referencias!$B$18:$C$34,2,FALSE())","v":"M"},"C"]
["2813165","De Grahl Waetjen, Ana","Madrileña","D","Tercera Diamante","Competición",3,{"$f":"VLOOKUP(E1595,Referencias!$B$4:$C$15,2,FALSE())","v":"3D"},{"$f":"VLOOKUP(C1595,Referencias!$B$18:$C$34,2,FALSE())","v":"M"},"C"]
["2813166","Fernández Martínez, Marina","Madrileña","D","Tercera Diamante","Competición",3,{"$f":"VLOOKUP(E1596,Referencias!$B$4:$C$15,2,FALSE())","v":"3D"},{"$f":"VLOOKUP(C1596,Referencias!$B$18:$C$34,2,FALSE())","v":"M"},"C"]
["2813167","Arranz De Lama, Mª Ángeles","Madrileña","D","Tercera Picas","Competición",3,{"$f":"VLOOKUP(E1597,Referencias!$B$4:$C$15,2,FALSE())","v":"3P"},{"$f":"VLOOKUP(C1597,Referencias!$B$18:$C$34,2,FALSE())","v":"M"},"C"]
["2813168","Prados Del Amo, Teresa","Madrileña","D","Tercera Diamante","Competición",3,{"$f":"VLOOKUP(E1598,Referencias!$B$4:$C$15,2,FALSE())","v":"3D"},{"$f":"VLOOKUP(C1598,Referencias!$B$18:$C$34,2,FALSE())","v":"M"},"C"]
["2813170","Lamela Martínez, María Cruz","Madrileña","D","Tercera Picas","Competición",3,{"$f":"VLOOKUP(E1599,Referencias!$B$4:$C$15,2,FALSE())","v":"3P"},{"$f":"VLOOKUP(C1599,Referencias!$B$18:$C$34,2,FALSE())","v":"M"},"C"]
["2813171","Anglada Sant, Mª Ángeles","Madrileña","D","Tercera Diamante","Competición",3,{"$f":"VLOOKUP(E1600,Referencias!$B$4:$C$15,2,FALSE())","v":"3D"},{"$f":"VLOOKUP(C1600,Referencias!$B$18:$C$34,2,FALSE())","v":"M"},{"$f":"IF(D1600=\"Dama\",\"D\",\"C\")","v":"C"}]
["2813175","Díaz Beltrán, Mª Teresa","Madrileña","D","Tercera Picas","Competición",3,{"$f":"VLOOKUP(E1601,Referencias!$B$4:$C$15,2,FALSE())","v":"3P"},{"$f":"VLOOKUP(C1601,Referencias!$B$18:$C$34,2,FALSE())","v":"M"},"C"]
["2813176","Beneyto Garnica, Virginia","Madrileña","D","Tercera Diamante","Competición",3,{"$f":"VLOOKUP(E1602,Referencias!$B$4:$C$15,2,FALSE())","v":"3D"},{"$f":"VLOOKUP(C1602,Referencias!$B$18:$C$34,2,FALSE())","v":"M"},"C"]
["2813177","Alonso-Buron Chaves, Mariana","Madrileña","D","Sin Categoría","Competición",4,{"$f":"VLOOKUP(E1603,Referencias!$B$4:$C$15,2,FALSE())","v":"SC"},{"$f":"VLOOKUP(C1603,Referencias!$B$18:$C$34,2,FALSE())","v":"M"},"C"]
["2813178","Solis Bustos, Cristina","Madrileña","D","Tercera Corazón","Competición",3,{"$f":"VLOOKUP(E1604,Referencias!$B$4:$C$15,2,FALSE())","v":"3C"},{"$f":"VLOOKUP(C1604,Referencias!$B$18:$C$34,2,FALSE())","v":"M"},"C"]
["2813179","Miranda Roldán, Ángela","Madrileña","D","Tercera Diamante","Competición",3,{"$f":"VLOOKUP(E1605,Referencias!$B$4:$C$15,2,FALSE())","v":"3D"},{"$f":"VLOOKUP(C1605,Referencias!$B$18:$C$34,2,FALSE())","v":"M"},"C"]
["2813180","De Lacalle Noriega, Carmen","Madrileña","D","Sin Categoría","Competición",4,{"$f":"VLOOKUP(E1606,Referencias!$B$4:$C$15,2,FALSE())","v":"SC"},{"$f":"VLOOKUP(C1606,Referencias!$B$18:$C$34,2,FALSE())","v":"M"},"C"]
["2813181","Artola Fernández-Miranda, Susana","Madrileña","D","Tercera Corazón","Competición",3,{"$f":"VLOOKUP(E1607,Referencias!$B$4:$C$15,2,FALSE())","v":"3C"},{"$f":"VLOOKUP(C1607,Referencias!$B$18:$C$34,2,FALSE())","v":"M"},"C"]
["2813182","Torrubia Chalmeta, Pilar","Madrileña","D","Tercera Corazón","Competición",3,{"$f":"VLOOKUP(E1608,Referencias!$B$4:$C$15,2,FALSE())","v":"3C"},{"$f":"VLOOKUP(C1608,Referencias!$B$18:$C$34,2,FALSE())","v":"M"},"C"]
["2813184","Rodríguez Andrés, Julia","Madrileña","D","Tercera Diamante","Competición",3,{"$f":"VLOOKUP(E1609,Referencias!$B$4:$C$15,2,FALSE())","v":"3D"},{"$f":"VLOOKUP(C1609,Referencias!$B$18:$C$34,2,FALSE())","v":"M"},"C"]
["2813185","Ramírez Sánchez, Encarna","Madrileña","D","Segunda Corazón","Competición",2,{"$f":"VLOOKUP(E1610,Referencias!$B$4:$C$15,2,FALSE())","v":"2C"},{"$f":"VLOOKUP(C1610,Referencias!$B$18:$C$34,2,FALSE())","v":"M"},"C"]
["2813187","Murphy Coffey, Anne","Madrileña","D","Tercera Diamante","Competición",3,{"$f":"VLOOKUP(E1611,Referencias!$B$4:$C$15,2,FALSE())","v":"3D"},{"$f":"VLOOKUP(C1611,Referencias!$B$18:$C$34,2,FALSE())","v":"M"},"C"]
["2813188","Trujillo Ríos, Andrés","Madrileña","C","Segunda Diamante","Competición",2,{"$f":"VLOOKUP(E1612,Referencias!$B$4:$C$15,2,FALSE())","v":"2D"},{"$f":"VLOOKUP(C1612,Referencias!$B$18:$C$34,2,FALSE())","v":"M"},"C"]
["2813189","Basagoiti González-Trevilla, Paloma","Madrileña","D","Tercera Diamante","Competición",3,{"$f":"VLOOKUP(E1613,Referencias!$B$4:$C$15,2,FALSE())","v":"3D"},{"$f":"VLOOKUP(C1613,Referencias!$B$18:$C$34,2,FALSE())","v":"M"},"C"]
["2813190","Cabrero Abascal, Georgiana","Madrileña","D","Tercera Diamante","Competición",3,{"$f":"VLOOKUP(E1614,Referencias!$B$4:$C$15,2,FALSE())","v":"3D"},{"$f":"VLOOKUP(C1614,Referencias!$B$18:$C$34,2,FALSE())","v":"M"},"C"]
["2813191","García-Calbelo Castellano, Mª Dolores","Madrileña","D","Tercera Diamante","Competición",3,{"$f":"VLOOKUP(E1615,Referencias!$B$4:$C$15,2,FALSE())","v":"3D"},{"$f":"VLOOKUP(C1615,Referencias!$B$18:$C$34,2,FALSE())","v":"M"},"C"]
["2813192","Llarena Bastarreche, Mª Josefa","Madrileña","D","Tercera Corazón","Competición",3,{"$f":"VLOOKUP(E1616,Referencias!$B$4:$C$15,2,FALSE())","v":"3C"},{"$f":"VLOOKUP(C1616,Referencias!$B$18:$C$34,2,FALSE())","v":"M"},"C"]
["2813196","López Díaz, Mercedes","Madrileña","D","Segunda Picas","Competición",2,{"$f":"VLOOKUP(E1617,Referencias!$B$4:$C$15,2,FALSE())","v":"2P"},{"$f":"VLOOKUP(C1617,Referencias!$B$18:$C$34,2,FALSE())","v":"M"},"C"]
["2813197","González de Vega Pomar, Ramón","Madrileña","C","Primera Diamante","Competición",1,{"$f":"VLOOKUP(E1618,Referencias!$B$4:$C$15,2,FALSE())","v":"1D"},{"$f":"VLOOKUP(C1618,Referencias!$B$18:$C$34,2,FALSE())","v":"M"},"C"]
["2813198","Botín Díez-Canseco, Gloria","Madrileña","D","Sin Categoría","Competición",4,{"$f":"VLOOKUP(E1619,Referencias!$B$4:$C$15,2,FALSE())","v":"SC"},{"$f":"VLOOKUP(C1619,Referencias!$B$18:$C$34,2,FALSE())","v":"M"},"C"]
["2813199","De Casaus Reig, Rosalía","Madrileña","D","Tercera Picas","Competición",3,{"$f":"VLOOKUP(E1620,Referencias!$B$4:$C$15,2,FALSE())","v":"3P"},{"$f":"VLOOKUP(C1620,Referencias!$B$18:$C$34,2,FALSE())","v":"M"},"C"]
["2813200","Felip Fernández, Enrique","Madrileña","C","Tercera Picas","Competición",3,{"$f":"VLOOKUP(E1621,Referencias!$B$4:$C$15,2,FALSE())","v":"3P"},{"$f":"VLOOKUP(C1621,Referencias!$B$18:$C$34,2,FALSE())","v":"M"},"C"]
["2813201","Del Val Hermoso, Sol","Madrileña","D","Sin Categoría","Competición",4,{"$f":"VLOOKUP(E1622,Referencias!$B$4:$C$15,2,FALSE())","v":"SC"},{"$f":"VLOOKUP(C1622,Referencias!$B$18:$C$34,2,FALSE())","v":"M"},"C"]
["2813203","Borja Casero, María Pilar","Madrileña","D","Tercera Picas","Competición",3,{"$f":"VLOOKUP(E1623,Referencias!$B$4:$C$15,2,FALSE())","v":"3P"},{"$f":"VLOOKUP(C1623,Referencias!$B$18:$C$34,2,FALSE())","v":"M"},"C"]
["2813205","Agustí Herrero, Agustina Dolores","Madrileña","D","Sin Categoría","Honorífica",4,{"$f":"VLOOKUP(E1624,Referencias!$B$4:$C$15,2,FALSE())","v":"SC"},{"$f":"VLOOKUP(C1624,Referencias!$B$18:$C$34,2,FALSE())","v":"M"},"C"]
["2813206","Attias Azoulay, Odette","Madrileña","D","Tercera Picas","Competición",3,{"$f":"VLOOKUP(E1625,Referencias!$B$4:$C$15,2,FALSE())","v":"3P"},{"$f":"VLOOKUP(C1625,Referencias!$B$18:$C$34,2,FALSE())","v":"M"},"C"]
["2813208","Domingo Bové, Monserrat","Madrileña","D","Tercera Diamante","Honorífica",3,{"$f":"VLOOKUP(E1626,Referencias!$B$4:$C$15,2,FALSE())","v":"3D"},{"$f":"VLOOKUP(C1626,Referencias!$B$18:$C$34,2,FALSE())","v":"M"},"C"]
["2813212","Romero Gómez, Julia","Madrileña","D","Tercera Picas","Competición",3,{"$f":"VLOOKUP(E1627,Referencias!$B$4:$C$15,2,FALSE())","v":"3P"},{"$f":"VLOOKUP(C1627,Referencias!$B$18:$C$34,2,FALSE())","v":"M"},"C"]
["2813214","Fernández Mozo, Valentina","Madrileña","D","Tercera Diamante","Competición",3,{"$f":"VLOOKUP(E1628,Referencias!$B$4:$C$15,2,FALSE())","v":"3D"},{"$f":"VLOOKUP(C1628,Referencias!$B$18:$C$34,2,FALSE())","v":"M"},"C"]
["2813216","Pumariño Llamas, Yolanda","Madrileña","D","Sin Categoría","Competición",4,{"$f":"VLOOKUP(E1629,Referencias!$B$4:$C$15,2,FALSE())","v":"SC"},{"$f":"VLOOKUP(C1629,Referencias!$B$18:$C$34,2,FALSE())","v":"M"},"C"]
["2813217","Álvarez Maríz, Carmen","Madrileña","D","Tercera Corazón","Competición",3,{"$f":"VLOOKUP(E1630,Referencias!$B$4:$C$15,2,FALSE())","v":"3C"},{"$f":"VLOOKUP(C1630,Referencias!$B$18:$C$34,2,FALSE())","v":"M"},"C"]
["2813218","Grandas Alonso, Isabel","Madrileña","D","Tercera Corazón","Competición",3,{"$f":"VLOOKUP(E1631,Referencias!$B$4:$C$15,2,FALSE())","v":"3C"},{"$f":"VLOOKUP(C1631,Referencias!$B$18:$C$34,2,FALSE())","v":"M"},"C"]
["2813219","Sanz Iglesias, Amalia","Madrileña","D","Tercera Diamante","Competición",3,{"$f":"VLOOKUP(E1632,Referencias!$B$4:$C$15,2,FALSE())","v":"3D"},{"$f":"VLOOKUP(C1632,Referencias!$B$18:$C$34,2,FALSE())","v":"M"},"C"]
["2813220","Morales Motos, Isabel","Madrileña","D","Segunda Picas","Competición",2,{"$f":"VLOOKUP(E1633,Referencias!$B$4:$C$15,2,FALSE())","v":"2P"},{"$f":"VLOOKUP(C1633,Referencias!$B$18:$C$34,2,FALSE())","v":"M"},"C"]
["2813221","Gustafsson Akerfeldt, Verónica","Madrileña","D","Sin Categoría","Competición",4,{"$f":"VLOOKUP(E1634,Referencias!$B$4:$C$15,2,FALSE())","v":"SC"},{"$f":"VLOOKUP(C1634,Referencias!$B$18:$C$34,2,FALSE())","v":"M"},"C"]
["2813223","Leal Pérez-Olagüe, María Luisa","Madrileña","D","Tercera Diamante","Competición",3,{"$f":"VLOOKUP(E1635,Referencias!$B$4:$C$15,2,FALSE())","v":"3D"},{"$f":"VLOOKUP(C1635,Referencias!$B$18:$C$34,2,FALSE())","v":"M"},"C"]
["2813224","Magro Mas, Inmaculada","Madrileña","D","Tercera Corazón","Competición",3,{"$f":"VLOOKUP(E1636,Referencias!$B$4:$C$15,2,FALSE())","v":"3C"},{"$f":"VLOOKUP(C1636,Referencias!$B$18:$C$34,2,FALSE())","v":"M"},"C"]
["2813227","Ayala Hernández, Jose María","Madrileña","C","Segunda Picas","Competición",2,{"$f":"VLOOKUP(E1637,Referencias!$B$4:$C$15,2,FALSE())","v":"2P"},{"$f":"VLOOKUP(C1637,Referencias!$B$18:$C$34,2,FALSE())","v":"M"},"C"]
["2813228","Sanz Iglesias, Pilar","Madrileña","D","Tercera Diamante","Competición",3,{"$f":"VLOOKUP(E1638,Referencias!$B$4:$C$15,2,FALSE())","v":"3D"},{"$f":"VLOOKUP(C1638,Referencias!$B$18:$C$34,2,FALSE())","v":"M"},"C"]
["2813229","Español Jofre de Villegas, Pilar","Madrileña","D","Tercera Picas","Competición",3,{"$f":"VLOOKUP(E1639,Referencias!$B$4:$C$15,2,FALSE())","v":"3P"},{"$f":"VLOOKUP(C1639,Referencias!$B$18:$C$34,2,FALSE())","v":"M"},"C"]
["2813232","Domingo Ruano, Rosario","Madrileña","D","Tercera Diamante","Competición",3,{"$f":"VLOOKUP(E1640,Referencias!$B$4:$C$15,2,FALSE())","v":"3D"},{"$f":"VLOOKUP(C1640,Referencias!$B$18:$C$34,2,FALSE())","v":"M"},"C"]
["2813237","Sobrino Márquez, Juana","Madrileña","D","Tercera Diamante","Honorífica",3,{"$f":"VLOOKUP(E1641,Referencias!$B$4:$C$15,2,FALSE())","v":"3D"},{"$f":"VLOOKUP(C1641,Referencias!$B$18:$C$34,2,FALSE())","v":"M"},"C"]
["2813238","Marquina Sacristán, Concepción","Madrileña","D","Segunda Diamante","Competición",2,{"$f":"VLOOKUP(E1642,Referencias!$B$4:$C$15,2,FALSE())","v":"2D"},{"$f":"VLOOKUP(C1642,Referencias!$B$18:$C$34,2,FALSE())","v":"M"},"C"]
["2813244","Saenz Cala, Mª Ángeles","Madrileña","D","Sin Categoría","Competición",4,{"$f":"VLOOKUP(E1643,Referencias!$B$4:$C$15,2,FALSE())","v":"SC"},{"$f":"VLOOKUP(C1643,Referencias!$B$18:$C$34,2,FALSE())","v":"M"},"C"]
["2813245","De la Peña González-Camino, Berta","Madrileña","D","Tercera Picas","Competición",3,{"$f":"VLOOKUP(E1644,Referencias!$B$4:$C$15,2,FALSE())","v":"3P"},{"$f":"VLOOKUP(C1644,Referencias!$B$18:$C$34,2,FALSE())","v":"M"},"C"]
["2813246","Perera Briones, Virginia","Madrileña","D","Tercera Corazón","Competición",3,{"$f":"VLOOKUP(E1645,Referencias!$B$4:$C$15,2,FALSE())","v":"3C"},{"$f":"VLOOKUP(C1645,Referencias!$B$18:$C$34,2,FALSE())","v":"M"},"C"]
["2813248","Perera Briones, Cristina","Madrileña","D","Sin Categoría","Competición",4,{"$f":"VLOOKUP(E1646,Referencias!$B$4:$C$15,2,FALSE())","v":"SC"},{"$f":"VLOOKUP(C1646,Referencias!$B$18:$C$34,2,FALSE())","v":"M"},"C"]
["2813249","Aguilar Urquijo, María","Madrileña","D","Tercera Diamante","Competición",3,{"$f":"VLOOKUP(E1647,Referencias!$B$4:$C$15,2,FALSE())","v":"3D"},{"$f":"VLOOKUP(C1647,Referencias!$B$18:$C$34,2,FALSE())","v":"M"},"C"]
["2813251","Esparza Hernández, Carmen","Madrileña","D","Segunda Corazón","Competición",2,{"$f":"VLOOKUP(E1648,Referencias!$B$4:$C$15,2,FALSE())","v":"2C"},{"$f":"VLOOKUP(C1648,Referencias!$B$18:$C$34,2,FALSE())","v":"M"},"C"]
["2813252","Jiménez Muro, Carmen","Madrileña","D","Tercera Diamante","Competición",3,{"$f":"VLOOKUP(E1649,Referencias!$B$4:$C$15,2,FALSE())","v":"3D"},{"$f":"VLOOKUP(C1649,Referencias!$B$18:$C$34,2,FALSE())","v":"M"},"C"]
["2813254","Zunzunegui Arocena, Zenaida","Madrileña","D","Tercera Diamante","Competición",3,{"$f":"VLOOKUP(E1650,Referencias!$B$4:$C$15,2,FALSE())","v":"3D"},{"$f":"VLOOKUP(C1650,Referencias!$B$18:$C$34,2,FALSE())","v":"M"},"C"]
["2813256","López Gallego, Concepción","Madrileña","D","Segunda Diamante","Competición",2,{"$f":"VLOOKUP(E1651,Referencias!$B$4:$C$15,2,FALSE())","v":"2D"},{"$f":"VLOOKUP(C1651,Referencias!$B$18:$C$34,2,FALSE())","v":"M"},"C"]
["2813259","Aguado De Corral, Myriam","Madrileña","D","Primera Corazón","Competición",1,{"$f":"VLOOKUP(E1652,Referencias!$B$4:$C$15,2,FALSE())","v":"1C"},{"$f":"VLOOKUP(C1652,Referencias!$B$18:$C$34,2,FALSE())","v":"M"},"C"]
["2813260","De Corral Yerro, María Soledad","Madrileña","D","Sin Categoría","Competición",4,{"$f":"VLOOKUP(E1653,Referencias!$B$4:$C$15,2,FALSE())","v":"SC"},{"$f":"VLOOKUP(C1653,Referencias!$B$18:$C$34,2,FALSE())","v":"M"},"C"]
["2813261","Rosety Blanco, Beatríz","Madrileña","D","Primera Corazón","Competición",1,{"$f":"VLOOKUP(E1654,Referencias!$B$4:$C$15,2,FALSE())","v":"1C"},{"$f":"VLOOKUP(C1654,Referencias!$B$18:$C$34,2,FALSE())","v":"M"},"C"]
["2813262","Garate Barrenechea, José Felix","Madrileña","C","Segunda Corazón","Competición",2,{"$f":"VLOOKUP(E1655,Referencias!$B$4:$C$15,2,FALSE())","v":"2C"},{"$f":"VLOOKUP(C1655,Referencias!$B$18:$C$34,2,FALSE())","v":"M"},"C"]
["2813263","García Casado, Esther","Madrileña","D","Primera Picas","Competición",1,{"$f":"VLOOKUP(E1656,Referencias!$B$4:$C$15,2,FALSE())","v":"1P"},{"$f":"VLOOKUP(C1656,Referencias!$B$18:$C$34,2,FALSE())","v":"M"},"C"]
["2813264","Heredero San José, Mª Jesús","Madrileña","D","Segunda Diamante","Competición",2,{"$f":"VLOOKUP(E1657,Referencias!$B$4:$C$15,2,FALSE())","v":"2D"},{"$f":"VLOOKUP(C1657,Referencias!$B$18:$C$34,2,FALSE())","v":"M"},"C"]
["2813265","Menéndez Fernández, Mª Antonia","Madrileña","D","Tercera Picas","Competición",3,{"$f":"VLOOKUP(E1658,Referencias!$B$4:$C$15,2,FALSE())","v":"3P"},{"$f":"VLOOKUP(C1658,Referencias!$B$18:$C$34,2,FALSE())","v":"M"},"C"]
["2813267","Messone Álvarez, Josefina","Madrileña","D","Tercera Diamante","Competición",3,{"$f":"VLOOKUP(E1659,Referencias!$B$4:$C$15,2,FALSE())","v":"3D"},{"$f":"VLOOKUP(C1659,Referencias!$B$18:$C$34,2,FALSE())","v":"M"},"C"]
["2813269","González de Aguilar Alonso-Urquijo, Francisca","Madrileña","D","Tercera Picas","Competición",3,{"$f":"VLOOKUP(E1660,Referencias!$B$4:$C$15,2,FALSE())","v":"3P"},{"$f":"VLOOKUP(C1660,Referencias!$B$18:$C$34,2,FALSE())","v":"M"},"C"]
["2813270","Gil de Santivañes De la Mora, Marta","Madrileña","D","Sin Categoría","Competición",4,{"$f":"VLOOKUP(E1661,Referencias!$B$4:$C$15,2,FALSE())","v":"SC"},{"$f":"VLOOKUP(C1661,Referencias!$B$18:$C$34,2,FALSE())","v":"M"},"C"]
["2813271","González de Aguilar Alonso-Urquijo, Sofía","Madrileña","D","Sin Categoría","Competición",4,{"$f":"VLOOKUP(E1662,Referencias!$B$4:$C$15,2,FALSE())","v":"SC"},{"$f":"VLOOKUP(C1662,Referencias!$B$18:$C$34,2,FALSE())","v":"M"},"C"]
["2813272","Álvarez de Espejo Mariategui, Regina","Madrileña","D","Sin Categoría","Competición",4,{"$f":"VLOOKUP(E1663,Referencias!$B$4:$C$15,2,FALSE())","v":"SC"},{"$f":"VLOOKUP(C1663,Referencias!$B$18:$C$34,2,FALSE())","v":"M"},"C"]
["2813275","Rubio Matilla, María","Madrileña","D","Tercera Diamante","Competición",3,{"$f":"VLOOKUP(E1664,Referencias!$B$4:$C$15,2,FALSE())","v":"3D"},{"$f":"VLOOKUP(C1664,Referencias!$B$18:$C$34,2,FALSE())","v":"M"},{"$f":"IF(D1664=\"Dama\",\"D\",\"C\")","v":"C"}]
["2813277","Alfonso Garau, Margarita","Madrileña","D","Tercera Diamante","Competición",3,{"$f":"VLOOKUP(E1665,Referencias!$B$4:$C$15,2,FALSE())","v":"3D"},{"$f":"VLOOKUP(C1665,Referencias!$B$18:$C$34,2,FALSE())","v":"M"},"C"]
["2813278","Naeder Gueutier, Virginia","Madrileña","D","Tercera Picas","Competición",3,{"$f":"VLOOKUP(E1666,Referencias!$B$4:$C$15,2,FALSE())","v":"3P"},{"$f":"VLOOKUP(C1666,Referencias!$B$18:$C$34,2,FALSE())","v":"M"},"C"]
["2813279","Bensadon Belicha, Larry","Madrileña","C","Tercera Picas","Competición",3,{"$f":"VLOOKUP(E1667,Referencias!$B$4:$C$15,2,FALSE())","v":"3P"},{"$f":"VLOOKUP(C1667,Referencias!$B$18:$C$34,2,FALSE())","v":"M"},"C"]
["2813283","Buendía García, Esther","Madrileña","D","Tercera Corazón","Competición",3,{"$f":"VLOOKUP(E1668,Referencias!$B$4:$C$15,2,FALSE())","v":"3C"},{"$f":"VLOOKUP(C1668,Referencias!$B$18:$C$34,2,FALSE())","v":"M"},"C"]
["2813284","Teo , Carol","Madrileña","D","Tercera Picas","Competición",3,{"$f":"VLOOKUP(E1669,Referencias!$B$4:$C$15,2,FALSE())","v":"3P"},{"$f":"VLOOKUP(C1669,Referencias!$B$18:$C$34,2,FALSE())","v":"M"},"C"]
["2813285","Bartolomé Álvarez, Jose María","Madrileña","C","Tercera Diamante","Competición",3,{"$f":"VLOOKUP(E1670,Referencias!$B$4:$C$15,2,FALSE())","v":"3D"},{"$f":"VLOOKUP(C1670,Referencias!$B$18:$C$34,2,FALSE())","v":"M"},"C"]
["2813286","Maillo Romero, Araceli","Madrileña","D","Tercera Diamante","Competición",3,{"$f":"VLOOKUP(E1671,Referencias!$B$4:$C$15,2,FALSE())","v":"3D"},{"$f":"VLOOKUP(C1671,Referencias!$B$18:$C$34,2,FALSE())","v":"M"},"C"]
["2813287","Ripollés Moro, Mª del Carmen","Madrileña","D","Tercera Corazón","Competición",3,{"$f":"VLOOKUP(E1672,Referencias!$B$4:$C$15,2,FALSE())","v":"3C"},{"$f":"VLOOKUP(C1672,Referencias!$B$18:$C$34,2,FALSE())","v":"M"},"C"]
["2813288","Arias Campo, Ana","Madrileña","D","Tercera Diamante","Competición",3,{"$f":"VLOOKUP(E1673,Referencias!$B$4:$C$15,2,FALSE())","v":"3D"},{"$f":"VLOOKUP(C1673,Referencias!$B$18:$C$34,2,FALSE())","v":"M"},"C"]
["2813289","Villa Montes, Esperanza","Madrileña","D","Tercera Corazón","Competición",3,{"$f":"VLOOKUP(E1674,Referencias!$B$4:$C$15,2,FALSE())","v":"3C"},{"$f":"VLOOKUP(C1674,Referencias!$B$18:$C$34,2,FALSE())","v":"M"},"C"]
["2813290","Moriyón Salomón, Roberto","Madrileña","C","Segunda Corazón","Competición",2,{"$f":"VLOOKUP(E1675,Referencias!$B$4:$C$15,2,FALSE())","v":"2C"},{"$f":"VLOOKUP(C1675,Referencias!$B$18:$C$34,2,FALSE())","v":"M"},"C"]
["2813296","López Sánchez, Mª Luscinda","Madrileña","D","Tercera Corazón","Competición",3,{"$f":"VLOOKUP(E1676,Referencias!$B$4:$C$15,2,FALSE())","v":"3C"},{"$f":"VLOOKUP(C1676,Referencias!$B$18:$C$34,2,FALSE())","v":"M"},"C"]
["2813297","Martínez De Año, Julia","Madrileña","D","Tercera Picas","Competición",3,{"$f":"VLOOKUP(E1677,Referencias!$B$4:$C$15,2,FALSE())","v":"3P"},{"$f":"VLOOKUP(C1677,Referencias!$B$18:$C$34,2,FALSE())","v":"M"},"C"]
["2813300","Montón Gil, Ana María","Madrileña","D","Primera Diamante","Competición",1,{"$f":"VLOOKUP(E1678,Referencias!$B$4:$C$15,2,FALSE())","v":"1D"},{"$f":"VLOOKUP(C1678,Referencias!$B$18:$C$34,2,FALSE())","v":"M"},"C"]
["2813301","Tierra Serrano, Jesús","Madrileña","C","Primera Diamante","Competición",1,{"$f":"VLOOKUP(E1679,Referencias!$B$4:$C$15,2,FALSE())","v":"1D"},{"$f":"VLOOKUP(C1679,Referencias!$B$18:$C$34,2,FALSE())","v":"M"},"C"]
["2813302","Cervera Vélez, Maite","Madrileña","D","Tercera Picas","Competición",3,{"$f":"VLOOKUP(E1680,Referencias!$B$4:$C$15,2,FALSE())","v":"3P"},{"$f":"VLOOKUP(C1680,Referencias!$B$18:$C$34,2,FALSE())","v":"M"},"C"]
["2813310","Temes Hernández, Elisa","Madrileña","D","Tercera Picas","Competición",3,{"$f":"VLOOKUP(E1681,Referencias!$B$4:$C$15,2,FALSE())","v":"3P"},{"$f":"VLOOKUP(C1681,Referencias!$B$18:$C$34,2,FALSE())","v":"M"},"C"]
["2813316","Lasso de la Vega Linares, Mª Jesús","Madrileña","D","Sin Categoría","Competición",4,{"$f":"VLOOKUP(E1682,Referencias!$B$4:$C$15,2,FALSE())","v":"SC"},{"$f":"VLOOKUP(C1682,Referencias!$B$18:$C$34,2,FALSE())","v":"M"},"C"]
["2813317","Ojeda Ferro, Mª Luz","Madrileña","D","Sin Categoría","Competición",4,{"$f":"VLOOKUP(E1683,Referencias!$B$4:$C$15,2,FALSE())","v":"SC"},{"$f":"VLOOKUP(C1683,Referencias!$B$18:$C$34,2,FALSE())","v":"M"},"C"]
["2813319","López Sánchez, Fuensanta","Madrileña","D","Tercera Corazón","Competición",3,{"$f":"VLOOKUP(E1684,Referencias!$B$4:$C$15,2,FALSE())","v":"3C"},{"$f":"VLOOKUP(C1684,Referencias!$B$18:$C$34,2,FALSE())","v":"M"},"C"]
["2813320","Girón Muntadas, Santiago","Madrileña","C","Tercera Picas","Competición",3,{"$f":"VLOOKUP(E1685,Referencias!$B$4:$C$15,2,FALSE())","v":"3P"},{"$f":"VLOOKUP(C1685,Referencias!$B$18:$C$34,2,FALSE())","v":"M"},"C"]
["2813321","Sagarra Ruiz, Isabel","Madrileña","D","Sin Categoría","Competición",4,{"$f":"VLOOKUP(E1686,Referencias!$B$4:$C$15,2,FALSE())","v":"SC"},{"$f":"VLOOKUP(C1686,Referencias!$B$18:$C$34,2,FALSE())","v":"M"},"C"]
["2813323","Gurruchaga Ruiz, Margarita","Madrileña","D","Tercera Diamante","Competición",3,{"$f":"VLOOKUP(E1687,Referencias!$B$4:$C$15,2,FALSE())","v":"3D"},{"$f":"VLOOKUP(C1687,Referencias!$B$18:$C$34,2,FALSE())","v":"M"},"C"]
["2813325","Hornedo Noriega, Natividad","Madrileña","D","Tercera Picas","Competición",3,{"$f":"VLOOKUP(E1688,Referencias!$B$4:$C$15,2,FALSE())","v":"3P"},{"$f":"VLOOKUP(C1688,Referencias!$B$18:$C$34,2,FALSE())","v":"M"},"C"]
["2813326","Seghers Daelemans, Frida","Madrileña","D","Tercera Corazón","Competición",3,{"$f":"VLOOKUP(E1689,Referencias!$B$4:$C$15,2,FALSE())","v":"3C"},{"$f":"VLOOKUP(C1689,Referencias!$B$18:$C$34,2,FALSE())","v":"M"},"C"]
["2813327","Cabañas Arenzana, Begoña","Madrileña","D","Segunda Picas","Competición",2,{"$f":"VLOOKUP(E1690,Referencias!$B$4:$C$15,2,FALSE())","v":"2P"},{"$f":"VLOOKUP(C1690,Referencias!$B$18:$C$34,2,FALSE())","v":"M"},"C"]
["2813328","Escribano García-Bosque, José Ignacio","Madrileña","C","Segunda Diamante","Competición",2,{"$f":"VLOOKUP(E1691,Referencias!$B$4:$C$15,2,FALSE())","v":"2D"},{"$f":"VLOOKUP(C1691,Referencias!$B$18:$C$34,2,FALSE())","v":"M"},"C"]
["2813329","Rodríguez Alonso, Mª José","Madrileña","D","Segunda Corazón","Competición",2,{"$f":"VLOOKUP(E1692,Referencias!$B$4:$C$15,2,FALSE())","v":"2C"},{"$f":"VLOOKUP(C1692,Referencias!$B$18:$C$34,2,FALSE())","v":"M"},"C"]
["2813332","Blat Acacio, Raquel","Madrileña","D","Tercera Corazón","Competición",3,{"$f":"VLOOKUP(E1693,Referencias!$B$4:$C$15,2,FALSE())","v":"3C"},{"$f":"VLOOKUP(C1693,Referencias!$B$18:$C$34,2,FALSE())","v":"M"},"C"]
["2813333","Velázquez-Duro González-Regueral, Luz María","Madrileña","D","Sin Categoría","Competición",4,{"$f":"VLOOKUP(E1694,Referencias!$B$4:$C$15,2,FALSE())","v":"SC"},{"$f":"VLOOKUP(C1694,Referencias!$B$18:$C$34,2,FALSE())","v":"M"},"C"]
["2813334","Jordán de Urries Castelo Branco, María Antonia","Madrileña","D","Tercera Diamante","Competición",3,{"$f":"VLOOKUP(E1695,Referencias!$B$4:$C$15,2,FALSE())","v":"3D"},{"$f":"VLOOKUP(C1695,Referencias!$B$18:$C$34,2,FALSE())","v":"M"},"C"]
["2813337","Plaza De la Cuesta, Mª de la Paz","Madrileña","D","Tercera Corazón","Competición",3,{"$f":"VLOOKUP(E1696,Referencias!$B$4:$C$15,2,FALSE())","v":"3C"},{"$f":"VLOOKUP(C1696,Referencias!$B$18:$C$34,2,FALSE())","v":"M"},"C"]
["2813339","Rodríguez-Vita Ferrer, Carmen","Madrileña","D","Tercera Corazón","Competición",3,{"$f":"VLOOKUP(E1697,Referencias!$B$4:$C$15,2,FALSE())","v":"3C"},{"$f":"VLOOKUP(C1697,Referencias!$B$18:$C$34,2,FALSE())","v":"M"},"C"]
["2813340","Casanova Leyún, Mercedes","Madrileña","D","Tercera Corazón","Competición",3,{"$f":"VLOOKUP(E1698,Referencias!$B$4:$C$15,2,FALSE())","v":"3C"},{"$f":"VLOOKUP(C1698,Referencias!$B$18:$C$34,2,FALSE())","v":"M"},"C"]
["2813342","Harmouch , Norma","Madrileña","D","Tercera Corazón","Competición",3,{"$f":"VLOOKUP(E1699,Referencias!$B$4:$C$15,2,FALSE())","v":"3C"},{"$f":"VLOOKUP(C1699,Referencias!$B$18:$C$34,2,FALSE())","v":"M"},"C"]
["2813343","González-Orejas Fernández, Mª del Carmen","Madrileña","D","Tercera Picas","Competición",3,{"$f":"VLOOKUP(E1700,Referencias!$B$4:$C$15,2,FALSE())","v":"3P"},{"$f":"VLOOKUP(C1700,Referencias!$B$18:$C$34,2,FALSE())","v":"M"},"C"]
["2813345","Fitzgerald Mac Carthy, Jackie","Madrileña","D","Tercera Picas","Competición",3,{"$f":"VLOOKUP(E1701,Referencias!$B$4:$C$15,2,FALSE())","v":"3P"},{"$f":"VLOOKUP(C1701,Referencias!$B$18:$C$34,2,FALSE())","v":"M"},"C"]
["2813348","Antúnez Vidaurrazaga, Margarita","Madrileña","D","Tercera Corazón","Competición",3,{"$f":"VLOOKUP(E1702,Referencias!$B$4:$C$15,2,FALSE())","v":"3C"},{"$f":"VLOOKUP(C1702,Referencias!$B$18:$C$34,2,FALSE())","v":"M"},"C"]
["2813349","De la Serna Llera, Cristina","Madrileña","D","Segunda Diamante","Competición",2,{"$f":"VLOOKUP(E1703,Referencias!$B$4:$C$15,2,FALSE())","v":"2D"},{"$f":"VLOOKUP(C1703,Referencias!$B$18:$C$34,2,FALSE())","v":"M"},"C"]
["2813350","Moratino Alcalde, María","Madrileña","D","Sin Categoría","Competición",4,{"$f":"VLOOKUP(E1704,Referencias!$B$4:$C$15,2,FALSE())","v":"SC"},{"$f":"VLOOKUP(C1704,Referencias!$B$18:$C$34,2,FALSE())","v":"M"},"C"]
["2813351","OlÍas Muñoz, Francisco","Madrileña","C","Segunda Corazón","Competición",2,{"$f":"VLOOKUP(E1705,Referencias!$B$4:$C$15,2,FALSE())","v":"2C"},{"$f":"VLOOKUP(C1705,Referencias!$B$18:$C$34,2,FALSE())","v":"M"},"C"]
["2813354","Rochina Adelantado, Antonia","Madrileña","D","Sin Categoría","Competición",4,{"$f":"VLOOKUP(E1706,Referencias!$B$4:$C$15,2,FALSE())","v":"SC"},{"$f":"VLOOKUP(C1706,Referencias!$B$18:$C$34,2,FALSE())","v":"M"},"C"]
["2813356","Labrador Martín, Antonio","Madrileña","C","Tercera Corazón","Competición",3,{"$f":"VLOOKUP(E1707,Referencias!$B$4:$C$15,2,FALSE())","v":"3C"},{"$f":"VLOOKUP(C1707,Referencias!$B$18:$C$34,2,FALSE())","v":"M"},"C"]
["2813369","Albarracín Rodríguez, Mª del Carmen","Madrileña","D","Sin Categoría","Competición",4,{"$f":"VLOOKUP(E1708,Referencias!$B$4:$C$15,2,FALSE())","v":"SC"},{"$f":"VLOOKUP(C1708,Referencias!$B$18:$C$34,2,FALSE())","v":"M"},"C"]
["2813370","Eguibar Galarza, María Fernanda","Madrileña","D","Tercera Corazón","Competición",3,{"$f":"VLOOKUP(E1709,Referencias!$B$4:$C$15,2,FALSE())","v":"3C"},{"$f":"VLOOKUP(C1709,Referencias!$B$18:$C$34,2,FALSE())","v":"M"},"C"]
["2813371","Argüelles Álvarez, Ramón","Madrileña","C","Tercera Diamante","Competición",3,{"$f":"VLOOKUP(E1710,Referencias!$B$4:$C$15,2,FALSE())","v":"3D"},{"$f":"VLOOKUP(C1710,Referencias!$B$18:$C$34,2,FALSE())","v":"M"},"C"]
["2813372","Blanco Aladro, María del Carmen","Madrileña","D","Tercera Corazón","Competición",3,{"$f":"VLOOKUP(E1711,Referencias!$B$4:$C$15,2,FALSE())","v":"3C"},{"$f":"VLOOKUP(C1711,Referencias!$B$18:$C$34,2,FALSE())","v":"M"},"C"]
["2813373","De Antonio Chaves, Carmen","Madrileña","D","Tercera Diamante","Competición",3,{"$f":"VLOOKUP(E1712,Referencias!$B$4:$C$15,2,FALSE())","v":"3D"},{"$f":"VLOOKUP(C1712,Referencias!$B$18:$C$34,2,FALSE())","v":"M"},"C"]
["2813374","De Bustillo Delgado, Carlos","Madrileña","C","Tercera Diamante","Competición",3,{"$f":"VLOOKUP(E1713,Referencias!$B$4:$C$15,2,FALSE())","v":"3D"},{"$f":"VLOOKUP(C1713,Referencias!$B$18:$C$34,2,FALSE())","v":"M"},"C"]
["2813377","Martín García, María Pilar","Madrileña","D","Tercera Corazón","Competición",3,{"$f":"VLOOKUP(E1714,Referencias!$B$4:$C$15,2,FALSE())","v":"3C"},{"$f":"VLOOKUP(C1714,Referencias!$B$18:$C$34,2,FALSE())","v":"M"},"C"]
["2813378","Nieto Mengotti, Cristina","Madrileña","D","Tercera Corazón","Competición",3,{"$f":"VLOOKUP(E1715,Referencias!$B$4:$C$15,2,FALSE())","v":"3C"},{"$f":"VLOOKUP(C1715,Referencias!$B$18:$C$34,2,FALSE())","v":"M"},"C"]
["2813382","Macaya De Aguinaga, Paloma","Madrileña","D","Tercera Diamante","Competición",3,{"$f":"VLOOKUP(E1716,Referencias!$B$4:$C$15,2,FALSE())","v":"3D"},{"$f":"VLOOKUP(C1716,Referencias!$B$18:$C$34,2,FALSE())","v":"M"},"C"]
["2813383","Broz Flores, Victoria","Madrileña","D","Tercera Corazón","Competición",3,{"$f":"VLOOKUP(E1717,Referencias!$B$4:$C$15,2,FALSE())","v":"3C"},{"$f":"VLOOKUP(C1717,Referencias!$B$18:$C$34,2,FALSE())","v":"M"},"C"]
["2813384","Vázquez Prieto, Paula","Madrileña","D","Tercera Diamante","Competición",3,{"$f":"VLOOKUP(E1718,Referencias!$B$4:$C$15,2,FALSE())","v":"3D"},{"$f":"VLOOKUP(C1718,Referencias!$B$18:$C$34,2,FALSE())","v":"M"},"C"]
["2813385","De Manzanos De la Escosura, Paloma","Madrileña","D","Tercera Diamante","Competición",3,{"$f":"VLOOKUP(E1719,Referencias!$B$4:$C$15,2,FALSE())","v":"3D"},{"$f":"VLOOKUP(C1719,Referencias!$B$18:$C$34,2,FALSE())","v":"M"},"C"]
["2813386","Sainz Martín, Margarita","Madrileña","D","Tercera Diamante","Competición",3,{"$f":"VLOOKUP(E1720,Referencias!$B$4:$C$15,2,FALSE())","v":"3D"},{"$f":"VLOOKUP(C1720,Referencias!$B$18:$C$34,2,FALSE())","v":"M"},"C"]
["2813387","Ruiz-Cámara Inchaurtieta, Ana","Madrileña","D","Tercera Corazón","Competición",3,{"$f":"VLOOKUP(E1721,Referencias!$B$4:$C$15,2,FALSE())","v":"3C"},{"$f":"VLOOKUP(C1721,Referencias!$B$18:$C$34,2,FALSE())","v":"M"},"C"]
["2813397","Arranz Pumar, Candelas","Madrileña","D","Tercera Corazón","Competición",3,{"$f":"VLOOKUP(E1722,Referencias!$B$4:$C$15,2,FALSE())","v":"3C"},{"$f":"VLOOKUP(C1722,Referencias!$B$18:$C$34,2,FALSE())","v":"M"},"C"]
["2813398","Fuglestad , Finn","Madrileña","C","Tercera Corazón","Competición",3,{"$f":"VLOOKUP(E1723,Referencias!$B$4:$C$15,2,FALSE())","v":"3C"},{"$f":"VLOOKUP(C1723,Referencias!$B$18:$C$34,2,FALSE())","v":"M"},"C"]
["2813402","Fernández Manrique, Elena","Madrileña","D","Tercera Diamante","Competición",3,{"$f":"VLOOKUP(E1724,Referencias!$B$4:$C$15,2,FALSE())","v":"3D"},{"$f":"VLOOKUP(C1724,Referencias!$B$18:$C$34,2,FALSE())","v":"M"},"C"]
["2813404","Fernández de Córdoba , Sonsoles","Madrileña","D","Tercera Corazón","Competición",3,{"$f":"VLOOKUP(E1725,Referencias!$B$4:$C$15,2,FALSE())","v":"3C"},{"$f":"VLOOKUP(C1725,Referencias!$B$18:$C$34,2,FALSE())","v":"M"},"C"]
["2813405","López Quesada, Dolores","Madrileña","D","Tercera Diamante","Competición",3,{"$f":"VLOOKUP(E1726,Referencias!$B$4:$C$15,2,FALSE())","v":"3D"},{"$f":"VLOOKUP(C1726,Referencias!$B$18:$C$34,2,FALSE())","v":"M"},"C"]
["2813407","Fernández Taviel de Andrade, Francisco","Madrileña","C","Primera Corazón","Competición",1,{"$f":"VLOOKUP(E1727,Referencias!$B$4:$C$15,2,FALSE())","v":"1C"},{"$f":"VLOOKUP(C1727,Referencias!$B$18:$C$34,2,FALSE())","v":"M"},"C"]
["2813408","Rallo Romero, Blanca","Madrileña","D","Segunda Diamante","Competición",2,{"$f":"VLOOKUP(E1728,Referencias!$B$4:$C$15,2,FALSE())","v":"2D"},{"$f":"VLOOKUP(C1728,Referencias!$B$18:$C$34,2,FALSE())","v":"M"},{"$f":"IF(D1728=\"Dama\",\"D\",\"C\")","v":"C"}]
["2813409","Velasco Arranz, Josefina","Madrileña","D","Tercera Corazón","Competición",3,{"$f":"VLOOKUP(E1729,Referencias!$B$4:$C$15,2,FALSE())","v":"3C"},{"$f":"VLOOKUP(C1729,Referencias!$B$18:$C$34,2,FALSE())","v":"M"},"C"]
["2813410","García Cerdán, Mª Teresa","Madrileña","D","Tercera Diamante","Competición",3,{"$f":"VLOOKUP(E1730,Referencias!$B$4:$C$15,2,FALSE())","v":"3D"},{"$f":"VLOOKUP(C1730,Referencias!$B$18:$C$34,2,FALSE())","v":"M"},"C"]
["2813412","Bernaldo de Quirós Robles, Fernando","Madrileña","C","Tercera Diamante","Competición",3,{"$f":"VLOOKUP(E1731,Referencias!$B$4:$C$15,2,FALSE())","v":"3D"},{"$f":"VLOOKUP(C1731,Referencias!$B$18:$C$34,2,FALSE())","v":"M"},"C"]
["2813414","Cendra Del Rivero, Carlos","Madrileña","C","Segunda Diamante","Competición",2,{"$f":"VLOOKUP(E1732,Referencias!$B$4:$C$15,2,FALSE())","v":"2D"},{"$f":"VLOOKUP(C1732,Referencias!$B$18:$C$34,2,FALSE())","v":"M"},"C"]
["2813415","Soto López-Doriga, María Luisa","Madrileña","D","Tercera Diamante","Competición",3,{"$f":"VLOOKUP(E1733,Referencias!$B$4:$C$15,2,FALSE())","v":"3D"},{"$f":"VLOOKUP(C1733,Referencias!$B$18:$C$34,2,FALSE())","v":"M"},"C"]
["2813419","Echeverría Echaniz, Rosario","Madrileña","D","Tercera Corazón","Competición",3,{"$f":"VLOOKUP(E1734,Referencias!$B$4:$C$15,2,FALSE())","v":"3C"},{"$f":"VLOOKUP(C1734,Referencias!$B$18:$C$34,2,FALSE())","v":"M"},"C"]
["2813420","Muro Domínguez, Yolanda","Madrileña","D","Sin Categoría","Competición",4,{"$f":"VLOOKUP(E1735,Referencias!$B$4:$C$15,2,FALSE())","v":"SC"},{"$f":"VLOOKUP(C1735,Referencias!$B$18:$C$34,2,FALSE())","v":"M"},"C"]
["2813422","Justo Alonso, Pedro","Madrileña","C","Tercera Diamante","Competición",3,{"$f":"VLOOKUP(E1736,Referencias!$B$4:$C$15,2,FALSE())","v":"3D"},{"$f":"VLOOKUP(C1736,Referencias!$B$18:$C$34,2,FALSE())","v":"M"},"C"]
["2813424","Iglesias-Sarria , Myriam","Madrileña","D","Segunda Corazón","Competición",2,{"$f":"VLOOKUP(E1737,Referencias!$B$4:$C$15,2,FALSE())","v":"2C"},{"$f":"VLOOKUP(C1737,Referencias!$B$18:$C$34,2,FALSE())","v":"M"},"C"]
["2813425","Armijo Navarro-Reverter, Rosario","Madrileña","D","Tercera Corazón","Competición",3,{"$f":"VLOOKUP(E1738,Referencias!$B$4:$C$15,2,FALSE())","v":"3C"},{"$f":"VLOOKUP(C1738,Referencias!$B$18:$C$34,2,FALSE())","v":"M"},"C"]
["2813426","López-Ulloa Morais, Ana","Madrileña","D","Tercera Picas","Competición",3,{"$f":"VLOOKUP(E1739,Referencias!$B$4:$C$15,2,FALSE())","v":"3P"},{"$f":"VLOOKUP(C1739,Referencias!$B$18:$C$34,2,FALSE())","v":"M"},"C"]
["2813430","González González, Lucía","Madrileña","D","Tercera Corazón","Competición",3,{"$f":"VLOOKUP(E1740,Referencias!$B$4:$C$15,2,FALSE())","v":"3C"},{"$f":"VLOOKUP(C1740,Referencias!$B$18:$C$34,2,FALSE())","v":"M"},"C"]
["2813434","Polo Ruido, Daniel","Madrileña","C","Sin Categoría","Competición",4,{"$f":"VLOOKUP(E1741,Referencias!$B$4:$C$15,2,FALSE())","v":"SC"},{"$f":"VLOOKUP(C1741,Referencias!$B$18:$C$34,2,FALSE())","v":"M"},"C"]
["2813435","Casas Arruti, Mª José","Madrileña","D","Sin Categoría","Competición",4,{"$f":"VLOOKUP(E1742,Referencias!$B$4:$C$15,2,FALSE())","v":"SC"},{"$f":"VLOOKUP(C1742,Referencias!$B$18:$C$34,2,FALSE())","v":"M"},"C"]
["2813436","Naranjo Romaguera, Lara","Madrileña","D","Tercera Diamante","Competición",3,{"$f":"VLOOKUP(E1743,Referencias!$B$4:$C$15,2,FALSE())","v":"3D"},{"$f":"VLOOKUP(C1743,Referencias!$B$18:$C$34,2,FALSE())","v":"M"},"C"]
["2813437","De Vargas Moreno, Juana","Madrileña","D","Sin Categoría","Competición",4,{"$f":"VLOOKUP(E1744,Referencias!$B$4:$C$15,2,FALSE())","v":"SC"},{"$f":"VLOOKUP(C1744,Referencias!$B$18:$C$34,2,FALSE())","v":"M"},"C"]
["2813438","Derks Hermans, Josephine","Madrileña","D","Tercera Diamante","Competición",3,{"$f":"VLOOKUP(E1745,Referencias!$B$4:$C$15,2,FALSE())","v":"3D"},{"$f":"VLOOKUP(C1745,Referencias!$B$18:$C$34,2,FALSE())","v":"M"},"C"]
["2813439","García Rodríguez, Asunción","Madrileña","D","Sin Categoría","Competición",4,{"$f":"VLOOKUP(E1746,Referencias!$B$4:$C$15,2,FALSE())","v":"SC"},{"$f":"VLOOKUP(C1746,Referencias!$B$18:$C$34,2,FALSE())","v":"M"},"C"]
["2813440","Andrés Conde, Carmen","Madrileña","D","Tercera Corazón","Competición",3,{"$f":"VLOOKUP(E1747,Referencias!$B$4:$C$15,2,FALSE())","v":"3C"},{"$f":"VLOOKUP(C1747,Referencias!$B$18:$C$34,2,FALSE())","v":"M"},"C"]
["2813441","Pérez de Villaamil Alfaro, Teresa","Madrileña","D","Sin Categoría","Competición",4,{"$f":"VLOOKUP(E1748,Referencias!$B$4:$C$15,2,FALSE())","v":"SC"},{"$f":"VLOOKUP(C1748,Referencias!$B$18:$C$34,2,FALSE())","v":"M"},"C"]
["2813442","Cantalapiedra Benjumea, Clotilde","Madrileña","D","Tercera Diamante","Competición",3,{"$f":"VLOOKUP(E1749,Referencias!$B$4:$C$15,2,FALSE())","v":"3D"},{"$f":"VLOOKUP(C1749,Referencias!$B$18:$C$34,2,FALSE())","v":"M"},"C"]
["2813443","Del Rosal Murga, Carmen","Madrileña","D","Tercera Corazón","Competición",3,{"$f":"VLOOKUP(E1750,Referencias!$B$4:$C$15,2,FALSE())","v":"3C"},{"$f":"VLOOKUP(C1750,Referencias!$B$18:$C$34,2,FALSE())","v":"M"},"C"]
["2813445","Martínez-Reboredo García, Ana","Madrileña","D","Primera Diamante","Competición",1,{"$f":"VLOOKUP(E1751,Referencias!$B$4:$C$15,2,FALSE())","v":"1D"},{"$f":"VLOOKUP(C1751,Referencias!$B$18:$C$34,2,FALSE())","v":"M"},"C"]
["2813446","Luarte Bianchi, María Eugenia","Madrileña","D","Tercera Picas","Competición",3,{"$f":"VLOOKUP(E1752,Referencias!$B$4:$C$15,2,FALSE())","v":"3P"},{"$f":"VLOOKUP(C1752,Referencias!$B$18:$C$34,2,FALSE())","v":"M"},"C"]
["2813449","Gómez-Carrillo Carrasco, Mª Luisa","Madrileña","D","Tercera Corazón","Competición",3,{"$f":"VLOOKUP(E1753,Referencias!$B$4:$C$15,2,FALSE())","v":"3C"},{"$f":"VLOOKUP(C1753,Referencias!$B$18:$C$34,2,FALSE())","v":"M"},"C"]
["2813450","García Pérez, María Teresa","Madrileña","D","Segunda Corazón","Competición",2,{"$f":"VLOOKUP(E1754,Referencias!$B$4:$C$15,2,FALSE())","v":"2C"},{"$f":"VLOOKUP(C1754,Referencias!$B$18:$C$34,2,FALSE())","v":"M"},"C"]
["2813451","Suárez Jordana, Beatriz","Madrileña","D","Sin Categoría","Competición",4,{"$f":"VLOOKUP(E1755,Referencias!$B$4:$C$15,2,FALSE())","v":"SC"},{"$f":"VLOOKUP(C1755,Referencias!$B$18:$C$34,2,FALSE())","v":"M"},"C"]
["2813453","Aguirre Espinosa, Mercedes","Madrileña","D","Segunda Diamante","Competición",2,{"$f":"VLOOKUP(E1756,Referencias!$B$4:$C$15,2,FALSE())","v":"2D"},{"$f":"VLOOKUP(C1756,Referencias!$B$18:$C$34,2,FALSE())","v":"M"},"C"]
["2813459","Mac Cormac Desmond, Ruth","Madrileña","D","Tercera Diamante","Competición",3,{"$f":"VLOOKUP(E1757,Referencias!$B$4:$C$15,2,FALSE())","v":"3D"},{"$f":"VLOOKUP(C1757,Referencias!$B$18:$C$34,2,FALSE())","v":"M"},"C"]
["2813460","Iñíguez Nogales, Lourdes","Madrileña","D","Tercera Corazón","Competición",3,{"$f":"VLOOKUP(E1758,Referencias!$B$4:$C$15,2,FALSE())","v":"3C"},{"$f":"VLOOKUP(C1758,Referencias!$B$18:$C$34,2,FALSE())","v":"M"},"C"]
["2813461","Castro Rodríguez, María","Madrileña","D","Tercera Corazón","Competición",3,{"$f":"VLOOKUP(E1759,Referencias!$B$4:$C$15,2,FALSE())","v":"3C"},{"$f":"VLOOKUP(C1759,Referencias!$B$18:$C$34,2,FALSE())","v":"M"},"C"]
["2813462","Martín-Ballestero Martínez de Velasco, Mercedes","Madrileña","D","Sin Categoría","Competición",4,{"$f":"VLOOKUP(E1760,Referencias!$B$4:$C$15,2,FALSE())","v":"SC"},{"$f":"VLOOKUP(C1760,Referencias!$B$18:$C$34,2,FALSE())","v":"M"},"C"]
["2813463","Sánchez Barriga, Mª Isabel","Madrileña","D","Tercera Picas","Competición",3,{"$f":"VLOOKUP(E1761,Referencias!$B$4:$C$15,2,FALSE())","v":"3P"},{"$f":"VLOOKUP(C1761,Referencias!$B$18:$C$34,2,FALSE())","v":"M"},"C"]
["2813466","Ortíz Martínez, Ana","Madrileña","D","Tercera Corazón","Competición",3,{"$f":"VLOOKUP(E1762,Referencias!$B$4:$C$15,2,FALSE())","v":"3C"},{"$f":"VLOOKUP(C1762,Referencias!$B$18:$C$34,2,FALSE())","v":"M"},"C"]
["2813467","Llanas Goicoechea, Marina","Madrileña","D","Segunda Corazón","Competición",2,{"$f":"VLOOKUP(E1763,Referencias!$B$4:$C$15,2,FALSE())","v":"2C"},{"$f":"VLOOKUP(C1763,Referencias!$B$18:$C$34,2,FALSE())","v":"M"},"C"]
["2813468","Álvarez-Novoa Romero, Nuria","Madrileña","D","Tercera Corazón","Competición",3,{"$f":"VLOOKUP(E1764,Referencias!$B$4:$C$15,2,FALSE())","v":"3C"},{"$f":"VLOOKUP(C1764,Referencias!$B$18:$C$34,2,FALSE())","v":"M"},"C"]
["2813475","Fernández de Córdoba Maldonado, Isabel","Madrileña","D","Sin Categoría","Competición",4,{"$f":"VLOOKUP(E1765,Referencias!$B$4:$C$15,2,FALSE())","v":"SC"},{"$f":"VLOOKUP(C1765,Referencias!$B$18:$C$34,2,FALSE())","v":"M"},"C"]
["2813476","Escriña Del Pozo, Rosa","Madrileña","D","Sin Categoría","Competición",4,{"$f":"VLOOKUP(E1766,Referencias!$B$4:$C$15,2,FALSE())","v":"SC"},{"$f":"VLOOKUP(C1766,Referencias!$B$18:$C$34,2,FALSE())","v":"M"},"C"]
["2813477","Guise Bennet, Rosalind","Madrileña","D","Sin Categoría","Competición",4,{"$f":"VLOOKUP(E1767,Referencias!$B$4:$C$15,2,FALSE())","v":"SC"},{"$f":"VLOOKUP(C1767,Referencias!$B$18:$C$34,2,FALSE())","v":"M"},"C"]
["2813478","Ramiro Regueira, Javier","Madrileña","C","Sin Categoría","Competición",4,{"$f":"VLOOKUP(E1768,Referencias!$B$4:$C$15,2,FALSE())","v":"SC"},{"$f":"VLOOKUP(C1768,Referencias!$B$18:$C$34,2,FALSE())","v":"M"},"C"]
["2813480","Spinola González, Carmen","Madrileña","D","Tercera Corazón","Competición",3,{"$f":"VLOOKUP(E1769,Referencias!$B$4:$C$15,2,FALSE())","v":"3C"},{"$f":"VLOOKUP(C1769,Referencias!$B$18:$C$34,2,FALSE())","v":"M"},"C"]
["2813481","De la Mata Collados, Aurora","Madrileña","D","Tercera Diamante","Competición",3,{"$f":"VLOOKUP(E1770,Referencias!$B$4:$C$15,2,FALSE())","v":"3D"},{"$f":"VLOOKUP(C1770,Referencias!$B$18:$C$34,2,FALSE())","v":"M"},"C"]
["2813482","Andrés Solana, Santiago","Madrileña","C","Sin Categoría","Competición",4,{"$f":"VLOOKUP(E1771,Referencias!$B$4:$C$15,2,FALSE())","v":"SC"},{"$f":"VLOOKUP(C1771,Referencias!$B$18:$C$34,2,FALSE())","v":"M"},"C"]
["2813483","Foret Ussia, Cristina","Madrileña","D","Sin Categoría","Competición",4,{"$f":"VLOOKUP(E1772,Referencias!$B$4:$C$15,2,FALSE())","v":"SC"},{"$f":"VLOOKUP(C1772,Referencias!$B$18:$C$34,2,FALSE())","v":"M"},"C"]
["2813484","Badrinas Amat, Ana","Madrileña","D","Tercera Diamante","Competición",3,{"$f":"VLOOKUP(E1773,Referencias!$B$4:$C$15,2,FALSE())","v":"3D"},{"$f":"VLOOKUP(C1773,Referencias!$B$18:$C$34,2,FALSE())","v":"M"},"C"]
["2813486","Vieira Montenegro, Pilar","Madrileña","D","Tercera Diamante","Competición",3,{"$f":"VLOOKUP(E1774,Referencias!$B$4:$C$15,2,FALSE())","v":"3D"},{"$f":"VLOOKUP(C1774,Referencias!$B$18:$C$34,2,FALSE())","v":"M"},"C"]
["2813489","Montero De Pedro, Cristina","Madrileña","D","Tercera Diamante","Honorífica",3,{"$f":"VLOOKUP(E1775,Referencias!$B$4:$C$15,2,FALSE())","v":"3D"},{"$f":"VLOOKUP(C1775,Referencias!$B$18:$C$34,2,FALSE())","v":"M"},"C"]
["2813492","Isla Sánchez, Jose Mª","Madrileña","C","Tercera Diamante","Competición",3,{"$f":"VLOOKUP(E1776,Referencias!$B$4:$C$15,2,FALSE())","v":"3D"},{"$f":"VLOOKUP(C1776,Referencias!$B$18:$C$34,2,FALSE())","v":"M"},"C"]
["2813494","Claver Madurga, Matilde","Madrileña","D","Segunda Diamante","Competición",2,{"$f":"VLOOKUP(E1777,Referencias!$B$4:$C$15,2,FALSE())","v":"2D"},{"$f":"VLOOKUP(C1777,Referencias!$B$18:$C$34,2,FALSE())","v":"M"},"C"]
["2813496","Salmerón Rodríguez, María","Madrileña","D","Tercera Diamante","Competición",3,{"$f":"VLOOKUP(E1778,Referencias!$B$4:$C$15,2,FALSE())","v":"3D"},{"$f":"VLOOKUP(C1778,Referencias!$B$18:$C$34,2,FALSE())","v":"M"},"C"]
["2813500","García Tortosa, Blanca","Madrileña","D","Tercera Corazón","Competición",3,{"$f":"VLOOKUP(E1779,Referencias!$B$4:$C$15,2,FALSE())","v":"3C"},{"$f":"VLOOKUP(C1779,Referencias!$B$18:$C$34,2,FALSE())","v":"M"},"C"]
["2813504","Von Korff Utin, Marina","Madrileña","D","Sin Categoría","Honorífica",4,{"$f":"VLOOKUP(E1780,Referencias!$B$4:$C$15,2,FALSE())","v":"SC"},{"$f":"VLOOKUP(C1780,Referencias!$B$18:$C$34,2,FALSE())","v":"M"},"C"]
["2813505","Salamanca Maesso, Dorys","Madrileña","D","Segunda Diamante","Competición",2,{"$f":"VLOOKUP(E1781,Referencias!$B$4:$C$15,2,FALSE())","v":"2D"},{"$f":"VLOOKUP(C1781,Referencias!$B$18:$C$34,2,FALSE())","v":"M"},"C"]
["2813507","Castresana Alonso de Prado, Mª Concepción","Madrileña","D","Tercera Picas","Competición",3,{"$f":"VLOOKUP(E1782,Referencias!$B$4:$C$15,2,FALSE())","v":"3P"},{"$f":"VLOOKUP(C1782,Referencias!$B$18:$C$34,2,FALSE())","v":"M"},"C"]
["2813508","Fernández Navarro, Amalia","Madrileña","D","Tercera Corazón","Competición",3,{"$f":"VLOOKUP(E1783,Referencias!$B$4:$C$15,2,FALSE())","v":"3C"},{"$f":"VLOOKUP(C1783,Referencias!$B$18:$C$34,2,FALSE())","v":"M"},"C"]
["2813509","Ortíz de Zugasti Zumárraga, Almudena","Madrileña","D","Tercera Diamante","Competición",3,{"$f":"VLOOKUP(E1784,Referencias!$B$4:$C$15,2,FALSE())","v":"3D"},{"$f":"VLOOKUP(C1784,Referencias!$B$18:$C$34,2,FALSE())","v":"M"},"C"]
["2813511","Torner Garrido-Espiga, Sandra","Madrileña","D","Sin Categoría","Competición",4,{"$f":"VLOOKUP(E1785,Referencias!$B$4:$C$15,2,FALSE())","v":"SC"},{"$f":"VLOOKUP(C1785,Referencias!$B$18:$C$34,2,FALSE())","v":"M"},"C"]
["2813512","Ortiz Marcide, Mª Isabel","Madrileña","D","Tercera Corazón","Competición",3,{"$f":"VLOOKUP(E1786,Referencias!$B$4:$C$15,2,FALSE())","v":"3C"},{"$f":"VLOOKUP(C1786,Referencias!$B$18:$C$34,2,FALSE())","v":"M"},"C"]
["2813513","Toledano Soto, María José","Madrileña","D","Primera Corazón","Competición",1,{"$f":"VLOOKUP(E1787,Referencias!$B$4:$C$15,2,FALSE())","v":"1C"},{"$f":"VLOOKUP(C1787,Referencias!$B$18:$C$34,2,FALSE())","v":"M"},"C"]
["2813515","López-Suevos Fernández, Mª del Carmen","Madrileña","D","Segunda Picas","Competición",2,{"$f":"VLOOKUP(E1788,Referencias!$B$4:$C$15,2,FALSE())","v":"2P"},{"$f":"VLOOKUP(C1788,Referencias!$B$18:$C$34,2,FALSE())","v":"M"},"C"]
["2813516","Martín Allegue, Carlos","Madrileña","C","Segunda Corazón","Honorífica",2,{"$f":"VLOOKUP(E1789,Referencias!$B$4:$C$15,2,FALSE())","v":"2C"},{"$f":"VLOOKUP(C1789,Referencias!$B$18:$C$34,2,FALSE())","v":"M"},"C"]
["2813517","González Andrés, Concepción","Madrileña","D","Segunda Corazón","Competición",2,{"$f":"VLOOKUP(E1790,Referencias!$B$4:$C$15,2,FALSE())","v":"2C"},{"$f":"VLOOKUP(C1790,Referencias!$B$18:$C$34,2,FALSE())","v":"M"},"C"]
["2813518","Echenique Gordillo, Rodrigo","Madrileña","C","Sin Categoría","Competición",4,{"$f":"VLOOKUP(E1791,Referencias!$B$4:$C$15,2,FALSE())","v":"SC"},{"$f":"VLOOKUP(C1791,Referencias!$B$18:$C$34,2,FALSE())","v":"M"},"C"]
["2813519","Mazarrasa Coll, Agustín","Madrileña","C","Tercera Corazón","Competición",3,{"$f":"VLOOKUP(E1792,Referencias!$B$4:$C$15,2,FALSE())","v":"3C"},{"$f":"VLOOKUP(C1792,Referencias!$B$18:$C$34,2,FALSE())","v":"M"},{"$f":"IF(D1792=\"Dama\",\"D\",\"C\")","v":"C"}]
["2813520","Holmer Dahl, Helene","Madrileña","D","Tercera Diamante","Competición",3,{"$f":"VLOOKUP(E1793,Referencias!$B$4:$C$15,2,FALSE())","v":"3D"},{"$f":"VLOOKUP(C1793,Referencias!$B$18:$C$34,2,FALSE())","v":"M"},"C"]
["2813521","Laguna Del Cojo, Paloma","Madrileña","D","Tercera Diamante","Competición",3,{"$f":"VLOOKUP(E1794,Referencias!$B$4:$C$15,2,FALSE())","v":"3D"},{"$f":"VLOOKUP(C1794,Referencias!$B$18:$C$34,2,FALSE())","v":"M"},"C"]
["2813522","Pedruelo Nuche, Margarita","Madrileña","D","Tercera Corazón","Competición",3,{"$f":"VLOOKUP(E1795,Referencias!$B$4:$C$15,2,FALSE())","v":"3C"},{"$f":"VLOOKUP(C1795,Referencias!$B$18:$C$34,2,FALSE())","v":"M"},"C"]
["2813523","Gómez de la Vega López, Luis","Madrileña","C","Tercera Corazón","Competición",3,{"$f":"VLOOKUP(E1796,Referencias!$B$4:$C$15,2,FALSE())","v":"3C"},{"$f":"VLOOKUP(C1796,Referencias!$B$18:$C$34,2,FALSE())","v":"M"},"C"]
["2813524","De Nardiz Pino, Juan","Madrileña","C","Sin Categoría","Competición",4,{"$f":"VLOOKUP(E1797,Referencias!$B$4:$C$15,2,FALSE())","v":"SC"},{"$f":"VLOOKUP(C1797,Referencias!$B$18:$C$34,2,FALSE())","v":"M"},"C"]
["2813525","Álvarez de Toledo Álvarez de Builla, Ana","Madrileña","D","Tercera Picas","Competición",3,{"$f":"VLOOKUP(E1798,Referencias!$B$4:$C$15,2,FALSE())","v":"3P"},{"$f":"VLOOKUP(C1798,Referencias!$B$18:$C$34,2,FALSE())","v":"M"},"C"]
["2813527","Santiago Pérez, Carmen","Madrileña","D","Tercera Diamante","Competición",3,{"$f":"VLOOKUP(E1799,Referencias!$B$4:$C$15,2,FALSE())","v":"3D"},{"$f":"VLOOKUP(C1799,Referencias!$B$18:$C$34,2,FALSE())","v":"M"},"C"]
["2813529","Torres-Quevedo González-Camino, Mercedes","Madrileña","D","Segunda Diamante","Competición",2,{"$f":"VLOOKUP(E1800,Referencias!$B$4:$C$15,2,FALSE())","v":"2D"},{"$f":"VLOOKUP(C1800,Referencias!$B$18:$C$34,2,FALSE())","v":"M"},"C"]
["2813530","Acha Castresana, Ignacio","Madrileña","C","Tercera Corazón","Competición",3,{"$f":"VLOOKUP(E1801,Referencias!$B$4:$C$15,2,FALSE())","v":"3C"},{"$f":"VLOOKUP(C1801,Referencias!$B$18:$C$34,2,FALSE())","v":"M"},"C"]
["2813531","Susaeta Salichs, Rosa","Madrileña","D","Sin Categoría","Competición",4,{"$f":"VLOOKUP(E1802,Referencias!$B$4:$C$15,2,FALSE())","v":"SC"},{"$f":"VLOOKUP(C1802,Referencias!$B$18:$C$34,2,FALSE())","v":"M"},"C"]
["2813532","Zumárraga Ortiz, Tomás","Madrileña","C","Segunda Picas","Competición",2,{"$f":"VLOOKUP(E1803,Referencias!$B$4:$C$15,2,FALSE())","v":"2P"},{"$f":"VLOOKUP(C1803,Referencias!$B$18:$C$34,2,FALSE())","v":"M"},"C"]
["2813533","Astorqui Zabala, Mª Isabel","Madrileña","D","Segunda Diamante","Competición",2,{"$f":"VLOOKUP(E1804,Referencias!$B$4:$C$15,2,FALSE())","v":"2D"},{"$f":"VLOOKUP(C1804,Referencias!$B$18:$C$34,2,FALSE())","v":"M"},"C"]
["2813536","Cruz Jiménez, Marisa","Madrileña","D","Sin Categoría","Competición",4,{"$f":"VLOOKUP(E1805,Referencias!$B$4:$C$15,2,FALSE())","v":"SC"},{"$f":"VLOOKUP(C1805,Referencias!$B$18:$C$34,2,FALSE())","v":"M"},"C"]
["2813538","Monjardín Bayo, Soledad","Madrileña","D","Sin Categoría","Honorífica",4,{"$f":"VLOOKUP(E1806,Referencias!$B$4:$C$15,2,FALSE())","v":"SC"},{"$f":"VLOOKUP(C1806,Referencias!$B$18:$C$34,2,FALSE())","v":"M"},"C"]
["2813539","Urrestarazu Cabrero, Leoncio","Madrileña","C","Tercera Picas","Competición",3,{"$f":"VLOOKUP(E1807,Referencias!$B$4:$C$15,2,FALSE())","v":"3P"},{"$f":"VLOOKUP(C1807,Referencias!$B$18:$C$34,2,FALSE())","v":"M"},"C"]
["2813540","González-Hontoria Velarde, José Luis","Madrileña","C","Sin Categoría","Competición",4,{"$f":"VLOOKUP(E1808,Referencias!$B$4:$C$15,2,FALSE())","v":"SC"},{"$f":"VLOOKUP(C1808,Referencias!$B$18:$C$34,2,FALSE())","v":"M"},"C"]
["2813541","Toll-Messia Valiente, Carmen Reyes","Madrileña","D","Sin Categoría","Competición",4,{"$f":"VLOOKUP(E1809,Referencias!$B$4:$C$15,2,FALSE())","v":"SC"},{"$f":"VLOOKUP(C1809,Referencias!$B$18:$C$34,2,FALSE())","v":"M"},"C"]
["2813546","Rodríguez Lezama, Ángeles","Madrileña","D","Segunda Corazón","Competición",2,{"$f":"VLOOKUP(E1810,Referencias!$B$4:$C$15,2,FALSE())","v":"2C"},{"$f":"VLOOKUP(C1810,Referencias!$B$18:$C$34,2,FALSE())","v":"M"},"C"]
["2813548","San José González, Ana María","Madrileña","D","Tercera Corazón","Competición",3,{"$f":"VLOOKUP(E1811,Referencias!$B$4:$C$15,2,FALSE())","v":"3C"},{"$f":"VLOOKUP(C1811,Referencias!$B$18:$C$34,2,FALSE())","v":"M"},"C"]
["2813550","Gómez-Acebo Calparsoro, Verónica","Madrileña","D","Tercera Corazón","Competición",3,{"$f":"VLOOKUP(E1812,Referencias!$B$4:$C$15,2,FALSE())","v":"3C"},{"$f":"VLOOKUP(C1812,Referencias!$B$18:$C$34,2,FALSE())","v":"M"},"C"]
["2813551","Gil-Casares Fernández-Montes, Patricia","Madrileña","D","Primera Corazón","Competición",1,{"$f":"VLOOKUP(E1813,Referencias!$B$4:$C$15,2,FALSE())","v":"1C"},{"$f":"VLOOKUP(C1813,Referencias!$B$18:$C$34,2,FALSE())","v":"M"},"C"]
["2813552","Loresecha Sánchez, Rosa María","Madrileña","D","Primera Picas","Competición",1,{"$f":"VLOOKUP(E1814,Referencias!$B$4:$C$15,2,FALSE())","v":"1P"},{"$f":"VLOOKUP(C1814,Referencias!$B$18:$C$34,2,FALSE())","v":"M"},"C"]
["2813553","De Arroquia Noves, Concepción","Madrileña","D","Tercera Corazón","Competición",3,{"$f":"VLOOKUP(E1815,Referencias!$B$4:$C$15,2,FALSE())","v":"3C"},{"$f":"VLOOKUP(C1815,Referencias!$B$18:$C$34,2,FALSE())","v":"M"},"C"]
["2813554","Martín-Moreno Sacristán, Marta","Madrileña","D","Tercera Corazón","Competición",3,{"$f":"VLOOKUP(E1816,Referencias!$B$4:$C$15,2,FALSE())","v":"3C"},{"$f":"VLOOKUP(C1816,Referencias!$B$18:$C$34,2,FALSE())","v":"M"},"C"]
["2813555","Urien Del Diego, Mª Concepción","Madrileña","D","Tercera Diamante","Competición",3,{"$f":"VLOOKUP(E1817,Referencias!$B$4:$C$15,2,FALSE())","v":"3D"},{"$f":"VLOOKUP(C1817,Referencias!$B$18:$C$34,2,FALSE())","v":"M"},"C"]
["2813556","Luque Hernández, Candelaria","Madrileña","D","Tercera Picas","Competición",3,{"$f":"VLOOKUP(E1818,Referencias!$B$4:$C$15,2,FALSE())","v":"3P"},{"$f":"VLOOKUP(C1818,Referencias!$B$18:$C$34,2,FALSE())","v":"M"},"C"]
["2813560","Högberg , Sonia","Madrileña","D","Tercera Corazón","Competición",3,{"$f":"VLOOKUP(E1819,Referencias!$B$4:$C$15,2,FALSE())","v":"3C"},{"$f":"VLOOKUP(C1819,Referencias!$B$18:$C$34,2,FALSE())","v":"M"},"C"]
["2813561","Alfaro Aguilar, Ana","Madrileña","D","Tercera Corazón","Competición",3,{"$f":"VLOOKUP(E1820,Referencias!$B$4:$C$15,2,FALSE())","v":"3C"},{"$f":"VLOOKUP(C1820,Referencias!$B$18:$C$34,2,FALSE())","v":"M"},"C"]
["2813563","Rodríguez-Casanova González del Valle, Luz","Madrileña","D","Sin Categoría","Competición",4,{"$f":"VLOOKUP(E1821,Referencias!$B$4:$C$15,2,FALSE())","v":"SC"},{"$f":"VLOOKUP(C1821,Referencias!$B$18:$C$34,2,FALSE())","v":"M"},"C"]
["2813564","Dolz de Espejo Arróspide, Pilar","Madrileña","D","Sin Categoría","Competición",4,{"$f":"VLOOKUP(E1822,Referencias!$B$4:$C$15,2,FALSE())","v":"SC"},{"$f":"VLOOKUP(C1822,Referencias!$B$18:$C$34,2,FALSE())","v":"M"},"C"]
["2813565","De Olano Moliner, Chiti","Madrileña","D","Segunda Corazón","Competición",2,{"$f":"VLOOKUP(E1823,Referencias!$B$4:$C$15,2,FALSE())","v":"2C"},{"$f":"VLOOKUP(C1823,Referencias!$B$18:$C$34,2,FALSE())","v":"M"},"C"]
["2813566","Echeverría Echaniz, María","Madrileña","D","Tercera Diamante","Competición",3,{"$f":"VLOOKUP(E1824,Referencias!$B$4:$C$15,2,FALSE())","v":"3D"},{"$f":"VLOOKUP(C1824,Referencias!$B$18:$C$34,2,FALSE())","v":"M"},"C"]
["2813568","Ordoñez Obregón, Charo","Madrileña","D","Tercera Diamante","Competición",3,{"$f":"VLOOKUP(E1825,Referencias!$B$4:$C$15,2,FALSE())","v":"3D"},{"$f":"VLOOKUP(C1825,Referencias!$B$18:$C$34,2,FALSE())","v":"M"},"C"]
["2813569","Navarro Alonso, José Manuel","Madrileña","C","Sin Categoría","Competición",4,{"$f":"VLOOKUP(E1826,Referencias!$B$4:$C$15,2,FALSE())","v":"SC"},{"$f":"VLOOKUP(C1826,Referencias!$B$18:$C$34,2,FALSE())","v":"M"},"C"]
["2813570","Milián Quílez, Mª Luisa","Madrileña","D","Segunda Diamante","Competición",2,{"$f":"VLOOKUP(E1827,Referencias!$B$4:$C$15,2,FALSE())","v":"2D"},{"$f":"VLOOKUP(C1827,Referencias!$B$18:$C$34,2,FALSE())","v":"M"},"C"]
["2813571","Navarro Fernández, Ginés","Madrileña","C","Segunda Diamante","Competición",2,{"$f":"VLOOKUP(E1828,Referencias!$B$4:$C$15,2,FALSE())","v":"2D"},{"$f":"VLOOKUP(C1828,Referencias!$B$18:$C$34,2,FALSE())","v":"M"},"C"]
["2813572","González Sánchez, Enrique","Madrileña","C","Sin Categoría","Competición",4,{"$f":"VLOOKUP(E1829,Referencias!$B$4:$C$15,2,FALSE())","v":"SC"},{"$f":"VLOOKUP(C1829,Referencias!$B$18:$C$34,2,FALSE())","v":"M"},"C"]
["2813576","Reguengo Rodríguez, Alicia","Madrileña","D","Tercera Diamante","Competición",3,{"$f":"VLOOKUP(E1830,Referencias!$B$4:$C$15,2,FALSE())","v":"3D"},{"$f":"VLOOKUP(C1830,Referencias!$B$18:$C$34,2,FALSE())","v":"M"},"C"]
["2813584","Pérez de la Ossa Bascarán, Mª Jesús","Madrileña","D","Tercera Diamante","Competición",3,{"$f":"VLOOKUP(E1831,Referencias!$B$4:$C$15,2,FALSE())","v":"3D"},{"$f":"VLOOKUP(C1831,Referencias!$B$18:$C$34,2,FALSE())","v":"M"},"C"]
["2813586","Medrano González de Prado, Ana Marta","Madrileña","D","Tercera Picas","Competición",3,{"$f":"VLOOKUP(E1832,Referencias!$B$4:$C$15,2,FALSE())","v":"3P"},{"$f":"VLOOKUP(C1832,Referencias!$B$18:$C$34,2,FALSE())","v":"M"},"C"]
["2813588","Sacristán Fernández, Mª Luisa","Madrileña","D","Sin Categoría","Competición",4,{"$f":"VLOOKUP(E1833,Referencias!$B$4:$C$15,2,FALSE())","v":"SC"},{"$f":"VLOOKUP(C1833,Referencias!$B$18:$C$34,2,FALSE())","v":"M"},"C"]
["2813592","Martín-Moreno Sacristán, Esperanza","Madrileña","D","Segunda Diamante","Competición",2,{"$f":"VLOOKUP(E1834,Referencias!$B$4:$C$15,2,FALSE())","v":"2D"},{"$f":"VLOOKUP(C1834,Referencias!$B$18:$C$34,2,FALSE())","v":"M"},"C"]
["2813594","Alabart Fernández-Cavada, Alvaro","Madrileña","C","Sin Categoría","Competición",4,{"$f":"VLOOKUP(E1835,Referencias!$B$4:$C$15,2,FALSE())","v":"SC"},{"$f":"VLOOKUP(C1835,Referencias!$B$18:$C$34,2,FALSE())","v":"M"},"C"]
["2813597","Sintas Ponte, Pilar","Madrileña","D","Tercera Diamante","Competición",3,{"$f":"VLOOKUP(E1836,Referencias!$B$4:$C$15,2,FALSE())","v":"3D"},{"$f":"VLOOKUP(C1836,Referencias!$B$18:$C$34,2,FALSE())","v":"M"},"C"]
["2813598","Sintas Ponte, Estrella","Madrileña","D","Tercera Diamante","Competición",3,{"$f":"VLOOKUP(E1837,Referencias!$B$4:$C$15,2,FALSE())","v":"3D"},{"$f":"VLOOKUP(C1837,Referencias!$B$18:$C$34,2,FALSE())","v":"M"},"C"]
["2813600","Llopis Martínez, Carmen","Madrileña","D","Tercera Diamante","Competición",3,{"$f":"VLOOKUP(E1838,Referencias!$B$4:$C$15,2,FALSE())","v":"3D"},{"$f":"VLOOKUP(C1838,Referencias!$B$18:$C$34,2,FALSE())","v":"M"},"C"]
["2813601","De la Calle Vergara, Margarita","Madrileña","D","Tercera Diamante","Competición",3,{"$f":"VLOOKUP(E1839,Referencias!$B$4:$C$15,2,FALSE())","v":"3D"},{"$f":"VLOOKUP(C1839,Referencias!$B$18:$C$34,2,FALSE())","v":"M"},"C"]
["2813603","Bresca López-Cozar, Jesús María","Madrileña","C","Sin Categoría","Competición",4,{"$f":"VLOOKUP(E1840,Referencias!$B$4:$C$15,2,FALSE())","v":"SC"},{"$f":"VLOOKUP(C1840,Referencias!$B$18:$C$34,2,FALSE())","v":"M"},"C"]
["2813604","Calleja Cervantes, Ana","Madrileña","D","Sin Categoría","Competición",4,{"$f":"VLOOKUP(E1841,Referencias!$B$4:$C$15,2,FALSE())","v":"SC"},{"$f":"VLOOKUP(C1841,Referencias!$B$18:$C$34,2,FALSE())","v":"M"},"C"]
["2813606","Gómez Muntan, Rosario","Madrileña","D","Tercera Corazón","Competición",3,{"$f":"VLOOKUP(E1842,Referencias!$B$4:$C$15,2,FALSE())","v":"3C"},{"$f":"VLOOKUP(C1842,Referencias!$B$18:$C$34,2,FALSE())","v":"M"},"C"]
["2813607","Galbis Dolz de Espejo, Dolores","Madrileña","D","Sin Categoría","Competición",4,{"$f":"VLOOKUP(E1843,Referencias!$B$4:$C$15,2,FALSE())","v":"SC"},{"$f":"VLOOKUP(C1843,Referencias!$B$18:$C$34,2,FALSE())","v":"M"},"C"]
["2813609","Merino Company, Elvira","Madrileña","D","Tercera Corazón","Honorífica",3,{"$f":"VLOOKUP(E1844,Referencias!$B$4:$C$15,2,FALSE())","v":"3C"},{"$f":"VLOOKUP(C1844,Referencias!$B$18:$C$34,2,FALSE())","v":"M"},"C"]
["2813610","Ortiz de Zúñiga Echeverría, Ignacio","Madrileña","C","Tercera Picas","Competición",3,{"$f":"VLOOKUP(E1845,Referencias!$B$4:$C$15,2,FALSE())","v":"3P"},{"$f":"VLOOKUP(C1845,Referencias!$B$18:$C$34,2,FALSE())","v":"M"},"C"]
["2813611","Mingot Aznar, Lola","Madrileña","D","Primera Corazón","Competición",1,{"$f":"VLOOKUP(E1846,Referencias!$B$4:$C$15,2,FALSE())","v":"1C"},{"$f":"VLOOKUP(C1846,Referencias!$B$18:$C$34,2,FALSE())","v":"M"},"C"]
["2813612","Szapary Hadik, Laszlo","Madrileña","C","Tercera Picas","Competición",3,{"$f":"VLOOKUP(E1847,Referencias!$B$4:$C$15,2,FALSE())","v":"3P"},{"$f":"VLOOKUP(C1847,Referencias!$B$18:$C$34,2,FALSE())","v":"M"},"C"]
["2813613","Requejo Falceto, Mª del Carmen","Madrileña","D","Tercera Corazón","Competición",3,{"$f":"VLOOKUP(E1848,Referencias!$B$4:$C$15,2,FALSE())","v":"3C"},{"$f":"VLOOKUP(C1848,Referencias!$B$18:$C$34,2,FALSE())","v":"M"},"C"]
["2813614","Periquet Travieso, Santiago","Madrileña","C","Tercera Picas","Competición",3,{"$f":"VLOOKUP(E1849,Referencias!$B$4:$C$15,2,FALSE())","v":"3P"},{"$f":"VLOOKUP(C1849,Referencias!$B$18:$C$34,2,FALSE())","v":"M"},"C"]
["2813616","Soto de Prado, Esperanza","Madrileña","D","Tercera Diamante","Competición",3,{"$f":"VLOOKUP(E1850,Referencias!$B$4:$C$15,2,FALSE())","v":"3D"},{"$f":"VLOOKUP(C1850,Referencias!$B$18:$C$34,2,FALSE())","v":"M"},"C"]
["2813618","Rubio Morenés, Pilar","Madrileña","D","Tercera Corazón","Competición",3,{"$f":"VLOOKUP(E1851,Referencias!$B$4:$C$15,2,FALSE())","v":"3C"},{"$f":"VLOOKUP(C1851,Referencias!$B$18:$C$34,2,FALSE())","v":"M"},"C"]
["2813620","García Del Nero, Marisol","Madrileña","D","Sin Categoría","Competición",4,{"$f":"VLOOKUP(E1852,Referencias!$B$4:$C$15,2,FALSE())","v":"SC"},{"$f":"VLOOKUP(C1852,Referencias!$B$18:$C$34,2,FALSE())","v":"M"},"C"]
["2813623","Ligués Creus, Isabel","Madrileña","D","Sin Categoría","Competición",4,{"$f":"VLOOKUP(E1853,Referencias!$B$4:$C$15,2,FALSE())","v":"SC"},{"$f":"VLOOKUP(C1853,Referencias!$B$18:$C$34,2,FALSE())","v":"M"},"C"]
["2813624","Ligués Creus, Beatriz","Madrileña","D","Tercera Diamante","Competición",3,{"$f":"VLOOKUP(E1854,Referencias!$B$4:$C$15,2,FALSE())","v":"3D"},{"$f":"VLOOKUP(C1854,Referencias!$B$18:$C$34,2,FALSE())","v":"M"},"C"]
["2813625","Guerrero Sánz, Mª Jesús","Madrileña","D","Tercera Corazón","Competición",3,{"$f":"VLOOKUP(E1855,Referencias!$B$4:$C$15,2,FALSE())","v":"3C"},{"$f":"VLOOKUP(C1855,Referencias!$B$18:$C$34,2,FALSE())","v":"M"},"C"]
["2813627","Espinosa de los Monteros Bernaldo de Quirós, Galinda","Madrileña","D","Tercera Corazón","Competición",3,{"$f":"VLOOKUP(E1856,Referencias!$B$4:$C$15,2,FALSE())","v":"3C"},{"$f":"VLOOKUP(C1856,Referencias!$B$18:$C$34,2,FALSE())","v":"M"},{"$f":"IF(D1856=\"Dama\",\"D\",\"C\")","v":"C"}]
["2813628","Rubio Tió, Teresa","Madrileña","D","Sin Categoría","Competición",4,{"$f":"VLOOKUP(E1857,Referencias!$B$4:$C$15,2,FALSE())","v":"SC"},{"$f":"VLOOKUP(C1857,Referencias!$B$18:$C$34,2,FALSE())","v":"M"},"C"]
["2813629","González López, Rosario","Madrileña","D","Tercera Picas","Competición",3,{"$f":"VLOOKUP(E1858,Referencias!$B$4:$C$15,2,FALSE())","v":"3P"},{"$f":"VLOOKUP(C1858,Referencias!$B$18:$C$34,2,FALSE())","v":"M"},"C"]
["2813634","Labaig Menendez-Pidal, Paloma","Madrileña","D","Sin Categoría","Competición",4,{"$f":"VLOOKUP(E1859,Referencias!$B$4:$C$15,2,FALSE())","v":"SC"},{"$f":"VLOOKUP(C1859,Referencias!$B$18:$C$34,2,FALSE())","v":"M"},"C"]
["2813636","Ciancas Prieto-Puga, Santiago","Madrileña","C","Sin Categoría","Competición",4,{"$f":"VLOOKUP(E1860,Referencias!$B$4:$C$15,2,FALSE())","v":"SC"},{"$f":"VLOOKUP(C1860,Referencias!$B$18:$C$34,2,FALSE())","v":"M"},"C"]
["2813637","Montoto Simón, Paloma","Madrileña","D","Sin Categoría","Competición",4,{"$f":"VLOOKUP(E1861,Referencias!$B$4:$C$15,2,FALSE())","v":"SC"},{"$f":"VLOOKUP(C1861,Referencias!$B$18:$C$34,2,FALSE())","v":"M"},"C"]
["2813638","Calderón Arana, Gonzalo","Madrileña","C","Sin Categoría","Competición",4,{"$f":"VLOOKUP(E1862,Referencias!$B$4:$C$15,2,FALSE())","v":"SC"},{"$f":"VLOOKUP(C1862,Referencias!$B$18:$C$34,2,FALSE())","v":"M"},"C"]
["2813640","Pezzi Goytre, María del Pilar","Madrileña","D","Tercera Diamante","Competición",3,{"$f":"VLOOKUP(E1863,Referencias!$B$4:$C$15,2,FALSE())","v":"3D"},{"$f":"VLOOKUP(C1863,Referencias!$B$18:$C$34,2,FALSE())","v":"M"},"C"]
["2813642","Cunha Reis De Olazábal, Mariana","Madrileña","D","Tercera Picas","Competición",3,{"$f":"VLOOKUP(E1864,Referencias!$B$4:$C$15,2,FALSE())","v":"3P"},{"$f":"VLOOKUP(C1864,Referencias!$B$18:$C$34,2,FALSE())","v":"M"},"C"]
["2813643","Peréz-Seoane Escudero, Miriam","Madrileña","D","Sin Categoría","Competición",4,{"$f":"VLOOKUP(E1865,Referencias!$B$4:$C$15,2,FALSE())","v":"SC"},{"$f":"VLOOKUP(C1865,Referencias!$B$18:$C$34,2,FALSE())","v":"M"},"C"]
["2813644","Del Riego Campos, Rafael","Madrileña","C","Sin Categoría","Competición",4,{"$f":"VLOOKUP(E1866,Referencias!$B$4:$C$15,2,FALSE())","v":"SC"},{"$f":"VLOOKUP(C1866,Referencias!$B$18:$C$34,2,FALSE())","v":"M"},"C"]
["2813645","Rodríguez-Marina González, Mª Dolores","Madrileña","D","Sin Categoría","Competición",4,{"$f":"VLOOKUP(E1867,Referencias!$B$4:$C$15,2,FALSE())","v":"SC"},{"$f":"VLOOKUP(C1867,Referencias!$B$18:$C$34,2,FALSE())","v":"M"},"C"]
["2813649","Doussinague García-Noblejas, Mª Josefa","Madrileña","D","Tercera Diamante","Competición",3,{"$f":"VLOOKUP(E1868,Referencias!$B$4:$C$15,2,FALSE())","v":"3D"},{"$f":"VLOOKUP(C1868,Referencias!$B$18:$C$34,2,FALSE())","v":"M"},"C"]
["2813652","Orueta Gaytan, Teresa","Madrileña","D","Tercera Corazón","Competición",3,{"$f":"VLOOKUP(E1869,Referencias!$B$4:$C$15,2,FALSE())","v":"3C"},{"$f":"VLOOKUP(C1869,Referencias!$B$18:$C$34,2,FALSE())","v":"M"},"C"]
["2813653","Martínez Antonino, Pilar","Madrileña","D","Tercera Diamante","Competición",3,{"$f":"VLOOKUP(E1870,Referencias!$B$4:$C$15,2,FALSE())","v":"3D"},{"$f":"VLOOKUP(C1870,Referencias!$B$18:$C$34,2,FALSE())","v":"M"},"C"]
["2813654","Córdoba-Samaniego González de Lara, Concha","Madrileña","D","Tercera Diamante","Competición",3,{"$f":"VLOOKUP(E1871,Referencias!$B$4:$C$15,2,FALSE())","v":"3D"},{"$f":"VLOOKUP(C1871,Referencias!$B$18:$C$34,2,FALSE())","v":"M"},"C"]
["2813655","de Guevara, Marqués","Madrileña","C","Tercera Corazón","Competición",3,{"$f":"VLOOKUP(E1872,Referencias!$B$4:$C$15,2,FALSE())","v":"3C"},{"$f":"VLOOKUP(C1872,Referencias!$B$18:$C$34,2,FALSE())","v":"M"},"C"]
["2813656","Fernández Giménez, Beatriz","Madrileña","D","Tercera Picas","Competición",3,{"$f":"VLOOKUP(E1873,Referencias!$B$4:$C$15,2,FALSE())","v":"3P"},{"$f":"VLOOKUP(C1873,Referencias!$B$18:$C$34,2,FALSE())","v":"M"},"C"]
["2813657","Calamita Pérez-Mangado, Anna","Madrileña","D","Tercera Corazón","Competición",3,{"$f":"VLOOKUP(E1874,Referencias!$B$4:$C$15,2,FALSE())","v":"3C"},{"$f":"VLOOKUP(C1874,Referencias!$B$18:$C$34,2,FALSE())","v":"M"},"C"]
["2813661","Pintó Poch, Juan","Madrileña","C","Tercera Picas","Competición",3,{"$f":"VLOOKUP(E1875,Referencias!$B$4:$C$15,2,FALSE())","v":"3P"},{"$f":"VLOOKUP(C1875,Referencias!$B$18:$C$34,2,FALSE())","v":"M"},"C"]
["2813662","Warleta Carrillo, Mª Rosario","Madrileña","D","Primera Diamante","Competición",1,{"$f":"VLOOKUP(E1876,Referencias!$B$4:$C$15,2,FALSE())","v":"1D"},{"$f":"VLOOKUP(C1876,Referencias!$B$18:$C$34,2,FALSE())","v":"M"},"C"]
["2813663","Moreno Torres, Ricardo","Madrileña","C","Primera Diamante","Competición",1,{"$f":"VLOOKUP(E1877,Referencias!$B$4:$C$15,2,FALSE())","v":"1D"},{"$f":"VLOOKUP(C1877,Referencias!$B$18:$C$34,2,FALSE())","v":"M"},"C"]
["2813665","Cavestany Vargas-Zuñiga, Paloma","Madrileña","D","Tercera Corazón","Competición",3,{"$f":"VLOOKUP(E1878,Referencias!$B$4:$C$15,2,FALSE())","v":"3C"},{"$f":"VLOOKUP(C1878,Referencias!$B$18:$C$34,2,FALSE())","v":"M"},"C"]
["2813666","Capilla Cantó, Antonio","Madrileña","C","Segunda Corazón","Competición",2,{"$f":"VLOOKUP(E1879,Referencias!$B$4:$C$15,2,FALSE())","v":"2C"},{"$f":"VLOOKUP(C1879,Referencias!$B$18:$C$34,2,FALSE())","v":"M"},"C"]
["2813667","Matarredona Valor, Ana","Madrileña","D","Sin Categoría","Competición",4,{"$f":"VLOOKUP(E1880,Referencias!$B$4:$C$15,2,FALSE())","v":"SC"},{"$f":"VLOOKUP(C1880,Referencias!$B$18:$C$34,2,FALSE())","v":"M"},"C"]
["2813674","Fernández Ponte, Mª Luisa","Madrileña","D","Sin Categoría","Honorífica",4,{"$f":"VLOOKUP(E1881,Referencias!$B$4:$C$15,2,FALSE())","v":"SC"},{"$f":"VLOOKUP(C1881,Referencias!$B$18:$C$34,2,FALSE())","v":"M"},"C"]
["2813680","Romero-Valdespino Ruiz, Mª Gracia","Madrileña","D","Sin Categoría","Competición",4,{"$f":"VLOOKUP(E1882,Referencias!$B$4:$C$15,2,FALSE())","v":"SC"},{"$f":"VLOOKUP(C1882,Referencias!$B$18:$C$34,2,FALSE())","v":"M"},"C"]
["2813682","Prieto Cabello, Teresa","Madrileña","D","Sin Categoría","Competición",4,{"$f":"VLOOKUP(E1883,Referencias!$B$4:$C$15,2,FALSE())","v":"SC"},{"$f":"VLOOKUP(C1883,Referencias!$B$18:$C$34,2,FALSE())","v":"M"},"C"]
["2813686","Hernández Omarrenteria, Mª Jesús","Madrileña","D","Tercera Picas","Competición",3,{"$f":"VLOOKUP(E1884,Referencias!$B$4:$C$15,2,FALSE())","v":"3P"},{"$f":"VLOOKUP(C1884,Referencias!$B$18:$C$34,2,FALSE())","v":"M"},"C"]
["2813688","Arrieta Reboiro, María","Madrileña","D","Segunda Diamante","Competición",2,{"$f":"VLOOKUP(E1885,Referencias!$B$4:$C$15,2,FALSE())","v":"2D"},{"$f":"VLOOKUP(C1885,Referencias!$B$18:$C$34,2,FALSE())","v":"M"},"C"]
["2813690","Borja Casero, Mª Victoria","Madrileña","D","Tercera Picas","Competición",3,{"$f":"VLOOKUP(E1886,Referencias!$B$4:$C$15,2,FALSE())","v":"3P"},{"$f":"VLOOKUP(C1886,Referencias!$B$18:$C$34,2,FALSE())","v":"M"},"C"]
["2813691","Le Loup Bonamy, Sabine","Madrileña","D","Sin Categoría","Competición",4,{"$f":"VLOOKUP(E1887,Referencias!$B$4:$C$15,2,FALSE())","v":"SC"},{"$f":"VLOOKUP(C1887,Referencias!$B$18:$C$34,2,FALSE())","v":"M"},"C"]
["2813694","Sánchez Leoz, María Soledad","Madrileña","D","Sin Categoría","Competición",4,{"$f":"VLOOKUP(E1888,Referencias!$B$4:$C$15,2,FALSE())","v":"SC"},{"$f":"VLOOKUP(C1888,Referencias!$B$18:$C$34,2,FALSE())","v":"M"},"C"]
["2813697","Eusebio López, María","Madrileña","D","Tercera Diamante","Competición",3,{"$f":"VLOOKUP(E1889,Referencias!$B$4:$C$15,2,FALSE())","v":"3D"},{"$f":"VLOOKUP(C1889,Referencias!$B$18:$C$34,2,FALSE())","v":"M"},"C"]
["2813698","Arias González, Ana María","Madrileña","D","Tercera Diamante","Honorífica",3,{"$f":"VLOOKUP(E1890,Referencias!$B$4:$C$15,2,FALSE())","v":"3D"},{"$f":"VLOOKUP(C1890,Referencias!$B$18:$C$34,2,FALSE())","v":"M"},"C"]
["2813699","Gómez-Morán Martínez, Santiago","Madrileña","C","Tercera Corazón","Honorífica",3,{"$f":"VLOOKUP(E1891,Referencias!$B$4:$C$15,2,FALSE())","v":"3C"},{"$f":"VLOOKUP(C1891,Referencias!$B$18:$C$34,2,FALSE())","v":"M"},"C"]
["2813701","Merino Retuerta, Rufino","Madrileña","C","Sin Categoría","Competición",4,{"$f":"VLOOKUP(E1892,Referencias!$B$4:$C$15,2,FALSE())","v":"SC"},{"$f":"VLOOKUP(C1892,Referencias!$B$18:$C$34,2,FALSE())","v":"M"},"C"]
["2813703","Sebastián Bueno, Pilar","Madrileña","D","Tercera Picas","Competición",3,{"$f":"VLOOKUP(E1893,Referencias!$B$4:$C$15,2,FALSE())","v":"3P"},{"$f":"VLOOKUP(C1893,Referencias!$B$18:$C$34,2,FALSE())","v":"M"},"C"]
["2813704","García Castán, Leopoldo","Madrileña","C","Sin Categoría","Competición",4,{"$f":"VLOOKUP(E1894,Referencias!$B$4:$C$15,2,FALSE())","v":"SC"},{"$f":"VLOOKUP(C1894,Referencias!$B$18:$C$34,2,FALSE())","v":"M"},"C"]
["2813705","Laule Schroeder, Annelore","Madrileña","D","Sin Categoría","Competición",4,{"$f":"VLOOKUP(E1895,Referencias!$B$4:$C$15,2,FALSE())","v":"SC"},{"$f":"VLOOKUP(C1895,Referencias!$B$18:$C$34,2,FALSE())","v":"M"},"C"]
["2813706","Fernández de Alarcón Herrero, Javier","Madrileña","C","Sin Categoría","Competición",4,{"$f":"VLOOKUP(E1896,Referencias!$B$4:$C$15,2,FALSE())","v":"SC"},{"$f":"VLOOKUP(C1896,Referencias!$B$18:$C$34,2,FALSE())","v":"M"},"C"]
["2813707","Medina Guerrero, Clara","Madrileña","D","Sin Categoría","Competición",4,{"$f":"VLOOKUP(E1897,Referencias!$B$4:$C$15,2,FALSE())","v":"SC"},{"$f":"VLOOKUP(C1897,Referencias!$B$18:$C$34,2,FALSE())","v":"M"},"C"]
["2813708","Rafecas Lamana, José Manuel","Madrileña","C","Sin Categoría","Competición",4,{"$f":"VLOOKUP(E1898,Referencias!$B$4:$C$15,2,FALSE())","v":"SC"},{"$f":"VLOOKUP(C1898,Referencias!$B$18:$C$34,2,FALSE())","v":"M"},"C"]
["2813709","Tornos Martín-Fernández, Marta","Madrileña","D","Tercera Diamante","Competición",3,{"$f":"VLOOKUP(E1899,Referencias!$B$4:$C$15,2,FALSE())","v":"3D"},{"$f":"VLOOKUP(C1899,Referencias!$B$18:$C$34,2,FALSE())","v":"M"},"C"]
["2813710","Morate León, María Fernanda","Madrileña","D","Tercera Diamante","Competición",3,{"$f":"VLOOKUP(E1900,Referencias!$B$4:$C$15,2,FALSE())","v":"3D"},{"$f":"VLOOKUP(C1900,Referencias!$B$18:$C$34,2,FALSE())","v":"M"},"C"]
["2813712","De la Peña Juanes, Cristina","Madrileña","D","Tercera Picas","Competición",3,{"$f":"VLOOKUP(E1901,Referencias!$B$4:$C$15,2,FALSE())","v":"3P"},{"$f":"VLOOKUP(C1901,Referencias!$B$18:$C$34,2,FALSE())","v":"M"},"C"]
["2813713","Fullana Vicens, Pilar","Madrileña","D","Tercera Corazón","Competición",3,{"$f":"VLOOKUP(E1902,Referencias!$B$4:$C$15,2,FALSE())","v":"3C"},{"$f":"VLOOKUP(C1902,Referencias!$B$18:$C$34,2,FALSE())","v":"M"},"C"]
["2813714","Meliá Goicoechea, Francisco","Madrileña","C","Tercera Diamante","Competición",3,{"$f":"VLOOKUP(E1903,Referencias!$B$4:$C$15,2,FALSE())","v":"3D"},{"$f":"VLOOKUP(C1903,Referencias!$B$18:$C$34,2,FALSE())","v":"M"},"C"]
["2813715","De la Peña González-Camino, Carmen","Madrileña","D","Sin Categoría","Honorífica",4,{"$f":"VLOOKUP(E1904,Referencias!$B$4:$C$15,2,FALSE())","v":"SC"},{"$f":"VLOOKUP(C1904,Referencias!$B$18:$C$34,2,FALSE())","v":"M"},"C"]
["2813718","Del Portillo Rubí, Merle","Madrileña","D","Tercera Corazón","Competición",3,{"$f":"VLOOKUP(E1905,Referencias!$B$4:$C$15,2,FALSE())","v":"3C"},{"$f":"VLOOKUP(C1905,Referencias!$B$18:$C$34,2,FALSE())","v":"M"},"C"]
["2813719","Tomás Crovetto, Ángel","Madrileña","C","Tercera Picas","Competición",3,{"$f":"VLOOKUP(E1906,Referencias!$B$4:$C$15,2,FALSE())","v":"3P"},{"$f":"VLOOKUP(C1906,Referencias!$B$18:$C$34,2,FALSE())","v":"M"},"C"]
["2813720","Ochoa de Ocaríz Herrero, Florentina","Madrileña","D","Tercera Diamante","Competición",3,{"$f":"VLOOKUP(E1907,Referencias!$B$4:$C$15,2,FALSE())","v":"3D"},{"$f":"VLOOKUP(C1907,Referencias!$B$18:$C$34,2,FALSE())","v":"M"},"C"]
["2813721","Martínez García-Azcutia, Mª Teresa","Madrileña","D","Tercera Picas","Competición",3,{"$f":"VLOOKUP(E1908,Referencias!$B$4:$C$15,2,FALSE())","v":"3P"},{"$f":"VLOOKUP(C1908,Referencias!$B$18:$C$34,2,FALSE())","v":"M"},"C"]
["2813724","Cerdá Sáinz, Concepción","Madrileña","D","Tercera Picas","Competición",3,{"$f":"VLOOKUP(E1909,Referencias!$B$4:$C$15,2,FALSE())","v":"3P"},{"$f":"VLOOKUP(C1909,Referencias!$B$18:$C$34,2,FALSE())","v":"M"},"C"]
["2813725","Azcona Gómez, Montserrat","Madrileña","D","Tercera Diamante","Competición",3,{"$f":"VLOOKUP(E1910,Referencias!$B$4:$C$15,2,FALSE())","v":"3D"},{"$f":"VLOOKUP(C1910,Referencias!$B$18:$C$34,2,FALSE())","v":"M"},"C"]
["2813732","Aznar De Carlos, Isabel","Madrileña","D","Tercera Diamante","Honorífica",3,{"$f":"VLOOKUP(E1911,Referencias!$B$4:$C$15,2,FALSE())","v":"3D"},{"$f":"VLOOKUP(C1911,Referencias!$B$18:$C$34,2,FALSE())","v":"M"},"C"]
["2813734","Schorr Schorr, Rosa-Lina","Madrileña","D","Tercera Diamante","Competición",3,{"$f":"VLOOKUP(E1912,Referencias!$B$4:$C$15,2,FALSE())","v":"3D"},{"$f":"VLOOKUP(C1912,Referencias!$B$18:$C$34,2,FALSE())","v":"M"},"C"]
["2813735","Sanz-Cruzado Lissarrague, Conchita","Madrileña","D","Sin Categoría","Competición",4,{"$f":"VLOOKUP(E1913,Referencias!$B$4:$C$15,2,FALSE())","v":"SC"},{"$f":"VLOOKUP(C1913,Referencias!$B$18:$C$34,2,FALSE())","v":"M"},"C"]
["2813740","Leal Zabala, Natalia","Madrileña","D","Segunda Diamante","Competición",2,{"$f":"VLOOKUP(E1914,Referencias!$B$4:$C$15,2,FALSE())","v":"2D"},{"$f":"VLOOKUP(C1914,Referencias!$B$18:$C$34,2,FALSE())","v":"M"},"C"]
["2813741","Lefort Sánchez de la Mata, Ignacio","Madrileña","C","Sin Categoría","Competición",4,{"$f":"VLOOKUP(E1915,Referencias!$B$4:$C$15,2,FALSE())","v":"SC"},{"$f":"VLOOKUP(C1915,Referencias!$B$18:$C$34,2,FALSE())","v":"M"},"C"]
["2813742","Pérez-Villar Aparicio, Rosa","Madrileña","D","Tercera Corazón","Competición",3,{"$f":"VLOOKUP(E1916,Referencias!$B$4:$C$15,2,FALSE())","v":"3C"},{"$f":"VLOOKUP(C1916,Referencias!$B$18:$C$34,2,FALSE())","v":"M"},"C"]
["2813743","Carrión Ansorena, María del Prado","Madrileña","D","Sin Categoría","Competición",4,{"$f":"VLOOKUP(E1917,Referencias!$B$4:$C$15,2,FALSE())","v":"SC"},{"$f":"VLOOKUP(C1917,Referencias!$B$18:$C$34,2,FALSE())","v":"M"},"C"]
["2813747","García Muñoz, Felisa","Madrileña","D","Segunda Corazón","Competición",2,{"$f":"VLOOKUP(E1918,Referencias!$B$4:$C$15,2,FALSE())","v":"2C"},{"$f":"VLOOKUP(C1918,Referencias!$B$18:$C$34,2,FALSE())","v":"M"},"C"]
["2813748","Manaute Raposo, Nieves","Madrileña","D","Tercera Diamante","Competición",3,{"$f":"VLOOKUP(E1919,Referencias!$B$4:$C$15,2,FALSE())","v":"3D"},{"$f":"VLOOKUP(C1919,Referencias!$B$18:$C$34,2,FALSE())","v":"M"},"C"]
["2813749","Vasallo Tomé, Jesús","Madrileña","C","Tercera Corazón","Competición",3,{"$f":"VLOOKUP(E1920,Referencias!$B$4:$C$15,2,FALSE())","v":"3C"},{"$f":"VLOOKUP(C1920,Referencias!$B$18:$C$34,2,FALSE())","v":"M"},{"$f":"IF(D1920=\"Dama\",\"D\",\"C\")","v":"C"}]
["2813752","Núñez Cotovad, Paloma","Madrileña","D","Sin Categoría","Competición",4,{"$f":"VLOOKUP(E1921,Referencias!$B$4:$C$15,2,FALSE())","v":"SC"},{"$f":"VLOOKUP(C1921,Referencias!$B$18:$C$34,2,FALSE())","v":"M"},"C"]
["2813757","Malavé Verdejo, María Victoria","Madrileña","D","Tercera Diamante","Competición",3,{"$f":"VLOOKUP(E1922,Referencias!$B$4:$C$15,2,FALSE())","v":"3D"},{"$f":"VLOOKUP(C1922,Referencias!$B$18:$C$34,2,FALSE())","v":"M"},"C"]
["2813761","Leal Zabala, Sonsoles","Madrileña","D","Sin Categoría","Competición",4,{"$f":"VLOOKUP(E1923,Referencias!$B$4:$C$15,2,FALSE())","v":"SC"},{"$f":"VLOOKUP(C1923,Referencias!$B$18:$C$34,2,FALSE())","v":"M"},"C"]
["2813763","Rubio Suárez-Pazos, Margarita","Madrileña","D","Sin Categoría","Competición",4,{"$f":"VLOOKUP(E1924,Referencias!$B$4:$C$15,2,FALSE())","v":"SC"},{"$f":"VLOOKUP(C1924,Referencias!$B$18:$C$34,2,FALSE())","v":"M"},"C"]
["2813765","Carvajal Urquijo, Pilar","Madrileña","D","Sin Categoría","Competición",4,{"$f":"VLOOKUP(E1925,Referencias!$B$4:$C$15,2,FALSE())","v":"SC"},{"$f":"VLOOKUP(C1925,Referencias!$B$18:$C$34,2,FALSE())","v":"M"},"C"]
["2813767","González de la Rocha, Pilar","Madrileña","D","Sin Categoría","Competición",4,{"$f":"VLOOKUP(E1926,Referencias!$B$4:$C$15,2,FALSE())","v":"SC"},{"$f":"VLOOKUP(C1926,Referencias!$B$18:$C$34,2,FALSE())","v":"M"},"C"]
["2813768","Oliva Utrera, Mercedes","Madrileña","D","Tercera Diamante","Competición",3,{"$f":"VLOOKUP(E1927,Referencias!$B$4:$C$15,2,FALSE())","v":"3D"},{"$f":"VLOOKUP(C1927,Referencias!$B$18:$C$34,2,FALSE())","v":"M"},"C"]
["2813769","Ibañez Larrauri, Francisco J","Madrileña","C","Tercera Corazón","Competición",3,{"$f":"VLOOKUP(E1928,Referencias!$B$4:$C$15,2,FALSE())","v":"3C"},{"$f":"VLOOKUP(C1928,Referencias!$B$18:$C$34,2,FALSE())","v":"M"},"C"]
["2813771","De la Fuente De la Revilla, Cristina","Madrileña","D","Tercera Diamante","Competición",3,{"$f":"VLOOKUP(E1929,Referencias!$B$4:$C$15,2,FALSE())","v":"3D"},{"$f":"VLOOKUP(C1929,Referencias!$B$18:$C$34,2,FALSE())","v":"M"},"C"]
["2813774","Cuenca Cot, Olga","Madrileña","D","Primera Picas","Competición",1,{"$f":"VLOOKUP(E1930,Referencias!$B$4:$C$15,2,FALSE())","v":"1P"},{"$f":"VLOOKUP(C1930,Referencias!$B$18:$C$34,2,FALSE())","v":"M"},"C"]
["2813776","Moya Careaga, Sylvia","Madrileña","D","Tercera Diamante","Competición",3,{"$f":"VLOOKUP(E1931,Referencias!$B$4:$C$15,2,FALSE())","v":"3D"},{"$f":"VLOOKUP(C1931,Referencias!$B$18:$C$34,2,FALSE())","v":"M"},"C"]
["2813777","Colomo De Larrucea y Bravo, Moisés","Madrileña","C","Tercera Diamante","Competición",3,{"$f":"VLOOKUP(E1932,Referencias!$B$4:$C$15,2,FALSE())","v":"3D"},{"$f":"VLOOKUP(C1932,Referencias!$B$18:$C$34,2,FALSE())","v":"M"},"C"]
["2813778","López de Toledo Ortíz, Carlos","Madrileña","C","Segunda Diamante","Competición",2,{"$f":"VLOOKUP(E1933,Referencias!$B$4:$C$15,2,FALSE())","v":"2D"},{"$f":"VLOOKUP(C1933,Referencias!$B$18:$C$34,2,FALSE())","v":"M"},"C"]
["2813779","De la Maza Fernández, Ana María","Madrileña","D","Segunda Diamante","Competición",2,{"$f":"VLOOKUP(E1934,Referencias!$B$4:$C$15,2,FALSE())","v":"2D"},{"$f":"VLOOKUP(C1934,Referencias!$B$18:$C$34,2,FALSE())","v":"M"},"C"]
["2813781","Krauchi Brutsch, Verena Hulda","Madrileña","D","Sin Categoría","Competición",4,{"$f":"VLOOKUP(E1935,Referencias!$B$4:$C$15,2,FALSE())","v":"SC"},{"$f":"VLOOKUP(C1935,Referencias!$B$18:$C$34,2,FALSE())","v":"M"},"C"]
["2813783","López Pérez, Baldomero","Madrileña","C","Tercera Diamante","Honorífica",3,{"$f":"VLOOKUP(E1936,Referencias!$B$4:$C$15,2,FALSE())","v":"3D"},{"$f":"VLOOKUP(C1936,Referencias!$B$18:$C$34,2,FALSE())","v":"M"},"C"]
["2813784","Villagrá Blanco, Mª Jesus","Madrileña","C","Sin Categoría","Competición",4,{"$f":"VLOOKUP(E1937,Referencias!$B$4:$C$15,2,FALSE())","v":"SC"},{"$f":"VLOOKUP(C1937,Referencias!$B$18:$C$34,2,FALSE())","v":"M"},"C"]
["2813785","González Dorrego, Consuelo","Madrileña","D","Tercera Diamante","Competición",3,{"$f":"VLOOKUP(E1938,Referencias!$B$4:$C$15,2,FALSE())","v":"3D"},{"$f":"VLOOKUP(C1938,Referencias!$B$18:$C$34,2,FALSE())","v":"M"},"C"]
["2813787","Adatto De Botton, Eveline","Madrileña","D","Sin Categoría","Honorífica",4,{"$f":"VLOOKUP(E1939,Referencias!$B$4:$C$15,2,FALSE())","v":"SC"},{"$f":"VLOOKUP(C1939,Referencias!$B$18:$C$34,2,FALSE())","v":"M"},"C"]
["2813788","Mayoral Matesanz, María José","Madrileña","D","Tercera Diamante","Competición",3,{"$f":"VLOOKUP(E1940,Referencias!$B$4:$C$15,2,FALSE())","v":"3D"},{"$f":"VLOOKUP(C1940,Referencias!$B$18:$C$34,2,FALSE())","v":"M"},"C"]
["2813790","De Alzaga Marín, Blanca","Madrileña","D","Tercera Corazón","Competición",3,{"$f":"VLOOKUP(E1941,Referencias!$B$4:$C$15,2,FALSE())","v":"3C"},{"$f":"VLOOKUP(C1941,Referencias!$B$18:$C$34,2,FALSE())","v":"M"},"C"]
["2813792","Ezquerra Plasencia, Mario","Madrileña","C","Tercera Corazón","Competición",3,{"$f":"VLOOKUP(E1942,Referencias!$B$4:$C$15,2,FALSE())","v":"3C"},{"$f":"VLOOKUP(C1942,Referencias!$B$18:$C$34,2,FALSE())","v":"M"},"C"]
["2813793","Fuster González de la Riva, Alicia","Madrileña","D","Tercera Picas","Competición",3,{"$f":"VLOOKUP(E1943,Referencias!$B$4:$C$15,2,FALSE())","v":"3P"},{"$f":"VLOOKUP(C1943,Referencias!$B$18:$C$34,2,FALSE())","v":"M"},"C"]
["2813798","De Idarreta Gabilondo, Juan María","Madrileña","C","Sin Categoría","Competición",4,{"$f":"VLOOKUP(E1944,Referencias!$B$4:$C$15,2,FALSE())","v":"SC"},{"$f":"VLOOKUP(C1944,Referencias!$B$18:$C$34,2,FALSE())","v":"M"},"C"]
["2813799","Martín-Laborda Bergasa, Mª Luisa","Madrileña","D","Sin Categoría","Competición",4,{"$f":"VLOOKUP(E1945,Referencias!$B$4:$C$15,2,FALSE())","v":"SC"},{"$f":"VLOOKUP(C1945,Referencias!$B$18:$C$34,2,FALSE())","v":"M"},"C"]
["2813804","De Bustillo García-Ramos, María Cayetana","Madrileña","D","Sin Categoría","Competición",4,{"$f":"VLOOKUP(E1946,Referencias!$B$4:$C$15,2,FALSE())","v":"SC"},{"$f":"VLOOKUP(C1946,Referencias!$B$18:$C$34,2,FALSE())","v":"M"},"C"]
["2813805","Huigens, Claire","Madrileña","D","Sin Categoría","Competición",4,{"$f":"VLOOKUP(E1947,Referencias!$B$4:$C$15,2,FALSE())","v":"SC"},{"$f":"VLOOKUP(C1947,Referencias!$B$18:$C$34,2,FALSE())","v":"M"},"C"]
["2813811","Gispert Nolla, Isabel","Madrileña","D","Tercera Diamante","Competición",3,{"$f":"VLOOKUP(E1948,Referencias!$B$4:$C$15,2,FALSE())","v":"3D"},{"$f":"VLOOKUP(C1948,Referencias!$B$18:$C$34,2,FALSE())","v":"M"},"C"]
["2813812","Oliver Sala, Ana","Madrileña","D","Tercera Corazón","Competición",3,{"$f":"VLOOKUP(E1949,Referencias!$B$4:$C$15,2,FALSE())","v":"3C"},{"$f":"VLOOKUP(C1949,Referencias!$B$18:$C$34,2,FALSE())","v":"M"},"C"]
["2813816","García de la Rasilla Pineda, Piedad","Madrileña","D","Tercera Corazón","Competición",3,{"$f":"VLOOKUP(E1950,Referencias!$B$4:$C$15,2,FALSE())","v":"3C"},{"$f":"VLOOKUP(C1950,Referencias!$B$18:$C$34,2,FALSE())","v":"M"},"C"]
["2813818","Gallego Herreros, Piedad","Madrileña","D","Sin Categoría","Competición",4,{"$f":"VLOOKUP(E1951,Referencias!$B$4:$C$15,2,FALSE())","v":"SC"},{"$f":"VLOOKUP(C1951,Referencias!$B$18:$C$34,2,FALSE())","v":"M"},"C"]
["2813820","Forero Calderón, Carolina","Madrileña","D","Sin Categoría","Competición",4,{"$f":"VLOOKUP(E1952,Referencias!$B$4:$C$15,2,FALSE())","v":"SC"},{"$f":"VLOOKUP(C1952,Referencias!$B$18:$C$34,2,FALSE())","v":"M"},"C"]
["2813822","Schutt Elser, Ursula","Madrileña","D","Sin Categoría","Competición",4,{"$f":"VLOOKUP(E1953,Referencias!$B$4:$C$15,2,FALSE())","v":"SC"},{"$f":"VLOOKUP(C1953,Referencias!$B$18:$C$34,2,FALSE())","v":"M"},"C"]
["2813825","Martínez Antonino, María Ángeles","Madrileña","D","Tercera Diamante","Competición",3,{"$f":"VLOOKUP(E1954,Referencias!$B$4:$C$15,2,FALSE())","v":"3D"},{"$f":"VLOOKUP(C1954,Referencias!$B$18:$C$34,2,FALSE())","v":"M"},"C"]
["2813827","De los Santos Gómez-Acebo, Mª Victoria","Madrileña","D","Tercera Corazón","Competición",3,{"$f":"VLOOKUP(E1955,Referencias!$B$4:$C$15,2,FALSE())","v":"3C"},{"$f":"VLOOKUP(C1955,Referencias!$B$18:$C$34,2,FALSE())","v":"M"},"C"]
["2813829","Cano Montes, Mª Gracia","Madrileña","D","Sin Categoría","Competición",4,{"$f":"VLOOKUP(E1956,Referencias!$B$4:$C$15,2,FALSE())","v":"SC"},{"$f":"VLOOKUP(C1956,Referencias!$B$18:$C$34,2,FALSE())","v":"M"},"C"]
["2813830","Tejero Montes, María Eugenia","Madrileña","D","Tercera Diamante","Competición",3,{"$f":"VLOOKUP(E1957,Referencias!$B$4:$C$15,2,FALSE())","v":"3D"},{"$f":"VLOOKUP(C1957,Referencias!$B$18:$C$34,2,FALSE())","v":"M"},"C"]
["2813831","Martínez-Fresneda González-Anleo, Concha","Madrileña","D","Tercera Diamante","Competición",3,{"$f":"VLOOKUP(E1958,Referencias!$B$4:$C$15,2,FALSE())","v":"3D"},{"$f":"VLOOKUP(C1958,Referencias!$B$18:$C$34,2,FALSE())","v":"M"},"C"]
["2813834","Prados García, Ana María","Madrileña","D","Sin Categoría","Competición",4,{"$f":"VLOOKUP(E1959,Referencias!$B$4:$C$15,2,FALSE())","v":"SC"},{"$f":"VLOOKUP(C1959,Referencias!$B$18:$C$34,2,FALSE())","v":"M"},"C"]
["2813840","García-Badell Muñoz, Teresa","Madrileña","D","Tercera Diamante","Competición",3,{"$f":"VLOOKUP(E1960,Referencias!$B$4:$C$15,2,FALSE())","v":"3D"},{"$f":"VLOOKUP(C1960,Referencias!$B$18:$C$34,2,FALSE())","v":"M"},"C"]
["2813841","Menéndez Díaz, Hortensia","Madrileña","D","Sin Categoría","Competición",4,{"$f":"VLOOKUP(E1961,Referencias!$B$4:$C$15,2,FALSE())","v":"SC"},{"$f":"VLOOKUP(C1961,Referencias!$B$18:$C$34,2,FALSE())","v":"M"},"C"]
["2813842","Spinola Venero, María","Madrileña","D","Sin Categoría","Competición",4,{"$f":"VLOOKUP(E1962,Referencias!$B$4:$C$15,2,FALSE())","v":"SC"},{"$f":"VLOOKUP(C1962,Referencias!$B$18:$C$34,2,FALSE())","v":"M"},"C"]
["2813843","Fernández Caicoya, Carmen","Madrileña","D","Tercera Diamante","Competición",3,{"$f":"VLOOKUP(E1963,Referencias!$B$4:$C$15,2,FALSE())","v":"3D"},{"$f":"VLOOKUP(C1963,Referencias!$B$18:$C$34,2,FALSE())","v":"M"},"C"]
["2813845","Rodríguez López, Carmen","Madrileña","D","Tercera Diamante","Competición",3,{"$f":"VLOOKUP(E1964,Referencias!$B$4:$C$15,2,FALSE())","v":"3D"},{"$f":"VLOOKUP(C1964,Referencias!$B$18:$C$34,2,FALSE())","v":"M"},"C"]
["2813847","Antonenko , Jeanne","Madrileña","D","Sin Categoría","Competición",4,{"$f":"VLOOKUP(E1965,Referencias!$B$4:$C$15,2,FALSE())","v":"SC"},{"$f":"VLOOKUP(C1965,Referencias!$B$18:$C$34,2,FALSE())","v":"M"},"C"]
["2813849","García-Badell Muñoz, Mercedes","Madrileña","D","Tercera Picas","Competición",3,{"$f":"VLOOKUP(E1966,Referencias!$B$4:$C$15,2,FALSE())","v":"3P"},{"$f":"VLOOKUP(C1966,Referencias!$B$18:$C$34,2,FALSE())","v":"M"},"C"]
["2813855","Pérez García, María Teresa","Madrileña","D","Tercera Diamante","Competición",3,{"$f":"VLOOKUP(E1967,Referencias!$B$4:$C$15,2,FALSE())","v":"3D"},{"$f":"VLOOKUP(C1967,Referencias!$B$18:$C$34,2,FALSE())","v":"M"},"C"]
["2813866","Ríos Carcamo, Mª Carmen","Madrileña","D","Tercera Picas","Competición",3,{"$f":"VLOOKUP(E1968,Referencias!$B$4:$C$15,2,FALSE())","v":"3P"},{"$f":"VLOOKUP(C1968,Referencias!$B$18:$C$34,2,FALSE())","v":"M"},"C"]
["2813867","Cabo Olmos, José Manuel","Madrileña","C","Sin Categoría","Competición",4,{"$f":"VLOOKUP(E1969,Referencias!$B$4:$C$15,2,FALSE())","v":"SC"},{"$f":"VLOOKUP(C1969,Referencias!$B$18:$C$34,2,FALSE())","v":"M"},"C"]
["2813868","Marias Cid, Paloma","Madrileña","D","Sin Categoría","Competición",4,{"$f":"VLOOKUP(E1970,Referencias!$B$4:$C$15,2,FALSE())","v":"SC"},{"$f":"VLOOKUP(C1970,Referencias!$B$18:$C$34,2,FALSE())","v":"M"},"C"]
["2813869","Puell Bau, Fernando","Madrileña","C","Tercera Diamante","Competición",3,{"$f":"VLOOKUP(E1971,Referencias!$B$4:$C$15,2,FALSE())","v":"3D"},{"$f":"VLOOKUP(C1971,Referencias!$B$18:$C$34,2,FALSE())","v":"M"},"C"]
["2813871","Jordán De la Cruz, Eloisa","Madrileña","D","Tercera Corazón","Competición",3,{"$f":"VLOOKUP(E1972,Referencias!$B$4:$C$15,2,FALSE())","v":"3C"},{"$f":"VLOOKUP(C1972,Referencias!$B$18:$C$34,2,FALSE())","v":"M"},"C"]
["2813872","Marín García-Mansilla, María","Madrileña","D","Tercera Diamante","Competición",3,{"$f":"VLOOKUP(E1973,Referencias!$B$4:$C$15,2,FALSE())","v":"3D"},{"$f":"VLOOKUP(C1973,Referencias!$B$18:$C$34,2,FALSE())","v":"M"},"C"]
["2813873","Sánchez-Guerra Roig, María Luisa","Madrileña","D","Tercera Corazón","Competición",3,{"$f":"VLOOKUP(E1974,Referencias!$B$4:$C$15,2,FALSE())","v":"3C"},{"$f":"VLOOKUP(C1974,Referencias!$B$18:$C$34,2,FALSE())","v":"M"},"C"]
["2813877","Arroyo Cruz, Jerónimo","Madrileña","C","Tercera Picas","Competición",3,{"$f":"VLOOKUP(E1975,Referencias!$B$4:$C$15,2,FALSE())","v":"3P"},{"$f":"VLOOKUP(C1975,Referencias!$B$18:$C$34,2,FALSE())","v":"M"},"C"]
["2813880","Márquez de la Plata García-Diego, Tomás Borja","Madrileña","C","Sin Categoría","Competición",4,{"$f":"VLOOKUP(E1976,Referencias!$B$4:$C$15,2,FALSE())","v":"SC"},{"$f":"VLOOKUP(C1976,Referencias!$B$18:$C$34,2,FALSE())","v":"M"},"C"]
["2813881","Del Toro Cáceres, Celia","Madrileña","D","Sin Categoría","Competición",4,{"$f":"VLOOKUP(E1977,Referencias!$B$4:$C$15,2,FALSE())","v":"SC"},{"$f":"VLOOKUP(C1977,Referencias!$B$18:$C$34,2,FALSE())","v":"M"},"C"]
["2813882","Lucini Bayod, Mercedes","Madrileña","D","Tercera Diamante","Competición",3,{"$f":"VLOOKUP(E1978,Referencias!$B$4:$C$15,2,FALSE())","v":"3D"},{"$f":"VLOOKUP(C1978,Referencias!$B$18:$C$34,2,FALSE())","v":"M"},"C"]
["2813883","Martínez de Elorza Topete, Margarita","Madrileña","D","Sin Categoría","Competición",4,{"$f":"VLOOKUP(E1979,Referencias!$B$4:$C$15,2,FALSE())","v":"SC"},{"$f":"VLOOKUP(C1979,Referencias!$B$18:$C$34,2,FALSE())","v":"M"},"C"]
["2813888","Calvo Arguelles, Pilar","Madrileña","D","Tercera Picas","Competición",3,{"$f":"VLOOKUP(E1980,Referencias!$B$4:$C$15,2,FALSE())","v":"3P"},{"$f":"VLOOKUP(C1980,Referencias!$B$18:$C$34,2,FALSE())","v":"M"},"C"]
["2813889","Poyán Rodera, Milagros","Madrileña","D","Sin Categoría","Competición",4,{"$f":"VLOOKUP(E1981,Referencias!$B$4:$C$15,2,FALSE())","v":"SC"},{"$f":"VLOOKUP(C1981,Referencias!$B$18:$C$34,2,FALSE())","v":"M"},"C"]
["2813892","Vegas Sansalvador, Mercedes","Madrileña","D","Tercera Picas","Competición",3,{"$f":"VLOOKUP(E1982,Referencias!$B$4:$C$15,2,FALSE())","v":"3P"},{"$f":"VLOOKUP(C1982,Referencias!$B$18:$C$34,2,FALSE())","v":"M"},"C"]
["2813893","Senac Sánchez-Anaut, Pilar","Madrileña","D","Sin Categoría","Competición",4,{"$f":"VLOOKUP(E1983,Referencias!$B$4:$C$15,2,FALSE())","v":"SC"},{"$f":"VLOOKUP(C1983,Referencias!$B$18:$C$34,2,FALSE())","v":"M"},"C"]
["2813894","Estades Seco, Matilde","Madrileña","D","Sin Categoría","Competición",4,{"$f":"VLOOKUP(E1984,Referencias!$B$4:$C$15,2,FALSE())","v":"SC"},{"$f":"VLOOKUP(C1984,Referencias!$B$18:$C$34,2,FALSE())","v":"M"},{"$f":"IF(D1984=\"Dama\",\"D\",\"C\")","v":"C"}]
["2813896","Moretón Abón, Candelas","Madrileña","D","Sin Categoría","Competición",4,{"$f":"VLOOKUP(E1985,Referencias!$B$4:$C$15,2,FALSE())","v":"SC"},{"$f":"VLOOKUP(C1985,Referencias!$B$18:$C$34,2,FALSE())","v":"M"},"C"]
["2813899","Álvarez de Toledo Bandeira, Lourdes","Madrileña","D","Sin Categoría","Competición",4,{"$f":"VLOOKUP(E1986,Referencias!$B$4:$C$15,2,FALSE())","v":"SC"},{"$f":"VLOOKUP(C1986,Referencias!$B$18:$C$34,2,FALSE())","v":"M"},"C"]
["2813900","Matoses Catania, Araceli","Madrileña","D","Sin Categoría","Competición",4,{"$f":"VLOOKUP(E1987,Referencias!$B$4:$C$15,2,FALSE())","v":"SC"},{"$f":"VLOOKUP(C1987,Referencias!$B$18:$C$34,2,FALSE())","v":"M"},"C"]
["2813901","Amate Blanco, José María","Madrileña","C","Tercera Diamante","Competición",3,{"$f":"VLOOKUP(E1988,Referencias!$B$4:$C$15,2,FALSE())","v":"3D"},{"$f":"VLOOKUP(C1988,Referencias!$B$18:$C$34,2,FALSE())","v":"M"},"C"]
["2813902","Medrano Chivite, Julia María","Madrileña","D","Tercera Diamante","Competición",3,{"$f":"VLOOKUP(E1989,Referencias!$B$4:$C$15,2,FALSE())","v":"3D"},{"$f":"VLOOKUP(C1989,Referencias!$B$18:$C$34,2,FALSE())","v":"M"},"C"]
["2813904","Carrasco , Jean Denis","Extremeña","C","Segunda Corazón","Competición",2,{"$f":"VLOOKUP(E1990,Referencias!$B$4:$C$15,2,FALSE())","v":"2C"},{"$f":"VLOOKUP(C1990,Referencias!$B$18:$C$34,2,FALSE())","v":"E"},"C"]
["2813905","Martorell Cafranga, Almudena","Madrileña","D","Segunda Picas","Competición",2,{"$f":"VLOOKUP(E1991,Referencias!$B$4:$C$15,2,FALSE())","v":"2P"},{"$f":"VLOOKUP(C1991,Referencias!$B$18:$C$34,2,FALSE())","v":"M"},"C"]
["2813907","Merino Merino, Javier","Madrileña","C","Tercera Diamante","Competición",3,{"$f":"VLOOKUP(E1992,Referencias!$B$4:$C$15,2,FALSE())","v":"3D"},{"$f":"VLOOKUP(C1992,Referencias!$B$18:$C$34,2,FALSE())","v":"M"},"C"]
["2813909","Nocella , Pier Luigi","Madrileña","C","Segunda Picas","Competición",2,{"$f":"VLOOKUP(E1993,Referencias!$B$4:$C$15,2,FALSE())","v":"2P"},{"$f":"VLOOKUP(C1993,Referencias!$B$18:$C$34,2,FALSE())","v":"M"},"C"]
["2813910","Díaz Troitiño, Mª Luisa","Madrileña","D","Tercera Corazón","Competición",3,{"$f":"VLOOKUP(E1994,Referencias!$B$4:$C$15,2,FALSE())","v":"3C"},{"$f":"VLOOKUP(C1994,Referencias!$B$18:$C$34,2,FALSE())","v":"M"},"C"]
["2813912","Navarro López de Chicheri, Beatriz","Madrileña","D","Sin Categoría","Competición",4,{"$f":"VLOOKUP(E1995,Referencias!$B$4:$C$15,2,FALSE())","v":"SC"},{"$f":"VLOOKUP(C1995,Referencias!$B$18:$C$34,2,FALSE())","v":"M"},"C"]
["2813913","Zamácola Ballestero, Eduardo","Madrileña","C","Sin Categoría","Competición",4,{"$f":"VLOOKUP(E1996,Referencias!$B$4:$C$15,2,FALSE())","v":"SC"},{"$f":"VLOOKUP(C1996,Referencias!$B$18:$C$34,2,FALSE())","v":"M"},"C"]
["2813915","Zamácola Ballestero, María","Madrileña","D","Sin Categoría","Competición",4,{"$f":"VLOOKUP(E1997,Referencias!$B$4:$C$15,2,FALSE())","v":"SC"},{"$f":"VLOOKUP(C1997,Referencias!$B$18:$C$34,2,FALSE())","v":"M"},"C"]
["2813917","Aguirre Gil de Biedma, María","Madrileña","D","Tercera Corazón","Competición",3,{"$f":"VLOOKUP(E1998,Referencias!$B$4:$C$15,2,FALSE())","v":"3C"},{"$f":"VLOOKUP(C1998,Referencias!$B$18:$C$34,2,FALSE())","v":"M"},"C"]
["2813919","García-Monsalve Escriña, Javier","Madrileña","C","Tercera Corazón","Competición",3,{"$f":"VLOOKUP(E1999,Referencias!$B$4:$C$15,2,FALSE())","v":"3C"},{"$f":"VLOOKUP(C1999,Referencias!$B$18:$C$34,2,FALSE())","v":"M"},"C"]
["2813920","Aguirre Gil de Biedma, Esperanza","Madrileña","D","Tercera Diamante","Competición",3,{"$f":"VLOOKUP(E2000,Referencias!$B$4:$C$15,2,FALSE())","v":"3D"},{"$f":"VLOOKUP(C2000,Referencias!$B$18:$C$34,2,FALSE())","v":"M"},"C"]
["2813922","Dávila Del Cerro, Consuelo","Madrileña","D","Tercera Diamante","Competición",3,{"$f":"VLOOKUP(E2001,Referencias!$B$4:$C$15,2,FALSE())","v":"3D"},{"$f":"VLOOKUP(C2001,Referencias!$B$18:$C$34,2,FALSE())","v":"M"},"C"]
["2813923","Capriles López, Mª Pía","Madrileña","D","Tercera Picas","Competición",3,{"$f":"VLOOKUP(E2002,Referencias!$B$4:$C$15,2,FALSE())","v":"3P"},{"$f":"VLOOKUP(C2002,Referencias!$B$18:$C$34,2,FALSE())","v":"M"},"C"]
["2813932","Ripa Baquedano, Isabel","Madrileña","D","Tercera Diamante","Competición",3,{"$f":"VLOOKUP(E2003,Referencias!$B$4:$C$15,2,FALSE())","v":"3D"},{"$f":"VLOOKUP(C2003,Referencias!$B$18:$C$34,2,FALSE())","v":"M"},"C"]
["2813933","Wes López, Ángela","Madrileña","D","Sin Categoría","Competición",4,{"$f":"VLOOKUP(E2004,Referencias!$B$4:$C$15,2,FALSE())","v":"SC"},{"$f":"VLOOKUP(C2004,Referencias!$B$18:$C$34,2,FALSE())","v":"M"},"C"]
["2813934","Creus Lechaga, Ana","Madrileña","D","Tercera Corazón","Competición",3,{"$f":"VLOOKUP(E2005,Referencias!$B$4:$C$15,2,FALSE())","v":"3C"},{"$f":"VLOOKUP(C2005,Referencias!$B$18:$C$34,2,FALSE())","v":"M"},"C"]
["2813936","De Laiglesia Kaifer, Concepción","Madrileña","D","Tercera Corazón","Competición",3,{"$f":"VLOOKUP(E2006,Referencias!$B$4:$C$15,2,FALSE())","v":"3C"},{"$f":"VLOOKUP(C2006,Referencias!$B$18:$C$34,2,FALSE())","v":"M"},"C"]
["2813939","Fernández Gómez, Celia","Madrileña","D","Sin Categoría","Competición",4,{"$f":"VLOOKUP(E2007,Referencias!$B$4:$C$15,2,FALSE())","v":"SC"},{"$f":"VLOOKUP(C2007,Referencias!$B$18:$C$34,2,FALSE())","v":"M"},"C"]
["2813940","Marlia Navas, Carmen","Madrileña","D","Tercera Corazón","Competición",3,{"$f":"VLOOKUP(E2008,Referencias!$B$4:$C$15,2,FALSE())","v":"3C"},{"$f":"VLOOKUP(C2008,Referencias!$B$18:$C$34,2,FALSE())","v":"M"},"C"]
["2813942","Isla Álvarez de Tejera, Fernando","Madrileña","C","Tercera Picas","Competición",3,{"$f":"VLOOKUP(E2009,Referencias!$B$4:$C$15,2,FALSE())","v":"3P"},{"$f":"VLOOKUP(C2009,Referencias!$B$18:$C$34,2,FALSE())","v":"M"},"C"]
["2813943","Domínguez Bautista, Gertrudis","Madrileña","D","Tercera Diamante","Competición",3,{"$f":"VLOOKUP(E2010,Referencias!$B$4:$C$15,2,FALSE())","v":"3D"},{"$f":"VLOOKUP(C2010,Referencias!$B$18:$C$34,2,FALSE())","v":"M"},"C"]
["2813948","Martínez Fernández, José Ignacio","Madrileña","C","Tercera Corazón","Competición",3,{"$f":"VLOOKUP(E2011,Referencias!$B$4:$C$15,2,FALSE())","v":"3C"},{"$f":"VLOOKUP(C2011,Referencias!$B$18:$C$34,2,FALSE())","v":"M"},"C"]
["2813950","Rojo Izquierdo, Paloma","Madrileña","D","Sin Categoría","Competición",4,{"$f":"VLOOKUP(E2012,Referencias!$B$4:$C$15,2,FALSE())","v":"SC"},{"$f":"VLOOKUP(C2012,Referencias!$B$18:$C$34,2,FALSE())","v":"M"},"C"]
["2813952","Verduras Alonso, Isabel","Madrileña","D","Tercera Diamante","Competición",3,{"$f":"VLOOKUP(E2013,Referencias!$B$4:$C$15,2,FALSE())","v":"3D"},{"$f":"VLOOKUP(C2013,Referencias!$B$18:$C$34,2,FALSE())","v":"M"},"C"]
["2813954","Cañizares Camacho, María Isabel","Madrileña","D","Sin Categoría","Competición",4,{"$f":"VLOOKUP(E2014,Referencias!$B$4:$C$15,2,FALSE())","v":"SC"},{"$f":"VLOOKUP(C2014,Referencias!$B$18:$C$34,2,FALSE())","v":"M"},"C"]
["2813955","Sánchez-Capuchino Santos, Luis","Madrileña","C","Sin Categoría","Competición",4,{"$f":"VLOOKUP(E2015,Referencias!$B$4:$C$15,2,FALSE())","v":"SC"},{"$f":"VLOOKUP(C2015,Referencias!$B$18:$C$34,2,FALSE())","v":"M"},"C"]
["2813958","Sánchez Gil, Miryam Lourdes","Madrileña","D","Sin Categoría","Competición",4,{"$f":"VLOOKUP(E2016,Referencias!$B$4:$C$15,2,FALSE())","v":"SC"},{"$f":"VLOOKUP(C2016,Referencias!$B$18:$C$34,2,FALSE())","v":"M"},"C"]
["2813959","Sánchez de Ocaña Uriarte, Gloria","Madrileña","D","Sin Categoría","Competición",4,{"$f":"VLOOKUP(E2017,Referencias!$B$4:$C$15,2,FALSE())","v":"SC"},{"$f":"VLOOKUP(C2017,Referencias!$B$18:$C$34,2,FALSE())","v":"M"},"C"]
["2813961","Rivera Álvarez, Nieves","Madrileña","D","Tercera Diamante","Competición",3,{"$f":"VLOOKUP(E2018,Referencias!$B$4:$C$15,2,FALSE())","v":"3D"},{"$f":"VLOOKUP(C2018,Referencias!$B$18:$C$34,2,FALSE())","v":"M"},"C"]
["2813966","Meiggs Corbellá, Lidia","Madrileña","D","Tercera Diamante","Competición",3,{"$f":"VLOOKUP(E2019,Referencias!$B$4:$C$15,2,FALSE())","v":"3D"},{"$f":"VLOOKUP(C2019,Referencias!$B$18:$C$34,2,FALSE())","v":"M"},"C"]
["2813970","Aleixandre García-Pescador, Dolores","Madrileña","D","Tercera Corazón","Competición",3,{"$f":"VLOOKUP(E2020,Referencias!$B$4:$C$15,2,FALSE())","v":"3C"},{"$f":"VLOOKUP(C2020,Referencias!$B$18:$C$34,2,FALSE())","v":"M"},"C"]
["2813974","Martín Gil, Francisco","Madrileña","C","Tercera Diamante","Competición",3,{"$f":"VLOOKUP(E2021,Referencias!$B$4:$C$15,2,FALSE())","v":"3D"},{"$f":"VLOOKUP(C2021,Referencias!$B$18:$C$34,2,FALSE())","v":"M"},"C"]
["2813977","Gallego Arcos, Teresa","Madrileña","D","Tercera Diamante","Competición",3,{"$f":"VLOOKUP(E2022,Referencias!$B$4:$C$15,2,FALSE())","v":"3D"},{"$f":"VLOOKUP(C2022,Referencias!$B$18:$C$34,2,FALSE())","v":"M"},"C"]
["2813981","Porras Delgado, Mª José","Madrileña","D","Tercera Corazón","Competición",3,{"$f":"VLOOKUP(E2023,Referencias!$B$4:$C$15,2,FALSE())","v":"3C"},{"$f":"VLOOKUP(C2023,Referencias!$B$18:$C$34,2,FALSE())","v":"M"},"C"]
["2813983","Ladrón de Guevara Muñoz-Cobo, Teresa","Madrileña","D","Tercera Picas","Competición",3,{"$f":"VLOOKUP(E2024,Referencias!$B$4:$C$15,2,FALSE())","v":"3P"},{"$f":"VLOOKUP(C2024,Referencias!$B$18:$C$34,2,FALSE())","v":"M"},"C"]
["2813986","Arias Romero, Ana Mª","Madrileña","D","Sin Categoría","Competición",4,{"$f":"VLOOKUP(E2025,Referencias!$B$4:$C$15,2,FALSE())","v":"SC"},{"$f":"VLOOKUP(C2025,Referencias!$B$18:$C$34,2,FALSE())","v":"M"},"C"]
["2813987","Apalategui Carasa, Marisa","Madrileña","D","Tercera Diamante","Competición",3,{"$f":"VLOOKUP(E2026,Referencias!$B$4:$C$15,2,FALSE())","v":"3D"},{"$f":"VLOOKUP(C2026,Referencias!$B$18:$C$34,2,FALSE())","v":"M"},"C"]
["2813994","Vaquero Hernández, Purificación","Madrileña","D","Sin Categoría","Competición",4,{"$f":"VLOOKUP(E2027,Referencias!$B$4:$C$15,2,FALSE())","v":"SC"},{"$f":"VLOOKUP(C2027,Referencias!$B$18:$C$34,2,FALSE())","v":"M"},"C"]
["2813996","Baeza Ochoa de Ocariz, Mª Concepción","Madrileña","D","Tercera Picas","Competición",3,{"$f":"VLOOKUP(E2028,Referencias!$B$4:$C$15,2,FALSE())","v":"3P"},{"$f":"VLOOKUP(C2028,Referencias!$B$18:$C$34,2,FALSE())","v":"M"},"C"]
["2813997","Rincón Salas, Purificación","Madrileña","D","Sin Categoría","Competición",4,{"$f":"VLOOKUP(E2029,Referencias!$B$4:$C$15,2,FALSE())","v":"SC"},{"$f":"VLOOKUP(C2029,Referencias!$B$18:$C$34,2,FALSE())","v":"M"},"C"]
["2814001","Gaviña Pérez-Pardo, Juana","Madrileña","D","Sin Categoría","Competición",4,{"$f":"VLOOKUP(E2030,Referencias!$B$4:$C$15,2,FALSE())","v":"SC"},{"$f":"VLOOKUP(C2030,Referencias!$B$18:$C$34,2,FALSE())","v":"M"},"C"]
["2814002","Rute Macías, Elena","Madrileña","D","Tercera Corazón","Competición",3,{"$f":"VLOOKUP(E2031,Referencias!$B$4:$C$15,2,FALSE())","v":"3C"},{"$f":"VLOOKUP(C2031,Referencias!$B$18:$C$34,2,FALSE())","v":"M"},"C"]
["2814005","De la Vega Gaytan de Ayala, Santiago","Madrileña","C","Sin Categoría","Competición",4,{"$f":"VLOOKUP(E2032,Referencias!$B$4:$C$15,2,FALSE())","v":"SC"},{"$f":"VLOOKUP(C2032,Referencias!$B$18:$C$34,2,FALSE())","v":"M"},"C"]
["2814006","Oriol Díaz de Bustamante, María","Madrileña","D","Tercera Corazón","Competición",3,{"$f":"VLOOKUP(E2033,Referencias!$B$4:$C$15,2,FALSE())","v":"3C"},{"$f":"VLOOKUP(C2033,Referencias!$B$18:$C$34,2,FALSE())","v":"M"},"C"]
["2814008","Solera Gutiérrez, Luis","Madrileña","C","Sin Categoría","Competición",4,{"$f":"VLOOKUP(E2034,Referencias!$B$4:$C$15,2,FALSE())","v":"SC"},{"$f":"VLOOKUP(C2034,Referencias!$B$18:$C$34,2,FALSE())","v":"M"},"C"]
["2814009","Cereceda López-Gil, Carmen","Madrileña","D","Sin Categoría","Competición",4,{"$f":"VLOOKUP(E2035,Referencias!$B$4:$C$15,2,FALSE())","v":"SC"},{"$f":"VLOOKUP(C2035,Referencias!$B$18:$C$34,2,FALSE())","v":"M"},"C"]
["2814011","Lafita Togores, Mª Victoria","Madrileña","D","Sin Categoría","Competición",4,{"$f":"VLOOKUP(E2036,Referencias!$B$4:$C$15,2,FALSE())","v":"SC"},{"$f":"VLOOKUP(C2036,Referencias!$B$18:$C$34,2,FALSE())","v":"M"},"C"]
["2814014","Ruíz Cecilia, Emilio","Madrileña","C","Segunda Diamante","Competición",2,{"$f":"VLOOKUP(E2037,Referencias!$B$4:$C$15,2,FALSE())","v":"2D"},{"$f":"VLOOKUP(C2037,Referencias!$B$18:$C$34,2,FALSE())","v":"M"},"C"]
["2814019","Armada Martínez-Campos, Teresa","Madrileña","D","Sin Categoría","Competición",4,{"$f":"VLOOKUP(E2038,Referencias!$B$4:$C$15,2,FALSE())","v":"SC"},{"$f":"VLOOKUP(C2038,Referencias!$B$18:$C$34,2,FALSE())","v":"M"},"C"]
["2814020","Pons Senent, Araceli","Madrileña","D","Sin Categoría","Competición",4,{"$f":"VLOOKUP(E2039,Referencias!$B$4:$C$15,2,FALSE())","v":"SC"},{"$f":"VLOOKUP(C2039,Referencias!$B$18:$C$34,2,FALSE())","v":"M"},"C"]
["2814022","Del Alcázar Armada, María","Madrileña","D","Sin Categoría","Competición",4,{"$f":"VLOOKUP(E2040,Referencias!$B$4:$C$15,2,FALSE())","v":"SC"},{"$f":"VLOOKUP(C2040,Referencias!$B$18:$C$34,2,FALSE())","v":"M"},"C"]
["2814023","Herranz Martínez, Mª del Carmen","Madrileña","D","Sin Categoría","Competición",4,{"$f":"VLOOKUP(E2041,Referencias!$B$4:$C$15,2,FALSE())","v":"SC"},{"$f":"VLOOKUP(C2041,Referencias!$B$18:$C$34,2,FALSE())","v":"M"},"C"]
["2814025","Morales Álvaro-Gracia, Mercedes","Madrileña","D","Sin Categoría","Competición",4,{"$f":"VLOOKUP(E2042,Referencias!$B$4:$C$15,2,FALSE())","v":"SC"},{"$f":"VLOOKUP(C2042,Referencias!$B$18:$C$34,2,FALSE())","v":"M"},"C"]
["2814027","Serrano Milans del Bosch, Mª Teresa","Madrileña","D","Tercera Corazón","Competición",3,{"$f":"VLOOKUP(E2043,Referencias!$B$4:$C$15,2,FALSE())","v":"3C"},{"$f":"VLOOKUP(C2043,Referencias!$B$18:$C$34,2,FALSE())","v":"M"},"C"]
["2814028","Álvarez-Novoa Romero, Isabel","Madrileña","D","Sin Categoría","Competición",4,{"$f":"VLOOKUP(E2044,Referencias!$B$4:$C$15,2,FALSE())","v":"SC"},{"$f":"VLOOKUP(C2044,Referencias!$B$18:$C$34,2,FALSE())","v":"M"},"C"]
["2814031","Pancorbo de Rato, Pilar","Asturiana","D","Tercera Diamante","Competición",3,{"$f":"VLOOKUP(E2045,Referencias!$B$4:$C$15,2,FALSE())","v":"3D"},{"$f":"VLOOKUP(C2045,Referencias!$B$18:$C$34,2,FALSE())","v":"PA"},"C"]
["2814039","Cendán Lasheras, Ricardo","Madrileña","C","Sin Categoría","Competición",4,{"$f":"VLOOKUP(E2046,Referencias!$B$4:$C$15,2,FALSE())","v":"SC"},{"$f":"VLOOKUP(C2046,Referencias!$B$18:$C$34,2,FALSE())","v":"M"},"C"]
["2814043","Madero Ambrojo, Salud","Madrileña","C","Tercera Corazón","Competición",3,{"$f":"VLOOKUP(E2047,Referencias!$B$4:$C$15,2,FALSE())","v":"3C"},{"$f":"VLOOKUP(C2047,Referencias!$B$18:$C$34,2,FALSE())","v":"M"},"C"]
["2814048","Morcillo Mestre, Maria Luisa","Madrileña","D","Sin Categoría","Competición",4,{"$f":"VLOOKUP(E2048,Referencias!$B$4:$C$15,2,FALSE())","v":"SC"},{"$f":"VLOOKUP(C2048,Referencias!$B$18:$C$34,2,FALSE())","v":"M"},{"$f":"IF(D2048=\"Dama\",\"D\",\"C\")","v":"C"}]
["2814054","Angulo Morales, Concepcion","Madrileña","D","Sin Categoría","Competición",4,{"$f":"VLOOKUP(E2049,Referencias!$B$4:$C$15,2,FALSE())","v":"SC"},{"$f":"VLOOKUP(C2049,Referencias!$B$18:$C$34,2,FALSE())","v":"M"},"C"]
["2814055","Oriol López-Montenegro, Lucas","Madrileña","C","Sin Categoría","Competición",4,{"$f":"VLOOKUP(E2050,Referencias!$B$4:$C$15,2,FALSE())","v":"SC"},{"$f":"VLOOKUP(C2050,Referencias!$B$18:$C$34,2,FALSE())","v":"M"},"C"]
["2814056","Sanz Mendiola, Irene","Madrileña","D","Tercera Picas","Competición",3,{"$f":"VLOOKUP(E2051,Referencias!$B$4:$C$15,2,FALSE())","v":"3P"},{"$f":"VLOOKUP(C2051,Referencias!$B$18:$C$34,2,FALSE())","v":"M"},"C"]
["2814057","Cerdó Serra, Pilar","Madrileña","D","Sin Categoría","Competición",4,{"$f":"VLOOKUP(E2052,Referencias!$B$4:$C$15,2,FALSE())","v":"SC"},{"$f":"VLOOKUP(C2052,Referencias!$B$18:$C$34,2,FALSE())","v":"M"},"C"]
["2814059","Sangrador Quijada, Mª Cruz","Madrileña","D","Tercera Diamante","Competición",3,{"$f":"VLOOKUP(E2053,Referencias!$B$4:$C$15,2,FALSE())","v":"3D"},{"$f":"VLOOKUP(C2053,Referencias!$B$18:$C$34,2,FALSE())","v":"M"},"C"]
["2814060","De las Cuevas Castresana, Fernando","Madrileña","C","Sin Categoría","Competición",4,{"$f":"VLOOKUP(E2054,Referencias!$B$4:$C$15,2,FALSE())","v":"SC"},{"$f":"VLOOKUP(C2054,Referencias!$B$18:$C$34,2,FALSE())","v":"M"},"C"]
["2814063","Estévez Eguiagaray, Victoria","Madrileña","D","Sin Categoría","Competición",4,{"$f":"VLOOKUP(E2055,Referencias!$B$4:$C$15,2,FALSE())","v":"SC"},{"$f":"VLOOKUP(C2055,Referencias!$B$18:$C$34,2,FALSE())","v":"M"},"C"]
["2814064","Roca de Togores De Bustos, Teresa","Madrileña","D","Sin Categoría","Competición",4,{"$f":"VLOOKUP(E2056,Referencias!$B$4:$C$15,2,FALSE())","v":"SC"},{"$f":"VLOOKUP(C2056,Referencias!$B$18:$C$34,2,FALSE())","v":"M"},"C"]
["2814065","Francés Goicoechea, Isabel","Madrileña","D","Tercera Corazón","Competición",3,{"$f":"VLOOKUP(E2057,Referencias!$B$4:$C$15,2,FALSE())","v":"3C"},{"$f":"VLOOKUP(C2057,Referencias!$B$18:$C$34,2,FALSE())","v":"M"},"C"]
["2814067","Entrecanales Vicinay, Ana María","Madrileña","D","Tercera Diamante","Competición",3,{"$f":"VLOOKUP(E2058,Referencias!$B$4:$C$15,2,FALSE())","v":"3D"},{"$f":"VLOOKUP(C2058,Referencias!$B$18:$C$34,2,FALSE())","v":"M"},"C"]
["2814070","González De Prada, Mª Jesús","Madrileña","D","Tercera Picas","Competición",3,{"$f":"VLOOKUP(E2059,Referencias!$B$4:$C$15,2,FALSE())","v":"3P"},{"$f":"VLOOKUP(C2059,Referencias!$B$18:$C$34,2,FALSE())","v":"M"},"C"]
["2814074","Rodríguez Vignote, Ignacio","Madrileña","C","Segunda Corazón","Competición",2,{"$f":"VLOOKUP(E2060,Referencias!$B$4:$C$15,2,FALSE())","v":"2C"},{"$f":"VLOOKUP(C2060,Referencias!$B$18:$C$34,2,FALSE())","v":"M"},"C"]
["2814075","Martín Gutiérrez de Cabiedes, Belén","Madrileña","D","Sin Categoría","Competición",4,{"$f":"VLOOKUP(E2061,Referencias!$B$4:$C$15,2,FALSE())","v":"SC"},{"$f":"VLOOKUP(C2061,Referencias!$B$18:$C$34,2,FALSE())","v":"M"},"C"]
["2814076","Santibañes Umeres, Carmen","Madrileña","D","Sin Categoría","Competición",4,{"$f":"VLOOKUP(E2062,Referencias!$B$4:$C$15,2,FALSE())","v":"SC"},{"$f":"VLOOKUP(C2062,Referencias!$B$18:$C$34,2,FALSE())","v":"M"},"C"]
["2814078","Molina Aragón, Ana","Madrileña","D","Tercera Diamante","Competición",3,{"$f":"VLOOKUP(E2063,Referencias!$B$4:$C$15,2,FALSE())","v":"3D"},{"$f":"VLOOKUP(C2063,Referencias!$B$18:$C$34,2,FALSE())","v":"M"},"C"]
["2814079","Velarde Pujadas, Teresa","Madrileña","D","Tercera Diamante","Competición",3,{"$f":"VLOOKUP(E2064,Referencias!$B$4:$C$15,2,FALSE())","v":"3D"},{"$f":"VLOOKUP(C2064,Referencias!$B$18:$C$34,2,FALSE())","v":"M"},"C"]
["2814080","Sahagún Fernández, Carmen Rosa","Madrileña","D","Tercera Diamante","Competición",3,{"$f":"VLOOKUP(E2065,Referencias!$B$4:$C$15,2,FALSE())","v":"3D"},{"$f":"VLOOKUP(C2065,Referencias!$B$18:$C$34,2,FALSE())","v":"M"},"C"]
["2814082","Bravo Urraca, Mª Dolores","Madrileña","D","Tercera Diamante","Competición",3,{"$f":"VLOOKUP(E2066,Referencias!$B$4:$C$15,2,FALSE())","v":"3D"},{"$f":"VLOOKUP(C2066,Referencias!$B$18:$C$34,2,FALSE())","v":"M"},"C"]
["2814085","Moreno de Barreda Moreno, Consuelo","Madrileña","D","Tercera Diamante","Competición",3,{"$f":"VLOOKUP(E2067,Referencias!$B$4:$C$15,2,FALSE())","v":"3D"},{"$f":"VLOOKUP(C2067,Referencias!$B$18:$C$34,2,FALSE())","v":"M"},"C"]
["2814086","Israel Benchimol, David","Madrileña","C","Segunda Picas","Competición",2,{"$f":"VLOOKUP(E2068,Referencias!$B$4:$C$15,2,FALSE())","v":"2P"},{"$f":"VLOOKUP(C2068,Referencias!$B$18:$C$34,2,FALSE())","v":"M"},"C"]
["2814094","Zafrani Israel, Zari","Madrileña","D","Tercera Corazón","Competición",3,{"$f":"VLOOKUP(E2069,Referencias!$B$4:$C$15,2,FALSE())","v":"3C"},{"$f":"VLOOKUP(C2069,Referencias!$B$18:$C$34,2,FALSE())","v":"M"},"C"]
["2814095","Soler González del Valle, Ángeles","Madrileña","D","Tercera Picas","Competición",3,{"$f":"VLOOKUP(E2070,Referencias!$B$4:$C$15,2,FALSE())","v":"3P"},{"$f":"VLOOKUP(C2070,Referencias!$B$18:$C$34,2,FALSE())","v":"M"},"C"]
["2814096","Torrente García de la Mata, Pedro","Madrileña","C","Segunda Diamante","Competición",2,{"$f":"VLOOKUP(E2071,Referencias!$B$4:$C$15,2,FALSE())","v":"2D"},{"$f":"VLOOKUP(C2071,Referencias!$B$18:$C$34,2,FALSE())","v":"M"},"C"]
["2814097","Costa Cuadrench, Alfonso","Madrileña","C","Sin Categoría","Competición",4,{"$f":"VLOOKUP(E2072,Referencias!$B$4:$C$15,2,FALSE())","v":"SC"},{"$f":"VLOOKUP(C2072,Referencias!$B$18:$C$34,2,FALSE())","v":"M"},"C"]
["2814098","Quijano Barroso, Juan José","Madrileña","C","Tercera Picas","Competición",3,{"$f":"VLOOKUP(E2073,Referencias!$B$4:$C$15,2,FALSE())","v":"3P"},{"$f":"VLOOKUP(C2073,Referencias!$B$18:$C$34,2,FALSE())","v":"M"},"C"]
["2814099","Aguirre Fernández-Cobaleda, Natividad","Madrileña","D","Sin Categoría","Competición",4,{"$f":"VLOOKUP(E2074,Referencias!$B$4:$C$15,2,FALSE())","v":"SC"},{"$f":"VLOOKUP(C2074,Referencias!$B$18:$C$34,2,FALSE())","v":"M"},"C"]
["2814101","Criado del Rey Linaje, Paloma","Madrileña","D","Tercera Corazón","Competición",3,{"$f":"VLOOKUP(E2075,Referencias!$B$4:$C$15,2,FALSE())","v":"3C"},{"$f":"VLOOKUP(C2075,Referencias!$B$18:$C$34,2,FALSE())","v":"M"},"C"]
["2814103","Helain Mouquet, Françoise","Madrileña","C","Tercera Diamante","Competición",3,{"$f":"VLOOKUP(E2076,Referencias!$B$4:$C$15,2,FALSE())","v":"3D"},{"$f":"VLOOKUP(C2076,Referencias!$B$18:$C$34,2,FALSE())","v":"M"},"C"]
["2814104","Latorre Cagigas, Alicia","Madrileña","D","Tercera Corazón","Competición",3,{"$f":"VLOOKUP(E2077,Referencias!$B$4:$C$15,2,FALSE())","v":"3C"},{"$f":"VLOOKUP(C2077,Referencias!$B$18:$C$34,2,FALSE())","v":"M"},"C"]
["2814106","Sobrado Pérez, Pilar","Madrileña","D","Sin Categoría","Competición",4,{"$f":"VLOOKUP(E2078,Referencias!$B$4:$C$15,2,FALSE())","v":"SC"},{"$f":"VLOOKUP(C2078,Referencias!$B$18:$C$34,2,FALSE())","v":"M"},"C"]
["2814107","Sánchez-Terán Hernández, Miguel Ángel","Madrileña","C","Tercera Corazón","Competición",3,{"$f":"VLOOKUP(E2079,Referencias!$B$4:$C$15,2,FALSE())","v":"3C"},{"$f":"VLOOKUP(C2079,Referencias!$B$18:$C$34,2,FALSE())","v":"M"},"C"]
["2814108","Espallardo Menor, José Antonio","Madrileña","C","Tercera Picas","Competición",3,{"$f":"VLOOKUP(E2080,Referencias!$B$4:$C$15,2,FALSE())","v":"3P"},{"$f":"VLOOKUP(C2080,Referencias!$B$18:$C$34,2,FALSE())","v":"M"},"C"]
["2814109","Martínez Barreiro, Laura","Madrileña","D","Tercera Picas","Competición",3,{"$f":"VLOOKUP(E2081,Referencias!$B$4:$C$15,2,FALSE())","v":"3P"},{"$f":"VLOOKUP(C2081,Referencias!$B$18:$C$34,2,FALSE())","v":"M"},"C"]
["2814110","Manzano-Monis Caruncho, Cinta","Madrileña","D","Sin Categoría","Competición",4,{"$f":"VLOOKUP(E2082,Referencias!$B$4:$C$15,2,FALSE())","v":"SC"},{"$f":"VLOOKUP(C2082,Referencias!$B$18:$C$34,2,FALSE())","v":"M"},"C"]
["2814111","Vijande Brees, Pablo","Madrileña","C","Sin Categoría","Competición",4,{"$f":"VLOOKUP(E2083,Referencias!$B$4:$C$15,2,FALSE())","v":"SC"},{"$f":"VLOOKUP(C2083,Referencias!$B$18:$C$34,2,FALSE())","v":"M"},"C"]
["2814112","Alcocer Torra, Carlos","Madrileña","C","Tercera Picas","Competición",3,{"$f":"VLOOKUP(E2084,Referencias!$B$4:$C$15,2,FALSE())","v":"3P"},{"$f":"VLOOKUP(C2084,Referencias!$B$18:$C$34,2,FALSE())","v":"M"},"C"]
["2814113","Zobel de Ayala Miranda, Cristina","Madrileña","D","Segunda Corazón","Competición",2,{"$f":"VLOOKUP(E2085,Referencias!$B$4:$C$15,2,FALSE())","v":"2C"},{"$f":"VLOOKUP(C2085,Referencias!$B$18:$C$34,2,FALSE())","v":"M"},"C"]
["2814114","Chapa Cañedo, Enrique","Madrileña","C","Tercera Corazón","Competición",3,{"$f":"VLOOKUP(E2086,Referencias!$B$4:$C$15,2,FALSE())","v":"3C"},{"$f":"VLOOKUP(C2086,Referencias!$B$18:$C$34,2,FALSE())","v":"M"},"C"]
["2814115","Saínz de Vicuña Primo de Rivera, María","Madrileña","D","Segunda Diamante","Competición",2,{"$f":"VLOOKUP(E2087,Referencias!$B$4:$C$15,2,FALSE())","v":"2D"},{"$f":"VLOOKUP(C2087,Referencias!$B$18:$C$34,2,FALSE())","v":"M"},"C"]
["2814116","Espinosa de los Monteros Pitarque, Javier","Madrileña","C","Tercera Picas","Competición",3,{"$f":"VLOOKUP(E2088,Referencias!$B$4:$C$15,2,FALSE())","v":"3P"},{"$f":"VLOOKUP(C2088,Referencias!$B$18:$C$34,2,FALSE())","v":"M"},"C"]
["2814120","Tomé Rodríguez, Sara","Madrileña","D","Sin Categoría","Competición",4,{"$f":"VLOOKUP(E2089,Referencias!$B$4:$C$15,2,FALSE())","v":"SC"},{"$f":"VLOOKUP(C2089,Referencias!$B$18:$C$34,2,FALSE())","v":"M"},"C"]
["2814121","Rodríguez Carrasco, Mary Carmen","Madrileña","D","Tercera Corazón","Competición",3,{"$f":"VLOOKUP(E2090,Referencias!$B$4:$C$15,2,FALSE())","v":"3C"},{"$f":"VLOOKUP(C2090,Referencias!$B$18:$C$34,2,FALSE())","v":"M"},"C"]
["2814124","Parra Serrano, María del Carmen","Madrileña","D","Tercera Diamante","Competición",3,{"$f":"VLOOKUP(E2091,Referencias!$B$4:$C$15,2,FALSE())","v":"3D"},{"$f":"VLOOKUP(C2091,Referencias!$B$18:$C$34,2,FALSE())","v":"M"},"C"]
["2814125","Garrido-Lestache Cabrera, Jesús María","Madrileña","C","Sin Categoría","Competición",4,{"$f":"VLOOKUP(E2092,Referencias!$B$4:$C$15,2,FALSE())","v":"SC"},{"$f":"VLOOKUP(C2092,Referencias!$B$18:$C$34,2,FALSE())","v":"M"},"C"]
["2814126","Hervada Yáñez, Joaquín","Madrileña","C","Tercera Corazón","Competición",3,{"$f":"VLOOKUP(E2093,Referencias!$B$4:$C$15,2,FALSE())","v":"3C"},{"$f":"VLOOKUP(C2093,Referencias!$B$18:$C$34,2,FALSE())","v":"M"},"C"]
["2814127","Sierra Rocafort, María","Madrileña","D","Tercera Corazón","Competición",3,{"$f":"VLOOKUP(E2094,Referencias!$B$4:$C$15,2,FALSE())","v":"3C"},{"$f":"VLOOKUP(C2094,Referencias!$B$18:$C$34,2,FALSE())","v":"M"},"C"]
["2814129","Alcocer Magirena, Carlos","Madrileña","C","Segunda Picas","Competición",2,{"$f":"VLOOKUP(E2095,Referencias!$B$4:$C$15,2,FALSE())","v":"2P"},{"$f":"VLOOKUP(C2095,Referencias!$B$18:$C$34,2,FALSE())","v":"M"},"C"]
["2814131","Aguirre Gil de Biedma, Piedad","Madrileña","D","Sin Categoría","Competición",4,{"$f":"VLOOKUP(E2096,Referencias!$B$4:$C$15,2,FALSE())","v":"SC"},{"$f":"VLOOKUP(C2096,Referencias!$B$18:$C$34,2,FALSE())","v":"M"},"C"]
["2814132","Gómez Sainz, José Manuel","Madrileña","C","Sin Categoría","Competición",4,{"$f":"VLOOKUP(E2097,Referencias!$B$4:$C$15,2,FALSE())","v":"SC"},{"$f":"VLOOKUP(C2097,Referencias!$B$18:$C$34,2,FALSE())","v":"M"},"C"]
["2814134","Crespo Estefanía, Isabel","Madrileña","D","Sin Categoría","Competición",4,{"$f":"VLOOKUP(E2098,Referencias!$B$4:$C$15,2,FALSE())","v":"SC"},{"$f":"VLOOKUP(C2098,Referencias!$B$18:$C$34,2,FALSE())","v":"M"},"C"]
["2814138","Heathcote Sapey, James","Madrileña","C","Primera Picas","Competición",1,{"$f":"VLOOKUP(E2099,Referencias!$B$4:$C$15,2,FALSE())","v":"1P"},{"$f":"VLOOKUP(C2099,Referencias!$B$18:$C$34,2,FALSE())","v":"M"},"C"]
["2814140","Cuito Sabaté, Ramón","Madrileña","C","Tercera Corazón","Competición",3,{"$f":"VLOOKUP(E2100,Referencias!$B$4:$C$15,2,FALSE())","v":"3C"},{"$f":"VLOOKUP(C2100,Referencias!$B$18:$C$34,2,FALSE())","v":"M"},"C"]
["2814141","Martín Tejedor, Mª del Rosario","Madrileña","D","Tercera Corazón","Competición",3,{"$f":"VLOOKUP(E2101,Referencias!$B$4:$C$15,2,FALSE())","v":"3C"},{"$f":"VLOOKUP(C2101,Referencias!$B$18:$C$34,2,FALSE())","v":"M"},"C"]
["2814144","Chetrit Aflalo, Elie","Madrileña","D","Primera Picas","Competición",1,{"$f":"VLOOKUP(E2102,Referencias!$B$4:$C$15,2,FALSE())","v":"1P"},{"$f":"VLOOKUP(C2102,Referencias!$B$18:$C$34,2,FALSE())","v":"M"},"C"]
["2814145","España Saz, Josefina","Madrileña","D","Tercera Diamante","Competición",3,{"$f":"VLOOKUP(E2103,Referencias!$B$4:$C$15,2,FALSE())","v":"3D"},{"$f":"VLOOKUP(C2103,Referencias!$B$18:$C$34,2,FALSE())","v":"M"},"C"]
["2814146","Del Hierro Mutiozabal, Paloma","Madrileña","D","Tercera Diamante","Competición",3,{"$f":"VLOOKUP(E2104,Referencias!$B$4:$C$15,2,FALSE())","v":"3D"},{"$f":"VLOOKUP(C2104,Referencias!$B$18:$C$34,2,FALSE())","v":"M"},"C"]
["2814148","López Pizarroso, María Jesús","Madrileña","D","Sin Categoría","Competición",4,{"$f":"VLOOKUP(E2105,Referencias!$B$4:$C$15,2,FALSE())","v":"SC"},{"$f":"VLOOKUP(C2105,Referencias!$B$18:$C$34,2,FALSE())","v":"M"},"C"]
["2814149","Benítez Jurado, Carmen","Madrileña","D","Sin Categoría","Competición",4,{"$f":"VLOOKUP(E2106,Referencias!$B$4:$C$15,2,FALSE())","v":"SC"},{"$f":"VLOOKUP(C2106,Referencias!$B$18:$C$34,2,FALSE())","v":"M"},"C"]
["2814151","Sánchez de Neyra Espuch, Teresa","Madrileña","D","Sin Categoría","Competición",4,{"$f":"VLOOKUP(E2107,Referencias!$B$4:$C$15,2,FALSE())","v":"SC"},{"$f":"VLOOKUP(C2107,Referencias!$B$18:$C$34,2,FALSE())","v":"M"},"C"]
["2814152","Sánchez Torres, Mª Consolación","Madrileña","D","Sin Categoría","Competición",4,{"$f":"VLOOKUP(E2108,Referencias!$B$4:$C$15,2,FALSE())","v":"SC"},{"$f":"VLOOKUP(C2108,Referencias!$B$18:$C$34,2,FALSE())","v":"M"},"C"]
["2814154","Deza Cofiño, Mª Concepción","Madrileña","D","Tercera Diamante","Competición",3,{"$f":"VLOOKUP(E2109,Referencias!$B$4:$C$15,2,FALSE())","v":"3D"},{"$f":"VLOOKUP(C2109,Referencias!$B$18:$C$34,2,FALSE())","v":"M"},"C"]
["2814155","Cinta , Mónica Andreea","Madrileña","D","Sin Categoría","Competición",4,{"$f":"VLOOKUP(E2110,Referencias!$B$4:$C$15,2,FALSE())","v":"SC"},{"$f":"VLOOKUP(C2110,Referencias!$B$18:$C$34,2,FALSE())","v":"M"},"C"]
["2814156","Serra Carbonell, Pilar","Madrileña","D","Tercera Corazón","Competición",3,{"$f":"VLOOKUP(E2111,Referencias!$B$4:$C$15,2,FALSE())","v":"3C"},{"$f":"VLOOKUP(C2111,Referencias!$B$18:$C$34,2,FALSE())","v":"M"},"C"]
["2814157","Zubiría Arana, Carolina","Madrileña","D","Segunda Diamante","Competición",2,{"$f":"VLOOKUP(E2112,Referencias!$B$4:$C$15,2,FALSE())","v":"2D"},{"$f":"VLOOKUP(C2112,Referencias!$B$18:$C$34,2,FALSE())","v":"M"},{"$f":"IF(D2112=\"Dama\",\"D\",\"C\")","v":"C"}]
["2814159","López Nicolás, Eduardo","Madrileña","C","Sin Categoría","Competición",4,{"$f":"VLOOKUP(E2113,Referencias!$B$4:$C$15,2,FALSE())","v":"SC"},{"$f":"VLOOKUP(C2113,Referencias!$B$18:$C$34,2,FALSE())","v":"M"},"C"]
["2814160","Díaz-Agero De Pineda, Gabriel","Madrileña","C","Segunda Picas","Competición",2,{"$f":"VLOOKUP(E2114,Referencias!$B$4:$C$15,2,FALSE())","v":"2P"},{"$f":"VLOOKUP(C2114,Referencias!$B$18:$C$34,2,FALSE())","v":"M"},"C"]
["2814162","Cepa Caneja, Mª José","Madrileña","D","Tercera Corazón","Competición",3,{"$f":"VLOOKUP(E2115,Referencias!$B$4:$C$15,2,FALSE())","v":"3C"},{"$f":"VLOOKUP(C2115,Referencias!$B$18:$C$34,2,FALSE())","v":"M"},"C"]
["2814163","Arana Monreal, Ana","Madrileña","D","Sin Categoría","Competición",4,{"$f":"VLOOKUP(E2116,Referencias!$B$4:$C$15,2,FALSE())","v":"SC"},{"$f":"VLOOKUP(C2116,Referencias!$B$18:$C$34,2,FALSE())","v":"M"},"C"]
["2814164","Knap , Margarita","Madrileña","D","Tercera Corazón","Competición",3,{"$f":"VLOOKUP(E2117,Referencias!$B$4:$C$15,2,FALSE())","v":"3C"},{"$f":"VLOOKUP(C2117,Referencias!$B$18:$C$34,2,FALSE())","v":"M"},"C"]
["2814166","De la Plata Villoslada, Pilar","Madrileña","D","Tercera Diamante","Competición",3,{"$f":"VLOOKUP(E2118,Referencias!$B$4:$C$15,2,FALSE())","v":"3D"},{"$f":"VLOOKUP(C2118,Referencias!$B$18:$C$34,2,FALSE())","v":"M"},"C"]
["2814167","Brujó Pfitz, Dolores","Madrileña","D","Tercera Diamante","Competición",3,{"$f":"VLOOKUP(E2119,Referencias!$B$4:$C$15,2,FALSE())","v":"3D"},{"$f":"VLOOKUP(C2119,Referencias!$B$18:$C$34,2,FALSE())","v":"M"},"C"]
["2814168","Castan Bailo, Ana María","Madrileña","D","Sin Categoría","Competición",4,{"$f":"VLOOKUP(E2120,Referencias!$B$4:$C$15,2,FALSE())","v":"SC"},{"$f":"VLOOKUP(C2120,Referencias!$B$18:$C$34,2,FALSE())","v":"M"},"C"]
["2814169","Cortés López, José Luis","Madrileña","C","Sin Categoría","Competición",4,{"$f":"VLOOKUP(E2121,Referencias!$B$4:$C$15,2,FALSE())","v":"SC"},{"$f":"VLOOKUP(C2121,Referencias!$B$18:$C$34,2,FALSE())","v":"M"},"C"]
["2814170","De Lacalle Santolalla, Eugenia","Madrileña","D","Sin Categoría","Junior",4,{"$f":"VLOOKUP(E2122,Referencias!$B$4:$C$15,2,FALSE())","v":"SC"},{"$f":"VLOOKUP(C2122,Referencias!$B$18:$C$34,2,FALSE())","v":"M"},"C"]
["2814172","Amatriain Corbi, Beatriz","Madrileña","D","Tercera Corazón","Competición",3,{"$f":"VLOOKUP(E2123,Referencias!$B$4:$C$15,2,FALSE())","v":"3C"},{"$f":"VLOOKUP(C2123,Referencias!$B$18:$C$34,2,FALSE())","v":"M"},"C"]
["2814175","Malumbres Vicente, Almudena","Madrileña","D","Segunda Picas","Competición",2,{"$f":"VLOOKUP(E2124,Referencias!$B$4:$C$15,2,FALSE())","v":"2P"},{"$f":"VLOOKUP(C2124,Referencias!$B$18:$C$34,2,FALSE())","v":"M"},"C"]
["2814176","de Estepa , Marqués","Madrileña","C","Segunda Picas","Competición",2,{"$f":"VLOOKUP(E2125,Referencias!$B$4:$C$15,2,FALSE())","v":"2P"},{"$f":"VLOOKUP(C2125,Referencias!$B$18:$C$34,2,FALSE())","v":"M"},"C"]
["2814178","Portillo Rubí, Carlos","Madrileña","D","Tercera Corazón","Competición",3,{"$f":"VLOOKUP(E2126,Referencias!$B$4:$C$15,2,FALSE())","v":"3C"},{"$f":"VLOOKUP(C2126,Referencias!$B$18:$C$34,2,FALSE())","v":"M"},"C"]
["2814179","Pironti Lubrano, Filippo","Madrileña","C","Segunda Diamante","Competición",2,{"$f":"VLOOKUP(E2127,Referencias!$B$4:$C$15,2,FALSE())","v":"2D"},{"$f":"VLOOKUP(C2127,Referencias!$B$18:$C$34,2,FALSE())","v":"M"},"C"]
["2814180","Cuesta Adrados, Isabel","Madrileña","D","Tercera Diamante","Competición",3,{"$f":"VLOOKUP(E2128,Referencias!$B$4:$C$15,2,FALSE())","v":"3D"},{"$f":"VLOOKUP(C2128,Referencias!$B$18:$C$34,2,FALSE())","v":"M"},"C"]
["2814184","Oriol Spinola, Borja","Madrileña","C","Sin Categoría","Competición",4,{"$f":"VLOOKUP(E2129,Referencias!$B$4:$C$15,2,FALSE())","v":"SC"},{"$f":"VLOOKUP(C2129,Referencias!$B$18:$C$34,2,FALSE())","v":"M"},"C"]
["2814186","Fernández Ongil, Concepción","Madrileña","D","Sin Categoría","Competición",4,{"$f":"VLOOKUP(E2130,Referencias!$B$4:$C$15,2,FALSE())","v":"SC"},{"$f":"VLOOKUP(C2130,Referencias!$B$18:$C$34,2,FALSE())","v":"M"},"C"]
["2814187","Mac-Crohon Pellón, Juan José","Madrileña","C","Tercera Diamante","Competición",3,{"$f":"VLOOKUP(E2131,Referencias!$B$4:$C$15,2,FALSE())","v":"3D"},{"$f":"VLOOKUP(C2131,Referencias!$B$18:$C$34,2,FALSE())","v":"M"},"C"]
["2814188","Rodríguez Martín, Carmen","Madrileña","D","Tercera Diamante","Competición",3,{"$f":"VLOOKUP(E2132,Referencias!$B$4:$C$15,2,FALSE())","v":"3D"},{"$f":"VLOOKUP(C2132,Referencias!$B$18:$C$34,2,FALSE())","v":"M"},"C"]
["2814189","Lobo Rico, Elena","Madrileña","D","Tercera Diamante","Competición",3,{"$f":"VLOOKUP(E2133,Referencias!$B$4:$C$15,2,FALSE())","v":"3D"},{"$f":"VLOOKUP(C2133,Referencias!$B$18:$C$34,2,FALSE())","v":"M"},"C"]
["2814190","De la Joya Enriquez, Adela","Madrileña","D","Tercera Diamante","Competición",3,{"$f":"VLOOKUP(E2134,Referencias!$B$4:$C$15,2,FALSE())","v":"3D"},{"$f":"VLOOKUP(C2134,Referencias!$B$18:$C$34,2,FALSE())","v":"M"},"C"]
["2814191","Comenge Puig, Paz","Madrileña","D","Sin Categoría","Competición",4,{"$f":"VLOOKUP(E2135,Referencias!$B$4:$C$15,2,FALSE())","v":"SC"},{"$f":"VLOOKUP(C2135,Referencias!$B$18:$C$34,2,FALSE())","v":"M"},"C"]
["2814193","Cabanas Ansorena, María Pureza","Madrileña","D","Segunda Diamante","Competición",2,{"$f":"VLOOKUP(E2136,Referencias!$B$4:$C$15,2,FALSE())","v":"2D"},{"$f":"VLOOKUP(C2136,Referencias!$B$18:$C$34,2,FALSE())","v":"M"},"C"]
["2814194","Navarro Sánchez-Sicilia, Almudena","Madrileña","D","Sin Categoría","Competición",4,{"$f":"VLOOKUP(E2137,Referencias!$B$4:$C$15,2,FALSE())","v":"SC"},{"$f":"VLOOKUP(C2137,Referencias!$B$18:$C$34,2,FALSE())","v":"M"},"C"]
["2814195","Mor Mazin, Atara","Madrileña","D","Segunda Diamante","Competición",2,{"$f":"VLOOKUP(E2138,Referencias!$B$4:$C$15,2,FALSE())","v":"2D"},{"$f":"VLOOKUP(C2138,Referencias!$B$18:$C$34,2,FALSE())","v":"M"},"C"]
["2814197","De la Calzada Gálvez, Fernando","Madrileña","C","Tercera Corazón","Competición",3,{"$f":"VLOOKUP(E2139,Referencias!$B$4:$C$15,2,FALSE())","v":"3C"},{"$f":"VLOOKUP(C2139,Referencias!$B$18:$C$34,2,FALSE())","v":"M"},"C"]
["2814199","Sáez-Benito Godino, Mª Teresa","Madrileña","D","Sin Categoría","Competición",4,{"$f":"VLOOKUP(E2140,Referencias!$B$4:$C$15,2,FALSE())","v":"SC"},{"$f":"VLOOKUP(C2140,Referencias!$B$18:$C$34,2,FALSE())","v":"M"},"C"]
["2814200","Herrera Santa María, Fernando","Madrileña","C","Sin Categoría","Competición",4,{"$f":"VLOOKUP(E2141,Referencias!$B$4:$C$15,2,FALSE())","v":"SC"},{"$f":"VLOOKUP(C2141,Referencias!$B$18:$C$34,2,FALSE())","v":"M"},"C"]
["2814201","Ibáñez Hernández, Victoria","Madrileña","D","Sin Categoría","Competición",4,{"$f":"VLOOKUP(E2142,Referencias!$B$4:$C$15,2,FALSE())","v":"SC"},{"$f":"VLOOKUP(C2142,Referencias!$B$18:$C$34,2,FALSE())","v":"M"},"C"]
["2814202","Gómez Gómez, Mª Victoria","Madrileña","D","Sin Categoría","Competición",4,{"$f":"VLOOKUP(E2143,Referencias!$B$4:$C$15,2,FALSE())","v":"SC"},{"$f":"VLOOKUP(C2143,Referencias!$B$18:$C$34,2,FALSE())","v":"M"},"C"]
["2814203","Carmona Villaverde, Rosario","Madrileña","D","Tercera Diamante","Competición",3,{"$f":"VLOOKUP(E2144,Referencias!$B$4:$C$15,2,FALSE())","v":"3D"},{"$f":"VLOOKUP(C2144,Referencias!$B$18:$C$34,2,FALSE())","v":"M"},"C"]
["2814204","Viudes De Carlos, Amparo","Madrileña","D","Tercera Diamante","Competición",3,{"$f":"VLOOKUP(E2145,Referencias!$B$4:$C$15,2,FALSE())","v":"3D"},{"$f":"VLOOKUP(C2145,Referencias!$B$18:$C$34,2,FALSE())","v":"M"},"C"]
["2814205","Maesso Murc, Mª Dolores","Madrileña","D","Sin Categoría","Competición",4,{"$f":"VLOOKUP(E2146,Referencias!$B$4:$C$15,2,FALSE())","v":"SC"},{"$f":"VLOOKUP(C2146,Referencias!$B$18:$C$34,2,FALSE())","v":"M"},"C"]
["2814206","Martínez-Avial Marín, Mª Teresa","Madrileña","D","Tercera Diamante","Competición",3,{"$f":"VLOOKUP(E2147,Referencias!$B$4:$C$15,2,FALSE())","v":"3D"},{"$f":"VLOOKUP(C2147,Referencias!$B$18:$C$34,2,FALSE())","v":"M"},"C"]
["2814207","García Martos, Carlos","Madrileña","C","Sin Categoría","Competición",4,{"$f":"VLOOKUP(E2148,Referencias!$B$4:$C$15,2,FALSE())","v":"SC"},{"$f":"VLOOKUP(C2148,Referencias!$B$18:$C$34,2,FALSE())","v":"M"},"C"]
["2814208","De Mingo Azcárate, María","Madrileña","D","Tercera Diamante","Competición",3,{"$f":"VLOOKUP(E2149,Referencias!$B$4:$C$15,2,FALSE())","v":"3D"},{"$f":"VLOOKUP(C2149,Referencias!$B$18:$C$34,2,FALSE())","v":"M"},"C"]
["2814209","Orozco Ulloa, Cristina","Madrileña","D","Tercera Diamante","Competición",3,{"$f":"VLOOKUP(E2150,Referencias!$B$4:$C$15,2,FALSE())","v":"3D"},{"$f":"VLOOKUP(C2150,Referencias!$B$18:$C$34,2,FALSE())","v":"M"},"C"]
["2814210","Garre Murua, Isabel","Madrileña","D","Sin Categoría","Competición",4,{"$f":"VLOOKUP(E2151,Referencias!$B$4:$C$15,2,FALSE())","v":"SC"},{"$f":"VLOOKUP(C2151,Referencias!$B$18:$C$34,2,FALSE())","v":"M"},"C"]
["2814212","Gómez Purón, Mercedes","Madrileña","D","Tercera Diamante","Competición",3,{"$f":"VLOOKUP(E2152,Referencias!$B$4:$C$15,2,FALSE())","v":"3D"},{"$f":"VLOOKUP(C2152,Referencias!$B$18:$C$34,2,FALSE())","v":"M"},"C"]
["2814214","De Estepa , Marquesa","Madrileña","D","Tercera Corazón","Competición",3,{"$f":"VLOOKUP(E2153,Referencias!$B$4:$C$15,2,FALSE())","v":"3C"},{"$f":"VLOOKUP(C2153,Referencias!$B$18:$C$34,2,FALSE())","v":"M"},"C"]
["2814215","Salto Sánchez, Conchita","Madrileña","D","Tercera Diamante","Competición",3,{"$f":"VLOOKUP(E2154,Referencias!$B$4:$C$15,2,FALSE())","v":"3D"},{"$f":"VLOOKUP(C2154,Referencias!$B$18:$C$34,2,FALSE())","v":"M"},"C"]
["2814216","De Carlos Bertrán, Luis","Madrileña","C","Tercera Picas","Competición",3,{"$f":"VLOOKUP(E2155,Referencias!$B$4:$C$15,2,FALSE())","v":"3P"},{"$f":"VLOOKUP(C2155,Referencias!$B$18:$C$34,2,FALSE())","v":"M"},"C"]
["2814218","Grutter Fuchs, Ursula","Madrileña","D","Sin Categoría","Competición",4,{"$f":"VLOOKUP(E2156,Referencias!$B$4:$C$15,2,FALSE())","v":"SC"},{"$f":"VLOOKUP(C2156,Referencias!$B$18:$C$34,2,FALSE())","v":"M"},"C"]
["2814219","Riesgo Cavestany, Beatriz","Madrileña","D","Sin Categoría","Competición",4,{"$f":"VLOOKUP(E2157,Referencias!$B$4:$C$15,2,FALSE())","v":"SC"},{"$f":"VLOOKUP(C2157,Referencias!$B$18:$C$34,2,FALSE())","v":"M"},"C"]
["2814220","Limón Tames, Jesús","Madrileña","C","Sin Categoría","Competición",4,{"$f":"VLOOKUP(E2158,Referencias!$B$4:$C$15,2,FALSE())","v":"SC"},{"$f":"VLOOKUP(C2158,Referencias!$B$18:$C$34,2,FALSE())","v":"M"},"C"]
["2814221","Torres Ortiz, Antonio","Madrileña","C","Sin Categoría","Competición",4,{"$f":"VLOOKUP(E2159,Referencias!$B$4:$C$15,2,FALSE())","v":"SC"},{"$f":"VLOOKUP(C2159,Referencias!$B$18:$C$34,2,FALSE())","v":"M"},"C"]
["2814222","Rivero Guzmán, Marta","Madrileña","D","Tercera Diamante","Competición",3,{"$f":"VLOOKUP(E2160,Referencias!$B$4:$C$15,2,FALSE())","v":"3D"},{"$f":"VLOOKUP(C2160,Referencias!$B$18:$C$34,2,FALSE())","v":"M"},"C"]
["2814224","Losada Fernández, María Griselda","Madrileña","D","Tercera Diamante","Competición",3,{"$f":"VLOOKUP(E2161,Referencias!$B$4:$C$15,2,FALSE())","v":"3D"},{"$f":"VLOOKUP(C2161,Referencias!$B$18:$C$34,2,FALSE())","v":"M"},"C"]
["2814225","Calvo Elías, Concepción","Madrileña","D","Sin Categoría","Competición",4,{"$f":"VLOOKUP(E2162,Referencias!$B$4:$C$15,2,FALSE())","v":"SC"},{"$f":"VLOOKUP(C2162,Referencias!$B$18:$C$34,2,FALSE())","v":"M"},"C"]
["2814226","Jaúdenes Argüelles, Isabel","Madrileña","D","Tercera Corazón","Competición",3,{"$f":"VLOOKUP(E2163,Referencias!$B$4:$C$15,2,FALSE())","v":"3C"},{"$f":"VLOOKUP(C2163,Referencias!$B$18:$C$34,2,FALSE())","v":"M"},"C"]
["2814227","Balaguer López, Teresa","Madrileña","D","Sin Categoría","Honorífica",4,{"$f":"VLOOKUP(E2164,Referencias!$B$4:$C$15,2,FALSE())","v":"SC"},{"$f":"VLOOKUP(C2164,Referencias!$B$18:$C$34,2,FALSE())","v":"M"},"C"]
["2814228","Núñez de Villavicencio De Soto, Cristina","Madrileña","D","Tercera Corazón","Competición",3,{"$f":"VLOOKUP(E2165,Referencias!$B$4:$C$15,2,FALSE())","v":"3C"},{"$f":"VLOOKUP(C2165,Referencias!$B$18:$C$34,2,FALSE())","v":"M"},"C"]
["2814230","López Peña, Mª Luisa","Madrileña","D","Tercera Diamante","Competición",3,{"$f":"VLOOKUP(E2166,Referencias!$B$4:$C$15,2,FALSE())","v":"3D"},{"$f":"VLOOKUP(C2166,Referencias!$B$18:$C$34,2,FALSE())","v":"M"},"C"]
["2814232","Martínez Mena, Mª Carmen","Madrileña","D","Tercera Diamante","Competición",3,{"$f":"VLOOKUP(E2167,Referencias!$B$4:$C$15,2,FALSE())","v":"3D"},{"$f":"VLOOKUP(C2167,Referencias!$B$18:$C$34,2,FALSE())","v":"M"},"C"]
["2814234","Díaz-Agero De Pineda, Feliciana","Madrileña","D","Sin Categoría","Competición",4,{"$f":"VLOOKUP(E2168,Referencias!$B$4:$C$15,2,FALSE())","v":"SC"},{"$f":"VLOOKUP(C2168,Referencias!$B$18:$C$34,2,FALSE())","v":"M"},"C"]
["2814235","Sepúlveda Martín, María Ángeles","Madrileña","D","Segunda Diamante","Competición",2,{"$f":"VLOOKUP(E2169,Referencias!$B$4:$C$15,2,FALSE())","v":"2D"},{"$f":"VLOOKUP(C2169,Referencias!$B$18:$C$34,2,FALSE())","v":"M"},"C"]
["2814236","Sevillano García, Carlos","Madrileña","C","Segunda Corazón","Competición",2,{"$f":"VLOOKUP(E2170,Referencias!$B$4:$C$15,2,FALSE())","v":"2C"},{"$f":"VLOOKUP(C2170,Referencias!$B$18:$C$34,2,FALSE())","v":"M"},"C"]
["2814237","Toscano Cleva, María Josefa","Madrileña","D","Tercera Picas","Competición",3,{"$f":"VLOOKUP(E2171,Referencias!$B$4:$C$15,2,FALSE())","v":"3P"},{"$f":"VLOOKUP(C2171,Referencias!$B$18:$C$34,2,FALSE())","v":"M"},"C"]
["2814238","Lucerga Revuelta, Teresa","Madrileña","D","Tercera Diamante","Competición",3,{"$f":"VLOOKUP(E2172,Referencias!$B$4:$C$15,2,FALSE())","v":"3D"},{"$f":"VLOOKUP(C2172,Referencias!$B$18:$C$34,2,FALSE())","v":"M"},"C"]
["2814239","Dolz de Espejo Arróspide, Isabel","Madrileña","D","Sin Categoría","Competición",4,{"$f":"VLOOKUP(E2173,Referencias!$B$4:$C$15,2,FALSE())","v":"SC"},{"$f":"VLOOKUP(C2173,Referencias!$B$18:$C$34,2,FALSE())","v":"M"},"C"]
["2814240","Martiarena Aguilar, Eduardo","Madrileña","C","Sin Categoría","Competición",4,{"$f":"VLOOKUP(E2174,Referencias!$B$4:$C$15,2,FALSE())","v":"SC"},{"$f":"VLOOKUP(C2174,Referencias!$B$18:$C$34,2,FALSE())","v":"M"},"C"]
["2814242","Morenes Giles, Carmen","Madrileña","D","Sin Categoría","Competición",4,{"$f":"VLOOKUP(E2175,Referencias!$B$4:$C$15,2,FALSE())","v":"SC"},{"$f":"VLOOKUP(C2175,Referencias!$B$18:$C$34,2,FALSE())","v":"M"},"C"]
["2814244","Entrena Grijalba, Marimi","Madrileña","D","Sin Categoría","Competición",4,{"$f":"VLOOKUP(E2176,Referencias!$B$4:$C$15,2,FALSE())","v":"SC"},{"$f":"VLOOKUP(C2176,Referencias!$B$18:$C$34,2,FALSE())","v":"M"},{"$f":"IF(D2176=\"Dama\",\"D\",\"C\")","v":"C"}]
["2814245","Rubio González, Rafael","Madrileña","C","Tercera Corazón","Competición",3,{"$f":"VLOOKUP(E2177,Referencias!$B$4:$C$15,2,FALSE())","v":"3C"},{"$f":"VLOOKUP(C2177,Referencias!$B$18:$C$34,2,FALSE())","v":"M"},"C"]
["2814247","Fernández de Soignie Lelaboureur, Ana","Madrileña","D","Sin Categoría","Competición",4,{"$f":"VLOOKUP(E2178,Referencias!$B$4:$C$15,2,FALSE())","v":"SC"},{"$f":"VLOOKUP(C2178,Referencias!$B$18:$C$34,2,FALSE())","v":"M"},"C"]
["2814248","Suárez-Inclán Martínez, Ramón","Madrileña","C","Sin Categoría","Competición",4,{"$f":"VLOOKUP(E2179,Referencias!$B$4:$C$15,2,FALSE())","v":"SC"},{"$f":"VLOOKUP(C2179,Referencias!$B$18:$C$34,2,FALSE())","v":"M"},"C"]
["2814249","Escribano Nicolás, Carlota","Madrileña","D","Sin Categoría","Competición",4,{"$f":"VLOOKUP(E2180,Referencias!$B$4:$C$15,2,FALSE())","v":"SC"},{"$f":"VLOOKUP(C2180,Referencias!$B$18:$C$34,2,FALSE())","v":"M"},"C"]
["2814251","De Alós Balderrabano, Carmen","Madrileña","D","Sin Categoría","Competición",4,{"$f":"VLOOKUP(E2181,Referencias!$B$4:$C$15,2,FALSE())","v":"SC"},{"$f":"VLOOKUP(C2181,Referencias!$B$18:$C$34,2,FALSE())","v":"M"},"C"]
["2814252","Rodríguez Inciarte, Juan","Madrileña","C","Sin Categoría","Competición",4,{"$f":"VLOOKUP(E2182,Referencias!$B$4:$C$15,2,FALSE())","v":"SC"},{"$f":"VLOOKUP(C2182,Referencias!$B$18:$C$34,2,FALSE())","v":"M"},"C"]
["2814254","Solaz García, Juan","Madrileña","C","Tercera Picas","Competición",3,{"$f":"VLOOKUP(E2183,Referencias!$B$4:$C$15,2,FALSE())","v":"3P"},{"$f":"VLOOKUP(C2183,Referencias!$B$18:$C$34,2,FALSE())","v":"M"},"C"]
["2814255","Delage Comella, Javier","Madrileña","C","Segunda Corazón","Competición",2,{"$f":"VLOOKUP(E2184,Referencias!$B$4:$C$15,2,FALSE())","v":"2C"},{"$f":"VLOOKUP(C2184,Referencias!$B$18:$C$34,2,FALSE())","v":"M"},"C"]
["2814257","Guardo Santamaría, Mª Jesús","Madrileña","D","Sin Categoría","Competición",4,{"$f":"VLOOKUP(E2185,Referencias!$B$4:$C$15,2,FALSE())","v":"SC"},{"$f":"VLOOKUP(C2185,Referencias!$B$18:$C$34,2,FALSE())","v":"M"},"C"]
["2814261","Olea García-Naranjo, Isabel","Madrileña","D","Sin Categoría","Competición",4,{"$f":"VLOOKUP(E2186,Referencias!$B$4:$C$15,2,FALSE())","v":"SC"},{"$f":"VLOOKUP(C2186,Referencias!$B$18:$C$34,2,FALSE())","v":"M"},"C"]
["2814262","Colás de Casso, Carmen","Madrileña","D","Sin Categoría","Competición",4,{"$f":"VLOOKUP(E2187,Referencias!$B$4:$C$15,2,FALSE())","v":"SC"},{"$f":"VLOOKUP(C2187,Referencias!$B$18:$C$34,2,FALSE())","v":"M"},"C"]
["2814265","Peredo Pombo, Carmen","Madrileña","D","Sin Categoría","Competición",4,{"$f":"VLOOKUP(E2188,Referencias!$B$4:$C$15,2,FALSE())","v":"SC"},{"$f":"VLOOKUP(C2188,Referencias!$B$18:$C$34,2,FALSE())","v":"M"},"C"]
["2814266","de Cardona, Duquesa","Madrileña","D","Primera Diamante","Competición",1,{"$f":"VLOOKUP(E2189,Referencias!$B$4:$C$15,2,FALSE())","v":"1D"},{"$f":"VLOOKUP(C2189,Referencias!$B$18:$C$34,2,FALSE())","v":"M"},"C"]
["2814270","Ordoñez Cousillas, Carmen","Madrileña","D","Sin Categoría","Competición",4,{"$f":"VLOOKUP(E2190,Referencias!$B$4:$C$15,2,FALSE())","v":"SC"},{"$f":"VLOOKUP(C2190,Referencias!$B$18:$C$34,2,FALSE())","v":"M"},"C"]
["2814275","Calderón Bastos, Mª Teresa","Madrileña","D","Sin Categoría","Competición",4,{"$f":"VLOOKUP(E2191,Referencias!$B$4:$C$15,2,FALSE())","v":"SC"},{"$f":"VLOOKUP(C2191,Referencias!$B$18:$C$34,2,FALSE())","v":"M"},"C"]
["2814276","García Ramal López de Haro, Mª del Carmen","Madrileña","D","Tercera Corazón","Competición",3,{"$f":"VLOOKUP(E2192,Referencias!$B$4:$C$15,2,FALSE())","v":"3C"},{"$f":"VLOOKUP(C2192,Referencias!$B$18:$C$34,2,FALSE())","v":"M"},"C"]
["2814278","Larriu Azpilicueta, Sylvia","Madrileña","C","Sin Categoría","Competición",4,{"$f":"VLOOKUP(E2193,Referencias!$B$4:$C$15,2,FALSE())","v":"SC"},{"$f":"VLOOKUP(C2193,Referencias!$B$18:$C$34,2,FALSE())","v":"M"},"C"]
["2814280","Rodríguez Inciarte, Marta","Madrileña","D","Tercera Corazón","Competición",3,{"$f":"VLOOKUP(E2194,Referencias!$B$4:$C$15,2,FALSE())","v":"3C"},{"$f":"VLOOKUP(C2194,Referencias!$B$18:$C$34,2,FALSE())","v":"M"},"C"]
["2814281","Moreno Martínez, Maria Luisa","Madrileña","D","Tercera Corazón","Competición",3,{"$f":"VLOOKUP(E2195,Referencias!$B$4:$C$15,2,FALSE())","v":"3C"},{"$f":"VLOOKUP(C2195,Referencias!$B$18:$C$34,2,FALSE())","v":"M"},"C"]
["2814282","López- Chacarra Quintan, Eugenio","Madrileña","C","Sin Categoría","Competición",4,{"$f":"VLOOKUP(E2196,Referencias!$B$4:$C$15,2,FALSE())","v":"SC"},{"$f":"VLOOKUP(C2196,Referencias!$B$18:$C$34,2,FALSE())","v":"M"},"C"]
["2814284","Rozpide Orbegozo, Carmen","Madrileña","D","Sin Categoría","Competición",4,{"$f":"VLOOKUP(E2197,Referencias!$B$4:$C$15,2,FALSE())","v":"SC"},{"$f":"VLOOKUP(C2197,Referencias!$B$18:$C$34,2,FALSE())","v":"M"},"C"]
["2814285","Muro- Lara Girod, Isabela","Madrileña","D","Tercera Corazón","Competición",3,{"$f":"VLOOKUP(E2198,Referencias!$B$4:$C$15,2,FALSE())","v":"3C"},{"$f":"VLOOKUP(C2198,Referencias!$B$18:$C$34,2,FALSE())","v":"M"},"C"]
["2814286","Sánchez Ortega, Pedro","Madrileña","C","Sin Categoría","Competición",4,{"$f":"VLOOKUP(E2199,Referencias!$B$4:$C$15,2,FALSE())","v":"SC"},{"$f":"VLOOKUP(C2199,Referencias!$B$18:$C$34,2,FALSE())","v":"M"},"C"]
["2814291","Aerny Perreten, Nicole","Madrileña","C","Tercera Diamante","Competición",3,{"$f":"VLOOKUP(E2200,Referencias!$B$4:$C$15,2,FALSE())","v":"3D"},{"$f":"VLOOKUP(C2200,Referencias!$B$18:$C$34,2,FALSE())","v":"M"},"C"]
["2814292","Bueno Martín, Eugenio","Madrileña","C","Tercera Diamante","Competición",3,{"$f":"VLOOKUP(E2201,Referencias!$B$4:$C$15,2,FALSE())","v":"3D"},{"$f":"VLOOKUP(C2201,Referencias!$B$18:$C$34,2,FALSE())","v":"M"},"C"]
["2814293","García Zurdo, José","Madrileña","C","Tercera Diamante","Competición",3,{"$f":"VLOOKUP(E2202,Referencias!$B$4:$C$15,2,FALSE())","v":"3D"},{"$f":"VLOOKUP(C2202,Referencias!$B$18:$C$34,2,FALSE())","v":"M"},"C"]
["2814294","Banus Pallares, Jaime","Madrileña","C","Sin Categoría","Competición",4,{"$f":"VLOOKUP(E2203,Referencias!$B$4:$C$15,2,FALSE())","v":"SC"},{"$f":"VLOOKUP(C2203,Referencias!$B$18:$C$34,2,FALSE())","v":"M"},"C"]
["2814298","San Martín Martín, Fernando","Madrileña","C","Tercera Diamante","Competición",3,{"$f":"VLOOKUP(E2204,Referencias!$B$4:$C$15,2,FALSE())","v":"3D"},{"$f":"VLOOKUP(C2204,Referencias!$B$18:$C$34,2,FALSE())","v":"M"},"C"]
["2814299","Fernández de Mesa Temboury, Cristina","Madrileña","D","Tercera Picas","Competición",3,{"$f":"VLOOKUP(E2205,Referencias!$B$4:$C$15,2,FALSE())","v":"3P"},{"$f":"VLOOKUP(C2205,Referencias!$B$18:$C$34,2,FALSE())","v":"M"},"C"]
["2814301","Arrancudiaga Velilla, Paloma","Madrileña","D","Sin Categoría","Competición",4,{"$f":"VLOOKUP(E2206,Referencias!$B$4:$C$15,2,FALSE())","v":"SC"},{"$f":"VLOOKUP(C2206,Referencias!$B$18:$C$34,2,FALSE())","v":"M"},"C"]
["2814302","Augeard, Michel","Madrileña","C","Primera Picas","Competición",1,{"$f":"VLOOKUP(E2207,Referencias!$B$4:$C$15,2,FALSE())","v":"1P"},{"$f":"VLOOKUP(C2207,Referencias!$B$18:$C$34,2,FALSE())","v":"M"},"C"]
["2814304","Armijo Torres, Marta","Madrileña","D","Segunda Diamante","Competición",2,{"$f":"VLOOKUP(E2208,Referencias!$B$4:$C$15,2,FALSE())","v":"2D"},{"$f":"VLOOKUP(C2208,Referencias!$B$18:$C$34,2,FALSE())","v":"M"},"C"]
["2814306","Llorente Navarro, Olga","Madrileña","D","Sin Categoría","Competición",4,{"$f":"VLOOKUP(E2209,Referencias!$B$4:$C$15,2,FALSE())","v":"SC"},{"$f":"VLOOKUP(C2209,Referencias!$B$18:$C$34,2,FALSE())","v":"M"},"C"]
["2814309","Serra López de Chicheri, María Dolores","Madrileña","D","Segunda Diamante","Competición",2,{"$f":"VLOOKUP(E2210,Referencias!$B$4:$C$15,2,FALSE())","v":"2D"},{"$f":"VLOOKUP(C2210,Referencias!$B$18:$C$34,2,FALSE())","v":"M"},"C"]
["2814312","Muñoz Noguera, Carmen","Madrileña","D","Sin Categoría","Competición",4,{"$f":"VLOOKUP(E2211,Referencias!$B$4:$C$15,2,FALSE())","v":"SC"},{"$f":"VLOOKUP(C2211,Referencias!$B$18:$C$34,2,FALSE())","v":"M"},"C"]
["2814313","Benito Bardot, Isabel","Madrileña","D","Sin Categoría","Competición",4,{"$f":"VLOOKUP(E2212,Referencias!$B$4:$C$15,2,FALSE())","v":"SC"},{"$f":"VLOOKUP(C2212,Referencias!$B$18:$C$34,2,FALSE())","v":"M"},"C"]
["2814316","Mannerstrale Svensson, Christina","Madrileña","D","Segunda Diamante","Competición",2,{"$f":"VLOOKUP(E2213,Referencias!$B$4:$C$15,2,FALSE())","v":"2D"},{"$f":"VLOOKUP(C2213,Referencias!$B$18:$C$34,2,FALSE())","v":"M"},"C"]
["2814317","Lozano García, Francisco","Madrileña","C","Segunda Diamante","Competición",2,{"$f":"VLOOKUP(E2214,Referencias!$B$4:$C$15,2,FALSE())","v":"2D"},{"$f":"VLOOKUP(C2214,Referencias!$B$18:$C$34,2,FALSE())","v":"M"},"C"]
["2814329","Figueroa Arevalo, Marta","Madrileña","D","Sin Categoría","Competición",4,{"$f":"VLOOKUP(E2215,Referencias!$B$4:$C$15,2,FALSE())","v":"SC"},{"$f":"VLOOKUP(C2215,Referencias!$B$18:$C$34,2,FALSE())","v":"M"},"C"]
["2814330","Aguirrebengoa Garay, Myriam","Madrileña","D","Segunda Diamante","Competición",2,{"$f":"VLOOKUP(E2216,Referencias!$B$4:$C$15,2,FALSE())","v":"2D"},{"$f":"VLOOKUP(C2216,Referencias!$B$18:$C$34,2,FALSE())","v":"M"},"C"]
["2814331","Vázquez Salinero, Cristina","Madrileña","D","Sin Categoría","Competición",4,{"$f":"VLOOKUP(E2217,Referencias!$B$4:$C$15,2,FALSE())","v":"SC"},{"$f":"VLOOKUP(C2217,Referencias!$B$18:$C$34,2,FALSE())","v":"M"},"C"]
["2814334","García Gigante, Benjamín","Madrileña","C","Tercera Corazón","Competición",3,{"$f":"VLOOKUP(E2218,Referencias!$B$4:$C$15,2,FALSE())","v":"3C"},{"$f":"VLOOKUP(C2218,Referencias!$B$18:$C$34,2,FALSE())","v":"M"},"C"]
["2814336","Santolalla Fernández de Bobadilla, Victoria","Madrileña","D","Tercera Corazón","Competición",3,{"$f":"VLOOKUP(E2219,Referencias!$B$4:$C$15,2,FALSE())","v":"3C"},{"$f":"VLOOKUP(C2219,Referencias!$B$18:$C$34,2,FALSE())","v":"M"},"C"]
["2814337","Castells De Castro, Jorge","Madrileña","C","Sin Categoría","Competición",4,{"$f":"VLOOKUP(E2220,Referencias!$B$4:$C$15,2,FALSE())","v":"SC"},{"$f":"VLOOKUP(C2220,Referencias!$B$18:$C$34,2,FALSE())","v":"M"},"C"]
["2814338","de Villemandy de la Mesniere, Patrick","Madrileña","C","Tercera Diamante","Competición",3,{"$f":"VLOOKUP(E2221,Referencias!$B$4:$C$15,2,FALSE())","v":"3D"},{"$f":"VLOOKUP(C2221,Referencias!$B$18:$C$34,2,FALSE())","v":"M"},"C"]
["2814339","Godino Roldán, Carmen","Madrileña","D","Sin Categoría","Competición",4,{"$f":"VLOOKUP(E2222,Referencias!$B$4:$C$15,2,FALSE())","v":"SC"},{"$f":"VLOOKUP(C2222,Referencias!$B$18:$C$34,2,FALSE())","v":"M"},"C"]
["2814340","Juarranz De la Fuente, Corona","Madrileña","D","Sin Categoría","Competición",4,{"$f":"VLOOKUP(E2223,Referencias!$B$4:$C$15,2,FALSE())","v":"SC"},{"$f":"VLOOKUP(C2223,Referencias!$B$18:$C$34,2,FALSE())","v":"M"},"C"]
["2814341","García Nuñez, Mª Luisa","Madrileña","D","Sin Categoría","Competición",4,{"$f":"VLOOKUP(E2224,Referencias!$B$4:$C$15,2,FALSE())","v":"SC"},{"$f":"VLOOKUP(C2224,Referencias!$B$18:$C$34,2,FALSE())","v":"M"},"C"]
["2814342","García Muñoz, Jose María","Madrileña","C","Segunda Diamante","Competición",2,{"$f":"VLOOKUP(E2225,Referencias!$B$4:$C$15,2,FALSE())","v":"2D"},{"$f":"VLOOKUP(C2225,Referencias!$B$18:$C$34,2,FALSE())","v":"M"},"C"]
["2814343","Villagrá Blanco, María Pilar","Madrileña","D","Tercera Diamante","Competición",3,{"$f":"VLOOKUP(E2226,Referencias!$B$4:$C$15,2,FALSE())","v":"3D"},{"$f":"VLOOKUP(C2226,Referencias!$B$18:$C$34,2,FALSE())","v":"M"},"C"]
["2814346","Rubio Gónzalez, Regina","Madrileña","D","Tercera Corazón","Competición",3,{"$f":"VLOOKUP(E2227,Referencias!$B$4:$C$15,2,FALSE())","v":"3C"},{"$f":"VLOOKUP(C2227,Referencias!$B$18:$C$34,2,FALSE())","v":"M"},"C"]
["2814347","García de la Rasilla Pineda, Beatriz","Madrileña","D","Sin Categoría","Competición",4,{"$f":"VLOOKUP(E2228,Referencias!$B$4:$C$15,2,FALSE())","v":"SC"},{"$f":"VLOOKUP(C2228,Referencias!$B$18:$C$34,2,FALSE())","v":"M"},"C"]
["2814348","Livianos Martín, Teresa","Madrileña","D","Tercera Diamante","Competición",3,{"$f":"VLOOKUP(E2229,Referencias!$B$4:$C$15,2,FALSE())","v":"3D"},{"$f":"VLOOKUP(C2229,Referencias!$B$18:$C$34,2,FALSE())","v":"M"},"C"]
["2814349","Gímenez Días-Oyelos, Concepción","Madrileña","D","Tercera Diamante","Competición",3,{"$f":"VLOOKUP(E2230,Referencias!$B$4:$C$15,2,FALSE())","v":"3D"},{"$f":"VLOOKUP(C2230,Referencias!$B$18:$C$34,2,FALSE())","v":"M"},"C"]
["2814350","Carceller Carceller, Patrocinio","Madrileña","D","Tercera Diamante","Competición",3,{"$f":"VLOOKUP(E2231,Referencias!$B$4:$C$15,2,FALSE())","v":"3D"},{"$f":"VLOOKUP(C2231,Referencias!$B$18:$C$34,2,FALSE())","v":"M"},"C"]
["2814351","De Orueta Pemartín, María","Madrileña","D","Tercera Picas","Competición",3,{"$f":"VLOOKUP(E2232,Referencias!$B$4:$C$15,2,FALSE())","v":"3P"},{"$f":"VLOOKUP(C2232,Referencias!$B$18:$C$34,2,FALSE())","v":"M"},"C"]
["2814352","Tinao Toledano, Sylvia","Madrileña","D","Tercera Corazón","Competición",3,{"$f":"VLOOKUP(E2233,Referencias!$B$4:$C$15,2,FALSE())","v":"3C"},{"$f":"VLOOKUP(C2233,Referencias!$B$18:$C$34,2,FALSE())","v":"M"},"C"]
["2814354","Fernández Durán, Reyes","Madrileña","D","Sin Categoría","Competición",4,{"$f":"VLOOKUP(E2234,Referencias!$B$4:$C$15,2,FALSE())","v":"SC"},{"$f":"VLOOKUP(C2234,Referencias!$B$18:$C$34,2,FALSE())","v":"M"},"C"]
["2814355","Salcedo, Jose María","Madrileña","C","Sin Categoría","Competición",4,{"$f":"VLOOKUP(E2235,Referencias!$B$4:$C$15,2,FALSE())","v":"SC"},{"$f":"VLOOKUP(C2235,Referencias!$B$18:$C$34,2,FALSE())","v":"M"},"C"]
["2814356","Merino Enseñat, Maria Luisa","Madrileña","D","Sin Categoría","Competición",4,{"$f":"VLOOKUP(E2236,Referencias!$B$4:$C$15,2,FALSE())","v":"SC"},{"$f":"VLOOKUP(C2236,Referencias!$B$18:$C$34,2,FALSE())","v":"M"},"C"]
["2814357","Enciso Bergé, Ramón","Madrileña","C","Sin Categoría","Competición",4,{"$f":"VLOOKUP(E2237,Referencias!$B$4:$C$15,2,FALSE())","v":"SC"},{"$f":"VLOOKUP(C2237,Referencias!$B$18:$C$34,2,FALSE())","v":"M"},"C"]
["2814358","Blanco García, Mª Eugenia","Madrileña","D","Tercera Diamante","Competición",3,{"$f":"VLOOKUP(E2238,Referencias!$B$4:$C$15,2,FALSE())","v":"3D"},{"$f":"VLOOKUP(C2238,Referencias!$B$18:$C$34,2,FALSE())","v":"M"},"C"]
["2814359","Soria Vidal, Ignacio","Madrileña","C","Tercera Corazón","Competición",3,{"$f":"VLOOKUP(E2239,Referencias!$B$4:$C$15,2,FALSE())","v":"3C"},{"$f":"VLOOKUP(C2239,Referencias!$B$18:$C$34,2,FALSE())","v":"M"},"C"]
["2814361","García Lantero, Carmen Dolores","Madrileña","D","Sin Categoría","Competición",4,{"$f":"VLOOKUP(E2240,Referencias!$B$4:$C$15,2,FALSE())","v":"SC"},{"$f":"VLOOKUP(C2240,Referencias!$B$18:$C$34,2,FALSE())","v":"M"},{"$f":"IF(D2240=\"Dama\",\"D\",\"C\")","v":"C"}]
["2814362","Richi Alberti, Manuel","Madrileña","C","Sin Categoría","Competición",4,{"$f":"VLOOKUP(E2241,Referencias!$B$4:$C$15,2,FALSE())","v":"SC"},{"$f":"VLOOKUP(C2241,Referencias!$B$18:$C$34,2,FALSE())","v":"M"},"C"]
["2814363","Junco Aguado, Mercedes","Madrileña","D","Tercera Diamante","Competición",3,{"$f":"VLOOKUP(E2242,Referencias!$B$4:$C$15,2,FALSE())","v":"3D"},{"$f":"VLOOKUP(C2242,Referencias!$B$18:$C$34,2,FALSE())","v":"M"},"C"]
["2814364","Riera de Prada, Javier","Madrileña","C","Tercera Diamante","Competición",3,{"$f":"VLOOKUP(E2243,Referencias!$B$4:$C$15,2,FALSE())","v":"3D"},{"$f":"VLOOKUP(C2243,Referencias!$B$18:$C$34,2,FALSE())","v":"M"},"C"]
["2814365","Gubianes Pol, Isabel","Madrileña","D","Tercera Diamante","Competición",3,{"$f":"VLOOKUP(E2244,Referencias!$B$4:$C$15,2,FALSE())","v":"3D"},{"$f":"VLOOKUP(C2244,Referencias!$B$18:$C$34,2,FALSE())","v":"M"},"C"]
["2814366","Vázquez de la Cueva, Jose Manuel","Madrileña","C","Tercera Diamante","Competición",3,{"$f":"VLOOKUP(E2245,Referencias!$B$4:$C$15,2,FALSE())","v":"3D"},{"$f":"VLOOKUP(C2245,Referencias!$B$18:$C$34,2,FALSE())","v":"M"},"C"]
["2814367","González Fernández, Isabel","Madrileña","D","Tercera Diamante","Competición",3,{"$f":"VLOOKUP(E2246,Referencias!$B$4:$C$15,2,FALSE())","v":"3D"},{"$f":"VLOOKUP(C2246,Referencias!$B$18:$C$34,2,FALSE())","v":"M"},"C"]
["2814368","Vivas López,, Santiago","Madrileña","C","Sin Categoría","Competición",4,{"$f":"VLOOKUP(E2247,Referencias!$B$4:$C$15,2,FALSE())","v":"SC"},{"$f":"VLOOKUP(C2247,Referencias!$B$18:$C$34,2,FALSE())","v":"M"},"C"]
["2814369","Hinojosa Fernández de Angulo, Carmen","Madrileña","D","Tercera Diamante","Competición",3,{"$f":"VLOOKUP(E2248,Referencias!$B$4:$C$15,2,FALSE())","v":"3D"},{"$f":"VLOOKUP(C2248,Referencias!$B$18:$C$34,2,FALSE())","v":"M"},"C"]
["2814370","Compostizo Sañudo, Aurora","Madrileña","D","Sin Categoría","Competición",4,{"$f":"VLOOKUP(E2249,Referencias!$B$4:$C$15,2,FALSE())","v":"SC"},{"$f":"VLOOKUP(C2249,Referencias!$B$18:$C$34,2,FALSE())","v":"M"},"C"]
["2814373","Mexia Marouschek, Rafael","Madrileña","C","Sin Categoría","Competición",4,{"$f":"VLOOKUP(E2250,Referencias!$B$4:$C$15,2,FALSE())","v":"SC"},{"$f":"VLOOKUP(C2250,Referencias!$B$18:$C$34,2,FALSE())","v":"M"},"C"]
["2814374","Guerrero Castejón, Maria Dolores","Madrileña","D","Sin Categoría","Competición",4,{"$f":"VLOOKUP(E2251,Referencias!$B$4:$C$15,2,FALSE())","v":"SC"},{"$f":"VLOOKUP(C2251,Referencias!$B$18:$C$34,2,FALSE())","v":"M"},"C"]
["2814375","Castells Cuadrillero, Álvaro","Madrileña","C","Primera Picas","Competición",1,{"$f":"VLOOKUP(E2252,Referencias!$B$4:$C$15,2,FALSE())","v":"1P"},{"$f":"VLOOKUP(C2252,Referencias!$B$18:$C$34,2,FALSE())","v":"M"},"C"]
["2814376","Rodulfo Puy, Pablo","Madrileña","C","Sin Categoría","Competición",4,{"$f":"VLOOKUP(E2253,Referencias!$B$4:$C$15,2,FALSE())","v":"SC"},{"$f":"VLOOKUP(C2253,Referencias!$B$18:$C$34,2,FALSE())","v":"M"},"C"]
["2814378","Laiglesia Nieto, Pilar","Madrileña","D","Tercera Diamante","Competición",3,{"$f":"VLOOKUP(E2254,Referencias!$B$4:$C$15,2,FALSE())","v":"3D"},{"$f":"VLOOKUP(C2254,Referencias!$B$18:$C$34,2,FALSE())","v":"M"},"C"]
["2814379","Orbegozo Laborde, Elena","Vasca","D","Tercera Picas","Competición",3,{"$f":"VLOOKUP(E2255,Referencias!$B$4:$C$15,2,FALSE())","v":"3P"},{"$f":"VLOOKUP(C2255,Referencias!$B$18:$C$34,2,FALSE())","v":"PV"},"C"]
["2814380","Gutiérrez Sánchez, Amparo","Madrileña","D","Tercera Corazón","Competición",3,{"$f":"VLOOKUP(E2256,Referencias!$B$4:$C$15,2,FALSE())","v":"3C"},{"$f":"VLOOKUP(C2256,Referencias!$B$18:$C$34,2,FALSE())","v":"M"},"C"]
["2814382","Soroa Gutiérrez, José Manuel","Madrileña","C","Segunda Diamante","Competición",2,{"$f":"VLOOKUP(E2257,Referencias!$B$4:$C$15,2,FALSE())","v":"2D"},{"$f":"VLOOKUP(C2257,Referencias!$B$18:$C$34,2,FALSE())","v":"M"},"C"]
["2814383","De Van Hofwegen, Myrna Lauw","Madrileña","D","Sin Categoría","Competición",4,{"$f":"VLOOKUP(E2258,Referencias!$B$4:$C$15,2,FALSE())","v":"SC"},{"$f":"VLOOKUP(C2258,Referencias!$B$18:$C$34,2,FALSE())","v":"M"},"C"]
["2814384","Méndez Férnandez, Carmen","Madrileña","D","Segunda Diamante","Competición",2,{"$f":"VLOOKUP(E2259,Referencias!$B$4:$C$15,2,FALSE())","v":"2D"},{"$f":"VLOOKUP(C2259,Referencias!$B$18:$C$34,2,FALSE())","v":"M"},"C"]
["2814385","Castro Martínez, Carmen","Madrileña","D","Tercera Diamante","Competición",3,{"$f":"VLOOKUP(E2260,Referencias!$B$4:$C$15,2,FALSE())","v":"3D"},{"$f":"VLOOKUP(C2260,Referencias!$B$18:$C$34,2,FALSE())","v":"M"},"C"]
["2814386","Luque Hernández, Aída","Madrileña","D","Tercera Picas","Competición",3,{"$f":"VLOOKUP(E2261,Referencias!$B$4:$C$15,2,FALSE())","v":"3P"},{"$f":"VLOOKUP(C2261,Referencias!$B$18:$C$34,2,FALSE())","v":"M"},"C"]
["2814388","Beltrán Garay, María","Madrileña","D","Segunda Diamante","Competición",2,{"$f":"VLOOKUP(E2262,Referencias!$B$4:$C$15,2,FALSE())","v":"2D"},{"$f":"VLOOKUP(C2262,Referencias!$B$18:$C$34,2,FALSE())","v":"M"},"C"]
["2814390","Kleicho Castan, Alberto","Madrileña","C","Tercera Corazón","Competición",3,{"$f":"VLOOKUP(E2263,Referencias!$B$4:$C$15,2,FALSE())","v":"3C"},{"$f":"VLOOKUP(C2263,Referencias!$B$18:$C$34,2,FALSE())","v":"M"},"C"]
["2814391","Martín Romero, Eva","Madrileña","D","Sin Categoría","Competición",4,{"$f":"VLOOKUP(E2264,Referencias!$B$4:$C$15,2,FALSE())","v":"SC"},{"$f":"VLOOKUP(C2264,Referencias!$B$18:$C$34,2,FALSE())","v":"M"},"C"]
["2814392","Gajate Plasencia, Alfonso","Madrileña","C","Sin Categoría","Competición",4,{"$f":"VLOOKUP(E2265,Referencias!$B$4:$C$15,2,FALSE())","v":"SC"},{"$f":"VLOOKUP(C2265,Referencias!$B$18:$C$34,2,FALSE())","v":"M"},"C"]
["2814393","Sebastián de Erice Sánchez -Ocaña, María","Madrileña","D","Tercera Diamante","Competición",3,{"$f":"VLOOKUP(E2266,Referencias!$B$4:$C$15,2,FALSE())","v":"3D"},{"$f":"VLOOKUP(C2266,Referencias!$B$18:$C$34,2,FALSE())","v":"M"},"C"]
["2814394","Urizar Zubiria, María","Madrileña","D","Sin Categoría","Competición",4,{"$f":"VLOOKUP(E2267,Referencias!$B$4:$C$15,2,FALSE())","v":"SC"},{"$f":"VLOOKUP(C2267,Referencias!$B$18:$C$34,2,FALSE())","v":"M"},"C"]
["2814397","Subinas Landa, Rafael","Madrileña","C","Sin Categoría","Competición",4,{"$f":"VLOOKUP(E2268,Referencias!$B$4:$C$15,2,FALSE())","v":"SC"},{"$f":"VLOOKUP(C2268,Referencias!$B$18:$C$34,2,FALSE())","v":"M"},"C"]
["2814400","Belenda Justo, Beatriz","Madrileña","D","Tercera Corazón","Competición",3,{"$f":"VLOOKUP(E2269,Referencias!$B$4:$C$15,2,FALSE())","v":"3C"},{"$f":"VLOOKUP(C2269,Referencias!$B$18:$C$34,2,FALSE())","v":"M"},"C"]
["2814401","Travesí Cabetas, Alfonso","Madrileña","C","Tercera Corazón","Competición",3,{"$f":"VLOOKUP(E2270,Referencias!$B$4:$C$15,2,FALSE())","v":"3C"},{"$f":"VLOOKUP(C2270,Referencias!$B$18:$C$34,2,FALSE())","v":"M"},"C"]
["2814404","Corral Ruiz, Lucila","Madrileña","D","Tercera Corazón","Competición",3,{"$f":"VLOOKUP(E2271,Referencias!$B$4:$C$15,2,FALSE())","v":"3C"},{"$f":"VLOOKUP(C2271,Referencias!$B$18:$C$34,2,FALSE())","v":"M"},"C"]
["2814405","Sancho López, Manuel","Madrileña","C","Tercera Corazón","Competición",3,{"$f":"VLOOKUP(E2272,Referencias!$B$4:$C$15,2,FALSE())","v":"3C"},{"$f":"VLOOKUP(C2272,Referencias!$B$18:$C$34,2,FALSE())","v":"M"},"C"]
["2814406","Urbasos Tapia, Cristina","Madrileña","D","Tercera Picas","Competición",3,{"$f":"VLOOKUP(E2273,Referencias!$B$4:$C$15,2,FALSE())","v":"3P"},{"$f":"VLOOKUP(C2273,Referencias!$B$18:$C$34,2,FALSE())","v":"M"},"C"]
["2814407","Almela Hijalva, José Vicente","Madrileña","C","Sin Categoría","Competición",4,{"$f":"VLOOKUP(E2274,Referencias!$B$4:$C$15,2,FALSE())","v":"SC"},{"$f":"VLOOKUP(C2274,Referencias!$B$18:$C$34,2,FALSE())","v":"M"},"C"]
["2814408","Thorent de Cabezas, Andrée","Madrileña","C","Tercera Diamante","Competición",3,{"$f":"VLOOKUP(E2275,Referencias!$B$4:$C$15,2,FALSE())","v":"3D"},{"$f":"VLOOKUP(C2275,Referencias!$B$18:$C$34,2,FALSE())","v":"M"},"C"]
["2814409","Celdrán Kuhl, Christian","Madrileña","C","Tercera Corazón","Competición",3,{"$f":"VLOOKUP(E2276,Referencias!$B$4:$C$15,2,FALSE())","v":"3C"},{"$f":"VLOOKUP(C2276,Referencias!$B$18:$C$34,2,FALSE())","v":"M"},"C"]
["2814410","Aizpurua Garzón, Soledad","Madrileña","D","Tercera Corazón","Competición",3,{"$f":"VLOOKUP(E2277,Referencias!$B$4:$C$15,2,FALSE())","v":"3C"},{"$f":"VLOOKUP(C2277,Referencias!$B$18:$C$34,2,FALSE())","v":"M"},"C"]
["2814412","Elvira Arias, Mª del Carmen","Madrileña","D","Sin Categoría","Competición",4,{"$f":"VLOOKUP(E2278,Referencias!$B$4:$C$15,2,FALSE())","v":"SC"},{"$f":"VLOOKUP(C2278,Referencias!$B$18:$C$34,2,FALSE())","v":"M"},"C"]
["2814413","Biedma Sevilla, Alfredo","Madrileña","C","Tercera Diamante","Competición",3,{"$f":"VLOOKUP(E2279,Referencias!$B$4:$C$15,2,FALSE())","v":"3D"},{"$f":"VLOOKUP(C2279,Referencias!$B$18:$C$34,2,FALSE())","v":"M"},"C"]
["2814416","Zamorano Gómez, Begoña","Madrileña","D","Sin Categoría","Competición",4,{"$f":"VLOOKUP(E2280,Referencias!$B$4:$C$15,2,FALSE())","v":"SC"},{"$f":"VLOOKUP(C2280,Referencias!$B$18:$C$34,2,FALSE())","v":"M"},"C"]
["2814418","De la Cruz Oñate, Mª Vega","Madrileña","D","Sin Categoría","Competición",4,{"$f":"VLOOKUP(E2281,Referencias!$B$4:$C$15,2,FALSE())","v":"SC"},{"$f":"VLOOKUP(C2281,Referencias!$B$18:$C$34,2,FALSE())","v":"M"},"C"]
["2814419","Buerba Martín, Rita","Madrileña","D","Sin Categoría","Competición",4,{"$f":"VLOOKUP(E2282,Referencias!$B$4:$C$15,2,FALSE())","v":"SC"},{"$f":"VLOOKUP(C2282,Referencias!$B$18:$C$34,2,FALSE())","v":"M"},"C"]
["2814420","Huici Díaz, Araceli","Madrileña","D","Tercera Corazón","Competición",3,{"$f":"VLOOKUP(E2283,Referencias!$B$4:$C$15,2,FALSE())","v":"3C"},{"$f":"VLOOKUP(C2283,Referencias!$B$18:$C$34,2,FALSE())","v":"M"},"C"]
["2814421","García Lecuona, Jesús","Madrileña","C","Tercera Corazón","Competición",3,{"$f":"VLOOKUP(E2284,Referencias!$B$4:$C$15,2,FALSE())","v":"3C"},{"$f":"VLOOKUP(C2284,Referencias!$B$18:$C$34,2,FALSE())","v":"M"},"C"]
["2814422","Bernad Moreno, María Angeles","Madrileña","D","Sin Categoría","Competición",4,{"$f":"VLOOKUP(E2285,Referencias!$B$4:$C$15,2,FALSE())","v":"SC"},{"$f":"VLOOKUP(C2285,Referencias!$B$18:$C$34,2,FALSE())","v":"M"},"C"]
["2814423","Calderón Bastos, Luz María","Madrileña","D","Sin Categoría","Competición",4,{"$f":"VLOOKUP(E2286,Referencias!$B$4:$C$15,2,FALSE())","v":"SC"},{"$f":"VLOOKUP(C2286,Referencias!$B$18:$C$34,2,FALSE())","v":"M"},"C"]
["2814424","Ayala Muñoz, Rocio","Madrileña","D","Tercera Diamante","Competición",3,{"$f":"VLOOKUP(E2287,Referencias!$B$4:$C$15,2,FALSE())","v":"3D"},{"$f":"VLOOKUP(C2287,Referencias!$B$18:$C$34,2,FALSE())","v":"M"},"C"]
["2814425","Velilla Arias, Pilar","Madrileña","D","Sin Categoría","Competición",4,{"$f":"VLOOKUP(E2288,Referencias!$B$4:$C$15,2,FALSE())","v":"SC"},{"$f":"VLOOKUP(C2288,Referencias!$B$18:$C$34,2,FALSE())","v":"M"},"C"]
["2814426","Oriol Hoyos, Lucas","Madrileña","C","Sin Categoría","Competición",4,{"$f":"VLOOKUP(E2289,Referencias!$B$4:$C$15,2,FALSE())","v":"SC"},{"$f":"VLOOKUP(C2289,Referencias!$B$18:$C$34,2,FALSE())","v":"M"},"C"]
["2814427","López Suso, Mónica","Madrileña","D","Sin Categoría","Competición",4,{"$f":"VLOOKUP(E2290,Referencias!$B$4:$C$15,2,FALSE())","v":"SC"},{"$f":"VLOOKUP(C2290,Referencias!$B$18:$C$34,2,FALSE())","v":"M"},"C"]
["2814429","Carrión Garzarán, María Dolores","Madrileña","D","Tercera Corazón","Competición",3,{"$f":"VLOOKUP(E2291,Referencias!$B$4:$C$15,2,FALSE())","v":"3C"},{"$f":"VLOOKUP(C2291,Referencias!$B$18:$C$34,2,FALSE())","v":"M"},"C"]
["2814430","Martínez Pradel, Begoña","Madrileña","D","Sin Categoría","Competición",4,{"$f":"VLOOKUP(E2292,Referencias!$B$4:$C$15,2,FALSE())","v":"SC"},{"$f":"VLOOKUP(C2292,Referencias!$B$18:$C$34,2,FALSE())","v":"M"},"C"]
["2814431","Portero Arfsten, Francisco Manuel","Madrileña","C","Sin Categoría","Competición",4,{"$f":"VLOOKUP(E2293,Referencias!$B$4:$C$15,2,FALSE())","v":"SC"},{"$f":"VLOOKUP(C2293,Referencias!$B$18:$C$34,2,FALSE())","v":"M"},"C"]
["2814432","Mira Ruiz, Nieves","Madrileña","D","Tercera Picas","Competición",3,{"$f":"VLOOKUP(E2294,Referencias!$B$4:$C$15,2,FALSE())","v":"3P"},{"$f":"VLOOKUP(C2294,Referencias!$B$18:$C$34,2,FALSE())","v":"M"},"C"]
["2814433","Riaño Allende, Encarnación","Madrileña","D","Sin Categoría","Competición",4,{"$f":"VLOOKUP(E2295,Referencias!$B$4:$C$15,2,FALSE())","v":"SC"},{"$f":"VLOOKUP(C2295,Referencias!$B$18:$C$34,2,FALSE())","v":"M"},"C"]
["2814434","García de Oteyza Llansó, Enrique","Madrileña","C","Primera Picas","Competición",1,{"$f":"VLOOKUP(E2296,Referencias!$B$4:$C$15,2,FALSE())","v":"1P"},{"$f":"VLOOKUP(C2296,Referencias!$B$18:$C$34,2,FALSE())","v":"M"},"C"]
["2814435","González-Hontoria Velarde, Pilar","Madrileña","D","Primera Picas","Competición",1,{"$f":"VLOOKUP(E2297,Referencias!$B$4:$C$15,2,FALSE())","v":"1P"},{"$f":"VLOOKUP(C2297,Referencias!$B$18:$C$34,2,FALSE())","v":"M"},"C"]
["2814436","Marín García- Mansilla, Eugenio","Madrileña","C","Sin Categoría","Competición",4,{"$f":"VLOOKUP(E2298,Referencias!$B$4:$C$15,2,FALSE())","v":"SC"},{"$f":"VLOOKUP(C2298,Referencias!$B$18:$C$34,2,FALSE())","v":"M"},"C"]
["2814437","Riestra Rivas, Sofía","Gallega","D","Sin Categoría","Competición",4,{"$f":"VLOOKUP(E2299,Referencias!$B$4:$C$15,2,FALSE())","v":"SC"},{"$f":"VLOOKUP(C2299,Referencias!$B$18:$C$34,2,FALSE())","v":"G"},"C"]
["2814438","Gómez Abajo, Pablo","Madrileña","C","Sin Categoría","Competición",4,{"$f":"VLOOKUP(E2300,Referencias!$B$4:$C$15,2,FALSE())","v":"SC"},{"$f":"VLOOKUP(C2300,Referencias!$B$18:$C$34,2,FALSE())","v":"M"},"C"]
["2814439","Sánchez Serrano, Antonio","Madrileña","C","Tercera Corazón","Competición",3,{"$f":"VLOOKUP(E2301,Referencias!$B$4:$C$15,2,FALSE())","v":"3C"},{"$f":"VLOOKUP(C2301,Referencias!$B$18:$C$34,2,FALSE())","v":"M"},"C"]
["2814440","Aguilar Urquijo, Bruno","Madrileña","C","Tercera Corazón","Competición",3,{"$f":"VLOOKUP(E2302,Referencias!$B$4:$C$15,2,FALSE())","v":"3C"},{"$f":"VLOOKUP(C2302,Referencias!$B$18:$C$34,2,FALSE())","v":"M"},"C"]
["2814442","Espinosa de los Monteros Pitarque, Carlos","Madrileña","C","Tercera Corazón","Competición",3,{"$f":"VLOOKUP(E2303,Referencias!$B$4:$C$15,2,FALSE())","v":"3C"},{"$f":"VLOOKUP(C2303,Referencias!$B$18:$C$34,2,FALSE())","v":"M"},"C"]
["2814443","Serrano Díaz, Francisco","Madrileña","C","Tercera Diamante","Competición",3,{"$f":"VLOOKUP(E2304,Referencias!$B$4:$C$15,2,FALSE())","v":"3D"},{"$f":"VLOOKUP(C2304,Referencias!$B$18:$C$34,2,FALSE())","v":"M"},{"$f":"IF(D2304=\"Dama\",\"D\",\"C\")","v":"C"}]
["2814444","Valera De Vargas, Pilar Carla","Madrileña","D","Tercera Corazón","Competición",3,{"$f":"VLOOKUP(E2305,Referencias!$B$4:$C$15,2,FALSE())","v":"3C"},{"$f":"VLOOKUP(C2305,Referencias!$B$18:$C$34,2,FALSE())","v":"M"},"C"]
["2814445","González Casaus, Mª Luisa","Madrileña","D","Sin Categoría","Competición",4,{"$f":"VLOOKUP(E2306,Referencias!$B$4:$C$15,2,FALSE())","v":"SC"},{"$f":"VLOOKUP(C2306,Referencias!$B$18:$C$34,2,FALSE())","v":"M"},"C"]
["2814446","Conde Salazar, Joaquín","Madrileña","C","Sin Categoría","Competición",4,{"$f":"VLOOKUP(E2307,Referencias!$B$4:$C$15,2,FALSE())","v":"SC"},{"$f":"VLOOKUP(C2307,Referencias!$B$18:$C$34,2,FALSE())","v":"M"},"C"]
["2814447","Manero Zabala, Sonsoles","Madrileña","D","Sin Categoría","Competición",4,{"$f":"VLOOKUP(E2308,Referencias!$B$4:$C$15,2,FALSE())","v":"SC"},{"$f":"VLOOKUP(C2308,Referencias!$B$18:$C$34,2,FALSE())","v":"M"},"C"]
["2814448","Collado Gutiérrez, María Luisa","Madrileña","D","Sin Categoría","Competición",4,{"$f":"VLOOKUP(E2309,Referencias!$B$4:$C$15,2,FALSE())","v":"SC"},{"$f":"VLOOKUP(C2309,Referencias!$B$18:$C$34,2,FALSE())","v":"M"},"C"]
["2814449","Fernández de Luz, Graziella","Madrileña","D","Segunda Picas","Competición",2,{"$f":"VLOOKUP(E2310,Referencias!$B$4:$C$15,2,FALSE())","v":"2P"},{"$f":"VLOOKUP(C2310,Referencias!$B$18:$C$34,2,FALSE())","v":"M"},"C"]
["2814450","Stevens, Beatrijs","Madrileña","D","Sin Categoría","Competición",4,{"$f":"VLOOKUP(E2311,Referencias!$B$4:$C$15,2,FALSE())","v":"SC"},{"$f":"VLOOKUP(C2311,Referencias!$B$18:$C$34,2,FALSE())","v":"M"},"C"]
["2814451","Arambarri Álvarez, Brigi","Madrileña","D","Sin Categoría","Competición",4,{"$f":"VLOOKUP(E2312,Referencias!$B$4:$C$15,2,FALSE())","v":"SC"},{"$f":"VLOOKUP(C2312,Referencias!$B$18:$C$34,2,FALSE())","v":"M"},"C"]
["2814452","Castillo Dolagaray, Pilar","Madrileña","D","Tercera Picas","Competición",3,{"$f":"VLOOKUP(E2313,Referencias!$B$4:$C$15,2,FALSE())","v":"3P"},{"$f":"VLOOKUP(C2313,Referencias!$B$18:$C$34,2,FALSE())","v":"M"},"C"]
["2814453","Torres De la Calle, Enrique","Madrileña","C","Sin Categoría","Competición",4,{"$f":"VLOOKUP(E2314,Referencias!$B$4:$C$15,2,FALSE())","v":"SC"},{"$f":"VLOOKUP(C2314,Referencias!$B$18:$C$34,2,FALSE())","v":"M"},"C"]
["2814454","Dancausa García-Moya, Virginia","Madrileña","D","Sin Categoría","Junior",4,{"$f":"VLOOKUP(E2315,Referencias!$B$4:$C$15,2,FALSE())","v":"SC"},{"$f":"VLOOKUP(C2315,Referencias!$B$18:$C$34,2,FALSE())","v":"M"},"C"]
["2814455","Temes Hernández, Antonio","Madrileña","C","Tercera Diamante","Competición",3,{"$f":"VLOOKUP(E2316,Referencias!$B$4:$C$15,2,FALSE())","v":"3D"},{"$f":"VLOOKUP(C2316,Referencias!$B$18:$C$34,2,FALSE())","v":"M"},"C"]
["2814456","Vassallo Castells, Cristina","Madrileña","D","Tercera Diamante","Junior",3,{"$f":"VLOOKUP(E2317,Referencias!$B$4:$C$15,2,FALSE())","v":"3D"},{"$f":"VLOOKUP(C2317,Referencias!$B$18:$C$34,2,FALSE())","v":"M"},"C"]
["2814457","Espinosa de los Monteros Bernaldo d Quiros, Fernanda","Madrileña","D","Sin Categoría","Competición",4,{"$f":"VLOOKUP(E2318,Referencias!$B$4:$C$15,2,FALSE())","v":"SC"},{"$f":"VLOOKUP(C2318,Referencias!$B$18:$C$34,2,FALSE())","v":"M"},"C"]
["2814458","Gómez-Acebo Carvajal, Blanca","Madrileña","D","Sin Categoría","Competición",4,{"$f":"VLOOKUP(E2319,Referencias!$B$4:$C$15,2,FALSE())","v":"SC"},{"$f":"VLOOKUP(C2319,Referencias!$B$18:$C$34,2,FALSE())","v":"M"},"C"]
["2814459","Muro-Lara Girod, María","Madrileña","D","Tercera Corazón","Competición",3,{"$f":"VLOOKUP(E2320,Referencias!$B$4:$C$15,2,FALSE())","v":"3C"},{"$f":"VLOOKUP(C2320,Referencias!$B$18:$C$34,2,FALSE())","v":"M"},"C"]
["2814460","Montiel Armada, Rosario","Madrileña","D","Tercera Diamante","Competición",3,{"$f":"VLOOKUP(E2321,Referencias!$B$4:$C$15,2,FALSE())","v":"3D"},{"$f":"VLOOKUP(C2321,Referencias!$B$18:$C$34,2,FALSE())","v":"M"},"C"]
["2814461","Montiel Armada, Victoria","Madrileña","D","Tercera Corazón","Competición",3,{"$f":"VLOOKUP(E2322,Referencias!$B$4:$C$15,2,FALSE())","v":"3C"},{"$f":"VLOOKUP(C2322,Referencias!$B$18:$C$34,2,FALSE())","v":"M"},"C"]
["2814462","Suinaga Espin, Carmen","Madrileña","D","Sin Categoría","Competición",4,{"$f":"VLOOKUP(E2323,Referencias!$B$4:$C$15,2,FALSE())","v":"SC"},{"$f":"VLOOKUP(C2323,Referencias!$B$18:$C$34,2,FALSE())","v":"M"},"C"]
["2814464","Senarega Groos, Mª Eugenia","Madrileña","C","Sin Categoría","Competición",4,{"$f":"VLOOKUP(E2324,Referencias!$B$4:$C$15,2,FALSE())","v":"SC"},{"$f":"VLOOKUP(C2324,Referencias!$B$18:$C$34,2,FALSE())","v":"M"},"C"]
["2814465","Vilalta Pallarés, Eduardo","Madrileña","C","Tercera Diamante","Competición",3,{"$f":"VLOOKUP(E2325,Referencias!$B$4:$C$15,2,FALSE())","v":"3D"},{"$f":"VLOOKUP(C2325,Referencias!$B$18:$C$34,2,FALSE())","v":"M"},"C"]
["2814466","De la Paz Serrano García, Mª Victoría","Madrileña","D","Tercera Corazón","Competición",3,{"$f":"VLOOKUP(E2326,Referencias!$B$4:$C$15,2,FALSE())","v":"3C"},{"$f":"VLOOKUP(C2326,Referencias!$B$18:$C$34,2,FALSE())","v":"M"},"C"]
["2814467","Madrid Serrano, Mª del Mar","Madrileña","D","Tercera Diamante","Competición",3,{"$f":"VLOOKUP(E2327,Referencias!$B$4:$C$15,2,FALSE())","v":"3D"},{"$f":"VLOOKUP(C2327,Referencias!$B$18:$C$34,2,FALSE())","v":"M"},"C"]
["2814468","De la Mata Pobes, Blanca","Madrileña","D","Sin Categoría","Competición",4,{"$f":"VLOOKUP(E2328,Referencias!$B$4:$C$15,2,FALSE())","v":"SC"},{"$f":"VLOOKUP(C2328,Referencias!$B$18:$C$34,2,FALSE())","v":"M"},"C"]
["2814469","Redondo Suárez, Mª Amor","Madrileña","D","Sin Categoría","Competición",4,{"$f":"VLOOKUP(E2329,Referencias!$B$4:$C$15,2,FALSE())","v":"SC"},{"$f":"VLOOKUP(C2329,Referencias!$B$18:$C$34,2,FALSE())","v":"M"},"C"]
["2814470","Caro De Figueroa, Mª del Campanar","Madrileña","D","Tercera Corazón","Competición",3,{"$f":"VLOOKUP(E2330,Referencias!$B$4:$C$15,2,FALSE())","v":"3C"},{"$f":"VLOOKUP(C2330,Referencias!$B$18:$C$34,2,FALSE())","v":"M"},"C"]
["2814471","López Granados, Patricia","Madrileña","D","Segunda Diamante","Competición",2,{"$f":"VLOOKUP(E2331,Referencias!$B$4:$C$15,2,FALSE())","v":"2D"},{"$f":"VLOOKUP(C2331,Referencias!$B$18:$C$34,2,FALSE())","v":"M"},"C"]
["2814472","Smith Basterra, Jaime","Madrileña","C","Tercera Picas","Competición",3,{"$f":"VLOOKUP(E2332,Referencias!$B$4:$C$15,2,FALSE())","v":"3P"},{"$f":"VLOOKUP(C2332,Referencias!$B$18:$C$34,2,FALSE())","v":"M"},"C"]
["2814475","Sintes Pascual, Carmen","Madrileña","D","Sin Categoría","Competición",4,{"$f":"VLOOKUP(E2333,Referencias!$B$4:$C$15,2,FALSE())","v":"SC"},{"$f":"VLOOKUP(C2333,Referencias!$B$18:$C$34,2,FALSE())","v":"M"},"C"]
["2814476","Herrero Mateo, Elvira","Madrileña","D","Tercera Picas","Competición",3,{"$f":"VLOOKUP(E2334,Referencias!$B$4:$C$15,2,FALSE())","v":"3P"},{"$f":"VLOOKUP(C2334,Referencias!$B$18:$C$34,2,FALSE())","v":"M"},"C"]
["2814477","Hidalgo Aldana, Carmen","Madrileña","D","Tercera Picas","Competición",3,{"$f":"VLOOKUP(E2335,Referencias!$B$4:$C$15,2,FALSE())","v":"3P"},{"$f":"VLOOKUP(C2335,Referencias!$B$18:$C$34,2,FALSE())","v":"M"},"C"]
["2814478","Yañez Soto, Flora","Madrileña","D","Tercera Diamante","Competición",3,{"$f":"VLOOKUP(E2336,Referencias!$B$4:$C$15,2,FALSE())","v":"3D"},{"$f":"VLOOKUP(C2336,Referencias!$B$18:$C$34,2,FALSE())","v":"M"},"C"]
["2814479","Conde Salazar, Susana","Madrileña","D","Tercera Diamante","Competición",3,{"$f":"VLOOKUP(E2337,Referencias!$B$4:$C$15,2,FALSE())","v":"3D"},{"$f":"VLOOKUP(C2337,Referencias!$B$18:$C$34,2,FALSE())","v":"M"},"C"]
["2814480","Navarro Fernández-Rodríguez, Francisco","Madrileña","C","Segunda Diamante","Competición",2,{"$f":"VLOOKUP(E2338,Referencias!$B$4:$C$15,2,FALSE())","v":"2D"},{"$f":"VLOOKUP(C2338,Referencias!$B$18:$C$34,2,FALSE())","v":"M"},"C"]
["2814481","Navarro Iglesias, Jose Luis","Madrileña","C","Sin Categoría","Competición",4,{"$f":"VLOOKUP(E2339,Referencias!$B$4:$C$15,2,FALSE())","v":"SC"},{"$f":"VLOOKUP(C2339,Referencias!$B$18:$C$34,2,FALSE())","v":"M"},"C"]
["2814483","Gemeno Díaz, Guzmán","Madrileña","C","Tercera Picas","Junior",3,{"$f":"VLOOKUP(E2340,Referencias!$B$4:$C$15,2,FALSE())","v":"3P"},{"$f":"VLOOKUP(C2340,Referencias!$B$18:$C$34,2,FALSE())","v":"M"},"C"]
["2814484","Fernández Izard, Marcela","Madrileña","D","Sin Categoría","Competición",4,{"$f":"VLOOKUP(E2341,Referencias!$B$4:$C$15,2,FALSE())","v":"SC"},{"$f":"VLOOKUP(C2341,Referencias!$B$18:$C$34,2,FALSE())","v":"M"},"C"]
["2814485","Girard McDermott, Mary","Madrileña","D","Sin Categoría","Competición",4,{"$f":"VLOOKUP(E2342,Referencias!$B$4:$C$15,2,FALSE())","v":"SC"},{"$f":"VLOOKUP(C2342,Referencias!$B$18:$C$34,2,FALSE())","v":"M"},"C"]
["2814486","Corchado Ruiz-Jarabo, Francisco","Madrileña","C","Tercera Corazón","Competición",3,{"$f":"VLOOKUP(E2343,Referencias!$B$4:$C$15,2,FALSE())","v":"3C"},{"$f":"VLOOKUP(C2343,Referencias!$B$18:$C$34,2,FALSE())","v":"M"},"C"]
["2814487","Bueso-Inchausti Toro, Edgar","Madrileña","C","Tercera Picas","Competición",3,{"$f":"VLOOKUP(E2344,Referencias!$B$4:$C$15,2,FALSE())","v":"3P"},{"$f":"VLOOKUP(C2344,Referencias!$B$18:$C$34,2,FALSE())","v":"M"},"C"]
["2814488","Bueso-Inchausti Toro, Daniel","Madrileña","C","Primera Diamante","Competición",1,{"$f":"VLOOKUP(E2345,Referencias!$B$4:$C$15,2,FALSE())","v":"1D"},{"$f":"VLOOKUP(C2345,Referencias!$B$18:$C$34,2,FALSE())","v":"M"},"C"]
["2814489","Muradas Miñaur, Mª del Carmen","Madrileña","D","Segunda Diamante","Competición",2,{"$f":"VLOOKUP(E2346,Referencias!$B$4:$C$15,2,FALSE())","v":"2D"},{"$f":"VLOOKUP(C2346,Referencias!$B$18:$C$34,2,FALSE())","v":"M"},"C"]
["2814490","Coda Costas, Germán","Madrileña","C","Sin Categoría","Competición",4,{"$f":"VLOOKUP(E2347,Referencias!$B$4:$C$15,2,FALSE())","v":"SC"},{"$f":"VLOOKUP(C2347,Referencias!$B$18:$C$34,2,FALSE())","v":"M"},"C"]
["2814493","García García-Heras, Maria Teresa","Madrileña","D","Tercera Diamante","Competición",3,{"$f":"VLOOKUP(E2348,Referencias!$B$4:$C$15,2,FALSE())","v":"3D"},{"$f":"VLOOKUP(C2348,Referencias!$B$18:$C$34,2,FALSE())","v":"M"},"C"]
["2814494","Ortúzar Abando, Belén","Madrileña","D","Tercera Diamante","Competición",3,{"$f":"VLOOKUP(E2349,Referencias!$B$4:$C$15,2,FALSE())","v":"3D"},{"$f":"VLOOKUP(C2349,Referencias!$B$18:$C$34,2,FALSE())","v":"M"},"C"]
["2814496","Soler Baldasano, Mª Cristina","Madrileña","D","Sin Categoría","Competición",4,{"$f":"VLOOKUP(E2350,Referencias!$B$4:$C$15,2,FALSE())","v":"SC"},{"$f":"VLOOKUP(C2350,Referencias!$B$18:$C$34,2,FALSE())","v":"M"},"C"]
["2814497","Salas Collantes, José Ignacio","Madrileña","C","Tercera Corazón","Competición",3,{"$f":"VLOOKUP(E2351,Referencias!$B$4:$C$15,2,FALSE())","v":"3C"},{"$f":"VLOOKUP(C2351,Referencias!$B$18:$C$34,2,FALSE())","v":"M"},"C"]
["2814498","Ferrandiz Josa, Mª Luisa","Madrileña","D","Tercera Corazón","Competición",3,{"$f":"VLOOKUP(E2352,Referencias!$B$4:$C$15,2,FALSE())","v":"3C"},{"$f":"VLOOKUP(C2352,Referencias!$B$18:$C$34,2,FALSE())","v":"M"},"C"]
["2814499","Alcaide Guido, Julio Antonio","Madrileña","C","Tercera Diamante","Competición",3,{"$f":"VLOOKUP(E2353,Referencias!$B$4:$C$15,2,FALSE())","v":"3D"},{"$f":"VLOOKUP(C2353,Referencias!$B$18:$C$34,2,FALSE())","v":"M"},"C"]
["2814500","Menéndez Bernardo, Menéndez Bernardo","Madrileña","D","Tercera Corazón","Competición",3,{"$f":"VLOOKUP(E2354,Referencias!$B$4:$C$15,2,FALSE())","v":"3C"},{"$f":"VLOOKUP(C2354,Referencias!$B$18:$C$34,2,FALSE())","v":"M"},"C"]
["2814502","Andrés Villareal, Mª Pilar","Madrileña","D","Tercera Diamante","Competición",3,{"$f":"VLOOKUP(E2355,Referencias!$B$4:$C$15,2,FALSE())","v":"3D"},{"$f":"VLOOKUP(C2355,Referencias!$B$18:$C$34,2,FALSE())","v":"M"},"C"]
["2814503","Beamonte De Cominges, Paloma","Madrileña","D","Tercera Diamante","Competición",3,{"$f":"VLOOKUP(E2356,Referencias!$B$4:$C$15,2,FALSE())","v":"3D"},{"$f":"VLOOKUP(C2356,Referencias!$B$18:$C$34,2,FALSE())","v":"M"},"C"]
["2814504","Navarro López-Chicheri, Mercedes","Madrileña","D","Sin Categoría","Competición",4,{"$f":"VLOOKUP(E2357,Referencias!$B$4:$C$15,2,FALSE())","v":"SC"},{"$f":"VLOOKUP(C2357,Referencias!$B$18:$C$34,2,FALSE())","v":"M"},"C"]
["2814505","Los Arcos Galbete, Francisco Javier","Madrileña","C","Tercera Picas","Competición",3,{"$f":"VLOOKUP(E2358,Referencias!$B$4:$C$15,2,FALSE())","v":"3P"},{"$f":"VLOOKUP(C2358,Referencias!$B$18:$C$34,2,FALSE())","v":"M"},"C"]
["2814506","Peña Morientes, Belén","Madrileña","D","Sin Categoría","Competición",4,{"$f":"VLOOKUP(E2359,Referencias!$B$4:$C$15,2,FALSE())","v":"SC"},{"$f":"VLOOKUP(C2359,Referencias!$B$18:$C$34,2,FALSE())","v":"M"},"C"]
["2814507","Olarra Zorrozúa, Juan Carlos","Madrileña","C","Sin Categoría","Competición",4,{"$f":"VLOOKUP(E2360,Referencias!$B$4:$C$15,2,FALSE())","v":"SC"},{"$f":"VLOOKUP(C2360,Referencias!$B$18:$C$34,2,FALSE())","v":"M"},"C"]
["2814508","Alonso Rodríguez, José Antonio","Madrileña","C","Sin Categoría","Competición",4,{"$f":"VLOOKUP(E2361,Referencias!$B$4:$C$15,2,FALSE())","v":"SC"},{"$f":"VLOOKUP(C2361,Referencias!$B$18:$C$34,2,FALSE())","v":"M"},"C"]
["2814509","Poyatos Adeva, Paloma Juana","Madrileña","D","Sin Categoría","Competición",4,{"$f":"VLOOKUP(E2362,Referencias!$B$4:$C$15,2,FALSE())","v":"SC"},{"$f":"VLOOKUP(C2362,Referencias!$B$18:$C$34,2,FALSE())","v":"M"},"C"]
["2814510","Gómez Gómez, Natividad","Madrileña","D","Tercera Corazón","Competición",3,{"$f":"VLOOKUP(E2363,Referencias!$B$4:$C$15,2,FALSE())","v":"3C"},{"$f":"VLOOKUP(C2363,Referencias!$B$18:$C$34,2,FALSE())","v":"M"},"C"]
["2814511","Sánchez Broto, José Manuel","Madrileña","C","Segunda Diamante","Competición",2,{"$f":"VLOOKUP(E2364,Referencias!$B$4:$C$15,2,FALSE())","v":"2D"},{"$f":"VLOOKUP(C2364,Referencias!$B$18:$C$34,2,FALSE())","v":"M"},"C"]
["2814512","Catalá Ena, Carmen","Madrileña","D","Tercera Picas","Competición",3,{"$f":"VLOOKUP(E2365,Referencias!$B$4:$C$15,2,FALSE())","v":"3P"},{"$f":"VLOOKUP(C2365,Referencias!$B$18:$C$34,2,FALSE())","v":"M"},"C"]
["2814513","Vicente Bermúdez, Marin","Madrileña","C","Sin Categoría","Competición",4,{"$f":"VLOOKUP(E2366,Referencias!$B$4:$C$15,2,FALSE())","v":"SC"},{"$f":"VLOOKUP(C2366,Referencias!$B$18:$C$34,2,FALSE())","v":"M"},"C"]
["2814514","Martín Villegas, María del Carmen","Madrileña","D","Sin Categoría","Competición",4,{"$f":"VLOOKUP(E2367,Referencias!$B$4:$C$15,2,FALSE())","v":"SC"},{"$f":"VLOOKUP(C2367,Referencias!$B$18:$C$34,2,FALSE())","v":"M"},"C"]
["2814515","Rodríguez González, María Pilar","Madrileña","D","Sin Categoría","Competición",4,{"$f":"VLOOKUP(E2368,Referencias!$B$4:$C$15,2,FALSE())","v":"SC"},{"$f":"VLOOKUP(C2368,Referencias!$B$18:$C$34,2,FALSE())","v":"M"},{"$f":"IF(D2368=\"Dama\",\"D\",\"C\")","v":"C"}]
["2814517","González-Escallada Castellón, Mª Teresa","Madrileña","D","Tercera Diamante","Competición",3,{"$f":"VLOOKUP(E2369,Referencias!$B$4:$C$15,2,FALSE())","v":"3D"},{"$f":"VLOOKUP(C2369,Referencias!$B$18:$C$34,2,FALSE())","v":"M"},"C"]
["2814518","Barba Ruíz de Gauna, Antonio","Madrileña","C","Tercera Diamante","Competición",3,{"$f":"VLOOKUP(E2370,Referencias!$B$4:$C$15,2,FALSE())","v":"3D"},{"$f":"VLOOKUP(C2370,Referencias!$B$18:$C$34,2,FALSE())","v":"M"},"C"]
["2814521","Álvarez Gala, José Ramón","Madrileña","C","Sin Categoría","Competición",4,{"$f":"VLOOKUP(E2371,Referencias!$B$4:$C$15,2,FALSE())","v":"SC"},{"$f":"VLOOKUP(C2371,Referencias!$B$18:$C$34,2,FALSE())","v":"M"},"C"]
["2814522","Calvo Haro, Rosa Mª","Madrileña","D","Tercera Diamante","Competición",3,{"$f":"VLOOKUP(E2372,Referencias!$B$4:$C$15,2,FALSE())","v":"3D"},{"$f":"VLOOKUP(C2372,Referencias!$B$18:$C$34,2,FALSE())","v":"M"},"C"]
["2814523","Rebollo Cuadro, África","Madrileña","D","Sin Categoría","Competición",4,{"$f":"VLOOKUP(E2373,Referencias!$B$4:$C$15,2,FALSE())","v":"SC"},{"$f":"VLOOKUP(C2373,Referencias!$B$18:$C$34,2,FALSE())","v":"M"},"C"]
["2814524","Trueba Valle, Mª Victoria","Madrileña","D","Tercera Picas","Competición",3,{"$f":"VLOOKUP(E2374,Referencias!$B$4:$C$15,2,FALSE())","v":"3P"},{"$f":"VLOOKUP(C2374,Referencias!$B$18:$C$34,2,FALSE())","v":"M"},"C"]
["2814526","Danés de Castro, Cristina","Madrileña","D","Sin Categoría","Competición",4,{"$f":"VLOOKUP(E2375,Referencias!$B$4:$C$15,2,FALSE())","v":"SC"},{"$f":"VLOOKUP(C2375,Referencias!$B$18:$C$34,2,FALSE())","v":"M"},"C"]
["2814527","Cuartero Martínez, Enriqueta","Madrileña","D","Tercera Diamante","Competición",3,{"$f":"VLOOKUP(E2376,Referencias!$B$4:$C$15,2,FALSE())","v":"3D"},{"$f":"VLOOKUP(C2376,Referencias!$B$18:$C$34,2,FALSE())","v":"M"},"C"]
["2814528","Alpañes Ramos, Ana","Madrileña","D","Sin Categoría","Competición",4,{"$f":"VLOOKUP(E2377,Referencias!$B$4:$C$15,2,FALSE())","v":"SC"},{"$f":"VLOOKUP(C2377,Referencias!$B$18:$C$34,2,FALSE())","v":"M"},"C"]
["2814529","Pérez de Villaamil Lapiedra, Mercedes","Madrileña","D","Tercera Corazón","Competición",3,{"$f":"VLOOKUP(E2378,Referencias!$B$4:$C$15,2,FALSE())","v":"3C"},{"$f":"VLOOKUP(C2378,Referencias!$B$18:$C$34,2,FALSE())","v":"M"},"C"]
["2814531","Delclaux Abad, José","Madrileña","C","Sin Categoría","Competición",4,{"$f":"VLOOKUP(E2379,Referencias!$B$4:$C$15,2,FALSE())","v":"SC"},{"$f":"VLOOKUP(C2379,Referencias!$B$18:$C$34,2,FALSE())","v":"M"},"C"]
["2814532","Cabrera Castells, Sylvia","Madrileña","D","Tercera Diamante","Competición",3,{"$f":"VLOOKUP(E2380,Referencias!$B$4:$C$15,2,FALSE())","v":"3D"},{"$f":"VLOOKUP(C2380,Referencias!$B$18:$C$34,2,FALSE())","v":"M"},"C"]
["2814533","Pérez de Villaamil Lapiedra, Patricia","Madrileña","D","Sin Categoría","Competición",4,{"$f":"VLOOKUP(E2381,Referencias!$B$4:$C$15,2,FALSE())","v":"SC"},{"$f":"VLOOKUP(C2381,Referencias!$B$18:$C$34,2,FALSE())","v":"M"},"C"]
["2814534","Campal Rubio, Sofia","Madrileña","D","Sin Categoría","Competición",4,{"$f":"VLOOKUP(E2382,Referencias!$B$4:$C$15,2,FALSE())","v":"SC"},{"$f":"VLOOKUP(C2382,Referencias!$B$18:$C$34,2,FALSE())","v":"M"},"C"]
["2814536","Cervera Miralles, Mª Dolores","Madrileña","D","Tercera Picas","Competición",3,{"$f":"VLOOKUP(E2383,Referencias!$B$4:$C$15,2,FALSE())","v":"3P"},{"$f":"VLOOKUP(C2383,Referencias!$B$18:$C$34,2,FALSE())","v":"M"},"C"]
["2814537","María Delia, Iaccarino","Madrileña","D","Tercera Corazón","Competición",3,{"$f":"VLOOKUP(E2384,Referencias!$B$4:$C$15,2,FALSE())","v":"3C"},{"$f":"VLOOKUP(C2384,Referencias!$B$18:$C$34,2,FALSE())","v":"M"},"C"]
["2814538","Álvarez Veiga, Carmen","Madrileña","D","Tercera Diamante","Competición",3,{"$f":"VLOOKUP(E2385,Referencias!$B$4:$C$15,2,FALSE())","v":"3D"},{"$f":"VLOOKUP(C2385,Referencias!$B$18:$C$34,2,FALSE())","v":"M"},"C"]
["2814539","Osuna Chambón, Jose María","Madrileña","C","Tercera Corazón","Competición",3,{"$f":"VLOOKUP(E2386,Referencias!$B$4:$C$15,2,FALSE())","v":"3C"},{"$f":"VLOOKUP(C2386,Referencias!$B$18:$C$34,2,FALSE())","v":"M"},"C"]
["2814540","Menéndez de Luarca Navia-Osorio, Margarita","Madrileña","D","Segunda Diamante","Competición",2,{"$f":"VLOOKUP(E2387,Referencias!$B$4:$C$15,2,FALSE())","v":"2D"},{"$f":"VLOOKUP(C2387,Referencias!$B$18:$C$34,2,FALSE())","v":"M"},"C"]
["2814541","Rosales García, Teresa","Madrileña","D","Tercera Corazón","Competición",3,{"$f":"VLOOKUP(E2388,Referencias!$B$4:$C$15,2,FALSE())","v":"3C"},{"$f":"VLOOKUP(C2388,Referencias!$B$18:$C$34,2,FALSE())","v":"M"},"C"]
["2814543","González Sánchez, María Mercedes","Madrileña","D","Tercera Diamante","Competición",3,{"$f":"VLOOKUP(E2389,Referencias!$B$4:$C$15,2,FALSE())","v":"3D"},{"$f":"VLOOKUP(C2389,Referencias!$B$18:$C$34,2,FALSE())","v":"M"},"C"]
["2814544","Garaizabal Del Valle, Mª Eugenia","Madrileña","D","Tercera Diamante","Competición",3,{"$f":"VLOOKUP(E2390,Referencias!$B$4:$C$15,2,FALSE())","v":"3D"},{"$f":"VLOOKUP(C2390,Referencias!$B$18:$C$34,2,FALSE())","v":"M"},"C"]
["2814545","Díaz Múgica, María Asunción","Madrileña","D","Sin Categoría","Competición",4,{"$f":"VLOOKUP(E2391,Referencias!$B$4:$C$15,2,FALSE())","v":"SC"},{"$f":"VLOOKUP(C2391,Referencias!$B$18:$C$34,2,FALSE())","v":"M"},"C"]
["2814546","Móstoles Younger, José Manuel","Madrileña","C","Sin Categoría","Competición",4,{"$f":"VLOOKUP(E2392,Referencias!$B$4:$C$15,2,FALSE())","v":"SC"},{"$f":"VLOOKUP(C2392,Referencias!$B$18:$C$34,2,FALSE())","v":"M"},"C"]
["2814547","Fernández Mourelle, Guadalupe","Madrileña","D","Sin Categoría","Competición",4,{"$f":"VLOOKUP(E2393,Referencias!$B$4:$C$15,2,FALSE())","v":"SC"},{"$f":"VLOOKUP(C2393,Referencias!$B$18:$C$34,2,FALSE())","v":"M"},"C"]
["2814548","González Bastos, Paloma","Madrileña","D","Sin Categoría","Competición",4,{"$f":"VLOOKUP(E2394,Referencias!$B$4:$C$15,2,FALSE())","v":"SC"},{"$f":"VLOOKUP(C2394,Referencias!$B$18:$C$34,2,FALSE())","v":"M"},"C"]
["2814549","Nuñez García, Antonio","Madrileña","C","Tercera Diamante","Competición",3,{"$f":"VLOOKUP(E2395,Referencias!$B$4:$C$15,2,FALSE())","v":"3D"},{"$f":"VLOOKUP(C2395,Referencias!$B$18:$C$34,2,FALSE())","v":"M"},"C"]
["2814550","Candela Agut, Mariví","Madrileña","D","Tercera Diamante","Competición",3,{"$f":"VLOOKUP(E2396,Referencias!$B$4:$C$15,2,FALSE())","v":"3D"},{"$f":"VLOOKUP(C2396,Referencias!$B$18:$C$34,2,FALSE())","v":"M"},"C"]
["2814551","Aboy Oquendo, Carmen","Madrileña","D","Tercera Diamante","Competición",3,{"$f":"VLOOKUP(E2397,Referencias!$B$4:$C$15,2,FALSE())","v":"3D"},{"$f":"VLOOKUP(C2397,Referencias!$B$18:$C$34,2,FALSE())","v":"M"},"C"]
["2814552","Arrate Fernández-Castaño, Juan","Madrileña","C","Tercera Diamante","Competición",3,{"$f":"VLOOKUP(E2398,Referencias!$B$4:$C$15,2,FALSE())","v":"3D"},{"$f":"VLOOKUP(C2398,Referencias!$B$18:$C$34,2,FALSE())","v":"M"},"C"]
["2814553","Vinagre Astudillo, Maria Rosa","Madrileña","D","Sin Categoría","Competición",4,{"$f":"VLOOKUP(E2399,Referencias!$B$4:$C$15,2,FALSE())","v":"SC"},{"$f":"VLOOKUP(C2399,Referencias!$B$18:$C$34,2,FALSE())","v":"M"},"C"]
["2814555","Cavanilles Cavanilles, Roselia","Madrileña","D","Tercera Corazón","Competición",3,{"$f":"VLOOKUP(E2400,Referencias!$B$4:$C$15,2,FALSE())","v":"3C"},{"$f":"VLOOKUP(C2400,Referencias!$B$18:$C$34,2,FALSE())","v":"M"},"C"]
["2814556","Marin Riaño, Almudena","Madrileña","D","Tercera Corazón","Competición",3,{"$f":"VLOOKUP(E2401,Referencias!$B$4:$C$15,2,FALSE())","v":"3C"},{"$f":"VLOOKUP(C2401,Referencias!$B$18:$C$34,2,FALSE())","v":"M"},"C"]
["2814557","González de Aguilar De la Peña, Elvira","Madrileña","D","Tercera Picas","Competición",3,{"$f":"VLOOKUP(E2402,Referencias!$B$4:$C$15,2,FALSE())","v":"3P"},{"$f":"VLOOKUP(C2402,Referencias!$B$18:$C$34,2,FALSE())","v":"M"},"C"]
["2814559","Corchado Ruiz-Jarabo, Cecilia","Madrileña","D","Tercera Corazón","Competición",3,{"$f":"VLOOKUP(E2403,Referencias!$B$4:$C$15,2,FALSE())","v":"3C"},{"$f":"VLOOKUP(C2403,Referencias!$B$18:$C$34,2,FALSE())","v":"M"},"C"]
["2814561","Guerra Arabolaza, Mapi","Madrileña","D","Tercera Diamante","Competición",3,{"$f":"VLOOKUP(E2404,Referencias!$B$4:$C$15,2,FALSE())","v":"3D"},{"$f":"VLOOKUP(C2404,Referencias!$B$18:$C$34,2,FALSE())","v":"M"},"C"]
["2814562","Pascual Santamaría, Carmen","Madrileña","D","Tercera Corazón","Competición",3,{"$f":"VLOOKUP(E2405,Referencias!$B$4:$C$15,2,FALSE())","v":"3C"},{"$f":"VLOOKUP(C2405,Referencias!$B$18:$C$34,2,FALSE())","v":"M"},"C"]
["2814563","Muñoz Sánz, Ana Isabel","Madrileña","D","Tercera Diamante","Competición",3,{"$f":"VLOOKUP(E2406,Referencias!$B$4:$C$15,2,FALSE())","v":"3D"},{"$f":"VLOOKUP(C2406,Referencias!$B$18:$C$34,2,FALSE())","v":"M"},"C"]
["2814564","Marín Romero, José Carlos","Madrileña","C","Tercera Corazón","Competición",3,{"$f":"VLOOKUP(E2407,Referencias!$B$4:$C$15,2,FALSE())","v":"3C"},{"$f":"VLOOKUP(C2407,Referencias!$B$18:$C$34,2,FALSE())","v":"M"},"C"]
["2814565","Arteche Pidal, Maravillas","Madrileña","D","Segunda Diamante","Competición",2,{"$f":"VLOOKUP(E2408,Referencias!$B$4:$C$15,2,FALSE())","v":"2D"},{"$f":"VLOOKUP(C2408,Referencias!$B$18:$C$34,2,FALSE())","v":"M"},"C"]
["2814566","Cabezas de Herrera García de la Rosa, Begoña","Madrileña","D","Sin Categoría","Competición",4,{"$f":"VLOOKUP(E2409,Referencias!$B$4:$C$15,2,FALSE())","v":"SC"},{"$f":"VLOOKUP(C2409,Referencias!$B$18:$C$34,2,FALSE())","v":"M"},"C"]
["2814567","Fernández de Córdoba Ruiz-Ocejo, Beatriz","Madrileña","D","Sin Categoría","Competición",4,{"$f":"VLOOKUP(E2410,Referencias!$B$4:$C$15,2,FALSE())","v":"SC"},{"$f":"VLOOKUP(C2410,Referencias!$B$18:$C$34,2,FALSE())","v":"M"},"C"]
["2814568","Maraver Cortezo, Lola","Madrileña","D","Sin Categoría","Competición",4,{"$f":"VLOOKUP(E2411,Referencias!$B$4:$C$15,2,FALSE())","v":"SC"},{"$f":"VLOOKUP(C2411,Referencias!$B$18:$C$34,2,FALSE())","v":"M"},"C"]
["2814569","Morales De la Cova, Aida","Madrileña","D","Tercera Diamante","Competición",3,{"$f":"VLOOKUP(E2412,Referencias!$B$4:$C$15,2,FALSE())","v":"3D"},{"$f":"VLOOKUP(C2412,Referencias!$B$18:$C$34,2,FALSE())","v":"M"},"C"]
["2814570","Martínez Ferrando, Carlos","Madrileña","C","Sin Categoría","Competición",4,{"$f":"VLOOKUP(E2413,Referencias!$B$4:$C$15,2,FALSE())","v":"SC"},{"$f":"VLOOKUP(C2413,Referencias!$B$18:$C$34,2,FALSE())","v":"M"},"C"]
["2814571","Merello Godino, Mª Isabel","Madrileña","D","Sin Categoría","Competición",4,{"$f":"VLOOKUP(E2414,Referencias!$B$4:$C$15,2,FALSE())","v":"SC"},{"$f":"VLOOKUP(C2414,Referencias!$B$18:$C$34,2,FALSE())","v":"M"},"C"]
["2814572","De Ena De la Cuesta, María","Madrileña","D","Tercera Corazón","Competición",3,{"$f":"VLOOKUP(E2415,Referencias!$B$4:$C$15,2,FALSE())","v":"3C"},{"$f":"VLOOKUP(C2415,Referencias!$B$18:$C$34,2,FALSE())","v":"M"},"C"]
["2814573","Gómez- Acebo Borbón, Simoneta","Madrileña","D","Tercera Picas","Competición",3,{"$f":"VLOOKUP(E2416,Referencias!$B$4:$C$15,2,FALSE())","v":"3P"},{"$f":"VLOOKUP(C2416,Referencias!$B$18:$C$34,2,FALSE())","v":"M"},"C"]
["2814575","Eiroa Guillén, Mª Pilar","Madrileña","D","Tercera Corazón","Competición",3,{"$f":"VLOOKUP(E2417,Referencias!$B$4:$C$15,2,FALSE())","v":"3C"},{"$f":"VLOOKUP(C2417,Referencias!$B$18:$C$34,2,FALSE())","v":"M"},"C"]
["2814576","Zuazo Rosado, Mª Luisa","Madrileña","D","Tercera Picas","Competición",3,{"$f":"VLOOKUP(E2418,Referencias!$B$4:$C$15,2,FALSE())","v":"3P"},{"$f":"VLOOKUP(C2418,Referencias!$B$18:$C$34,2,FALSE())","v":"M"},"C"]
["2814577","Rumeu Cruzat, Patricia","Madrileña","D","Tercera Corazón","Competición",3,{"$f":"VLOOKUP(E2419,Referencias!$B$4:$C$15,2,FALSE())","v":"3C"},{"$f":"VLOOKUP(C2419,Referencias!$B$18:$C$34,2,FALSE())","v":"M"},"C"]
["2814578","Campomanes De Labra, Carmen","Madrileña","D","Tercera Diamante","Competición",3,{"$f":"VLOOKUP(E2420,Referencias!$B$4:$C$15,2,FALSE())","v":"3D"},{"$f":"VLOOKUP(C2420,Referencias!$B$18:$C$34,2,FALSE())","v":"M"},"C"]
["2814579","Gómez Rubiera, María Eulate","Madrileña","D","Sin Categoría","Competición",4,{"$f":"VLOOKUP(E2421,Referencias!$B$4:$C$15,2,FALSE())","v":"SC"},{"$f":"VLOOKUP(C2421,Referencias!$B$18:$C$34,2,FALSE())","v":"M"},"C"]
["2814580","Millán Mateo, Julio","Madrileña","C","Tercera Diamante","Competición",3,{"$f":"VLOOKUP(E2422,Referencias!$B$4:$C$15,2,FALSE())","v":"3D"},{"$f":"VLOOKUP(C2422,Referencias!$B$18:$C$34,2,FALSE())","v":"M"},"C"]
["2814581","Basabe Armijo, José Raimundo","Madrileña","C","Tercera Picas","Competición",3,{"$f":"VLOOKUP(E2423,Referencias!$B$4:$C$15,2,FALSE())","v":"3P"},{"$f":"VLOOKUP(C2423,Referencias!$B$18:$C$34,2,FALSE())","v":"M"},"C"]
["2814582","Vila Riudavets, Blanca","Madrileña","D","Sin Categoría","Competición",4,{"$f":"VLOOKUP(E2424,Referencias!$B$4:$C$15,2,FALSE())","v":"SC"},{"$f":"VLOOKUP(C2424,Referencias!$B$18:$C$34,2,FALSE())","v":"M"},"C"]
["2814583","Riudavets Montes, Blanca","Madrileña","D","Sin Categoría","Competición",4,{"$f":"VLOOKUP(E2425,Referencias!$B$4:$C$15,2,FALSE())","v":"SC"},{"$f":"VLOOKUP(C2425,Referencias!$B$18:$C$34,2,FALSE())","v":"M"},"C"]
["2814584","Thams Lorey, Ulf","Madrileña","C","Tercera Diamante","Competición",3,{"$f":"VLOOKUP(E2426,Referencias!$B$4:$C$15,2,FALSE())","v":"3D"},{"$f":"VLOOKUP(C2426,Referencias!$B$18:$C$34,2,FALSE())","v":"M"},"C"]
["2814586","Suárez del Villar Ruiz de Huidobro, Álvaro","Madrileña","C","Tercera Corazón","Competición",3,{"$f":"VLOOKUP(E2427,Referencias!$B$4:$C$15,2,FALSE())","v":"3C"},{"$f":"VLOOKUP(C2427,Referencias!$B$18:$C$34,2,FALSE())","v":"M"},"C"]
["2814588","Montiel Allendesalazar, Luis","Madrileña","C","Tercera Corazón","Competición",3,{"$f":"VLOOKUP(E2428,Referencias!$B$4:$C$15,2,FALSE())","v":"3C"},{"$f":"VLOOKUP(C2428,Referencias!$B$18:$C$34,2,FALSE())","v":"M"},"C"]
["2814589","Muro Domínguez, Mónica","Madrileña","D","Sin Categoría","Competición",4,{"$f":"VLOOKUP(E2429,Referencias!$B$4:$C$15,2,FALSE())","v":"SC"},{"$f":"VLOOKUP(C2429,Referencias!$B$18:$C$34,2,FALSE())","v":"M"},"C"]
["2814590","Serrano Rodríguez, Pilar","Madrileña","D","Sin Categoría","Competición",4,{"$f":"VLOOKUP(E2430,Referencias!$B$4:$C$15,2,FALSE())","v":"SC"},{"$f":"VLOOKUP(C2430,Referencias!$B$18:$C$34,2,FALSE())","v":"M"},"C"]
["2814591","Cueto Puertas, Juan","Madrileña","C","Sin Categoría","Competición",4,{"$f":"VLOOKUP(E2431,Referencias!$B$4:$C$15,2,FALSE())","v":"SC"},{"$f":"VLOOKUP(C2431,Referencias!$B$18:$C$34,2,FALSE())","v":"M"},"C"]
["2814592","Restrepo Pardo, Ernesto","Madrileña","C","Sin Categoría","Competición",4,{"$f":"VLOOKUP(E2432,Referencias!$B$4:$C$15,2,FALSE())","v":"SC"},{"$f":"VLOOKUP(C2432,Referencias!$B$18:$C$34,2,FALSE())","v":"M"},{"$f":"IF(D2432=\"Dama\",\"D\",\"C\")","v":"C"}]
["2814593","Querol Quadras, Carmen","Madrileña","D","Sin Categoría","Competición",4,{"$f":"VLOOKUP(E2433,Referencias!$B$4:$C$15,2,FALSE())","v":"SC"},{"$f":"VLOOKUP(C2433,Referencias!$B$18:$C$34,2,FALSE())","v":"M"},"C"]
["2814594","Moreno de Barreda Moreno, Antonio","Madrileña","C","Sin Categoría","Competición",4,{"$f":"VLOOKUP(E2434,Referencias!$B$4:$C$15,2,FALSE())","v":"SC"},{"$f":"VLOOKUP(C2434,Referencias!$B$18:$C$34,2,FALSE())","v":"M"},"C"]
["2814595","García-Germán Pedregal, Patricia","Madrileña","D","Tercera Picas","Competición",3,{"$f":"VLOOKUP(E2435,Referencias!$B$4:$C$15,2,FALSE())","v":"3P"},{"$f":"VLOOKUP(C2435,Referencias!$B$18:$C$34,2,FALSE())","v":"M"},"C"]
["2814596","Zavala de Asúa, María","Madrileña","D","Sin Categoría","Competición",4,{"$f":"VLOOKUP(E2436,Referencias!$B$4:$C$15,2,FALSE())","v":"SC"},{"$f":"VLOOKUP(C2436,Referencias!$B$18:$C$34,2,FALSE())","v":"M"},"C"]
["2814597","Arrechea Fúster, Victoria","Madrileña","D","Tercera Corazón","Competición",3,{"$f":"VLOOKUP(E2437,Referencias!$B$4:$C$15,2,FALSE())","v":"3C"},{"$f":"VLOOKUP(C2437,Referencias!$B$18:$C$34,2,FALSE())","v":"M"},"C"]
["2814598","Gómez Oriol, José Rafael","Madrileña","C","Tercera Corazón","Competición",3,{"$f":"VLOOKUP(E2438,Referencias!$B$4:$C$15,2,FALSE())","v":"3C"},{"$f":"VLOOKUP(C2438,Referencias!$B$18:$C$34,2,FALSE())","v":"M"},"C"]
["2814599","Vrooman, Jacob","Madrileña","C","Primera Picas","Competición",1,{"$f":"VLOOKUP(E2439,Referencias!$B$4:$C$15,2,FALSE())","v":"1P"},{"$f":"VLOOKUP(C2439,Referencias!$B$18:$C$34,2,FALSE())","v":"M"},"C"]
["2814603","Lumbreras De Azanza, Juan Carlos","Madrileña","C","Sin Categoría","Competición",4,{"$f":"VLOOKUP(E2440,Referencias!$B$4:$C$15,2,FALSE())","v":"SC"},{"$f":"VLOOKUP(C2440,Referencias!$B$18:$C$34,2,FALSE())","v":"M"},"C"]
["2814604","Gil - Casares Trigo, María","Madrileña","D","Sin Categoría","Competición",4,{"$f":"VLOOKUP(E2441,Referencias!$B$4:$C$15,2,FALSE())","v":"SC"},{"$f":"VLOOKUP(C2441,Referencias!$B$18:$C$34,2,FALSE())","v":"M"},"C"]
["2814606","Hernando Grande, Amparo","Madrileña","D","Sin Categoría","Competición",4,{"$f":"VLOOKUP(E2442,Referencias!$B$4:$C$15,2,FALSE())","v":"SC"},{"$f":"VLOOKUP(C2442,Referencias!$B$18:$C$34,2,FALSE())","v":"M"},"C"]
["2814607","Armijo Torres, Elena","Madrileña","D","Tercera Diamante","Competición",3,{"$f":"VLOOKUP(E2443,Referencias!$B$4:$C$15,2,FALSE())","v":"3D"},{"$f":"VLOOKUP(C2443,Referencias!$B$18:$C$34,2,FALSE())","v":"M"},"C"]
["2814609","Maiza Urbieta, Margarita","Madrileña","D","Sin Categoría","Competición",4,{"$f":"VLOOKUP(E2444,Referencias!$B$4:$C$15,2,FALSE())","v":"SC"},{"$f":"VLOOKUP(C2444,Referencias!$B$18:$C$34,2,FALSE())","v":"M"},"C"]
["2814610","López-Belmonte Rubira, Juan Luis","Madrileña","C","Tercera Corazón","Competición",3,{"$f":"VLOOKUP(E2445,Referencias!$B$4:$C$15,2,FALSE())","v":"3C"},{"$f":"VLOOKUP(C2445,Referencias!$B$18:$C$34,2,FALSE())","v":"M"},"C"]
["2814612","González-Chaves García de Villegas, María","Madrileña","D","Tercera Diamante","Competición",3,{"$f":"VLOOKUP(E2446,Referencias!$B$4:$C$15,2,FALSE())","v":"3D"},{"$f":"VLOOKUP(C2446,Referencias!$B$18:$C$34,2,FALSE())","v":"M"},"C"]
["2814613","Herrera De Gómez, Carmen","Madrileña","D","Sin Categoría","Competición",4,{"$f":"VLOOKUP(E2447,Referencias!$B$4:$C$15,2,FALSE())","v":"SC"},{"$f":"VLOOKUP(C2447,Referencias!$B$18:$C$34,2,FALSE())","v":"M"},"C"]
["2814614","Gimeno Robledano, Esperanza","Madrileña","D","Tercera Diamante","Competición",3,{"$f":"VLOOKUP(E2448,Referencias!$B$4:$C$15,2,FALSE())","v":"3D"},{"$f":"VLOOKUP(C2448,Referencias!$B$18:$C$34,2,FALSE())","v":"M"},"C"]
["2814615","Del Campo Zunzunegui, Mónica","Madrileña","D","Tercera Diamante","Competición",3,{"$f":"VLOOKUP(E2449,Referencias!$B$4:$C$15,2,FALSE())","v":"3D"},{"$f":"VLOOKUP(C2449,Referencias!$B$18:$C$34,2,FALSE())","v":"M"},"C"]
["2814616","Saénz de Miera Gutierrez, Mª José","Madrileña","D","Sin Categoría","Competición",4,{"$f":"VLOOKUP(E2450,Referencias!$B$4:$C$15,2,FALSE())","v":"SC"},{"$f":"VLOOKUP(C2450,Referencias!$B$18:$C$34,2,FALSE())","v":"M"},"C"]
["2814618","Nuñez Robles, Marian","Madrileña","D","Sin Categoría","Competición",4,{"$f":"VLOOKUP(E2451,Referencias!$B$4:$C$15,2,FALSE())","v":"SC"},{"$f":"VLOOKUP(C2451,Referencias!$B$18:$C$34,2,FALSE())","v":"M"},"C"]
["2814619","Bustos Pardo Manuel de Villena, Xavier","Madrileña","C","Sin Categoría","Competición",4,{"$f":"VLOOKUP(E2452,Referencias!$B$4:$C$15,2,FALSE())","v":"SC"},{"$f":"VLOOKUP(C2452,Referencias!$B$18:$C$34,2,FALSE())","v":"M"},"C"]
["2814620","Oteyza Paúl, Maria","Madrileña","D","Tercera Diamante","Competición",3,{"$f":"VLOOKUP(E2453,Referencias!$B$4:$C$15,2,FALSE())","v":"3D"},{"$f":"VLOOKUP(C2453,Referencias!$B$18:$C$34,2,FALSE())","v":"M"},"C"]
["2814621","Del Pino O´Shea, Cristina","Madrileña","D","Tercera Diamante","Competición",3,{"$f":"VLOOKUP(E2454,Referencias!$B$4:$C$15,2,FALSE())","v":"3D"},{"$f":"VLOOKUP(C2454,Referencias!$B$18:$C$34,2,FALSE())","v":"M"},"C"]
["2814622","Blázquez Guillén, María Isabel","Madrileña","D","Tercera Diamante","Competición",3,{"$f":"VLOOKUP(E2455,Referencias!$B$4:$C$15,2,FALSE())","v":"3D"},{"$f":"VLOOKUP(C2455,Referencias!$B$18:$C$34,2,FALSE())","v":"M"},"C"]
["2814623","Basabe O´Shea, Lourdes","Madrileña","D","Tercera Diamante","Competición",3,{"$f":"VLOOKUP(E2456,Referencias!$B$4:$C$15,2,FALSE())","v":"3D"},{"$f":"VLOOKUP(C2456,Referencias!$B$18:$C$34,2,FALSE())","v":"M"},"C"]
["2814625","De la Vega Bergé, Begoña","Madrileña","D","Tercera Corazón","Competición",3,{"$f":"VLOOKUP(E2457,Referencias!$B$4:$C$15,2,FALSE())","v":"3C"},{"$f":"VLOOKUP(C2457,Referencias!$B$18:$C$34,2,FALSE())","v":"M"},"C"]
["2814626","Giménez Escudero, Luisa","Madrileña","D","Tercera Diamante","Competición",3,{"$f":"VLOOKUP(E2458,Referencias!$B$4:$C$15,2,FALSE())","v":"3D"},{"$f":"VLOOKUP(C2458,Referencias!$B$18:$C$34,2,FALSE())","v":"M"},"C"]
["2814627","Corrales Martínez, Manuel","Madrileña","C","Sin Categoría","Competición",4,{"$f":"VLOOKUP(E2459,Referencias!$B$4:$C$15,2,FALSE())","v":"SC"},{"$f":"VLOOKUP(C2459,Referencias!$B$18:$C$34,2,FALSE())","v":"M"},"C"]
["2814628","Zuloaga Gallego, Carmen","Madrileña","D","Sin Categoría","Competición",4,{"$f":"VLOOKUP(E2460,Referencias!$B$4:$C$15,2,FALSE())","v":"SC"},{"$f":"VLOOKUP(C2460,Referencias!$B$18:$C$34,2,FALSE())","v":"M"},"C"]
["2814629","Herrán Fernández, Alicia","Madrileña","D","Tercera Picas","Competición",3,{"$f":"VLOOKUP(E2461,Referencias!$B$4:$C$15,2,FALSE())","v":"3P"},{"$f":"VLOOKUP(C2461,Referencias!$B$18:$C$34,2,FALSE())","v":"M"},"C"]
["2814630","Delgado Escofet, Estela","Madrileña","D","Tercera Picas","Competición",3,{"$f":"VLOOKUP(E2462,Referencias!$B$4:$C$15,2,FALSE())","v":"3P"},{"$f":"VLOOKUP(C2462,Referencias!$B$18:$C$34,2,FALSE())","v":"M"},"C"]
["2814631","Reh López-Dóriga, Beatriz","Madrileña","D","Sin Categoría","Competición",4,{"$f":"VLOOKUP(E2463,Referencias!$B$4:$C$15,2,FALSE())","v":"SC"},{"$f":"VLOOKUP(C2463,Referencias!$B$18:$C$34,2,FALSE())","v":"M"},"C"]
["2814632","Ojeda Santana, Margarita","Madrileña","D","Sin Categoría","Competición",4,{"$f":"VLOOKUP(E2464,Referencias!$B$4:$C$15,2,FALSE())","v":"SC"},{"$f":"VLOOKUP(C2464,Referencias!$B$18:$C$34,2,FALSE())","v":"M"},"C"]
["2814634","Herránz Pérez, Luis Antonio","Madrileña","C","Tercera Diamante","Competición",3,{"$f":"VLOOKUP(E2465,Referencias!$B$4:$C$15,2,FALSE())","v":"3D"},{"$f":"VLOOKUP(C2465,Referencias!$B$18:$C$34,2,FALSE())","v":"M"},"C"]
["2814635","Velarde Echevarria, Cristina","Madrileña","D","Tercera Corazón","Competición",3,{"$f":"VLOOKUP(E2466,Referencias!$B$4:$C$15,2,FALSE())","v":"3C"},{"$f":"VLOOKUP(C2466,Referencias!$B$18:$C$34,2,FALSE())","v":"M"},"C"]
["2814636","Gómez-Tejedor Ortiz, Concepción","Madrileña","D","Sin Categoría","Competición",4,{"$f":"VLOOKUP(E2467,Referencias!$B$4:$C$15,2,FALSE())","v":"SC"},{"$f":"VLOOKUP(C2467,Referencias!$B$18:$C$34,2,FALSE())","v":"M"},"C"]
["2814637","Llebot Majo, Rosa","Madrileña","D","Primera Corazón","Competición",1,{"$f":"VLOOKUP(E2468,Referencias!$B$4:$C$15,2,FALSE())","v":"1C"},{"$f":"VLOOKUP(C2468,Referencias!$B$18:$C$34,2,FALSE())","v":"M"},"C"]
["2814638","Guizy Del Rio, Antonio","Madrileña","C","Primera Corazón","Competición",1,{"$f":"VLOOKUP(E2469,Referencias!$B$4:$C$15,2,FALSE())","v":"1C"},{"$f":"VLOOKUP(C2469,Referencias!$B$18:$C$34,2,FALSE())","v":"M"},"C"]
["2814639","Simon, Pilar","Madrileña","D","Tercera Corazón","Competición",3,{"$f":"VLOOKUP(E2470,Referencias!$B$4:$C$15,2,FALSE())","v":"3C"},{"$f":"VLOOKUP(C2470,Referencias!$B$18:$C$34,2,FALSE())","v":"M"},"C"]
["2814640","Escoriaza St. John, Florencia","Madrileña","D","Sin Categoría","Competición",4,{"$f":"VLOOKUP(E2471,Referencias!$B$4:$C$15,2,FALSE())","v":"SC"},{"$f":"VLOOKUP(C2471,Referencias!$B$18:$C$34,2,FALSE())","v":"M"},"C"]
["2814641","Fernández Granda, Susana","Madrileña","D","Tercera Diamante","Competición",3,{"$f":"VLOOKUP(E2472,Referencias!$B$4:$C$15,2,FALSE())","v":"3D"},{"$f":"VLOOKUP(C2472,Referencias!$B$18:$C$34,2,FALSE())","v":"M"},"C"]
["2814642","Benarroch Israel, Elena","Madrileña","D","Tercera Diamante","Competición",3,{"$f":"VLOOKUP(E2473,Referencias!$B$4:$C$15,2,FALSE())","v":"3D"},{"$f":"VLOOKUP(C2473,Referencias!$B$18:$C$34,2,FALSE())","v":"M"},"C"]
["2814651","Miguel Carnerero, Alicia","Madrileña","D","Sin Categoría","Competición",4,{"$f":"VLOOKUP(E2474,Referencias!$B$4:$C$15,2,FALSE())","v":"SC"},{"$f":"VLOOKUP(C2474,Referencias!$B$18:$C$34,2,FALSE())","v":"M"},"C"]
["2814652","Espinosa de los Monteros Sánz-Tovar, María","Madrileña","D","Tercera Corazón","Competición",3,{"$f":"VLOOKUP(E2475,Referencias!$B$4:$C$15,2,FALSE())","v":"3C"},{"$f":"VLOOKUP(C2475,Referencias!$B$18:$C$34,2,FALSE())","v":"M"},"C"]
["2814653","Fernández López, Gloria","Madrileña","D","Tercera Diamante","Competición",3,{"$f":"VLOOKUP(E2476,Referencias!$B$4:$C$15,2,FALSE())","v":"3D"},{"$f":"VLOOKUP(C2476,Referencias!$B$18:$C$34,2,FALSE())","v":"M"},"C"]
["2814654","Pastor López, Pilar","Madrileña","D","Sin Categoría","Competición",4,{"$f":"VLOOKUP(E2477,Referencias!$B$4:$C$15,2,FALSE())","v":"SC"},{"$f":"VLOOKUP(C2477,Referencias!$B$18:$C$34,2,FALSE())","v":"M"},"C"]
["2814656","Arpón de Mendivil Aldama, Alejandra","Madrileña","D","Tercera Diamante","Competición",3,{"$f":"VLOOKUP(E2478,Referencias!$B$4:$C$15,2,FALSE())","v":"3D"},{"$f":"VLOOKUP(C2478,Referencias!$B$18:$C$34,2,FALSE())","v":"M"},"C"]
["2814659","Vitale, María Rosaria","Madrileña","D","Tercera Corazón","Competición",3,{"$f":"VLOOKUP(E2479,Referencias!$B$4:$C$15,2,FALSE())","v":"3C"},{"$f":"VLOOKUP(C2479,Referencias!$B$18:$C$34,2,FALSE())","v":"M"},"C"]
["2814661","Martínez Ortiz, Pablo","Madrileña","C","Sin Categoría","Junior",4,{"$f":"VLOOKUP(E2480,Referencias!$B$4:$C$15,2,FALSE())","v":"SC"},{"$f":"VLOOKUP(C2480,Referencias!$B$18:$C$34,2,FALSE())","v":"M"},"C"]
["2814665","Zinger, Vladik","Madrileña","D","Primera Picas","Competición",1,{"$f":"VLOOKUP(E2481,Referencias!$B$4:$C$15,2,FALSE())","v":"1P"},{"$f":"VLOOKUP(C2481,Referencias!$B$18:$C$34,2,FALSE())","v":"M"},"C"]
["2814666","Burgos Belascoain, Ana","Madrileña","D","Sin Categoría","Competición",4,{"$f":"VLOOKUP(E2482,Referencias!$B$4:$C$15,2,FALSE())","v":"SC"},{"$f":"VLOOKUP(C2482,Referencias!$B$18:$C$34,2,FALSE())","v":"M"},"C"]
["2814667","García Lombardia, Maria Dolores","Madrileña","D","Segunda Corazón","Competición",2,{"$f":"VLOOKUP(E2483,Referencias!$B$4:$C$15,2,FALSE())","v":"2C"},{"$f":"VLOOKUP(C2483,Referencias!$B$18:$C$34,2,FALSE())","v":"M"},"C"]
["2814669","Avello Prendes, Alfredo","Madrileña","C","Tercera Corazón","Competición",3,{"$f":"VLOOKUP(E2484,Referencias!$B$4:$C$15,2,FALSE())","v":"3C"},{"$f":"VLOOKUP(C2484,Referencias!$B$18:$C$34,2,FALSE())","v":"M"},"C"]
["2814670","Fernández Castrillo, Sylvia","Madrileña","D","Sin Categoría","Competición",4,{"$f":"VLOOKUP(E2485,Referencias!$B$4:$C$15,2,FALSE())","v":"SC"},{"$f":"VLOOKUP(C2485,Referencias!$B$18:$C$34,2,FALSE())","v":"M"},"C"]
["2814671","Tomé Arias, Alicia","Madrileña","D","Sin Categoría","Competición",4,{"$f":"VLOOKUP(E2486,Referencias!$B$4:$C$15,2,FALSE())","v":"SC"},{"$f":"VLOOKUP(C2486,Referencias!$B$18:$C$34,2,FALSE())","v":"M"},"C"]
["2814672","Antolin Navarro, Ana","Madrileña","D","Sin Categoría","Competición",4,{"$f":"VLOOKUP(E2487,Referencias!$B$4:$C$15,2,FALSE())","v":"SC"},{"$f":"VLOOKUP(C2487,Referencias!$B$18:$C$34,2,FALSE())","v":"M"},"C"]
["2814673","Masaveu Cardin, Inés","Madrileña","D","Sin Categoría","Competición",4,{"$f":"VLOOKUP(E2488,Referencias!$B$4:$C$15,2,FALSE())","v":"SC"},{"$f":"VLOOKUP(C2488,Referencias!$B$18:$C$34,2,FALSE())","v":"M"},"C"]
["2814675","Alarcó Canosa, Pablo","Madrileña","C","Sin Categoría","Competición",4,{"$f":"VLOOKUP(E2489,Referencias!$B$4:$C$15,2,FALSE())","v":"SC"},{"$f":"VLOOKUP(C2489,Referencias!$B$18:$C$34,2,FALSE())","v":"M"},"C"]
["2814676","Nieto de la Cierva, María","Madrileña","D","Tercera Diamante","Competición",3,{"$f":"VLOOKUP(E2490,Referencias!$B$4:$C$15,2,FALSE())","v":"3D"},{"$f":"VLOOKUP(C2490,Referencias!$B$18:$C$34,2,FALSE())","v":"M"},"C"]
["2814677","Milano Manias, Alexander","Madrileña","C","Sin Categoría","Competición",4,{"$f":"VLOOKUP(E2491,Referencias!$B$4:$C$15,2,FALSE())","v":"SC"},{"$f":"VLOOKUP(C2491,Referencias!$B$18:$C$34,2,FALSE())","v":"M"},"C"]
["2814680","De Torres Escudero, Sonsoles","Madrileña","D","Sin Categoría","Junior",4,{"$f":"VLOOKUP(E2492,Referencias!$B$4:$C$15,2,FALSE())","v":"SC"},{"$f":"VLOOKUP(C2492,Referencias!$B$18:$C$34,2,FALSE())","v":"M"},"C"]
["2814681","Panizo Alonso, Pedro","Madrileña","C","Sin Categoría","Junior",4,{"$f":"VLOOKUP(E2493,Referencias!$B$4:$C$15,2,FALSE())","v":"SC"},{"$f":"VLOOKUP(C2493,Referencias!$B$18:$C$34,2,FALSE())","v":"M"},"C"]
["2814683","Álvarez Elvira, Inés","Madrileña","D","Sin Categoría","Junior",4,{"$f":"VLOOKUP(E2494,Referencias!$B$4:$C$15,2,FALSE())","v":"SC"},{"$f":"VLOOKUP(C2494,Referencias!$B$18:$C$34,2,FALSE())","v":"M"},"C"]
["2814684","Jané Marimon, Sara","Madrileña","D","Sin Categoría","Junior",4,{"$f":"VLOOKUP(E2495,Referencias!$B$4:$C$15,2,FALSE())","v":"SC"},{"$f":"VLOOKUP(C2495,Referencias!$B$18:$C$34,2,FALSE())","v":"M"},"C"]
["2814688","Arreciado Rivero, Sofia","Madrileña","D","Sin Categoría","Junior",4,{"$f":"VLOOKUP(E2496,Referencias!$B$4:$C$15,2,FALSE())","v":"SC"},{"$f":"VLOOKUP(C2496,Referencias!$B$18:$C$34,2,FALSE())","v":"M"},{"$f":"IF(D2496=\"Dama\",\"D\",\"C\")","v":"C"}]
["2814690","Oscoz Prim, Ana","Madrileña","D","Tercera Corazón","Competición",3,{"$f":"VLOOKUP(E2497,Referencias!$B$4:$C$15,2,FALSE())","v":"3C"},{"$f":"VLOOKUP(C2497,Referencias!$B$18:$C$34,2,FALSE())","v":"M"},"C"]
["2814691","Delgado Bellón, Mª José","Madrileña","D","Tercera Picas","Competición",3,{"$f":"VLOOKUP(E2498,Referencias!$B$4:$C$15,2,FALSE())","v":"3P"},{"$f":"VLOOKUP(C2498,Referencias!$B$18:$C$34,2,FALSE())","v":"M"},"C"]
["2814692","Marin Romano, María","Madrileña","D","Sin Categoría","Competición",4,{"$f":"VLOOKUP(E2499,Referencias!$B$4:$C$15,2,FALSE())","v":"SC"},{"$f":"VLOOKUP(C2499,Referencias!$B$18:$C$34,2,FALSE())","v":"M"},"C"]
["2814693","Alonso de Noriega Muñiz, Lucia","Madrileña","D","Sin Categoría","Competición",4,{"$f":"VLOOKUP(E2500,Referencias!$B$4:$C$15,2,FALSE())","v":"SC"},{"$f":"VLOOKUP(C2500,Referencias!$B$18:$C$34,2,FALSE())","v":"M"},"C"]
["2814694","Melgarejo Nardiz, Covadonga","Madrileña","D","Sin Categoría","Competición",4,{"$f":"VLOOKUP(E2501,Referencias!$B$4:$C$15,2,FALSE())","v":"SC"},{"$f":"VLOOKUP(C2501,Referencias!$B$18:$C$34,2,FALSE())","v":"M"},"C"]
["2814695","Romero Castaño, Lidia","Madrileña","D","Tercera Diamante","Competición",3,{"$f":"VLOOKUP(E2502,Referencias!$B$4:$C$15,2,FALSE())","v":"3D"},{"$f":"VLOOKUP(C2502,Referencias!$B$18:$C$34,2,FALSE())","v":"M"},"C"]
["2814696","López Pereira, Luz María","Madrileña","D","Sin Categoría","Competición",4,{"$f":"VLOOKUP(E2503,Referencias!$B$4:$C$15,2,FALSE())","v":"SC"},{"$f":"VLOOKUP(C2503,Referencias!$B$18:$C$34,2,FALSE())","v":"M"},"C"]
["2814698","Bigeriego Suárez-Blanco, Leticia","Madrileña","D","Tercera Picas","Competición",3,{"$f":"VLOOKUP(E2504,Referencias!$B$4:$C$15,2,FALSE())","v":"3P"},{"$f":"VLOOKUP(C2504,Referencias!$B$18:$C$34,2,FALSE())","v":"M"},"C"]
["2814699","Fernández Benito, Almudena","Madrileña","D","Sin Categoría","Competición",4,{"$f":"VLOOKUP(E2505,Referencias!$B$4:$C$15,2,FALSE())","v":"SC"},{"$f":"VLOOKUP(C2505,Referencias!$B$18:$C$34,2,FALSE())","v":"M"},"C"]
["2814700","Bigeriego Súarez-Blanco, Isabel","Madrileña","D","Tercera Picas","Competición",3,{"$f":"VLOOKUP(E2506,Referencias!$B$4:$C$15,2,FALSE())","v":"3P"},{"$f":"VLOOKUP(C2506,Referencias!$B$18:$C$34,2,FALSE())","v":"M"},"C"]
["2814701","Tamames Redondo, Carlota","Madrileña","D","Sin Categoría","Competición",4,{"$f":"VLOOKUP(E2507,Referencias!$B$4:$C$15,2,FALSE())","v":"SC"},{"$f":"VLOOKUP(C2507,Referencias!$B$18:$C$34,2,FALSE())","v":"M"},"C"]
["2814702","Hollegha, Daniel","Madrileña","C","Sin Categoría","Competición",4,{"$f":"VLOOKUP(E2508,Referencias!$B$4:$C$15,2,FALSE())","v":"SC"},{"$f":"VLOOKUP(C2508,Referencias!$B$18:$C$34,2,FALSE())","v":"M"},"C"]
["2814703","Basagoiti González-Trevilla, Belén","Madrileña","D","Tercera Diamante","Competición",3,{"$f":"VLOOKUP(E2509,Referencias!$B$4:$C$15,2,FALSE())","v":"3D"},{"$f":"VLOOKUP(C2509,Referencias!$B$18:$C$34,2,FALSE())","v":"M"},"C"]
["2814704","Chicharro Vaca de Osma, María","Madrileña","D","Sin Categoría","Junior",4,{"$f":"VLOOKUP(E2510,Referencias!$B$4:$C$15,2,FALSE())","v":"SC"},{"$f":"VLOOKUP(C2510,Referencias!$B$18:$C$34,2,FALSE())","v":"M"},"C"]
["2814705","Uriarte Petrini, Camila","Madrileña","D","Sin Categoría","Junior",4,{"$f":"VLOOKUP(E2511,Referencias!$B$4:$C$15,2,FALSE())","v":"SC"},{"$f":"VLOOKUP(C2511,Referencias!$B$18:$C$34,2,FALSE())","v":"M"},"C"]
["2814706","Romero Puerto, Jimena","Madrileña","D","Sin Categoría","Junior",4,{"$f":"VLOOKUP(E2512,Referencias!$B$4:$C$15,2,FALSE())","v":"SC"},{"$f":"VLOOKUP(C2512,Referencias!$B$18:$C$34,2,FALSE())","v":"M"},"C"]
["2814707","Marín Navarro, Almudena","Madrileña","D","Sin Categoría","Junior",4,{"$f":"VLOOKUP(E2513,Referencias!$B$4:$C$15,2,FALSE())","v":"SC"},{"$f":"VLOOKUP(C2513,Referencias!$B$18:$C$34,2,FALSE())","v":"M"},"C"]
["2814708","De la Lastra Alvear, Javier","Madrileña","C","Sin Categoría","Junior",4,{"$f":"VLOOKUP(E2514,Referencias!$B$4:$C$15,2,FALSE())","v":"SC"},{"$f":"VLOOKUP(C2514,Referencias!$B$18:$C$34,2,FALSE())","v":"M"},"C"]
["2814709","De la Lastra Alvear, Lourdes","Madrileña","D","Sin Categoría","Junior",4,{"$f":"VLOOKUP(E2515,Referencias!$B$4:$C$15,2,FALSE())","v":"SC"},{"$f":"VLOOKUP(C2515,Referencias!$B$18:$C$34,2,FALSE())","v":"M"},"C"]
["2814710","De la Lastra Alvear, Ignacio","Madrileña","D","Sin Categoría","Junior",4,{"$f":"VLOOKUP(E2516,Referencias!$B$4:$C$15,2,FALSE())","v":"SC"},{"$f":"VLOOKUP(C2516,Referencias!$B$18:$C$34,2,FALSE())","v":"M"},"C"]
["2814711","De la Lastra Alvear, Borja","Madrileña","C","Sin Categoría","Junior",4,{"$f":"VLOOKUP(E2517,Referencias!$B$4:$C$15,2,FALSE())","v":"SC"},{"$f":"VLOOKUP(C2517,Referencias!$B$18:$C$34,2,FALSE())","v":"M"},"C"]
["2814712","Torres Basabe, Gabriel","Madrileña","C","Tercera Corazón","Competición",3,{"$f":"VLOOKUP(E2518,Referencias!$B$4:$C$15,2,FALSE())","v":"3C"},{"$f":"VLOOKUP(C2518,Referencias!$B$18:$C$34,2,FALSE())","v":"M"},"C"]
["2814713","Rivera Ysasi-Ysasmendi, Joaquin","Madrileña","C","Tercera Diamante","Competición",3,{"$f":"VLOOKUP(E2519,Referencias!$B$4:$C$15,2,FALSE())","v":"3D"},{"$f":"VLOOKUP(C2519,Referencias!$B$18:$C$34,2,FALSE())","v":"M"},"C"]
["2814714","Amo Fernández, Paloma","Madrileña","D","Tercera Picas","Competición",3,{"$f":"VLOOKUP(E2520,Referencias!$B$4:$C$15,2,FALSE())","v":"3P"},{"$f":"VLOOKUP(C2520,Referencias!$B$18:$C$34,2,FALSE())","v":"M"},"C"]
["2814715","Amo Fernández, Inmaculada","Madrileña","D","Tercera Corazón","Competición",3,{"$f":"VLOOKUP(E2521,Referencias!$B$4:$C$15,2,FALSE())","v":"3C"},{"$f":"VLOOKUP(C2521,Referencias!$B$18:$C$34,2,FALSE())","v":"M"},"C"]
["2814716","Isla Álvarez de Tejera, Paloma","Madrileña","D","Tercera Corazón","Competición",3,{"$f":"VLOOKUP(E2522,Referencias!$B$4:$C$15,2,FALSE())","v":"3C"},{"$f":"VLOOKUP(C2522,Referencias!$B$18:$C$34,2,FALSE())","v":"M"},"C"]
["2814717","Salto Sánchez, Fernando","Madrileña","C","Tercera Corazón","Competición",3,{"$f":"VLOOKUP(E2523,Referencias!$B$4:$C$15,2,FALSE())","v":"3C"},{"$f":"VLOOKUP(C2523,Referencias!$B$18:$C$34,2,FALSE())","v":"M"},"C"]
["2814718","Gila Herranz, Inés","Madrileña","D","Sin Categoría","Junior",4,{"$f":"VLOOKUP(E2524,Referencias!$B$4:$C$15,2,FALSE())","v":"SC"},{"$f":"VLOOKUP(C2524,Referencias!$B$18:$C$34,2,FALSE())","v":"M"},"C"]
["2814719","Bisdikian, Diana","Madrileña","D","Segunda Picas","Competición",2,{"$f":"VLOOKUP(E2525,Referencias!$B$4:$C$15,2,FALSE())","v":"2P"},{"$f":"VLOOKUP(C2525,Referencias!$B$18:$C$34,2,FALSE())","v":"M"},"C"]
["2814720","de la Cierva Moreno, Sofía","Madrileña","D","Tercera Picas","Competición",3,{"$f":"VLOOKUP(E2526,Referencias!$B$4:$C$15,2,FALSE())","v":"3P"},{"$f":"VLOOKUP(C2526,Referencias!$B$18:$C$34,2,FALSE())","v":"M"},"C"]
["2814721","Moreno de Borbón, Clara","Madrileña","D","Sin Categoría","Competición",4,{"$f":"VLOOKUP(E2527,Referencias!$B$4:$C$15,2,FALSE())","v":"SC"},{"$f":"VLOOKUP(C2527,Referencias!$B$18:$C$34,2,FALSE())","v":"M"},"C"]
["2814722","Cesteros Fernández, Miguel","Madrileña","C","Tercera Diamante","Competición",3,{"$f":"VLOOKUP(E2528,Referencias!$B$4:$C$15,2,FALSE())","v":"3D"},{"$f":"VLOOKUP(C2528,Referencias!$B$18:$C$34,2,FALSE())","v":"M"},"C"]
["2814723","Soriano de Torres, Amelia","Madrileña","D","Tercera Diamante","Competición",3,{"$f":"VLOOKUP(E2529,Referencias!$B$4:$C$15,2,FALSE())","v":"3D"},{"$f":"VLOOKUP(C2529,Referencias!$B$18:$C$34,2,FALSE())","v":"M"},"C"]
["2814724","MacLellan, Purita","Madrileña","D","Sin Categoría","Competición",4,{"$f":"VLOOKUP(E2530,Referencias!$B$4:$C$15,2,FALSE())","v":"SC"},{"$f":"VLOOKUP(C2530,Referencias!$B$18:$C$34,2,FALSE())","v":"M"},"C"]
["2814725","Fraile Rodríguez, Guadalupe","Madrileña","D","Tercera Corazón","Competición",3,{"$f":"VLOOKUP(E2531,Referencias!$B$4:$C$15,2,FALSE())","v":"3C"},{"$f":"VLOOKUP(C2531,Referencias!$B$18:$C$34,2,FALSE())","v":"M"},"C"]
["2814726","Saínz Armada, Pilar","Madrileña","D","Tercera Picas","Competición",3,{"$f":"VLOOKUP(E2532,Referencias!$B$4:$C$15,2,FALSE())","v":"3P"},{"$f":"VLOOKUP(C2532,Referencias!$B$18:$C$34,2,FALSE())","v":"M"},"C"]
["2814728","Ozores Aguirre, Pastora","Madrileña","D","Tercera Diamante","Competición",3,{"$f":"VLOOKUP(E2533,Referencias!$B$4:$C$15,2,FALSE())","v":"3D"},{"$f":"VLOOKUP(C2533,Referencias!$B$18:$C$34,2,FALSE())","v":"M"},"C"]
["2814731","Sánz-Briz Quijano, Pilar","Madrileña","D","Sin Categoría","Competición",4,{"$f":"VLOOKUP(E2534,Referencias!$B$4:$C$15,2,FALSE())","v":"SC"},{"$f":"VLOOKUP(C2534,Referencias!$B$18:$C$34,2,FALSE())","v":"M"},"C"]
["2814733","Isasa Martín, Carlos Ignacio","Madrileña","C","Sin Categoría","Junior",4,{"$f":"VLOOKUP(E2535,Referencias!$B$4:$C$15,2,FALSE())","v":"SC"},{"$f":"VLOOKUP(C2535,Referencias!$B$18:$C$34,2,FALSE())","v":"M"},"C"]
["2814734","Carvajal Moreno de Barreda, Alfonso","Madrileña","C","Sin Categoría","Junior",4,{"$f":"VLOOKUP(E2536,Referencias!$B$4:$C$15,2,FALSE())","v":"SC"},{"$f":"VLOOKUP(C2536,Referencias!$B$18:$C$34,2,FALSE())","v":"M"},"C"]
["2814735","Simión , Cristina-Elena","Madrileña","D","Primera Picas","Competición",1,{"$f":"VLOOKUP(E2537,Referencias!$B$4:$C$15,2,FALSE())","v":"1P"},{"$f":"VLOOKUP(C2537,Referencias!$B$18:$C$34,2,FALSE())","v":"M"},"C"]
["2814736","De Jaureguízar , Marquesa","Madrileña","D","Segunda Corazón","Competición",2,{"$f":"VLOOKUP(E2538,Referencias!$B$4:$C$15,2,FALSE())","v":"2C"},{"$f":"VLOOKUP(C2538,Referencias!$B$18:$C$34,2,FALSE())","v":"M"},"C"]
["2814737","Jordana Fuentes, Nieves","Madrileña","D","Tercera Corazón","Competición",3,{"$f":"VLOOKUP(E2539,Referencias!$B$4:$C$15,2,FALSE())","v":"3C"},{"$f":"VLOOKUP(C2539,Referencias!$B$18:$C$34,2,FALSE())","v":"M"},"C"]
["2814738","Portal Antón, Ceferino","Madrileña","C","Segunda Picas","Competición",2,{"$f":"VLOOKUP(E2540,Referencias!$B$4:$C$15,2,FALSE())","v":"2P"},{"$f":"VLOOKUP(C2540,Referencias!$B$18:$C$34,2,FALSE())","v":"M"},"C"]
["2814739","Ladrón de Guevara Rovira, Lina","Madrileña","D","Tercera Corazón","Competición",3,{"$f":"VLOOKUP(E2541,Referencias!$B$4:$C$15,2,FALSE())","v":"3C"},{"$f":"VLOOKUP(C2541,Referencias!$B$18:$C$34,2,FALSE())","v":"M"},"C"]
["2814740","Quintian Rodríguez, Mª Antonia","Madrileña","D","Primera Corazón","Competición",1,{"$f":"VLOOKUP(E2542,Referencias!$B$4:$C$15,2,FALSE())","v":"1C"},{"$f":"VLOOKUP(C2542,Referencias!$B$18:$C$34,2,FALSE())","v":"M"},"C"]
["2814741","Suárez García, Paloma","Madrileña","D","Primera Picas","Competición",1,{"$f":"VLOOKUP(E2543,Referencias!$B$4:$C$15,2,FALSE())","v":"1P"},{"$f":"VLOOKUP(C2543,Referencias!$B$18:$C$34,2,FALSE())","v":"M"},"C"]
["2814742","Buteica, Amelia Persida","Madrileña","D","Primera Corazón","Competición",1,{"$f":"VLOOKUP(E2544,Referencias!$B$4:$C$15,2,FALSE())","v":"1C"},{"$f":"VLOOKUP(C2544,Referencias!$B$18:$C$34,2,FALSE())","v":"M"},"C"]
["2814743","Fernández-Hontoria Botín, Mª Luisa","Madrileña","D","Sin Categoría","Competición",4,{"$f":"VLOOKUP(E2545,Referencias!$B$4:$C$15,2,FALSE())","v":"SC"},{"$f":"VLOOKUP(C2545,Referencias!$B$18:$C$34,2,FALSE())","v":"M"},"C"]
["2814745","Pagola Saenz, José","Madrileña","C","Tercera Picas","Competición",3,{"$f":"VLOOKUP(E2546,Referencias!$B$4:$C$15,2,FALSE())","v":"3P"},{"$f":"VLOOKUP(C2546,Referencias!$B$18:$C$34,2,FALSE())","v":"M"},"C"]
["2814746","García Romero, Ernestina","Madrileña","D","Segunda Picas","Competición",2,{"$f":"VLOOKUP(E2547,Referencias!$B$4:$C$15,2,FALSE())","v":"2P"},{"$f":"VLOOKUP(C2547,Referencias!$B$18:$C$34,2,FALSE())","v":"M"},"C"]
["2814747","Alonso Álvarez, María","Madrileña","D","Tercera Diamante","Competición",3,{"$f":"VLOOKUP(E2548,Referencias!$B$4:$C$15,2,FALSE())","v":"3D"},{"$f":"VLOOKUP(C2548,Referencias!$B$18:$C$34,2,FALSE())","v":"M"},"C"]
["2814748","Santias Viada, María de los Angeles","Madrileña","D","Sin Categoría","Competición",4,{"$f":"VLOOKUP(E2549,Referencias!$B$4:$C$15,2,FALSE())","v":"SC"},{"$f":"VLOOKUP(C2549,Referencias!$B$18:$C$34,2,FALSE())","v":"M"},"C"]
["2814749","Herranz Méndez, María José","Madrileña","D","Tercera Corazón","Competición",3,{"$f":"VLOOKUP(E2550,Referencias!$B$4:$C$15,2,FALSE())","v":"3C"},{"$f":"VLOOKUP(C2550,Referencias!$B$18:$C$34,2,FALSE())","v":"M"},"C"]
["2814750","Poetsch, Andreas","Madrileña","C","Tercera Corazón","Competición",3,{"$f":"VLOOKUP(E2551,Referencias!$B$4:$C$15,2,FALSE())","v":"3C"},{"$f":"VLOOKUP(C2551,Referencias!$B$18:$C$34,2,FALSE())","v":"M"},"C"]
["2814752","Barrios Robredo, Mª Jesús","Madrileña","D","Tercera Corazón","Competición",3,{"$f":"VLOOKUP(E2552,Referencias!$B$4:$C$15,2,FALSE())","v":"3C"},{"$f":"VLOOKUP(C2552,Referencias!$B$18:$C$34,2,FALSE())","v":"M"},"C"]
["2814753","Sierra Pizarro, Raquel","Madrileña","D","Tercera Diamante","Competición",3,{"$f":"VLOOKUP(E2553,Referencias!$B$4:$C$15,2,FALSE())","v":"3D"},{"$f":"VLOOKUP(C2553,Referencias!$B$18:$C$34,2,FALSE())","v":"M"},"C"]
["2814754","Díaz Rodriguez -Valdés, Clara","Madrileña","D","Tercera Diamante","Competición",3,{"$f":"VLOOKUP(E2554,Referencias!$B$4:$C$15,2,FALSE())","v":"3D"},{"$f":"VLOOKUP(C2554,Referencias!$B$18:$C$34,2,FALSE())","v":"M"},"C"]
["2814755","Gómez-Pallete Alonso, Pilar","Madrileña","D","Tercera Diamante","Competición",3,{"$f":"VLOOKUP(E2555,Referencias!$B$4:$C$15,2,FALSE())","v":"3D"},{"$f":"VLOOKUP(C2555,Referencias!$B$18:$C$34,2,FALSE())","v":"M"},"C"]
["2814756","Labayen Latorre, Pilar","Madrileña","D","Segunda Diamante","Competición",2,{"$f":"VLOOKUP(E2556,Referencias!$B$4:$C$15,2,FALSE())","v":"2D"},{"$f":"VLOOKUP(C2556,Referencias!$B$18:$C$34,2,FALSE())","v":"M"},"C"]
["2814757","Martí Navarro, Pilar","Madrileña","D","Tercera Corazón","Competición",3,{"$f":"VLOOKUP(E2557,Referencias!$B$4:$C$15,2,FALSE())","v":"3C"},{"$f":"VLOOKUP(C2557,Referencias!$B$18:$C$34,2,FALSE())","v":"M"},"C"]
["2814758","De la Vega Berge, Rosario","Madrileña","D","Tercera Corazón","Competición",3,{"$f":"VLOOKUP(E2558,Referencias!$B$4:$C$15,2,FALSE())","v":"3C"},{"$f":"VLOOKUP(C2558,Referencias!$B$18:$C$34,2,FALSE())","v":"M"},"C"]
["2814760","Buendia Urbano, Pilar","Madrileña","D","Sin Categoría","Competición",4,{"$f":"VLOOKUP(E2559,Referencias!$B$4:$C$15,2,FALSE())","v":"SC"},{"$f":"VLOOKUP(C2559,Referencias!$B$18:$C$34,2,FALSE())","v":"M"},"C"]
["2814761","Fernández Durán, Mercedes","Madrileña","D","Sin Categoría","Competición",4,{"$f":"VLOOKUP(E2560,Referencias!$B$4:$C$15,2,FALSE())","v":"SC"},{"$f":"VLOOKUP(C2560,Referencias!$B$18:$C$34,2,FALSE())","v":"M"},{"$f":"IF(D2560=\"Dama\",\"D\",\"C\")","v":"C"}]
["2814762","Burgo García, Agustina","Madrileña","D","Sin Categoría","Competición",4,{"$f":"VLOOKUP(E2561,Referencias!$B$4:$C$15,2,FALSE())","v":"SC"},{"$f":"VLOOKUP(C2561,Referencias!$B$18:$C$34,2,FALSE())","v":"M"},"C"]
["2814763","Spinola González, María Concepción","Madrileña","D","Sin Categoría","Competición",4,{"$f":"VLOOKUP(E2562,Referencias!$B$4:$C$15,2,FALSE())","v":"SC"},{"$f":"VLOOKUP(C2562,Referencias!$B$18:$C$34,2,FALSE())","v":"M"},"C"]
["2814764","Jiménez Sanches, Mª Luz","Madrileña","D","Sin Categoría","Competición",4,{"$f":"VLOOKUP(E2563,Referencias!$B$4:$C$15,2,FALSE())","v":"SC"},{"$f":"VLOOKUP(C2563,Referencias!$B$18:$C$34,2,FALSE())","v":"M"},"C"]
["2814766","Lasso de la Vega Borja, Gonzalo","Madrileña","C","Tercera Diamante","Competición",3,{"$f":"VLOOKUP(E2564,Referencias!$B$4:$C$15,2,FALSE())","v":"3D"},{"$f":"VLOOKUP(C2564,Referencias!$B$18:$C$34,2,FALSE())","v":"M"},"C"]
["2814767","Lafuente Blanco, Ana María","Madrileña","D","Sin Categoría","Competición",4,{"$f":"VLOOKUP(E2565,Referencias!$B$4:$C$15,2,FALSE())","v":"SC"},{"$f":"VLOOKUP(C2565,Referencias!$B$18:$C$34,2,FALSE())","v":"M"},"C"]
["2814768","Liang Zhou, Jianguo","Madrileña","C","Tercera Picas","Competición",3,{"$f":"VLOOKUP(E2566,Referencias!$B$4:$C$15,2,FALSE())","v":"3P"},{"$f":"VLOOKUP(C2566,Referencias!$B$18:$C$34,2,FALSE())","v":"M"},"C"]
["2814769","Muñoz Medina, Miguel Mª","Madrileña","C","Sin Categoría","Competición",4,{"$f":"VLOOKUP(E2567,Referencias!$B$4:$C$15,2,FALSE())","v":"SC"},{"$f":"VLOOKUP(C2567,Referencias!$B$18:$C$34,2,FALSE())","v":"M"},"C"]
["2814770","Gaztañaga Sertucha, Begoña","Madrileña","D","Sin Categoría","Competición",4,{"$f":"VLOOKUP(E2568,Referencias!$B$4:$C$15,2,FALSE())","v":"SC"},{"$f":"VLOOKUP(C2568,Referencias!$B$18:$C$34,2,FALSE())","v":"M"},"C"]
["2814771","Azcárraga Gonzalo, Paz","Madrileña","D","Tercera Corazón","Competición",3,{"$f":"VLOOKUP(E2569,Referencias!$B$4:$C$15,2,FALSE())","v":"3C"},{"$f":"VLOOKUP(C2569,Referencias!$B$18:$C$34,2,FALSE())","v":"M"},"C"]
["2814772","De Ena De La Cuesta, Sol","Madrileña","D","Tercera Corazón","Competición",3,{"$f":"VLOOKUP(E2570,Referencias!$B$4:$C$15,2,FALSE())","v":"3C"},{"$f":"VLOOKUP(C2570,Referencias!$B$18:$C$34,2,FALSE())","v":"M"},"C"]
["2814773","De las Morenas Ferrandiz, Patricia","Madrileña","D","Sin Categoría","Competición",4,{"$f":"VLOOKUP(E2571,Referencias!$B$4:$C$15,2,FALSE())","v":"SC"},{"$f":"VLOOKUP(C2571,Referencias!$B$18:$C$34,2,FALSE())","v":"M"},"C"]
["2814774","Soriano Saavedra, Mª Eugenia","Madrileña","D","Sin Categoría","Competición",4,{"$f":"VLOOKUP(E2572,Referencias!$B$4:$C$15,2,FALSE())","v":"SC"},{"$f":"VLOOKUP(C2572,Referencias!$B$18:$C$34,2,FALSE())","v":"M"},"C"]
["2814777","Barandica Fernández, Ana María","Madrileña","D","Sin Categoría","Competición",4,{"$f":"VLOOKUP(E2573,Referencias!$B$4:$C$15,2,FALSE())","v":"SC"},{"$f":"VLOOKUP(C2573,Referencias!$B$18:$C$34,2,FALSE())","v":"M"},"C"]
["2814778","Hernández Santonja, Jorge","Madrileña","C","Sin Categoría","Competición",4,{"$f":"VLOOKUP(E2574,Referencias!$B$4:$C$15,2,FALSE())","v":"SC"},{"$f":"VLOOKUP(C2574,Referencias!$B$18:$C$34,2,FALSE())","v":"M"},"C"]
["2814779","Martínez Chapa, Alvaro","Madrileña","C","Tercera Corazón","Competición",3,{"$f":"VLOOKUP(E2575,Referencias!$B$4:$C$15,2,FALSE())","v":"3C"},{"$f":"VLOOKUP(C2575,Referencias!$B$18:$C$34,2,FALSE())","v":"M"},"C"]
["2814780","Barrera Pérez-Seoane, Isabel","Madrileña","D","Tercera Diamante","Competición",3,{"$f":"VLOOKUP(E2576,Referencias!$B$4:$C$15,2,FALSE())","v":"3D"},{"$f":"VLOOKUP(C2576,Referencias!$B$18:$C$34,2,FALSE())","v":"M"},"C"]
["2814781","Cubillo Rivera, Teresa","Madrileña","D","Sin Categoría","Competición",4,{"$f":"VLOOKUP(E2577,Referencias!$B$4:$C$15,2,FALSE())","v":"SC"},{"$f":"VLOOKUP(C2577,Referencias!$B$18:$C$34,2,FALSE())","v":"M"},"C"]
["2814782","Pardo Serrano, Leopoldo","Madrileña","C","Sin Categoría","Competición",4,{"$f":"VLOOKUP(E2578,Referencias!$B$4:$C$15,2,FALSE())","v":"SC"},{"$f":"VLOOKUP(C2578,Referencias!$B$18:$C$34,2,FALSE())","v":"M"},"C"]
["2814783","Sáez de Ocariz Díaz de Otazu, Lola","Madrileña","D","Sin Categoría","Competición",4,{"$f":"VLOOKUP(E2579,Referencias!$B$4:$C$15,2,FALSE())","v":"SC"},{"$f":"VLOOKUP(C2579,Referencias!$B$18:$C$34,2,FALSE())","v":"M"},"C"]
["2814784","Espinosa de los Monteros, María Eugenía","Madrileña","D","Sin Categoría","Competición",4,{"$f":"VLOOKUP(E2580,Referencias!$B$4:$C$15,2,FALSE())","v":"SC"},{"$f":"VLOOKUP(C2580,Referencias!$B$18:$C$34,2,FALSE())","v":"M"},"C"]
["2814785","Arce Montiel, Carmen","Madrileña","D","Sin Categoría","Competición",4,{"$f":"VLOOKUP(E2581,Referencias!$B$4:$C$15,2,FALSE())","v":"SC"},{"$f":"VLOOKUP(C2581,Referencias!$B$18:$C$34,2,FALSE())","v":"M"},"C"]
["2814786","Rodríguez Olmedilla, Cristina","Madrileña","D","Sin Categoría","Competición",4,{"$f":"VLOOKUP(E2582,Referencias!$B$4:$C$15,2,FALSE())","v":"SC"},{"$f":"VLOOKUP(C2582,Referencias!$B$18:$C$34,2,FALSE())","v":"M"},"C"]
["2814787","Ruiz-Jarabo Ferrán, Emilio","Madrileña","C","Sin Categoría","Competición",4,{"$f":"VLOOKUP(E2583,Referencias!$B$4:$C$15,2,FALSE())","v":"SC"},{"$f":"VLOOKUP(C2583,Referencias!$B$18:$C$34,2,FALSE())","v":"M"},"C"]
["2814789","Marin Riaño, Fernando","Madrileña","C","Sin Categoría","Competición",4,{"$f":"VLOOKUP(E2584,Referencias!$B$4:$C$15,2,FALSE())","v":"SC"},{"$f":"VLOOKUP(C2584,Referencias!$B$18:$C$34,2,FALSE())","v":"M"},"C"]
["2814790","Pérez Marcos, Regina","Madrileña","D","Sin Categoría","Competición",4,{"$f":"VLOOKUP(E2585,Referencias!$B$4:$C$15,2,FALSE())","v":"SC"},{"$f":"VLOOKUP(C2585,Referencias!$B$18:$C$34,2,FALSE())","v":"M"},"C"]
["2814791","Muñoz Jaureguialzo, Irene","Madrileña","D","Sin Categoría","Competición",4,{"$f":"VLOOKUP(E2586,Referencias!$B$4:$C$15,2,FALSE())","v":"SC"},{"$f":"VLOOKUP(C2586,Referencias!$B$18:$C$34,2,FALSE())","v":"M"},"C"]
["2814792","Larsen, Folke","Madrileña","C","Sin Categoría","Competición",4,{"$f":"VLOOKUP(E2587,Referencias!$B$4:$C$15,2,FALSE())","v":"SC"},{"$f":"VLOOKUP(C2587,Referencias!$B$18:$C$34,2,FALSE())","v":"M"},"C"]
["2814793","Barro, Carmen","Madrileña","D","Sin Categoría","Competición",4,{"$f":"VLOOKUP(E2588,Referencias!$B$4:$C$15,2,FALSE())","v":"SC"},{"$f":"VLOOKUP(C2588,Referencias!$B$18:$C$34,2,FALSE())","v":"M"},"C"]
["2814794","Martín, Marta","Madrileña","D","Tercera Picas","Competición",3,{"$f":"VLOOKUP(E2589,Referencias!$B$4:$C$15,2,FALSE())","v":"3P"},{"$f":"VLOOKUP(C2589,Referencias!$B$18:$C$34,2,FALSE())","v":"M"},"C"]
["2814795","Sánchez-Majano Suárez-Llanos, Nieves","Madrileña","D","Sin Categoría","Competición",4,{"$f":"VLOOKUP(E2590,Referencias!$B$4:$C$15,2,FALSE())","v":"SC"},{"$f":"VLOOKUP(C2590,Referencias!$B$18:$C$34,2,FALSE())","v":"M"},"C"]
["2814796","Martínez Lavín, María Fernanda","Madrileña","D","Sin Categoría","Competición",4,{"$f":"VLOOKUP(E2591,Referencias!$B$4:$C$15,2,FALSE())","v":"SC"},{"$f":"VLOOKUP(C2591,Referencias!$B$18:$C$34,2,FALSE())","v":"M"},"C"]
["2814797","Ulla Marguita, Larsen","Madrileña","D","Sin Categoría","Competición",4,{"$f":"VLOOKUP(E2592,Referencias!$B$4:$C$15,2,FALSE())","v":"SC"},{"$f":"VLOOKUP(C2592,Referencias!$B$18:$C$34,2,FALSE())","v":"M"},"C"]
["2814798","García de Ceca Benito, Paloma","Madrileña","D","Sin Categoría","Competición",4,{"$f":"VLOOKUP(E2593,Referencias!$B$4:$C$15,2,FALSE())","v":"SC"},{"$f":"VLOOKUP(C2593,Referencias!$B$18:$C$34,2,FALSE())","v":"M"},"C"]
["2814799","Ansa Urnoz, Uxua","Madrileña","D","Sin Categoría","Competición",4,{"$f":"VLOOKUP(E2594,Referencias!$B$4:$C$15,2,FALSE())","v":"SC"},{"$f":"VLOOKUP(C2594,Referencias!$B$18:$C$34,2,FALSE())","v":"M"},"C"]
["2814800","Cendra Aparicio, Paloma","Madrileña","D","Sin Categoría","Competición",4,{"$f":"VLOOKUP(E2595,Referencias!$B$4:$C$15,2,FALSE())","v":"SC"},{"$f":"VLOOKUP(C2595,Referencias!$B$18:$C$34,2,FALSE())","v":"M"},"C"]
["2814801","Moriano Mallo, Lucia","Madrileña","D","Sin Categoría","Competición",4,{"$f":"VLOOKUP(E2596,Referencias!$B$4:$C$15,2,FALSE())","v":"SC"},{"$f":"VLOOKUP(C2596,Referencias!$B$18:$C$34,2,FALSE())","v":"M"},"C"]
["2814802","Merry del Val Diez de Rivera, Pedro","Madrileña","C","Sin Categoría","Competición",4,{"$f":"VLOOKUP(E2597,Referencias!$B$4:$C$15,2,FALSE())","v":"SC"},{"$f":"VLOOKUP(C2597,Referencias!$B$18:$C$34,2,FALSE())","v":"M"},"C"]
["2814803","Fernández del Castillo Suardiaz, Virginia","Madrileña","D","Sin Categoría","Competición",4,{"$f":"VLOOKUP(E2598,Referencias!$B$4:$C$15,2,FALSE())","v":"SC"},{"$f":"VLOOKUP(C2598,Referencias!$B$18:$C$34,2,FALSE())","v":"M"},"C"]
["2814804","Bauluz Sabras, María Luisa","Madrileña","D","Sin Categoría","Competición",4,{"$f":"VLOOKUP(E2599,Referencias!$B$4:$C$15,2,FALSE())","v":"SC"},{"$f":"VLOOKUP(C2599,Referencias!$B$18:$C$34,2,FALSE())","v":"M"},"C"]
["2814805","Frowein López de Arenosa, Carmen","Madrileña","D","Tercera Picas","Competición",3,{"$f":"VLOOKUP(E2600,Referencias!$B$4:$C$15,2,FALSE())","v":"3P"},{"$f":"VLOOKUP(C2600,Referencias!$B$18:$C$34,2,FALSE())","v":"M"},"C"]
["2814806","Díaz Cremades, Miguel Angel","Madrileña","C","Sin Categoría","Competición",4,{"$f":"VLOOKUP(E2601,Referencias!$B$4:$C$15,2,FALSE())","v":"SC"},{"$f":"VLOOKUP(C2601,Referencias!$B$18:$C$34,2,FALSE())","v":"M"},"C"]
["2814807","García de la Vega Ysasi-Ysasmendi, Mercedes","Madrileña","D","Tercera Corazón","Competición",3,{"$f":"VLOOKUP(E2602,Referencias!$B$4:$C$15,2,FALSE())","v":"3C"},{"$f":"VLOOKUP(C2602,Referencias!$B$18:$C$34,2,FALSE())","v":"M"},"C"]
["2814808","Aparicio Alonso, María Paloma","Madrileña","D","Tercera Picas","Competición",3,{"$f":"VLOOKUP(E2603,Referencias!$B$4:$C$15,2,FALSE())","v":"3P"},{"$f":"VLOOKUP(C2603,Referencias!$B$18:$C$34,2,FALSE())","v":"M"},"C"]
["2814809","García de la Vega Ysasi Ysasmendi, Pachela","Madrileña","D","Tercera Corazón","Competición",3,{"$f":"VLOOKUP(E2604,Referencias!$B$4:$C$15,2,FALSE())","v":"3C"},{"$f":"VLOOKUP(C2604,Referencias!$B$18:$C$34,2,FALSE())","v":"M"},"C"]
["2814811","Igartúa Narvaiza, María Luisa","Madrileña","D","Sin Categoría","Competición",4,{"$f":"VLOOKUP(E2605,Referencias!$B$4:$C$15,2,FALSE())","v":"SC"},{"$f":"VLOOKUP(C2605,Referencias!$B$18:$C$34,2,FALSE())","v":"M"},"C"]
["2814812","Muela Pérez, M. Victoria","Gallega","D","Tercera Picas","Competición",3,{"$f":"VLOOKUP(E2606,Referencias!$B$4:$C$15,2,FALSE())","v":"3P"},{"$f":"VLOOKUP(C2606,Referencias!$B$18:$C$34,2,FALSE())","v":"G"},"C"]
["2814813","García Bergas, Guadalupe","Madrileña","D","Tercera Diamante","Competición",3,{"$f":"VLOOKUP(E2607,Referencias!$B$4:$C$15,2,FALSE())","v":"3D"},{"$f":"VLOOKUP(C2607,Referencias!$B$18:$C$34,2,FALSE())","v":"M"},"C"]
["2814814","Chico de Guzmán Girón, Concepción","Madrileña","D","Sin Categoría","Competición",4,{"$f":"VLOOKUP(E2608,Referencias!$B$4:$C$15,2,FALSE())","v":"SC"},{"$f":"VLOOKUP(C2608,Referencias!$B$18:$C$34,2,FALSE())","v":"M"},"C"]
["2814815","De la Peña, Almudena","Madrileña","D","Tercera Diamante","Competición",3,{"$f":"VLOOKUP(E2609,Referencias!$B$4:$C$15,2,FALSE())","v":"3D"},{"$f":"VLOOKUP(C2609,Referencias!$B$18:$C$34,2,FALSE())","v":"M"},"C"]
["2814816","González-Aller Jurado, Rocío","Madrileña","D","Sin Categoría","Competición",4,{"$f":"VLOOKUP(E2610,Referencias!$B$4:$C$15,2,FALSE())","v":"SC"},{"$f":"VLOOKUP(C2610,Referencias!$B$18:$C$34,2,FALSE())","v":"M"},"C"]
["2814818","Tornos Oliveros, Begoña","Madrileña","D","Sin Categoría","Competición",4,{"$f":"VLOOKUP(E2611,Referencias!$B$4:$C$15,2,FALSE())","v":"SC"},{"$f":"VLOOKUP(C2611,Referencias!$B$18:$C$34,2,FALSE())","v":"M"},"C"]
["2814819","Piñero Dalmau, María Julia","Madrileña","D","Tercera Diamante","Competición",3,{"$f":"VLOOKUP(E2612,Referencias!$B$4:$C$15,2,FALSE())","v":"3D"},{"$f":"VLOOKUP(C2612,Referencias!$B$18:$C$34,2,FALSE())","v":"M"},"C"]
["2814821","Ruiz Castellano, Matilde","Madrileña","D","Tercera Diamante","Competición",3,{"$f":"VLOOKUP(E2613,Referencias!$B$4:$C$15,2,FALSE())","v":"3D"},{"$f":"VLOOKUP(C2613,Referencias!$B$18:$C$34,2,FALSE())","v":"M"},"C"]
["2814822","Lorente Marín, Javier","Madrileña","C","Sin Categoría","Competición",4,{"$f":"VLOOKUP(E2614,Referencias!$B$4:$C$15,2,FALSE())","v":"SC"},{"$f":"VLOOKUP(C2614,Referencias!$B$18:$C$34,2,FALSE())","v":"M"},"C"]
["2814823","Merino Sánz, María Victoria","Madrileña","D","Sin Categoría","Competición",4,{"$f":"VLOOKUP(E2615,Referencias!$B$4:$C$15,2,FALSE())","v":"SC"},{"$f":"VLOOKUP(C2615,Referencias!$B$18:$C$34,2,FALSE())","v":"M"},"C"]
["2814824","Lucena Cuerda, Concha","Madrileña","D","Tercera Diamante","Competición",3,{"$f":"VLOOKUP(E2616,Referencias!$B$4:$C$15,2,FALSE())","v":"3D"},{"$f":"VLOOKUP(C2616,Referencias!$B$18:$C$34,2,FALSE())","v":"M"},"C"]
["2814825","De Olano Moliner, María Jesús","Madrileña","D","Sin Categoría","Competición",4,{"$f":"VLOOKUP(E2617,Referencias!$B$4:$C$15,2,FALSE())","v":"SC"},{"$f":"VLOOKUP(C2617,Referencias!$B$18:$C$34,2,FALSE())","v":"M"},"C"]
["2814826","Redondo Caballero, María del Carmen","Madrileña","D","Sin Categoría","Competición",4,{"$f":"VLOOKUP(E2618,Referencias!$B$4:$C$15,2,FALSE())","v":"SC"},{"$f":"VLOOKUP(C2618,Referencias!$B$18:$C$34,2,FALSE())","v":"M"},"C"]
["2814828","Alonso Fernández, Mª Aurora","Madrileña","D","Sin Categoría","Competición",4,{"$f":"VLOOKUP(E2619,Referencias!$B$4:$C$15,2,FALSE())","v":"SC"},{"$f":"VLOOKUP(C2619,Referencias!$B$18:$C$34,2,FALSE())","v":"M"},"C"]
["2814829","Foulquie Usan, Juan Miguel","Madrileña","C","Tercera Diamante","Competición",3,{"$f":"VLOOKUP(E2620,Referencias!$B$4:$C$15,2,FALSE())","v":"3D"},{"$f":"VLOOKUP(C2620,Referencias!$B$18:$C$34,2,FALSE())","v":"M"},"C"]
["2814830","Chesa Padrón, María Dolores","Madrileña","D","Tercera Diamante","Competición",3,{"$f":"VLOOKUP(E2621,Referencias!$B$4:$C$15,2,FALSE())","v":"3D"},{"$f":"VLOOKUP(C2621,Referencias!$B$18:$C$34,2,FALSE())","v":"M"},"C"]
["2814833","De la Mora Ojanguren, Virginia","Madrileña","D","Sin Categoría","Competición",4,{"$f":"VLOOKUP(E2622,Referencias!$B$4:$C$15,2,FALSE())","v":"SC"},{"$f":"VLOOKUP(C2622,Referencias!$B$18:$C$34,2,FALSE())","v":"M"},"C"]
["2814834","Aresti Múgica, Leonor","Madrileña","D","Tercera Diamante","Competición",3,{"$f":"VLOOKUP(E2623,Referencias!$B$4:$C$15,2,FALSE())","v":"3D"},{"$f":"VLOOKUP(C2623,Referencias!$B$18:$C$34,2,FALSE())","v":"M"},"C"]
["2814835","López-Pedraza del Moral, María José","Madrileña","D","Sin Categoría","Competición",4,{"$f":"VLOOKUP(E2624,Referencias!$B$4:$C$15,2,FALSE())","v":"SC"},{"$f":"VLOOKUP(C2624,Referencias!$B$18:$C$34,2,FALSE())","v":"M"},{"$f":"IF(D2624=\"Dama\",\"D\",\"C\")","v":"C"}]
["2814837","Fernández Rodríguez,, María Jesús","Madrileña","D","Sin Categoría","Competición",4,{"$f":"VLOOKUP(E2625,Referencias!$B$4:$C$15,2,FALSE())","v":"SC"},{"$f":"VLOOKUP(C2625,Referencias!$B$18:$C$34,2,FALSE())","v":"M"},"C"]
["2814838","Cubillo, Mercedes","Madrileña","D","Tercera Picas","Competición",3,{"$f":"VLOOKUP(E2626,Referencias!$B$4:$C$15,2,FALSE())","v":"3P"},{"$f":"VLOOKUP(C2626,Referencias!$B$18:$C$34,2,FALSE())","v":"M"},"C"]
["2814839","Casian, Andrés","Madrileña","C","Tercera Picas","Competición",3,{"$f":"VLOOKUP(E2627,Referencias!$B$4:$C$15,2,FALSE())","v":"3P"},{"$f":"VLOOKUP(C2627,Referencias!$B$18:$C$34,2,FALSE())","v":"M"},"C"]
["2814841","Catalan de Ocon Navarrete, Pilar","Madrileña","D","Sin Categoría","Competición",4,{"$f":"VLOOKUP(E2628,Referencias!$B$4:$C$15,2,FALSE())","v":"SC"},{"$f":"VLOOKUP(C2628,Referencias!$B$18:$C$34,2,FALSE())","v":"M"},"C"]
["2814842","Perez Magariños, Isabel","Madrileña","D","Sin Categoría","Competición",4,{"$f":"VLOOKUP(E2629,Referencias!$B$4:$C$15,2,FALSE())","v":"SC"},{"$f":"VLOOKUP(C2629,Referencias!$B$18:$C$34,2,FALSE())","v":"M"},"C"]
["2814843","Grech Suárez-Blanco, Sonsoles","Madrileña","D","Sin Categoría","Competición",4,{"$f":"VLOOKUP(E2630,Referencias!$B$4:$C$15,2,FALSE())","v":"SC"},{"$f":"VLOOKUP(C2630,Referencias!$B$18:$C$34,2,FALSE())","v":"M"},"C"]
["2814844","Fernandez—Cid Alcolea, María Dolores","Madrileña","D","Sin Categoría","Competición",4,{"$f":"VLOOKUP(E2631,Referencias!$B$4:$C$15,2,FALSE())","v":"SC"},{"$f":"VLOOKUP(C2631,Referencias!$B$18:$C$34,2,FALSE())","v":"M"},"C"]
["2814846","Vaca de Osma Zunzunegui, Ana Isabel","Madrileña","D","Sin Categoría","Competición",4,{"$f":"VLOOKUP(E2632,Referencias!$B$4:$C$15,2,FALSE())","v":"SC"},{"$f":"VLOOKUP(C2632,Referencias!$B$18:$C$34,2,FALSE())","v":"M"},"C"]
["2814847","Palacios Santaella, Javier","Madrileña","C","Tercera Corazón","Competición",3,{"$f":"VLOOKUP(E2633,Referencias!$B$4:$C$15,2,FALSE())","v":"3C"},{"$f":"VLOOKUP(C2633,Referencias!$B$18:$C$34,2,FALSE())","v":"M"},"C"]
["2814848","Olaso Sainz, Jorge José","Madrileña","C","Segunda Diamante","Competición",2,{"$f":"VLOOKUP(E2634,Referencias!$B$4:$C$15,2,FALSE())","v":"2D"},{"$f":"VLOOKUP(C2634,Referencias!$B$18:$C$34,2,FALSE())","v":"M"},"C"]
["2814849","De Lorenzo, Iria","Madrileña","D","Sin Categoría","Junior",4,{"$f":"VLOOKUP(E2635,Referencias!$B$4:$C$15,2,FALSE())","v":"SC"},{"$f":"VLOOKUP(C2635,Referencias!$B$18:$C$34,2,FALSE())","v":"M"},"C"]
["2814850","Churruca Marin, Isabel","Madrileña","D","Sin Categoría","Competición",4,{"$f":"VLOOKUP(E2636,Referencias!$B$4:$C$15,2,FALSE())","v":"SC"},{"$f":"VLOOKUP(C2636,Referencias!$B$18:$C$34,2,FALSE())","v":"M"},"C"]
["2814851","Gonzalez Targhetta, Nieves","Madrileña","D","Sin Categoría","Competición",4,{"$f":"VLOOKUP(E2637,Referencias!$B$4:$C$15,2,FALSE())","v":"SC"},{"$f":"VLOOKUP(C2637,Referencias!$B$18:$C$34,2,FALSE())","v":"M"},"C"]
["2814853","Rua Morte, Elena","Madrileña","D","Tercera Diamante","Competición",3,{"$f":"VLOOKUP(E2638,Referencias!$B$4:$C$15,2,FALSE())","v":"3D"},{"$f":"VLOOKUP(C2638,Referencias!$B$18:$C$34,2,FALSE())","v":"M"},"C"]
["2814854","Guillén Cortés, Joaquin","Madrileña","C","Sin Categoría","Competición",4,{"$f":"VLOOKUP(E2639,Referencias!$B$4:$C$15,2,FALSE())","v":"SC"},{"$f":"VLOOKUP(C2639,Referencias!$B$18:$C$34,2,FALSE())","v":"M"},"C"]
["2814855","Arce Alonso, Sol","Madrileña","D","Tercera Diamante","Competición",3,{"$f":"VLOOKUP(E2640,Referencias!$B$4:$C$15,2,FALSE())","v":"3D"},{"$f":"VLOOKUP(C2640,Referencias!$B$18:$C$34,2,FALSE())","v":"M"},"C"]
["2814856","Roxas Olgado, Marta","Madrileña","D","Sin Categoría","Competición",4,{"$f":"VLOOKUP(E2641,Referencias!$B$4:$C$15,2,FALSE())","v":"SC"},{"$f":"VLOOKUP(C2641,Referencias!$B$18:$C$34,2,FALSE())","v":"M"},"C"]
["2814857","Basabe Armijo, Rosario","Madrileña","D","Sin Categoría","Competición",4,{"$f":"VLOOKUP(E2642,Referencias!$B$4:$C$15,2,FALSE())","v":"SC"},{"$f":"VLOOKUP(C2642,Referencias!$B$18:$C$34,2,FALSE())","v":"M"},"C"]
["2814858","García de la Oliva, José Luis","Madrileña","C","Sin Categoría","Competición",4,{"$f":"VLOOKUP(E2643,Referencias!$B$4:$C$15,2,FALSE())","v":"SC"},{"$f":"VLOOKUP(C2643,Referencias!$B$18:$C$34,2,FALSE())","v":"M"},"C"]
["2814859","Tapia Puche, María Luisa","Madrileña","D","Tercera Diamante","Competición",3,{"$f":"VLOOKUP(E2644,Referencias!$B$4:$C$15,2,FALSE())","v":"3D"},{"$f":"VLOOKUP(C2644,Referencias!$B$18:$C$34,2,FALSE())","v":"M"},"C"]
["2814860","Demmi Fasoli, Graciela","Madrileña","D","Sin Categoría","Competición",4,{"$f":"VLOOKUP(E2645,Referencias!$B$4:$C$15,2,FALSE())","v":"SC"},{"$f":"VLOOKUP(C2645,Referencias!$B$18:$C$34,2,FALSE())","v":"M"},"C"]
["2814861","Sánchez García, José","Madrileña","C","Sin Categoría","Competición",4,{"$f":"VLOOKUP(E2646,Referencias!$B$4:$C$15,2,FALSE())","v":"SC"},{"$f":"VLOOKUP(C2646,Referencias!$B$18:$C$34,2,FALSE())","v":"M"},"C"]
["2814862","Gómez de las Cortinas Moreno de Barreda, Alonso","Madrileña","C","Sin Categoría","Competición",4,{"$f":"VLOOKUP(E2647,Referencias!$B$4:$C$15,2,FALSE())","v":"SC"},{"$f":"VLOOKUP(C2647,Referencias!$B$18:$C$34,2,FALSE())","v":"M"},"C"]
["2814863","Faymann, Antón","Madrileña","C","Tercera Diamante","Competición",3,{"$f":"VLOOKUP(E2648,Referencias!$B$4:$C$15,2,FALSE())","v":"3D"},{"$f":"VLOOKUP(C2648,Referencias!$B$18:$C$34,2,FALSE())","v":"M"},"C"]
["2814864","Herrero Peire, Juan Manuel","Madrileña","C","Segunda Corazón","Competición",2,{"$f":"VLOOKUP(E2649,Referencias!$B$4:$C$15,2,FALSE())","v":"2C"},{"$f":"VLOOKUP(C2649,Referencias!$B$18:$C$34,2,FALSE())","v":"M"},"C"]
["2814865","Iglesias-Sarria Fernández de Navarrete, Cristina","Madrileña","D","Sin Categoría","Competición",4,{"$f":"VLOOKUP(E2650,Referencias!$B$4:$C$15,2,FALSE())","v":"SC"},{"$f":"VLOOKUP(C2650,Referencias!$B$18:$C$34,2,FALSE())","v":"M"},"C"]
["2814866","Enriquez Nistal, Luis","Madrileña","C","Sin Categoría","Competición",4,{"$f":"VLOOKUP(E2651,Referencias!$B$4:$C$15,2,FALSE())","v":"SC"},{"$f":"VLOOKUP(C2651,Referencias!$B$18:$C$34,2,FALSE())","v":"M"},"C"]
["2814867","De Blas Fernández-Fontecha, Antonio","Madrileña","C","Sin Categoría","Competición",4,{"$f":"VLOOKUP(E2652,Referencias!$B$4:$C$15,2,FALSE())","v":"SC"},{"$f":"VLOOKUP(C2652,Referencias!$B$18:$C$34,2,FALSE())","v":"M"},"C"]
["2814868","Zanón Ballesteros, María Ángeles","Madrileña","D","Sin Categoría","Competición",4,{"$f":"VLOOKUP(E2653,Referencias!$B$4:$C$15,2,FALSE())","v":"SC"},{"$f":"VLOOKUP(C2653,Referencias!$B$18:$C$34,2,FALSE())","v":"M"},"C"]
["2814869","Morales Osete, María Teresa","Madrileña","D","Sin Categoría","Competición",4,{"$f":"VLOOKUP(E2654,Referencias!$B$4:$C$15,2,FALSE())","v":"SC"},{"$f":"VLOOKUP(C2654,Referencias!$B$18:$C$34,2,FALSE())","v":"M"},"C"]
["2814870","Dobao Fraile, María Victoria","Madrileña","D","Tercera Diamante","Competición",3,{"$f":"VLOOKUP(E2655,Referencias!$B$4:$C$15,2,FALSE())","v":"3D"},{"$f":"VLOOKUP(C2655,Referencias!$B$18:$C$34,2,FALSE())","v":"M"},"C"]
["2814871","Ligués Creus, Leonardo","Madrileña","C","Sin Categoría","Competición",4,{"$f":"VLOOKUP(E2656,Referencias!$B$4:$C$15,2,FALSE())","v":"SC"},{"$f":"VLOOKUP(C2656,Referencias!$B$18:$C$34,2,FALSE())","v":"M"},"C"]
["2814872","Núnez-Arenas Blat, Alfonso","Madrileña","C","Sin Categoría","Competición",4,{"$f":"VLOOKUP(E2657,Referencias!$B$4:$C$15,2,FALSE())","v":"SC"},{"$f":"VLOOKUP(C2657,Referencias!$B$18:$C$34,2,FALSE())","v":"M"},"C"]
["2814874","García Parames, Francisco","Madrileña","C","Sin Categoría","Competición",4,{"$f":"VLOOKUP(E2658,Referencias!$B$4:$C$15,2,FALSE())","v":"SC"},{"$f":"VLOOKUP(C2658,Referencias!$B$18:$C$34,2,FALSE())","v":"M"},"C"]
["2814878","Mendioroz Jauge, Ricardo","Madrileña","C","Sin Categoría","Competición",4,{"$f":"VLOOKUP(E2659,Referencias!$B$4:$C$15,2,FALSE())","v":"SC"},{"$f":"VLOOKUP(C2659,Referencias!$B$18:$C$34,2,FALSE())","v":"M"},"C"]
["2814879","Ruiz Castell, Luis","Madrileña","C","Sin Categoría","Competición",4,{"$f":"VLOOKUP(E2660,Referencias!$B$4:$C$15,2,FALSE())","v":"SC"},{"$f":"VLOOKUP(C2660,Referencias!$B$18:$C$34,2,FALSE())","v":"M"},"C"]
["2814880","Orain, Guy","Madrileña","C","Sin Categoría","Competición",4,{"$f":"VLOOKUP(E2661,Referencias!$B$4:$C$15,2,FALSE())","v":"SC"},{"$f":"VLOOKUP(C2661,Referencias!$B$18:$C$34,2,FALSE())","v":"M"},"C"]
["2814882","Espinosa de los Monteros Jáudenes, Eugenio","Madrileña","C","Sin Categoría","Competición",4,{"$f":"VLOOKUP(E2662,Referencias!$B$4:$C$15,2,FALSE())","v":"SC"},{"$f":"VLOOKUP(C2662,Referencias!$B$18:$C$34,2,FALSE())","v":"M"},"C"]
["2814883","Rodríguez Marizcurrena, Gonzalo","Madrileña","C","Sin Categoría","Competición",4,{"$f":"VLOOKUP(E2663,Referencias!$B$4:$C$15,2,FALSE())","v":"SC"},{"$f":"VLOOKUP(C2663,Referencias!$B$18:$C$34,2,FALSE())","v":"M"},"C"]
["2814884","Bejar Ochoa, María José","Madrileña","D","Sin Categoría","Competición",4,{"$f":"VLOOKUP(E2664,Referencias!$B$4:$C$15,2,FALSE())","v":"SC"},{"$f":"VLOOKUP(C2664,Referencias!$B$18:$C$34,2,FALSE())","v":"M"},"C"]
["2814885","García  Maite, Antonio","Madrileña","C","Sin Categoría","Competición",4,{"$f":"VLOOKUP(E2665,Referencias!$B$4:$C$15,2,FALSE())","v":"SC"},{"$f":"VLOOKUP(C2665,Referencias!$B$18:$C$34,2,FALSE())","v":"M"},"C"]
["2814886","Bellas López, Sara","Madrileña","D","Sin Categoría","Competición",4,{"$f":"VLOOKUP(E2666,Referencias!$B$4:$C$15,2,FALSE())","v":"SC"},{"$f":"VLOOKUP(C2666,Referencias!$B$18:$C$34,2,FALSE())","v":"M"},"C"]
["2814887","Aguado del Corral, Blanca","Madrileña","D","Sin Categoría","Competición",4,{"$f":"VLOOKUP(E2667,Referencias!$B$4:$C$15,2,FALSE())","v":"SC"},{"$f":"VLOOKUP(C2667,Referencias!$B$18:$C$34,2,FALSE())","v":"M"},"C"]
["2814888","Merino Castells, Teresa","Madrileña","D","Tercera Corazón","Competición",3,{"$f":"VLOOKUP(E2668,Referencias!$B$4:$C$15,2,FALSE())","v":"3C"},{"$f":"VLOOKUP(C2668,Referencias!$B$18:$C$34,2,FALSE())","v":"M"},"C"]
["2814889","Rios Pérez, Calixto","Madrileña","C","Sin Categoría","Competición",4,{"$f":"VLOOKUP(E2669,Referencias!$B$4:$C$15,2,FALSE())","v":"SC"},{"$f":"VLOOKUP(C2669,Referencias!$B$18:$C$34,2,FALSE())","v":"M"},"C"]
["2814890","Feuillet Vinualez, Valérie","Madrileña","D","Tercera Diamante","Competición",3,{"$f":"VLOOKUP(E2670,Referencias!$B$4:$C$15,2,FALSE())","v":"3D"},{"$f":"VLOOKUP(C2670,Referencias!$B$18:$C$34,2,FALSE())","v":"M"},"C"]
["2814891","Múgica Inciarte, Teresa","Madrileña","D","Sin Categoría","Competición",4,{"$f":"VLOOKUP(E2671,Referencias!$B$4:$C$15,2,FALSE())","v":"SC"},{"$f":"VLOOKUP(C2671,Referencias!$B$18:$C$34,2,FALSE())","v":"M"},"C"]
["2814892","Múgica Inciarte, Marta","Madrileña","D","Sin Categoría","Competición",4,{"$f":"VLOOKUP(E2672,Referencias!$B$4:$C$15,2,FALSE())","v":"SC"},{"$f":"VLOOKUP(C2672,Referencias!$B$18:$C$34,2,FALSE())","v":"M"},"C"]
["2814893","Porres López, Elvira","Madrileña","D","Tercera Diamante","Competición",3,{"$f":"VLOOKUP(E2673,Referencias!$B$4:$C$15,2,FALSE())","v":"3D"},{"$f":"VLOOKUP(C2673,Referencias!$B$18:$C$34,2,FALSE())","v":"M"},"C"]
["2814894","García-Nieto Porta, María Eugenia","Madrileña","D","Sin Categoría","Competición",4,{"$f":"VLOOKUP(E2674,Referencias!$B$4:$C$15,2,FALSE())","v":"SC"},{"$f":"VLOOKUP(C2674,Referencias!$B$18:$C$34,2,FALSE())","v":"M"},"C"]
["2814895","Morales-Arce Crespi de Valldaura, Manuel","Madrileña","C","Sin Categoría","Competición",4,{"$f":"VLOOKUP(E2675,Referencias!$B$4:$C$15,2,FALSE())","v":"SC"},{"$f":"VLOOKUP(C2675,Referencias!$B$18:$C$34,2,FALSE())","v":"M"},"C"]
["2814897","Rodriguez Inciarte, Matias","Madrileña","C","Sin Categoría","Competición",4,{"$f":"VLOOKUP(E2676,Referencias!$B$4:$C$15,2,FALSE())","v":"SC"},{"$f":"VLOOKUP(C2676,Referencias!$B$18:$C$34,2,FALSE())","v":"M"},"C"]
["2814898","Vidal Verdia, Daniel","Madrileña","C","Tercera Diamante","Competición",3,{"$f":"VLOOKUP(E2677,Referencias!$B$4:$C$15,2,FALSE())","v":"3D"},{"$f":"VLOOKUP(C2677,Referencias!$B$18:$C$34,2,FALSE())","v":"M"},"C"]
["2814899","Diz Acero, Fernanda","Madrileña","D","Sin Categoría","Competición",4,{"$f":"VLOOKUP(E2678,Referencias!$B$4:$C$15,2,FALSE())","v":"SC"},{"$f":"VLOOKUP(C2678,Referencias!$B$18:$C$34,2,FALSE())","v":"M"},"C"]
["2814900","Sánchez-Lozano Moreno, Fatima","Madrileña","D","Sin Categoría","Competición",4,{"$f":"VLOOKUP(E2679,Referencias!$B$4:$C$15,2,FALSE())","v":"SC"},{"$f":"VLOOKUP(C2679,Referencias!$B$18:$C$34,2,FALSE())","v":"M"},"C"]
["2814901","Valle Vacas, Yolanda","Madrileña","D","Sin Categoría","Competición",4,{"$f":"VLOOKUP(E2680,Referencias!$B$4:$C$15,2,FALSE())","v":"SC"},{"$f":"VLOOKUP(C2680,Referencias!$B$18:$C$34,2,FALSE())","v":"M"},"C"]
["2814902","Benevides Salas, Ignacio","Madrileña","C","Sin Categoría","Competición",4,{"$f":"VLOOKUP(E2681,Referencias!$B$4:$C$15,2,FALSE())","v":"SC"},{"$f":"VLOOKUP(C2681,Referencias!$B$18:$C$34,2,FALSE())","v":"M"},"C"]
["2814903","Albritton Moulton, Anne","Madrileña","D","Sin Categoría","Competición",4,{"$f":"VLOOKUP(E2682,Referencias!$B$4:$C$15,2,FALSE())","v":"SC"},{"$f":"VLOOKUP(C2682,Referencias!$B$18:$C$34,2,FALSE())","v":"M"},"C"]
["2814904","Vassallo Castells, Alberto","Madrileña","C","Sin Categoría","Junior",4,{"$f":"VLOOKUP(E2683,Referencias!$B$4:$C$15,2,FALSE())","v":"SC"},{"$f":"VLOOKUP(C2683,Referencias!$B$18:$C$34,2,FALSE())","v":"M"},"C"]
["2814905","Sánchez -Catalejo López, Maria Teresa","Madrileña","D","Sin Categoría","Competición",4,{"$f":"VLOOKUP(E2684,Referencias!$B$4:$C$15,2,FALSE())","v":"SC"},{"$f":"VLOOKUP(C2684,Referencias!$B$18:$C$34,2,FALSE())","v":"M"},"C"]
["2814906","Francés Pumarada, Georgina","Madrileña","D","Sin Categoría","Competición",4,{"$f":"VLOOKUP(E2685,Referencias!$B$4:$C$15,2,FALSE())","v":"SC"},{"$f":"VLOOKUP(C2685,Referencias!$B$18:$C$34,2,FALSE())","v":"M"},"C"]
["2814907","Zuñiga López, Inmaculada","Madrileña","D","Sin Categoría","Competición",4,{"$f":"VLOOKUP(E2686,Referencias!$B$4:$C$15,2,FALSE())","v":"SC"},{"$f":"VLOOKUP(C2686,Referencias!$B$18:$C$34,2,FALSE())","v":"M"},"C"]
["2814908","Martinez Montes, Ana María","Madrileña","D","Sin Categoría","Competición",4,{"$f":"VLOOKUP(E2687,Referencias!$B$4:$C$15,2,FALSE())","v":"SC"},{"$f":"VLOOKUP(C2687,Referencias!$B$18:$C$34,2,FALSE())","v":"M"},"C"]
["2814909","Muro Santiago, Ana","Madrileña","D","Sin Categoría","Competición",4,{"$f":"VLOOKUP(E2688,Referencias!$B$4:$C$15,2,FALSE())","v":"SC"},{"$f":"VLOOKUP(C2688,Referencias!$B$18:$C$34,2,FALSE())","v":"M"},{"$f":"IF(D2688=\"Dama\",\"D\",\"C\")","v":"C"}]
["2814910","Garcia de Oteyza Ballester, Esperanza","Madrileña",null,"Sin Categoría","Competición",4,{"$f":"VLOOKUP(E2689,Referencias!$B$4:$C$15,2,FALSE())","v":"SC"},{"$f":"VLOOKUP(C2689,Referencias!$B$18:$C$34,2,FALSE())","v":"M"},"C"]
["2814911","Garcia de Oteyza Ballester, Fatima","Madrileña",null,"Tercera Diamante","Competición",3,{"$f":"VLOOKUP(E2690,Referencias!$B$4:$C$15,2,FALSE())","v":"3D"},{"$f":"VLOOKUP(C2690,Referencias!$B$18:$C$34,2,FALSE())","v":"M"},"C"]
["2814912","Pérez-Durias, Adela","Madrileña","D","Sin Categoría","Competición",4,{"$f":"VLOOKUP(E2691,Referencias!$B$4:$C$15,2,FALSE())","v":"SC"},{"$f":"VLOOKUP(C2691,Referencias!$B$18:$C$34,2,FALSE())","v":"M"},"C"]
["2814913","Cordón Plaza, Carmen","Madrileña","D","Sin Categoría","Competición",4,{"$f":"VLOOKUP(E2692,Referencias!$B$4:$C$15,2,FALSE())","v":"SC"},{"$f":"VLOOKUP(C2692,Referencias!$B$18:$C$34,2,FALSE())","v":"M"},"C"]
["2814914","Diaz de Bustamante, Belen","Madrileña","D","Sin Categoría","Competición",4,{"$f":"VLOOKUP(E2693,Referencias!$B$4:$C$15,2,FALSE())","v":"SC"},{"$f":"VLOOKUP(C2693,Referencias!$B$18:$C$34,2,FALSE())","v":"M"},"C"]
["2814915","Gavrik, Olga","Madrileña","D","Sin Categoría","Competición",4,{"$f":"VLOOKUP(E2694,Referencias!$B$4:$C$15,2,FALSE())","v":"SC"},{"$f":"VLOOKUP(C2694,Referencias!$B$18:$C$34,2,FALSE())","v":"M"},"C"]
["2814916","García de Oteyza Ballester, Mª Teresa","Madrileña","D","Sin Categoría","Competición",4,{"$f":"VLOOKUP(E2695,Referencias!$B$4:$C$15,2,FALSE())","v":"SC"},{"$f":"VLOOKUP(C2695,Referencias!$B$18:$C$34,2,FALSE())","v":"M"},"C"]
["2814917","Gareze Herrero, Carlos","Madrileña",null,"Sin Categoría","Competición",4,{"$f":"VLOOKUP(E2696,Referencias!$B$4:$C$15,2,FALSE())","v":"SC"},{"$f":"VLOOKUP(C2696,Referencias!$B$18:$C$34,2,FALSE())","v":"M"},"C"]
["2814918","Azqueta Churruca, Carmen","Madrileña",null,"Sin Categoría","Competición",4,{"$f":"VLOOKUP(E2697,Referencias!$B$4:$C$15,2,FALSE())","v":"SC"},{"$f":"VLOOKUP(C2697,Referencias!$B$18:$C$34,2,FALSE())","v":"M"},"C"]
["2814919","Gomez Miguel , Jose Manuel","Madrileña",null,"Sin Categoría","Competición",4,{"$f":"VLOOKUP(E2698,Referencias!$B$4:$C$15,2,FALSE())","v":"SC"},{"$f":"VLOOKUP(C2698,Referencias!$B$18:$C$34,2,FALSE())","v":"M"},"C"]
["2814920","Niharra Martín, José Ignacio","Madrileña",null,"Sin Categoría","Competición",4,{"$f":"VLOOKUP(E2699,Referencias!$B$4:$C$15,2,FALSE())","v":"SC"},{"$f":"VLOOKUP(C2699,Referencias!$B$18:$C$34,2,FALSE())","v":"M"},"C"]
["2814921","Olias Jarava, Belen","Madrileña","D","Sin Categoría","Competición",4,{"$f":"VLOOKUP(E2700,Referencias!$B$4:$C$15,2,FALSE())","v":"SC"},{"$f":"VLOOKUP(C2700,Referencias!$B$18:$C$34,2,FALSE())","v":"M"},"C"]
["2814922","Sánchez Velasco, Blanca","Madrileña","D","Sin Categoría","Competición",4,{"$f":"VLOOKUP(E2701,Referencias!$B$4:$C$15,2,FALSE())","v":"SC"},{"$f":"VLOOKUP(C2701,Referencias!$B$18:$C$34,2,FALSE())","v":"M"},"C"]
["2814923","Gonçalves Pereira, Paulo","Madrileña","C","Primera Picas","Competición",1,{"$f":"VLOOKUP(E2702,Referencias!$B$4:$C$15,2,FALSE())","v":"1P"},{"$f":"VLOOKUP(C2702,Referencias!$B$18:$C$34,2,FALSE())","v":"M"},"C"]
["2814924","Rupérez Pérez, Benjamin","Madrileña","C","Sin Categoría","Competición",4,{"$f":"VLOOKUP(E2703,Referencias!$B$4:$C$15,2,FALSE())","v":"SC"},{"$f":"VLOOKUP(C2703,Referencias!$B$18:$C$34,2,FALSE())","v":"M"},"C"]
["2814925","Alonso Fernández, Juan Aurelio","Madrileña","C","Sin Categoría","Competición",4,{"$f":"VLOOKUP(E2704,Referencias!$B$4:$C$15,2,FALSE())","v":"SC"},{"$f":"VLOOKUP(C2704,Referencias!$B$18:$C$34,2,FALSE())","v":"M"},"C"]
["2814926","Martín Puerta,  María José","Madrileña","D","Sin Categoría","Competición",4,{"$f":"VLOOKUP(E2705,Referencias!$B$4:$C$15,2,FALSE())","v":"SC"},{"$f":"VLOOKUP(C2705,Referencias!$B$18:$C$34,2,FALSE())","v":"M"},"C"]
["2814927","Puig Montserrat, Pedro","Madrileña","C","Sin Categoría","Competición",4,{"$f":"VLOOKUP(E2706,Referencias!$B$4:$C$15,2,FALSE())","v":"SC"},{"$f":"VLOOKUP(C2706,Referencias!$B$18:$C$34,2,FALSE())","v":"M"},"C"]
["2814928","Garcia de la Vega Ysasi-Ysasmendi, Paloma","Madrileña","D","Sin Categoría","Competición",4,{"$f":"VLOOKUP(E2707,Referencias!$B$4:$C$15,2,FALSE())","v":"SC"},{"$f":"VLOOKUP(C2707,Referencias!$B$18:$C$34,2,FALSE())","v":"M"},"C"]
["2814929","de Cardona, Duque","Madrileña","C","Sin Categoría","Competición",4,{"$f":"VLOOKUP(E2708,Referencias!$B$4:$C$15,2,FALSE())","v":"SC"},{"$f":"VLOOKUP(C2708,Referencias!$B$18:$C$34,2,FALSE())","v":"M"},"C"]
["2815510","Pidal Vives, Agatha","Madrileña","D","Primera Picas","Competición",1,{"$f":"VLOOKUP(E2709,Referencias!$B$4:$C$15,2,FALSE())","v":"1P"},{"$f":"VLOOKUP(C2709,Referencias!$B$18:$C$34,2,FALSE())","v":"M"},"C"]
["2961186","Chaudhuri, Amit","Andaluza","C","Segunda Picas","Competición",2,{"$f":"VLOOKUP(E2710,Referencias!$B$4:$C$15,2,FALSE())","v":"2P"},{"$f":"VLOOKUP(C2710,Referencias!$B$18:$C$34,2,FALSE())","v":"A"},"C"]
["2961269","Bjerre, Troels","Andaluza","C","Sin Categoría","Competición",4,{"$f":"VLOOKUP(E2711,Referencias!$B$4:$C$15,2,FALSE())","v":"SC"},{"$f":"VLOOKUP(C2711,Referencias!$B$18:$C$34,2,FALSE())","v":"A"},"C"]
["2961364","Engstrom, Eva","Andaluza","D","Sin Categoría","Competición",4,{"$f":"VLOOKUP(E2712,Referencias!$B$4:$C$15,2,FALSE())","v":"SC"},{"$f":"VLOOKUP(C2712,Referencias!$B$18:$C$34,2,FALSE())","v":"A"},"C"]
["2961406","Taylor, Christopher","Andaluza","C","Sin Categoría","Competición",4,{"$f":"VLOOKUP(E2713,Referencias!$B$4:$C$15,2,FALSE())","v":"SC"},{"$f":"VLOOKUP(C2713,Referencias!$B$18:$C$34,2,FALSE())","v":"A"},"C"]
["2961540","Preetzmann-Aggerholm, Per","Andaluza","C","Sin Categoría","Competición",4,{"$f":"VLOOKUP(E2714,Referencias!$B$4:$C$15,2,FALSE())","v":"SC"},{"$f":"VLOOKUP(C2714,Referencias!$B$18:$C$34,2,FALSE())","v":"A"},"C"]
["2961541","Dyrup, Charlotte","Andaluza","D","Sin Categoría","Competición",4,{"$f":"VLOOKUP(E2715,Referencias!$B$4:$C$15,2,FALSE())","v":"SC"},{"$f":"VLOOKUP(C2715,Referencias!$B$18:$C$34,2,FALSE())","v":"A"},"C"]
["2961580","Fagan Kanmar, Birthe","Andaluza","C","Sin Categoría","Competición",4,{"$f":"VLOOKUP(E2716,Referencias!$B$4:$C$15,2,FALSE())","v":"SC"},{"$f":"VLOOKUP(C2716,Referencias!$B$18:$C$34,2,FALSE())","v":"A"},"C"]
["2961652","Alvarez-Ossorio Serrano, Margarita","Andaluza","D","Sin Categoría","Competición",4,{"$f":"VLOOKUP(E2717,Referencias!$B$4:$C$15,2,FALSE())","v":"SC"},{"$f":"VLOOKUP(C2717,Referencias!$B$18:$C$34,2,FALSE())","v":"A"},"C"]
["2961680","Gadol, Henri","Andaluza","C","Sin Categoría","Competición",4,{"$f":"VLOOKUP(E2718,Referencias!$B$4:$C$15,2,FALSE())","v":"SC"},{"$f":"VLOOKUP(C2718,Referencias!$B$18:$C$34,2,FALSE())","v":"A"},"C"]
["2961681","Gadol, Patricia","Andaluza","D","Sin Categoría","Competición",4,{"$f":"VLOOKUP(E2719,Referencias!$B$4:$C$15,2,FALSE())","v":"SC"},{"$f":"VLOOKUP(C2719,Referencias!$B$18:$C$34,2,FALSE())","v":"A"},"C"]
["2961694","Aizpurua Garzón, Mª Isabel","Andaluza","D","Tercera Diamante","Competición",3,{"$f":"VLOOKUP(E2720,Referencias!$B$4:$C$15,2,FALSE())","v":"3D"},{"$f":"VLOOKUP(C2720,Referencias!$B$18:$C$34,2,FALSE())","v":"A"},"C"]
["2961725","Trevor, Wilson","Andaluza","C","Sin Categoría","Competición",4,{"$f":"VLOOKUP(E2721,Referencias!$B$4:$C$15,2,FALSE())","v":"SC"},{"$f":"VLOOKUP(C2721,Referencias!$B$18:$C$34,2,FALSE())","v":"A"},"C"]
["2961728","Sánz Marcelo, Jorge","Andaluza","C","Sin Categoría","Competición",4,{"$f":"VLOOKUP(E2722,Referencias!$B$4:$C$15,2,FALSE())","v":"SC"},{"$f":"VLOOKUP(C2722,Referencias!$B$18:$C$34,2,FALSE())","v":"A"},"C"]
["2961729","De Briones Segovia, Alicia","Andaluza","D","Sin Categoría","Competición",4,{"$f":"VLOOKUP(E2723,Referencias!$B$4:$C$15,2,FALSE())","v":"SC"},{"$f":"VLOOKUP(C2723,Referencias!$B$18:$C$34,2,FALSE())","v":"A"},"C"]
["2961754","Lambrot, Jean Paul","Andaluza","C","Tercera Picas","Competición",3,{"$f":"VLOOKUP(E2724,Referencias!$B$4:$C$15,2,FALSE())","v":"3P"},{"$f":"VLOOKUP(C2724,Referencias!$B$18:$C$34,2,FALSE())","v":"A"},"C"]
["2961761","Abecasis, Amanda","Andaluza","D","Tercera Picas","Competición",3,{"$f":"VLOOKUP(E2725,Referencias!$B$4:$C$15,2,FALSE())","v":"3P"},{"$f":"VLOOKUP(C2725,Referencias!$B$18:$C$34,2,FALSE())","v":"A"},"C"]
["2961763","Johne, Gabriela","Andaluza","D","Sin Categoría","Competición",4,{"$f":"VLOOKUP(E2726,Referencias!$B$4:$C$15,2,FALSE())","v":"SC"},{"$f":"VLOOKUP(C2726,Referencias!$B$18:$C$34,2,FALSE())","v":"A"},"C"]
["2961766","Taminiau, Bernardina","Andaluza","D","Tercera Corazón","Competición",3,{"$f":"VLOOKUP(E2727,Referencias!$B$4:$C$15,2,FALSE())","v":"3C"},{"$f":"VLOOKUP(C2727,Referencias!$B$18:$C$34,2,FALSE())","v":"A"},"C"]
["2961767","Paton, Robin","Andaluza","C","Tercera Picas","Competición",3,{"$f":"VLOOKUP(E2728,Referencias!$B$4:$C$15,2,FALSE())","v":"3P"},{"$f":"VLOOKUP(C2728,Referencias!$B$18:$C$34,2,FALSE())","v":"A"},"C"]
["2961768","Robinson, Sue","Andaluza","D","Sin Categoría","Competición",4,{"$f":"VLOOKUP(E2729,Referencias!$B$4:$C$15,2,FALSE())","v":"SC"},{"$f":"VLOOKUP(C2729,Referencias!$B$18:$C$34,2,FALSE())","v":"A"},"C"]
["2961769","Taminiau, Wilhelmus","Andaluza","C","Sin Categoría","Competición",4,{"$f":"VLOOKUP(E2730,Referencias!$B$4:$C$15,2,FALSE())","v":"SC"},{"$f":"VLOOKUP(C2730,Referencias!$B$18:$C$34,2,FALSE())","v":"A"},"C"]
["2961772","Mono, Roy","Andaluza","C","Sin Categoría","Competición",4,{"$f":"VLOOKUP(E2731,Referencias!$B$4:$C$15,2,FALSE())","v":"SC"},{"$f":"VLOOKUP(C2731,Referencias!$B$18:$C$34,2,FALSE())","v":"A"},"C"]
["2961773","Pollak, Evelyn","Andaluza","C","Sin Categoría","Competición",4,{"$f":"VLOOKUP(E2732,Referencias!$B$4:$C$15,2,FALSE())","v":"SC"},{"$f":"VLOOKUP(C2732,Referencias!$B$18:$C$34,2,FALSE())","v":"A"},"C"]
["2961774","Bettag, Birgit Maria","Andaluza","D","Sin Categoría","Competición",4,{"$f":"VLOOKUP(E2733,Referencias!$B$4:$C$15,2,FALSE())","v":"SC"},{"$f":"VLOOKUP(C2733,Referencias!$B$18:$C$34,2,FALSE())","v":"A"},"C"]
["2961775","Van Dam, Cornelius","Andaluza","C","Sin Categoría","Competición",4,{"$f":"VLOOKUP(E2734,Referencias!$B$4:$C$15,2,FALSE())","v":"SC"},{"$f":"VLOOKUP(C2734,Referencias!$B$18:$C$34,2,FALSE())","v":"A"},"C"]
["2961776","Requejo Aedo, Carmina","Andaluza","D","Tercera Corazón","Competición",3,{"$f":"VLOOKUP(E2735,Referencias!$B$4:$C$15,2,FALSE())","v":"3C"},{"$f":"VLOOKUP(C2735,Referencias!$B$18:$C$34,2,FALSE())","v":"A"},"C"]
["3004054","Fermín Corchero, Jesús","Murciana","C","Primera Corazón","Competición",1,{"$f":"VLOOKUP(E2736,Referencias!$B$4:$C$15,2,FALSE())","v":"1C"},{"$f":"VLOOKUP(C2736,Referencias!$B$18:$C$34,2,FALSE())","v":"MU"},"C"]
["3004612","Corchero Méndez, Isabel","Murciana","D","Sin Categoría","Competición",4,{"$f":"VLOOKUP(E2737,Referencias!$B$4:$C$15,2,FALSE())","v":"SC"},{"$f":"VLOOKUP(C2737,Referencias!$B$18:$C$34,2,FALSE())","v":"MU"},"C"]
["3004938","Herrero Londres, Rosa María","Murciana","D","Segunda Picas","Competición",2,{"$f":"VLOOKUP(E2738,Referencias!$B$4:$C$15,2,FALSE())","v":"2P"},{"$f":"VLOOKUP(C2738,Referencias!$B$18:$C$34,2,FALSE())","v":"MU"},"C"]
["3105002","Orue Lecue, Maite","Navarra","D","Sin Categoría","Competición",4,{"$f":"VLOOKUP(E2739,Referencias!$B$4:$C$15,2,FALSE())","v":"SC"},{"$f":"VLOOKUP(C2739,Referencias!$B$18:$C$34,2,FALSE())","v":"N"},"C"]
["3105003","Mina Apat, Sagrario","Navarra","D","Sin Categoría","Competición",4,{"$f":"VLOOKUP(E2740,Referencias!$B$4:$C$15,2,FALSE())","v":"SC"},{"$f":"VLOOKUP(C2740,Referencias!$B$18:$C$34,2,FALSE())","v":"N"},"C"]
["3105005","García Mina Tuero, Fernando","Navarra","C","Sin Categoría","Competición",4,{"$f":"VLOOKUP(E2741,Referencias!$B$4:$C$15,2,FALSE())","v":"SC"},{"$f":"VLOOKUP(C2741,Referencias!$B$18:$C$34,2,FALSE())","v":"N"},"C"]
["3105015","Alegre Bosch, Carmen","Navarra","D","Sin Categoría","Competición",4,{"$f":"VLOOKUP(E2742,Referencias!$B$4:$C$15,2,FALSE())","v":"SC"},{"$f":"VLOOKUP(C2742,Referencias!$B$18:$C$34,2,FALSE())","v":"N"},"C"]
["3105017","Martínez de Azagra Irujo, Mª Dolores","Navarra","D","Sin Categoría","Competición",4,{"$f":"VLOOKUP(E2743,Referencias!$B$4:$C$15,2,FALSE())","v":"SC"},{"$f":"VLOOKUP(C2743,Referencias!$B$18:$C$34,2,FALSE())","v":"N"},"C"]
["3105025","Elizari Garayoa, Mª Nieves","Navarra","D","Sin Categoría","Competición",4,{"$f":"VLOOKUP(E2744,Referencias!$B$4:$C$15,2,FALSE())","v":"SC"},{"$f":"VLOOKUP(C2744,Referencias!$B$18:$C$34,2,FALSE())","v":"N"},"C"]
["3105026","Konyay, Esteban","Navarra","C","Tercera Picas","Competición",3,{"$f":"VLOOKUP(E2745,Referencias!$B$4:$C$15,2,FALSE())","v":"3P"},{"$f":"VLOOKUP(C2745,Referencias!$B$18:$C$34,2,FALSE())","v":"N"},"C"]
["3105029","San Martín Urdaniz, Mª Eugenia","Navarra","D","Sin Categoría","Competición",4,{"$f":"VLOOKUP(E2746,Referencias!$B$4:$C$15,2,FALSE())","v":"SC"},{"$f":"VLOOKUP(C2746,Referencias!$B$18:$C$34,2,FALSE())","v":"N"},"C"]
["3105030","Franquet Casas, Carmen María","Navarra","D","Sin Categoría","Competición",4,{"$f":"VLOOKUP(E2747,Referencias!$B$4:$C$15,2,FALSE())","v":"SC"},{"$f":"VLOOKUP(C2747,Referencias!$B$18:$C$34,2,FALSE())","v":"N"},"C"]
["3105031","Martinicorena Beruete, Santiago","Navarra","C","Sin Categoría","Competición",4,{"$f":"VLOOKUP(E2748,Referencias!$B$4:$C$15,2,FALSE())","v":"SC"},{"$f":"VLOOKUP(C2748,Referencias!$B$18:$C$34,2,FALSE())","v":"N"},"C"]
["3105032","Navarro Ochoa, Victoria","Riojana","D","Tercera Diamante","Competición",3,{"$f":"VLOOKUP(E2749,Referencias!$B$4:$C$15,2,FALSE())","v":"3D"},{"$f":"VLOOKUP(C2749,Referencias!$B$18:$C$34,2,FALSE())","v":"R"},"C"]
["3105033","Ruiz de Alda de Carlos, Maria Puy","Navarra","D","Sin Categoría","Competición",4,{"$f":"VLOOKUP(E2750,Referencias!$B$4:$C$15,2,FALSE())","v":"SC"},{"$f":"VLOOKUP(C2750,Referencias!$B$18:$C$34,2,FALSE())","v":"N"},"C"]
["3105034","Garisoain , Alicia","Navarra","D","Sin Categoría","Competición",4,{"$f":"VLOOKUP(E2751,Referencias!$B$4:$C$15,2,FALSE())","v":"SC"},{"$f":"VLOOKUP(C2751,Referencias!$B$18:$C$34,2,FALSE())","v":"N"},"C"]
["3105035","Martinicorena Beruete, Angelina","Navarra","D","Sin Categoría","Competición",4,{"$f":"VLOOKUP(E2752,Referencias!$B$4:$C$15,2,FALSE())","v":"SC"},{"$f":"VLOOKUP(C2752,Referencias!$B$18:$C$34,2,FALSE())","v":"N"},{"$f":"IF(D2752=\"Dama\",\"D\",\"C\")","v":"C"}]
["3105201","Amorena de Frauca, Mercedes","Navarra","D","Sin Categoría","Competición",4,{"$f":"VLOOKUP(E2753,Referencias!$B$4:$C$15,2,FALSE())","v":"SC"},{"$f":"VLOOKUP(C2753,Referencias!$B$18:$C$34,2,FALSE())","v":"N"},"C"]
["3105210","Alzugaray de Huarte, Blanca","Navarra","D","Tercera Picas","Competición",3,{"$f":"VLOOKUP(E2754,Referencias!$B$4:$C$15,2,FALSE())","v":"3P"},{"$f":"VLOOKUP(C2754,Referencias!$B$18:$C$34,2,FALSE())","v":"N"},"C"]
["3231084","Vázquez Gómez, Placi","Gallega","C","Sin Categoría","Competición",4,{"$f":"VLOOKUP(E2755,Referencias!$B$4:$C$15,2,FALSE())","v":"SC"},{"$f":"VLOOKUP(C2755,Referencias!$B$18:$C$34,2,FALSE())","v":"G"},"C"]
["3231236","Montes Tojo, Julia Mª","Gallega","D","Sin Categoría","Competición",4,{"$f":"VLOOKUP(E2756,Referencias!$B$4:$C$15,2,FALSE())","v":"SC"},{"$f":"VLOOKUP(C2756,Referencias!$B$18:$C$34,2,FALSE())","v":"G"},"C"]
["3231456","Abades Alvárez, Constantino","Gallega","C","Sin Categoría","Competición",4,{"$f":"VLOOKUP(E2757,Referencias!$B$4:$C$15,2,FALSE())","v":"SC"},{"$f":"VLOOKUP(C2757,Referencias!$B$18:$C$34,2,FALSE())","v":"G"},"C"]
["3301006","Guernica Otero, Carmen","Asturiana","D","Primera Picas","Competición",1,{"$f":"VLOOKUP(E2758,Referencias!$B$4:$C$15,2,FALSE())","v":"1P"},{"$f":"VLOOKUP(C2758,Referencias!$B$18:$C$34,2,FALSE())","v":"PA"},"C"]
["3301009","LLaneza García, Carmen","Asturiana","D","Segunda Picas","Competición",2,{"$f":"VLOOKUP(E2759,Referencias!$B$4:$C$15,2,FALSE())","v":"2P"},{"$f":"VLOOKUP(C2759,Referencias!$B$18:$C$34,2,FALSE())","v":"PA"},"C"]
["3301012","Fresno Aza, María Luz","Asturiana","D","Tercera Corazón","Honorífica",3,{"$f":"VLOOKUP(E2760,Referencias!$B$4:$C$15,2,FALSE())","v":"3C"},{"$f":"VLOOKUP(C2760,Referencias!$B$18:$C$34,2,FALSE())","v":"PA"},"C"]
["3301016","Escudero Martínez, Carmina","Asturiana","D","Tercera Diamante","Competición",3,{"$f":"VLOOKUP(E2761,Referencias!$B$4:$C$15,2,FALSE())","v":"3D"},{"$f":"VLOOKUP(C2761,Referencias!$B$18:$C$34,2,FALSE())","v":"PA"},"C"]
["3301017","Arias Fernández, María José","Asturiana","D","Primera Picas","Competición",1,{"$f":"VLOOKUP(E2762,Referencias!$B$4:$C$15,2,FALSE())","v":"1P"},{"$f":"VLOOKUP(C2762,Referencias!$B$18:$C$34,2,FALSE())","v":"PA"},"C"]
["3301020","Pendas García, María Rosa","Asturiana","D","Primera Picas","Competición",1,{"$f":"VLOOKUP(E2763,Referencias!$B$4:$C$15,2,FALSE())","v":"1P"},{"$f":"VLOOKUP(C2763,Referencias!$B$18:$C$34,2,FALSE())","v":"PA"},"C"]
["3301027","Alvarez Prieto, M. Cristina","Asturiana","D","Primera Corazón","Competición",1,{"$f":"VLOOKUP(E2764,Referencias!$B$4:$C$15,2,FALSE())","v":"1C"},{"$f":"VLOOKUP(C2764,Referencias!$B$18:$C$34,2,FALSE())","v":"PA"},"C"]
["3301028","Arrieta González, Beatriz","Asturiana","D","Segunda Corazón","Competición",2,{"$f":"VLOOKUP(E2765,Referencias!$B$4:$C$15,2,FALSE())","v":"2C"},{"$f":"VLOOKUP(C2765,Referencias!$B$18:$C$34,2,FALSE())","v":"PA"},"C"]
["3301031","Barrero García, Rosalía","Asturiana","D","Primera Picas","Competición",1,{"$f":"VLOOKUP(E2766,Referencias!$B$4:$C$15,2,FALSE())","v":"1P"},{"$f":"VLOOKUP(C2766,Referencias!$B$18:$C$34,2,FALSE())","v":"PA"},"C"]
["3301033","Caso de los Cobos Pascual, María Dolores","Asturiana","D","Sin Categoría","Competición",4,{"$f":"VLOOKUP(E2767,Referencias!$B$4:$C$15,2,FALSE())","v":"SC"},{"$f":"VLOOKUP(C2767,Referencias!$B$18:$C$34,2,FALSE())","v":"PA"},"C"]
["3301037","Fanjul García, Virginia","Asturiana","D","Primera Picas","Competición",1,{"$f":"VLOOKUP(E2768,Referencias!$B$4:$C$15,2,FALSE())","v":"1P"},{"$f":"VLOOKUP(C2768,Referencias!$B$18:$C$34,2,FALSE())","v":"PA"},"C"]
["3301046","Martínez de la Vega Leguina, Covadonga","Asturiana","D","Segunda Picas","Competición",2,{"$f":"VLOOKUP(E2769,Referencias!$B$4:$C$15,2,FALSE())","v":"2P"},{"$f":"VLOOKUP(C2769,Referencias!$B$18:$C$34,2,FALSE())","v":"PA"},"C"]
["3301050","Pérez del Busto, Rosa Elisa","Asturiana","D","Segunda Corazón","Competición",2,{"$f":"VLOOKUP(E2770,Referencias!$B$4:$C$15,2,FALSE())","v":"2C"},{"$f":"VLOOKUP(C2770,Referencias!$B$18:$C$34,2,FALSE())","v":"PA"},"C"]
["3301052","Rueda Vigil-Escalera, Mari Angeles","Asturiana","D","Segunda Picas","Competición",2,{"$f":"VLOOKUP(E2771,Referencias!$B$4:$C$15,2,FALSE())","v":"2P"},{"$f":"VLOOKUP(C2771,Referencias!$B$18:$C$34,2,FALSE())","v":"PA"},"C"]
["3301054","Sanz Arce, María Teresa","Asturiana","D","Sin Categoría","Competición",4,{"$f":"VLOOKUP(E2772,Referencias!$B$4:$C$15,2,FALSE())","v":"SC"},{"$f":"VLOOKUP(C2772,Referencias!$B$18:$C$34,2,FALSE())","v":"PA"},"C"]
["3301055","Soubrier, Carmen","Asturiana","D","Primera Diamante","Competición",1,{"$f":"VLOOKUP(E2773,Referencias!$B$4:$C$15,2,FALSE())","v":"1D"},{"$f":"VLOOKUP(C2773,Referencias!$B$18:$C$34,2,FALSE())","v":"PA"},"C"]
["3301060","Raposo Botana, María Rafaela","Asturiana","D","Tercera Picas","Honorífica",3,{"$f":"VLOOKUP(E2774,Referencias!$B$4:$C$15,2,FALSE())","v":"3P"},{"$f":"VLOOKUP(C2774,Referencias!$B$18:$C$34,2,FALSE())","v":"PA"},"C"]
["3301062","Rodríguez García, Mª Inés","Asturiana","D","Sin Categoría","Competición",4,{"$f":"VLOOKUP(E2775,Referencias!$B$4:$C$15,2,FALSE())","v":"SC"},{"$f":"VLOOKUP(C2775,Referencias!$B$18:$C$34,2,FALSE())","v":"PA"},"C"]
["3301064","Prieto Fernández, Mª Angeles","Asturiana","D","Primera Picas","Competición",1,{"$f":"VLOOKUP(E2776,Referencias!$B$4:$C$15,2,FALSE())","v":"1P"},{"$f":"VLOOKUP(C2776,Referencias!$B$18:$C$34,2,FALSE())","v":"PA"},"C"]
["3301065","Cocina Martínez, María Luz","Asturiana","D","Tercera Diamante","Competición",3,{"$f":"VLOOKUP(E2777,Referencias!$B$4:$C$15,2,FALSE())","v":"3D"},{"$f":"VLOOKUP(C2777,Referencias!$B$18:$C$34,2,FALSE())","v":"PA"},"C"]
["3301068","López Lamela, Encarnación","Asturiana","D","Primera Corazón","Competición",1,{"$f":"VLOOKUP(E2778,Referencias!$B$4:$C$15,2,FALSE())","v":"1C"},{"$f":"VLOOKUP(C2778,Referencias!$B$18:$C$34,2,FALSE())","v":"PA"},"C"]
["3301069","Blanco García, Marta","Asturiana","D","Sin Categoría","Competición",4,{"$f":"VLOOKUP(E2779,Referencias!$B$4:$C$15,2,FALSE())","v":"SC"},{"$f":"VLOOKUP(C2779,Referencias!$B$18:$C$34,2,FALSE())","v":"PA"},"C"]
["3301071","Montero González, Amparo","Asturiana","D","Tercera Diamante","Competición",3,{"$f":"VLOOKUP(E2780,Referencias!$B$4:$C$15,2,FALSE())","v":"3D"},{"$f":"VLOOKUP(C2780,Referencias!$B$18:$C$34,2,FALSE())","v":"PA"},"C"]
["3301072","Fresno Baquero, Luz Mari","Asturiana","D","Segunda Picas","Competición",2,{"$f":"VLOOKUP(E2781,Referencias!$B$4:$C$15,2,FALSE())","v":"2P"},{"$f":"VLOOKUP(C2781,Referencias!$B$18:$C$34,2,FALSE())","v":"PA"},"C"]
["3301074","De Santiago Díez, Mª Elena","Asturiana","D","Segunda Picas","Competición",2,{"$f":"VLOOKUP(E2782,Referencias!$B$4:$C$15,2,FALSE())","v":"2P"},{"$f":"VLOOKUP(C2782,Referencias!$B$18:$C$34,2,FALSE())","v":"PA"},"C"]
["3301076","Canzobre Boedo, Purificación","Asturiana","D","Tercera Picas","Competición",3,{"$f":"VLOOKUP(E2783,Referencias!$B$4:$C$15,2,FALSE())","v":"3P"},{"$f":"VLOOKUP(C2783,Referencias!$B$18:$C$34,2,FALSE())","v":"PA"},"C"]
["3301077","Fernández Martínez, Mª Teresa","Asturiana","D","Segunda Corazón","Competición",2,{"$f":"VLOOKUP(E2784,Referencias!$B$4:$C$15,2,FALSE())","v":"2C"},{"$f":"VLOOKUP(C2784,Referencias!$B$18:$C$34,2,FALSE())","v":"PA"},"C"]
["3301080","Castrillo Zubeldia, Mª Victoria","Asturiana","D","Sin Categoría","Competición",4,{"$f":"VLOOKUP(E2785,Referencias!$B$4:$C$15,2,FALSE())","v":"SC"},{"$f":"VLOOKUP(C2785,Referencias!$B$18:$C$34,2,FALSE())","v":"PA"},"C"]
["3301082","Aguirre Fernández, Nieves","Asturiana","D","Tercera Picas","Competición",3,{"$f":"VLOOKUP(E2786,Referencias!$B$4:$C$15,2,FALSE())","v":"3P"},{"$f":"VLOOKUP(C2786,Referencias!$B$18:$C$34,2,FALSE())","v":"PA"},"C"]
["3301083","Croissier López, Mª Jesús","Asturiana","D","Tercera Picas","Competición",3,{"$f":"VLOOKUP(E2787,Referencias!$B$4:$C$15,2,FALSE())","v":"3P"},{"$f":"VLOOKUP(C2787,Referencias!$B$18:$C$34,2,FALSE())","v":"PA"},"C"]
["3301086","De la LLana González, Raquel","Asturiana","D","Tercera Corazón","Honorífica",3,{"$f":"VLOOKUP(E2788,Referencias!$B$4:$C$15,2,FALSE())","v":"3C"},{"$f":"VLOOKUP(C2788,Referencias!$B$18:$C$34,2,FALSE())","v":"PA"},"C"]
["3301087","Díaz Solano, Mª Antonia","Asturiana","D","Segunda Diamante","Competición",2,{"$f":"VLOOKUP(E2789,Referencias!$B$4:$C$15,2,FALSE())","v":"2D"},{"$f":"VLOOKUP(C2789,Referencias!$B$18:$C$34,2,FALSE())","v":"PA"},"C"]
["3301088","Garnung Varela, Mª Dolores","Asturiana","D","Primera Picas","Competición",1,{"$f":"VLOOKUP(E2790,Referencias!$B$4:$C$15,2,FALSE())","v":"1P"},{"$f":"VLOOKUP(C2790,Referencias!$B$18:$C$34,2,FALSE())","v":"PA"},"C"]
["3301090","Ablanedo Rodríguez, Marinita","Asturiana","D","Segunda Picas","Competición",2,{"$f":"VLOOKUP(E2791,Referencias!$B$4:$C$15,2,FALSE())","v":"2P"},{"$f":"VLOOKUP(C2791,Referencias!$B$18:$C$34,2,FALSE())","v":"PA"},"C"]
["3301091","Alvarez Varela, Mary Nieves","Asturiana","D","Tercera Picas","Competición",3,{"$f":"VLOOKUP(E2792,Referencias!$B$4:$C$15,2,FALSE())","v":"3P"},{"$f":"VLOOKUP(C2792,Referencias!$B$18:$C$34,2,FALSE())","v":"PA"},"C"]
["3301095","Zabala Rubiera, Amparo","Asturiana","D","Tercera Corazón","Competición",3,{"$f":"VLOOKUP(E2793,Referencias!$B$4:$C$15,2,FALSE())","v":"3C"},{"$f":"VLOOKUP(C2793,Referencias!$B$18:$C$34,2,FALSE())","v":"PA"},"C"]
["3301096","Arques Simón, Francisco","Asturiana","C","Sin Categoría","Competición",4,{"$f":"VLOOKUP(E2794,Referencias!$B$4:$C$15,2,FALSE())","v":"SC"},{"$f":"VLOOKUP(C2794,Referencias!$B$18:$C$34,2,FALSE())","v":"PA"},"C"]
["3301100","Vidal Sanjurjo, Olga","Asturiana","D","Segunda Picas","Competición",2,{"$f":"VLOOKUP(E2795,Referencias!$B$4:$C$15,2,FALSE())","v":"2P"},{"$f":"VLOOKUP(C2795,Referencias!$B$18:$C$34,2,FALSE())","v":"PA"},"C"]
["3301104","Verduras Alonso, Santos","Asturiana","C","Primera Picas","Competición",1,{"$f":"VLOOKUP(E2796,Referencias!$B$4:$C$15,2,FALSE())","v":"1P"},{"$f":"VLOOKUP(C2796,Referencias!$B$18:$C$34,2,FALSE())","v":"PA"},"C"]
["3301105","Yañez Alvarez, Alfonso","Asturiana","C","Primera Picas","Competición",1,{"$f":"VLOOKUP(E2797,Referencias!$B$4:$C$15,2,FALSE())","v":"1P"},{"$f":"VLOOKUP(C2797,Referencias!$B$18:$C$34,2,FALSE())","v":"PA"},"C"]
["3301109","Perancho Casas, Miguel","Asturiana","C","Segunda Diamante","Competición",2,{"$f":"VLOOKUP(E2798,Referencias!$B$4:$C$15,2,FALSE())","v":"2D"},{"$f":"VLOOKUP(C2798,Referencias!$B$18:$C$34,2,FALSE())","v":"PA"},"C"]
["3301111","Barrero García, Teresa","Asturiana","D","Tercera Picas","Competición",3,{"$f":"VLOOKUP(E2799,Referencias!$B$4:$C$15,2,FALSE())","v":"3P"},{"$f":"VLOOKUP(C2799,Referencias!$B$18:$C$34,2,FALSE())","v":"PA"},"C"]
["3301112","Veiguela Dellera, Mª Inés","Asturiana","D","Segunda Diamante","Competición",2,{"$f":"VLOOKUP(E2800,Referencias!$B$4:$C$15,2,FALSE())","v":"2D"},{"$f":"VLOOKUP(C2800,Referencias!$B$18:$C$34,2,FALSE())","v":"PA"},"C"]
["3301113","Olay Villasanjurjo, Pilar","Asturiana","D","Tercera Picas","Competición",3,{"$f":"VLOOKUP(E2801,Referencias!$B$4:$C$15,2,FALSE())","v":"3P"},{"$f":"VLOOKUP(C2801,Referencias!$B$18:$C$34,2,FALSE())","v":"PA"},"C"]
["3301114","Gil Bonmatí, Mª Angeles","Asturiana","D","Primera Picas","Competición",1,{"$f":"VLOOKUP(E2802,Referencias!$B$4:$C$15,2,FALSE())","v":"1P"},{"$f":"VLOOKUP(C2802,Referencias!$B$18:$C$34,2,FALSE())","v":"PA"},"C"]
["3301115","Galan Martín, Mª Antonia","Asturiana","D","Segunda Diamante","Competición",2,{"$f":"VLOOKUP(E2803,Referencias!$B$4:$C$15,2,FALSE())","v":"2D"},{"$f":"VLOOKUP(C2803,Referencias!$B$18:$C$34,2,FALSE())","v":"PA"},"C"]
["3301116","Martínez-Hombre, Isabel","Asturiana","D","Tercera Corazón","Competición",3,{"$f":"VLOOKUP(E2804,Referencias!$B$4:$C$15,2,FALSE())","v":"3C"},{"$f":"VLOOKUP(C2804,Referencias!$B$18:$C$34,2,FALSE())","v":"PA"},"C"]
["3301117","Alonso Gigosos, Loren","Asturiana","D","Tercera Diamante","Competición",3,{"$f":"VLOOKUP(E2805,Referencias!$B$4:$C$15,2,FALSE())","v":"3D"},{"$f":"VLOOKUP(C2805,Referencias!$B$18:$C$34,2,FALSE())","v":"PA"},"C"]
["3301118","Alonso Gigosos, Mª Loli","Asturiana","D","Tercera Diamante","Competición",3,{"$f":"VLOOKUP(E2806,Referencias!$B$4:$C$15,2,FALSE())","v":"3D"},{"$f":"VLOOKUP(C2806,Referencias!$B$18:$C$34,2,FALSE())","v":"PA"},"C"]
["3301124","Suarez Beltran, Rosina","Asturiana","D","Sin Categoría","Competición",4,{"$f":"VLOOKUP(E2807,Referencias!$B$4:$C$15,2,FALSE())","v":"SC"},{"$f":"VLOOKUP(C2807,Referencias!$B$18:$C$34,2,FALSE())","v":"PA"},"C"]
["3301125","Rodríguez Melo, Carmen","Asturiana","D","Segunda Diamante","Competición",2,{"$f":"VLOOKUP(E2808,Referencias!$B$4:$C$15,2,FALSE())","v":"2D"},{"$f":"VLOOKUP(C2808,Referencias!$B$18:$C$34,2,FALSE())","v":"PA"},"C"]
["3301127","Sabino García, Antonio","Asturiana","C","Sin Categoría","Competición",4,{"$f":"VLOOKUP(E2809,Referencias!$B$4:$C$15,2,FALSE())","v":"SC"},{"$f":"VLOOKUP(C2809,Referencias!$B$18:$C$34,2,FALSE())","v":"PA"},"C"]
["3301129","Cuesta Fernández, Gonzalo","Asturiana","C","Tercera Diamante","Competición",3,{"$f":"VLOOKUP(E2810,Referencias!$B$4:$C$15,2,FALSE())","v":"3D"},{"$f":"VLOOKUP(C2810,Referencias!$B$18:$C$34,2,FALSE())","v":"PA"},"C"]
["3301130","Gil Cortés, Conchita","Asturiana","D","Primera Picas","Competición",1,{"$f":"VLOOKUP(E2811,Referencias!$B$4:$C$15,2,FALSE())","v":"1P"},{"$f":"VLOOKUP(C2811,Referencias!$B$18:$C$34,2,FALSE())","v":"PA"},"C"]
["3301131","Bernaldo de Quirós, Nieves","Asturiana","D","Segunda Picas","Competición",2,{"$f":"VLOOKUP(E2812,Referencias!$B$4:$C$15,2,FALSE())","v":"2P"},{"$f":"VLOOKUP(C2812,Referencias!$B$18:$C$34,2,FALSE())","v":"PA"},"C"]
["3301132","Sigüenza Amichís, Maria Isabel","Asturiana","D","Primera Picas","Competición",1,{"$f":"VLOOKUP(E2813,Referencias!$B$4:$C$15,2,FALSE())","v":"1P"},{"$f":"VLOOKUP(C2813,Referencias!$B$18:$C$34,2,FALSE())","v":"PA"},"C"]
["3301135","Fernández Alvarez, Luisa María","Asturiana","D","Segunda Diamante","Competición",2,{"$f":"VLOOKUP(E2814,Referencias!$B$4:$C$15,2,FALSE())","v":"2D"},{"$f":"VLOOKUP(C2814,Referencias!$B$18:$C$34,2,FALSE())","v":"PA"},"C"]
["3301136","Cuervo-Arango, Ignacio","Asturiana","C","Primera Corazón","Competición",1,{"$f":"VLOOKUP(E2815,Referencias!$B$4:$C$15,2,FALSE())","v":"1C"},{"$f":"VLOOKUP(C2815,Referencias!$B$18:$C$34,2,FALSE())","v":"PA"},"C"]
["3301137","Adrián Pando, Mª Pilar","Asturiana","D","Tercera Diamante","Competición",3,{"$f":"VLOOKUP(E2816,Referencias!$B$4:$C$15,2,FALSE())","v":"3D"},{"$f":"VLOOKUP(C2816,Referencias!$B$18:$C$34,2,FALSE())","v":"PA"},{"$f":"IF(D2816=\"Dama\",\"D\",\"C\")","v":"C"}]
["3301138","Alvarez-Requejo, Beatriz","Asturiana","D","Primera Picas","Competición",1,{"$f":"VLOOKUP(E2817,Referencias!$B$4:$C$15,2,FALSE())","v":"1P"},{"$f":"VLOOKUP(C2817,Referencias!$B$18:$C$34,2,FALSE())","v":"PA"},"C"]
["3301139","González García, Isabel","Asturiana","D","Tercera Picas","Competición",3,{"$f":"VLOOKUP(E2818,Referencias!$B$4:$C$15,2,FALSE())","v":"3P"},{"$f":"VLOOKUP(C2818,Referencias!$B$18:$C$34,2,FALSE())","v":"PA"},"C"]
["3301144","Pastor Marquina, Milagros","Asturiana","D","Tercera Diamante","Competición",3,{"$f":"VLOOKUP(E2819,Referencias!$B$4:$C$15,2,FALSE())","v":"3D"},{"$f":"VLOOKUP(C2819,Referencias!$B$18:$C$34,2,FALSE())","v":"PA"},"C"]
["3301145","Argüelles Camino, Nieves","Asturiana","D","Tercera Picas","Competición",3,{"$f":"VLOOKUP(E2820,Referencias!$B$4:$C$15,2,FALSE())","v":"3P"},{"$f":"VLOOKUP(C2820,Referencias!$B$18:$C$34,2,FALSE())","v":"PA"},"C"]
["3301146","Teleña, Carmen","Asturiana","D","Tercera Diamante","Competición",3,{"$f":"VLOOKUP(E2821,Referencias!$B$4:$C$15,2,FALSE())","v":"3D"},{"$f":"VLOOKUP(C2821,Referencias!$B$18:$C$34,2,FALSE())","v":"PA"},"C"]
["3301149","González Pruneda, Ana","Asturiana","D","Tercera Diamante","Competición",3,{"$f":"VLOOKUP(E2822,Referencias!$B$4:$C$15,2,FALSE())","v":"3D"},{"$f":"VLOOKUP(C2822,Referencias!$B$18:$C$34,2,FALSE())","v":"PA"},"C"]
["3301154","Alvarez Cuervo, María del Carmen","Asturiana","D","Tercera Picas","Competición",3,{"$f":"VLOOKUP(E2823,Referencias!$B$4:$C$15,2,FALSE())","v":"3P"},{"$f":"VLOOKUP(C2823,Referencias!$B$18:$C$34,2,FALSE())","v":"PA"},"C"]
["3301156","Manjarín Rebolledo, José María","Asturiana","C","Tercera Picas","Competición",3,{"$f":"VLOOKUP(E2824,Referencias!$B$4:$C$15,2,FALSE())","v":"3P"},{"$f":"VLOOKUP(C2824,Referencias!$B$18:$C$34,2,FALSE())","v":"PA"},"C"]
["3301157","García Valiente, Lilia","Asturiana","D","Segunda Diamante","Competición",2,{"$f":"VLOOKUP(E2825,Referencias!$B$4:$C$15,2,FALSE())","v":"2D"},{"$f":"VLOOKUP(C2825,Referencias!$B$18:$C$34,2,FALSE())","v":"PA"},"C"]
["3301159","Mayorga de Miguel, Julia","Asturiana","D","Segunda Picas","Competición",2,{"$f":"VLOOKUP(E2826,Referencias!$B$4:$C$15,2,FALSE())","v":"2P"},{"$f":"VLOOKUP(C2826,Referencias!$B$18:$C$34,2,FALSE())","v":"PA"},"C"]
["3301163","Fermín Jiménez, Jesús","Asturiana","C","Primera Picas","Competición",1,{"$f":"VLOOKUP(E2827,Referencias!$B$4:$C$15,2,FALSE())","v":"1P"},{"$f":"VLOOKUP(C2827,Referencias!$B$18:$C$34,2,FALSE())","v":"PA"},"C"]
["3301165","Martín Angulo, Jesús","Asturiana","C","Primera Picas","Competición",1,{"$f":"VLOOKUP(E2828,Referencias!$B$4:$C$15,2,FALSE())","v":"1P"},{"$f":"VLOOKUP(C2828,Referencias!$B$18:$C$34,2,FALSE())","v":"PA"},"C"]
["3301166","Noriega Niembro, José María","Asturiana","C","Segunda Diamante","Competición",2,{"$f":"VLOOKUP(E2829,Referencias!$B$4:$C$15,2,FALSE())","v":"2D"},{"$f":"VLOOKUP(C2829,Referencias!$B$18:$C$34,2,FALSE())","v":"PA"},"C"]
["3301168","López Glez.-Escalada, Eugenia","Asturiana","D","Segunda Corazón","Competición",2,{"$f":"VLOOKUP(E2830,Referencias!$B$4:$C$15,2,FALSE())","v":"2C"},{"$f":"VLOOKUP(C2830,Referencias!$B$18:$C$34,2,FALSE())","v":"PA"},"C"]
["3301169","Fernández Alvarez, Aída","Asturiana","D","Tercera Corazón","Competición",3,{"$f":"VLOOKUP(E2831,Referencias!$B$4:$C$15,2,FALSE())","v":"3C"},{"$f":"VLOOKUP(C2831,Referencias!$B$18:$C$34,2,FALSE())","v":"PA"},"C"]
["3301171","Montes Araluce, Maribel","Asturiana","D","Sin Categoría","Competición",4,{"$f":"VLOOKUP(E2832,Referencias!$B$4:$C$15,2,FALSE())","v":"SC"},{"$f":"VLOOKUP(C2832,Referencias!$B$18:$C$34,2,FALSE())","v":"PA"},"C"]
["3301172","Mtnez. De la Vega Leguina, María Antonia","Asturiana","D","Segunda Picas","Competición",2,{"$f":"VLOOKUP(E2833,Referencias!$B$4:$C$15,2,FALSE())","v":"2P"},{"$f":"VLOOKUP(C2833,Referencias!$B$18:$C$34,2,FALSE())","v":"PA"},"C"]
["3301173","Sánchez Caro, Guadalupe","Asturiana","D","Tercera Corazón","Competición",3,{"$f":"VLOOKUP(E2834,Referencias!$B$4:$C$15,2,FALSE())","v":"3C"},{"$f":"VLOOKUP(C2834,Referencias!$B$18:$C$34,2,FALSE())","v":"PA"},"C"]
["3301175","González-Babé Pita, Mercedes","Asturiana","D","Segunda Diamante","Competición",2,{"$f":"VLOOKUP(E2835,Referencias!$B$4:$C$15,2,FALSE())","v":"2D"},{"$f":"VLOOKUP(C2835,Referencias!$B$18:$C$34,2,FALSE())","v":"PA"},"C"]
["3301176","Hardisson Rumeu, Carlos","Asturiana","C","Tercera Diamante","Competición",3,{"$f":"VLOOKUP(E2836,Referencias!$B$4:$C$15,2,FALSE())","v":"3D"},{"$f":"VLOOKUP(C2836,Referencias!$B$18:$C$34,2,FALSE())","v":"PA"},"C"]
["3301178","Hernáez Ruiz de Palacios, Ana María","Asturiana","D","Tercera Diamante","Competición",3,{"$f":"VLOOKUP(E2837,Referencias!$B$4:$C$15,2,FALSE())","v":"3D"},{"$f":"VLOOKUP(C2837,Referencias!$B$18:$C$34,2,FALSE())","v":"PA"},"C"]
["3301179","Ronderos González, José Leandro","Asturiana","C","Primera Diamante","Competición",1,{"$f":"VLOOKUP(E2838,Referencias!$B$4:$C$15,2,FALSE())","v":"1D"},{"$f":"VLOOKUP(C2838,Referencias!$B$18:$C$34,2,FALSE())","v":"PA"},"C"]
["3301180","Alvárez Fernández, Mª Eugenia","Asturiana","D","Segunda Corazón","Competición",2,{"$f":"VLOOKUP(E2839,Referencias!$B$4:$C$15,2,FALSE())","v":"2C"},{"$f":"VLOOKUP(C2839,Referencias!$B$18:$C$34,2,FALSE())","v":"PA"},"C"]
["3301181","Heres Toledo, María Dolores","Asturiana","D","Tercera Diamante","Competición",3,{"$f":"VLOOKUP(E2840,Referencias!$B$4:$C$15,2,FALSE())","v":"3D"},{"$f":"VLOOKUP(C2840,Referencias!$B$18:$C$34,2,FALSE())","v":"PA"},"C"]
["3301182","Herrero Menéndez, Margarita","Asturiana","D","Segunda Diamante","Competición",2,{"$f":"VLOOKUP(E2841,Referencias!$B$4:$C$15,2,FALSE())","v":"2D"},{"$f":"VLOOKUP(C2841,Referencias!$B$18:$C$34,2,FALSE())","v":"PA"},"C"]
["3301183","Rivas Gándara, José Antonio","Asturiana","C","Sin Categoría","Competición",4,{"$f":"VLOOKUP(E2842,Referencias!$B$4:$C$15,2,FALSE())","v":"SC"},{"$f":"VLOOKUP(C2842,Referencias!$B$18:$C$34,2,FALSE())","v":"PA"},"C"]
["3301184","Fernández Alvarez, Mari-Flor","Asturiana","D","Tercera Picas","Competición",3,{"$f":"VLOOKUP(E2843,Referencias!$B$4:$C$15,2,FALSE())","v":"3P"},{"$f":"VLOOKUP(C2843,Referencias!$B$18:$C$34,2,FALSE())","v":"PA"},"C"]
["3301185","Merediz Vidal, Dolores","Asturiana","D","Segunda Diamante","Competición",2,{"$f":"VLOOKUP(E2844,Referencias!$B$4:$C$15,2,FALSE())","v":"2D"},{"$f":"VLOOKUP(C2844,Referencias!$B$18:$C$34,2,FALSE())","v":"PA"},"C"]
["3301186","Martínez García, María Paulina","Asturiana","D","Tercera Diamante","Competición",3,{"$f":"VLOOKUP(E2845,Referencias!$B$4:$C$15,2,FALSE())","v":"3D"},{"$f":"VLOOKUP(C2845,Referencias!$B$18:$C$34,2,FALSE())","v":"PA"},"C"]
["3301187","Bilbao Cuesta, María Cruz","Asturiana","D","Sin Categoría","Competición",4,{"$f":"VLOOKUP(E2846,Referencias!$B$4:$C$15,2,FALSE())","v":"SC"},{"$f":"VLOOKUP(C2846,Referencias!$B$18:$C$34,2,FALSE())","v":"PA"},"C"]
["3301188","Escobar Quirós, Mª Oliva","Asturiana","D","Tercera Picas","Competición",3,{"$f":"VLOOKUP(E2847,Referencias!$B$4:$C$15,2,FALSE())","v":"3P"},{"$f":"VLOOKUP(C2847,Referencias!$B$18:$C$34,2,FALSE())","v":"PA"},"C"]
["3301190","González Fernández, Carmen","Asturiana","D","Segunda Corazón","Competición",2,{"$f":"VLOOKUP(E2848,Referencias!$B$4:$C$15,2,FALSE())","v":"2C"},{"$f":"VLOOKUP(C2848,Referencias!$B$18:$C$34,2,FALSE())","v":"PA"},"C"]
["3301191","Del Truébano Quirce, María Noemí","Asturiana","D","Segunda Diamante","Competición",2,{"$f":"VLOOKUP(E2849,Referencias!$B$4:$C$15,2,FALSE())","v":"2D"},{"$f":"VLOOKUP(C2849,Referencias!$B$18:$C$34,2,FALSE())","v":"PA"},"C"]
["3301192","Llerandi González, Laura","Asturiana","D","Tercera Corazón","Competición",3,{"$f":"VLOOKUP(E2850,Referencias!$B$4:$C$15,2,FALSE())","v":"3C"},{"$f":"VLOOKUP(C2850,Referencias!$B$18:$C$34,2,FALSE())","v":"PA"},"C"]
["3301193","Cadavieco Corripio, Montserrat","Asturiana","D","Segunda Diamante","Competición",2,{"$f":"VLOOKUP(E2851,Referencias!$B$4:$C$15,2,FALSE())","v":"2D"},{"$f":"VLOOKUP(C2851,Referencias!$B$18:$C$34,2,FALSE())","v":"PA"},"C"]
["3301194","Tuya González, Conchita","Asturiana","D","Tercera Picas","Competición",3,{"$f":"VLOOKUP(E2852,Referencias!$B$4:$C$15,2,FALSE())","v":"3P"},{"$f":"VLOOKUP(C2852,Referencias!$B$18:$C$34,2,FALSE())","v":"PA"},"C"]
["3301199","Rodríguez Díaz, María Teresa","Asturiana","D","Sin Categoría","Competición",4,{"$f":"VLOOKUP(E2853,Referencias!$B$4:$C$15,2,FALSE())","v":"SC"},{"$f":"VLOOKUP(C2853,Referencias!$B$18:$C$34,2,FALSE())","v":"PA"},"C"]
["3301200","Pérez García, Tarsila","Asturiana","D","Tercera Diamante","Competición",3,{"$f":"VLOOKUP(E2854,Referencias!$B$4:$C$15,2,FALSE())","v":"3D"},{"$f":"VLOOKUP(C2854,Referencias!$B$18:$C$34,2,FALSE())","v":"PA"},"C"]
["3301201","Cid Alonso, María Rosario","Asturiana","D","Tercera Picas","Competición",3,{"$f":"VLOOKUP(E2855,Referencias!$B$4:$C$15,2,FALSE())","v":"3P"},{"$f":"VLOOKUP(C2855,Referencias!$B$18:$C$34,2,FALSE())","v":"PA"},"C"]
["3301206","Gutiérrez Alonso, Mª Jesús","Asturiana","D","Sin Categoría","Competición",4,{"$f":"VLOOKUP(E2856,Referencias!$B$4:$C$15,2,FALSE())","v":"SC"},{"$f":"VLOOKUP(C2856,Referencias!$B$18:$C$34,2,FALSE())","v":"PA"},"C"]
["3301208","Huerta Fernández, María del Pilar","Asturiana","D","Tercera Diamante","Competición",3,{"$f":"VLOOKUP(E2857,Referencias!$B$4:$C$15,2,FALSE())","v":"3D"},{"$f":"VLOOKUP(C2857,Referencias!$B$18:$C$34,2,FALSE())","v":"PA"},"C"]
["3301210","Fernández Hoyo, Josefina","Asturiana","D","Tercera Corazón","Competición",3,{"$f":"VLOOKUP(E2858,Referencias!$B$4:$C$15,2,FALSE())","v":"3C"},{"$f":"VLOOKUP(C2858,Referencias!$B$18:$C$34,2,FALSE())","v":"PA"},"C"]
["3301212","Del Castro Serrano, Irene","Asturiana","D","Segunda Diamante","Competición",2,{"$f":"VLOOKUP(E2859,Referencias!$B$4:$C$15,2,FALSE())","v":"2D"},{"$f":"VLOOKUP(C2859,Referencias!$B$18:$C$34,2,FALSE())","v":"PA"},"C"]
["3301213","Díaz Pulido, Mª del Rosario","Asturiana","D","Tercera Diamante","Competición",3,{"$f":"VLOOKUP(E2860,Referencias!$B$4:$C$15,2,FALSE())","v":"3D"},{"$f":"VLOOKUP(C2860,Referencias!$B$18:$C$34,2,FALSE())","v":"PA"},"C"]
["3301214","Arellano Conejos, María Teresa","Asturiana","D","Tercera Picas","Competición",3,{"$f":"VLOOKUP(E2861,Referencias!$B$4:$C$15,2,FALSE())","v":"3P"},{"$f":"VLOOKUP(C2861,Referencias!$B$18:$C$34,2,FALSE())","v":"PA"},"C"]
["3301215","Valderrábano Nuñez, Mª Teresa","Asturiana","D","Tercera Diamante","Competición",3,{"$f":"VLOOKUP(E2862,Referencias!$B$4:$C$15,2,FALSE())","v":"3D"},{"$f":"VLOOKUP(C2862,Referencias!$B$18:$C$34,2,FALSE())","v":"PA"},"C"]
["3301216","Gavela Martínez, Mónica","Asturiana","D","Segunda Picas","Competición",2,{"$f":"VLOOKUP(E2863,Referencias!$B$4:$C$15,2,FALSE())","v":"2P"},{"$f":"VLOOKUP(C2863,Referencias!$B$18:$C$34,2,FALSE())","v":"PA"},"C"]
["3301217","González Valderrábano, Jaime","Asturiana","C","Primera Corazón","Competición",1,{"$f":"VLOOKUP(E2864,Referencias!$B$4:$C$15,2,FALSE())","v":"1C"},{"$f":"VLOOKUP(C2864,Referencias!$B$18:$C$34,2,FALSE())","v":"PA"},"C"]
["3301218","Muñiz Girón, Carlos","Asturiana","C","Tercera Picas","Competición",3,{"$f":"VLOOKUP(E2865,Referencias!$B$4:$C$15,2,FALSE())","v":"3P"},{"$f":"VLOOKUP(C2865,Referencias!$B$18:$C$34,2,FALSE())","v":"PA"},"C"]
["3301220","González González, María Esther","Asturiana","D","Segunda Corazón","Competición",2,{"$f":"VLOOKUP(E2866,Referencias!$B$4:$C$15,2,FALSE())","v":"2C"},{"$f":"VLOOKUP(C2866,Referencias!$B$18:$C$34,2,FALSE())","v":"PA"},"C"]
["3301221","Gómez de la Torre Carderera, Socorro","Asturiana","D","Tercera Corazón","Competición",3,{"$f":"VLOOKUP(E2867,Referencias!$B$4:$C$15,2,FALSE())","v":"3C"},{"$f":"VLOOKUP(C2867,Referencias!$B$18:$C$34,2,FALSE())","v":"PA"},"C"]
["3301222","Monforte Real, José Luis","Asturiana","C","Sin Categoría","Competición",4,{"$f":"VLOOKUP(E2868,Referencias!$B$4:$C$15,2,FALSE())","v":"SC"},{"$f":"VLOOKUP(C2868,Referencias!$B$18:$C$34,2,FALSE())","v":"PA"},"C"]
["3301225","García Celadilla, Raquel","Asturiana","D","Tercera Corazón","Competición",3,{"$f":"VLOOKUP(E2869,Referencias!$B$4:$C$15,2,FALSE())","v":"3C"},{"$f":"VLOOKUP(C2869,Referencias!$B$18:$C$34,2,FALSE())","v":"PA"},"C"]
["3301226","Segura Junquera, Angeles","Asturiana","D","Tercera Diamante","Competición",3,{"$f":"VLOOKUP(E2870,Referencias!$B$4:$C$15,2,FALSE())","v":"3D"},{"$f":"VLOOKUP(C2870,Referencias!$B$18:$C$34,2,FALSE())","v":"PA"},"C"]
["3301229","García-Morán, Covadonga","Asturiana","D","Tercera Diamante","Competición",3,{"$f":"VLOOKUP(E2871,Referencias!$B$4:$C$15,2,FALSE())","v":"3D"},{"$f":"VLOOKUP(C2871,Referencias!$B$18:$C$34,2,FALSE())","v":"PA"},"C"]
["3301230","Alvarez-Uría, Gerardo","Asturiana","C","Segunda Corazón","Competición",2,{"$f":"VLOOKUP(E2872,Referencias!$B$4:$C$15,2,FALSE())","v":"2C"},{"$f":"VLOOKUP(C2872,Referencias!$B$18:$C$34,2,FALSE())","v":"PA"},"C"]
["3301232","Estrada Alvarez, Carmen","Asturiana","D","Segunda Picas","Competición",2,{"$f":"VLOOKUP(E2873,Referencias!$B$4:$C$15,2,FALSE())","v":"2P"},{"$f":"VLOOKUP(C2873,Referencias!$B$18:$C$34,2,FALSE())","v":"PA"},"C"]
["3301233","Menéndez Callejo, Mª del Rosario","Asturiana","D","Tercera Corazón","Competición",3,{"$f":"VLOOKUP(E2874,Referencias!$B$4:$C$15,2,FALSE())","v":"3C"},{"$f":"VLOOKUP(C2874,Referencias!$B$18:$C$34,2,FALSE())","v":"PA"},"C"]
["3301234","Rascón Peláez, Magdalena","Asturiana","D","Tercera Picas","Competición",3,{"$f":"VLOOKUP(E2875,Referencias!$B$4:$C$15,2,FALSE())","v":"3P"},{"$f":"VLOOKUP(C2875,Referencias!$B$18:$C$34,2,FALSE())","v":"PA"},"C"]
["3301237","López Pende, Aurora","Asturiana","D","Tercera Diamante","Competición",3,{"$f":"VLOOKUP(E2876,Referencias!$B$4:$C$15,2,FALSE())","v":"3D"},{"$f":"VLOOKUP(C2876,Referencias!$B$18:$C$34,2,FALSE())","v":"PA"},"C"]
["3301239","Argüelles González, Manuela","Asturiana","D","Segunda Picas","Competición",2,{"$f":"VLOOKUP(E2877,Referencias!$B$4:$C$15,2,FALSE())","v":"2P"},{"$f":"VLOOKUP(C2877,Referencias!$B$18:$C$34,2,FALSE())","v":"PA"},"C"]
["3301240","Alvarez Suárez, Herminia","Asturiana","D","Tercera Corazón","Competición",3,{"$f":"VLOOKUP(E2878,Referencias!$B$4:$C$15,2,FALSE())","v":"3C"},{"$f":"VLOOKUP(C2878,Referencias!$B$18:$C$34,2,FALSE())","v":"PA"},"C"]
["3301243","Pérez Carbajal, Ana Julia","Asturiana","D","Primera Corazón","Competición",1,{"$f":"VLOOKUP(E2879,Referencias!$B$4:$C$15,2,FALSE())","v":"1C"},{"$f":"VLOOKUP(C2879,Referencias!$B$18:$C$34,2,FALSE())","v":"PA"},"C"]
["3301244","López-Fanjul Menéndez, María Africa","Asturiana","D","Tercera Corazón","Competición",3,{"$f":"VLOOKUP(E2880,Referencias!$B$4:$C$15,2,FALSE())","v":"3C"},{"$f":"VLOOKUP(C2880,Referencias!$B$18:$C$34,2,FALSE())","v":"PA"},{"$f":"IF(D2880=\"Dama\",\"D\",\"C\")","v":"C"}]
["3301245","Fernández-Peña Rodríguez, María Amelia","Asturiana","D","Tercera Diamante","Competición",3,{"$f":"VLOOKUP(E2881,Referencias!$B$4:$C$15,2,FALSE())","v":"3D"},{"$f":"VLOOKUP(C2881,Referencias!$B$18:$C$34,2,FALSE())","v":"PA"},"C"]
["3301246","Rodríguez Fernández, Alfonso Carlos","Asturiana","C","Sin Categoría","Competición",4,{"$f":"VLOOKUP(E2882,Referencias!$B$4:$C$15,2,FALSE())","v":"SC"},{"$f":"VLOOKUP(C2882,Referencias!$B$18:$C$34,2,FALSE())","v":"PA"},"C"]
["3301247","Zabaleta Aristegui, Pepa","Navarra","D","Tercera Picas","Competición",3,{"$f":"VLOOKUP(E2883,Referencias!$B$4:$C$15,2,FALSE())","v":"3P"},{"$f":"VLOOKUP(C2883,Referencias!$B$18:$C$34,2,FALSE())","v":"N"},"C"]
["3301248","Ballesteros Navas, Julia","Asturiana","D","Tercera Diamante","Competición",3,{"$f":"VLOOKUP(E2884,Referencias!$B$4:$C$15,2,FALSE())","v":"3D"},{"$f":"VLOOKUP(C2884,Referencias!$B$18:$C$34,2,FALSE())","v":"PA"},"C"]
["3301249","Basterrechea Cabello, Antonio","Asturiana","C","Tercera Diamante","Competición",3,{"$f":"VLOOKUP(E2885,Referencias!$B$4:$C$15,2,FALSE())","v":"3D"},{"$f":"VLOOKUP(C2885,Referencias!$B$18:$C$34,2,FALSE())","v":"PA"},"C"]
["3301251","Maillo Suarez, Ana","Asturiana","D","Segunda Corazón","Competición",2,{"$f":"VLOOKUP(E2886,Referencias!$B$4:$C$15,2,FALSE())","v":"2C"},{"$f":"VLOOKUP(C2886,Referencias!$B$18:$C$34,2,FALSE())","v":"PA"},"C"]
["3301253","Martín de Diego, Lourdes","Asturiana","D","Tercera Diamante","Competición",3,{"$f":"VLOOKUP(E2887,Referencias!$B$4:$C$15,2,FALSE())","v":"3D"},{"$f":"VLOOKUP(C2887,Referencias!$B$18:$C$34,2,FALSE())","v":"PA"},"C"]
["3301255","Marturet Azcona, Mª Jesús","Asturiana","D","Tercera Corazón","Competición",3,{"$f":"VLOOKUP(E2888,Referencias!$B$4:$C$15,2,FALSE())","v":"3C"},{"$f":"VLOOKUP(C2888,Referencias!$B$18:$C$34,2,FALSE())","v":"PA"},"C"]
["3301256","Jordán de Urries Senante, Inmaculada","Asturiana","D","Tercera Diamante","Competición",3,{"$f":"VLOOKUP(E2889,Referencias!$B$4:$C$15,2,FALSE())","v":"3D"},{"$f":"VLOOKUP(C2889,Referencias!$B$18:$C$34,2,FALSE())","v":"PA"},"C"]
["3301257","Montero Luna, Mª Carmen","Asturiana","D","Tercera Corazón","Competición",3,{"$f":"VLOOKUP(E2890,Referencias!$B$4:$C$15,2,FALSE())","v":"3C"},{"$f":"VLOOKUP(C2890,Referencias!$B$18:$C$34,2,FALSE())","v":"PA"},"C"]
["3301258","Ceñal Berjano, Teresa","Asturiana","D","Tercera Corazón","Competición",3,{"$f":"VLOOKUP(E2891,Referencias!$B$4:$C$15,2,FALSE())","v":"3C"},{"$f":"VLOOKUP(C2891,Referencias!$B$18:$C$34,2,FALSE())","v":"PA"},"C"]
["3301260","Bada Bada, Covadonga","Asturiana","D","Tercera Corazón","Competición",3,{"$f":"VLOOKUP(E2892,Referencias!$B$4:$C$15,2,FALSE())","v":"3C"},{"$f":"VLOOKUP(C2892,Referencias!$B$18:$C$34,2,FALSE())","v":"PA"},"C"]
["3301261","García Orviz, Ana Mª","Asturiana","D","Primera Corazón","Competición",1,{"$f":"VLOOKUP(E2893,Referencias!$B$4:$C$15,2,FALSE())","v":"1C"},{"$f":"VLOOKUP(C2893,Referencias!$B$18:$C$34,2,FALSE())","v":"PA"},"C"]
["3301263","Moré Rodríguez, Mercedes","Asturiana","D","Tercera Picas","Competición",3,{"$f":"VLOOKUP(E2894,Referencias!$B$4:$C$15,2,FALSE())","v":"3P"},{"$f":"VLOOKUP(C2894,Referencias!$B$18:$C$34,2,FALSE())","v":"PA"},"C"]
["3301264","Labiano Muñaiz, Mª Elena","Asturiana","D","Tercera Corazón","Competición",3,{"$f":"VLOOKUP(E2895,Referencias!$B$4:$C$15,2,FALSE())","v":"3C"},{"$f":"VLOOKUP(C2895,Referencias!$B$18:$C$34,2,FALSE())","v":"PA"},"C"]
["3301269","Tartiere Pidal, Carlota","Asturiana","D","Tercera Diamante","Competición",3,{"$f":"VLOOKUP(E2896,Referencias!$B$4:$C$15,2,FALSE())","v":"3D"},{"$f":"VLOOKUP(C2896,Referencias!$B$18:$C$34,2,FALSE())","v":"PA"},"C"]
["3301271","Llenín Iglesias, Mª Carmen","Asturiana","D","Tercera Corazón","Competición",3,{"$f":"VLOOKUP(E2897,Referencias!$B$4:$C$15,2,FALSE())","v":"3C"},{"$f":"VLOOKUP(C2897,Referencias!$B$18:$C$34,2,FALSE())","v":"PA"},"C"]
["3301272","Riera Palacio, Mª Esther","Asturiana","D","Tercera Corazón","Competición",3,{"$f":"VLOOKUP(E2898,Referencias!$B$4:$C$15,2,FALSE())","v":"3C"},{"$f":"VLOOKUP(C2898,Referencias!$B$18:$C$34,2,FALSE())","v":"PA"},"C"]
["3301273","González Landa, Fernando","Asturiana","C","Tercera Diamante","Competición",3,{"$f":"VLOOKUP(E2899,Referencias!$B$4:$C$15,2,FALSE())","v":"3D"},{"$f":"VLOOKUP(C2899,Referencias!$B$18:$C$34,2,FALSE())","v":"PA"},"C"]
["3301275","Bárcena Suárez, Carmen","Asturiana","D","Segunda Corazón","Competición",2,{"$f":"VLOOKUP(E2900,Referencias!$B$4:$C$15,2,FALSE())","v":"2C"},{"$f":"VLOOKUP(C2900,Referencias!$B$18:$C$34,2,FALSE())","v":"PA"},"C"]
["3301276","Abad González, Angeles","Asturiana","D","Tercera Corazón","Competición",3,{"$f":"VLOOKUP(E2901,Referencias!$B$4:$C$15,2,FALSE())","v":"3C"},{"$f":"VLOOKUP(C2901,Referencias!$B$18:$C$34,2,FALSE())","v":"PA"},"C"]
["3301277","García Vega, Mercedes","Asturiana","D","Primera Corazón","Competición",1,{"$f":"VLOOKUP(E2902,Referencias!$B$4:$C$15,2,FALSE())","v":"1C"},{"$f":"VLOOKUP(C2902,Referencias!$B$18:$C$34,2,FALSE())","v":"PA"},"C"]
["3301281","Felgueroso León, Mª Antonia","Asturiana","D","Tercera Corazón","Competición",3,{"$f":"VLOOKUP(E2903,Referencias!$B$4:$C$15,2,FALSE())","v":"3C"},{"$f":"VLOOKUP(C2903,Referencias!$B$18:$C$34,2,FALSE())","v":"PA"},"C"]
["3301282","Arce Solares, Amparo","Asturiana","D","Tercera Diamante","Competición",3,{"$f":"VLOOKUP(E2904,Referencias!$B$4:$C$15,2,FALSE())","v":"3D"},{"$f":"VLOOKUP(C2904,Referencias!$B$18:$C$34,2,FALSE())","v":"PA"},"C"]
["3301283","García Adaro, Mª Teresa","Asturiana","D","Tercera Diamante","Competición",3,{"$f":"VLOOKUP(E2905,Referencias!$B$4:$C$15,2,FALSE())","v":"3D"},{"$f":"VLOOKUP(C2905,Referencias!$B$18:$C$34,2,FALSE())","v":"PA"},"C"]
["3301286","Campa García, Margarita","Asturiana","D","Tercera Corazón","Competición",3,{"$f":"VLOOKUP(E2906,Referencias!$B$4:$C$15,2,FALSE())","v":"3C"},{"$f":"VLOOKUP(C2906,Referencias!$B$18:$C$34,2,FALSE())","v":"PA"},"C"]
["3301289","Medal García, Ana","Asturiana","D","Tercera Diamante","Competición",3,{"$f":"VLOOKUP(E2907,Referencias!$B$4:$C$15,2,FALSE())","v":"3D"},{"$f":"VLOOKUP(C2907,Referencias!$B$18:$C$34,2,FALSE())","v":"PA"},"C"]
["3301290","Menéndez Muñiz, María Luisa","Asturiana","D","Primera Corazón","Competición",1,{"$f":"VLOOKUP(E2908,Referencias!$B$4:$C$15,2,FALSE())","v":"1C"},{"$f":"VLOOKUP(C2908,Referencias!$B$18:$C$34,2,FALSE())","v":"PA"},"C"]
["3301291","Cortina Frade, José Carlos","Asturiana","C","Tercera Corazón","Competición",3,{"$f":"VLOOKUP(E2909,Referencias!$B$4:$C$15,2,FALSE())","v":"3C"},{"$f":"VLOOKUP(C2909,Referencias!$B$18:$C$34,2,FALSE())","v":"PA"},"C"]
["3301292","Cimadevilla Artime, Fernanda","Asturiana","D","Tercera Corazón","Competición",3,{"$f":"VLOOKUP(E2910,Referencias!$B$4:$C$15,2,FALSE())","v":"3C"},{"$f":"VLOOKUP(C2910,Referencias!$B$18:$C$34,2,FALSE())","v":"PA"},"C"]
["3301293","Navia Fernández, Sara","Asturiana","D","Tercera Picas","Competición",3,{"$f":"VLOOKUP(E2911,Referencias!$B$4:$C$15,2,FALSE())","v":"3P"},{"$f":"VLOOKUP(C2911,Referencias!$B$18:$C$34,2,FALSE())","v":"PA"},"C"]
["3301295","Fernández Granda, Pilar","Asturiana","D","Tercera Picas","Competición",3,{"$f":"VLOOKUP(E2912,Referencias!$B$4:$C$15,2,FALSE())","v":"3P"},{"$f":"VLOOKUP(C2912,Referencias!$B$18:$C$34,2,FALSE())","v":"PA"},"C"]
["3301296","Escandón Díaz, María Teresa","Asturiana","D","Tercera Diamante","Competición",3,{"$f":"VLOOKUP(E2913,Referencias!$B$4:$C$15,2,FALSE())","v":"3D"},{"$f":"VLOOKUP(C2913,Referencias!$B$18:$C$34,2,FALSE())","v":"PA"},"C"]
["3301299","Chacón Pérez, Carmen","Asturiana","D","Tercera Corazón","Competición",3,{"$f":"VLOOKUP(E2914,Referencias!$B$4:$C$15,2,FALSE())","v":"3C"},{"$f":"VLOOKUP(C2914,Referencias!$B$18:$C$34,2,FALSE())","v":"PA"},"C"]
["3301300","Perez-Campoamor Navarro, Reyes","Asturiana","D","Segunda Diamante","Competición",2,{"$f":"VLOOKUP(E2915,Referencias!$B$4:$C$15,2,FALSE())","v":"2D"},{"$f":"VLOOKUP(C2915,Referencias!$B$18:$C$34,2,FALSE())","v":"PA"},"C"]
["3301301","De Manuel Galán, María Antonia","Asturiana","D","Sin Categoría","Competición",4,{"$f":"VLOOKUP(E2916,Referencias!$B$4:$C$15,2,FALSE())","v":"SC"},{"$f":"VLOOKUP(C2916,Referencias!$B$18:$C$34,2,FALSE())","v":"PA"},"C"]
["3301302","Pérez Tárrega, Paz","Asturiana","D","Tercera Diamante","Competición",3,{"$f":"VLOOKUP(E2917,Referencias!$B$4:$C$15,2,FALSE())","v":"3D"},{"$f":"VLOOKUP(C2917,Referencias!$B$18:$C$34,2,FALSE())","v":"PA"},"C"]
["3301305","López Alvarez, Montserrat","Asturiana","D","Tercera Picas","Competición",3,{"$f":"VLOOKUP(E2918,Referencias!$B$4:$C$15,2,FALSE())","v":"3P"},{"$f":"VLOOKUP(C2918,Referencias!$B$18:$C$34,2,FALSE())","v":"PA"},"C"]
["3301308","Alonso Burgos, Eloisa","Asturiana","D","Sin Categoría","Competición",4,{"$f":"VLOOKUP(E2919,Referencias!$B$4:$C$15,2,FALSE())","v":"SC"},{"$f":"VLOOKUP(C2919,Referencias!$B$18:$C$34,2,FALSE())","v":"PA"},"C"]
["3301309","Miyares Gonzalez-Coto, Mª Antonia","Asturiana","D","Segunda Diamante","Competición",2,{"$f":"VLOOKUP(E2920,Referencias!$B$4:$C$15,2,FALSE())","v":"2D"},{"$f":"VLOOKUP(C2920,Referencias!$B$18:$C$34,2,FALSE())","v":"PA"},"C"]
["3301310","Martinez Sanchez, Miguel Angel","Asturiana","C","Tercera Picas","Competición",3,{"$f":"VLOOKUP(E2921,Referencias!$B$4:$C$15,2,FALSE())","v":"3P"},{"$f":"VLOOKUP(C2921,Referencias!$B$18:$C$34,2,FALSE())","v":"PA"},"C"]
["3301319","Ramos Alonso, Sonia","Asturiana","D","Sin Categoría","Competición",4,{"$f":"VLOOKUP(E2922,Referencias!$B$4:$C$15,2,FALSE())","v":"SC"},{"$f":"VLOOKUP(C2922,Referencias!$B$18:$C$34,2,FALSE())","v":"PA"},"C"]
["3301322","Felgueroso Fernandez, Mª Eladia","Asturiana","D","Tercera Diamante","Competición",3,{"$f":"VLOOKUP(E2923,Referencias!$B$4:$C$15,2,FALSE())","v":"3D"},{"$f":"VLOOKUP(C2923,Referencias!$B$18:$C$34,2,FALSE())","v":"PA"},"C"]
["3301324","Peña Guiney, Leonor","Asturiana","D","Tercera Diamante","Competición",3,{"$f":"VLOOKUP(E2924,Referencias!$B$4:$C$15,2,FALSE())","v":"3D"},{"$f":"VLOOKUP(C2924,Referencias!$B$18:$C$34,2,FALSE())","v":"PA"},"C"]
["3301325","Morenés Falcó, Livia","Asturiana","D","Sin Categoría","Competición",4,{"$f":"VLOOKUP(E2925,Referencias!$B$4:$C$15,2,FALSE())","v":"SC"},{"$f":"VLOOKUP(C2925,Referencias!$B$18:$C$34,2,FALSE())","v":"PA"},"C"]
["3301326","García Alvarez, Mª del Carmen","Asturiana","D","Tercera Diamante","Competición",3,{"$f":"VLOOKUP(E2926,Referencias!$B$4:$C$15,2,FALSE())","v":"3D"},{"$f":"VLOOKUP(C2926,Referencias!$B$18:$C$34,2,FALSE())","v":"PA"},"C"]
["3301328","Rionda Fernández, Ana María","Asturiana","D","Tercera Diamante","Competición",3,{"$f":"VLOOKUP(E2927,Referencias!$B$4:$C$15,2,FALSE())","v":"3D"},{"$f":"VLOOKUP(C2927,Referencias!$B$18:$C$34,2,FALSE())","v":"PA"},"C"]
["3301331","García Muñiz, Luisa María","Asturiana","D","Segunda Diamante","Competición",2,{"$f":"VLOOKUP(E2928,Referencias!$B$4:$C$15,2,FALSE())","v":"2D"},{"$f":"VLOOKUP(C2928,Referencias!$B$18:$C$34,2,FALSE())","v":"PA"},"C"]
["3301338","Aranguren Ispizua, Mónica","Asturiana","D","Sin Categoría","Competición",4,{"$f":"VLOOKUP(E2929,Referencias!$B$4:$C$15,2,FALSE())","v":"SC"},{"$f":"VLOOKUP(C2929,Referencias!$B$18:$C$34,2,FALSE())","v":"PA"},"C"]
["3301339","García García, Amparo","Asturiana","D","Tercera Diamante","Competición",3,{"$f":"VLOOKUP(E2930,Referencias!$B$4:$C$15,2,FALSE())","v":"3D"},{"$f":"VLOOKUP(C2930,Referencias!$B$18:$C$34,2,FALSE())","v":"PA"},"C"]
["3301344","Sánz Llaneza, María Trinidad","Asturiana","D","Sin Categoría","Competición",4,{"$f":"VLOOKUP(E2931,Referencias!$B$4:$C$15,2,FALSE())","v":"SC"},{"$f":"VLOOKUP(C2931,Referencias!$B$18:$C$34,2,FALSE())","v":"PA"},"C"]
["3301348","Olay Villasanjurjo, Mª Carmen","Asturiana","D","Segunda Diamante","Competición",2,{"$f":"VLOOKUP(E2932,Referencias!$B$4:$C$15,2,FALSE())","v":"2D"},{"$f":"VLOOKUP(C2932,Referencias!$B$18:$C$34,2,FALSE())","v":"PA"},"C"]
["3301349","Sánchez - Ocaña Olay, Susana","Asturiana","D","Tercera Corazón","Competición",3,{"$f":"VLOOKUP(E2933,Referencias!$B$4:$C$15,2,FALSE())","v":"3C"},{"$f":"VLOOKUP(C2933,Referencias!$B$18:$C$34,2,FALSE())","v":"PA"},"C"]
["3301350","Del Palacio Blanco, Carolina","Asturiana","D","Tercera Diamante","Competición",3,{"$f":"VLOOKUP(E2934,Referencias!$B$4:$C$15,2,FALSE())","v":"3D"},{"$f":"VLOOKUP(C2934,Referencias!$B$18:$C$34,2,FALSE())","v":"PA"},"C"]
["3301354","Hinojal Sánz, Jose Luis","Asturiana","C","Sin Categoría","Competición",4,{"$f":"VLOOKUP(E2935,Referencias!$B$4:$C$15,2,FALSE())","v":"SC"},{"$f":"VLOOKUP(C2935,Referencias!$B$18:$C$34,2,FALSE())","v":"PA"},"C"]
["3301357","Calvo Aladro, Rosa","Asturiana","D","Tercera Diamante","Competición",3,{"$f":"VLOOKUP(E2936,Referencias!$B$4:$C$15,2,FALSE())","v":"3D"},{"$f":"VLOOKUP(C2936,Referencias!$B$18:$C$34,2,FALSE())","v":"PA"},"C"]
["3301358","Gordon, Mick","Asturiana","C","Sin Categoría","Competición",4,{"$f":"VLOOKUP(E2937,Referencias!$B$4:$C$15,2,FALSE())","v":"SC"},{"$f":"VLOOKUP(C2937,Referencias!$B$18:$C$34,2,FALSE())","v":"PA"},"C"]
["3301359","Galbis Dolz de Espejo, María","Asturiana","D","Sin Categoría","Competición",4,{"$f":"VLOOKUP(E2938,Referencias!$B$4:$C$15,2,FALSE())","v":"SC"},{"$f":"VLOOKUP(C2938,Referencias!$B$18:$C$34,2,FALSE())","v":"PA"},"C"]
["3301360","Díaz Solano, Mª Dolores","Asturiana","D","Segunda Picas","Competición",2,{"$f":"VLOOKUP(E2939,Referencias!$B$4:$C$15,2,FALSE())","v":"2P"},{"$f":"VLOOKUP(C2939,Referencias!$B$18:$C$34,2,FALSE())","v":"PA"},"C"]
["3301361","Díaz Solano, Ana","Asturiana","D","Segunda Corazón","Competición",2,{"$f":"VLOOKUP(E2940,Referencias!$B$4:$C$15,2,FALSE())","v":"2C"},{"$f":"VLOOKUP(C2940,Referencias!$B$18:$C$34,2,FALSE())","v":"PA"},"C"]
["3301362","Fernández Bustillo, María","Asturiana","D","Tercera Corazón","Competición",3,{"$f":"VLOOKUP(E2941,Referencias!$B$4:$C$15,2,FALSE())","v":"3C"},{"$f":"VLOOKUP(C2941,Referencias!$B$18:$C$34,2,FALSE())","v":"PA"},"C"]
["3301363","Astudillo González, Armando","Asturiana","C","Tercera Corazón","Competición",3,{"$f":"VLOOKUP(E2942,Referencias!$B$4:$C$15,2,FALSE())","v":"3C"},{"$f":"VLOOKUP(C2942,Referencias!$B$18:$C$34,2,FALSE())","v":"PA"},"C"]
["3301364","Beheshti Tonos, Soraya","Asturiana","D","Tercera Diamante","Competición",3,{"$f":"VLOOKUP(E2943,Referencias!$B$4:$C$15,2,FALSE())","v":"3D"},{"$f":"VLOOKUP(C2943,Referencias!$B$18:$C$34,2,FALSE())","v":"PA"},"C"]
["3301365","Tonos Galik, Robert-John","Asturiana","C","Tercera Diamante","Competición",3,{"$f":"VLOOKUP(E2944,Referencias!$B$4:$C$15,2,FALSE())","v":"3D"},{"$f":"VLOOKUP(C2944,Referencias!$B$18:$C$34,2,FALSE())","v":"PA"},{"$f":"IF(D2944=\"Dama\",\"D\",\"C\")","v":"C"}]
["3301366","Martín Sánchez, Matilde Isabel","Asturiana","D","Tercera Picas","Competición",3,{"$f":"VLOOKUP(E2945,Referencias!$B$4:$C$15,2,FALSE())","v":"3P"},{"$f":"VLOOKUP(C2945,Referencias!$B$18:$C$34,2,FALSE())","v":"PA"},"C"]
["3301368","Navarro Suárez, Mª del Mar","Asturiana","D","Tercera Diamante","Competición",3,{"$f":"VLOOKUP(E2946,Referencias!$B$4:$C$15,2,FALSE())","v":"3D"},{"$f":"VLOOKUP(C2946,Referencias!$B$18:$C$34,2,FALSE())","v":"PA"},"C"]
["3301369","Alvarez López, Mª Isabel","Asturiana","D","Tercera Corazón","Competición",3,{"$f":"VLOOKUP(E2947,Referencias!$B$4:$C$15,2,FALSE())","v":"3C"},{"$f":"VLOOKUP(C2947,Referencias!$B$18:$C$34,2,FALSE())","v":"PA"},"C"]
["3301370","Ramos Roca, Josefina Jesús","Asturiana","D","Sin Categoría","Competición",4,{"$f":"VLOOKUP(E2948,Referencias!$B$4:$C$15,2,FALSE())","v":"SC"},{"$f":"VLOOKUP(C2948,Referencias!$B$18:$C$34,2,FALSE())","v":"PA"},"C"]
["3301372","Rodríguez López, María Cristina","Asturiana","D","Segunda Diamante","Competición",2,{"$f":"VLOOKUP(E2949,Referencias!$B$4:$C$15,2,FALSE())","v":"2D"},{"$f":"VLOOKUP(C2949,Referencias!$B$18:$C$34,2,FALSE())","v":"PA"},"C"]
["3301374","Ventura Alvárez- Arenas, María Africa","Asturiana","D","Tercera Diamante","Competición",3,{"$f":"VLOOKUP(E2950,Referencias!$B$4:$C$15,2,FALSE())","v":"3D"},{"$f":"VLOOKUP(C2950,Referencias!$B$18:$C$34,2,FALSE())","v":"PA"},"C"]
["3301375","Amez Ventura, Maria Africa","Asturiana","D","Tercera Diamante","Competición",3,{"$f":"VLOOKUP(E2951,Referencias!$B$4:$C$15,2,FALSE())","v":"3D"},{"$f":"VLOOKUP(C2951,Referencias!$B$18:$C$34,2,FALSE())","v":"PA"},"C"]
["3301379","Vinagre Castaño, Jose Antonio","Asturiana","C","Segunda Diamante","Competición",2,{"$f":"VLOOKUP(E2952,Referencias!$B$4:$C$15,2,FALSE())","v":"2D"},{"$f":"VLOOKUP(C2952,Referencias!$B$18:$C$34,2,FALSE())","v":"PA"},"C"]
["3301380","Domínguez Pequeño, Beatriz","Asturiana","D","Tercera Diamante","Competición",3,{"$f":"VLOOKUP(E2953,Referencias!$B$4:$C$15,2,FALSE())","v":"3D"},{"$f":"VLOOKUP(C2953,Referencias!$B$18:$C$34,2,FALSE())","v":"PA"},"C"]
["3301382","Petrelli Carlocchia, Marta Beatriz","Asturiana","D","Tercera Diamante","Competición",3,{"$f":"VLOOKUP(E2954,Referencias!$B$4:$C$15,2,FALSE())","v":"3D"},{"$f":"VLOOKUP(C2954,Referencias!$B$18:$C$34,2,FALSE())","v":"PA"},"C"]
["3301383","Singer, Jenny","Asturiana","D","Tercera Diamante","Competición",3,{"$f":"VLOOKUP(E2955,Referencias!$B$4:$C$15,2,FALSE())","v":"3D"},{"$f":"VLOOKUP(C2955,Referencias!$B$18:$C$34,2,FALSE())","v":"PA"},"C"]
["3301384","Castaño García, A. Fernando","Asturiana","C","Tercera Diamante","Competición",3,{"$f":"VLOOKUP(E2956,Referencias!$B$4:$C$15,2,FALSE())","v":"3D"},{"$f":"VLOOKUP(C2956,Referencias!$B$18:$C$34,2,FALSE())","v":"PA"},"C"]
["3301385","Lueje Beltrán, Carlos","Asturiana","C","Tercera Diamante","Competición",3,{"$f":"VLOOKUP(E2957,Referencias!$B$4:$C$15,2,FALSE())","v":"3D"},{"$f":"VLOOKUP(C2957,Referencias!$B$18:$C$34,2,FALSE())","v":"PA"},"C"]
["3301386","Fenor Luque, Consuelo","Asturiana","D","Tercera Diamante","Competición",3,{"$f":"VLOOKUP(E2958,Referencias!$B$4:$C$15,2,FALSE())","v":"3D"},{"$f":"VLOOKUP(C2958,Referencias!$B$18:$C$34,2,FALSE())","v":"PA"},"C"]
["3301388","González Álvarez,, Mª Luisa","Asturiana","D","Tercera Diamante","Competición",3,{"$f":"VLOOKUP(E2959,Referencias!$B$4:$C$15,2,FALSE())","v":"3D"},{"$f":"VLOOKUP(C2959,Referencias!$B$18:$C$34,2,FALSE())","v":"PA"},"C"]
["3301389","Loredo Sierra, Beatriz","Asturiana","D","Segunda Diamante","Competición",2,{"$f":"VLOOKUP(E2960,Referencias!$B$4:$C$15,2,FALSE())","v":"2D"},{"$f":"VLOOKUP(C2960,Referencias!$B$18:$C$34,2,FALSE())","v":"PA"},"C"]
["3301390","Parapar Pérez, Carmen","Asturiana","D","Tercera Diamante","Competición",3,{"$f":"VLOOKUP(E2961,Referencias!$B$4:$C$15,2,FALSE())","v":"3D"},{"$f":"VLOOKUP(C2961,Referencias!$B$18:$C$34,2,FALSE())","v":"PA"},"C"]
["3301392","Coya González, Patricia","Asturiana","D","Tercera Diamante","Competición",3,{"$f":"VLOOKUP(E2962,Referencias!$B$4:$C$15,2,FALSE())","v":"3D"},{"$f":"VLOOKUP(C2962,Referencias!$B$18:$C$34,2,FALSE())","v":"PA"},"C"]
["3301393","López González, Juan Luis","Asturiana","C","Tercera Corazón","Competición",3,{"$f":"VLOOKUP(E2963,Referencias!$B$4:$C$15,2,FALSE())","v":"3C"},{"$f":"VLOOKUP(C2963,Referencias!$B$18:$C$34,2,FALSE())","v":"PA"},"C"]
["3301394","Martins Silva, Jose Julio","Asturiana","C","Segunda Picas","Competición",2,{"$f":"VLOOKUP(E2964,Referencias!$B$4:$C$15,2,FALSE())","v":"2P"},{"$f":"VLOOKUP(C2964,Referencias!$B$18:$C$34,2,FALSE())","v":"PA"},"C"]
["3301395","Fernández-Villanueva González, Mª Dolores","Asturiana","D","Tercera Corazón","Competición",3,{"$f":"VLOOKUP(E2965,Referencias!$B$4:$C$15,2,FALSE())","v":"3C"},{"$f":"VLOOKUP(C2965,Referencias!$B$18:$C$34,2,FALSE())","v":"PA"},"C"]
["3301396","Río Elías, Maria Jesús","Asturiana","D","Tercera Diamante","Competición",3,{"$f":"VLOOKUP(E2966,Referencias!$B$4:$C$15,2,FALSE())","v":"3D"},{"$f":"VLOOKUP(C2966,Referencias!$B$18:$C$34,2,FALSE())","v":"PA"},"C"]
["3301397","González Alonso, María Isabel","Asturiana","D","Tercera Picas","Competición",3,{"$f":"VLOOKUP(E2967,Referencias!$B$4:$C$15,2,FALSE())","v":"3P"},{"$f":"VLOOKUP(C2967,Referencias!$B$18:$C$34,2,FALSE())","v":"PA"},"C"]
["3301398","Cerra Moreno, Cruz","Asturiana","D","Sin Categoría","Competición",4,{"$f":"VLOOKUP(E2968,Referencias!$B$4:$C$15,2,FALSE())","v":"SC"},{"$f":"VLOOKUP(C2968,Referencias!$B$18:$C$34,2,FALSE())","v":"PA"},"C"]
["3301399","Costales Caso, María del Mar","Asturiana","D","Sin Categoría","Competición",4,{"$f":"VLOOKUP(E2969,Referencias!$B$4:$C$15,2,FALSE())","v":"SC"},{"$f":"VLOOKUP(C2969,Referencias!$B$18:$C$34,2,FALSE())","v":"PA"},"C"]
["3301400","Jiménez Pruneda, Rosa María","Asturiana","D","Segunda Corazón","Competición",2,{"$f":"VLOOKUP(E2970,Referencias!$B$4:$C$15,2,FALSE())","v":"2C"},{"$f":"VLOOKUP(C2970,Referencias!$B$18:$C$34,2,FALSE())","v":"PA"},"C"]
["3301401","Canseco González, Carmen","Asturiana","D","Tercera Diamante","Competición",3,{"$f":"VLOOKUP(E2971,Referencias!$B$4:$C$15,2,FALSE())","v":"3D"},{"$f":"VLOOKUP(C2971,Referencias!$B$18:$C$34,2,FALSE())","v":"PA"},"C"]
["3301402","De Santiago Díez, Angeles","Asturiana","D","Tercera Diamante","Competición",3,{"$f":"VLOOKUP(E2972,Referencias!$B$4:$C$15,2,FALSE())","v":"3D"},{"$f":"VLOOKUP(C2972,Referencias!$B$18:$C$34,2,FALSE())","v":"PA"},"C"]
["3301403","Durán Ayala, Jerónimo","Asturiana","C","Tercera Diamante","Competición",3,{"$f":"VLOOKUP(E2973,Referencias!$B$4:$C$15,2,FALSE())","v":"3D"},{"$f":"VLOOKUP(C2973,Referencias!$B$18:$C$34,2,FALSE())","v":"PA"},"C"]
["3301404","Sánchez Sobrino, Yolanda","Asturiana","D","Tercera Diamante","Competición",3,{"$f":"VLOOKUP(E2974,Referencias!$B$4:$C$15,2,FALSE())","v":"3D"},{"$f":"VLOOKUP(C2974,Referencias!$B$18:$C$34,2,FALSE())","v":"PA"},"C"]
["3301405","Miguez García, Irene","Asturiana","D","Tercera Diamante","Competición",3,{"$f":"VLOOKUP(E2975,Referencias!$B$4:$C$15,2,FALSE())","v":"3D"},{"$f":"VLOOKUP(C2975,Referencias!$B$18:$C$34,2,FALSE())","v":"PA"},"C"]
["3301406","Fernández Ovies, Francisco Javier","Asturiana","C","Tercera Picas","Competición",3,{"$f":"VLOOKUP(E2976,Referencias!$B$4:$C$15,2,FALSE())","v":"3P"},{"$f":"VLOOKUP(C2976,Referencias!$B$18:$C$34,2,FALSE())","v":"PA"},"C"]
["3301407","Alonso de Medina, Francisco Javier","Asturiana","C","Sin Categoría","Competición",4,{"$f":"VLOOKUP(E2977,Referencias!$B$4:$C$15,2,FALSE())","v":"SC"},{"$f":"VLOOKUP(C2977,Referencias!$B$18:$C$34,2,FALSE())","v":"PA"},"C"]
["3301408","Aguilar Fajardo, María Josefa","Asturiana","D","Sin Categoría","Competición",4,{"$f":"VLOOKUP(E2978,Referencias!$B$4:$C$15,2,FALSE())","v":"SC"},{"$f":"VLOOKUP(C2978,Referencias!$B$18:$C$34,2,FALSE())","v":"PA"},"C"]
["3301409","Ontañon González-Fierro, Cristina","Asturiana","D","Tercera Diamante","Competición",3,{"$f":"VLOOKUP(E2979,Referencias!$B$4:$C$15,2,FALSE())","v":"3D"},{"$f":"VLOOKUP(C2979,Referencias!$B$18:$C$34,2,FALSE())","v":"PA"},"C"]
["3301411","Magariños Coton, Elisa","Asturiana","D","Tercera Diamante","Competición",3,{"$f":"VLOOKUP(E2980,Referencias!$B$4:$C$15,2,FALSE())","v":"3D"},{"$f":"VLOOKUP(C2980,Referencias!$B$18:$C$34,2,FALSE())","v":"PA"},"C"]
["3301412","García-Vega, Maria Elena","Asturiana","D","Sin Categoría","Competición",4,{"$f":"VLOOKUP(E2981,Referencias!$B$4:$C$15,2,FALSE())","v":"SC"},{"$f":"VLOOKUP(C2981,Referencias!$B$18:$C$34,2,FALSE())","v":"PA"},"C"]
["3301413","Simarro Martín-Ambrosio, Mª Isabel","Asturiana","D","Sin Categoría","Competición",4,{"$f":"VLOOKUP(E2982,Referencias!$B$4:$C$15,2,FALSE())","v":"SC"},{"$f":"VLOOKUP(C2982,Referencias!$B$18:$C$34,2,FALSE())","v":"PA"},"C"]
["3301414","Herrero Cuevas, María Lucía","Asturiana","D","Tercera Diamante","Competición",3,{"$f":"VLOOKUP(E2983,Referencias!$B$4:$C$15,2,FALSE())","v":"3D"},{"$f":"VLOOKUP(C2983,Referencias!$B$18:$C$34,2,FALSE())","v":"PA"},"C"]
["3301415","Diz Astray, Babilia","Asturiana","D","Sin Categoría","Competición",4,{"$f":"VLOOKUP(E2984,Referencias!$B$4:$C$15,2,FALSE())","v":"SC"},{"$f":"VLOOKUP(C2984,Referencias!$B$18:$C$34,2,FALSE())","v":"PA"},"C"]
["3301416","Canal Sastre, Ana","Asturiana","D","Tercera Diamante","Competición",3,{"$f":"VLOOKUP(E2985,Referencias!$B$4:$C$15,2,FALSE())","v":"3D"},{"$f":"VLOOKUP(C2985,Referencias!$B$18:$C$34,2,FALSE())","v":"PA"},"C"]
["3301417","Quiros Montes de Oca, Francisco","Asturiana","C","Tercera Diamante","Competición",3,{"$f":"VLOOKUP(E2986,Referencias!$B$4:$C$15,2,FALSE())","v":"3D"},{"$f":"VLOOKUP(C2986,Referencias!$B$18:$C$34,2,FALSE())","v":"PA"},"C"]
["3301418","Liñero de Azcárate, Liliana","Asturiana","D","Tercera Diamante","Competición",3,{"$f":"VLOOKUP(E2987,Referencias!$B$4:$C$15,2,FALSE())","v":"3D"},{"$f":"VLOOKUP(C2987,Referencias!$B$18:$C$34,2,FALSE())","v":"PA"},"C"]
["3301419","González Martínez, Cristina","Asturiana","D","Tercera Diamante","Competición",3,{"$f":"VLOOKUP(E2988,Referencias!$B$4:$C$15,2,FALSE())","v":"3D"},{"$f":"VLOOKUP(C2988,Referencias!$B$18:$C$34,2,FALSE())","v":"PA"},"C"]
["3301420","Ortiz Rey, Raquel","Asturiana","D","Sin Categoría","Competición",4,{"$f":"VLOOKUP(E2989,Referencias!$B$4:$C$15,2,FALSE())","v":"SC"},{"$f":"VLOOKUP(C2989,Referencias!$B$18:$C$34,2,FALSE())","v":"PA"},"C"]
["3301421","Olmos Fernández-Corugedo, Elena","Asturiana","D","Sin Categoría","Competición",4,{"$f":"VLOOKUP(E2990,Referencias!$B$4:$C$15,2,FALSE())","v":"SC"},{"$f":"VLOOKUP(C2990,Referencias!$B$18:$C$34,2,FALSE())","v":"PA"},"C"]
["3301422","Lepine, Christine","Asturiana","C","Sin Categoría","Competición",4,{"$f":"VLOOKUP(E2991,Referencias!$B$4:$C$15,2,FALSE())","v":"SC"},{"$f":"VLOOKUP(C2991,Referencias!$B$18:$C$34,2,FALSE())","v":"PA"},"C"]
["3301423","Rodriguez - Rovira, Gemma","Asturiana","D","Tercera Diamante","Competición",3,{"$f":"VLOOKUP(E2992,Referencias!$B$4:$C$15,2,FALSE())","v":"3D"},{"$f":"VLOOKUP(C2992,Referencias!$B$18:$C$34,2,FALSE())","v":"PA"},"C"]
["3301424","Cristos Bonal, Isabel","Asturiana","D","Tercera Diamante","Competición",3,{"$f":"VLOOKUP(E2993,Referencias!$B$4:$C$15,2,FALSE())","v":"3D"},{"$f":"VLOOKUP(C2993,Referencias!$B$18:$C$34,2,FALSE())","v":"PA"},"C"]
["3301425","Ripoll Pernas, María Dolores","Asturiana","D","Tercera Diamante","Competición",3,{"$f":"VLOOKUP(E2994,Referencias!$B$4:$C$15,2,FALSE())","v":"3D"},{"$f":"VLOOKUP(C2994,Referencias!$B$18:$C$34,2,FALSE())","v":"PA"},"C"]
["3301426","Suárez de Luis, Laura","Asturiana","D","Tercera Picas","Competición",3,{"$f":"VLOOKUP(E2995,Referencias!$B$4:$C$15,2,FALSE())","v":"3P"},{"$f":"VLOOKUP(C2995,Referencias!$B$18:$C$34,2,FALSE())","v":"PA"},"C"]
["3301427","González Fernández, Ana María","Asturiana","D","Sin Categoría","Competición",4,{"$f":"VLOOKUP(E2996,Referencias!$B$4:$C$15,2,FALSE())","v":"SC"},{"$f":"VLOOKUP(C2996,Referencias!$B$18:$C$34,2,FALSE())","v":"PA"},"C"]
["3301428","Muñiz Cueto, María Genoveva","Asturiana","D","Sin Categoría","Competición",4,{"$f":"VLOOKUP(E2997,Referencias!$B$4:$C$15,2,FALSE())","v":"SC"},{"$f":"VLOOKUP(C2997,Referencias!$B$18:$C$34,2,FALSE())","v":"PA"},"C"]
["3301429","Martínez Álvarez, Carla","Asturiana","D","Sin Categoría","Competición",4,{"$f":"VLOOKUP(E2998,Referencias!$B$4:$C$15,2,FALSE())","v":"SC"},{"$f":"VLOOKUP(C2998,Referencias!$B$18:$C$34,2,FALSE())","v":"PA"},"C"]
["3305502","Reiber de Tartiere, Ingeborg","Asturiana","D","Segunda Corazón","Competición",2,{"$f":"VLOOKUP(E2999,Referencias!$B$4:$C$15,2,FALSE())","v":"2C"},{"$f":"VLOOKUP(C2999,Referencias!$B$18:$C$34,2,FALSE())","v":"PA"},"C"]
["3305513","Arias Alonso, Dolores","Asturiana","D","Segunda Diamante","Competición",2,{"$f":"VLOOKUP(E3000,Referencias!$B$4:$C$15,2,FALSE())","v":"2D"},{"$f":"VLOOKUP(C3000,Referencias!$B$18:$C$34,2,FALSE())","v":"PA"},"C"]
["3305518","Iglesias de Monreal, M. Josefa","Asturiana","D","Sin Categoría","Competición",4,{"$f":"VLOOKUP(E3001,Referencias!$B$4:$C$15,2,FALSE())","v":"SC"},{"$f":"VLOOKUP(C3001,Referencias!$B$18:$C$34,2,FALSE())","v":"PA"},"C"]
["3305520","Bonal Salanova, M. Angeles","Asturiana","D","Primera Picas","Competición",1,{"$f":"VLOOKUP(E3002,Referencias!$B$4:$C$15,2,FALSE())","v":"1P"},{"$f":"VLOOKUP(C3002,Referencias!$B$18:$C$34,2,FALSE())","v":"PA"},"C"]
["3305521","Prendes de Artigas, Ana","Asturiana","D","Primera Picas","Competición",1,{"$f":"VLOOKUP(E3003,Referencias!$B$4:$C$15,2,FALSE())","v":"1P"},{"$f":"VLOOKUP(C3003,Referencias!$B$18:$C$34,2,FALSE())","v":"PA"},"C"]
["3305526","Urquiola Permisán, Carmen","Asturiana","D","Tercera Picas","Competición",3,{"$f":"VLOOKUP(E3004,Referencias!$B$4:$C$15,2,FALSE())","v":"3P"},{"$f":"VLOOKUP(C3004,Referencias!$B$18:$C$34,2,FALSE())","v":"PA"},"C"]
["3305530","Fernández-Corugedo, Concepción","Asturiana","D","Segunda Diamante","Competición",2,{"$f":"VLOOKUP(E3005,Referencias!$B$4:$C$15,2,FALSE())","v":"2D"},{"$f":"VLOOKUP(C3005,Referencias!$B$18:$C$34,2,FALSE())","v":"PA"},"C"]
["3305539","Bonal Salanova, Dolores","Asturiana","D","Primera Picas","Honorífica",1,{"$f":"VLOOKUP(E3006,Referencias!$B$4:$C$15,2,FALSE())","v":"1P"},{"$f":"VLOOKUP(C3006,Referencias!$B$18:$C$34,2,FALSE())","v":"PA"},"C"]
["3305545","Zueras de López-Acha, Cristina","Asturiana","D","Primera Picas","Competición",1,{"$f":"VLOOKUP(E3007,Referencias!$B$4:$C$15,2,FALSE())","v":"1P"},{"$f":"VLOOKUP(C3007,Referencias!$B$18:$C$34,2,FALSE())","v":"PA"},"C"]
["3305546","Sempau Bárcena, Amparo","Asturiana","D","Primera Picas","Competición",1,{"$f":"VLOOKUP(E3008,Referencias!$B$4:$C$15,2,FALSE())","v":"1P"},{"$f":"VLOOKUP(C3008,Referencias!$B$18:$C$34,2,FALSE())","v":"PA"},{"$f":"IF(D3008=\"Dama\",\"D\",\"C\")","v":"C"}]
["3305547","García-Morán, Manuel","Asturiana","C","Primera Picas","Competición",1,{"$f":"VLOOKUP(E3009,Referencias!$B$4:$C$15,2,FALSE())","v":"1P"},{"$f":"VLOOKUP(C3009,Referencias!$B$18:$C$34,2,FALSE())","v":"PA"},"C"]
["3305551","Montoto Arias, M. Antonia","Asturiana","D","Segunda Picas","Competición",2,{"$f":"VLOOKUP(E3010,Referencias!$B$4:$C$15,2,FALSE())","v":"2P"},{"$f":"VLOOKUP(C3010,Referencias!$B$18:$C$34,2,FALSE())","v":"PA"},"C"]
["3305552","Gutíerrez Ballesteros, Angel","Asturiana","C","Sin Categoría","Competición",4,{"$f":"VLOOKUP(E3011,Referencias!$B$4:$C$15,2,FALSE())","v":"SC"},{"$f":"VLOOKUP(C3011,Referencias!$B$18:$C$34,2,FALSE())","v":"PA"},"C"]
["3305554","Goyenechea Arisqueta, Carmen","Asturiana","D","Segunda Corazón","Competición",2,{"$f":"VLOOKUP(E3012,Referencias!$B$4:$C$15,2,FALSE())","v":"2C"},{"$f":"VLOOKUP(C3012,Referencias!$B$18:$C$34,2,FALSE())","v":"PA"},"C"]
["3305562","Rodríguez Rodríguez, Aurelio","Asturiana","C","Primera Picas","Competición",1,{"$f":"VLOOKUP(E3013,Referencias!$B$4:$C$15,2,FALSE())","v":"1P"},{"$f":"VLOOKUP(C3013,Referencias!$B$18:$C$34,2,FALSE())","v":"PA"},"C"]
["3305565","Costales Santa Eugenia, José Luis","Asturiana","C","Sin Categoría","Competición",4,{"$f":"VLOOKUP(E3014,Referencias!$B$4:$C$15,2,FALSE())","v":"SC"},{"$f":"VLOOKUP(C3014,Referencias!$B$18:$C$34,2,FALSE())","v":"PA"},"C"]
["3305570","Sempau Bárcena, Manuel","Asturiana","C","Primera Diamante","Competición",1,{"$f":"VLOOKUP(E3015,Referencias!$B$4:$C$15,2,FALSE())","v":"1D"},{"$f":"VLOOKUP(C3015,Referencias!$B$18:$C$34,2,FALSE())","v":"PA"},"C"]
["3305574","Farras Guillamón, Francisco","Asturiana","C","Primera Picas","Competición",1,{"$f":"VLOOKUP(E3016,Referencias!$B$4:$C$15,2,FALSE())","v":"1P"},{"$f":"VLOOKUP(C3016,Referencias!$B$18:$C$34,2,FALSE())","v":"PA"},"C"]
["3305575","Díaz Rubin Moreno, Josefa","Asturiana","D","Primera Corazón","Competición",1,{"$f":"VLOOKUP(E3017,Referencias!$B$4:$C$15,2,FALSE())","v":"1C"},{"$f":"VLOOKUP(C3017,Referencias!$B$18:$C$34,2,FALSE())","v":"PA"},"C"]
["3305576","Menéndez del Campo, Angeles","Asturiana","D","Primera Corazón","Competición",1,{"$f":"VLOOKUP(E3018,Referencias!$B$4:$C$15,2,FALSE())","v":"1C"},{"$f":"VLOOKUP(C3018,Referencias!$B$18:$C$34,2,FALSE())","v":"PA"},"C"]
["3305589","Grande Oran, María Dolores","Asturiana","D","Segunda Corazón","Competición",2,{"$f":"VLOOKUP(E3019,Referencias!$B$4:$C$15,2,FALSE())","v":"2C"},{"$f":"VLOOKUP(C3019,Referencias!$B$18:$C$34,2,FALSE())","v":"PA"},"C"]
["3471365","Torrego Pierrad, Maria Luisa","Castilla y León","D","Sin Categoría","Competición",4,{"$f":"VLOOKUP(E3020,Referencias!$B$4:$C$15,2,FALSE())","v":"SC"},{"$f":"VLOOKUP(C3020,Referencias!$B$18:$C$34,2,FALSE())","v":"CL"},"C"]
["3471366","García Palacios, Pilar","Castilla y León","D","Sin Categoría","Competición",4,{"$f":"VLOOKUP(E3021,Referencias!$B$4:$C$15,2,FALSE())","v":"SC"},{"$f":"VLOOKUP(C3021,Referencias!$B$18:$C$34,2,FALSE())","v":"CL"},"C"]
["3471427","Casañé Moro, Teresa","Castilla y León","D","Sin Categoría","Competición",4,{"$f":"VLOOKUP(E3022,Referencias!$B$4:$C$15,2,FALSE())","v":"SC"},{"$f":"VLOOKUP(C3022,Referencias!$B$18:$C$34,2,FALSE())","v":"CL"},"C"]
["3471443","García Ortiz, María Concepción","Castilla y León","D","Sin Categoría","Competición",4,{"$f":"VLOOKUP(E3023,Referencias!$B$4:$C$15,2,FALSE())","v":"SC"},{"$f":"VLOOKUP(C3023,Referencias!$B$18:$C$34,2,FALSE())","v":"CL"},"C"]
["3471445","Rodríguez Rodríguez, María Antonia","Castilla y León","D","Sin Categoría","Competición",4,{"$f":"VLOOKUP(E3024,Referencias!$B$4:$C$15,2,FALSE())","v":"SC"},{"$f":"VLOOKUP(C3024,Referencias!$B$18:$C$34,2,FALSE())","v":"CL"},"C"]
["3471448","Mena Aguado, Maria Teresa","Castilla y León","D","Sin Categoría","Competición",4,{"$f":"VLOOKUP(E3025,Referencias!$B$4:$C$15,2,FALSE())","v":"SC"},{"$f":"VLOOKUP(C3025,Referencias!$B$18:$C$34,2,FALSE())","v":"CL"},"C"]
["3471536","Anero Carrión, María Ángeles","Castilla y León","D","Sin Categoría","Competición",4,{"$f":"VLOOKUP(E3026,Referencias!$B$4:$C$15,2,FALSE())","v":"SC"},{"$f":"VLOOKUP(C3026,Referencias!$B$18:$C$34,2,FALSE())","v":"CL"},"C"]
["3551021","Corral Curia, María Carmen","Canaria","D","Primera Corazón","Competición",1,{"$f":"VLOOKUP(E3027,Referencias!$B$4:$C$15,2,FALSE())","v":"1C"},{"$f":"VLOOKUP(C3027,Referencias!$B$18:$C$34,2,FALSE())","v":"IC"},"C"]
["3551022","Mead, Sandra","Canaria","D","Segunda Diamante","Competición",2,{"$f":"VLOOKUP(E3028,Referencias!$B$4:$C$15,2,FALSE())","v":"2D"},{"$f":"VLOOKUP(C3028,Referencias!$B$18:$C$34,2,FALSE())","v":"IC"},"C"]
["3551025","Poch, Palmira","Canaria","D","Segunda Diamante","Competición",2,{"$f":"VLOOKUP(E3029,Referencias!$B$4:$C$15,2,FALSE())","v":"2D"},{"$f":"VLOOKUP(C3029,Referencias!$B$18:$C$34,2,FALSE())","v":"IC"},"C"]
["3551032","González Lamas, Eduardo","Canaria","C","Primera Picas","Competición",1,{"$f":"VLOOKUP(E3030,Referencias!$B$4:$C$15,2,FALSE())","v":"1P"},{"$f":"VLOOKUP(C3030,Referencias!$B$18:$C$34,2,FALSE())","v":"IC"},"C"]
["3551033","Jiménez Arias, Mari Angeles","Canaria","D","Segunda Diamante","Competición",2,{"$f":"VLOOKUP(E3031,Referencias!$B$4:$C$15,2,FALSE())","v":"2D"},{"$f":"VLOOKUP(C3031,Referencias!$B$18:$C$34,2,FALSE())","v":"IC"},"C"]
["3551036","Betancor Hernández, Dulce María","Canaria","D","Segunda Diamante","Competición",2,{"$f":"VLOOKUP(E3032,Referencias!$B$4:$C$15,2,FALSE())","v":"2D"},{"$f":"VLOOKUP(C3032,Referencias!$B$18:$C$34,2,FALSE())","v":"IC"},"C"]
["3551037","Bonny Miranda, María Dolores","Canaria","D","Primera Picas","Competición",1,{"$f":"VLOOKUP(E3033,Referencias!$B$4:$C$15,2,FALSE())","v":"1P"},{"$f":"VLOOKUP(C3033,Referencias!$B$18:$C$34,2,FALSE())","v":"IC"},"C"]
["3551043","García Díaz, Celia","Canaria","D","Tercera Picas","Competición",3,{"$f":"VLOOKUP(E3034,Referencias!$B$4:$C$15,2,FALSE())","v":"3P"},{"$f":"VLOOKUP(C3034,Referencias!$B$18:$C$34,2,FALSE())","v":"IC"},"C"]
["3551057","Jiménez Arias, M. del Carmen","Canaria","D","Sin Categoría","Competición",4,{"$f":"VLOOKUP(E3035,Referencias!$B$4:$C$15,2,FALSE())","v":"SC"},{"$f":"VLOOKUP(C3035,Referencias!$B$18:$C$34,2,FALSE())","v":"IC"},"C"]
["3551072","Morales Mirat, Isabel","Canaria","D","Segunda Diamante","Competición",2,{"$f":"VLOOKUP(E3036,Referencias!$B$4:$C$15,2,FALSE())","v":"2D"},{"$f":"VLOOKUP(C3036,Referencias!$B$18:$C$34,2,FALSE())","v":"IC"},"C"]
["3551075","Rodríguez Sánchez, M. Amparo","Canaria","D","Segunda Diamante","Competición",2,{"$f":"VLOOKUP(E3037,Referencias!$B$4:$C$15,2,FALSE())","v":"2D"},{"$f":"VLOOKUP(C3037,Referencias!$B$18:$C$34,2,FALSE())","v":"IC"},"C"]
["3551076","Moayed de Taheri, Mojdeh","Canaria","D","Segunda Corazón","Competición",2,{"$f":"VLOOKUP(E3038,Referencias!$B$4:$C$15,2,FALSE())","v":"2C"},{"$f":"VLOOKUP(C3038,Referencias!$B$18:$C$34,2,FALSE())","v":"IC"},"C"]
["3551109","Vallejo de la Fe, Teresa","Canaria","D","Sin Categoría","Competición",4,{"$f":"VLOOKUP(E3039,Referencias!$B$4:$C$15,2,FALSE())","v":"SC"},{"$f":"VLOOKUP(C3039,Referencias!$B$18:$C$34,2,FALSE())","v":"IC"},"C"]
["3551114","Moragas, Maria Eugenia","Canaria","D","Tercera Corazón","Competición",3,{"$f":"VLOOKUP(E3040,Referencias!$B$4:$C$15,2,FALSE())","v":"3C"},{"$f":"VLOOKUP(C3040,Referencias!$B$18:$C$34,2,FALSE())","v":"IC"},"C"]
["3551117","Martín-Fdez. de Larrinoa, Amelia","Canaria","D","Segunda Diamante","Competición",2,{"$f":"VLOOKUP(E3041,Referencias!$B$4:$C$15,2,FALSE())","v":"2D"},{"$f":"VLOOKUP(C3041,Referencias!$B$18:$C$34,2,FALSE())","v":"IC"},"C"]
["3551158","Rodríguez Armas, Elena","Canaria","D","Segunda Corazón","Competición",2,{"$f":"VLOOKUP(E3042,Referencias!$B$4:$C$15,2,FALSE())","v":"2C"},{"$f":"VLOOKUP(C3042,Referencias!$B$18:$C$34,2,FALSE())","v":"IC"},"C"]
["3551167","Robaina Frias, Mercedes","Canaria","D","Primera Corazón","Competición",1,{"$f":"VLOOKUP(E3043,Referencias!$B$4:$C$15,2,FALSE())","v":"1C"},{"$f":"VLOOKUP(C3043,Referencias!$B$18:$C$34,2,FALSE())","v":"IC"},"C"]
["3551171","Marrero Henning, M. Mercedes","Canaria","D","Tercera Diamante","Competición",3,{"$f":"VLOOKUP(E3044,Referencias!$B$4:$C$15,2,FALSE())","v":"3D"},{"$f":"VLOOKUP(C3044,Referencias!$B$18:$C$34,2,FALSE())","v":"IC"},"C"]
["3551173","Hinestrosa Navarro, Inés","Canaria","D","Primera Diamante","Competición",1,{"$f":"VLOOKUP(E3045,Referencias!$B$4:$C$15,2,FALSE())","v":"1D"},{"$f":"VLOOKUP(C3045,Referencias!$B$18:$C$34,2,FALSE())","v":"IC"},"C"]
["3551174","Gil Martel, Tarsila","Canaria","D","Segunda Diamante","Competición",2,{"$f":"VLOOKUP(E3046,Referencias!$B$4:$C$15,2,FALSE())","v":"2D"},{"$f":"VLOOKUP(C3046,Referencias!$B$18:$C$34,2,FALSE())","v":"IC"},"C"]
["3551179","Barrera Lujan, María Teresa","Canaria","D","Segunda Corazón","Competición",2,{"$f":"VLOOKUP(E3047,Referencias!$B$4:$C$15,2,FALSE())","v":"2C"},{"$f":"VLOOKUP(C3047,Referencias!$B$18:$C$34,2,FALSE())","v":"IC"},"C"]
["3551197","Rojas-O´Donnell y Martín, Leopoldo","Canaria","C","Sin Categoría","Competición",4,{"$f":"VLOOKUP(E3048,Referencias!$B$4:$C$15,2,FALSE())","v":"SC"},{"$f":"VLOOKUP(C3048,Referencias!$B$18:$C$34,2,FALSE())","v":"IC"},"C"]
["3551222","Gómez-Pablos Calvo, Mercedes","Canaria","D","Segunda Corazón","Competición",2,{"$f":"VLOOKUP(E3049,Referencias!$B$4:$C$15,2,FALSE())","v":"2C"},{"$f":"VLOOKUP(C3049,Referencias!$B$18:$C$34,2,FALSE())","v":"IC"},"C"]
["3551234","Sarmiento Acosta, María Eva","Canaria","D","Segunda Diamante","Competición",2,{"$f":"VLOOKUP(E3050,Referencias!$B$4:$C$15,2,FALSE())","v":"2D"},{"$f":"VLOOKUP(C3050,Referencias!$B$18:$C$34,2,FALSE())","v":"IC"},"C"]
["3551237","Nacher Hernández, Ana María","Canaria","D","Tercera Picas","Competición",3,{"$f":"VLOOKUP(E3051,Referencias!$B$4:$C$15,2,FALSE())","v":"3P"},{"$f":"VLOOKUP(C3051,Referencias!$B$18:$C$34,2,FALSE())","v":"IC"},"C"]
["3551240","Barros Fernández, María José","Canaria","D","Segunda Corazón","Competición",2,{"$f":"VLOOKUP(E3052,Referencias!$B$4:$C$15,2,FALSE())","v":"2C"},{"$f":"VLOOKUP(C3052,Referencias!$B$18:$C$34,2,FALSE())","v":"IC"},"C"]
["3551245","Cabrera Montelongo, Josefa","Canaria","D","Segunda Corazón","Competición",2,{"$f":"VLOOKUP(E3053,Referencias!$B$4:$C$15,2,FALSE())","v":"2C"},{"$f":"VLOOKUP(C3053,Referencias!$B$18:$C$34,2,FALSE())","v":"IC"},"C"]
["3551253","Prats Cabrera, Rosa María","Canaria","D","Segunda Diamante","Competición",2,{"$f":"VLOOKUP(E3054,Referencias!$B$4:$C$15,2,FALSE())","v":"2D"},{"$f":"VLOOKUP(C3054,Referencias!$B$18:$C$34,2,FALSE())","v":"IC"},"C"]
["3551257","López Arias, María Jesús","Canaria","D","Segunda Diamante","Competición",2,{"$f":"VLOOKUP(E3055,Referencias!$B$4:$C$15,2,FALSE())","v":"2D"},{"$f":"VLOOKUP(C3055,Referencias!$B$18:$C$34,2,FALSE())","v":"IC"},"C"]
["3551273","Toribio Fernández, Emilia","Canaria","D","Tercera Picas","Competición",3,{"$f":"VLOOKUP(E3056,Referencias!$B$4:$C$15,2,FALSE())","v":"3P"},{"$f":"VLOOKUP(C3056,Referencias!$B$18:$C$34,2,FALSE())","v":"IC"},"C"]
["3551280","Melian Santana, Dulce María","Canaria","D","Sin Categoría","Competición",4,{"$f":"VLOOKUP(E3057,Referencias!$B$4:$C$15,2,FALSE())","v":"SC"},{"$f":"VLOOKUP(C3057,Referencias!$B$18:$C$34,2,FALSE())","v":"IC"},"C"]
["3551301","Macías Bethencourt, Ana Rosa","Canaria","D","Segunda Corazón","Competición",2,{"$f":"VLOOKUP(E3058,Referencias!$B$4:$C$15,2,FALSE())","v":"2C"},{"$f":"VLOOKUP(C3058,Referencias!$B$18:$C$34,2,FALSE())","v":"IC"},"C"]
["3551309","Fuentes Naranjo, Teresa","Canaria","D","Segunda Picas","Competición",2,{"$f":"VLOOKUP(E3059,Referencias!$B$4:$C$15,2,FALSE())","v":"2P"},{"$f":"VLOOKUP(C3059,Referencias!$B$18:$C$34,2,FALSE())","v":"IC"},"C"]
["3551335","Pérez Pérez, Mª Dolores","Canaria","D","Segunda Diamante","Competición",2,{"$f":"VLOOKUP(E3060,Referencias!$B$4:$C$15,2,FALSE())","v":"2D"},{"$f":"VLOOKUP(C3060,Referencias!$B$18:$C$34,2,FALSE())","v":"IC"},"C"]
["3551337","Curbelo Araña, Margarita","Canaria","D","Tercera Corazón","Competición",3,{"$f":"VLOOKUP(E3061,Referencias!$B$4:$C$15,2,FALSE())","v":"3C"},{"$f":"VLOOKUP(C3061,Referencias!$B$18:$C$34,2,FALSE())","v":"IC"},"C"]
["3551342","Lambert, Regina","Canaria","D","Tercera Corazón","Competición",3,{"$f":"VLOOKUP(E3062,Referencias!$B$4:$C$15,2,FALSE())","v":"3C"},{"$f":"VLOOKUP(C3062,Referencias!$B$18:$C$34,2,FALSE())","v":"IC"},"C"]
["3551345","Gómez García, Mª Carmen","Canaria","D","Segunda Corazón","Competición",2,{"$f":"VLOOKUP(E3063,Referencias!$B$4:$C$15,2,FALSE())","v":"2C"},{"$f":"VLOOKUP(C3063,Referencias!$B$18:$C$34,2,FALSE())","v":"IC"},"C"]
["3551347","Tavio Toron, Agustin","Canaria","C","Sin Categoría","Competición",4,{"$f":"VLOOKUP(E3064,Referencias!$B$4:$C$15,2,FALSE())","v":"SC"},{"$f":"VLOOKUP(C3064,Referencias!$B$18:$C$34,2,FALSE())","v":"IC"},"C"]
["3551350","Suarez Barber, Isabel","Canaria","D","Tercera Diamante","Competición",3,{"$f":"VLOOKUP(E3065,Referencias!$B$4:$C$15,2,FALSE())","v":"3D"},{"$f":"VLOOKUP(C3065,Referencias!$B$18:$C$34,2,FALSE())","v":"IC"},"C"]
["3551351","Díaz-Saavedra Suarez, Margarita","Canaria","D","Tercera Picas","Competición",3,{"$f":"VLOOKUP(E3066,Referencias!$B$4:$C$15,2,FALSE())","v":"3P"},{"$f":"VLOOKUP(C3066,Referencias!$B$18:$C$34,2,FALSE())","v":"IC"},"C"]
["3551377","Gallar Marrero, Mª Mercedes","Canaria","D","Segunda Diamante","Competición",2,{"$f":"VLOOKUP(E3067,Referencias!$B$4:$C$15,2,FALSE())","v":"2D"},{"$f":"VLOOKUP(C3067,Referencias!$B$18:$C$34,2,FALSE())","v":"IC"},"C"]
["3551383","Hernández Haddad, Cristina","Canaria","D","Primera Picas","Competición",1,{"$f":"VLOOKUP(E3068,Referencias!$B$4:$C$15,2,FALSE())","v":"1P"},{"$f":"VLOOKUP(C3068,Referencias!$B$18:$C$34,2,FALSE())","v":"IC"},"C"]
["3551390","De la Riva Gracia, Amparo","Canaria","D","Segunda Picas","Competición",2,{"$f":"VLOOKUP(E3069,Referencias!$B$4:$C$15,2,FALSE())","v":"2P"},{"$f":"VLOOKUP(C3069,Referencias!$B$18:$C$34,2,FALSE())","v":"IC"},"C"]
["3551402","Artiles Betancort, Alicia","Canaria","D","Segunda Corazón","Competición",2,{"$f":"VLOOKUP(E3070,Referencias!$B$4:$C$15,2,FALSE())","v":"2C"},{"$f":"VLOOKUP(C3070,Referencias!$B$18:$C$34,2,FALSE())","v":"IC"},"C"]
["3551403","Villaverde Vilarelle, María Teresa","Canaria","D","Tercera Picas","Competición",3,{"$f":"VLOOKUP(E3071,Referencias!$B$4:$C$15,2,FALSE())","v":"3P"},{"$f":"VLOOKUP(C3071,Referencias!$B$18:$C$34,2,FALSE())","v":"IC"},"C"]
["3551404","Hassan, Joseph","Canaria","C","Tercera Picas","Competición",3,{"$f":"VLOOKUP(E3072,Referencias!$B$4:$C$15,2,FALSE())","v":"3P"},{"$f":"VLOOKUP(C3072,Referencias!$B$18:$C$34,2,FALSE())","v":"IC"},{"$f":"IF(D3072=\"Dama\",\"D\",\"C\")","v":"C"}]
["3551407","Andreu Pérez, Mª Carmen","Canaria","D","Tercera Picas","Competición",3,{"$f":"VLOOKUP(E3073,Referencias!$B$4:$C$15,2,FALSE())","v":"3P"},{"$f":"VLOOKUP(C3073,Referencias!$B$18:$C$34,2,FALSE())","v":"IC"},"C"]
["3551420","Perdomo de León, Felisa","Canaria","D","Tercera Corazón","Competición",3,{"$f":"VLOOKUP(E3074,Referencias!$B$4:$C$15,2,FALSE())","v":"3C"},{"$f":"VLOOKUP(C3074,Referencias!$B$18:$C$34,2,FALSE())","v":"IC"},"C"]
["3551426","López Socas, Margarita","Canaria","D","Tercera Picas","Competición",3,{"$f":"VLOOKUP(E3075,Referencias!$B$4:$C$15,2,FALSE())","v":"3P"},{"$f":"VLOOKUP(C3075,Referencias!$B$18:$C$34,2,FALSE())","v":"IC"},"C"]
["3551427","Bautista Rodríguez, Carmen Rosario","Canaria","D","Sin Categoría","Competición",4,{"$f":"VLOOKUP(E3076,Referencias!$B$4:$C$15,2,FALSE())","v":"SC"},{"$f":"VLOOKUP(C3076,Referencias!$B$18:$C$34,2,FALSE())","v":"IC"},"C"]
["3551431","López Arias, Mª Teresa","Canaria","D","Tercera Picas","Competición",3,{"$f":"VLOOKUP(E3077,Referencias!$B$4:$C$15,2,FALSE())","v":"3P"},{"$f":"VLOOKUP(C3077,Referencias!$B$18:$C$34,2,FALSE())","v":"IC"},"C"]
["3551433","Méndez Altozano, Carlos","Canaria","C","Tercera Picas","Competición",3,{"$f":"VLOOKUP(E3078,Referencias!$B$4:$C$15,2,FALSE())","v":"3P"},{"$f":"VLOOKUP(C3078,Referencias!$B$18:$C$34,2,FALSE())","v":"IC"},"C"]
["3551434","Quintana Reyes, Remedios","Canaria","D","Tercera Diamante","Competición",3,{"$f":"VLOOKUP(E3079,Referencias!$B$4:$C$15,2,FALSE())","v":"3D"},{"$f":"VLOOKUP(C3079,Referencias!$B$18:$C$34,2,FALSE())","v":"IC"},"C"]
["3551448","González Verduras, María Asunción","Canaria","D","Sin Categoría","Competición",4,{"$f":"VLOOKUP(E3080,Referencias!$B$4:$C$15,2,FALSE())","v":"SC"},{"$f":"VLOOKUP(C3080,Referencias!$B$18:$C$34,2,FALSE())","v":"IC"},"C"]
["3551453","Armental Viña, Berta","Canaria","D","Tercera Diamante","Competición",3,{"$f":"VLOOKUP(E3081,Referencias!$B$4:$C$15,2,FALSE())","v":"3D"},{"$f":"VLOOKUP(C3081,Referencias!$B$18:$C$34,2,FALSE())","v":"IC"},"C"]
["3551454","Sánchez Rodilla, MªTeresa","Canaria","D","Tercera Picas","Competición",3,{"$f":"VLOOKUP(E3082,Referencias!$B$4:$C$15,2,FALSE())","v":"3P"},{"$f":"VLOOKUP(C3082,Referencias!$B$18:$C$34,2,FALSE())","v":"IC"},"C"]
["3551457","Suarez Lorenzo, Ana","Canaria","D","Tercera Picas","Competición",3,{"$f":"VLOOKUP(E3083,Referencias!$B$4:$C$15,2,FALSE())","v":"3P"},{"$f":"VLOOKUP(C3083,Referencias!$B$18:$C$34,2,FALSE())","v":"IC"},"C"]
["3551478","Pérez Hernández, Dolores","Canaria","D","Tercera Corazón","Competición",3,{"$f":"VLOOKUP(E3084,Referencias!$B$4:$C$15,2,FALSE())","v":"3C"},{"$f":"VLOOKUP(C3084,Referencias!$B$18:$C$34,2,FALSE())","v":"IC"},"C"]
["3551481","Maddock, Alan Guy","Canaria","C","Primera Picas","Competición",1,{"$f":"VLOOKUP(E3085,Referencias!$B$4:$C$15,2,FALSE())","v":"1P"},{"$f":"VLOOKUP(C3085,Referencias!$B$18:$C$34,2,FALSE())","v":"IC"},"C"]
["3551489","González Gil, Gloria","Canaria","D","Primera Diamante","Competición",1,{"$f":"VLOOKUP(E3086,Referencias!$B$4:$C$15,2,FALSE())","v":"1D"},{"$f":"VLOOKUP(C3086,Referencias!$B$18:$C$34,2,FALSE())","v":"IC"},"C"]
["3551503","Pérez Hernández, Blanca Rosa","Canaria","D","Sin Categoría","Competición",4,{"$f":"VLOOKUP(E3087,Referencias!$B$4:$C$15,2,FALSE())","v":"SC"},{"$f":"VLOOKUP(C3087,Referencias!$B$18:$C$34,2,FALSE())","v":"IC"},"C"]
["3551509","Toledo Miranda, Irene","Canaria","D","Tercera Picas","Competición",3,{"$f":"VLOOKUP(E3088,Referencias!$B$4:$C$15,2,FALSE())","v":"3P"},{"$f":"VLOOKUP(C3088,Referencias!$B$18:$C$34,2,FALSE())","v":"IC"},"C"]
["3551514","Pérez Díaz, Sofía","Canaria","D","Primera Corazón","Competición",1,{"$f":"VLOOKUP(E3089,Referencias!$B$4:$C$15,2,FALSE())","v":"1C"},{"$f":"VLOOKUP(C3089,Referencias!$B$18:$C$34,2,FALSE())","v":"IC"},"C"]
["3551515","Chesa Padrón, Rosario","Canaria","D","Segunda Corazón","Competición",2,{"$f":"VLOOKUP(E3090,Referencias!$B$4:$C$15,2,FALSE())","v":"2C"},{"$f":"VLOOKUP(C3090,Referencias!$B$18:$C$34,2,FALSE())","v":"IC"},"C"]
["3551521","Ortíz Barber, Mª Pilar","Canaria","D","Tercera Diamante","Competición",3,{"$f":"VLOOKUP(E3091,Referencias!$B$4:$C$15,2,FALSE())","v":"3D"},{"$f":"VLOOKUP(C3091,Referencias!$B$18:$C$34,2,FALSE())","v":"IC"},"C"]
["3551523","Ferrer Espino, Gloria","Canaria","D","Tercera Corazón","Competición",3,{"$f":"VLOOKUP(E3092,Referencias!$B$4:$C$15,2,FALSE())","v":"3C"},{"$f":"VLOOKUP(C3092,Referencias!$B$18:$C$34,2,FALSE())","v":"IC"},"C"]
["3551524","Machín Rodríguez, Berta","Canaria","D","Tercera Picas","Competición",3,{"$f":"VLOOKUP(E3093,Referencias!$B$4:$C$15,2,FALSE())","v":"3P"},{"$f":"VLOOKUP(C3093,Referencias!$B$18:$C$34,2,FALSE())","v":"IC"},"C"]
["3551537","Cabeza Luque, Araceli","Canaria","D","Tercera Corazón","Competición",3,{"$f":"VLOOKUP(E3094,Referencias!$B$4:$C$15,2,FALSE())","v":"3C"},{"$f":"VLOOKUP(C3094,Referencias!$B$18:$C$34,2,FALSE())","v":"IC"},"C"]
["3551542","Larriba Rodriguez, Maribel","Canaria","D","Tercera Picas","Competición",3,{"$f":"VLOOKUP(E3095,Referencias!$B$4:$C$15,2,FALSE())","v":"3P"},{"$f":"VLOOKUP(C3095,Referencias!$B$18:$C$34,2,FALSE())","v":"IC"},"C"]
["3551549","Dyrup, Lyng","Canaria","D","Segunda Picas","Competición",2,{"$f":"VLOOKUP(E3096,Referencias!$B$4:$C$15,2,FALSE())","v":"2P"},{"$f":"VLOOKUP(C3096,Referencias!$B$18:$C$34,2,FALSE())","v":"IC"},"C"]
["3551552","Saavedra Alvarado, María Luisa","Canaria","D","Segunda Corazón","Competición",2,{"$f":"VLOOKUP(E3097,Referencias!$B$4:$C$15,2,FALSE())","v":"2C"},{"$f":"VLOOKUP(C3097,Referencias!$B$18:$C$34,2,FALSE())","v":"IC"},"C"]
["3551558","Molina Martín, Saro","Canaria","D","Primera Corazón","Competición",1,{"$f":"VLOOKUP(E3098,Referencias!$B$4:$C$15,2,FALSE())","v":"1C"},{"$f":"VLOOKUP(C3098,Referencias!$B$18:$C$34,2,FALSE())","v":"IC"},"C"]
["3551559","Alvarado Janina, Soledad","Canaria","D","Tercera Corazón","Competición",3,{"$f":"VLOOKUP(E3099,Referencias!$B$4:$C$15,2,FALSE())","v":"3C"},{"$f":"VLOOKUP(C3099,Referencias!$B$18:$C$34,2,FALSE())","v":"IC"},"C"]
["3551563","Ibrahim Alí, Zarife","Canaria","D","Tercera Diamante","Competición",3,{"$f":"VLOOKUP(E3100,Referencias!$B$4:$C$15,2,FALSE())","v":"3D"},{"$f":"VLOOKUP(C3100,Referencias!$B$18:$C$34,2,FALSE())","v":"IC"},"C"]
["3551569","Grant Trolz, Janine Patricia","Canaria","D","Tercera Corazón","Competición",3,{"$f":"VLOOKUP(E3101,Referencias!$B$4:$C$15,2,FALSE())","v":"3C"},{"$f":"VLOOKUP(C3101,Referencias!$B$18:$C$34,2,FALSE())","v":"IC"},"C"]
["3551571","Wolf-juif, Brigitte","Canaria","D","Segunda Picas","Competición",2,{"$f":"VLOOKUP(E3102,Referencias!$B$4:$C$15,2,FALSE())","v":"2P"},{"$f":"VLOOKUP(C3102,Referencias!$B$18:$C$34,2,FALSE())","v":"IC"},"C"]
["3551572","Grant, Gisela","Canaria","D","Tercera Diamante","Competición",3,{"$f":"VLOOKUP(E3103,Referencias!$B$4:$C$15,2,FALSE())","v":"3D"},{"$f":"VLOOKUP(C3103,Referencias!$B$18:$C$34,2,FALSE())","v":"IC"},"C"]
["3551605","Villamor Ramírez, Carmen","Canaria","D","Segunda Corazón","Competición",2,{"$f":"VLOOKUP(E3104,Referencias!$B$4:$C$15,2,FALSE())","v":"2C"},{"$f":"VLOOKUP(C3104,Referencias!$B$18:$C$34,2,FALSE())","v":"IC"},"C"]
["3551607","Burgos Cuadrado, Pilar","Canaria","D","Sin Categoría","Competición",4,{"$f":"VLOOKUP(E3105,Referencias!$B$4:$C$15,2,FALSE())","v":"SC"},{"$f":"VLOOKUP(C3105,Referencias!$B$18:$C$34,2,FALSE())","v":"IC"},"C"]
["3551608","Boch Caballero, Mª Carmen","Canaria","D","Tercera Corazón","Competición",3,{"$f":"VLOOKUP(E3106,Referencias!$B$4:$C$15,2,FALSE())","v":"3C"},{"$f":"VLOOKUP(C3106,Referencias!$B$18:$C$34,2,FALSE())","v":"IC"},"C"]
["3551610","Torres Hidalgo, Mª Carmen","Canaria","D","Tercera Picas","Competición",3,{"$f":"VLOOKUP(E3107,Referencias!$B$4:$C$15,2,FALSE())","v":"3P"},{"$f":"VLOOKUP(C3107,Referencias!$B$18:$C$34,2,FALSE())","v":"IC"},"C"]
["3551611","Naranjo Marrero, Ana Rosa","Canaria","D","Tercera Corazón","Competición",3,{"$f":"VLOOKUP(E3108,Referencias!$B$4:$C$15,2,FALSE())","v":"3C"},{"$f":"VLOOKUP(C3108,Referencias!$B$18:$C$34,2,FALSE())","v":"IC"},"C"]
["3551612","Ferrer Quintana, Mª Jesús","Canaria","D","Primera Picas","Competición",1,{"$f":"VLOOKUP(E3109,Referencias!$B$4:$C$15,2,FALSE())","v":"1P"},{"$f":"VLOOKUP(C3109,Referencias!$B$18:$C$34,2,FALSE())","v":"IC"},"C"]
["3551615","Perdomo Ferrer, Pilar","Canaria","D","Tercera Corazón","Competición",3,{"$f":"VLOOKUP(E3110,Referencias!$B$4:$C$15,2,FALSE())","v":"3C"},{"$f":"VLOOKUP(C3110,Referencias!$B$18:$C$34,2,FALSE())","v":"IC"},"C"]
["3551617","Benitez Suarez, María del Carmen","Canaria","D","Sin Categoría","Competición",4,{"$f":"VLOOKUP(E3111,Referencias!$B$4:$C$15,2,FALSE())","v":"SC"},{"$f":"VLOOKUP(C3111,Referencias!$B$18:$C$34,2,FALSE())","v":"IC"},"C"]
["3551618","Eriksson, Tony","Canaria","C","Segunda Picas","Competición",2,{"$f":"VLOOKUP(E3112,Referencias!$B$4:$C$15,2,FALSE())","v":"2P"},{"$f":"VLOOKUP(C3112,Referencias!$B$18:$C$34,2,FALSE())","v":"IC"},"C"]
["3551644","Hernández Sánchez, Mª Socorro","Canaria","D","Tercera Corazón","Competición",3,{"$f":"VLOOKUP(E3113,Referencias!$B$4:$C$15,2,FALSE())","v":"3C"},{"$f":"VLOOKUP(C3113,Referencias!$B$18:$C$34,2,FALSE())","v":"IC"},"C"]
["3551645","Bravo de Laguna y Manrique de Lara, Ana","Canaria","D","Tercera Corazón","Competición",3,{"$f":"VLOOKUP(E3114,Referencias!$B$4:$C$15,2,FALSE())","v":"3C"},{"$f":"VLOOKUP(C3114,Referencias!$B$18:$C$34,2,FALSE())","v":"IC"},"C"]
["3551647","Rodrigo Alemán, María Victoria","Canaria","D","Tercera Corazón","Competición",3,{"$f":"VLOOKUP(E3115,Referencias!$B$4:$C$15,2,FALSE())","v":"3C"},{"$f":"VLOOKUP(C3115,Referencias!$B$18:$C$34,2,FALSE())","v":"IC"},"C"]
["3551648","González de Chavez Fdez., Magdalena","Canaria","D","Segunda Corazón","Competición",2,{"$f":"VLOOKUP(E3116,Referencias!$B$4:$C$15,2,FALSE())","v":"2C"},{"$f":"VLOOKUP(C3116,Referencias!$B$18:$C$34,2,FALSE())","v":"IC"},"C"]
["3551653","Navarro Galbán, Jesús","Canaria","C","Tercera Picas","Competición",3,{"$f":"VLOOKUP(E3117,Referencias!$B$4:$C$15,2,FALSE())","v":"3P"},{"$f":"VLOOKUP(C3117,Referencias!$B$18:$C$34,2,FALSE())","v":"IC"},"C"]
["3551658","Coll González, Teresa","Canaria","D","Sin Categoría","Competición",4,{"$f":"VLOOKUP(E3118,Referencias!$B$4:$C$15,2,FALSE())","v":"SC"},{"$f":"VLOOKUP(C3118,Referencias!$B$18:$C$34,2,FALSE())","v":"IC"},"C"]
["3551664","Suárez García, Raquel","Canaria","D","Sin Categoría","Competición",4,{"$f":"VLOOKUP(E3119,Referencias!$B$4:$C$15,2,FALSE())","v":"SC"},{"$f":"VLOOKUP(C3119,Referencias!$B$18:$C$34,2,FALSE())","v":"IC"},"C"]
["3551665","Pérez Morales, María Araceli","Canaria","D","Tercera Picas","Competición",3,{"$f":"VLOOKUP(E3120,Referencias!$B$4:$C$15,2,FALSE())","v":"3P"},{"$f":"VLOOKUP(C3120,Referencias!$B$18:$C$34,2,FALSE())","v":"IC"},"C"]
["3551666","Chamorro Estevez, Alfonso","Canaria","C","Primera Picas","Competición",1,{"$f":"VLOOKUP(E3121,Referencias!$B$4:$C$15,2,FALSE())","v":"1P"},{"$f":"VLOOKUP(C3121,Referencias!$B$18:$C$34,2,FALSE())","v":"IC"},"C"]
["3551669","Imholz Martín, Ruth","Canaria","D","Tercera Corazón","Competición",3,{"$f":"VLOOKUP(E3122,Referencias!$B$4:$C$15,2,FALSE())","v":"3C"},{"$f":"VLOOKUP(C3122,Referencias!$B$18:$C$34,2,FALSE())","v":"IC"},"C"]
["3551670","Mejias Romero, Mª Dolores","Canaria","D","Tercera Picas","Competición",3,{"$f":"VLOOKUP(E3123,Referencias!$B$4:$C$15,2,FALSE())","v":"3P"},{"$f":"VLOOKUP(C3123,Referencias!$B$18:$C$34,2,FALSE())","v":"IC"},"C"]
["3551698","Grau del Campo, María Concepción","Canaria","D","Tercera Corazón","Competición",3,{"$f":"VLOOKUP(E3124,Referencias!$B$4:$C$15,2,FALSE())","v":"3C"},{"$f":"VLOOKUP(C3124,Referencias!$B$18:$C$34,2,FALSE())","v":"IC"},"C"]
["3551699","Acedo Marchena, Dori","Canaria","D","Tercera Corazón","Competición",3,{"$f":"VLOOKUP(E3125,Referencias!$B$4:$C$15,2,FALSE())","v":"3C"},{"$f":"VLOOKUP(C3125,Referencias!$B$18:$C$34,2,FALSE())","v":"IC"},"C"]
["3551703","Afonso Rodriguez, Mª Nieves","Canaria","D","Segunda Corazón","Competición",2,{"$f":"VLOOKUP(E3126,Referencias!$B$4:$C$15,2,FALSE())","v":"2C"},{"$f":"VLOOKUP(C3126,Referencias!$B$18:$C$34,2,FALSE())","v":"IC"},"C"]
["3551704","Rodriguez Jorge, Francisco","Canaria","C","Segunda Corazón","Competición",2,{"$f":"VLOOKUP(E3127,Referencias!$B$4:$C$15,2,FALSE())","v":"2C"},{"$f":"VLOOKUP(C3127,Referencias!$B$18:$C$34,2,FALSE())","v":"IC"},"C"]
["3551716","Malé, María Luisa","Canaria","D","Tercera Diamante","Competición",3,{"$f":"VLOOKUP(E3128,Referencias!$B$4:$C$15,2,FALSE())","v":"3D"},{"$f":"VLOOKUP(C3128,Referencias!$B$18:$C$34,2,FALSE())","v":"IC"},"C"]
["3551717","Henriquez Blanco, Joaquin","Canaria","C","Tercera Corazón","Competición",3,{"$f":"VLOOKUP(E3129,Referencias!$B$4:$C$15,2,FALSE())","v":"3C"},{"$f":"VLOOKUP(C3129,Referencias!$B$18:$C$34,2,FALSE())","v":"IC"},"C"]
["3551718","Alzola Hernández, Marta","Canaria","D","Tercera Corazón","Competición",3,{"$f":"VLOOKUP(E3130,Referencias!$B$4:$C$15,2,FALSE())","v":"3C"},{"$f":"VLOOKUP(C3130,Referencias!$B$18:$C$34,2,FALSE())","v":"IC"},"C"]
["3551766","Barreto Pacheco, Trinidad","Canaria","D","Tercera Diamante","Competición",3,{"$f":"VLOOKUP(E3131,Referencias!$B$4:$C$15,2,FALSE())","v":"3D"},{"$f":"VLOOKUP(C3131,Referencias!$B$18:$C$34,2,FALSE())","v":"IC"},"C"]
["3551767","Reguilón Fajardo, Remedios","Canaria","D","Tercera Picas","Competición",3,{"$f":"VLOOKUP(E3132,Referencias!$B$4:$C$15,2,FALSE())","v":"3P"},{"$f":"VLOOKUP(C3132,Referencias!$B$18:$C$34,2,FALSE())","v":"IC"},"C"]
["3551772","Karlsen, Sverre","Canaria","C","Segunda Diamante","Competición",2,{"$f":"VLOOKUP(E3133,Referencias!$B$4:$C$15,2,FALSE())","v":"2D"},{"$f":"VLOOKUP(C3133,Referencias!$B$18:$C$34,2,FALSE())","v":"IC"},"C"]
["3551787","Arcos Hidalgo, Mª de los Angeles","Canaria","D","Segunda Diamante","Competición",2,{"$f":"VLOOKUP(E3134,Referencias!$B$4:$C$15,2,FALSE())","v":"2D"},{"$f":"VLOOKUP(C3134,Referencias!$B$18:$C$34,2,FALSE())","v":"IC"},"C"]
["3551790","Andreu Pérez, Eugenia","Canaria","D","Tercera Diamante","Competición",3,{"$f":"VLOOKUP(E3135,Referencias!$B$4:$C$15,2,FALSE())","v":"3D"},{"$f":"VLOOKUP(C3135,Referencias!$B$18:$C$34,2,FALSE())","v":"IC"},"C"]
["3551799","Lantigua Usar, Sandra","Canaria","D","Segunda Corazón","Competición",2,{"$f":"VLOOKUP(E3136,Referencias!$B$4:$C$15,2,FALSE())","v":"2C"},{"$f":"VLOOKUP(C3136,Referencias!$B$18:$C$34,2,FALSE())","v":"IC"},{"$f":"IF(D3136=\"Dama\",\"D\",\"C\")","v":"C"}]
["3551811","García Ormaechea y Quero, Francisco Javier","Canaria","C","Tercera Corazón","Competición",3,{"$f":"VLOOKUP(E3137,Referencias!$B$4:$C$15,2,FALSE())","v":"3C"},{"$f":"VLOOKUP(C3137,Referencias!$B$18:$C$34,2,FALSE())","v":"IC"},"C"]
["3551824","Del Pino Melian, Blanca","Canaria","D","Tercera Picas","Competición",3,{"$f":"VLOOKUP(E3138,Referencias!$B$4:$C$15,2,FALSE())","v":"3P"},{"$f":"VLOOKUP(C3138,Referencias!$B$18:$C$34,2,FALSE())","v":"IC"},"C"]
["3551826","Muñoz Ortega, Angélica","Canaria","D","Sin Categoría","Competición",4,{"$f":"VLOOKUP(E3139,Referencias!$B$4:$C$15,2,FALSE())","v":"SC"},{"$f":"VLOOKUP(C3139,Referencias!$B$18:$C$34,2,FALSE())","v":"IC"},"C"]
["3551827","Fernández Manrique de Lara, Teresa","Canaria","D","Tercera Diamante","Competición",3,{"$f":"VLOOKUP(E3140,Referencias!$B$4:$C$15,2,FALSE())","v":"3D"},{"$f":"VLOOKUP(C3140,Referencias!$B$18:$C$34,2,FALSE())","v":"IC"},"C"]
["3551828","Martín Fernández de Lara, Nandy","Canaria","C","Tercera Corazón","Competición",3,{"$f":"VLOOKUP(E3141,Referencias!$B$4:$C$15,2,FALSE())","v":"3C"},{"$f":"VLOOKUP(C3141,Referencias!$B$18:$C$34,2,FALSE())","v":"IC"},"C"]
["3551830","Nuñez Gónzalez, José Vicente","Canaria","C","Tercera Corazón","Competición",3,{"$f":"VLOOKUP(E3142,Referencias!$B$4:$C$15,2,FALSE())","v":"3C"},{"$f":"VLOOKUP(C3142,Referencias!$B$18:$C$34,2,FALSE())","v":"IC"},"C"]
["3551847","Lozano Flores, María","Canaria","D","Segunda Diamante","Competición",2,{"$f":"VLOOKUP(E3143,Referencias!$B$4:$C$15,2,FALSE())","v":"2D"},{"$f":"VLOOKUP(C3143,Referencias!$B$18:$C$34,2,FALSE())","v":"IC"},"C"]
["3551853","Duque de Lara, Manuel Fernando","Canaria","C","Tercera Picas","Competición",3,{"$f":"VLOOKUP(E3144,Referencias!$B$4:$C$15,2,FALSE())","v":"3P"},{"$f":"VLOOKUP(C3144,Referencias!$B$18:$C$34,2,FALSE())","v":"IC"},"C"]
["3551865","González León, Mª del Carmen","Canaria","D","Tercera Corazón","Competición",3,{"$f":"VLOOKUP(E3145,Referencias!$B$4:$C$15,2,FALSE())","v":"3C"},{"$f":"VLOOKUP(C3145,Referencias!$B$18:$C$34,2,FALSE())","v":"IC"},"C"]
["3551869","Hernández Spinola, Matilde de Rosalía","Canaria","D","Sin Categoría","Competición",4,{"$f":"VLOOKUP(E3146,Referencias!$B$4:$C$15,2,FALSE())","v":"SC"},{"$f":"VLOOKUP(C3146,Referencias!$B$18:$C$34,2,FALSE())","v":"IC"},"C"]
["3551870","Hernández Spinola, Mª de los Ángeles","Canaria","D","Sin Categoría","Competición",4,{"$f":"VLOOKUP(E3147,Referencias!$B$4:$C$15,2,FALSE())","v":"SC"},{"$f":"VLOOKUP(C3147,Referencias!$B$18:$C$34,2,FALSE())","v":"IC"},"C"]
["3551871","Álvarez Medina, Marta","Canaria","D","Sin Categoría","Competición",4,{"$f":"VLOOKUP(E3148,Referencias!$B$4:$C$15,2,FALSE())","v":"SC"},{"$f":"VLOOKUP(C3148,Referencias!$B$18:$C$34,2,FALSE())","v":"IC"},"C"]
["3551873","Salas Torres, Margarita","Canaria","D","Sin Categoría","Competición",4,{"$f":"VLOOKUP(E3149,Referencias!$B$4:$C$15,2,FALSE())","v":"SC"},{"$f":"VLOOKUP(C3149,Referencias!$B$18:$C$34,2,FALSE())","v":"IC"},"C"]
["3551874","Vela-Hidalgo Gómez, Blanca","Canaria","D","Sin Categoría","Competición",4,{"$f":"VLOOKUP(E3150,Referencias!$B$4:$C$15,2,FALSE())","v":"SC"},{"$f":"VLOOKUP(C3150,Referencias!$B$18:$C$34,2,FALSE())","v":"IC"},"C"]
["3551875","González de Chávez Menéndez, Felicidad","Canaria","D","Tercera Diamante","Competición",3,{"$f":"VLOOKUP(E3151,Referencias!$B$4:$C$15,2,FALSE())","v":"3D"},{"$f":"VLOOKUP(C3151,Referencias!$B$18:$C$34,2,FALSE())","v":"IC"},"C"]
["3551878","Sanchéz Hernández Francés, Victoria","Canaria","D","Tercera Picas","Competición",3,{"$f":"VLOOKUP(E3152,Referencias!$B$4:$C$15,2,FALSE())","v":"3P"},{"$f":"VLOOKUP(C3152,Referencias!$B$18:$C$34,2,FALSE())","v":"IC"},"C"]
["3551879","Goyes Rodríguez, María Isabel","Canaria","D","Tercera Diamante","Competición",3,{"$f":"VLOOKUP(E3153,Referencias!$B$4:$C$15,2,FALSE())","v":"3D"},{"$f":"VLOOKUP(C3153,Referencias!$B$18:$C$34,2,FALSE())","v":"IC"},"C"]
["3551880","Boudineau Bang, Violette","Canaria","D","Tercera Corazón","Competición",3,{"$f":"VLOOKUP(E3154,Referencias!$B$4:$C$15,2,FALSE())","v":"3C"},{"$f":"VLOOKUP(C3154,Referencias!$B$18:$C$34,2,FALSE())","v":"IC"},"C"]
["3551884","Dorado Juárez, Mª Dolores","Canaria","D","Tercera Corazón","Competición",3,{"$f":"VLOOKUP(E3155,Referencias!$B$4:$C$15,2,FALSE())","v":"3C"},{"$f":"VLOOKUP(C3155,Referencias!$B$18:$C$34,2,FALSE())","v":"IC"},"C"]
["3551885","Nielsen, Hanne","Canaria","C","Tercera Corazón","Competición",3,{"$f":"VLOOKUP(E3156,Referencias!$B$4:$C$15,2,FALSE())","v":"3C"},{"$f":"VLOOKUP(C3156,Referencias!$B$18:$C$34,2,FALSE())","v":"IC"},"C"]
["3551886","López Cabrera, Marisol","Canaria","D","Tercera Diamante","Competición",3,{"$f":"VLOOKUP(E3157,Referencias!$B$4:$C$15,2,FALSE())","v":"3D"},{"$f":"VLOOKUP(C3157,Referencias!$B$18:$C$34,2,FALSE())","v":"IC"},"C"]
["3551887","Juif, Patrick","Canaria","C","Tercera Diamante","Competición",3,{"$f":"VLOOKUP(E3158,Referencias!$B$4:$C$15,2,FALSE())","v":"3D"},{"$f":"VLOOKUP(C3158,Referencias!$B$18:$C$34,2,FALSE())","v":"IC"},"C"]
["3551888","Ocampos Márquez, Ana Graciela","Canaria","D","Tercera Diamante","Competición",3,{"$f":"VLOOKUP(E3159,Referencias!$B$4:$C$15,2,FALSE())","v":"3D"},{"$f":"VLOOKUP(C3159,Referencias!$B$18:$C$34,2,FALSE())","v":"IC"},"C"]
["3551890","Martín Hernández, María Teresa","Canaria","D","Sin Categoría","Competición",4,{"$f":"VLOOKUP(E3160,Referencias!$B$4:$C$15,2,FALSE())","v":"SC"},{"$f":"VLOOKUP(C3160,Referencias!$B$18:$C$34,2,FALSE())","v":"IC"},"C"]
["3551891","García Fuentes, Margarita","Canaria","D","Tercera Diamante","Competición",3,{"$f":"VLOOKUP(E3161,Referencias!$B$4:$C$15,2,FALSE())","v":"3D"},{"$f":"VLOOKUP(C3161,Referencias!$B$18:$C$34,2,FALSE())","v":"IC"},"C"]
["3551893","González Amador, Carmen Gori","Canaria","D","Tercera Diamante","Competición",3,{"$f":"VLOOKUP(E3162,Referencias!$B$4:$C$15,2,FALSE())","v":"3D"},{"$f":"VLOOKUP(C3162,Referencias!$B$18:$C$34,2,FALSE())","v":"IC"},"C"]
["3551897","Lara Sentis, MªTeresa","Canaria","D","Tercera Corazón","Competición",3,{"$f":"VLOOKUP(E3163,Referencias!$B$4:$C$15,2,FALSE())","v":"3C"},{"$f":"VLOOKUP(C3163,Referencias!$B$18:$C$34,2,FALSE())","v":"IC"},"C"]
["3551898","Ramos Prats, Manuel","Canaria","C","Tercera Corazón","Competición",3,{"$f":"VLOOKUP(E3164,Referencias!$B$4:$C$15,2,FALSE())","v":"3C"},{"$f":"VLOOKUP(C3164,Referencias!$B$18:$C$34,2,FALSE())","v":"IC"},"C"]
["3551899","Maya Díaz de Lezcano, Hortensia","Canaria","D","Sin Categoría","Competición",4,{"$f":"VLOOKUP(E3165,Referencias!$B$4:$C$15,2,FALSE())","v":"SC"},{"$f":"VLOOKUP(C3165,Referencias!$B$18:$C$34,2,FALSE())","v":"IC"},"C"]
["3551900","Martín Férnandez de Larrinoa, Katy","Canaria","D","Tercera Corazón","Competición",3,{"$f":"VLOOKUP(E3166,Referencias!$B$4:$C$15,2,FALSE())","v":"3C"},{"$f":"VLOOKUP(C3166,Referencias!$B$18:$C$34,2,FALSE())","v":"IC"},"C"]
["3551901","Díez Betriu, Carmen","Canaria","D","Sin Categoría","Competición",4,{"$f":"VLOOKUP(E3167,Referencias!$B$4:$C$15,2,FALSE())","v":"SC"},{"$f":"VLOOKUP(C3167,Referencias!$B$18:$C$34,2,FALSE())","v":"IC"},"C"]
["3551908","Plans Gómez, José Maria","Canaria","C","Tercera Corazón","Competición",3,{"$f":"VLOOKUP(E3168,Referencias!$B$4:$C$15,2,FALSE())","v":"3C"},{"$f":"VLOOKUP(C3168,Referencias!$B$18:$C$34,2,FALSE())","v":"IC"},"C"]
["3551912","Fernández Camejo, Consuelo","Canaria","D","Sin Categoría","Competición",4,{"$f":"VLOOKUP(E3169,Referencias!$B$4:$C$15,2,FALSE())","v":"SC"},{"$f":"VLOOKUP(C3169,Referencias!$B$18:$C$34,2,FALSE())","v":"IC"},"C"]
["3551913","Garcés Pérez, Clara Isabel","Canaria","D","Tercera Corazón","Competición",3,{"$f":"VLOOKUP(E3170,Referencias!$B$4:$C$15,2,FALSE())","v":"3C"},{"$f":"VLOOKUP(C3170,Referencias!$B$18:$C$34,2,FALSE())","v":"IC"},"C"]
["3551914","Almeida González, Juan Jesús","Canaria","C","Tercera Diamante","Competición",3,{"$f":"VLOOKUP(E3171,Referencias!$B$4:$C$15,2,FALSE())","v":"3D"},{"$f":"VLOOKUP(C3171,Referencias!$B$18:$C$34,2,FALSE())","v":"IC"},"C"]
["3551917","Pulido, Rosa","Canaria","D","Tercera Diamante","Competición",3,{"$f":"VLOOKUP(E3172,Referencias!$B$4:$C$15,2,FALSE())","v":"3D"},{"$f":"VLOOKUP(C3172,Referencias!$B$18:$C$34,2,FALSE())","v":"IC"},"C"]
["3551920","Navarro León, Daniela","Canaria","D","Tercera Picas","Competición",3,{"$f":"VLOOKUP(E3173,Referencias!$B$4:$C$15,2,FALSE())","v":"3P"},{"$f":"VLOOKUP(C3173,Referencias!$B$18:$C$34,2,FALSE())","v":"IC"},"C"]
["3551921","Hinestrosa Peco, Manuela","Canaria","D","Tercera Picas","Competición",3,{"$f":"VLOOKUP(E3174,Referencias!$B$4:$C$15,2,FALSE())","v":"3P"},{"$f":"VLOOKUP(C3174,Referencias!$B$18:$C$34,2,FALSE())","v":"IC"},"C"]
["3551923","Pérez Afonso, Pepa","Canaria","D","Tercera Diamante","Competición",3,{"$f":"VLOOKUP(E3175,Referencias!$B$4:$C$15,2,FALSE())","v":"3D"},{"$f":"VLOOKUP(C3175,Referencias!$B$18:$C$34,2,FALSE())","v":"IC"},"C"]
["3551925","Nuñez Ferrer, Ignacio","Canaria","C","Sin Categoría","Junior",4,{"$f":"VLOOKUP(E3176,Referencias!$B$4:$C$15,2,FALSE())","v":"SC"},{"$f":"VLOOKUP(C3176,Referencias!$B$18:$C$34,2,FALSE())","v":"IC"},"C"]
["3551926","Parrilla Barrera, Mª Cristina","Canaria","D","Tercera Diamante","Competición",3,{"$f":"VLOOKUP(E3177,Referencias!$B$4:$C$15,2,FALSE())","v":"3D"},{"$f":"VLOOKUP(C3177,Referencias!$B$18:$C$34,2,FALSE())","v":"IC"},"C"]
["3551928","Zuasty Toajas, Mercedes","Canaria","D","Tercera Corazón","Competición",3,{"$f":"VLOOKUP(E3178,Referencias!$B$4:$C$15,2,FALSE())","v":"3C"},{"$f":"VLOOKUP(C3178,Referencias!$B$18:$C$34,2,FALSE())","v":"IC"},"C"]
["3551936","Borrego Hernández, Santiago","Canaria","C","Tercera Diamante","Competición",3,{"$f":"VLOOKUP(E3179,Referencias!$B$4:$C$15,2,FALSE())","v":"3D"},{"$f":"VLOOKUP(C3179,Referencias!$B$18:$C$34,2,FALSE())","v":"IC"},"C"]
["3551938","de la Frontera, Marqués","Canaria","C","Tercera Picas","Competición",3,{"$f":"VLOOKUP(E3180,Referencias!$B$4:$C$15,2,FALSE())","v":"3P"},{"$f":"VLOOKUP(C3180,Referencias!$B$18:$C$34,2,FALSE())","v":"IC"},"C"]
["3551940","Pacheco Barreto, Mª Trinidad","Canaria","D","Sin Categoría","Competición",4,{"$f":"VLOOKUP(E3181,Referencias!$B$4:$C$15,2,FALSE())","v":"SC"},{"$f":"VLOOKUP(C3181,Referencias!$B$18:$C$34,2,FALSE())","v":"IC"},"C"]
["3551941","Armas Quintero, Susana","Canaria","D","Sin Categoría","Competición",4,{"$f":"VLOOKUP(E3182,Referencias!$B$4:$C$15,2,FALSE())","v":"SC"},{"$f":"VLOOKUP(C3182,Referencias!$B$18:$C$34,2,FALSE())","v":"IC"},"C"]
["3551942","Gonçalves, José Miguel","Canaria","C","Primera Picas","Competición",1,{"$f":"VLOOKUP(E3183,Referencias!$B$4:$C$15,2,FALSE())","v":"1P"},{"$f":"VLOOKUP(C3183,Referencias!$B$18:$C$34,2,FALSE())","v":"IC"},"C"]
["3551947","Hernández Domínguez, María Dolores","Canaria","D","Tercera Diamante","Competición",3,{"$f":"VLOOKUP(E3184,Referencias!$B$4:$C$15,2,FALSE())","v":"3D"},{"$f":"VLOOKUP(C3184,Referencias!$B$18:$C$34,2,FALSE())","v":"IC"},"C"]
["3551951","Martínez Rodríguez, Rita","Canaria","D","Tercera Diamante","Competición",3,{"$f":"VLOOKUP(E3185,Referencias!$B$4:$C$15,2,FALSE())","v":"3D"},{"$f":"VLOOKUP(C3185,Referencias!$B$18:$C$34,2,FALSE())","v":"IC"},"C"]
["3551953","Galván Benítez, María","Canaria","D","Tercera Diamante","Competición",3,{"$f":"VLOOKUP(E3186,Referencias!$B$4:$C$15,2,FALSE())","v":"3D"},{"$f":"VLOOKUP(C3186,Referencias!$B$18:$C$34,2,FALSE())","v":"IC"},"C"]
["3551954","Borges, Pura","Canaria","D","Sin Categoría","Competición",4,{"$f":"VLOOKUP(E3187,Referencias!$B$4:$C$15,2,FALSE())","v":"SC"},{"$f":"VLOOKUP(C3187,Referencias!$B$18:$C$34,2,FALSE())","v":"IC"},"C"]
["3551955","Quevedo Cabrera, Cali","Canaria","D","Tercera Corazón","Competición",3,{"$f":"VLOOKUP(E3188,Referencias!$B$4:$C$15,2,FALSE())","v":"3C"},{"$f":"VLOOKUP(C3188,Referencias!$B$18:$C$34,2,FALSE())","v":"IC"},"C"]
["3551959","Cabrera Rodríguez, Mª Jesús","Canaria","D","Tercera Picas","Competición",3,{"$f":"VLOOKUP(E3189,Referencias!$B$4:$C$15,2,FALSE())","v":"3P"},{"$f":"VLOOKUP(C3189,Referencias!$B$18:$C$34,2,FALSE())","v":"IC"},"C"]
["3551963","Pérez Toledo, José Marcial","Canaria","C","Tercera Corazón","Competición",3,{"$f":"VLOOKUP(E3190,Referencias!$B$4:$C$15,2,FALSE())","v":"3C"},{"$f":"VLOOKUP(C3190,Referencias!$B$18:$C$34,2,FALSE())","v":"IC"},"C"]
["3551965","Álvarez Concepción, Elena","Canaria","D","Sin Categoría","Competición",4,{"$f":"VLOOKUP(E3191,Referencias!$B$4:$C$15,2,FALSE())","v":"SC"},{"$f":"VLOOKUP(C3191,Referencias!$B$18:$C$34,2,FALSE())","v":"IC"},"C"]
["3551966","Delgado Quintero, Delfina Francisca","Canaria","D","Sin Categoría","Competición",4,{"$f":"VLOOKUP(E3192,Referencias!$B$4:$C$15,2,FALSE())","v":"SC"},{"$f":"VLOOKUP(C3192,Referencias!$B$18:$C$34,2,FALSE())","v":"IC"},"C"]
["3551968","Canning, Michael","Canaria","C","Tercera Picas","Competición",3,{"$f":"VLOOKUP(E3193,Referencias!$B$4:$C$15,2,FALSE())","v":"3P"},{"$f":"VLOOKUP(C3193,Referencias!$B$18:$C$34,2,FALSE())","v":"IC"},"C"]
["3551969","Hernández Santana, Mª Pino","Canaria","D","Tercera Corazón","Competición",3,{"$f":"VLOOKUP(E3194,Referencias!$B$4:$C$15,2,FALSE())","v":"3C"},{"$f":"VLOOKUP(C3194,Referencias!$B$18:$C$34,2,FALSE())","v":"IC"},"C"]
["3551973","Quevedo Mariñon, Mª Providencia","Canaria","D","Sin Categoría","Competición",4,{"$f":"VLOOKUP(E3195,Referencias!$B$4:$C$15,2,FALSE())","v":"SC"},{"$f":"VLOOKUP(C3195,Referencias!$B$18:$C$34,2,FALSE())","v":"IC"},"C"]
["3551974","Llorens Betancor, Lucia","Canaria","D","Tercera Diamante","Competición",3,{"$f":"VLOOKUP(E3196,Referencias!$B$4:$C$15,2,FALSE())","v":"3D"},{"$f":"VLOOKUP(C3196,Referencias!$B$18:$C$34,2,FALSE())","v":"IC"},"C"]
["3551979","González González, Ambrosio","Canaria","C","Sin Categoría","Competición",4,{"$f":"VLOOKUP(E3197,Referencias!$B$4:$C$15,2,FALSE())","v":"SC"},{"$f":"VLOOKUP(C3197,Referencias!$B$18:$C$34,2,FALSE())","v":"IC"},"C"]
["3551983","Rodríguez Díaz Casanova, Mª del Pino","Canaria","D","Sin Categoría","Competición",4,{"$f":"VLOOKUP(E3198,Referencias!$B$4:$C$15,2,FALSE())","v":"SC"},{"$f":"VLOOKUP(C3198,Referencias!$B$18:$C$34,2,FALSE())","v":"IC"},"C"]
["3551986","Lagares Pérez, Mª del Pino","Canaria","D","Tercera Diamante","Competición",3,{"$f":"VLOOKUP(E3199,Referencias!$B$4:$C$15,2,FALSE())","v":"3D"},{"$f":"VLOOKUP(C3199,Referencias!$B$18:$C$34,2,FALSE())","v":"IC"},"C"]
["3551987","Batista Acosta, Eusebio","Canaria","C","Sin Categoría","Competición",4,{"$f":"VLOOKUP(E3200,Referencias!$B$4:$C$15,2,FALSE())","v":"SC"},{"$f":"VLOOKUP(C3200,Referencias!$B$18:$C$34,2,FALSE())","v":"IC"},{"$f":"IF(D3200=\"Dama\",\"D\",\"C\")","v":"C"}]
["3551988","Cabrera Rodriguez, Flor Angeles","Canaria","D","Tercera Picas","Competición",3,{"$f":"VLOOKUP(E3201,Referencias!$B$4:$C$15,2,FALSE())","v":"3P"},{"$f":"VLOOKUP(C3201,Referencias!$B$18:$C$34,2,FALSE())","v":"IC"},"C"]
["3551989","Domínguez Arias, Miguel Angel","Canaria","C","Sin Categoría","Competición",4,{"$f":"VLOOKUP(E3202,Referencias!$B$4:$C$15,2,FALSE())","v":"SC"},{"$f":"VLOOKUP(C3202,Referencias!$B$18:$C$34,2,FALSE())","v":"IC"},"C"]
["3551991","Padrón Estariol, Celina","Canaria","D","Sin Categoría","Competición",4,{"$f":"VLOOKUP(E3203,Referencias!$B$4:$C$15,2,FALSE())","v":"SC"},{"$f":"VLOOKUP(C3203,Referencias!$B$18:$C$34,2,FALSE())","v":"IC"},"C"]
["3551992","Pérez Gnzález, Margarita María","Canaria","D","Sin Categoría","Competición",4,{"$f":"VLOOKUP(E3204,Referencias!$B$4:$C$15,2,FALSE())","v":"SC"},{"$f":"VLOOKUP(C3204,Referencias!$B$18:$C$34,2,FALSE())","v":"IC"},"C"]
["3551993","de la Torre, Rosario","Canaria","D","Sin Categoría","Competición",4,{"$f":"VLOOKUP(E3205,Referencias!$B$4:$C$15,2,FALSE())","v":"SC"},{"$f":"VLOOKUP(C3205,Referencias!$B$18:$C$34,2,FALSE())","v":"IC"},"C"]
["3551995","Sánchez Arancibia, Luz Marina","Canaria","D","Sin Categoría","Competición",4,{"$f":"VLOOKUP(E3206,Referencias!$B$4:$C$15,2,FALSE())","v":"SC"},{"$f":"VLOOKUP(C3206,Referencias!$B$18:$C$34,2,FALSE())","v":"IC"},"C"]
["3551996","Gimeno Maza, Mª Cruz","Canaria","D","Tercera Corazón","Competición",3,{"$f":"VLOOKUP(E3207,Referencias!$B$4:$C$15,2,FALSE())","v":"3C"},{"$f":"VLOOKUP(C3207,Referencias!$B$18:$C$34,2,FALSE())","v":"IC"},"C"]
["3551998","Ramos Valencia, Andrea","Canaria","D","Tercera Diamante","Competición",3,{"$f":"VLOOKUP(E3208,Referencias!$B$4:$C$15,2,FALSE())","v":"3D"},{"$f":"VLOOKUP(C3208,Referencias!$B$18:$C$34,2,FALSE())","v":"IC"},"C"]
["3551999","Sánchez Hernandez-Francés, Margarita María","Canaria","D","Tercera Picas","Competición",3,{"$f":"VLOOKUP(E3209,Referencias!$B$4:$C$15,2,FALSE())","v":"3P"},{"$f":"VLOOKUP(C3209,Referencias!$B$18:$C$34,2,FALSE())","v":"IC"},"C"]
["3552000","Selga Malet, Jaime","Canaria","C","Tercera Diamante","Competición",3,{"$f":"VLOOKUP(E3210,Referencias!$B$4:$C$15,2,FALSE())","v":"3D"},{"$f":"VLOOKUP(C3210,Referencias!$B$18:$C$34,2,FALSE())","v":"IC"},"C"]
["3552001","Bonny Miranda, Maria del Carmen","Canaria","D","Sin Categoría","Competición",4,{"$f":"VLOOKUP(E3211,Referencias!$B$4:$C$15,2,FALSE())","v":"SC"},{"$f":"VLOOKUP(C3211,Referencias!$B$18:$C$34,2,FALSE())","v":"IC"},"C"]
["3552002","Gonzalez  Martin, José  Juan","Canaria","C","Sin Categoría","Competición",4,{"$f":"VLOOKUP(E3212,Referencias!$B$4:$C$15,2,FALSE())","v":"SC"},{"$f":"VLOOKUP(C3212,Referencias!$B$18:$C$34,2,FALSE())","v":"IC"},"C"]
["3552003","Jubindo De Elizalde , Maria Carmen","Canaria","D","Sin Categoría","Competición",4,{"$f":"VLOOKUP(E3213,Referencias!$B$4:$C$15,2,FALSE())","v":"SC"},{"$f":"VLOOKUP(C3213,Referencias!$B$18:$C$34,2,FALSE())","v":"IC"},"C"]
["3552004","Gonzalez Martin , Maria Fernanda","Canaria","D","Sin Categoría","Competición",4,{"$f":"VLOOKUP(E3214,Referencias!$B$4:$C$15,2,FALSE())","v":"SC"},{"$f":"VLOOKUP(C3214,Referencias!$B$18:$C$34,2,FALSE())","v":"IC"},"C"]
["3552005","Vega Holgado, Raquel","Canaria","D","Sin Categoría","Competición",4,{"$f":"VLOOKUP(E3215,Referencias!$B$4:$C$15,2,FALSE())","v":"SC"},{"$f":"VLOOKUP(C3215,Referencias!$B$18:$C$34,2,FALSE())","v":"IC"},"C"]
["3552006","Zarate Pedaza De Ayala , Maria Paz","Canaria","D","Sin Categoría","Competición",4,{"$f":"VLOOKUP(E3216,Referencias!$B$4:$C$15,2,FALSE())","v":"SC"},{"$f":"VLOOKUP(C3216,Referencias!$B$18:$C$34,2,FALSE())","v":"IC"},"C"]
["3552007","Pedrero Manchado, Maria Concepcion","Canaria","D","Sin Categoría","Competición",4,{"$f":"VLOOKUP(E3217,Referencias!$B$4:$C$15,2,FALSE())","v":"SC"},{"$f":"VLOOKUP(C3217,Referencias!$B$18:$C$34,2,FALSE())","v":"IC"},"C"]
["3552008","Rodriguez , Pepa Marina","Canaria","D","Sin Categoría","Competición",4,{"$f":"VLOOKUP(E3218,Referencias!$B$4:$C$15,2,FALSE())","v":"SC"},{"$f":"VLOOKUP(C3218,Referencias!$B$18:$C$34,2,FALSE())","v":"IC"},"C"]
["3552009","Henriquez Blanco, Antonio","Canaria","C","Sin Categoría","Competición",4,{"$f":"VLOOKUP(E3219,Referencias!$B$4:$C$15,2,FALSE())","v":"SC"},{"$f":"VLOOKUP(C3219,Referencias!$B$18:$C$34,2,FALSE())","v":"IC"},"C"]
["3552010","Ley Bello, Mercedes","Canaria","D","Sin Categoría","Competición",4,{"$f":"VLOOKUP(E3220,Referencias!$B$4:$C$15,2,FALSE())","v":"SC"},{"$f":"VLOOKUP(C3220,Referencias!$B$18:$C$34,2,FALSE())","v":"IC"},"C"]
["3552011","Esteban, Amparo","Canaria","D","Sin Categoría","Competición",4,{"$f":"VLOOKUP(E3221,Referencias!$B$4:$C$15,2,FALSE())","v":"SC"},{"$f":"VLOOKUP(C3221,Referencias!$B$18:$C$34,2,FALSE())","v":"IC"},"C"]
["3552014","Willson, Mathew","Canaria","C","Sin Categoría","Competición",4,{"$f":"VLOOKUP(E3222,Referencias!$B$4:$C$15,2,FALSE())","v":"SC"},{"$f":"VLOOKUP(C3222,Referencias!$B$18:$C$34,2,FALSE())","v":"IC"},"C"]
["3552015","Ferrer Quintana, María del Mar","Canaria","D","Sin Categoría","Competición",4,{"$f":"VLOOKUP(E3223,Referencias!$B$4:$C$15,2,FALSE())","v":"SC"},{"$f":"VLOOKUP(C3223,Referencias!$B$18:$C$34,2,FALSE())","v":"IC"},"C"]
["3554002","Moragas de Sánchez, Montserrat","Canaria","D","Segunda Diamante","Competición",2,{"$f":"VLOOKUP(E3224,Referencias!$B$4:$C$15,2,FALSE())","v":"2D"},{"$f":"VLOOKUP(C3224,Referencias!$B$18:$C$34,2,FALSE())","v":"IC"},"C"]
["3554032","Bosch Caballero, Juan Fco.","Canaria","C","Tercera Corazón","Competición",3,{"$f":"VLOOKUP(E3225,Referencias!$B$4:$C$15,2,FALSE())","v":"3C"},{"$f":"VLOOKUP(C3225,Referencias!$B$18:$C$34,2,FALSE())","v":"IC"},"C"]
["3554043","Navarro León, Pablo Jesús","Canaria","C","Sin Categoría","Competición",4,{"$f":"VLOOKUP(E3226,Referencias!$B$4:$C$15,2,FALSE())","v":"SC"},{"$f":"VLOOKUP(C3226,Referencias!$B$18:$C$34,2,FALSE())","v":"IC"},"C"]
["3554051","Bonny Miranda, Rosa","Canaria","D","Tercera Picas","Competición",3,{"$f":"VLOOKUP(E3227,Referencias!$B$4:$C$15,2,FALSE())","v":"3P"},{"$f":"VLOOKUP(C3227,Referencias!$B$18:$C$34,2,FALSE())","v":"IC"},"C"]
["3554057","Mtnez-Arroyo Beautell, Cristina","Canaria","D","Segunda Corazón","Competición",2,{"$f":"VLOOKUP(E3228,Referencias!$B$4:$C$15,2,FALSE())","v":"2C"},{"$f":"VLOOKUP(C3228,Referencias!$B$18:$C$34,2,FALSE())","v":"IC"},"C"]
["3631033","Rodríguez Pereira, María Luisa","Gallega","D","Segunda Corazón","Competición",2,{"$f":"VLOOKUP(E3229,Referencias!$B$4:$C$15,2,FALSE())","v":"2C"},{"$f":"VLOOKUP(C3229,Referencias!$B$18:$C$34,2,FALSE())","v":"G"},"C"]
["3631040","Lobato Cameselle, Ana","Gallega","D","Segunda Diamante","Competición",2,{"$f":"VLOOKUP(E3230,Referencias!$B$4:$C$15,2,FALSE())","v":"2D"},{"$f":"VLOOKUP(C3230,Referencias!$B$18:$C$34,2,FALSE())","v":"G"},"C"]
["3631053","Blanco Casas, Marilo","Gallega","D","Segunda Corazón","Competición",2,{"$f":"VLOOKUP(E3231,Referencias!$B$4:$C$15,2,FALSE())","v":"2C"},{"$f":"VLOOKUP(C3231,Referencias!$B$18:$C$34,2,FALSE())","v":"G"},"C"]
["3631055","Pérez Rodríguez, Mª Luisa","Gallega","D","Tercera Picas","Competición",3,{"$f":"VLOOKUP(E3232,Referencias!$B$4:$C$15,2,FALSE())","v":"3P"},{"$f":"VLOOKUP(C3232,Referencias!$B$18:$C$34,2,FALSE())","v":"G"},"C"]
["3631065","Parapar Fernández, Amparo","Gallega","D","Segunda Diamante","Competición",2,{"$f":"VLOOKUP(E3233,Referencias!$B$4:$C$15,2,FALSE())","v":"2D"},{"$f":"VLOOKUP(C3233,Referencias!$B$18:$C$34,2,FALSE())","v":"G"},"C"]
["3631110","López Gutierrez, María Soledad","Gallega","D","Tercera Picas","Competición",3,{"$f":"VLOOKUP(E3234,Referencias!$B$4:$C$15,2,FALSE())","v":"3P"},{"$f":"VLOOKUP(C3234,Referencias!$B$18:$C$34,2,FALSE())","v":"G"},"C"]
["3631111","González Fernández, María del Olvido","Gallega","D","Tercera Corazón","Competición",3,{"$f":"VLOOKUP(E3235,Referencias!$B$4:$C$15,2,FALSE())","v":"3C"},{"$f":"VLOOKUP(C3235,Referencias!$B$18:$C$34,2,FALSE())","v":"G"},"C"]
["3631115","Aparicio, Beatriz G.","Gallega","D","Segunda Diamante","Competición",2,{"$f":"VLOOKUP(E3236,Referencias!$B$4:$C$15,2,FALSE())","v":"2D"},{"$f":"VLOOKUP(C3236,Referencias!$B$18:$C$34,2,FALSE())","v":"G"},"C"]
["3631116","Díaz del Río, Ana","Gallega","D","Tercera Diamante","Competición",3,{"$f":"VLOOKUP(E3237,Referencias!$B$4:$C$15,2,FALSE())","v":"3D"},{"$f":"VLOOKUP(C3237,Referencias!$B$18:$C$34,2,FALSE())","v":"G"},"C"]
["3631121","Dopico Sanjurjo, Manuel","Gallega","C","Tercera Picas","Competición",3,{"$f":"VLOOKUP(E3238,Referencias!$B$4:$C$15,2,FALSE())","v":"3P"},{"$f":"VLOOKUP(C3238,Referencias!$B$18:$C$34,2,FALSE())","v":"G"},"C"]
["3631132","Padin Galban, Carmen","Gallega","D","Tercera Diamante","Competición",3,{"$f":"VLOOKUP(E3239,Referencias!$B$4:$C$15,2,FALSE())","v":"3D"},{"$f":"VLOOKUP(C3239,Referencias!$B$18:$C$34,2,FALSE())","v":"G"},"C"]
["3631133","Muñoz Jofre, Carmen","Gallega","D","Tercera Picas","Competición",3,{"$f":"VLOOKUP(E3240,Referencias!$B$4:$C$15,2,FALSE())","v":"3P"},{"$f":"VLOOKUP(C3240,Referencias!$B$18:$C$34,2,FALSE())","v":"G"},"C"]
["3631134","Sánchez-Monge Morante, Alvaro","Gallega","C","Primera Picas","Competición",1,{"$f":"VLOOKUP(E3241,Referencias!$B$4:$C$15,2,FALSE())","v":"1P"},{"$f":"VLOOKUP(C3241,Referencias!$B$18:$C$34,2,FALSE())","v":"G"},"C"]
["3631142","Riveiro Ferreiro, Susana","Gallega","D","Segunda Picas","Competición",2,{"$f":"VLOOKUP(E3242,Referencias!$B$4:$C$15,2,FALSE())","v":"2P"},{"$f":"VLOOKUP(C3242,Referencias!$B$18:$C$34,2,FALSE())","v":"G"},"C"]
["3631214","Carracedo Martín, Pilar","Gallega","D","Segunda Picas","Competición",2,{"$f":"VLOOKUP(E3243,Referencias!$B$4:$C$15,2,FALSE())","v":"2P"},{"$f":"VLOOKUP(C3243,Referencias!$B$18:$C$34,2,FALSE())","v":"G"},"C"]
["3631219","Tato Lojo, María","Gallega","D","Tercera Diamante","Competición",3,{"$f":"VLOOKUP(E3244,Referencias!$B$4:$C$15,2,FALSE())","v":"3D"},{"$f":"VLOOKUP(C3244,Referencias!$B$18:$C$34,2,FALSE())","v":"G"},"C"]
["3631220","Vázquez Alvarez, Marisol","Gallega","D","Segunda Diamante","Competición",2,{"$f":"VLOOKUP(E3245,Referencias!$B$4:$C$15,2,FALSE())","v":"2D"},{"$f":"VLOOKUP(C3245,Referencias!$B$18:$C$34,2,FALSE())","v":"G"},"C"]
["3631240","Rodríguez de Cameans, Gely","Gallega","D","Segunda Picas","Competición",2,{"$f":"VLOOKUP(E3246,Referencias!$B$4:$C$15,2,FALSE())","v":"2P"},{"$f":"VLOOKUP(C3246,Referencias!$B$18:$C$34,2,FALSE())","v":"G"},"C"]
["3631266","Gómez Martínez, Ana","Gallega","D","Tercera Picas","Competición",3,{"$f":"VLOOKUP(E3247,Referencias!$B$4:$C$15,2,FALSE())","v":"3P"},{"$f":"VLOOKUP(C3247,Referencias!$B$18:$C$34,2,FALSE())","v":"G"},"C"]
["3631267","De Bernardo López, Juan","Gallega","C","Tercera Picas","Competición",3,{"$f":"VLOOKUP(E3248,Referencias!$B$4:$C$15,2,FALSE())","v":"3P"},{"$f":"VLOOKUP(C3248,Referencias!$B$18:$C$34,2,FALSE())","v":"G"},"C"]
["3631270","Frade Prado, Adela","Gallega","D","Tercera Picas","Competición",3,{"$f":"VLOOKUP(E3249,Referencias!$B$4:$C$15,2,FALSE())","v":"3P"},{"$f":"VLOOKUP(C3249,Referencias!$B$18:$C$34,2,FALSE())","v":"G"},"C"]
["3631271","Guerra Arroyo, Justino","Gallega","C","Segunda Corazón","Competición",2,{"$f":"VLOOKUP(E3250,Referencias!$B$4:$C$15,2,FALSE())","v":"2C"},{"$f":"VLOOKUP(C3250,Referencias!$B$18:$C$34,2,FALSE())","v":"G"},"C"]
["3631275","Quirós García, Ramón","Madrileña","C","Segunda Corazón","Competición",2,{"$f":"VLOOKUP(E3251,Referencias!$B$4:$C$15,2,FALSE())","v":"2C"},{"$f":"VLOOKUP(C3251,Referencias!$B$18:$C$34,2,FALSE())","v":"M"},"C"]
["3631290","Marcide Castroman, Mª Angeles","Gallega","D","Tercera Diamante","Competición",3,{"$f":"VLOOKUP(E3252,Referencias!$B$4:$C$15,2,FALSE())","v":"3D"},{"$f":"VLOOKUP(C3252,Referencias!$B$18:$C$34,2,FALSE())","v":"G"},"C"]
["3631342","Ferradas, Mª del Carmen","Gallega","D","Primera Corazón","Competición",1,{"$f":"VLOOKUP(E3253,Referencias!$B$4:$C$15,2,FALSE())","v":"1C"},{"$f":"VLOOKUP(C3253,Referencias!$B$18:$C$34,2,FALSE())","v":"G"},"C"]
["3631345","Rodríguez Duran, Fernanda","Gallega","D","Segunda Diamante","Competición",2,{"$f":"VLOOKUP(E3254,Referencias!$B$4:$C$15,2,FALSE())","v":"2D"},{"$f":"VLOOKUP(C3254,Referencias!$B$18:$C$34,2,FALSE())","v":"G"},"C"]
["3631346","Domínguez Vaz, Sabela","Gallega","D","Segunda Corazón","Competición",2,{"$f":"VLOOKUP(E3255,Referencias!$B$4:$C$15,2,FALSE())","v":"2C"},{"$f":"VLOOKUP(C3255,Referencias!$B$18:$C$34,2,FALSE())","v":"G"},"C"]
["3631347","Vizcaino Victoria, Victoria","Gallega","D","Tercera Picas","Competición",3,{"$f":"VLOOKUP(E3256,Referencias!$B$4:$C$15,2,FALSE())","v":"3P"},{"$f":"VLOOKUP(C3256,Referencias!$B$18:$C$34,2,FALSE())","v":"G"},"C"]
["3631350","Carrera Covelo, Aurora","Gallega","D","Primera Diamante","Competición",1,{"$f":"VLOOKUP(E3257,Referencias!$B$4:$C$15,2,FALSE())","v":"1D"},{"$f":"VLOOKUP(C3257,Referencias!$B$18:$C$34,2,FALSE())","v":"G"},"C"]
["3631352","Vázquez Zárate, Carmen","Gallega","D","Segunda Diamante","Competición",2,{"$f":"VLOOKUP(E3258,Referencias!$B$4:$C$15,2,FALSE())","v":"2D"},{"$f":"VLOOKUP(C3258,Referencias!$B$18:$C$34,2,FALSE())","v":"G"},"C"]
["3631353","Calvo Vilanova, Noemi","Gallega","D","Segunda Diamante","Competición",2,{"$f":"VLOOKUP(E3259,Referencias!$B$4:$C$15,2,FALSE())","v":"2D"},{"$f":"VLOOKUP(C3259,Referencias!$B$18:$C$34,2,FALSE())","v":"G"},"C"]
["3631365","Vallejo Cobo, Francisco","Gallega","C","Tercera Corazón","Competición",3,{"$f":"VLOOKUP(E3260,Referencias!$B$4:$C$15,2,FALSE())","v":"3C"},{"$f":"VLOOKUP(C3260,Referencias!$B$18:$C$34,2,FALSE())","v":"G"},"C"]
["3631375","Menéndez Sandoval, Mª Dolores","Gallega","D","Tercera Diamante","Competición",3,{"$f":"VLOOKUP(E3261,Referencias!$B$4:$C$15,2,FALSE())","v":"3D"},{"$f":"VLOOKUP(C3261,Referencias!$B$18:$C$34,2,FALSE())","v":"G"},"C"]
["3631380","García Olivares, José","Gallega","C","Primera Diamante","Competición",1,{"$f":"VLOOKUP(E3262,Referencias!$B$4:$C$15,2,FALSE())","v":"1D"},{"$f":"VLOOKUP(C3262,Referencias!$B$18:$C$34,2,FALSE())","v":"G"},"C"]
["3631381","Calviño Casado, María José","Gallega","D","Segunda Corazón","Competición",2,{"$f":"VLOOKUP(E3263,Referencias!$B$4:$C$15,2,FALSE())","v":"2C"},{"$f":"VLOOKUP(C3263,Referencias!$B$18:$C$34,2,FALSE())","v":"G"},"C"]
["3631383","García Domínguez, Gloria","Gallega","D","Tercera Corazón","Competición",3,{"$f":"VLOOKUP(E3264,Referencias!$B$4:$C$15,2,FALSE())","v":"3C"},{"$f":"VLOOKUP(C3264,Referencias!$B$18:$C$34,2,FALSE())","v":"G"},{"$f":"IF(D3264=\"Dama\",\"D\",\"C\")","v":"C"}]
["3631387","Fernández Rey, Julio José","Gallega","C","Primera Diamante","Competición",1,{"$f":"VLOOKUP(E3265,Referencias!$B$4:$C$15,2,FALSE())","v":"1D"},{"$f":"VLOOKUP(C3265,Referencias!$B$18:$C$34,2,FALSE())","v":"G"},"C"]
["3631390","Estevez Marquez, Mª Pilar","Gallega","D","Tercera Corazón","Competición",3,{"$f":"VLOOKUP(E3266,Referencias!$B$4:$C$15,2,FALSE())","v":"3C"},{"$f":"VLOOKUP(C3266,Referencias!$B$18:$C$34,2,FALSE())","v":"G"},"C"]
["3631391","Estevez Marquez, Elisa","Gallega","D","Tercera Diamante","Competición",3,{"$f":"VLOOKUP(E3267,Referencias!$B$4:$C$15,2,FALSE())","v":"3D"},{"$f":"VLOOKUP(C3267,Referencias!$B$18:$C$34,2,FALSE())","v":"G"},"C"]
["3631407","De la Peña Díez de Vizurrun, Milagro","Gallega","D","Segunda Corazón","Competición",2,{"$f":"VLOOKUP(E3268,Referencias!$B$4:$C$15,2,FALSE())","v":"2C"},{"$f":"VLOOKUP(C3268,Referencias!$B$18:$C$34,2,FALSE())","v":"G"},"C"]
["3631418","Rivas Souto, Aida","Gallega","D","Segunda Corazón","Competición",2,{"$f":"VLOOKUP(E3269,Referencias!$B$4:$C$15,2,FALSE())","v":"2C"},{"$f":"VLOOKUP(C3269,Referencias!$B$18:$C$34,2,FALSE())","v":"G"},"C"]
["3631422","Millana Solórzano, Mariasun","Gallega","D","Segunda Picas","Competición",2,{"$f":"VLOOKUP(E3270,Referencias!$B$4:$C$15,2,FALSE())","v":"2P"},{"$f":"VLOOKUP(C3270,Referencias!$B$18:$C$34,2,FALSE())","v":"G"},"C"]
["3631423","Martínez de la Escalera Llorca, Isidoro","Gallega","C","Tercera Corazón","Competición",3,{"$f":"VLOOKUP(E3271,Referencias!$B$4:$C$15,2,FALSE())","v":"3C"},{"$f":"VLOOKUP(C3271,Referencias!$B$18:$C$34,2,FALSE())","v":"G"},"C"]
["3631426","Lluch Rodríguez, María José","Gallega","D","Segunda Diamante","Competición",2,{"$f":"VLOOKUP(E3272,Referencias!$B$4:$C$15,2,FALSE())","v":"2D"},{"$f":"VLOOKUP(C3272,Referencias!$B$18:$C$34,2,FALSE())","v":"G"},"C"]
["3631431","Molins Aguirre, María","Gallega","D","Primera Picas","Competición",1,{"$f":"VLOOKUP(E3273,Referencias!$B$4:$C$15,2,FALSE())","v":"1P"},{"$f":"VLOOKUP(C3273,Referencias!$B$18:$C$34,2,FALSE())","v":"G"},"C"]
["3631440","Barros Parra, Conchi","Gallega","D","Segunda Diamante","Competición",2,{"$f":"VLOOKUP(E3274,Referencias!$B$4:$C$15,2,FALSE())","v":"2D"},{"$f":"VLOOKUP(C3274,Referencias!$B$18:$C$34,2,FALSE())","v":"G"},"C"]
["3631441","Ramos Lista, Fernando","Gallega","C","Sin Categoría","Competición",4,{"$f":"VLOOKUP(E3275,Referencias!$B$4:$C$15,2,FALSE())","v":"SC"},{"$f":"VLOOKUP(C3275,Referencias!$B$18:$C$34,2,FALSE())","v":"G"},"C"]
["3631469","Touza López, Ana","Gallega","D","Tercera Picas","Competición",3,{"$f":"VLOOKUP(E3276,Referencias!$B$4:$C$15,2,FALSE())","v":"3P"},{"$f":"VLOOKUP(C3276,Referencias!$B$18:$C$34,2,FALSE())","v":"G"},"C"]
["3631470","Arruti Peleteiro, Emilio","Gallega","C","Tercera Picas","Competición",3,{"$f":"VLOOKUP(E3277,Referencias!$B$4:$C$15,2,FALSE())","v":"3P"},{"$f":"VLOOKUP(C3277,Referencias!$B$18:$C$34,2,FALSE())","v":"G"},"C"]
["3631474","Blanco García, Mª Consuelo","Gallega","D","Sin Categoría","Competición",4,{"$f":"VLOOKUP(E3278,Referencias!$B$4:$C$15,2,FALSE())","v":"SC"},{"$f":"VLOOKUP(C3278,Referencias!$B$18:$C$34,2,FALSE())","v":"G"},"C"]
["3631477","Nieto Urrabieta, Mª de las Mercedes","Gallega","D","Tercera Diamante","Competición",3,{"$f":"VLOOKUP(E3279,Referencias!$B$4:$C$15,2,FALSE())","v":"3D"},{"$f":"VLOOKUP(C3279,Referencias!$B$18:$C$34,2,FALSE())","v":"G"},"C"]
["3631486","Fernández Sánchez, Maria Teresa","Gallega","D","Tercera Corazón","Competición",3,{"$f":"VLOOKUP(E3280,Referencias!$B$4:$C$15,2,FALSE())","v":"3C"},{"$f":"VLOOKUP(C3280,Referencias!$B$18:$C$34,2,FALSE())","v":"G"},"C"]
["3631487","González Viñas, Mª del Carmen","Gallega","D","Tercera Diamante","Competición",3,{"$f":"VLOOKUP(E3281,Referencias!$B$4:$C$15,2,FALSE())","v":"3D"},{"$f":"VLOOKUP(C3281,Referencias!$B$18:$C$34,2,FALSE())","v":"G"},"C"]
["3631488","da Silva Pereira de Sousa, Jose Antonio","Gallega","C","Primera Diamante","Competición",1,{"$f":"VLOOKUP(E3282,Referencias!$B$4:$C$15,2,FALSE())","v":"1D"},{"$f":"VLOOKUP(C3282,Referencias!$B$18:$C$34,2,FALSE())","v":"G"},"C"]
["3631489","Valente Pereira de Sousa, Jose Manuel","Gallega","C","Segunda Picas","Competición",2,{"$f":"VLOOKUP(E3283,Referencias!$B$4:$C$15,2,FALSE())","v":"2P"},{"$f":"VLOOKUP(C3283,Referencias!$B$18:$C$34,2,FALSE())","v":"G"},"C"]
["3631492","Gallardo Camacho, María Dolores","Gallega","D","Tercera Diamante","Competición",3,{"$f":"VLOOKUP(E3284,Referencias!$B$4:$C$15,2,FALSE())","v":"3D"},{"$f":"VLOOKUP(C3284,Referencias!$B$18:$C$34,2,FALSE())","v":"G"},"C"]
["3631496","Machado Lima, Paulo Miguel","Gallega","C","Primera Picas","Competición",1,{"$f":"VLOOKUP(E3285,Referencias!$B$4:$C$15,2,FALSE())","v":"1P"},{"$f":"VLOOKUP(C3285,Referencias!$B$18:$C$34,2,FALSE())","v":"G"},"C"]
["3631546","Quintanilla Buceta, Mª Victoria","Gallega","D","Tercera Diamante","Competición",3,{"$f":"VLOOKUP(E3286,Referencias!$B$4:$C$15,2,FALSE())","v":"3D"},{"$f":"VLOOKUP(C3286,Referencias!$B$18:$C$34,2,FALSE())","v":"G"},"C"]
["3631551","Diaz del Rio Fery, Charo","Gallega","D","Sin Categoría","Competición",4,{"$f":"VLOOKUP(E3287,Referencias!$B$4:$C$15,2,FALSE())","v":"SC"},{"$f":"VLOOKUP(C3287,Referencias!$B$18:$C$34,2,FALSE())","v":"G"},"C"]
["3631579","Estrada Ibars, Rosa María","Gallega","D","Segunda Picas","Competición",2,{"$f":"VLOOKUP(E3288,Referencias!$B$4:$C$15,2,FALSE())","v":"2P"},{"$f":"VLOOKUP(C3288,Referencias!$B$18:$C$34,2,FALSE())","v":"G"},"C"]
["3631583","Nistal Penide, Manuel","Gallega","C","Segunda Diamante","Competición",2,{"$f":"VLOOKUP(E3289,Referencias!$B$4:$C$15,2,FALSE())","v":"2D"},{"$f":"VLOOKUP(C3289,Referencias!$B$18:$C$34,2,FALSE())","v":"G"},"C"]
["3631617","Macias Rey, Mª del Carmen","Gallega","C","Tercera Picas","Competición",3,{"$f":"VLOOKUP(E3290,Referencias!$B$4:$C$15,2,FALSE())","v":"3P"},{"$f":"VLOOKUP(C3290,Referencias!$B$18:$C$34,2,FALSE())","v":"G"},"C"]
["3631628","Gil Somorostro, Araceli","Gallega","D","Segunda Picas","Competición",2,{"$f":"VLOOKUP(E3291,Referencias!$B$4:$C$15,2,FALSE())","v":"2P"},{"$f":"VLOOKUP(C3291,Referencias!$B$18:$C$34,2,FALSE())","v":"G"},"C"]
["3631630","Iglesias Santero, María Jesús","Gallega","D","Tercera Diamante","Competición",3,{"$f":"VLOOKUP(E3292,Referencias!$B$4:$C$15,2,FALSE())","v":"3D"},{"$f":"VLOOKUP(C3292,Referencias!$B$18:$C$34,2,FALSE())","v":"G"},"C"]
["3631634","Torres Matos, Enrique","Gallega","C","Tercera Diamante","Competición",3,{"$f":"VLOOKUP(E3293,Referencias!$B$4:$C$15,2,FALSE())","v":"3D"},{"$f":"VLOOKUP(C3293,Referencias!$B$18:$C$34,2,FALSE())","v":"G"},"C"]
["3631635","Pérez Amaro, Ana","Gallega","D","Tercera Picas","Competición",3,{"$f":"VLOOKUP(E3294,Referencias!$B$4:$C$15,2,FALSE())","v":"3P"},{"$f":"VLOOKUP(C3294,Referencias!$B$18:$C$34,2,FALSE())","v":"G"},"C"]
["3631637","Noves Sánchez, María Montserrat","Gallega","D","Sin Categoría","Competición",4,{"$f":"VLOOKUP(E3295,Referencias!$B$4:$C$15,2,FALSE())","v":"SC"},{"$f":"VLOOKUP(C3295,Referencias!$B$18:$C$34,2,FALSE())","v":"G"},"C"]
["3631639","Bárcena Fernández de Angulo, Asunción","Gallega","D","Sin Categoría","Competición",4,{"$f":"VLOOKUP(E3296,Referencias!$B$4:$C$15,2,FALSE())","v":"SC"},{"$f":"VLOOKUP(C3296,Referencias!$B$18:$C$34,2,FALSE())","v":"G"},"C"]
["3631643","Torres Castro, Edmundo","Gallega","C","Segunda Diamante","Competición",2,{"$f":"VLOOKUP(E3297,Referencias!$B$4:$C$15,2,FALSE())","v":"2D"},{"$f":"VLOOKUP(C3297,Referencias!$B$18:$C$34,2,FALSE())","v":"G"},"C"]
["3631644","Eiroa Guillen, Mª Antonia","Gallega","D","Segunda Corazón","Competición",2,{"$f":"VLOOKUP(E3298,Referencias!$B$4:$C$15,2,FALSE())","v":"2C"},{"$f":"VLOOKUP(C3298,Referencias!$B$18:$C$34,2,FALSE())","v":"G"},"C"]
["3631647","González-Méndez Brandón, Carlos","Gallega","C","Tercera Corazón","Competición",3,{"$f":"VLOOKUP(E3299,Referencias!$B$4:$C$15,2,FALSE())","v":"3C"},{"$f":"VLOOKUP(C3299,Referencias!$B$18:$C$34,2,FALSE())","v":"G"},"C"]
["3631648","Mariñas Martínez, Reyes","Gallega","D","Tercera Corazón","Competición",3,{"$f":"VLOOKUP(E3300,Referencias!$B$4:$C$15,2,FALSE())","v":"3C"},{"$f":"VLOOKUP(C3300,Referencias!$B$18:$C$34,2,FALSE())","v":"G"},"C"]
["3631649","Calderón Alcocer, Mª Teresa","Gallega","D","Tercera Diamante","Competición",3,{"$f":"VLOOKUP(E3301,Referencias!$B$4:$C$15,2,FALSE())","v":"3D"},{"$f":"VLOOKUP(C3301,Referencias!$B$18:$C$34,2,FALSE())","v":"G"},"C"]
["3631650","Outon Soto, Alicia","Gallega","D","Tercera Diamante","Competición",3,{"$f":"VLOOKUP(E3302,Referencias!$B$4:$C$15,2,FALSE())","v":"3D"},{"$f":"VLOOKUP(C3302,Referencias!$B$18:$C$34,2,FALSE())","v":"G"},"C"]
["3631652","Silva Guisasola, María José","Gallega","D","Tercera Corazón","Competición",3,{"$f":"VLOOKUP(E3303,Referencias!$B$4:$C$15,2,FALSE())","v":"3C"},{"$f":"VLOOKUP(C3303,Referencias!$B$18:$C$34,2,FALSE())","v":"G"},"C"]
["3631653","Iribarren Fernández-Rogina, Begoña","Gallega","D","Tercera Diamante","Competición",3,{"$f":"VLOOKUP(E3304,Referencias!$B$4:$C$15,2,FALSE())","v":"3D"},{"$f":"VLOOKUP(C3304,Referencias!$B$18:$C$34,2,FALSE())","v":"G"},"C"]
["3631659","Iribarren Fernández - Rogina, Carmen","Gallega","D","Tercera Diamante","Competición",3,{"$f":"VLOOKUP(E3305,Referencias!$B$4:$C$15,2,FALSE())","v":"3D"},{"$f":"VLOOKUP(C3305,Referencias!$B$18:$C$34,2,FALSE())","v":"G"},"C"]
["3631661","Valeiro Mallo, Mª Dolores","Gallega","D","Segunda Diamante","Competición",2,{"$f":"VLOOKUP(E3306,Referencias!$B$4:$C$15,2,FALSE())","v":"2D"},{"$f":"VLOOKUP(C3306,Referencias!$B$18:$C$34,2,FALSE())","v":"G"},"C"]
["3631662","Vela Nieto, Mª Dolores","Gallega","D","Tercera Diamante","Competición",3,{"$f":"VLOOKUP(E3307,Referencias!$B$4:$C$15,2,FALSE())","v":"3D"},{"$f":"VLOOKUP(C3307,Referencias!$B$18:$C$34,2,FALSE())","v":"G"},"C"]
["3631663","Dias Silva, Armando","Gallega","C","Segunda Diamante","Competición",2,{"$f":"VLOOKUP(E3308,Referencias!$B$4:$C$15,2,FALSE())","v":"2D"},{"$f":"VLOOKUP(C3308,Referencias!$B$18:$C$34,2,FALSE())","v":"G"},"C"]
["3631664","Mencía Castro, Julia","Gallega","D","Segunda Diamante","Competición",2,{"$f":"VLOOKUP(E3309,Referencias!$B$4:$C$15,2,FALSE())","v":"2D"},{"$f":"VLOOKUP(C3309,Referencias!$B$18:$C$34,2,FALSE())","v":"G"},"C"]
["3631665","Herrero Padín, Mercedes","Gallega","D","Tercera Corazón","Competición",3,{"$f":"VLOOKUP(E3310,Referencias!$B$4:$C$15,2,FALSE())","v":"3C"},{"$f":"VLOOKUP(C3310,Referencias!$B$18:$C$34,2,FALSE())","v":"G"},"C"]
["3631666","Martínez Barros, Mary Luz","Gallega","D","Primera Corazón","Competición",1,{"$f":"VLOOKUP(E3311,Referencias!$B$4:$C$15,2,FALSE())","v":"1C"},{"$f":"VLOOKUP(C3311,Referencias!$B$18:$C$34,2,FALSE())","v":"G"},"C"]
["3631667","Vila Rodríguez, Inés","Gallega","D","Tercera Diamante","Competición",3,{"$f":"VLOOKUP(E3312,Referencias!$B$4:$C$15,2,FALSE())","v":"3D"},{"$f":"VLOOKUP(C3312,Referencias!$B$18:$C$34,2,FALSE())","v":"G"},"C"]
["3631672","Pérez Arlucea, Marta","Gallega","D","Tercera Picas","Competición",3,{"$f":"VLOOKUP(E3313,Referencias!$B$4:$C$15,2,FALSE())","v":"3P"},{"$f":"VLOOKUP(C3313,Referencias!$B$18:$C$34,2,FALSE())","v":"G"},"C"]
["3631680","Martínez Martín, Margarita Iris","Gallega","D","Tercera Corazón","Competición",3,{"$f":"VLOOKUP(E3314,Referencias!$B$4:$C$15,2,FALSE())","v":"3C"},{"$f":"VLOOKUP(C3314,Referencias!$B$18:$C$34,2,FALSE())","v":"G"},"C"]
["3631684","Álvarez Álvarez, Shelley","Gallega","C","Sin Categoría","Junior",4,{"$f":"VLOOKUP(E3315,Referencias!$B$4:$C$15,2,FALSE())","v":"SC"},{"$f":"VLOOKUP(C3315,Referencias!$B$18:$C$34,2,FALSE())","v":"G"},"C"]
["3631701","San Román Perea, Victoria","Gallega","D","Sin Categoría","Competición",4,{"$f":"VLOOKUP(E3316,Referencias!$B$4:$C$15,2,FALSE())","v":"SC"},{"$f":"VLOOKUP(C3316,Referencias!$B$18:$C$34,2,FALSE())","v":"G"},"C"]
["3631702","Franco Rodríguez, Isabel","Gallega","D","Tercera Diamante","Competición",3,{"$f":"VLOOKUP(E3317,Referencias!$B$4:$C$15,2,FALSE())","v":"3D"},{"$f":"VLOOKUP(C3317,Referencias!$B$18:$C$34,2,FALSE())","v":"G"},"C"]
["3631703","Nogueira Fernández, Marta","Gallega","D","Tercera Picas","Competición",3,{"$f":"VLOOKUP(E3318,Referencias!$B$4:$C$15,2,FALSE())","v":"3P"},{"$f":"VLOOKUP(C3318,Referencias!$B$18:$C$34,2,FALSE())","v":"G"},"C"]
["3631708","Román Estevez, Mª Jesús","Gallega","D","Tercera Corazón","Competición",3,{"$f":"VLOOKUP(E3319,Referencias!$B$4:$C$15,2,FALSE())","v":"3C"},{"$f":"VLOOKUP(C3319,Referencias!$B$18:$C$34,2,FALSE())","v":"G"},"C"]
["3631710","Malpica Saleta, Manuela","Gallega","D","Segunda Diamante","Competición",2,{"$f":"VLOOKUP(E3320,Referencias!$B$4:$C$15,2,FALSE())","v":"2D"},{"$f":"VLOOKUP(C3320,Referencias!$B$18:$C$34,2,FALSE())","v":"G"},"C"]
["3631711","Santamaría de Anta, Isabel","Gallega","D","Tercera Picas","Competición",3,{"$f":"VLOOKUP(E3321,Referencias!$B$4:$C$15,2,FALSE())","v":"3P"},{"$f":"VLOOKUP(C3321,Referencias!$B$18:$C$34,2,FALSE())","v":"G"},"C"]
["3631712","Legorburu Juaristi, M. Aranzazu","Gallega","D","Segunda Corazón","Competición",2,{"$f":"VLOOKUP(E3322,Referencias!$B$4:$C$15,2,FALSE())","v":"2C"},{"$f":"VLOOKUP(C3322,Referencias!$B$18:$C$34,2,FALSE())","v":"G"},"C"]
["3631714","Moreno García, Alberto","Gallega","C","Primera Corazón","Competición",1,{"$f":"VLOOKUP(E3323,Referencias!$B$4:$C$15,2,FALSE())","v":"1C"},{"$f":"VLOOKUP(C3323,Referencias!$B$18:$C$34,2,FALSE())","v":"G"},"C"]
["3631715","Bermúdez de la Puente Glz. Del Valle, María Teresa","Gallega","D","Tercera Corazón","Competición",3,{"$f":"VLOOKUP(E3324,Referencias!$B$4:$C$15,2,FALSE())","v":"3C"},{"$f":"VLOOKUP(C3324,Referencias!$B$18:$C$34,2,FALSE())","v":"G"},"C"]
["3631716","Fortes Gago, Mª Nela","Gallega","D","Tercera Corazón","Competición",3,{"$f":"VLOOKUP(E3325,Referencias!$B$4:$C$15,2,FALSE())","v":"3C"},{"$f":"VLOOKUP(C3325,Referencias!$B$18:$C$34,2,FALSE())","v":"G"},"C"]
["3631719","Álvarez García, Gloria","Gallega","D","Tercera Diamante","Competición",3,{"$f":"VLOOKUP(E3326,Referencias!$B$4:$C$15,2,FALSE())","v":"3D"},{"$f":"VLOOKUP(C3326,Referencias!$B$18:$C$34,2,FALSE())","v":"G"},"C"]
["3631725","Atienza Mena, Maria Luisa","Gallega","D","Tercera Diamante","Competición",3,{"$f":"VLOOKUP(E3327,Referencias!$B$4:$C$15,2,FALSE())","v":"3D"},{"$f":"VLOOKUP(C3327,Referencias!$B$18:$C$34,2,FALSE())","v":"G"},"C"]
["3631726","Gesteiro Conde, Adoración","Gallega","D","Tercera Diamante","Competición",3,{"$f":"VLOOKUP(E3328,Referencias!$B$4:$C$15,2,FALSE())","v":"3D"},{"$f":"VLOOKUP(C3328,Referencias!$B$18:$C$34,2,FALSE())","v":"G"},{"$f":"IF(D3328=\"Dama\",\"D\",\"C\")","v":"C"}]
["3631727","Villamarín Del Pozo, Mª del Rosario","Gallega","D","Tercera Picas","Competición",3,{"$f":"VLOOKUP(E3329,Referencias!$B$4:$C$15,2,FALSE())","v":"3P"},{"$f":"VLOOKUP(C3329,Referencias!$B$18:$C$34,2,FALSE())","v":"G"},"C"]
["3631728","Sáez Timón, Pilar","Gallega","D","Tercera Corazón","Competición",3,{"$f":"VLOOKUP(E3330,Referencias!$B$4:$C$15,2,FALSE())","v":"3C"},{"$f":"VLOOKUP(C3330,Referencias!$B$18:$C$34,2,FALSE())","v":"G"},"C"]
["3631729","Ibars Barrera, María Rosa","Gallega","D","Tercera Picas","Competición",3,{"$f":"VLOOKUP(E3331,Referencias!$B$4:$C$15,2,FALSE())","v":"3P"},{"$f":"VLOOKUP(C3331,Referencias!$B$18:$C$34,2,FALSE())","v":"G"},"C"]
["3631732","Puime Fuertes, Livia","Gallega","D","Segunda Diamante","Competición",2,{"$f":"VLOOKUP(E3332,Referencias!$B$4:$C$15,2,FALSE())","v":"2D"},{"$f":"VLOOKUP(C3332,Referencias!$B$18:$C$34,2,FALSE())","v":"G"},"C"]
["3631744","Jiménez Elexpuru, Esther","Gallega","D","Tercera Diamante","Competición",3,{"$f":"VLOOKUP(E3333,Referencias!$B$4:$C$15,2,FALSE())","v":"3D"},{"$f":"VLOOKUP(C3333,Referencias!$B$18:$C$34,2,FALSE())","v":"G"},"C"]
["3631745","Carreira Díaz, María José","Gallega","D","Tercera Diamante","Competición",3,{"$f":"VLOOKUP(E3334,Referencias!$B$4:$C$15,2,FALSE())","v":"3D"},{"$f":"VLOOKUP(C3334,Referencias!$B$18:$C$34,2,FALSE())","v":"G"},"C"]
["3631789","Fernández Brión, Olga","Gallega","D","Tercera Diamante","Competición",3,{"$f":"VLOOKUP(E3335,Referencias!$B$4:$C$15,2,FALSE())","v":"3D"},{"$f":"VLOOKUP(C3335,Referencias!$B$18:$C$34,2,FALSE())","v":"G"},"C"]
["3631790","Curbera Bandin, Enrique","Gallega","C","Sin Categoría","Competición",4,{"$f":"VLOOKUP(E3336,Referencias!$B$4:$C$15,2,FALSE())","v":"SC"},{"$f":"VLOOKUP(C3336,Referencias!$B$18:$C$34,2,FALSE())","v":"G"},"C"]
["3631791","García Senra, Cristina","Gallega","D","Segunda Picas","Competición",2,{"$f":"VLOOKUP(E3337,Referencias!$B$4:$C$15,2,FALSE())","v":"2P"},{"$f":"VLOOKUP(C3337,Referencias!$B$18:$C$34,2,FALSE())","v":"G"},"C"]
["3631792","Martínez Varela, Mª Gloria","Gallega","D","Segunda Corazón","Competición",2,{"$f":"VLOOKUP(E3338,Referencias!$B$4:$C$15,2,FALSE())","v":"2C"},{"$f":"VLOOKUP(C3338,Referencias!$B$18:$C$34,2,FALSE())","v":"G"},"C"]
["3631800","Rivas Rodríguez, Mª Teresa","Gallega","D","Segunda Diamante","Competición",2,{"$f":"VLOOKUP(E3339,Referencias!$B$4:$C$15,2,FALSE())","v":"2D"},{"$f":"VLOOKUP(C3339,Referencias!$B$18:$C$34,2,FALSE())","v":"G"},"C"]
["3631801","García-Durán Gárate, Leopoldo","Gallega","C","Primera Picas","Competición",1,{"$f":"VLOOKUP(E3340,Referencias!$B$4:$C$15,2,FALSE())","v":"1P"},{"$f":"VLOOKUP(C3340,Referencias!$B$18:$C$34,2,FALSE())","v":"G"},"C"]
["3631802","Tornos Martín-Fernández, Macarena","Gallega","D","Tercera Corazón","Competición",3,{"$f":"VLOOKUP(E3341,Referencias!$B$4:$C$15,2,FALSE())","v":"3C"},{"$f":"VLOOKUP(C3341,Referencias!$B$18:$C$34,2,FALSE())","v":"G"},"C"]
["3631822","Fokker De Baer, Helen-Joan","Gallega","D","Tercera Diamante","Competición",3,{"$f":"VLOOKUP(E3342,Referencias!$B$4:$C$15,2,FALSE())","v":"3D"},{"$f":"VLOOKUP(C3342,Referencias!$B$18:$C$34,2,FALSE())","v":"G"},"C"]
["3631823","Dávila Millán, Ángeles","Gallega","D","Tercera Diamante","Competición",3,{"$f":"VLOOKUP(E3343,Referencias!$B$4:$C$15,2,FALSE())","v":"3D"},{"$f":"VLOOKUP(C3343,Referencias!$B$18:$C$34,2,FALSE())","v":"G"},"C"]
["3631824","Jiménez Prieto, José Carlos","Gallega","C","Segunda Diamante","Competición",2,{"$f":"VLOOKUP(E3344,Referencias!$B$4:$C$15,2,FALSE())","v":"2D"},{"$f":"VLOOKUP(C3344,Referencias!$B$18:$C$34,2,FALSE())","v":"G"},"C"]
["3631933","Campos, Pedro","Gallega","C","Sin Categoría","Competición",4,{"$f":"VLOOKUP(E3345,Referencias!$B$4:$C$15,2,FALSE())","v":"SC"},{"$f":"VLOOKUP(C3345,Referencias!$B$18:$C$34,2,FALSE())","v":"G"},"C"]
["3631934","Martinez Gómez, Herminia","Gallega","D","Sin Categoría","Competición",4,{"$f":"VLOOKUP(E3346,Referencias!$B$4:$C$15,2,FALSE())","v":"SC"},{"$f":"VLOOKUP(C3346,Referencias!$B$18:$C$34,2,FALSE())","v":"G"},"C"]
["3635065","Fernández Tapias, José Luis","Gallega","C","Segunda Corazón","Competición",2,{"$f":"VLOOKUP(E3347,Referencias!$B$4:$C$15,2,FALSE())","v":"2C"},{"$f":"VLOOKUP(C3347,Referencias!$B$18:$C$34,2,FALSE())","v":"G"},"C"]
["3635134","Posada Calleja, M. Victoria","Gallega","D","Tercera Corazón","Competición",3,{"$f":"VLOOKUP(E3348,Referencias!$B$4:$C$15,2,FALSE())","v":"3C"},{"$f":"VLOOKUP(C3348,Referencias!$B$18:$C$34,2,FALSE())","v":"G"},"C"]
["3635142","Rodríguez de Lago, M. Carmen","Gallega","D","Segunda Diamante","Competición",2,{"$f":"VLOOKUP(E3349,Referencias!$B$4:$C$15,2,FALSE())","v":"2D"},{"$f":"VLOOKUP(C3349,Referencias!$B$18:$C$34,2,FALSE())","v":"G"},"C"]
["3635750","Abeledo Maristany, Manuel","Gallega","C","Segunda Diamante","Competición",2,{"$f":"VLOOKUP(E3350,Referencias!$B$4:$C$15,2,FALSE())","v":"2D"},{"$f":"VLOOKUP(C3350,Referencias!$B$18:$C$34,2,FALSE())","v":"G"},"C"]
["3635751","Pardo Pedernera, M. Fernanda","Gallega","D","Tercera Picas","Competición",3,{"$f":"VLOOKUP(E3351,Referencias!$B$4:$C$15,2,FALSE())","v":"3P"},{"$f":"VLOOKUP(C3351,Referencias!$B$18:$C$34,2,FALSE())","v":"G"},"C"]
["3635759","Cancio Mel, Purificación","Gallega","D","Tercera Corazón","Competición",3,{"$f":"VLOOKUP(E3352,Referencias!$B$4:$C$15,2,FALSE())","v":"3C"},{"$f":"VLOOKUP(C3352,Referencias!$B$18:$C$34,2,FALSE())","v":"G"},"C"]
["3635781","Cuervo Gómez, Miguel","Gallega","C","Primera Corazón","Competición",1,{"$f":"VLOOKUP(E3353,Referencias!$B$4:$C$15,2,FALSE())","v":"1C"},{"$f":"VLOOKUP(C3353,Referencias!$B$18:$C$34,2,FALSE())","v":"G"},"C"]
["3635861","Alonso Ferrer, Matilde","Gallega","D","Primera Diamante","Competición",1,{"$f":"VLOOKUP(E3354,Referencias!$B$4:$C$15,2,FALSE())","v":"1D"},{"$f":"VLOOKUP(C3354,Referencias!$B$18:$C$34,2,FALSE())","v":"G"},"C"]
["3635882","Ruiz de Alda y Ocio, Mónica","Gallega","D","Segunda Diamante","Competición",2,{"$f":"VLOOKUP(E3355,Referencias!$B$4:$C$15,2,FALSE())","v":"2D"},{"$f":"VLOOKUP(C3355,Referencias!$B$18:$C$34,2,FALSE())","v":"G"},"C"]
["3635885","Iglesias Paul, Angeles","Gallega","D","Segunda Picas","Competición",2,{"$f":"VLOOKUP(E3356,Referencias!$B$4:$C$15,2,FALSE())","v":"2P"},{"$f":"VLOOKUP(C3356,Referencias!$B$18:$C$34,2,FALSE())","v":"G"},"C"]
["3635886","Blanco Pero-Sanz, Alfonso","Gallega","C","Segunda Corazón","Competición",2,{"$f":"VLOOKUP(E3357,Referencias!$B$4:$C$15,2,FALSE())","v":"2C"},{"$f":"VLOOKUP(C3357,Referencias!$B$18:$C$34,2,FALSE())","v":"G"},"C"]
["3635887","Valenzuela Fernández, Margarita","Gallega","D","Segunda Diamante","Competición",2,{"$f":"VLOOKUP(E3358,Referencias!$B$4:$C$15,2,FALSE())","v":"2D"},{"$f":"VLOOKUP(C3358,Referencias!$B$18:$C$34,2,FALSE())","v":"G"},"C"]
["3635889","García-Lastra, Mariem","Gallega","D","Tercera Diamante","Competición",3,{"$f":"VLOOKUP(E3359,Referencias!$B$4:$C$15,2,FALSE())","v":"3D"},{"$f":"VLOOKUP(C3359,Referencias!$B$18:$C$34,2,FALSE())","v":"G"},"C"]
["3635892","Juega Puig, Carmela","Gallega","D","Tercera Diamante","Competición",3,{"$f":"VLOOKUP(E3360,Referencias!$B$4:$C$15,2,FALSE())","v":"3D"},{"$f":"VLOOKUP(C3360,Referencias!$B$18:$C$34,2,FALSE())","v":"G"},"C"]
["3635897","García , Ana","Gallega","D","Primera Corazón","Competición",1,{"$f":"VLOOKUP(E3361,Referencias!$B$4:$C$15,2,FALSE())","v":"1C"},{"$f":"VLOOKUP(C3361,Referencias!$B$18:$C$34,2,FALSE())","v":"G"},"C"]
["3635898","Latorre Moraga, Rafael","Gallega","C","Primera Picas","Competición",1,{"$f":"VLOOKUP(E3362,Referencias!$B$4:$C$15,2,FALSE())","v":"1P"},{"$f":"VLOOKUP(C3362,Referencias!$B$18:$C$34,2,FALSE())","v":"G"},"C"]
["3771422","Madrazo Arranz, Angel","Castilla y León","C","Tercera Picas","Competición",3,{"$f":"VLOOKUP(E3363,Referencias!$B$4:$C$15,2,FALSE())","v":"3P"},{"$f":"VLOOKUP(C3363,Referencias!$B$18:$C$34,2,FALSE())","v":"CL"},"C"]
["3771526","Rodilla Sanchéz, Concepción","Castilla y León","D","Tercera Corazón","Competición",3,{"$f":"VLOOKUP(E3364,Referencias!$B$4:$C$15,2,FALSE())","v":"3C"},{"$f":"VLOOKUP(C3364,Referencias!$B$18:$C$34,2,FALSE())","v":"CL"},"C"]
["3771527","García Gómez, Diego","Castilla y León","C","Sin Categoría","Competición",4,{"$f":"VLOOKUP(E3365,Referencias!$B$4:$C$15,2,FALSE())","v":"SC"},{"$f":"VLOOKUP(C3365,Referencias!$B$18:$C$34,2,FALSE())","v":"CL"},"C"]
["3771528","Minguez Goñi, Ana","Castilla y León","D","Sin Categoría","Competición",4,{"$f":"VLOOKUP(E3366,Referencias!$B$4:$C$15,2,FALSE())","v":"SC"},{"$f":"VLOOKUP(C3366,Referencias!$B$18:$C$34,2,FALSE())","v":"CL"},"C"]
["3771529","Fernández Escoda, Agustín","Castilla y León","C","Tercera Diamante","Competición",3,{"$f":"VLOOKUP(E3367,Referencias!$B$4:$C$15,2,FALSE())","v":"3D"},{"$f":"VLOOKUP(C3367,Referencias!$B$18:$C$34,2,FALSE())","v":"CL"},"C"]
["3771530","Rojas Montoya, Cristobal","Castilla y León","C","Sin Categoría","Competición",4,{"$f":"VLOOKUP(E3368,Referencias!$B$4:$C$15,2,FALSE())","v":"SC"},{"$f":"VLOOKUP(C3368,Referencias!$B$18:$C$34,2,FALSE())","v":"CL"},"C"]
["3771531","Sagarra Ruiz, María José","Castilla y León","D","Sin Categoría","Competición",4,{"$f":"VLOOKUP(E3369,Referencias!$B$4:$C$15,2,FALSE())","v":"SC"},{"$f":"VLOOKUP(C3369,Referencias!$B$18:$C$34,2,FALSE())","v":"CL"},"C"]
["3771532","González Vicente, Carmen","Castilla y León","D","Tercera Corazón","Competición",3,{"$f":"VLOOKUP(E3370,Referencias!$B$4:$C$15,2,FALSE())","v":"3C"},{"$f":"VLOOKUP(C3370,Referencias!$B$18:$C$34,2,FALSE())","v":"CL"},"C"]
["3771533","Chamoso Hernández, Pilar","Castilla y León","D","Sin Categoría","Competición",4,{"$f":"VLOOKUP(E3371,Referencias!$B$4:$C$15,2,FALSE())","v":"SC"},{"$f":"VLOOKUP(C3371,Referencias!$B$18:$C$34,2,FALSE())","v":"CL"},"C"]
["3771534","Ardura Suárez, Trinidad","Castilla y León","D","Tercera Picas","Competición",3,{"$f":"VLOOKUP(E3372,Referencias!$B$4:$C$15,2,FALSE())","v":"3P"},{"$f":"VLOOKUP(C3372,Referencias!$B$18:$C$34,2,FALSE())","v":"CL"},"C"]
["3851006","De la Fe Almeida, Carmen","Canaria","D","Primera Picas","Competición",1,{"$f":"VLOOKUP(E3373,Referencias!$B$4:$C$15,2,FALSE())","v":"1P"},{"$f":"VLOOKUP(C3373,Referencias!$B$18:$C$34,2,FALSE())","v":"IC"},"C"]
["3851049","Mendoza Contreras, Lucas","Canaria","C","Primera Picas","Competición",1,{"$f":"VLOOKUP(E3374,Referencias!$B$4:$C$15,2,FALSE())","v":"1P"},{"$f":"VLOOKUP(C3374,Referencias!$B$18:$C$34,2,FALSE())","v":"IC"},"C"]
["3851050","Laynez Cerdeña, Fernando","Canaria","C","Sin Categoría","Competición",4,{"$f":"VLOOKUP(E3375,Referencias!$B$4:$C$15,2,FALSE())","v":"SC"},{"$f":"VLOOKUP(C3375,Referencias!$B$18:$C$34,2,FALSE())","v":"IC"},"C"]
["3851059","Negrín Fernández, Manuel","Canaria","C","Primera Picas","Competición",1,{"$f":"VLOOKUP(E3376,Referencias!$B$4:$C$15,2,FALSE())","v":"1P"},{"$f":"VLOOKUP(C3376,Referencias!$B$18:$C$34,2,FALSE())","v":"IC"},"C"]
["3851092","Durango Ballester, Mercedes","Canaria","D","Segunda Corazón","Competición",2,{"$f":"VLOOKUP(E3377,Referencias!$B$4:$C$15,2,FALSE())","v":"2C"},{"$f":"VLOOKUP(C3377,Referencias!$B$18:$C$34,2,FALSE())","v":"IC"},"C"]
["3851118","Tellado Alfonso, Esther","Canaria","D","Tercera Picas","Competición",3,{"$f":"VLOOKUP(E3378,Referencias!$B$4:$C$15,2,FALSE())","v":"3P"},{"$f":"VLOOKUP(C3378,Referencias!$B$18:$C$34,2,FALSE())","v":"IC"},"C"]
["3851271","Sarasola Herrero, Juan","Canaria","C","Primera Picas","Competición",1,{"$f":"VLOOKUP(E3379,Referencias!$B$4:$C$15,2,FALSE())","v":"1P"},{"$f":"VLOOKUP(C3379,Referencias!$B$18:$C$34,2,FALSE())","v":"IC"},"C"]
["3851285","Lorenzo Perera, M. Luisa","Canaria","D","Segunda Picas","Competición",2,{"$f":"VLOOKUP(E3380,Referencias!$B$4:$C$15,2,FALSE())","v":"2P"},{"$f":"VLOOKUP(C3380,Referencias!$B$18:$C$34,2,FALSE())","v":"IC"},"C"]
["3851286","Acevedo García, Mercedes","Canaria","D","Segunda Corazón","Competición",2,{"$f":"VLOOKUP(E3381,Referencias!$B$4:$C$15,2,FALSE())","v":"2C"},{"$f":"VLOOKUP(C3381,Referencias!$B$18:$C$34,2,FALSE())","v":"IC"},"C"]
["3851316","Aranaz Rodríguez, Margarita","Canaria","D","Primera Picas","Competición",1,{"$f":"VLOOKUP(E3382,Referencias!$B$4:$C$15,2,FALSE())","v":"1P"},{"$f":"VLOOKUP(C3382,Referencias!$B$18:$C$34,2,FALSE())","v":"IC"},"C"]
["3851319","Ybarra Martínez-Barona, Mª Lourdes","Canaria","D","Tercera Corazón","Competición",3,{"$f":"VLOOKUP(E3383,Referencias!$B$4:$C$15,2,FALSE())","v":"3C"},{"$f":"VLOOKUP(C3383,Referencias!$B$18:$C$34,2,FALSE())","v":"IC"},"C"]
["3851326","Valle Jaraquemada, Juan José","Canaria","C","Tercera Picas","Competición",3,{"$f":"VLOOKUP(E3384,Referencias!$B$4:$C$15,2,FALSE())","v":"3P"},{"$f":"VLOOKUP(C3384,Referencias!$B$18:$C$34,2,FALSE())","v":"IC"},"C"]
["3851330","Basterrechea Moya, Mercedes","Canaria","D","Tercera Diamante","Competición",3,{"$f":"VLOOKUP(E3385,Referencias!$B$4:$C$15,2,FALSE())","v":"3D"},{"$f":"VLOOKUP(C3385,Referencias!$B$18:$C$34,2,FALSE())","v":"IC"},"C"]
["3851332","Fernández Lagaron, Mª Nieves","Canaria","D","Segunda Picas","Competición",2,{"$f":"VLOOKUP(E3386,Referencias!$B$4:$C$15,2,FALSE())","v":"2P"},{"$f":"VLOOKUP(C3386,Referencias!$B$18:$C$34,2,FALSE())","v":"IC"},"C"]
["3851348","Aznarez Gómez, Natalia","Canaria","D","Tercera Corazón","Competición",3,{"$f":"VLOOKUP(E3387,Referencias!$B$4:$C$15,2,FALSE())","v":"3C"},{"$f":"VLOOKUP(C3387,Referencias!$B$18:$C$34,2,FALSE())","v":"IC"},"C"]
["3851364","De Rogatis, Andrea","Canaria","C","Primera Picas","Competición",1,{"$f":"VLOOKUP(E3388,Referencias!$B$4:$C$15,2,FALSE())","v":"1P"},{"$f":"VLOOKUP(C3388,Referencias!$B$18:$C$34,2,FALSE())","v":"IC"},"C"]
["3851379","Aranaz Rodríguez, Amelia","Canaria","D","Segunda Picas","Competición",2,{"$f":"VLOOKUP(E3389,Referencias!$B$4:$C$15,2,FALSE())","v":"2P"},{"$f":"VLOOKUP(C3389,Referencias!$B$18:$C$34,2,FALSE())","v":"IC"},"C"]
["3851380","Sopranis O´Donnell, María de la Concepción","Canaria","D","Segunda Picas","Competición",2,{"$f":"VLOOKUP(E3390,Referencias!$B$4:$C$15,2,FALSE())","v":"2P"},{"$f":"VLOOKUP(C3390,Referencias!$B$18:$C$34,2,FALSE())","v":"IC"},"C"]
["3851386","Vidarte, María Rosa","Canaria","D","Tercera Picas","Competición",3,{"$f":"VLOOKUP(E3391,Referencias!$B$4:$C$15,2,FALSE())","v":"3P"},{"$f":"VLOOKUP(C3391,Referencias!$B$18:$C$34,2,FALSE())","v":"IC"},"C"]
["3851387","Escobedo, Ana Rosa","Canaria","D","Tercera Corazón","Competición",3,{"$f":"VLOOKUP(E3392,Referencias!$B$4:$C$15,2,FALSE())","v":"3C"},{"$f":"VLOOKUP(C3392,Referencias!$B$18:$C$34,2,FALSE())","v":"IC"},{"$f":"IF(D3392=\"Dama\",\"D\",\"C\")","v":"C"}]
["3851444","López de Alda Infante, Cristina","Canaria","D","Tercera Corazón","Competición",3,{"$f":"VLOOKUP(E3393,Referencias!$B$4:$C$15,2,FALSE())","v":"3C"},{"$f":"VLOOKUP(C3393,Referencias!$B$18:$C$34,2,FALSE())","v":"IC"},"C"]
["3851445","Reyes Herrera, Vicente","Canaria","C","Primera Picas","Competición",1,{"$f":"VLOOKUP(E3394,Referencias!$B$4:$C$15,2,FALSE())","v":"1P"},{"$f":"VLOOKUP(C3394,Referencias!$B$18:$C$34,2,FALSE())","v":"IC"},"C"]
["3851463","Jorge González, Olga","Canaria","D","Tercera Picas","Competición",3,{"$f":"VLOOKUP(E3395,Referencias!$B$4:$C$15,2,FALSE())","v":"3P"},{"$f":"VLOOKUP(C3395,Referencias!$B$18:$C$34,2,FALSE())","v":"IC"},"C"]
["3851467","Vera López, Lidia","Canaria","D","Tercera Diamante","Competición",3,{"$f":"VLOOKUP(E3396,Referencias!$B$4:$C$15,2,FALSE())","v":"3D"},{"$f":"VLOOKUP(C3396,Referencias!$B$18:$C$34,2,FALSE())","v":"IC"},"C"]
["3851468","Rosado Verde, Manuel","Canaria","C","Segunda Picas","Competición",2,{"$f":"VLOOKUP(E3397,Referencias!$B$4:$C$15,2,FALSE())","v":"2P"},{"$f":"VLOOKUP(C3397,Referencias!$B$18:$C$34,2,FALSE())","v":"IC"},"C"]
["3851469","Pérez Aranaz, Elena","Canaria","D","Primera Picas","Competición",1,{"$f":"VLOOKUP(E3398,Referencias!$B$4:$C$15,2,FALSE())","v":"1P"},{"$f":"VLOOKUP(C3398,Referencias!$B$18:$C$34,2,FALSE())","v":"IC"},"C"]
["3851470","Paredes Roncero, María","Canaria","D","Segunda Corazón","Competición",2,{"$f":"VLOOKUP(E3399,Referencias!$B$4:$C$15,2,FALSE())","v":"2C"},{"$f":"VLOOKUP(C3399,Referencias!$B$18:$C$34,2,FALSE())","v":"IC"},"C"]
["3851471","Torres Domínguez, Amelia Teresa","Canaria","D","Segunda Diamante","Competición",2,{"$f":"VLOOKUP(E3400,Referencias!$B$4:$C$15,2,FALSE())","v":"2D"},{"$f":"VLOOKUP(C3400,Referencias!$B$18:$C$34,2,FALSE())","v":"IC"},"C"]
["3851472","Escolar Elguezabal, Antonio","Canaria","C","Tercera Picas","Competición",3,{"$f":"VLOOKUP(E3401,Referencias!$B$4:$C$15,2,FALSE())","v":"3P"},{"$f":"VLOOKUP(C3401,Referencias!$B$18:$C$34,2,FALSE())","v":"IC"},"C"]
["3851491","Perdomo Ramos, María Adela","Canaria","D","Segunda Picas","Competición",2,{"$f":"VLOOKUP(E3402,Referencias!$B$4:$C$15,2,FALSE())","v":"2P"},{"$f":"VLOOKUP(C3402,Referencias!$B$18:$C$34,2,FALSE())","v":"IC"},"C"]
["3851497","Carreras y Fontseré, Antonio","Canaria","C","Tercera Corazón","Competición",3,{"$f":"VLOOKUP(E3403,Referencias!$B$4:$C$15,2,FALSE())","v":"3C"},{"$f":"VLOOKUP(C3403,Referencias!$B$18:$C$34,2,FALSE())","v":"IC"},"C"]
["3851511","Gaioni, Angelo","Canaria","C","Primera Picas","Competición",1,{"$f":"VLOOKUP(E3404,Referencias!$B$4:$C$15,2,FALSE())","v":"1P"},{"$f":"VLOOKUP(C3404,Referencias!$B$18:$C$34,2,FALSE())","v":"IC"},"C"]
["3851521","Magdalena Darias, Migdalia","Canaria","D","Tercera Diamante","Competición",3,{"$f":"VLOOKUP(E3405,Referencias!$B$4:$C$15,2,FALSE())","v":"3D"},{"$f":"VLOOKUP(C3405,Referencias!$B$18:$C$34,2,FALSE())","v":"IC"},"C"]
["3851522","De Castro Carabias, Carmen","Canaria","D","Tercera Diamante","Competición",3,{"$f":"VLOOKUP(E3406,Referencias!$B$4:$C$15,2,FALSE())","v":"3D"},{"$f":"VLOOKUP(C3406,Referencias!$B$18:$C$34,2,FALSE())","v":"IC"},"C"]
["3851541","Romeu Ramos, Adela","Canaria","D","Sin Categoría","Competición",4,{"$f":"VLOOKUP(E3407,Referencias!$B$4:$C$15,2,FALSE())","v":"SC"},{"$f":"VLOOKUP(C3407,Referencias!$B$18:$C$34,2,FALSE())","v":"IC"},"C"]
["3851551","García de la Banda García, Juan Francisco","Canaria","C","Primera Corazón","Competición",1,{"$f":"VLOOKUP(E3408,Referencias!$B$4:$C$15,2,FALSE())","v":"1C"},{"$f":"VLOOKUP(C3408,Referencias!$B$18:$C$34,2,FALSE())","v":"IC"},"C"]
["3851622","Filosi, Remo","Canaria","C","Sin Categoría","Competición",4,{"$f":"VLOOKUP(E3409,Referencias!$B$4:$C$15,2,FALSE())","v":"SC"},{"$f":"VLOOKUP(C3409,Referencias!$B$18:$C$34,2,FALSE())","v":"IC"},"C"]
["3851640","Martínez Latorre, Maria Antonia","Canaria","D","Segunda Picas","Competición",2,{"$f":"VLOOKUP(E3410,Referencias!$B$4:$C$15,2,FALSE())","v":"2P"},{"$f":"VLOOKUP(C3410,Referencias!$B$18:$C$34,2,FALSE())","v":"IC"},"C"]
["3851641","Ruiz Ruiz, Ana","Canaria","D","Sin Categoría","Competición",4,{"$f":"VLOOKUP(E3411,Referencias!$B$4:$C$15,2,FALSE())","v":"SC"},{"$f":"VLOOKUP(C3411,Referencias!$B$18:$C$34,2,FALSE())","v":"IC"},"C"]
["3851642","Nacher Hernández, Mª Mercedes","Canaria","D","Tercera Diamante","Competición",3,{"$f":"VLOOKUP(E3412,Referencias!$B$4:$C$15,2,FALSE())","v":"3D"},{"$f":"VLOOKUP(C3412,Referencias!$B$18:$C$34,2,FALSE())","v":"IC"},"C"]
["3851650","Vilate Padrón, Manuela","Canaria","D","Sin Categoría","Competición",4,{"$f":"VLOOKUP(E3413,Referencias!$B$4:$C$15,2,FALSE())","v":"SC"},{"$f":"VLOOKUP(C3413,Referencias!$B$18:$C$34,2,FALSE())","v":"IC"},"C"]
["3851667","Yanes Roca, Luis","Canaria","C","Sin Categoría","Competición",4,{"$f":"VLOOKUP(E3414,Referencias!$B$4:$C$15,2,FALSE())","v":"SC"},{"$f":"VLOOKUP(C3414,Referencias!$B$18:$C$34,2,FALSE())","v":"IC"},"C"]
["3851671","López Pavía, Mercedes","Canaria","D","Tercera Diamante","Competición",3,{"$f":"VLOOKUP(E3415,Referencias!$B$4:$C$15,2,FALSE())","v":"3D"},{"$f":"VLOOKUP(C3415,Referencias!$B$18:$C$34,2,FALSE())","v":"IC"},"C"]
["3851687","Lupano, Anna","Canaria","D","Segunda Diamante","Competición",2,{"$f":"VLOOKUP(E3416,Referencias!$B$4:$C$15,2,FALSE())","v":"2D"},{"$f":"VLOOKUP(C3416,Referencias!$B$18:$C$34,2,FALSE())","v":"IC"},"C"]
["3851690","Alvarez Lavers, Ana María","Canaria","D","Tercera Picas","Competición",3,{"$f":"VLOOKUP(E3417,Referencias!$B$4:$C$15,2,FALSE())","v":"3P"},{"$f":"VLOOKUP(C3417,Referencias!$B$18:$C$34,2,FALSE())","v":"IC"},"C"]
["3851694","Quintero Pérez, María Eugenia","Canaria","D","Tercera Picas","Competición",3,{"$f":"VLOOKUP(E3418,Referencias!$B$4:$C$15,2,FALSE())","v":"3P"},{"$f":"VLOOKUP(C3418,Referencias!$B$18:$C$34,2,FALSE())","v":"IC"},"C"]
["3851695","García Miranda, José Luis","Canaria","C","Tercera Picas","Competición",3,{"$f":"VLOOKUP(E3419,Referencias!$B$4:$C$15,2,FALSE())","v":"3P"},{"$f":"VLOOKUP(C3419,Referencias!$B$18:$C$34,2,FALSE())","v":"IC"},"C"]
["3851710","Hernández Rodríguez, Alicia Veneranda","Canaria","D","Tercera Diamante","Competición",3,{"$f":"VLOOKUP(E3420,Referencias!$B$4:$C$15,2,FALSE())","v":"3D"},{"$f":"VLOOKUP(C3420,Referencias!$B$18:$C$34,2,FALSE())","v":"IC"},"C"]
["3851713","Fernández López, María Isabel","Canaria","D","Sin Categoría","Competición",4,{"$f":"VLOOKUP(E3421,Referencias!$B$4:$C$15,2,FALSE())","v":"SC"},{"$f":"VLOOKUP(C3421,Referencias!$B$18:$C$34,2,FALSE())","v":"IC"},"C"]
["3851724","Saavedra Pérez, Cristina","Canaria","D","Tercera Diamante","Competición",3,{"$f":"VLOOKUP(E3422,Referencias!$B$4:$C$15,2,FALSE())","v":"3D"},{"$f":"VLOOKUP(C3422,Referencias!$B$18:$C$34,2,FALSE())","v":"IC"},"C"]
["3851725","Rodríguez Peña, Rosa María","Canaria","D","Sin Categoría","Competición",4,{"$f":"VLOOKUP(E3423,Referencias!$B$4:$C$15,2,FALSE())","v":"SC"},{"$f":"VLOOKUP(C3423,Referencias!$B$18:$C$34,2,FALSE())","v":"IC"},"C"]
["3851727","Bosch Cambreleng, María","Canaria","D","Tercera Picas","Competición",3,{"$f":"VLOOKUP(E3424,Referencias!$B$4:$C$15,2,FALSE())","v":"3P"},{"$f":"VLOOKUP(C3424,Referencias!$B$18:$C$34,2,FALSE())","v":"IC"},"C"]
["3851741","Pedreira Calamita, Jesús","Canaria","C","Tercera Diamante","Competición",3,{"$f":"VLOOKUP(E3425,Referencias!$B$4:$C$15,2,FALSE())","v":"3D"},{"$f":"VLOOKUP(C3425,Referencias!$B$18:$C$34,2,FALSE())","v":"IC"},"C"]
["3851744","Schneider, Elke","Canaria","D","Primera Picas","Competición",1,{"$f":"VLOOKUP(E3426,Referencias!$B$4:$C$15,2,FALSE())","v":"1P"},{"$f":"VLOOKUP(C3426,Referencias!$B$18:$C$34,2,FALSE())","v":"IC"},"C"]
["3851745","Wiese, Dietrich","Canaria","C","Primera Picas","Competición",1,{"$f":"VLOOKUP(E3427,Referencias!$B$4:$C$15,2,FALSE())","v":"1P"},{"$f":"VLOOKUP(C3427,Referencias!$B$18:$C$34,2,FALSE())","v":"IC"},"C"]
["3851749","Menéndez García-Talavera, Maria del Pino","Canaria","D","Sin Categoría","Competición",4,{"$f":"VLOOKUP(E3428,Referencias!$B$4:$C$15,2,FALSE())","v":"SC"},{"$f":"VLOOKUP(C3428,Referencias!$B$18:$C$34,2,FALSE())","v":"IC"},"C"]
["3851750","Naranjo González- Coviella, Elena","Canaria","D","Tercera Corazón","Competición",3,{"$f":"VLOOKUP(E3429,Referencias!$B$4:$C$15,2,FALSE())","v":"3C"},{"$f":"VLOOKUP(C3429,Referencias!$B$18:$C$34,2,FALSE())","v":"IC"},"C"]
["3851751","Maluenda Cervantes, Felipa","Canaria","D","Tercera Corazón","Competición",3,{"$f":"VLOOKUP(E3430,Referencias!$B$4:$C$15,2,FALSE())","v":"3C"},{"$f":"VLOOKUP(C3430,Referencias!$B$18:$C$34,2,FALSE())","v":"IC"},"C"]
["3851753","Mesa Hernández, María Jesús","Canaria","D","Sin Categoría","Competición",4,{"$f":"VLOOKUP(E3431,Referencias!$B$4:$C$15,2,FALSE())","v":"SC"},{"$f":"VLOOKUP(C3431,Referencias!$B$18:$C$34,2,FALSE())","v":"IC"},"C"]
["3851755","Jiménez Florez, Ana","Canaria","D","Sin Categoría","Competición",4,{"$f":"VLOOKUP(E3432,Referencias!$B$4:$C$15,2,FALSE())","v":"SC"},{"$f":"VLOOKUP(C3432,Referencias!$B$18:$C$34,2,FALSE())","v":"IC"},"C"]
["3851769","Benito Fernández, Sofía","Canaria","D","Tercera Corazón","Competición",3,{"$f":"VLOOKUP(E3433,Referencias!$B$4:$C$15,2,FALSE())","v":"3C"},{"$f":"VLOOKUP(C3433,Referencias!$B$18:$C$34,2,FALSE())","v":"IC"},"C"]
["3851770","Pujol Niubó, Mª Pepa","Canaria","D","Tercera Corazón","Competición",3,{"$f":"VLOOKUP(E3434,Referencias!$B$4:$C$15,2,FALSE())","v":"3C"},{"$f":"VLOOKUP(C3434,Referencias!$B$18:$C$34,2,FALSE())","v":"IC"},"C"]
["3851771","Pizarro Hernández, Antonio","Canaria","C","Tercera Diamante","Competición",3,{"$f":"VLOOKUP(E3435,Referencias!$B$4:$C$15,2,FALSE())","v":"3D"},{"$f":"VLOOKUP(C3435,Referencias!$B$18:$C$34,2,FALSE())","v":"IC"},"C"]
["3851775","Elejabeitia Velu, Natalia Beatriz","Canaria","D","Tercera Diamante","Competición",3,{"$f":"VLOOKUP(E3436,Referencias!$B$4:$C$15,2,FALSE())","v":"3D"},{"$f":"VLOOKUP(C3436,Referencias!$B$18:$C$34,2,FALSE())","v":"IC"},"C"]
["3851776","Sitjar Togores Alvarez, Mercedes","Canaria","D","Tercera Picas","Competición",3,{"$f":"VLOOKUP(E3437,Referencias!$B$4:$C$15,2,FALSE())","v":"3P"},{"$f":"VLOOKUP(C3437,Referencias!$B$18:$C$34,2,FALSE())","v":"IC"},"C"]
["3851778","Perera González, Pablo","Canaria","C","Segunda Diamante","Competición",2,{"$f":"VLOOKUP(E3438,Referencias!$B$4:$C$15,2,FALSE())","v":"2D"},{"$f":"VLOOKUP(C3438,Referencias!$B$18:$C$34,2,FALSE())","v":"IC"},"C"]
["3851779","Charles, Darrell","Canaria","C","Segunda Diamante","Competición",2,{"$f":"VLOOKUP(E3439,Referencias!$B$4:$C$15,2,FALSE())","v":"2D"},{"$f":"VLOOKUP(C3439,Referencias!$B$18:$C$34,2,FALSE())","v":"IC"},"C"]
["3851780","Charles, Irmgard","Canaria","D","Segunda Diamante","Competición",2,{"$f":"VLOOKUP(E3440,Referencias!$B$4:$C$15,2,FALSE())","v":"2D"},{"$f":"VLOOKUP(C3440,Referencias!$B$18:$C$34,2,FALSE())","v":"IC"},"C"]
["3851792","León Russo, Joseffa","Canaria","D","Sin Categoría","Competición",4,{"$f":"VLOOKUP(E3441,Referencias!$B$4:$C$15,2,FALSE())","v":"SC"},{"$f":"VLOOKUP(C3441,Referencias!$B$18:$C$34,2,FALSE())","v":"IC"},"C"]
["3851795","Caballero Rubiato, Amparo","Canaria","D","Tercera Corazón","Competición",3,{"$f":"VLOOKUP(E3442,Referencias!$B$4:$C$15,2,FALSE())","v":"3C"},{"$f":"VLOOKUP(C3442,Referencias!$B$18:$C$34,2,FALSE())","v":"IC"},"C"]
["3851812","Gatti, Edoardo Silvio","Canaria","C","Sin Categoría","Competición",4,{"$f":"VLOOKUP(E3443,Referencias!$B$4:$C$15,2,FALSE())","v":"SC"},{"$f":"VLOOKUP(C3443,Referencias!$B$18:$C$34,2,FALSE())","v":"IC"},"C"]
["3851814","Cristofori, Filippo","Canaria","C","Sin Categoría","Competición",4,{"$f":"VLOOKUP(E3444,Referencias!$B$4:$C$15,2,FALSE())","v":"SC"},{"$f":"VLOOKUP(C3444,Referencias!$B$18:$C$34,2,FALSE())","v":"IC"},"C"]
["3851815","Sparer, Guenther Franz","Canaria","C","Sin Categoría","Competición",4,{"$f":"VLOOKUP(E3445,Referencias!$B$4:$C$15,2,FALSE())","v":"SC"},{"$f":"VLOOKUP(C3445,Referencias!$B$18:$C$34,2,FALSE())","v":"IC"},"C"]
["3851821","Moreno Pérez, Jose Andrés","Canaria","C","Tercera Corazón","Competición",3,{"$f":"VLOOKUP(E3446,Referencias!$B$4:$C$15,2,FALSE())","v":"3C"},{"$f":"VLOOKUP(C3446,Referencias!$B$18:$C$34,2,FALSE())","v":"IC"},"C"]
["3851836","Laynez Cerdeña, María Eugenia","Canaria","D","Sin Categoría","Competición",4,{"$f":"VLOOKUP(E3447,Referencias!$B$4:$C$15,2,FALSE())","v":"SC"},{"$f":"VLOOKUP(C3447,Referencias!$B$18:$C$34,2,FALSE())","v":"IC"},"C"]
["3851837","Dobarro Ramos, Eugenio- Santiago","Canaria","D","Sin Categoría","Competición",4,{"$f":"VLOOKUP(E3448,Referencias!$B$4:$C$15,2,FALSE())","v":"SC"},{"$f":"VLOOKUP(C3448,Referencias!$B$18:$C$34,2,FALSE())","v":"IC"},"C"]
["3851839","Díaz-Llanos La Roche, María Concepción","Canaria","D","Sin Categoría","Competición",4,{"$f":"VLOOKUP(E3449,Referencias!$B$4:$C$15,2,FALSE())","v":"SC"},{"$f":"VLOOKUP(C3449,Referencias!$B$18:$C$34,2,FALSE())","v":"IC"},"C"]
["3851840","Díaz-Llanos La Roche, María Josefa","Canaria","D","Sin Categoría","Competición",4,{"$f":"VLOOKUP(E3450,Referencias!$B$4:$C$15,2,FALSE())","v":"SC"},{"$f":"VLOOKUP(C3450,Referencias!$B$18:$C$34,2,FALSE())","v":"IC"},"C"]
["3851841","Ponte Cullen, Cristina","Canaria","D","Sin Categoría","Competición",4,{"$f":"VLOOKUP(E3451,Referencias!$B$4:$C$15,2,FALSE())","v":"SC"},{"$f":"VLOOKUP(C3451,Referencias!$B$18:$C$34,2,FALSE())","v":"IC"},"C"]
["3851842","Yanes Hernández, Maria Luz","Canaria","D","Sin Categoría","Competición",4,{"$f":"VLOOKUP(E3452,Referencias!$B$4:$C$15,2,FALSE())","v":"SC"},{"$f":"VLOOKUP(C3452,Referencias!$B$18:$C$34,2,FALSE())","v":"IC"},"C"]
["3851845","Ruiz Virumbrales, Mª Dolores","Canaria","D","Sin Categoría","Competición",4,{"$f":"VLOOKUP(E3453,Referencias!$B$4:$C$15,2,FALSE())","v":"SC"},{"$f":"VLOOKUP(C3453,Referencias!$B$18:$C$34,2,FALSE())","v":"IC"},"C"]
["3851846","Rosales Alonso, Mª Pilar","Canaria","D","Tercera Diamante","Competición",3,{"$f":"VLOOKUP(E3454,Referencias!$B$4:$C$15,2,FALSE())","v":"3D"},{"$f":"VLOOKUP(C3454,Referencias!$B$18:$C$34,2,FALSE())","v":"IC"},"C"]
["3851851","López-Peñalver González, Mª Teresa","Canaria","D","Tercera Diamante","Competición",3,{"$f":"VLOOKUP(E3455,Referencias!$B$4:$C$15,2,FALSE())","v":"3D"},{"$f":"VLOOKUP(C3455,Referencias!$B$18:$C$34,2,FALSE())","v":"IC"},"C"]
["3851855","Sotorrio González-Quevedo, María del Pilar","Canaria","D","Sin Categoría","Competición",4,{"$f":"VLOOKUP(E3456,Referencias!$B$4:$C$15,2,FALSE())","v":"SC"},{"$f":"VLOOKUP(C3456,Referencias!$B$18:$C$34,2,FALSE())","v":"IC"},{"$f":"IF(D3456=\"Dama\",\"D\",\"C\")","v":"C"}]
["3851858","Sánchez Triviño, Pedro Andrés","Canaria","C","Tercera Diamante","Competición",3,{"$f":"VLOOKUP(E3457,Referencias!$B$4:$C$15,2,FALSE())","v":"3D"},{"$f":"VLOOKUP(C3457,Referencias!$B$18:$C$34,2,FALSE())","v":"IC"},"C"]
["3851859","Coppola, Renato","Canaria","C","Segunda Corazón","Competición",2,{"$f":"VLOOKUP(E3458,Referencias!$B$4:$C$15,2,FALSE())","v":"2C"},{"$f":"VLOOKUP(C3458,Referencias!$B$18:$C$34,2,FALSE())","v":"IC"},"C"]
["3851863","Sánchez Pérez, Amalia","Canaria","D","Tercera Diamante","Competición",3,{"$f":"VLOOKUP(E3459,Referencias!$B$4:$C$15,2,FALSE())","v":"3D"},{"$f":"VLOOKUP(C3459,Referencias!$B$18:$C$34,2,FALSE())","v":"IC"},"C"]
["3851865","Golding Ballester, Francisca","Canaria","D","Sin Categoría","Competición",4,{"$f":"VLOOKUP(E3460,Referencias!$B$4:$C$15,2,FALSE())","v":"SC"},{"$f":"VLOOKUP(C3460,Referencias!$B$18:$C$34,2,FALSE())","v":"IC"},"C"]
["3851906","Rodríguez Martín, Ramón","Canaria","C","Sin Categoría","Competición",4,{"$f":"VLOOKUP(E3461,Referencias!$B$4:$C$15,2,FALSE())","v":"SC"},{"$f":"VLOOKUP(C3461,Referencias!$B$18:$C$34,2,FALSE())","v":"IC"},"C"]
["3851915","Royo Iranzo, Patricia","Canaria","D","Sin Categoría","Competición",4,{"$f":"VLOOKUP(E3462,Referencias!$B$4:$C$15,2,FALSE())","v":"SC"},{"$f":"VLOOKUP(C3462,Referencias!$B$18:$C$34,2,FALSE())","v":"IC"},"C"]
["3851918","Pizzarro Hernández, Dolores","Canaria","D","Tercera Diamante","Competición",3,{"$f":"VLOOKUP(E3463,Referencias!$B$4:$C$15,2,FALSE())","v":"3D"},{"$f":"VLOOKUP(C3463,Referencias!$B$18:$C$34,2,FALSE())","v":"IC"},"C"]
["3851943","Rodriguez Valerón, Carmen Gloria","Canaria","D","Tercera Diamante","Competición",3,{"$f":"VLOOKUP(E3464,Referencias!$B$4:$C$15,2,FALSE())","v":"3D"},{"$f":"VLOOKUP(C3464,Referencias!$B$18:$C$34,2,FALSE())","v":"IC"},"C"]
["3851944","García Rojas, Silvia","Canaria","D","Sin Categoría","Competición",4,{"$f":"VLOOKUP(E3465,Referencias!$B$4:$C$15,2,FALSE())","v":"SC"},{"$f":"VLOOKUP(C3465,Referencias!$B$18:$C$34,2,FALSE())","v":"IC"},"C"]
["3851956","Machado Trujillo, Rosario","Canaria","D","Tercera Diamante","Competición",3,{"$f":"VLOOKUP(E3466,Referencias!$B$4:$C$15,2,FALSE())","v":"3D"},{"$f":"VLOOKUP(C3466,Referencias!$B$18:$C$34,2,FALSE())","v":"IC"},"C"]
["3851976","Cabello Bilbao, Carlota","Canaria","D","Tercera Diamante","Competición",3,{"$f":"VLOOKUP(E3467,Referencias!$B$4:$C$15,2,FALSE())","v":"3D"},{"$f":"VLOOKUP(C3467,Referencias!$B$18:$C$34,2,FALSE())","v":"IC"},"C"]
["3851988","Lewis King, Brian","Canaria","C","Tercera Corazón","Competición",3,{"$f":"VLOOKUP(E3468,Referencias!$B$4:$C$15,2,FALSE())","v":"3C"},{"$f":"VLOOKUP(C3468,Referencias!$B$18:$C$34,2,FALSE())","v":"IC"},"C"]
["3852012","Loperfido, Claudia","Canaria","D","Sin Categoría","Competición",4,{"$f":"VLOOKUP(E3469,Referencias!$B$4:$C$15,2,FALSE())","v":"SC"},{"$f":"VLOOKUP(C3469,Referencias!$B$18:$C$34,2,FALSE())","v":"IC"},"C"]
["3852013","Donato, Donato","Canaria","C","Sin Categoría","Competición",4,{"$f":"VLOOKUP(E3470,Referencias!$B$4:$C$15,2,FALSE())","v":"SC"},{"$f":"VLOOKUP(C3470,Referencias!$B$18:$C$34,2,FALSE())","v":"IC"},"C"]
["3854425","López Izquierdo, Antonio","Canaria","C","Primera Picas","Competición",1,{"$f":"VLOOKUP(E3471,Referencias!$B$4:$C$15,2,FALSE())","v":"1P"},{"$f":"VLOOKUP(C3471,Referencias!$B$18:$C$34,2,FALSE())","v":"IC"},"C"]
["3854453","Canda Gómez, Aurora","Canaria","D","Tercera Picas","Competición",3,{"$f":"VLOOKUP(E3472,Referencias!$B$4:$C$15,2,FALSE())","v":"3P"},{"$f":"VLOOKUP(C3472,Referencias!$B$18:$C$34,2,FALSE())","v":"IC"},"C"]
["3854464","Yanes Herreros, Aureliano","Canaria","C","Tercera Picas","Competición",3,{"$f":"VLOOKUP(E3473,Referencias!$B$4:$C$15,2,FALSE())","v":"3P"},{"$f":"VLOOKUP(C3473,Referencias!$B$18:$C$34,2,FALSE())","v":"IC"},"C"]
["3854466","Elejabeitia Acevedo, Pedro María","Canaria","C","Segunda Picas","Competición",2,{"$f":"VLOOKUP(E3474,Referencias!$B$4:$C$15,2,FALSE())","v":"2P"},{"$f":"VLOOKUP(C3474,Referencias!$B$18:$C$34,2,FALSE())","v":"IC"},"C"]
["3854467","Velu Junquil, Liliane","Canaria","D","Segunda Picas","Competición",2,{"$f":"VLOOKUP(E3475,Referencias!$B$4:$C$15,2,FALSE())","v":"2P"},{"$f":"VLOOKUP(C3475,Referencias!$B$18:$C$34,2,FALSE())","v":"IC"},"C"]
["3854473","Martín Zamorano, María Angeles","Canaria","D","Sin Categoría","Competición",4,{"$f":"VLOOKUP(E3476,Referencias!$B$4:$C$15,2,FALSE())","v":"SC"},{"$f":"VLOOKUP(C3476,Referencias!$B$18:$C$34,2,FALSE())","v":"IC"},"C"]
["3854481","Otero Gómez, Ana","Canaria","D","Tercera Picas","Competición",3,{"$f":"VLOOKUP(E3477,Referencias!$B$4:$C$15,2,FALSE())","v":"3P"},{"$f":"VLOOKUP(C3477,Referencias!$B$18:$C$34,2,FALSE())","v":"IC"},"C"]
["3857047","Pérez Lecuona de Segovia, M. José","Canaria","D","Primera Diamante","Competición",1,{"$f":"VLOOKUP(E3478,Referencias!$B$4:$C$15,2,FALSE())","v":"1D"},{"$f":"VLOOKUP(C3478,Referencias!$B$18:$C$34,2,FALSE())","v":"IC"},"C"]
["3857052","Segovia Cabrera, Rafael","Canaria","C","Segunda Corazón","Competición",2,{"$f":"VLOOKUP(E3479,Referencias!$B$4:$C$15,2,FALSE())","v":"2C"},{"$f":"VLOOKUP(C3479,Referencias!$B$18:$C$34,2,FALSE())","v":"IC"},"C"]
["3991001","Boudin de la Fuente, Encarna","Cántabra","D","Segunda Diamante","Competición",2,{"$f":"VLOOKUP(E3480,Referencias!$B$4:$C$15,2,FALSE())","v":"2D"},{"$f":"VLOOKUP(C3480,Referencias!$B$18:$C$34,2,FALSE())","v":"CN"},"C"]
["3991002","Ramírez Carballedo, Esther","Cántabra","D","Segunda Diamante","Competición",2,{"$f":"VLOOKUP(E3481,Referencias!$B$4:$C$15,2,FALSE())","v":"2D"},{"$f":"VLOOKUP(C3481,Referencias!$B$18:$C$34,2,FALSE())","v":"CN"},"C"]
["3991008","Carballido Martínez, M. Paz","Cántabra","D","Segunda Picas","Competición",2,{"$f":"VLOOKUP(E3482,Referencias!$B$4:$C$15,2,FALSE())","v":"2P"},{"$f":"VLOOKUP(C3482,Referencias!$B$18:$C$34,2,FALSE())","v":"CN"},"C"]
["3991020","Milicua Salamero, Consuelo","Cántabra","D","Primera Corazón","Competición",1,{"$f":"VLOOKUP(E3483,Referencias!$B$4:$C$15,2,FALSE())","v":"1C"},{"$f":"VLOOKUP(C3483,Referencias!$B$18:$C$34,2,FALSE())","v":"CN"},"C"]
["3991021","García López, Anunciación Teresa","Cántabra","D","Segunda Diamante","Competición",2,{"$f":"VLOOKUP(E3484,Referencias!$B$4:$C$15,2,FALSE())","v":"2D"},{"$f":"VLOOKUP(C3484,Referencias!$B$18:$C$34,2,FALSE())","v":"CN"},"C"]
["3991045","Viejo García, Rita","Cántabra","D","Primera Picas","Competición",1,{"$f":"VLOOKUP(E3485,Referencias!$B$4:$C$15,2,FALSE())","v":"1P"},{"$f":"VLOOKUP(C3485,Referencias!$B$18:$C$34,2,FALSE())","v":"CN"},"C"]
["3991048","De la Maza Huidobro, Manuel","Cántabra","C","Primera Picas","Competición",1,{"$f":"VLOOKUP(E3486,Referencias!$B$4:$C$15,2,FALSE())","v":"1P"},{"$f":"VLOOKUP(C3486,Referencias!$B$18:$C$34,2,FALSE())","v":"CN"},"C"]
["3991052","Garmendia, Esperanza","Cántabra","D","Segunda Diamante","Competición",2,{"$f":"VLOOKUP(E3487,Referencias!$B$4:$C$15,2,FALSE())","v":"2D"},{"$f":"VLOOKUP(C3487,Referencias!$B$18:$C$34,2,FALSE())","v":"CN"},"C"]
["3991054","Tejerina Hernando, Arseli","Cántabra","C","Segunda Corazón","Competición",2,{"$f":"VLOOKUP(E3488,Referencias!$B$4:$C$15,2,FALSE())","v":"2C"},{"$f":"VLOOKUP(C3488,Referencias!$B$18:$C$34,2,FALSE())","v":"CN"},"C"]
["3991067","Barrutieta Pérez, Carmela","Cántabra","D","Primera Corazón","Competición",1,{"$f":"VLOOKUP(E3489,Referencias!$B$4:$C$15,2,FALSE())","v":"1C"},{"$f":"VLOOKUP(C3489,Referencias!$B$18:$C$34,2,FALSE())","v":"CN"},"C"]
["3991076","Del Río Seoane, María Esther","Cántabra","D","Tercera Corazón","Competición",3,{"$f":"VLOOKUP(E3490,Referencias!$B$4:$C$15,2,FALSE())","v":"3C"},{"$f":"VLOOKUP(C3490,Referencias!$B$18:$C$34,2,FALSE())","v":"CN"},"C"]
["3991077","Villaverde Fernández, Angeles","Cántabra","D","Segunda Diamante","Competición",2,{"$f":"VLOOKUP(E3491,Referencias!$B$4:$C$15,2,FALSE())","v":"2D"},{"$f":"VLOOKUP(C3491,Referencias!$B$18:$C$34,2,FALSE())","v":"CN"},"C"]
["3991079","Arroyo Cruz, Concepción","Cántabra","D","Tercera Picas","Competición",3,{"$f":"VLOOKUP(E3492,Referencias!$B$4:$C$15,2,FALSE())","v":"3P"},{"$f":"VLOOKUP(C3492,Referencias!$B$18:$C$34,2,FALSE())","v":"CN"},"C"]
["3991080","Falcones González, Mercedes","Cántabra","D","Tercera Picas","Competición",3,{"$f":"VLOOKUP(E3493,Referencias!$B$4:$C$15,2,FALSE())","v":"3P"},{"$f":"VLOOKUP(C3493,Referencias!$B$18:$C$34,2,FALSE())","v":"CN"},"C"]
["3991084","Martín Malo, María Isabel","Cántabra","D","Segunda Corazón","Competición",2,{"$f":"VLOOKUP(E3494,Referencias!$B$4:$C$15,2,FALSE())","v":"2C"},{"$f":"VLOOKUP(C3494,Referencias!$B$18:$C$34,2,FALSE())","v":"CN"},"C"]
["3991086","Quintana Serrano, Luisa Mª","Cántabra","D","Tercera Picas","Competición",3,{"$f":"VLOOKUP(E3495,Referencias!$B$4:$C$15,2,FALSE())","v":"3P"},{"$f":"VLOOKUP(C3495,Referencias!$B$18:$C$34,2,FALSE())","v":"CN"},"C"]
["3991088","Valero San Emeterio, José Ignacio","Cántabra","C","Primera Diamante","Competición",1,{"$f":"VLOOKUP(E3496,Referencias!$B$4:$C$15,2,FALSE())","v":"1D"},{"$f":"VLOOKUP(C3496,Referencias!$B$18:$C$34,2,FALSE())","v":"CN"},"C"]
["3991092","Casuso Tapia, Isabel","Cántabra","D","Segunda Corazón","Competición",2,{"$f":"VLOOKUP(E3497,Referencias!$B$4:$C$15,2,FALSE())","v":"2C"},{"$f":"VLOOKUP(C3497,Referencias!$B$18:$C$34,2,FALSE())","v":"CN"},"C"]
["3991093","Agudo Castanedo, Raquel","Cántabra","D","Tercera Picas","Competición",3,{"$f":"VLOOKUP(E3498,Referencias!$B$4:$C$15,2,FALSE())","v":"3P"},{"$f":"VLOOKUP(C3498,Referencias!$B$18:$C$34,2,FALSE())","v":"CN"},"C"]
["3991097","López Pérez, Isabel","Cántabra","D","Sin Categoría","Competición",4,{"$f":"VLOOKUP(E3499,Referencias!$B$4:$C$15,2,FALSE())","v":"SC"},{"$f":"VLOOKUP(C3499,Referencias!$B$18:$C$34,2,FALSE())","v":"CN"},"C"]
["3991098","García Bardón, Teresa","Cántabra","D","Primera Picas","Competición",1,{"$f":"VLOOKUP(E3500,Referencias!$B$4:$C$15,2,FALSE())","v":"1P"},{"$f":"VLOOKUP(C3500,Referencias!$B$18:$C$34,2,FALSE())","v":"CN"},"C"]
["3991109","Martínez de la Fuente, Nieves","Cántabra","D","Tercera Diamante","Competición",3,{"$f":"VLOOKUP(E3501,Referencias!$B$4:$C$15,2,FALSE())","v":"3D"},{"$f":"VLOOKUP(C3501,Referencias!$B$18:$C$34,2,FALSE())","v":"CN"},"C"]
["3991111","Gutierrez Gutierrez, Consuelo","Cántabra","D","Tercera Picas","Competición",3,{"$f":"VLOOKUP(E3502,Referencias!$B$4:$C$15,2,FALSE())","v":"3P"},{"$f":"VLOOKUP(C3502,Referencias!$B$18:$C$34,2,FALSE())","v":"CN"},"C"]
["3991117","Marcos San Emeterio, Ana María","Cántabra","D","Tercera Diamante","Competición",3,{"$f":"VLOOKUP(E3503,Referencias!$B$4:$C$15,2,FALSE())","v":"3D"},{"$f":"VLOOKUP(C3503,Referencias!$B$18:$C$34,2,FALSE())","v":"CN"},"C"]
["3991121","Celada Vallespin, Jesús","Cántabra","C","Tercera Corazón","Competición",3,{"$f":"VLOOKUP(E3504,Referencias!$B$4:$C$15,2,FALSE())","v":"3C"},{"$f":"VLOOKUP(C3504,Referencias!$B$18:$C$34,2,FALSE())","v":"CN"},"C"]
["3991124","Costa Martínez, Pilar","Cántabra","D","Sin Categoría","Competición",4,{"$f":"VLOOKUP(E3505,Referencias!$B$4:$C$15,2,FALSE())","v":"SC"},{"$f":"VLOOKUP(C3505,Referencias!$B$18:$C$34,2,FALSE())","v":"CN"},"C"]
["3991125","Vaquer Beltran, Celia","Cántabra","D","Tercera Diamante","Competición",3,{"$f":"VLOOKUP(E3506,Referencias!$B$4:$C$15,2,FALSE())","v":"3D"},{"$f":"VLOOKUP(C3506,Referencias!$B$18:$C$34,2,FALSE())","v":"CN"},"C"]
["3991126","Velasco Fierro, Mª Pilar","Cántabra","D","Tercera Corazón","Competición",3,{"$f":"VLOOKUP(E3507,Referencias!$B$4:$C$15,2,FALSE())","v":"3C"},{"$f":"VLOOKUP(C3507,Referencias!$B$18:$C$34,2,FALSE())","v":"CN"},"C"]
["3991127","Marcos Ruiz, Mª Teresa","Cántabra","D","Tercera Diamante","Competición",3,{"$f":"VLOOKUP(E3508,Referencias!$B$4:$C$15,2,FALSE())","v":"3D"},{"$f":"VLOOKUP(C3508,Referencias!$B$18:$C$34,2,FALSE())","v":"CN"},"C"]
["3991136","Peña González, Susana","Cántabra","D","Segunda Corazón","Competición",2,{"$f":"VLOOKUP(E3509,Referencias!$B$4:$C$15,2,FALSE())","v":"2C"},{"$f":"VLOOKUP(C3509,Referencias!$B$18:$C$34,2,FALSE())","v":"CN"},"C"]
["3991146","Saiz Gómez, Elena","Cántabra","D","Segunda Diamante","Competición",2,{"$f":"VLOOKUP(E3510,Referencias!$B$4:$C$15,2,FALSE())","v":"2D"},{"$f":"VLOOKUP(C3510,Referencias!$B$18:$C$34,2,FALSE())","v":"CN"},"C"]
["3991152","Alvarez Tapia, Mª Teresa","Cántabra","D","Tercera Picas","Competición",3,{"$f":"VLOOKUP(E3511,Referencias!$B$4:$C$15,2,FALSE())","v":"3P"},{"$f":"VLOOKUP(C3511,Referencias!$B$18:$C$34,2,FALSE())","v":"CN"},"C"]
["3991155","Fernández Baldor Salomón, Mª Pilar","Cántabra","D","Sin Categoría","Competición",4,{"$f":"VLOOKUP(E3512,Referencias!$B$4:$C$15,2,FALSE())","v":"SC"},{"$f":"VLOOKUP(C3512,Referencias!$B$18:$C$34,2,FALSE())","v":"CN"},"C"]
["3991157","Odriozola Sánchez, Marian","Cántabra","D","Sin Categoría","Competición",4,{"$f":"VLOOKUP(E3513,Referencias!$B$4:$C$15,2,FALSE())","v":"SC"},{"$f":"VLOOKUP(C3513,Referencias!$B$18:$C$34,2,FALSE())","v":"CN"},"C"]
["3991159","Vellido Lucas, Esperanza","Cántabra","D","Sin Categoría","Competición",4,{"$f":"VLOOKUP(E3514,Referencias!$B$4:$C$15,2,FALSE())","v":"SC"},{"$f":"VLOOKUP(C3514,Referencias!$B$18:$C$34,2,FALSE())","v":"CN"},"C"]
["3991160","Ramos Fernández, Milagros","Cántabra","D","Sin Categoría","Competición",4,{"$f":"VLOOKUP(E3515,Referencias!$B$4:$C$15,2,FALSE())","v":"SC"},{"$f":"VLOOKUP(C3515,Referencias!$B$18:$C$34,2,FALSE())","v":"CN"},"C"]
["3991162","Mancebo, Purificación","Cántabra","D","Segunda Picas","Competición",2,{"$f":"VLOOKUP(E3516,Referencias!$B$4:$C$15,2,FALSE())","v":"2P"},{"$f":"VLOOKUP(C3516,Referencias!$B$18:$C$34,2,FALSE())","v":"CN"},"C"]
["3991167","González-Vallejo, Carmen","Cántabra","D","Tercera Diamante","Competición",3,{"$f":"VLOOKUP(E3517,Referencias!$B$4:$C$15,2,FALSE())","v":"3D"},{"$f":"VLOOKUP(C3517,Referencias!$B$18:$C$34,2,FALSE())","v":"CN"},"C"]
["3991168","Fernández Gutiérrez, Olga","Cántabra","D","Tercera Diamante","Competición",3,{"$f":"VLOOKUP(E3518,Referencias!$B$4:$C$15,2,FALSE())","v":"3D"},{"$f":"VLOOKUP(C3518,Referencias!$B$18:$C$34,2,FALSE())","v":"CN"},"C"]
["3991171","Torrijos Ruiz, Mariam","Cántabra","D","Tercera Diamante","Competición",3,{"$f":"VLOOKUP(E3519,Referencias!$B$4:$C$15,2,FALSE())","v":"3D"},{"$f":"VLOOKUP(C3519,Referencias!$B$18:$C$34,2,FALSE())","v":"CN"},"C"]
["3991175","Alcazar Benot, Mª Angeles","Cántabra","D","Sin Categoría","Competición",4,{"$f":"VLOOKUP(E3520,Referencias!$B$4:$C$15,2,FALSE())","v":"SC"},{"$f":"VLOOKUP(C3520,Referencias!$B$18:$C$34,2,FALSE())","v":"CN"},{"$f":"IF(D3520=\"Dama\",\"D\",\"C\")","v":"C"}]
["3991184","Piñero Domecq, Rosa Ana","Cántabra","D","Tercera Diamante","Competición",3,{"$f":"VLOOKUP(E3521,Referencias!$B$4:$C$15,2,FALSE())","v":"3D"},{"$f":"VLOOKUP(C3521,Referencias!$B$18:$C$34,2,FALSE())","v":"CN"},"C"]
["3991191","Fernández Herrero, Elena","Cántabra","D","Tercera Corazón","Competición",3,{"$f":"VLOOKUP(E3522,Referencias!$B$4:$C$15,2,FALSE())","v":"3C"},{"$f":"VLOOKUP(C3522,Referencias!$B$18:$C$34,2,FALSE())","v":"CN"},"C"]
["3991192","Escallada Haya, Angela","Cántabra","D","Segunda Corazón","Competición",2,{"$f":"VLOOKUP(E3523,Referencias!$B$4:$C$15,2,FALSE())","v":"2C"},{"$f":"VLOOKUP(C3523,Referencias!$B$18:$C$34,2,FALSE())","v":"CN"},"C"]
["3991193","Pellón Vela, Milagros","Cántabra","D","Tercera Picas","Competición",3,{"$f":"VLOOKUP(E3524,Referencias!$B$4:$C$15,2,FALSE())","v":"3P"},{"$f":"VLOOKUP(C3524,Referencias!$B$18:$C$34,2,FALSE())","v":"CN"},"C"]
["3991194","Arroyo Valiente, Eva","Cántabra","D","Tercera Corazón","Competición",3,{"$f":"VLOOKUP(E3525,Referencias!$B$4:$C$15,2,FALSE())","v":"3C"},{"$f":"VLOOKUP(C3525,Referencias!$B$18:$C$34,2,FALSE())","v":"CN"},"C"]
["3991198","Macho González, María del Rosario","Cántabra","D","Tercera Diamante","Competición",3,{"$f":"VLOOKUP(E3526,Referencias!$B$4:$C$15,2,FALSE())","v":"3D"},{"$f":"VLOOKUP(C3526,Referencias!$B$18:$C$34,2,FALSE())","v":"CN"},"C"]
["3991200","Sobrino Olazarán, Celia","Cántabra","D","Tercera Corazón","Competición",3,{"$f":"VLOOKUP(E3527,Referencias!$B$4:$C$15,2,FALSE())","v":"3C"},{"$f":"VLOOKUP(C3527,Referencias!$B$18:$C$34,2,FALSE())","v":"CN"},"C"]
["3991203","Díaz Macías, Paloma","Cántabra","D","Tercera Corazón","Competición",3,{"$f":"VLOOKUP(E3528,Referencias!$B$4:$C$15,2,FALSE())","v":"3C"},{"$f":"VLOOKUP(C3528,Referencias!$B$18:$C$34,2,FALSE())","v":"CN"},"C"]
["3991208","Sánchez Ortega, Julia","Cántabra","D","Tercera Picas","Competición",3,{"$f":"VLOOKUP(E3529,Referencias!$B$4:$C$15,2,FALSE())","v":"3P"},{"$f":"VLOOKUP(C3529,Referencias!$B$18:$C$34,2,FALSE())","v":"CN"},"C"]
["3991209","Echeandia Mota, Pilar","Cántabra","D","Primera Diamante","Competición",1,{"$f":"VLOOKUP(E3530,Referencias!$B$4:$C$15,2,FALSE())","v":"1D"},{"$f":"VLOOKUP(C3530,Referencias!$B$18:$C$34,2,FALSE())","v":"CN"},"C"]
["3991210","Ajo González, Mª José","Cántabra","D","Segunda Diamante","Competición",2,{"$f":"VLOOKUP(E3531,Referencias!$B$4:$C$15,2,FALSE())","v":"2D"},{"$f":"VLOOKUP(C3531,Referencias!$B$18:$C$34,2,FALSE())","v":"CN"},"C"]
["3991211","García Amalric, Mª Anunciación","Cántabra","D","Tercera Picas","Competición",3,{"$f":"VLOOKUP(E3532,Referencias!$B$4:$C$15,2,FALSE())","v":"3P"},{"$f":"VLOOKUP(C3532,Referencias!$B$18:$C$34,2,FALSE())","v":"CN"},"C"]
["3991212","Calzada García, Margarita","Cántabra","D","Tercera Diamante","Competición",3,{"$f":"VLOOKUP(E3533,Referencias!$B$4:$C$15,2,FALSE())","v":"3D"},{"$f":"VLOOKUP(C3533,Referencias!$B$18:$C$34,2,FALSE())","v":"CN"},"C"]
["3991215","Pérez Meliz, Lourdes","Cántabra","D","Tercera Picas","Competición",3,{"$f":"VLOOKUP(E3534,Referencias!$B$4:$C$15,2,FALSE())","v":"3P"},{"$f":"VLOOKUP(C3534,Referencias!$B$18:$C$34,2,FALSE())","v":"CN"},"C"]
["3991216","Grassi Riccio, Magdalena","Cántabra","D","Tercera Corazón","Competición",3,{"$f":"VLOOKUP(E3535,Referencias!$B$4:$C$15,2,FALSE())","v":"3C"},{"$f":"VLOOKUP(C3535,Referencias!$B$18:$C$34,2,FALSE())","v":"CN"},"C"]
["3991217","Lamadrid, Laura Marie","Cántabra","D","Sin Categoría","Competición",4,{"$f":"VLOOKUP(E3536,Referencias!$B$4:$C$15,2,FALSE())","v":"SC"},{"$f":"VLOOKUP(C3536,Referencias!$B$18:$C$34,2,FALSE())","v":"CN"},"C"]
["3991219","Aguiar Rodríguez, Aurora","Cántabra","D","Tercera Corazón","Competición",3,{"$f":"VLOOKUP(E3537,Referencias!$B$4:$C$15,2,FALSE())","v":"3C"},{"$f":"VLOOKUP(C3537,Referencias!$B$18:$C$34,2,FALSE())","v":"CN"},"C"]
["3991221","Loriente Zamora, Teresa","Cántabra","D","Tercera Corazón","Competición",3,{"$f":"VLOOKUP(E3538,Referencias!$B$4:$C$15,2,FALSE())","v":"3C"},{"$f":"VLOOKUP(C3538,Referencias!$B$18:$C$34,2,FALSE())","v":"CN"},"C"]
["3991222","Alonso de la Gala, Ana María","Cántabra","D","Tercera Diamante","Competición",3,{"$f":"VLOOKUP(E3539,Referencias!$B$4:$C$15,2,FALSE())","v":"3D"},{"$f":"VLOOKUP(C3539,Referencias!$B$18:$C$34,2,FALSE())","v":"CN"},"C"]
["3991225","Machín Dermit, María de los Angeles","Cántabra","D","Sin Categoría","Competición",4,{"$f":"VLOOKUP(E3540,Referencias!$B$4:$C$15,2,FALSE())","v":"SC"},{"$f":"VLOOKUP(C3540,Referencias!$B$18:$C$34,2,FALSE())","v":"CN"},"C"]
["3991226","Alonso Martínez, Roberto","Cántabra","C","Sin Categoría","Competición",4,{"$f":"VLOOKUP(E3541,Referencias!$B$4:$C$15,2,FALSE())","v":"SC"},{"$f":"VLOOKUP(C3541,Referencias!$B$18:$C$34,2,FALSE())","v":"CN"},"C"]
["3991232","Alonso García, Mª Luisa","Cántabra","D","Segunda Picas","Competición",2,{"$f":"VLOOKUP(E3542,Referencias!$B$4:$C$15,2,FALSE())","v":"2P"},{"$f":"VLOOKUP(C3542,Referencias!$B$18:$C$34,2,FALSE())","v":"CN"},"C"]
["3991236","Saenz de Miera Gutiérrez, Mª Luisa","Cántabra","D","Tercera Corazón","Competición",3,{"$f":"VLOOKUP(E3543,Referencias!$B$4:$C$15,2,FALSE())","v":"3C"},{"$f":"VLOOKUP(C3543,Referencias!$B$18:$C$34,2,FALSE())","v":"CN"},"C"]
["3991239","Mirapeix Sobron, Carolina","Cántabra","D","Tercera Diamante","Competición",3,{"$f":"VLOOKUP(E3544,Referencias!$B$4:$C$15,2,FALSE())","v":"3D"},{"$f":"VLOOKUP(C3544,Referencias!$B$18:$C$34,2,FALSE())","v":"CN"},"C"]
["3991240","Bormann Kriegel, Ruth","Cántabra","D","Tercera Diamante","Competición",3,{"$f":"VLOOKUP(E3545,Referencias!$B$4:$C$15,2,FALSE())","v":"3D"},{"$f":"VLOOKUP(C3545,Referencias!$B$18:$C$34,2,FALSE())","v":"CN"},"C"]
["3991241","Alonso García, Mª Elena","Cántabra","D","Tercera Picas","Competición",3,{"$f":"VLOOKUP(E3546,Referencias!$B$4:$C$15,2,FALSE())","v":"3P"},{"$f":"VLOOKUP(C3546,Referencias!$B$18:$C$34,2,FALSE())","v":"CN"},"C"]
["3991243","Valencia Ulloa, Mª Dolores","Cántabra","D","Tercera Diamante","Competición",3,{"$f":"VLOOKUP(E3547,Referencias!$B$4:$C$15,2,FALSE())","v":"3D"},{"$f":"VLOOKUP(C3547,Referencias!$B$18:$C$34,2,FALSE())","v":"CN"},"C"]
["3991262","González de Riancho Colongues, Mª Isabel","Cántabra","D","Sin Categoría","Competición",4,{"$f":"VLOOKUP(E3548,Referencias!$B$4:$C$15,2,FALSE())","v":"SC"},{"$f":"VLOOKUP(C3548,Referencias!$B$18:$C$34,2,FALSE())","v":"CN"},"C"]
["3991266","Rebanal Vellido, Elisa","Cántabra","D","Tercera Picas","Competición",3,{"$f":"VLOOKUP(E3549,Referencias!$B$4:$C$15,2,FALSE())","v":"3P"},{"$f":"VLOOKUP(C3549,Referencias!$B$18:$C$34,2,FALSE())","v":"CN"},"C"]
["3991268","Guri Bormann, Elisabeth","Cántabra","D","Tercera Picas","Competición",3,{"$f":"VLOOKUP(E3550,Referencias!$B$4:$C$15,2,FALSE())","v":"3P"},{"$f":"VLOOKUP(C3550,Referencias!$B$18:$C$34,2,FALSE())","v":"CN"},"C"]
["3991270","Guri Bormann, Sylvia","Cántabra","D","Tercera Diamante","Competición",3,{"$f":"VLOOKUP(E3551,Referencias!$B$4:$C$15,2,FALSE())","v":"3D"},{"$f":"VLOOKUP(C3551,Referencias!$B$18:$C$34,2,FALSE())","v":"CN"},"C"]
["3991272","JuncoTorme, Dolores","Cántabra","D","Segunda Diamante","Competición",2,{"$f":"VLOOKUP(E3552,Referencias!$B$4:$C$15,2,FALSE())","v":"2D"},{"$f":"VLOOKUP(C3552,Referencias!$B$18:$C$34,2,FALSE())","v":"CN"},"C"]
["3991274","Basoa Huidobro, Carmen","Cántabra","D","Tercera Corazón","Competición",3,{"$f":"VLOOKUP(E3553,Referencias!$B$4:$C$15,2,FALSE())","v":"3C"},{"$f":"VLOOKUP(C3553,Referencias!$B$18:$C$34,2,FALSE())","v":"CN"},"C"]
["3991276","Alonso Sánchez, Marta","Cántabra","D","Tercera Corazón","Competición",3,{"$f":"VLOOKUP(E3554,Referencias!$B$4:$C$15,2,FALSE())","v":"3C"},{"$f":"VLOOKUP(C3554,Referencias!$B$18:$C$34,2,FALSE())","v":"CN"},"C"]
["3991279","Rodriguez Escudero, Juan Carlos","Cántabra","C","Tercera Diamante","Competición",3,{"$f":"VLOOKUP(E3555,Referencias!$B$4:$C$15,2,FALSE())","v":"3D"},{"$f":"VLOOKUP(C3555,Referencias!$B$18:$C$34,2,FALSE())","v":"CN"},"C"]
["3991281","De Torres-Solanot del Pino, María","Cántabra","D","Tercera Diamante","Competición",3,{"$f":"VLOOKUP(E3556,Referencias!$B$4:$C$15,2,FALSE())","v":"3D"},{"$f":"VLOOKUP(C3556,Referencias!$B$18:$C$34,2,FALSE())","v":"CN"},"C"]
["3991284","Gamo Macaya, Lourdes","Cántabra","D","Tercera Diamante","Competición",3,{"$f":"VLOOKUP(E3557,Referencias!$B$4:$C$15,2,FALSE())","v":"3D"},{"$f":"VLOOKUP(C3557,Referencias!$B$18:$C$34,2,FALSE())","v":"CN"},"C"]
["3991285","Miranda Díaz, Isabel","Cántabra","D","Tercera Diamante","Competición",3,{"$f":"VLOOKUP(E3558,Referencias!$B$4:$C$15,2,FALSE())","v":"3D"},{"$f":"VLOOKUP(C3558,Referencias!$B$18:$C$34,2,FALSE())","v":"CN"},"C"]
["3991287","Menéndez de Paz, Mercedes","Cántabra","C","Tercera Corazón","Competición",3,{"$f":"VLOOKUP(E3559,Referencias!$B$4:$C$15,2,FALSE())","v":"3C"},{"$f":"VLOOKUP(C3559,Referencias!$B$18:$C$34,2,FALSE())","v":"CN"},"C"]
["3991288","Luca de Tena, Alfonso","Cántabra","C","Segunda Diamante","Competición",2,{"$f":"VLOOKUP(E3560,Referencias!$B$4:$C$15,2,FALSE())","v":"2D"},{"$f":"VLOOKUP(C3560,Referencias!$B$18:$C$34,2,FALSE())","v":"CN"},"C"]
["3991292","Merino Hoyal, Teresa","Cántabra","D","Tercera Diamante","Competición",3,{"$f":"VLOOKUP(E3561,Referencias!$B$4:$C$15,2,FALSE())","v":"3D"},{"$f":"VLOOKUP(C3561,Referencias!$B$18:$C$34,2,FALSE())","v":"CN"},"C"]
["3991294","Martinez Galdos, Maria Teresa","Cántabra","D","Sin Categoría","Competición",4,{"$f":"VLOOKUP(E3562,Referencias!$B$4:$C$15,2,FALSE())","v":"SC"},{"$f":"VLOOKUP(C3562,Referencias!$B$18:$C$34,2,FALSE())","v":"CN"},"C"]
["3991296","Garrido García, Pedro Pablo","Cántabra","C","Sin Categoría","Competición",4,{"$f":"VLOOKUP(E3563,Referencias!$B$4:$C$15,2,FALSE())","v":"SC"},{"$f":"VLOOKUP(C3563,Referencias!$B$18:$C$34,2,FALSE())","v":"CN"},"C"]
["3991298","González de Riancho, María Rosa","Cántabra","D","Tercera Diamante","Competición",3,{"$f":"VLOOKUP(E3564,Referencias!$B$4:$C$15,2,FALSE())","v":"3D"},{"$f":"VLOOKUP(C3564,Referencias!$B$18:$C$34,2,FALSE())","v":"CN"},"C"]
["3991302","Cavero Usabel, Nieves","Cántabra","D","Tercera Diamante","Competición",3,{"$f":"VLOOKUP(E3565,Referencias!$B$4:$C$15,2,FALSE())","v":"3D"},{"$f":"VLOOKUP(C3565,Referencias!$B$18:$C$34,2,FALSE())","v":"CN"},"C"]
["3991304","De Pellón Pérez-Gallé, Maribel","Cántabra","D","Segunda Corazón","Competición",2,{"$f":"VLOOKUP(E3566,Referencias!$B$4:$C$15,2,FALSE())","v":"2C"},{"$f":"VLOOKUP(C3566,Referencias!$B$18:$C$34,2,FALSE())","v":"CN"},"C"]
["3991305","Arche Pajares, Beatriz","Cántabra","D","Tercera Diamante","Competición",3,{"$f":"VLOOKUP(E3567,Referencias!$B$4:$C$15,2,FALSE())","v":"3D"},{"$f":"VLOOKUP(C3567,Referencias!$B$18:$C$34,2,FALSE())","v":"CN"},"C"]
["3991306","Barez Gómez, Pilar","Cántabra","D","Tercera Diamante","Competición",3,{"$f":"VLOOKUP(E3568,Referencias!$B$4:$C$15,2,FALSE())","v":"3D"},{"$f":"VLOOKUP(C3568,Referencias!$B$18:$C$34,2,FALSE())","v":"CN"},"C"]
["3991307","Blanco Jiménez, Marisol","Cántabra","D","Tercera Diamante","Competición",3,{"$f":"VLOOKUP(E3569,Referencias!$B$4:$C$15,2,FALSE())","v":"3D"},{"$f":"VLOOKUP(C3569,Referencias!$B$18:$C$34,2,FALSE())","v":"CN"},"C"]
["3991309","Gómez Correa, Marta","Cántabra","D","Tercera Diamante","Competición",3,{"$f":"VLOOKUP(E3570,Referencias!$B$4:$C$15,2,FALSE())","v":"3D"},{"$f":"VLOOKUP(C3570,Referencias!$B$18:$C$34,2,FALSE())","v":"CN"},"C"]
["3991310","Gónzalez de Riancho Mariñas, Marta","Cántabra","D","Tercera Diamante","Competición",3,{"$f":"VLOOKUP(E3571,Referencias!$B$4:$C$15,2,FALSE())","v":"3D"},{"$f":"VLOOKUP(C3571,Referencias!$B$18:$C$34,2,FALSE())","v":"CN"},"C"]
["3991311","Herrán Pérez, Mª Dolores","Cántabra","D","Tercera Diamante","Competición",3,{"$f":"VLOOKUP(E3572,Referencias!$B$4:$C$15,2,FALSE())","v":"3D"},{"$f":"VLOOKUP(C3572,Referencias!$B$18:$C$34,2,FALSE())","v":"CN"},"C"]
["3991312","López García, Manuela","Cántabra","D","Tercera Diamante","Competición",3,{"$f":"VLOOKUP(E3573,Referencias!$B$4:$C$15,2,FALSE())","v":"3D"},{"$f":"VLOOKUP(C3573,Referencias!$B$18:$C$34,2,FALSE())","v":"CN"},"C"]
["3991314","Toural Méndez, Elvira","Cántabra","D","Tercera Diamante","Competición",3,{"$f":"VLOOKUP(E3574,Referencias!$B$4:$C$15,2,FALSE())","v":"3D"},{"$f":"VLOOKUP(C3574,Referencias!$B$18:$C$34,2,FALSE())","v":"CN"},"C"]
["3991315","Pastor García, María Asunción","Cántabra","D","Sin Categoría","Competición",4,{"$f":"VLOOKUP(E3575,Referencias!$B$4:$C$15,2,FALSE())","v":"SC"},{"$f":"VLOOKUP(C3575,Referencias!$B$18:$C$34,2,FALSE())","v":"CN"},"C"]
["3991316","Arranz Carrillo de Albornoz, Leopoldo","Cántabra","C","Tercera Diamante","Competición",3,{"$f":"VLOOKUP(E3576,Referencias!$B$4:$C$15,2,FALSE())","v":"3D"},{"$f":"VLOOKUP(C3576,Referencias!$B$18:$C$34,2,FALSE())","v":"CN"},"C"]
["3991317","Navarro Guerecaechevarría, Emma","Cántabra","D","Segunda Corazón","Competición",2,{"$f":"VLOOKUP(E3577,Referencias!$B$4:$C$15,2,FALSE())","v":"2C"},{"$f":"VLOOKUP(C3577,Referencias!$B$18:$C$34,2,FALSE())","v":"CN"},"C"]
["3991318","Allende Landa, Kety","Cántabra","D","Primera Corazón","Competición",1,{"$f":"VLOOKUP(E3578,Referencias!$B$4:$C$15,2,FALSE())","v":"1C"},{"$f":"VLOOKUP(C3578,Referencias!$B$18:$C$34,2,FALSE())","v":"CN"},"C"]
["3991319","Hornedo Iñigo, Susana","Cántabra","D","Tercera Diamante","Competición",3,{"$f":"VLOOKUP(E3579,Referencias!$B$4:$C$15,2,FALSE())","v":"3D"},{"$f":"VLOOKUP(C3579,Referencias!$B$18:$C$34,2,FALSE())","v":"CN"},"C"]
["3991320","González Setien, María Leticia","Cántabra","D","Tercera Diamante","Competición",3,{"$f":"VLOOKUP(E3580,Referencias!$B$4:$C$15,2,FALSE())","v":"3D"},{"$f":"VLOOKUP(C3580,Referencias!$B$18:$C$34,2,FALSE())","v":"CN"},"C"]
["3991323","Madariaga Casuso, Angel","Cántabra","C","Tercera Picas","Competición",3,{"$f":"VLOOKUP(E3581,Referencias!$B$4:$C$15,2,FALSE())","v":"3P"},{"$f":"VLOOKUP(C3581,Referencias!$B$18:$C$34,2,FALSE())","v":"CN"},"C"]
["3991324","Díaz de Terán Mira, María del Carmen","Cántabra","D","Sin Categoría","Competición",4,{"$f":"VLOOKUP(E3582,Referencias!$B$4:$C$15,2,FALSE())","v":"SC"},{"$f":"VLOOKUP(C3582,Referencias!$B$18:$C$34,2,FALSE())","v":"CN"},"C"]
["3991325","Mazo Perez, María Belén","Cántabra","D","Sin Categoría","Competición",4,{"$f":"VLOOKUP(E3583,Referencias!$B$4:$C$15,2,FALSE())","v":"SC"},{"$f":"VLOOKUP(C3583,Referencias!$B$18:$C$34,2,FALSE())","v":"CN"},"C"]
["3991326","Guillen Sutil, Carmen","Cántabra","D","Sin Categoría","Competición",4,{"$f":"VLOOKUP(E3584,Referencias!$B$4:$C$15,2,FALSE())","v":"SC"},{"$f":"VLOOKUP(C3584,Referencias!$B$18:$C$34,2,FALSE())","v":"CN"},{"$f":"IF(D3584=\"Dama\",\"D\",\"C\")","v":"C"}]
["3991327","Gómez-Barreda García, Chabela","Cántabra","D","Sin Categoría","Competición",4,{"$f":"VLOOKUP(E3585,Referencias!$B$4:$C$15,2,FALSE())","v":"SC"},{"$f":"VLOOKUP(C3585,Referencias!$B$18:$C$34,2,FALSE())","v":"CN"},"C"]
["3991328","Achach del Rio, Ileana","Cántabra","D","Sin Categoría","Competición",4,{"$f":"VLOOKUP(E3586,Referencias!$B$4:$C$15,2,FALSE())","v":"SC"},{"$f":"VLOOKUP(C3586,Referencias!$B$18:$C$34,2,FALSE())","v":"CN"},"C"]
["3991329","Villafañe Martinez, Silvia","Cántabra","D","Sin Categoría","Competición",4,{"$f":"VLOOKUP(E3587,Referencias!$B$4:$C$15,2,FALSE())","v":"SC"},{"$f":"VLOOKUP(C3587,Referencias!$B$18:$C$34,2,FALSE())","v":"CN"},"C"]
["3991330","Mariño Canchal, Mª Consuelo","Cántabra","D","Sin Categoría","Competición",4,{"$f":"VLOOKUP(E3588,Referencias!$B$4:$C$15,2,FALSE())","v":"SC"},{"$f":"VLOOKUP(C3588,Referencias!$B$18:$C$34,2,FALSE())","v":"CN"},"C"]
["3991331","Campos Alonso, Victoria","Cántabra","D","Sin Categoría","Competición",4,{"$f":"VLOOKUP(E3589,Referencias!$B$4:$C$15,2,FALSE())","v":"SC"},{"$f":"VLOOKUP(C3589,Referencias!$B$18:$C$34,2,FALSE())","v":"CN"},"C"]
["3991332","Malo Mateo, Mónica","Cántabra","D","Sin Categoría","Competición",4,{"$f":"VLOOKUP(E3590,Referencias!$B$4:$C$15,2,FALSE())","v":"SC"},{"$f":"VLOOKUP(C3590,Referencias!$B$18:$C$34,2,FALSE())","v":"CN"},"C"]
["3991334","González López, Luz","Cántabra","D","Sin Categoría","Competición",4,{"$f":"VLOOKUP(E3591,Referencias!$B$4:$C$15,2,FALSE())","v":"SC"},{"$f":"VLOOKUP(C3591,Referencias!$B$18:$C$34,2,FALSE())","v":"CN"},"C"]
["3991335","Rezola Palacios, Mª Valvanera","Cántabra","D","Sin Categoría","Competición",4,{"$f":"VLOOKUP(E3592,Referencias!$B$4:$C$15,2,FALSE())","v":"SC"},{"$f":"VLOOKUP(C3592,Referencias!$B$18:$C$34,2,FALSE())","v":"CN"},"C"]
["3991336","Alonso Garcia, José Ramón","Cántabra","C","Sin Categoría","Competición",4,{"$f":"VLOOKUP(E3593,Referencias!$B$4:$C$15,2,FALSE())","v":"SC"},{"$f":"VLOOKUP(C3593,Referencias!$B$18:$C$34,2,FALSE())","v":"CN"},"C"]
["3991339","Sangrador Rasero, Ana María","Cántabra","D","Sin Categoría","Competición",4,{"$f":"VLOOKUP(E3594,Referencias!$B$4:$C$15,2,FALSE())","v":"SC"},{"$f":"VLOOKUP(C3594,Referencias!$B$18:$C$34,2,FALSE())","v":"CN"},"C"]
["3991340","Sotres Rodriguez, Mª Esther","Cántabra","D","Sin Categoría","Competición",4,{"$f":"VLOOKUP(E3595,Referencias!$B$4:$C$15,2,FALSE())","v":"SC"},{"$f":"VLOOKUP(C3595,Referencias!$B$18:$C$34,2,FALSE())","v":"CN"},"C"]
["3991341","Sánchez Bustamante, Mercedes","Cántabra","D","Sin Categoría","Competición",4,{"$f":"VLOOKUP(E3596,Referencias!$B$4:$C$15,2,FALSE())","v":"SC"},{"$f":"VLOOKUP(C3596,Referencias!$B$18:$C$34,2,FALSE())","v":"CN"},"C"]
["3991344","Revuelta de Arana, Carmen","Cántabra","D","Sin Categoría","Competición",4,{"$f":"VLOOKUP(E3597,Referencias!$B$4:$C$15,2,FALSE())","v":"SC"},{"$f":"VLOOKUP(C3597,Referencias!$B$18:$C$34,2,FALSE())","v":"CN"},"C"]
["3991346","Martinez Moro, Margarita","Cántabra","D","Sin Categoría","Competición",4,{"$f":"VLOOKUP(E3598,Referencias!$B$4:$C$15,2,FALSE())","v":"SC"},{"$f":"VLOOKUP(C3598,Referencias!$B$18:$C$34,2,FALSE())","v":"CN"},"C"]
["3991347","Gutierrez Turrión, Mª Isabel","Cántabra","D","Sin Categoría","Competición",4,{"$f":"VLOOKUP(E3599,Referencias!$B$4:$C$15,2,FALSE())","v":"SC"},{"$f":"VLOOKUP(C3599,Referencias!$B$18:$C$34,2,FALSE())","v":"CN"},"C"]
["3991348","Tellez García, Nieves","Cántabra","D","Tercera Corazón","Competición",3,{"$f":"VLOOKUP(E3600,Referencias!$B$4:$C$15,2,FALSE())","v":"3C"},{"$f":"VLOOKUP(C3600,Referencias!$B$18:$C$34,2,FALSE())","v":"CN"},"C"]
["3995612","Blanco Hernández, Guadalupe","Cántabra","D","Segunda Diamante","Competición",2,{"$f":"VLOOKUP(E3601,Referencias!$B$4:$C$15,2,FALSE())","v":"2D"},{"$f":"VLOOKUP(C3601,Referencias!$B$18:$C$34,2,FALSE())","v":"CN"},"C"]
["3995614","Campo Roiz, M. del Carmen","Cántabra","D","Tercera Picas","Competición",3,{"$f":"VLOOKUP(E3602,Referencias!$B$4:$C$15,2,FALSE())","v":"3P"},{"$f":"VLOOKUP(C3602,Referencias!$B$18:$C$34,2,FALSE())","v":"CN"},"C"]
["3995615","Suárez Martínez, Emma","Cántabra","D","Segunda Diamante","Competición",2,{"$f":"VLOOKUP(E3603,Referencias!$B$4:$C$15,2,FALSE())","v":"2D"},{"$f":"VLOOKUP(C3603,Referencias!$B$18:$C$34,2,FALSE())","v":"CN"},"C"]
["3995619","Obregón López-Alonso, Esther","Cántabra","D","Primera Diamante","Competición",1,{"$f":"VLOOKUP(E3604,Referencias!$B$4:$C$15,2,FALSE())","v":"1D"},{"$f":"VLOOKUP(C3604,Referencias!$B$18:$C$34,2,FALSE())","v":"CN"},"C"]
["3995620","Berdia Palazuelos, M. Jesús","Cántabra","D","Primera Diamante","Competición",1,{"$f":"VLOOKUP(E3605,Referencias!$B$4:$C$15,2,FALSE())","v":"1D"},{"$f":"VLOOKUP(C3605,Referencias!$B$18:$C$34,2,FALSE())","v":"CN"},"C"]
["3995626","Díaz-Romeral Iglesias, Pilar","Cántabra","D","Tercera Picas","Competición",3,{"$f":"VLOOKUP(E3606,Referencias!$B$4:$C$15,2,FALSE())","v":"3P"},{"$f":"VLOOKUP(C3606,Referencias!$B$18:$C$34,2,FALSE())","v":"CN"},"C"]
["3995627","Fernández Elguero, Mayca","Cántabra","D","Primera Picas","Competición",1,{"$f":"VLOOKUP(E3607,Referencias!$B$4:$C$15,2,FALSE())","v":"1P"},{"$f":"VLOOKUP(C3607,Referencias!$B$18:$C$34,2,FALSE())","v":"CN"},"C"]
["3995644","Peredo Barquín, M. Cruz","Cántabra","D","Primera Picas","Competición",1,{"$f":"VLOOKUP(E3608,Referencias!$B$4:$C$15,2,FALSE())","v":"1P"},{"$f":"VLOOKUP(C3608,Referencias!$B$18:$C$34,2,FALSE())","v":"CN"},"C"]
["3995651","Sánchez Díaz, M. Angeles","Cántabra","D","Segunda Corazón","Competición",2,{"$f":"VLOOKUP(E3609,Referencias!$B$4:$C$15,2,FALSE())","v":"2C"},{"$f":"VLOOKUP(C3609,Referencias!$B$18:$C$34,2,FALSE())","v":"CN"},"C"]
["3995663","González Marlasca, Blanca","Cántabra","D","Tercera Diamante","Competición",3,{"$f":"VLOOKUP(E3610,Referencias!$B$4:$C$15,2,FALSE())","v":"3D"},{"$f":"VLOOKUP(C3610,Referencias!$B$18:$C$34,2,FALSE())","v":"CN"},"C"]
["4071256","Fenor Luque, Josefina","Castilla y León","D","Tercera Corazón","Competición",3,{"$f":"VLOOKUP(E3611,Referencias!$B$4:$C$15,2,FALSE())","v":"3C"},{"$f":"VLOOKUP(C3611,Referencias!$B$18:$C$34,2,FALSE())","v":"CL"},"C"]
["4161010","Lobo Ruano, Felipe","Andaluza","C","Primera Picas","Competición",1,{"$f":"VLOOKUP(E3612,Referencias!$B$4:$C$15,2,FALSE())","v":"1P"},{"$f":"VLOOKUP(C3612,Referencias!$B$18:$C$34,2,FALSE())","v":"A"},"C"]
["4161011","Nieto Martínez, Lola","Andaluza","D","Primera Picas","Competición",1,{"$f":"VLOOKUP(E3613,Referencias!$B$4:$C$15,2,FALSE())","v":"1P"},{"$f":"VLOOKUP(C3613,Referencias!$B$18:$C$34,2,FALSE())","v":"A"},"C"]
["4161021","Sánchez-Moliní Montes, Antonio","Andaluza","C","Primera Picas","Competición",1,{"$f":"VLOOKUP(E3614,Referencias!$B$4:$C$15,2,FALSE())","v":"1P"},{"$f":"VLOOKUP(C3614,Referencias!$B$18:$C$34,2,FALSE())","v":"A"},"C"]
["4161109","Barbadillo Mateos, Pilar","Andaluza","D","Tercera Picas","Competición",3,{"$f":"VLOOKUP(E3615,Referencias!$B$4:$C$15,2,FALSE())","v":"3P"},{"$f":"VLOOKUP(C3615,Referencias!$B$18:$C$34,2,FALSE())","v":"A"},"C"]
["4161121","Corot, Thierry","Andaluza","C","Segunda Picas","Competición",2,{"$f":"VLOOKUP(E3616,Referencias!$B$4:$C$15,2,FALSE())","v":"2P"},{"$f":"VLOOKUP(C3616,Referencias!$B$18:$C$34,2,FALSE())","v":"A"},"C"]
["4161128","Moreno del Camino, Mercedes","Andaluza","D","Primera Diamante","Competición",1,{"$f":"VLOOKUP(E3617,Referencias!$B$4:$C$15,2,FALSE())","v":"1D"},{"$f":"VLOOKUP(C3617,Referencias!$B$18:$C$34,2,FALSE())","v":"A"},"C"]
["4161173","Palancar Sánchez, Emma","Andaluza","D","Tercera Diamante","Competición",3,{"$f":"VLOOKUP(E3618,Referencias!$B$4:$C$15,2,FALSE())","v":"3D"},{"$f":"VLOOKUP(C3618,Referencias!$B$18:$C$34,2,FALSE())","v":"A"},"C"]
["4161195","Toro Fdez. Peñaranda, Felipe","Andaluza","C","Primera Picas","Competición",1,{"$f":"VLOOKUP(E3619,Referencias!$B$4:$C$15,2,FALSE())","v":"1P"},{"$f":"VLOOKUP(C3619,Referencias!$B$18:$C$34,2,FALSE())","v":"A"},"C"]
["4161239","Gamonal Campos, Pilar","Andaluza","D","Tercera Picas","Competición",3,{"$f":"VLOOKUP(E3620,Referencias!$B$4:$C$15,2,FALSE())","v":"3P"},{"$f":"VLOOKUP(C3620,Referencias!$B$18:$C$34,2,FALSE())","v":"A"},"C"]
["4161286","Fleming Torres, Jorge","Andaluza","C","Tercera Corazón","Competición",3,{"$f":"VLOOKUP(E3621,Referencias!$B$4:$C$15,2,FALSE())","v":"3C"},{"$f":"VLOOKUP(C3621,Referencias!$B$18:$C$34,2,FALSE())","v":"A"},"C"]
["4161287","Miret Borja, Elisa","Andaluza","D","Tercera Corazón","Competición",3,{"$f":"VLOOKUP(E3622,Referencias!$B$4:$C$15,2,FALSE())","v":"3C"},{"$f":"VLOOKUP(C3622,Referencias!$B$18:$C$34,2,FALSE())","v":"A"},"C"]
["4161341","De los Reyes.Vda de Morán, Victoria","Andaluza","D","Tercera Picas","Competición",3,{"$f":"VLOOKUP(E3623,Referencias!$B$4:$C$15,2,FALSE())","v":"3P"},{"$f":"VLOOKUP(C3623,Referencias!$B$18:$C$34,2,FALSE())","v":"A"},"C"]
["4161365","Abancens Vera, Fernando","Andaluza","C","Tercera Diamante","Competición",3,{"$f":"VLOOKUP(E3624,Referencias!$B$4:$C$15,2,FALSE())","v":"3D"},{"$f":"VLOOKUP(C3624,Referencias!$B$18:$C$34,2,FALSE())","v":"A"},"C"]
["4161366","Ruiz Gómez, Mª del Carmen","Andaluza","D","Tercera Diamante","Competición",3,{"$f":"VLOOKUP(E3625,Referencias!$B$4:$C$15,2,FALSE())","v":"3D"},{"$f":"VLOOKUP(C3625,Referencias!$B$18:$C$34,2,FALSE())","v":"A"},"C"]
["4161368","Loring Lasarte, María","Andaluza","D","Tercera Corazón","Competición",3,{"$f":"VLOOKUP(E3626,Referencias!$B$4:$C$15,2,FALSE())","v":"3C"},{"$f":"VLOOKUP(C3626,Referencias!$B$18:$C$34,2,FALSE())","v":"A"},"C"]
["4161420","Rodríguez Gutíerrez, Ana María","Andaluza","D","Sin Categoría","Competición",4,{"$f":"VLOOKUP(E3627,Referencias!$B$4:$C$15,2,FALSE())","v":"SC"},{"$f":"VLOOKUP(C3627,Referencias!$B$18:$C$34,2,FALSE())","v":"A"},"C"]
["4161434","García Fernández, Sebastián","Andaluza","C","Tercera Picas","Competición",3,{"$f":"VLOOKUP(E3628,Referencias!$B$4:$C$15,2,FALSE())","v":"3P"},{"$f":"VLOOKUP(C3628,Referencias!$B$18:$C$34,2,FALSE())","v":"A"},"C"]
["4161435","García Palomero, Félix","Andaluza","C","Tercera Picas","Competición",3,{"$f":"VLOOKUP(E3629,Referencias!$B$4:$C$15,2,FALSE())","v":"3P"},{"$f":"VLOOKUP(C3629,Referencias!$B$18:$C$34,2,FALSE())","v":"A"},"C"]
["4161436","Benjumea de la Cova, Rocío","Andaluza","D","Tercera Corazón","Competición",3,{"$f":"VLOOKUP(E3630,Referencias!$B$4:$C$15,2,FALSE())","v":"3C"},{"$f":"VLOOKUP(C3630,Referencias!$B$18:$C$34,2,FALSE())","v":"A"},"C"]
["4161440","Valenzuela Etayo, Ana","Andaluza","D","Tercera Picas","Competición",3,{"$f":"VLOOKUP(E3631,Referencias!$B$4:$C$15,2,FALSE())","v":"3P"},{"$f":"VLOOKUP(C3631,Referencias!$B$18:$C$34,2,FALSE())","v":"A"},"C"]
["4161441","Algarin Mallol, María Teresa","Andaluza","D","Tercera Diamante","Competición",3,{"$f":"VLOOKUP(E3632,Referencias!$B$4:$C$15,2,FALSE())","v":"3D"},{"$f":"VLOOKUP(C3632,Referencias!$B$18:$C$34,2,FALSE())","v":"A"},"C"]
["4161442","Nuñez Rodríguez Armijo, Angeli","Andaluza","D","Segunda Diamante","Competición",2,{"$f":"VLOOKUP(E3633,Referencias!$B$4:$C$15,2,FALSE())","v":"2D"},{"$f":"VLOOKUP(C3633,Referencias!$B$18:$C$34,2,FALSE())","v":"A"},"C"]
["4161443","Candau Morón, Luisa","Andaluza","D","Tercera Diamante","Competición",3,{"$f":"VLOOKUP(E3634,Referencias!$B$4:$C$15,2,FALSE())","v":"3D"},{"$f":"VLOOKUP(C3634,Referencias!$B$18:$C$34,2,FALSE())","v":"A"},"C"]
["4161445","Campos Ramos, Matilde","Andaluza","D","Tercera Diamante","Competición",3,{"$f":"VLOOKUP(E3635,Referencias!$B$4:$C$15,2,FALSE())","v":"3D"},{"$f":"VLOOKUP(C3635,Referencias!$B$18:$C$34,2,FALSE())","v":"A"},"C"]
["4161498","Castillo Martínez, Mª Eulalia","Andaluza","D","Tercera Diamante","Competición",3,{"$f":"VLOOKUP(E3636,Referencias!$B$4:$C$15,2,FALSE())","v":"3D"},{"$f":"VLOOKUP(C3636,Referencias!$B$18:$C$34,2,FALSE())","v":"A"},"C"]
["4161499","Nadal Uriguen, Mª Concepción","Andaluza","D","Sin Categoría","Competición",4,{"$f":"VLOOKUP(E3637,Referencias!$B$4:$C$15,2,FALSE())","v":"SC"},{"$f":"VLOOKUP(C3637,Referencias!$B$18:$C$34,2,FALSE())","v":"A"},"C"]
["4161502","Tejera Plasencia, Mª Concepción","Andaluza","D","Tercera Diamante","Competición",3,{"$f":"VLOOKUP(E3638,Referencias!$B$4:$C$15,2,FALSE())","v":"3D"},{"$f":"VLOOKUP(C3638,Referencias!$B$18:$C$34,2,FALSE())","v":"A"},"C"]
["4161518","Osborne Sanz-Magallón, Rocío","Andaluza","D","Segunda Diamante","Competición",2,{"$f":"VLOOKUP(E3639,Referencias!$B$4:$C$15,2,FALSE())","v":"2D"},{"$f":"VLOOKUP(C3639,Referencias!$B$18:$C$34,2,FALSE())","v":"A"},"C"]
["4161519","Torres-Quevedo González, Isabel","Andaluza","D","Tercera Picas","Competición",3,{"$f":"VLOOKUP(E3640,Referencias!$B$4:$C$15,2,FALSE())","v":"3P"},{"$f":"VLOOKUP(C3640,Referencias!$B$18:$C$34,2,FALSE())","v":"A"},"C"]
["4161520","Caracuel Vidal, Fernando","Andaluza","C","Sin Categoría","Competición",4,{"$f":"VLOOKUP(E3641,Referencias!$B$4:$C$15,2,FALSE())","v":"SC"},{"$f":"VLOOKUP(C3641,Referencias!$B$18:$C$34,2,FALSE())","v":"A"},"C"]
["4161524","Arbona Prini, Joaquín","Andaluza","C","Tercera Diamante","Competición",3,{"$f":"VLOOKUP(E3642,Referencias!$B$4:$C$15,2,FALSE())","v":"3D"},{"$f":"VLOOKUP(C3642,Referencias!$B$18:$C$34,2,FALSE())","v":"A"},"C"]
["4161543","Sanz Cepeda, Mercedes","Andaluza","D","Tercera Picas","Competición",3,{"$f":"VLOOKUP(E3643,Referencias!$B$4:$C$15,2,FALSE())","v":"3P"},{"$f":"VLOOKUP(C3643,Referencias!$B$18:$C$34,2,FALSE())","v":"A"},"C"]
["4161545","De Bonilla Blanes, Antonio","Andaluza","C","Segunda Diamante","Competición",2,{"$f":"VLOOKUP(E3644,Referencias!$B$4:$C$15,2,FALSE())","v":"2D"},{"$f":"VLOOKUP(C3644,Referencias!$B$18:$C$34,2,FALSE())","v":"A"},"C"]
["4161547","Gómez Martínez, Ana","Andaluza","D","Sin Categoría","Competición",4,{"$f":"VLOOKUP(E3645,Referencias!$B$4:$C$15,2,FALSE())","v":"SC"},{"$f":"VLOOKUP(C3645,Referencias!$B$18:$C$34,2,FALSE())","v":"A"},"C"]
["4161548","López Ruibal, Margarita","Andaluza","D","Sin Categoría","Competición",4,{"$f":"VLOOKUP(E3646,Referencias!$B$4:$C$15,2,FALSE())","v":"SC"},{"$f":"VLOOKUP(C3646,Referencias!$B$18:$C$34,2,FALSE())","v":"A"},"C"]
["4161553","Izquierdo Moya, Pilar","Andaluza","D","Segunda Diamante","Competición",2,{"$f":"VLOOKUP(E3647,Referencias!$B$4:$C$15,2,FALSE())","v":"2D"},{"$f":"VLOOKUP(C3647,Referencias!$B$18:$C$34,2,FALSE())","v":"A"},"C"]
["4161555","Fernández-Galiano, María Pepa","Andaluza","D","Tercera Corazón","Competición",3,{"$f":"VLOOKUP(E3648,Referencias!$B$4:$C$15,2,FALSE())","v":"3C"},{"$f":"VLOOKUP(C3648,Referencias!$B$18:$C$34,2,FALSE())","v":"A"},{"$f":"IF(D3648=\"Dama\",\"D\",\"C\")","v":"C"}]
["4161558","Torroba Laviña, Ana","Andaluza","D","Tercera Corazón","Competición",3,{"$f":"VLOOKUP(E3649,Referencias!$B$4:$C$15,2,FALSE())","v":"3C"},{"$f":"VLOOKUP(C3649,Referencias!$B$18:$C$34,2,FALSE())","v":"A"},"C"]
["4161560","Roca de Togores Pérez de Guzman, Felipe","Andaluza","C","Tercera Corazón","Competición",3,{"$f":"VLOOKUP(E3650,Referencias!$B$4:$C$15,2,FALSE())","v":"3C"},{"$f":"VLOOKUP(C3650,Referencias!$B$18:$C$34,2,FALSE())","v":"A"},"C"]
["4161564","Alvarez Monsa, María del Carmen","Andaluza","D","Tercera Corazón","Competición",3,{"$f":"VLOOKUP(E3651,Referencias!$B$4:$C$15,2,FALSE())","v":"3C"},{"$f":"VLOOKUP(C3651,Referencias!$B$18:$C$34,2,FALSE())","v":"A"},"C"]
["4161585","Fernández-Borrero García-Pinillos, Pilar","Andaluza","D","Tercera Diamante","Competición",3,{"$f":"VLOOKUP(E3652,Referencias!$B$4:$C$15,2,FALSE())","v":"3D"},{"$f":"VLOOKUP(C3652,Referencias!$B$18:$C$34,2,FALSE())","v":"A"},"C"]
["4161593","Freitag Voelsing, Regina","Andaluza","D","Tercera Corazón","Competición",3,{"$f":"VLOOKUP(E3653,Referencias!$B$4:$C$15,2,FALSE())","v":"3C"},{"$f":"VLOOKUP(C3653,Referencias!$B$18:$C$34,2,FALSE())","v":"A"},"C"]
["4161623","Colletti, Bruno Raffaele Maria","Andaluza","C","Primera Diamante","Competición",1,{"$f":"VLOOKUP(E3654,Referencias!$B$4:$C$15,2,FALSE())","v":"1D"},{"$f":"VLOOKUP(C3654,Referencias!$B$18:$C$34,2,FALSE())","v":"A"},"C"]
["4161644","Morenes Giles, María José","Andaluza","D","Tercera Diamante","Competición",3,{"$f":"VLOOKUP(E3655,Referencias!$B$4:$C$15,2,FALSE())","v":"3D"},{"$f":"VLOOKUP(C3655,Referencias!$B$18:$C$34,2,FALSE())","v":"A"},"C"]
["4161646","Navarro Carrión, Mª del Pilar","Andaluza","D","Sin Categoría","Competición",4,{"$f":"VLOOKUP(E3656,Referencias!$B$4:$C$15,2,FALSE())","v":"SC"},{"$f":"VLOOKUP(C3656,Referencias!$B$18:$C$34,2,FALSE())","v":"A"},"C"]
["4161654","Sebastian Bueno, Javier","Andaluza","C","Tercera Corazón","Competición",3,{"$f":"VLOOKUP(E3657,Referencias!$B$4:$C$15,2,FALSE())","v":"3C"},{"$f":"VLOOKUP(C3657,Referencias!$B$18:$C$34,2,FALSE())","v":"A"},"C"]
["4161656","Muñoz Ybarra, Iñigo de Loyola","Andaluza","C","Tercera Diamante","Competición",3,{"$f":"VLOOKUP(E3658,Referencias!$B$4:$C$15,2,FALSE())","v":"3D"},{"$f":"VLOOKUP(C3658,Referencias!$B$18:$C$34,2,FALSE())","v":"A"},"C"]
["4161657","Rousseau Vincente, Cecile","Andaluza","D","Segunda Corazón","Competición",2,{"$f":"VLOOKUP(E3659,Referencias!$B$4:$C$15,2,FALSE())","v":"2C"},{"$f":"VLOOKUP(C3659,Referencias!$B$18:$C$34,2,FALSE())","v":"A"},"C"]
["4161682","Molina Segovia, Carmen","Andaluza","D","Tercera Diamante","Competición",3,{"$f":"VLOOKUP(E3660,Referencias!$B$4:$C$15,2,FALSE())","v":"3D"},{"$f":"VLOOKUP(C3660,Referencias!$B$18:$C$34,2,FALSE())","v":"A"},"C"]
["4161688","Carranza Güel, Pilar","Andaluza","D","Sin Categoría","Competición",4,{"$f":"VLOOKUP(E3661,Referencias!$B$4:$C$15,2,FALSE())","v":"SC"},{"$f":"VLOOKUP(C3661,Referencias!$B$18:$C$34,2,FALSE())","v":"A"},"C"]
["4161689","Portellano Caballero, Mercedes","Andaluza","D","Tercera Diamante","Competición",3,{"$f":"VLOOKUP(E3662,Referencias!$B$4:$C$15,2,FALSE())","v":"3D"},{"$f":"VLOOKUP(C3662,Referencias!$B$18:$C$34,2,FALSE())","v":"A"},"C"]
["4161693","Fernández-Castaño Merediz, Brezo","Andaluza","C","Sin Categoría","Competición",4,{"$f":"VLOOKUP(E3663,Referencias!$B$4:$C$15,2,FALSE())","v":"SC"},{"$f":"VLOOKUP(C3663,Referencias!$B$18:$C$34,2,FALSE())","v":"A"},"C"]
["4161695","Barragan White, Carmen","Andaluza","D","Tercera Diamante","Competición",3,{"$f":"VLOOKUP(E3664,Referencias!$B$4:$C$15,2,FALSE())","v":"3D"},{"$f":"VLOOKUP(C3664,Referencias!$B$18:$C$34,2,FALSE())","v":"A"},"C"]
["4161700","Gortazar Fita, Iñigo","Andaluza","C","Segunda Diamante","Competición",2,{"$f":"VLOOKUP(E3665,Referencias!$B$4:$C$15,2,FALSE())","v":"2D"},{"$f":"VLOOKUP(C3665,Referencias!$B$18:$C$34,2,FALSE())","v":"A"},"C"]
["4161703","Sánz Fernández, Marta","Andaluza","D","Tercera Diamante","Competición",3,{"$f":"VLOOKUP(E3666,Referencias!$B$4:$C$15,2,FALSE())","v":"3D"},{"$f":"VLOOKUP(C3666,Referencias!$B$18:$C$34,2,FALSE())","v":"A"},"C"]
["4161704","Patterson, Leslie","Andaluza","D","Tercera Diamante","Competición",3,{"$f":"VLOOKUP(E3667,Referencias!$B$4:$C$15,2,FALSE())","v":"3D"},{"$f":"VLOOKUP(C3667,Referencias!$B$18:$C$34,2,FALSE())","v":"A"},"C"]
["4161706","Alonso González, Yolanda","Andaluza","D","Sin Categoría","Competición",4,{"$f":"VLOOKUP(E3668,Referencias!$B$4:$C$15,2,FALSE())","v":"SC"},{"$f":"VLOOKUP(C3668,Referencias!$B$18:$C$34,2,FALSE())","v":"A"},"C"]
["4161722","Romero Fernández, Inmaculada","Andaluza","D","Tercera Diamante","Competición",3,{"$f":"VLOOKUP(E3669,Referencias!$B$4:$C$15,2,FALSE())","v":"3D"},{"$f":"VLOOKUP(C3669,Referencias!$B$18:$C$34,2,FALSE())","v":"A"},"C"]
["4161723","Furest Rivero, María Ángeles","Andaluza","D","Tercera Diamante","Competición",3,{"$f":"VLOOKUP(E3670,Referencias!$B$4:$C$15,2,FALSE())","v":"3D"},{"$f":"VLOOKUP(C3670,Referencias!$B$18:$C$34,2,FALSE())","v":"A"},"C"]
["4161728","Gil-Delgado Andrada, Antonia","Andaluza","C","Sin Categoría","Competición",4,{"$f":"VLOOKUP(E3671,Referencias!$B$4:$C$15,2,FALSE())","v":"SC"},{"$f":"VLOOKUP(C3671,Referencias!$B$18:$C$34,2,FALSE())","v":"A"},"C"]
["4161733","Arteaga Alarcón, Francisco","Andaluza","C","Sin Categoría","Competición",4,{"$f":"VLOOKUP(E3672,Referencias!$B$4:$C$15,2,FALSE())","v":"SC"},{"$f":"VLOOKUP(C3672,Referencias!$B$18:$C$34,2,FALSE())","v":"A"},"C"]
["4161734","Vázquez Valenzuela, Rafael","Andaluza","C","Tercera Picas","Competición",3,{"$f":"VLOOKUP(E3673,Referencias!$B$4:$C$15,2,FALSE())","v":"3P"},{"$f":"VLOOKUP(C3673,Referencias!$B$18:$C$34,2,FALSE())","v":"A"},"C"]
["4161735","Alcañiz García, Miguel","Andaluza","C","Tercera Corazón","Competición",3,{"$f":"VLOOKUP(E3674,Referencias!$B$4:$C$15,2,FALSE())","v":"3C"},{"$f":"VLOOKUP(C3674,Referencias!$B$18:$C$34,2,FALSE())","v":"A"},"C"]
["4161736","Gonzalo de Bustos, Fernando","Andaluza","C","Sin Categoría","Competición",4,{"$f":"VLOOKUP(E3675,Referencias!$B$4:$C$15,2,FALSE())","v":"SC"},{"$f":"VLOOKUP(C3675,Referencias!$B$18:$C$34,2,FALSE())","v":"A"},"C"]
["4161755","Casotti, Camilla","Andaluza","D","Tercera Diamante","Competición",3,{"$f":"VLOOKUP(E3676,Referencias!$B$4:$C$15,2,FALSE())","v":"3D"},{"$f":"VLOOKUP(C3676,Referencias!$B$18:$C$34,2,FALSE())","v":"A"},"C"]
["4161776","François, Martine","Andaluza","D","Sin Categoría","Competición - Cloned",4,{"$f":"VLOOKUP(E3677,Referencias!$B$4:$C$15,2,FALSE())","v":"SC"},{"$f":"VLOOKUP(C3677,Referencias!$B$18:$C$34,2,FALSE())","v":"A"},"C"]
["4167002","Enrile de Peman, M. Pilar","Andaluza","D","Segunda Diamante","Competición",2,{"$f":"VLOOKUP(E3678,Referencias!$B$4:$C$15,2,FALSE())","v":"2D"},{"$f":"VLOOKUP(C3678,Referencias!$B$18:$C$34,2,FALSE())","v":"A"},"C"]
["4167003","Peman Medina, Juan G.","Andaluza","C","Segunda Diamante","Competición",2,{"$f":"VLOOKUP(E3679,Referencias!$B$4:$C$15,2,FALSE())","v":"2D"},{"$f":"VLOOKUP(C3679,Referencias!$B$18:$C$34,2,FALSE())","v":"A"},"C"]
["4167420","Charlo Ortiz-Repiso, Ramón","Andaluza","C","Segunda Corazón","Competición",2,{"$f":"VLOOKUP(E3680,Referencias!$B$4:$C$15,2,FALSE())","v":"2C"},{"$f":"VLOOKUP(C3680,Referencias!$B$18:$C$34,2,FALSE())","v":"A"},"C"]
["4167421","De Bonilla de Charlo, María","Andaluza","D","Primera Diamante","Competición",1,{"$f":"VLOOKUP(E3681,Referencias!$B$4:$C$15,2,FALSE())","v":"1D"},{"$f":"VLOOKUP(C3681,Referencias!$B$18:$C$34,2,FALSE())","v":"A"},"C"]
["4167438","Gómez-Uribarri Meleiro, José Antonio","Andaluza","C","Primera Picas","Competición",1,{"$f":"VLOOKUP(E3682,Referencias!$B$4:$C$15,2,FALSE())","v":"1P"},{"$f":"VLOOKUP(C3682,Referencias!$B$18:$C$34,2,FALSE())","v":"A"},"C"]
["4167444","Maza Burgos, Javier","Andaluza","C","Primera Picas","Competición",1,{"$f":"VLOOKUP(E3683,Referencias!$B$4:$C$15,2,FALSE())","v":"1P"},{"$f":"VLOOKUP(C3683,Referencias!$B$18:$C$34,2,FALSE())","v":"A"},"C"]
["4167460","Barón Rivero, Luis","Andaluza","C","Primera Picas","Competición",1,{"$f":"VLOOKUP(E3684,Referencias!$B$4:$C$15,2,FALSE())","v":"1P"},{"$f":"VLOOKUP(C3684,Referencias!$B$18:$C$34,2,FALSE())","v":"A"},"C"]
["4167468","Solari Caballer, Dora","Andaluza","D","Segunda Diamante","Competición",2,{"$f":"VLOOKUP(E3685,Referencias!$B$4:$C$15,2,FALSE())","v":"2D"},{"$f":"VLOOKUP(C3685,Referencias!$B$18:$C$34,2,FALSE())","v":"A"},"C"]
["4167488","Salinas Mila, Alvaro","Andaluza","C","Primera Picas","Competición",1,{"$f":"VLOOKUP(E3686,Referencias!$B$4:$C$15,2,FALSE())","v":"1P"},{"$f":"VLOOKUP(C3686,Referencias!$B$18:$C$34,2,FALSE())","v":"A"},"C"]
["4167494","Crespo de Gómez Uribarri, Benjamina","Andaluza","D","Primera Diamante","Competición",1,{"$f":"VLOOKUP(E3687,Referencias!$B$4:$C$15,2,FALSE())","v":"1D"},{"$f":"VLOOKUP(C3687,Referencias!$B$18:$C$34,2,FALSE())","v":"A"},"C"]
["4167503","Toro Fernández de Peñaranda, José María","Andaluza","C","Primera Corazón","Competición",1,{"$f":"VLOOKUP(E3688,Referencias!$B$4:$C$15,2,FALSE())","v":"1C"},{"$f":"VLOOKUP(C3688,Referencias!$B$18:$C$34,2,FALSE())","v":"A"},"C"]
["4322015","Plaza Bustos, Josefa","AEB","D","Tercera Picas","Competición",3,{"$f":"VLOOKUP(E3689,Referencias!$B$4:$C$15,2,FALSE())","v":"3P"},{"$f":"VLOOKUP(C3689,Referencias!$B$18:$C$34,2,FALSE())","v":{"$error":"#N/A"}},"C"]
["4641051","Azpitarte Camy, Antonio","Levantina","C","Primera Corazón","Competición",1,{"$f":"VLOOKUP(E3690,Referencias!$B$4:$C$15,2,FALSE())","v":"1C"},{"$f":"VLOOKUP(C3690,Referencias!$B$18:$C$34,2,FALSE())","v":"V"},"C"]
["4641064","Caffarena Raggio, José M.","Levantina","C","Primera Corazón","Competición",1,{"$f":"VLOOKUP(E3691,Referencias!$B$4:$C$15,2,FALSE())","v":"1C"},{"$f":"VLOOKUP(C3691,Referencias!$B$18:$C$34,2,FALSE())","v":"V"},"C"]
["4641065","Beltran Serrano, María Luisa","Levantina","D","Primera Picas","Competición",1,{"$f":"VLOOKUP(E3692,Referencias!$B$4:$C$15,2,FALSE())","v":"1P"},{"$f":"VLOOKUP(C3692,Referencias!$B$18:$C$34,2,FALSE())","v":"V"},"C"]
["4641092","Pardo Arquer, Amparo","Levantina","D","Sin Categoría","Competición",4,{"$f":"VLOOKUP(E3693,Referencias!$B$4:$C$15,2,FALSE())","v":"SC"},{"$f":"VLOOKUP(C3693,Referencias!$B$18:$C$34,2,FALSE())","v":"V"},"C"]
["4641103","Igual Aguirre, Mercedes","Levantina","D","Segunda Corazón","Competición",2,{"$f":"VLOOKUP(E3694,Referencias!$B$4:$C$15,2,FALSE())","v":"2C"},{"$f":"VLOOKUP(C3694,Referencias!$B$18:$C$34,2,FALSE())","v":"V"},"C"]
["4641115","Utrilla Suarez, Amparo","Levantina","D","Segunda Corazón","Competición",2,{"$f":"VLOOKUP(E3695,Referencias!$B$4:$C$15,2,FALSE())","v":"2C"},{"$f":"VLOOKUP(C3695,Referencias!$B$18:$C$34,2,FALSE())","v":"V"},"C"]
["4641130","Beneyto Moreno, María José","Levantina","D","Tercera Picas","Competición",3,{"$f":"VLOOKUP(E3696,Referencias!$B$4:$C$15,2,FALSE())","v":"3P"},{"$f":"VLOOKUP(C3696,Referencias!$B$18:$C$34,2,FALSE())","v":"V"},"C"]
["4641133","Carrasco Rodero, María Luisa","Levantina","D","Tercera Corazón","Competición",3,{"$f":"VLOOKUP(E3697,Referencias!$B$4:$C$15,2,FALSE())","v":"3C"},{"$f":"VLOOKUP(C3697,Referencias!$B$18:$C$34,2,FALSE())","v":"V"},"C"]
["4641136","Daroz Casamayor, Carmen","Levantina","D","Segunda Diamante","Competición",2,{"$f":"VLOOKUP(E3698,Referencias!$B$4:$C$15,2,FALSE())","v":"2D"},{"$f":"VLOOKUP(C3698,Referencias!$B$18:$C$34,2,FALSE())","v":"V"},"C"]
["4641138","Ramón Huguet, Matilde","Levantina","D","Sin Categoría","Competición",4,{"$f":"VLOOKUP(E3699,Referencias!$B$4:$C$15,2,FALSE())","v":"SC"},{"$f":"VLOOKUP(C3699,Referencias!$B$18:$C$34,2,FALSE())","v":"V"},"C"]
["4641142","Saez Pérez, Pepa","Levantina","D","Segunda Picas","Competición",2,{"$f":"VLOOKUP(E3700,Referencias!$B$4:$C$15,2,FALSE())","v":"2P"},{"$f":"VLOOKUP(C3700,Referencias!$B$18:$C$34,2,FALSE())","v":"V"},"C"]
["4641144","Muñoz y Muñoz, Ana María","Levantina","D","Segunda Corazón","Competición",2,{"$f":"VLOOKUP(E3701,Referencias!$B$4:$C$15,2,FALSE())","v":"2C"},{"$f":"VLOOKUP(C3701,Referencias!$B$18:$C$34,2,FALSE())","v":"V"},"C"]
["4641147","Burriel de Orueta, Elvira","Levantina","D","Primera Picas","Competición",1,{"$f":"VLOOKUP(E3702,Referencias!$B$4:$C$15,2,FALSE())","v":"1P"},{"$f":"VLOOKUP(C3702,Referencias!$B$18:$C$34,2,FALSE())","v":"V"},"C"]
["4641161","Liddy, Brian","Levantina","C","Primera Picas","Competición",1,{"$f":"VLOOKUP(E3703,Referencias!$B$4:$C$15,2,FALSE())","v":"1P"},{"$f":"VLOOKUP(C3703,Referencias!$B$18:$C$34,2,FALSE())","v":"V"},"C"]
["4641171","Manglano Trenor, Pilar","Levantina","D","Tercera Picas","Competición",3,{"$f":"VLOOKUP(E3704,Referencias!$B$4:$C$15,2,FALSE())","v":"3P"},{"$f":"VLOOKUP(C3704,Referencias!$B$18:$C$34,2,FALSE())","v":"V"},"C"]
["4641173","Morales Gabriel, M. José","Levantina","D","Tercera Picas","Competición",3,{"$f":"VLOOKUP(E3705,Referencias!$B$4:$C$15,2,FALSE())","v":"3P"},{"$f":"VLOOKUP(C3705,Referencias!$B$18:$C$34,2,FALSE())","v":"V"},"C"]
["4641175","Ballester Ríos, Andrés","Levantina","C","Tercera Picas","Competición",3,{"$f":"VLOOKUP(E3706,Referencias!$B$4:$C$15,2,FALSE())","v":"3P"},{"$f":"VLOOKUP(C3706,Referencias!$B$18:$C$34,2,FALSE())","v":"V"},"C"]
["4641177","Borso di Carminati, Consuelo","Levantina","D","Tercera Picas","Competición",3,{"$f":"VLOOKUP(E3707,Referencias!$B$4:$C$15,2,FALSE())","v":"3P"},{"$f":"VLOOKUP(C3707,Referencias!$B$18:$C$34,2,FALSE())","v":"V"},"C"]
["4641204","Aquilino Mira, Ana María","Levantina","D","Primera Corazón","Competición",1,{"$f":"VLOOKUP(E3708,Referencias!$B$4:$C$15,2,FALSE())","v":"1C"},{"$f":"VLOOKUP(C3708,Referencias!$B$18:$C$34,2,FALSE())","v":"V"},"C"]
["4641225","Grima Vadillo, Angela","Levantina","D","Tercera Corazón","Competición",3,{"$f":"VLOOKUP(E3709,Referencias!$B$4:$C$15,2,FALSE())","v":"3C"},{"$f":"VLOOKUP(C3709,Referencias!$B$18:$C$34,2,FALSE())","v":"V"},"C"]
["4641242","Pfingsten, Ursula","Levantina","D","Tercera Corazón","Competición",3,{"$f":"VLOOKUP(E3710,Referencias!$B$4:$C$15,2,FALSE())","v":"3C"},{"$f":"VLOOKUP(C3710,Referencias!$B$18:$C$34,2,FALSE())","v":"V"},"C"]
["4641299","Plana Estruch, Francisco J.","Levantina","C","Primera Corazón","Competición",1,{"$f":"VLOOKUP(E3711,Referencias!$B$4:$C$15,2,FALSE())","v":"1C"},{"$f":"VLOOKUP(C3711,Referencias!$B$18:$C$34,2,FALSE())","v":"V"},"C"]
["4641304","Pinto Poch, Enrique","Levantina","C","Primera Corazón","Competición",1,{"$f":"VLOOKUP(E3712,Referencias!$B$4:$C$15,2,FALSE())","v":"1C"},{"$f":"VLOOKUP(C3712,Referencias!$B$18:$C$34,2,FALSE())","v":"V"},{"$f":"IF(D3712=\"Dama\",\"D\",\"C\")","v":"C"}]
["4641310","Calvar, Ana Mª","Levantina","D","Segunda Corazón","Competición",2,{"$f":"VLOOKUP(E3713,Referencias!$B$4:$C$15,2,FALSE())","v":"2C"},{"$f":"VLOOKUP(C3713,Referencias!$B$18:$C$34,2,FALSE())","v":"V"},"C"]
["4641339","LLombart Rosa, Mª Cruz","Levantina","D","Tercera Picas","Competición",3,{"$f":"VLOOKUP(E3714,Referencias!$B$4:$C$15,2,FALSE())","v":"3P"},{"$f":"VLOOKUP(C3714,Referencias!$B$18:$C$34,2,FALSE())","v":"V"},"C"]
["4641358","García Bernia, Ana","Levantina","D","Segunda Picas","Competición",2,{"$f":"VLOOKUP(E3715,Referencias!$B$4:$C$15,2,FALSE())","v":"2P"},{"$f":"VLOOKUP(C3715,Referencias!$B$18:$C$34,2,FALSE())","v":"V"},"C"]
["4641363","Barnes Fernández, Marta","Levantina","D","Primera Picas","Competición",1,{"$f":"VLOOKUP(E3716,Referencias!$B$4:$C$15,2,FALSE())","v":"1P"},{"$f":"VLOOKUP(C3716,Referencias!$B$18:$C$34,2,FALSE())","v":"V"},"C"]
["4641369","Roca Tudela, Mª Paz","Levantina","D","Tercera Picas","Competición",3,{"$f":"VLOOKUP(E3717,Referencias!$B$4:$C$15,2,FALSE())","v":"3P"},{"$f":"VLOOKUP(C3717,Referencias!$B$18:$C$34,2,FALSE())","v":"V"},"C"]
["4641380","Chulia Tamarit, Concha","Levantina","D","Segunda Picas","Competición",2,{"$f":"VLOOKUP(E3718,Referencias!$B$4:$C$15,2,FALSE())","v":"2P"},{"$f":"VLOOKUP(C3718,Referencias!$B$18:$C$34,2,FALSE())","v":"V"},"C"]
["4641388","Granell Hernández, Fina","Levantina","D","Tercera Corazón","Competición",3,{"$f":"VLOOKUP(E3719,Referencias!$B$4:$C$15,2,FALSE())","v":"3C"},{"$f":"VLOOKUP(C3719,Referencias!$B$18:$C$34,2,FALSE())","v":"V"},"C"]
["4641398","Gómez-Ferrer Bonet, Mónica","Levantina","D","Tercera Picas","Competición",3,{"$f":"VLOOKUP(E3720,Referencias!$B$4:$C$15,2,FALSE())","v":"3P"},{"$f":"VLOOKUP(C3720,Referencias!$B$18:$C$34,2,FALSE())","v":"V"},"C"]
["4641402","Prat Cambronero, Carlos","Levantina","C","Sin Categoría","Competición",4,{"$f":"VLOOKUP(E3721,Referencias!$B$4:$C$15,2,FALSE())","v":"SC"},{"$f":"VLOOKUP(C3721,Referencias!$B$18:$C$34,2,FALSE())","v":"V"},"C"]
["4641414","Marín Pérez, Mª Victoria","Levantina","D","Sin Categoría","Competición",4,{"$f":"VLOOKUP(E3722,Referencias!$B$4:$C$15,2,FALSE())","v":"SC"},{"$f":"VLOOKUP(C3722,Referencias!$B$18:$C$34,2,FALSE())","v":"V"},"C"]
["4641440","Plasencia Martorell, Mª José","Levantina","D","Segunda Diamante","Competición",2,{"$f":"VLOOKUP(E3723,Referencias!$B$4:$C$15,2,FALSE())","v":"2D"},{"$f":"VLOOKUP(C3723,Referencias!$B$18:$C$34,2,FALSE())","v":"V"},"C"]
["4641465","Hahn Todd, Nuala","Levantina","D","Tercera Picas","Competición",3,{"$f":"VLOOKUP(E3724,Referencias!$B$4:$C$15,2,FALSE())","v":"3P"},{"$f":"VLOOKUP(C3724,Referencias!$B$18:$C$34,2,FALSE())","v":"V"},"C"]
["4641473","García Pérez, Jesús","Levantina","C","Segunda Diamante","Competición",2,{"$f":"VLOOKUP(E3725,Referencias!$B$4:$C$15,2,FALSE())","v":"2D"},{"$f":"VLOOKUP(C3725,Referencias!$B$18:$C$34,2,FALSE())","v":"V"},"C"]
["4641499","Pérez Pla, Asunción","Levantina","D","Tercera Corazón","Competición",3,{"$f":"VLOOKUP(E3726,Referencias!$B$4:$C$15,2,FALSE())","v":"3C"},{"$f":"VLOOKUP(C3726,Referencias!$B$18:$C$34,2,FALSE())","v":"V"},"C"]
["4641500","Echazarreta Guillen, Cary","Levantina","D","Tercera Corazón","Competición",3,{"$f":"VLOOKUP(E3727,Referencias!$B$4:$C$15,2,FALSE())","v":"3C"},{"$f":"VLOOKUP(C3727,Referencias!$B$18:$C$34,2,FALSE())","v":"V"},"C"]
["4641505","Botella Arbona, Carmina","Levantina","D","Primera Picas","Competición",1,{"$f":"VLOOKUP(E3728,Referencias!$B$4:$C$15,2,FALSE())","v":"1P"},{"$f":"VLOOKUP(C3728,Referencias!$B$18:$C$34,2,FALSE())","v":"V"},"C"]
["4641509","Momparler Carrasco, Mª Angeles","Levantina","D","Tercera Corazón","Competición",3,{"$f":"VLOOKUP(E3729,Referencias!$B$4:$C$15,2,FALSE())","v":"3C"},{"$f":"VLOOKUP(C3729,Referencias!$B$18:$C$34,2,FALSE())","v":"V"},"C"]
["4641510","Carbonell, Ana Mª","Levantina","D","Tercera Corazón","Competición",3,{"$f":"VLOOKUP(E3730,Referencias!$B$4:$C$15,2,FALSE())","v":"3C"},{"$f":"VLOOKUP(C3730,Referencias!$B$18:$C$34,2,FALSE())","v":"V"},"C"]
["4641522","Gandia Montagut, Ana María","Levantina","D","Sin Categoría","Competición",4,{"$f":"VLOOKUP(E3731,Referencias!$B$4:$C$15,2,FALSE())","v":"SC"},{"$f":"VLOOKUP(C3731,Referencias!$B$18:$C$34,2,FALSE())","v":"V"},"C"]
["4641541","Gonçalves Caballer, Pedro","Levantina","C","Maestro Nacional","Competición",0,{"$f":"VLOOKUP(E3732,Referencias!$B$4:$C$15,2,FALSE())","v":"MN"},{"$f":"VLOOKUP(C3732,Referencias!$B$18:$C$34,2,FALSE())","v":"V"},"C"]
["4641545","Guillén Guillén, Ramón","Levantina","C","Tercera Corazón","Competición",3,{"$f":"VLOOKUP(E3733,Referencias!$B$4:$C$15,2,FALSE())","v":"3C"},{"$f":"VLOOKUP(C3733,Referencias!$B$18:$C$34,2,FALSE())","v":"V"},"C"]
["4641546","Ros Anoll, María Dolores","Levantina","D","Sin Categoría","Competición",4,{"$f":"VLOOKUP(E3734,Referencias!$B$4:$C$15,2,FALSE())","v":"SC"},{"$f":"VLOOKUP(C3734,Referencias!$B$18:$C$34,2,FALSE())","v":"V"},"C"]
["4641576","Gil García, Olga","Levantina","D","Segunda Corazón","Competición",2,{"$f":"VLOOKUP(E3735,Referencias!$B$4:$C$15,2,FALSE())","v":"2C"},{"$f":"VLOOKUP(C3735,Referencias!$B$18:$C$34,2,FALSE())","v":"V"},"C"]
["4641579","Donat Doménech, Julia","Levantina","D","Tercera Picas","Competición",3,{"$f":"VLOOKUP(E3736,Referencias!$B$4:$C$15,2,FALSE())","v":"3P"},{"$f":"VLOOKUP(C3736,Referencias!$B$18:$C$34,2,FALSE())","v":"V"},"C"]
["4641588","Alcocer Turégano, Juan","Levantina","C","Sin Categoría","Competición",4,{"$f":"VLOOKUP(E3737,Referencias!$B$4:$C$15,2,FALSE())","v":"SC"},{"$f":"VLOOKUP(C3737,Referencias!$B$18:$C$34,2,FALSE())","v":"V"},"C"]
["4641589","Yuste Lis, Mari Carmen","Levantina","D","Segunda Diamante","Competición",2,{"$f":"VLOOKUP(E3738,Referencias!$B$4:$C$15,2,FALSE())","v":"2D"},{"$f":"VLOOKUP(C3738,Referencias!$B$18:$C$34,2,FALSE())","v":"V"},"C"]
["4641613","Soriano Domínguez, Amparo","Levantina","D","Tercera Picas","Competición",3,{"$f":"VLOOKUP(E3739,Referencias!$B$4:$C$15,2,FALSE())","v":"3P"},{"$f":"VLOOKUP(C3739,Referencias!$B$18:$C$34,2,FALSE())","v":"V"},"C"]
["4641619","Guimera O´Dogherty, Matilde","Andaluza","D","Primera Diamante","Competición",1,{"$f":"VLOOKUP(E3740,Referencias!$B$4:$C$15,2,FALSE())","v":"1D"},{"$f":"VLOOKUP(C3740,Referencias!$B$18:$C$34,2,FALSE())","v":"A"},"C"]
["4641624","Llobell Martínez, Cristina","Levantina","D","Tercera Diamante","Competición",3,{"$f":"VLOOKUP(E3741,Referencias!$B$4:$C$15,2,FALSE())","v":"3D"},{"$f":"VLOOKUP(C3741,Referencias!$B$18:$C$34,2,FALSE())","v":"V"},"C"]
["4641625","Alfayed Aznar, Inés","Levantina","D","Tercera Corazón","Competición",3,{"$f":"VLOOKUP(E3742,Referencias!$B$4:$C$15,2,FALSE())","v":"3C"},{"$f":"VLOOKUP(C3742,Referencias!$B$18:$C$34,2,FALSE())","v":"V"},"C"]
["4641627","Sanchis Monserrat, Mª Amparo","Levantina","D","Sin Categoría","Competición",4,{"$f":"VLOOKUP(E3743,Referencias!$B$4:$C$15,2,FALSE())","v":"SC"},{"$f":"VLOOKUP(C3743,Referencias!$B$18:$C$34,2,FALSE())","v":"V"},"C"]
["4641628","Albert Tomás, Emilia","Levantina","D","Tercera Picas","Competición",3,{"$f":"VLOOKUP(E3744,Referencias!$B$4:$C$15,2,FALSE())","v":"3P"},{"$f":"VLOOKUP(C3744,Referencias!$B$18:$C$34,2,FALSE())","v":"V"},"C"]
["4641643","Masip Campos, Teresa","Levantina","D","Sin Categoría","Competición",4,{"$f":"VLOOKUP(E3745,Referencias!$B$4:$C$15,2,FALSE())","v":"SC"},{"$f":"VLOOKUP(C3745,Referencias!$B$18:$C$34,2,FALSE())","v":"V"},"C"]
["4641647","Lucena Tirado, Manuel","Levantina","C","Tercera Picas","Competición",3,{"$f":"VLOOKUP(E3746,Referencias!$B$4:$C$15,2,FALSE())","v":"3P"},{"$f":"VLOOKUP(C3746,Referencias!$B$18:$C$34,2,FALSE())","v":"V"},"C"]
["4641652","Alonso Segura, Mª Carmen","Levantina","D","Tercera Picas","Competición",3,{"$f":"VLOOKUP(E3747,Referencias!$B$4:$C$15,2,FALSE())","v":"3P"},{"$f":"VLOOKUP(C3747,Referencias!$B$18:$C$34,2,FALSE())","v":"V"},"C"]
["4641669","Moreno Torres, Purificación","Levantina","D","Sin Categoría","Competición",4,{"$f":"VLOOKUP(E3748,Referencias!$B$4:$C$15,2,FALSE())","v":"SC"},{"$f":"VLOOKUP(C3748,Referencias!$B$18:$C$34,2,FALSE())","v":"V"},"C"]
["4641674","Samaniego Masip, Teresa","Levantina","D","Sin Categoría","Competición",4,{"$f":"VLOOKUP(E3749,Referencias!$B$4:$C$15,2,FALSE())","v":"SC"},{"$f":"VLOOKUP(C3749,Referencias!$B$18:$C$34,2,FALSE())","v":"V"},"C"]
["4641680","Adiego-Martínez, Mª Teresa","Levantina","D","Tercera Corazón","Competición",3,{"$f":"VLOOKUP(E3750,Referencias!$B$4:$C$15,2,FALSE())","v":"3C"},{"$f":"VLOOKUP(C3750,Referencias!$B$18:$C$34,2,FALSE())","v":"V"},"C"]
["4641681","Cantó Esteve, Evaristo","Levantina","C","Tercera Diamante","Competición",3,{"$f":"VLOOKUP(E3751,Referencias!$B$4:$C$15,2,FALSE())","v":"3D"},{"$f":"VLOOKUP(C3751,Referencias!$B$18:$C$34,2,FALSE())","v":"V"},"C"]
["4641689","Herrera Coyradas, Carmen","Levantina","D","Tercera Picas","Competición",3,{"$f":"VLOOKUP(E3752,Referencias!$B$4:$C$15,2,FALSE())","v":"3P"},{"$f":"VLOOKUP(C3752,Referencias!$B$18:$C$34,2,FALSE())","v":"V"},"C"]
["4641692","Molina Estela, Josefina","Levantina","D","Tercera Diamante","Competición",3,{"$f":"VLOOKUP(E3753,Referencias!$B$4:$C$15,2,FALSE())","v":"3D"},{"$f":"VLOOKUP(C3753,Referencias!$B$18:$C$34,2,FALSE())","v":"V"},"C"]
["4641694","Martí Viaño, María Pilar","Levantina","D","Tercera Corazón","Competición",3,{"$f":"VLOOKUP(E3754,Referencias!$B$4:$C$15,2,FALSE())","v":"3C"},{"$f":"VLOOKUP(C3754,Referencias!$B$18:$C$34,2,FALSE())","v":"V"},"C"]
["4641696","Garcés Pérez, José Luis","Levantina","C","Tercera Picas","Competición",3,{"$f":"VLOOKUP(E3755,Referencias!$B$4:$C$15,2,FALSE())","v":"3P"},{"$f":"VLOOKUP(C3755,Referencias!$B$18:$C$34,2,FALSE())","v":"V"},"C"]
["4641702","Miragall Escolano, María Emilia","Levantina","D","Tercera Corazón","Competición",3,{"$f":"VLOOKUP(E3756,Referencias!$B$4:$C$15,2,FALSE())","v":"3C"},{"$f":"VLOOKUP(C3756,Referencias!$B$18:$C$34,2,FALSE())","v":"V"},"C"]
["4641710","Herreria de la Lastra, Vicente","Levantina","C","Segunda Corazón","Competición",2,{"$f":"VLOOKUP(E3757,Referencias!$B$4:$C$15,2,FALSE())","v":"2C"},{"$f":"VLOOKUP(C3757,Referencias!$B$18:$C$34,2,FALSE())","v":"V"},"C"]
["4641713","García Sánchez, Mª Angeles","Levantina","D","Tercera Diamante","Competición",3,{"$f":"VLOOKUP(E3758,Referencias!$B$4:$C$15,2,FALSE())","v":"3D"},{"$f":"VLOOKUP(C3758,Referencias!$B$18:$C$34,2,FALSE())","v":"V"},"C"]
["4641727","Pastor Mira, Francisco","Levantina","C","Tercera Diamante","Competición",3,{"$f":"VLOOKUP(E3759,Referencias!$B$4:$C$15,2,FALSE())","v":"3D"},{"$f":"VLOOKUP(C3759,Referencias!$B$18:$C$34,2,FALSE())","v":"V"},"C"]
["4641728","McCabe McCully, Joanne","Levantina","D","Tercera Diamante","Competición",3,{"$f":"VLOOKUP(E3760,Referencias!$B$4:$C$15,2,FALSE())","v":"3D"},{"$f":"VLOOKUP(C3760,Referencias!$B$18:$C$34,2,FALSE())","v":"V"},"C"]
["4641739","Hernández Marco, José Luis","Levantina","C","Tercera Corazón","Competición",3,{"$f":"VLOOKUP(E3761,Referencias!$B$4:$C$15,2,FALSE())","v":"3C"},{"$f":"VLOOKUP(C3761,Referencias!$B$18:$C$34,2,FALSE())","v":"V"},"C"]
["4641744","Kociolek Montesinos, Kristine Barbara","Levantina","D","Tercera Corazón","Competición",3,{"$f":"VLOOKUP(E3762,Referencias!$B$4:$C$15,2,FALSE())","v":"3C"},{"$f":"VLOOKUP(C3762,Referencias!$B$18:$C$34,2,FALSE())","v":"V"},"C"]
["4641752","Pastor Seligra, Rosa","Levantina","D","Sin Categoría","Competición",4,{"$f":"VLOOKUP(E3763,Referencias!$B$4:$C$15,2,FALSE())","v":"SC"},{"$f":"VLOOKUP(C3763,Referencias!$B$18:$C$34,2,FALSE())","v":"V"},"C"]
["4641772","Berenguer Lapuerta, Joaquín","Levantina","C","Tercera Diamante","Competición",3,{"$f":"VLOOKUP(E3764,Referencias!$B$4:$C$15,2,FALSE())","v":"3D"},{"$f":"VLOOKUP(C3764,Referencias!$B$18:$C$34,2,FALSE())","v":"V"},"C"]
["4641773","Gateño Hyam, Viviana","Levantina","D","Tercera Picas","Competición",3,{"$f":"VLOOKUP(E3765,Referencias!$B$4:$C$15,2,FALSE())","v":"3P"},{"$f":"VLOOKUP(C3765,Referencias!$B$18:$C$34,2,FALSE())","v":"V"},"C"]
["4641774","Vaqué, Enrique","Levantina","C","Sin Categoría","Competición",4,{"$f":"VLOOKUP(E3766,Referencias!$B$4:$C$15,2,FALSE())","v":"SC"},{"$f":"VLOOKUP(C3766,Referencias!$B$18:$C$34,2,FALSE())","v":"V"},"C"]
["4641775","Carbonell, Elvira","Levantina","D","Tercera Corazón","Competición",3,{"$f":"VLOOKUP(E3767,Referencias!$B$4:$C$15,2,FALSE())","v":"3C"},{"$f":"VLOOKUP(C3767,Referencias!$B$18:$C$34,2,FALSE())","v":"V"},"C"]
["4641776","Soria Giner, Juan Luis","Levantina","C","Tercera Diamante","Competición",3,{"$f":"VLOOKUP(E3768,Referencias!$B$4:$C$15,2,FALSE())","v":"3D"},{"$f":"VLOOKUP(C3768,Referencias!$B$18:$C$34,2,FALSE())","v":"V"},"C"]
["4641777","Domingo Zamora, Carmen","Levantina","D","Tercera Diamante","Competición",3,{"$f":"VLOOKUP(E3769,Referencias!$B$4:$C$15,2,FALSE())","v":"3D"},{"$f":"VLOOKUP(C3769,Referencias!$B$18:$C$34,2,FALSE())","v":"V"},"C"]
["4641778","Caffarena Calvar, Ana","Levantina","D","Tercera Diamante","Competición",3,{"$f":"VLOOKUP(E3770,Referencias!$B$4:$C$15,2,FALSE())","v":"3D"},{"$f":"VLOOKUP(C3770,Referencias!$B$18:$C$34,2,FALSE())","v":"V"},"C"]
["4641779","Palop Cardona, Amparo","Levantina","D","Tercera Diamante","Competición",3,{"$f":"VLOOKUP(E3771,Referencias!$B$4:$C$15,2,FALSE())","v":"3D"},{"$f":"VLOOKUP(C3771,Referencias!$B$18:$C$34,2,FALSE())","v":"V"},"C"]
["4641780","Sustaeta Gómez, Marichu","Levantina","D","Tercera Diamante","Competición",3,{"$f":"VLOOKUP(E3772,Referencias!$B$4:$C$15,2,FALSE())","v":"3D"},{"$f":"VLOOKUP(C3772,Referencias!$B$18:$C$34,2,FALSE())","v":"V"},"C"]
["4641781","Ustero Ares, Carmiña","Levantina","D","Tercera Corazón","Competición",3,{"$f":"VLOOKUP(E3773,Referencias!$B$4:$C$15,2,FALSE())","v":"3C"},{"$f":"VLOOKUP(C3773,Referencias!$B$18:$C$34,2,FALSE())","v":"V"},"C"]
["4641784","Espinosa Torres, Carmen","Levantina","D","Tercera Diamante","Competición",3,{"$f":"VLOOKUP(E3774,Referencias!$B$4:$C$15,2,FALSE())","v":"3D"},{"$f":"VLOOKUP(C3774,Referencias!$B$18:$C$34,2,FALSE())","v":"V"},"C"]
["4641788","Suau Barceló, Silvia","Levantina","D","Tercera Corazón","Competición",3,{"$f":"VLOOKUP(E3775,Referencias!$B$4:$C$15,2,FALSE())","v":"3C"},{"$f":"VLOOKUP(C3775,Referencias!$B$18:$C$34,2,FALSE())","v":"V"},"C"]
["4641792","Candela Sospedra, Margarita","Levantina","D","Tercera Corazón","Competición",3,{"$f":"VLOOKUP(E3776,Referencias!$B$4:$C$15,2,FALSE())","v":"3C"},{"$f":"VLOOKUP(C3776,Referencias!$B$18:$C$34,2,FALSE())","v":"V"},{"$f":"IF(D3776=\"Dama\",\"D\",\"C\")","v":"C"}]
["4641807","Albi Ibañez, Rafael","Levantina","C","Sin Categoría","Competición",4,{"$f":"VLOOKUP(E3777,Referencias!$B$4:$C$15,2,FALSE())","v":"SC"},{"$f":"VLOOKUP(C3777,Referencias!$B$18:$C$34,2,FALSE())","v":"V"},"C"]
["4641812","Ferrer Valls, Lourdes","Levantina","D","Tercera Diamante","Competición",3,{"$f":"VLOOKUP(E3778,Referencias!$B$4:$C$15,2,FALSE())","v":"3D"},{"$f":"VLOOKUP(C3778,Referencias!$B$18:$C$34,2,FALSE())","v":"V"},"C"]
["4641819","Llobet González-Mataix, Mercedes","Levantina","D","Tercera Corazón","Competición",3,{"$f":"VLOOKUP(E3779,Referencias!$B$4:$C$15,2,FALSE())","v":"3C"},{"$f":"VLOOKUP(C3779,Referencias!$B$18:$C$34,2,FALSE())","v":"V"},"C"]
["4641821","Sevilla Merino, Teresa","Levantina","D","Tercera Corazón","Competición",3,{"$f":"VLOOKUP(E3780,Referencias!$B$4:$C$15,2,FALSE())","v":"3C"},{"$f":"VLOOKUP(C3780,Referencias!$B$18:$C$34,2,FALSE())","v":"V"},"C"]
["4641826","Corominas Navarro, Julia","Levantina","D","Tercera Diamante","Competición",3,{"$f":"VLOOKUP(E3781,Referencias!$B$4:$C$15,2,FALSE())","v":"3D"},{"$f":"VLOOKUP(C3781,Referencias!$B$18:$C$34,2,FALSE())","v":"V"},"C"]
["4641827","Micallef, Diamantine","Levantina","D","Sin Categoría","Competición",4,{"$f":"VLOOKUP(E3782,Referencias!$B$4:$C$15,2,FALSE())","v":"SC"},{"$f":"VLOOKUP(C3782,Referencias!$B$18:$C$34,2,FALSE())","v":"V"},"C"]
["4641828","Perales Luis, Pepa","Levantina","D","Tercera Corazón","Competición",3,{"$f":"VLOOKUP(E3783,Referencias!$B$4:$C$15,2,FALSE())","v":"3C"},{"$f":"VLOOKUP(C3783,Referencias!$B$18:$C$34,2,FALSE())","v":"V"},"C"]
["4641830","Montaner Ribes, Carmen","Levantina","D","Tercera Corazón","Competición",3,{"$f":"VLOOKUP(E3784,Referencias!$B$4:$C$15,2,FALSE())","v":"3C"},{"$f":"VLOOKUP(C3784,Referencias!$B$18:$C$34,2,FALSE())","v":"V"},"C"]
["4641833","Espuig Bru, Alberto","Levantina","C","Tercera Corazón","Competición",3,{"$f":"VLOOKUP(E3785,Referencias!$B$4:$C$15,2,FALSE())","v":"3C"},{"$f":"VLOOKUP(C3785,Referencias!$B$18:$C$34,2,FALSE())","v":"V"},"C"]
["4641837","Tellols Pons, Carmen","Levantina","D","Segunda Diamante","Competición",2,{"$f":"VLOOKUP(E3786,Referencias!$B$4:$C$15,2,FALSE())","v":"2D"},{"$f":"VLOOKUP(C3786,Referencias!$B$18:$C$34,2,FALSE())","v":"V"},"C"]
["4641845","García Bonfill, Regina","Levantina","D","Sin Categoría","Competición",4,{"$f":"VLOOKUP(E3787,Referencias!$B$4:$C$15,2,FALSE())","v":"SC"},{"$f":"VLOOKUP(C3787,Referencias!$B$18:$C$34,2,FALSE())","v":"V"},"C"]
["4641879","Espejo Martínez, Luis","Levantina","C","Tercera Diamante","Competición",3,{"$f":"VLOOKUP(E3788,Referencias!$B$4:$C$15,2,FALSE())","v":"3D"},{"$f":"VLOOKUP(C3788,Referencias!$B$18:$C$34,2,FALSE())","v":"V"},"C"]
["4641883","Cicognani, Maria Julia","Levantina","D","Tercera Corazón","Competición",3,{"$f":"VLOOKUP(E3789,Referencias!$B$4:$C$15,2,FALSE())","v":"3C"},{"$f":"VLOOKUP(C3789,Referencias!$B$18:$C$34,2,FALSE())","v":"V"},"C"]
["4641885","Feltrer Polo, Mª Carmen","Levantina","D","Sin Categoría","Competición",4,{"$f":"VLOOKUP(E3790,Referencias!$B$4:$C$15,2,FALSE())","v":"SC"},{"$f":"VLOOKUP(C3790,Referencias!$B$18:$C$34,2,FALSE())","v":"V"},"C"]
["4641886","Barnes Fernández, Beatríz","Levantina","D","Sin Categoría","Competición",4,{"$f":"VLOOKUP(E3791,Referencias!$B$4:$C$15,2,FALSE())","v":"SC"},{"$f":"VLOOKUP(C3791,Referencias!$B$18:$C$34,2,FALSE())","v":"V"},"C"]
["4641890","Fornas Sorli, Rosa María","Levantina","D","Sin Categoría","Competición",4,{"$f":"VLOOKUP(E3792,Referencias!$B$4:$C$15,2,FALSE())","v":"SC"},{"$f":"VLOOKUP(C3792,Referencias!$B$18:$C$34,2,FALSE())","v":"V"},"C"]
["4641893","FitzGerald, Nicholas","Levantina","C","Tercera Diamante","Competición",3,{"$f":"VLOOKUP(E3793,Referencias!$B$4:$C$15,2,FALSE())","v":"3D"},{"$f":"VLOOKUP(C3793,Referencias!$B$18:$C$34,2,FALSE())","v":"V"},"C"]
["4641894","Vielba García, Felipe","Levantina","C","Sin Categoría","Competición",4,{"$f":"VLOOKUP(E3794,Referencias!$B$4:$C$15,2,FALSE())","v":"SC"},{"$f":"VLOOKUP(C3794,Referencias!$B$18:$C$34,2,FALSE())","v":"V"},"C"]
["4641896","Merino Vélez, Ana","Levantina","D","Tercera Diamante","Competición",3,{"$f":"VLOOKUP(E3795,Referencias!$B$4:$C$15,2,FALSE())","v":"3D"},{"$f":"VLOOKUP(C3795,Referencias!$B$18:$C$34,2,FALSE())","v":"V"},"C"]
["4641897","Benais Gaines, Leila","Levantina","D","Tercera Picas","Competición",3,{"$f":"VLOOKUP(E3796,Referencias!$B$4:$C$15,2,FALSE())","v":"3P"},{"$f":"VLOOKUP(C3796,Referencias!$B$18:$C$34,2,FALSE())","v":"V"},"C"]
["4641902","Catalá Ripoll, María","Levantina","D","Sin Categoría","Competición",4,{"$f":"VLOOKUP(E3797,Referencias!$B$4:$C$15,2,FALSE())","v":"SC"},{"$f":"VLOOKUP(C3797,Referencias!$B$18:$C$34,2,FALSE())","v":"V"},"C"]
["4641910","LLombart Rosa, Carmen","Levantina","D","Sin Categoría","Competición",4,{"$f":"VLOOKUP(E3798,Referencias!$B$4:$C$15,2,FALSE())","v":"SC"},{"$f":"VLOOKUP(C3798,Referencias!$B$18:$C$34,2,FALSE())","v":"V"},"C"]
["4641911","Llombart Rosa, Paz","Levantina","D","Sin Categoría","Competición",4,{"$f":"VLOOKUP(E3799,Referencias!$B$4:$C$15,2,FALSE())","v":"SC"},{"$f":"VLOOKUP(C3799,Referencias!$B$18:$C$34,2,FALSE())","v":"V"},"C"]
["4641912","Fornas Jorlí, Carmen","Levantina","D","Sin Categoría","Competición",4,{"$f":"VLOOKUP(E3800,Referencias!$B$4:$C$15,2,FALSE())","v":"SC"},{"$f":"VLOOKUP(C3800,Referencias!$B$18:$C$34,2,FALSE())","v":"V"},"C"]
["4641913","Fernández Chacón, Carmen","Levantina","D","Sin Categoría","Competición",4,{"$f":"VLOOKUP(E3801,Referencias!$B$4:$C$15,2,FALSE())","v":"SC"},{"$f":"VLOOKUP(C3801,Referencias!$B$18:$C$34,2,FALSE())","v":"V"},"C"]
["4641915","García Carcelle, Carmen","Levantina","D","Sin Categoría","Competición",4,{"$f":"VLOOKUP(E3802,Referencias!$B$4:$C$15,2,FALSE())","v":"SC"},{"$f":"VLOOKUP(C3802,Referencias!$B$18:$C$34,2,FALSE())","v":"V"},"C"]
["4641916","Bejarano Cuesta, Blanca Elena","Levantina","D","Sin Categoría","Competición",4,{"$f":"VLOOKUP(E3803,Referencias!$B$4:$C$15,2,FALSE())","v":"SC"},{"$f":"VLOOKUP(C3803,Referencias!$B$18:$C$34,2,FALSE())","v":"V"},"C"]
["4641917","Guanter Rodrigo, Mª Carmen","Levantina","D","Sin Categoría","Competición",4,{"$f":"VLOOKUP(E3804,Referencias!$B$4:$C$15,2,FALSE())","v":"SC"},{"$f":"VLOOKUP(C3804,Referencias!$B$18:$C$34,2,FALSE())","v":"V"},"C"]
["4641918","Olaso Peiro, Vicente","Levantina","C","Sin Categoría","Competición",4,{"$f":"VLOOKUP(E3805,Referencias!$B$4:$C$15,2,FALSE())","v":"SC"},{"$f":"VLOOKUP(C3805,Referencias!$B$18:$C$34,2,FALSE())","v":"V"},"C"]
["4641919","Fuster Millet, Mª Vicenta","Levantina","D","Sin Categoría","Competición",4,{"$f":"VLOOKUP(E3806,Referencias!$B$4:$C$15,2,FALSE())","v":"SC"},{"$f":"VLOOKUP(C3806,Referencias!$B$18:$C$34,2,FALSE())","v":"V"},"C"]
["4641920","Sanz Villalba, Mª Dolores","Levantina","D","Sin Categoría","Competición",4,{"$f":"VLOOKUP(E3807,Referencias!$B$4:$C$15,2,FALSE())","v":"SC"},{"$f":"VLOOKUP(C3807,Referencias!$B$18:$C$34,2,FALSE())","v":"V"},"C"]
["4641921","Sánchez Martínez, Mª Isabel","Levantina","D","Sin Categoría","Competición",4,{"$f":"VLOOKUP(E3808,Referencias!$B$4:$C$15,2,FALSE())","v":"SC"},{"$f":"VLOOKUP(C3808,Referencias!$B$18:$C$34,2,FALSE())","v":"V"},"C"]
["4641922","Miragall Escolano, Mª Teresa","Levantina","D","Sin Categoría","Competición",4,{"$f":"VLOOKUP(E3809,Referencias!$B$4:$C$15,2,FALSE())","v":"SC"},{"$f":"VLOOKUP(C3809,Referencias!$B$18:$C$34,2,FALSE())","v":"V"},"C"]
["4641926","Sancho Pérez, Francisca","Levantina","D","Sin Categoría","Competición",4,{"$f":"VLOOKUP(E3810,Referencias!$B$4:$C$15,2,FALSE())","v":"SC"},{"$f":"VLOOKUP(C3810,Referencias!$B$18:$C$34,2,FALSE())","v":"V"},"C"]
["4641927","Ruiz Vera, Fernanda Carmen","Levantina","D","Sin Categoría","Competición",4,{"$f":"VLOOKUP(E3811,Referencias!$B$4:$C$15,2,FALSE())","v":"SC"},{"$f":"VLOOKUP(C3811,Referencias!$B$18:$C$34,2,FALSE())","v":"V"},"C"]
["4641928","Kempe, Toby Nicholas","Levantina","C","Tercera Corazón","Competición",3,{"$f":"VLOOKUP(E3812,Referencias!$B$4:$C$15,2,FALSE())","v":"3C"},{"$f":"VLOOKUP(C3812,Referencias!$B$18:$C$34,2,FALSE())","v":"V"},"C"]
["4641930","Roig Navarro, Francisca","Levantina","D","Sin Categoría","Competición",4,{"$f":"VLOOKUP(E3813,Referencias!$B$4:$C$15,2,FALSE())","v":"SC"},{"$f":"VLOOKUP(C3813,Referencias!$B$18:$C$34,2,FALSE())","v":"V"},"C"]
["4646202","Santos Pelegrín, M. Carmen","Levantina","D","Maestro Nacional","Competición",0,{"$f":"VLOOKUP(E3814,Referencias!$B$4:$C$15,2,FALSE())","v":"MN"},{"$f":"VLOOKUP(C3814,Referencias!$B$18:$C$34,2,FALSE())","v":"V"},"C"]
["4646204","Rubio Vázquez, Carmen","Levantina","D","Primera Corazón","Competición",1,{"$f":"VLOOKUP(E3815,Referencias!$B$4:$C$15,2,FALSE())","v":"1C"},{"$f":"VLOOKUP(C3815,Referencias!$B$18:$C$34,2,FALSE())","v":"V"},"C"]
["4646217","Matut Cubillo, M. Luisa","Levantina","D","Maestro Nacional","Competición",0,{"$f":"VLOOKUP(E3816,Referencias!$B$4:$C$15,2,FALSE())","v":"MN"},{"$f":"VLOOKUP(C3816,Referencias!$B$18:$C$34,2,FALSE())","v":"V"},"C"]
["4646228","Barona Fleta, José Ignacio","Levantina","C","Tercera Picas","Competición",3,{"$f":"VLOOKUP(E3817,Referencias!$B$4:$C$15,2,FALSE())","v":"3P"},{"$f":"VLOOKUP(C3817,Referencias!$B$18:$C$34,2,FALSE())","v":"V"},"C"]
["4646239","Gimeno de Archer, Aurora","Levantina","D","Tercera Picas","Honorífica",3,{"$f":"VLOOKUP(E3818,Referencias!$B$4:$C$15,2,FALSE())","v":"3P"},{"$f":"VLOOKUP(C3818,Referencias!$B$18:$C$34,2,FALSE())","v":"V"},"C"]
["4646244","Reig Boix, Juan Carlos","Levantina","C","Primera Picas","Competición",1,{"$f":"VLOOKUP(E3819,Referencias!$B$4:$C$15,2,FALSE())","v":"1P"},{"$f":"VLOOKUP(C3819,Referencias!$B$18:$C$34,2,FALSE())","v":"V"},"C"]
["4646248","Frese, Consuelo","Levantina","D","Primera Picas","Competición",1,{"$f":"VLOOKUP(E3820,Referencias!$B$4:$C$15,2,FALSE())","v":"1P"},{"$f":"VLOOKUP(C3820,Referencias!$B$18:$C$34,2,FALSE())","v":"V"},"C"]
["4646264","Archer  Gimeno, Ana","Levantina","D","Segunda Picas","Competición",2,{"$f":"VLOOKUP(E3821,Referencias!$B$4:$C$15,2,FALSE())","v":"2P"},{"$f":"VLOOKUP(C3821,Referencias!$B$18:$C$34,2,FALSE())","v":"V"},"C"]
["4646274","Lejarraga de Barona, Amaya","Levantina","D","Primera Picas","Competición",1,{"$f":"VLOOKUP(E3822,Referencias!$B$4:$C$15,2,FALSE())","v":"1P"},{"$f":"VLOOKUP(C3822,Referencias!$B$18:$C$34,2,FALSE())","v":"V"},"C"]
["4646299","Pérez-Victoria Arberola, Amalia","Levantina","D","Tercera Corazón","Competición",3,{"$f":"VLOOKUP(E3823,Referencias!$B$4:$C$15,2,FALSE())","v":"3C"},{"$f":"VLOOKUP(C3823,Referencias!$B$18:$C$34,2,FALSE())","v":"V"},"C"]
["4646301","Termens Gamarra, José Luis","Levantina","C","Segunda Diamante","Competición",2,{"$f":"VLOOKUP(E3824,Referencias!$B$4:$C$15,2,FALSE())","v":"2D"},{"$f":"VLOOKUP(C3824,Referencias!$B$18:$C$34,2,FALSE())","v":"V"},"C"]
["4646302","Mas de Termens, M. Dolores","Levantina","D","Primera Diamante","Competición",1,{"$f":"VLOOKUP(E3825,Referencias!$B$4:$C$15,2,FALSE())","v":"1D"},{"$f":"VLOOKUP(C3825,Referencias!$B$18:$C$34,2,FALSE())","v":"V"},"C"]
["4646310","Archer Gimeno, Aurora","Levantina","D","Primera Diamante","Competición",1,{"$f":"VLOOKUP(E3826,Referencias!$B$4:$C$15,2,FALSE())","v":"1D"},{"$f":"VLOOKUP(C3826,Referencias!$B$18:$C$34,2,FALSE())","v":"V"},"C"]
["4646312","Baeza Casado, Eugenia","Levantina","D","Primera Picas","Competición",1,{"$f":"VLOOKUP(E3827,Referencias!$B$4:$C$15,2,FALSE())","v":"1P"},{"$f":"VLOOKUP(C3827,Referencias!$B$18:$C$34,2,FALSE())","v":"V"},"C"]
["4646314","Caballer Lliso, Matilde","Levantina","D","Segunda Picas","Competición",2,{"$f":"VLOOKUP(E3828,Referencias!$B$4:$C$15,2,FALSE())","v":"2P"},{"$f":"VLOOKUP(C3828,Referencias!$B$18:$C$34,2,FALSE())","v":"V"},"C"]
["4646331","Caballer Lliso, Elena","Levantina","D","Primera Diamante","Competición",1,{"$f":"VLOOKUP(E3829,Referencias!$B$4:$C$15,2,FALSE())","v":"1D"},{"$f":"VLOOKUP(C3829,Referencias!$B$18:$C$34,2,FALSE())","v":"V"},"C"]
["4646333","Pardo Alonso, Teresa","Levantina","D","Segunda Corazón","Competición",2,{"$f":"VLOOKUP(E3830,Referencias!$B$4:$C$15,2,FALSE())","v":"2C"},{"$f":"VLOOKUP(C3830,Referencias!$B$18:$C$34,2,FALSE())","v":"V"},"C"]
["4771003","Pastor, Tita","Castilla y León","D","Segunda Picas","Competición",2,{"$f":"VLOOKUP(E3831,Referencias!$B$4:$C$15,2,FALSE())","v":"2P"},{"$f":"VLOOKUP(C3831,Referencias!$B$18:$C$34,2,FALSE())","v":"CL"},"C"]
["4771031","Mazariegos de la Maza, Mª Victoria","Castilla y León","D","Tercera Picas","Competición",3,{"$f":"VLOOKUP(E3832,Referencias!$B$4:$C$15,2,FALSE())","v":"3P"},{"$f":"VLOOKUP(C3832,Referencias!$B$18:$C$34,2,FALSE())","v":"CL"},"C"]
["4771032","Tremiño Alonso, Paula","Castilla y León","D","Segunda Diamante","Competición",2,{"$f":"VLOOKUP(E3833,Referencias!$B$4:$C$15,2,FALSE())","v":"2D"},{"$f":"VLOOKUP(C3833,Referencias!$B$18:$C$34,2,FALSE())","v":"CL"},"C"]
["4771045","Ruiz de la Red, Ana","Castilla y León","D","Segunda Diamante","Competición",2,{"$f":"VLOOKUP(E3834,Referencias!$B$4:$C$15,2,FALSE())","v":"2D"},{"$f":"VLOOKUP(C3834,Referencias!$B$18:$C$34,2,FALSE())","v":"CL"},"C"]
["4771082","Herrero Izquierdo, Belén","Castilla y León","D","Primera Diamante","Competición",1,{"$f":"VLOOKUP(E3835,Referencias!$B$4:$C$15,2,FALSE())","v":"1D"},{"$f":"VLOOKUP(C3835,Referencias!$B$18:$C$34,2,FALSE())","v":"CL"},"C"]
["4771104","Vallejo Poussint, Aurora","Castilla y León","D","Segunda Diamante","Competición",2,{"$f":"VLOOKUP(E3836,Referencias!$B$4:$C$15,2,FALSE())","v":"2D"},{"$f":"VLOOKUP(C3836,Referencias!$B$18:$C$34,2,FALSE())","v":"CL"},"C"]
["4771137","Belloso Fernández, M. Victoria","Castilla y León","D","Sin Categoría","Competición",4,{"$f":"VLOOKUP(E3837,Referencias!$B$4:$C$15,2,FALSE())","v":"SC"},{"$f":"VLOOKUP(C3837,Referencias!$B$18:$C$34,2,FALSE())","v":"CL"},"C"]
["4771161","Nevares de Yraola, M. Jesús","Castilla y León","D","Sin Categoría","Competición",4,{"$f":"VLOOKUP(E3838,Referencias!$B$4:$C$15,2,FALSE())","v":"SC"},{"$f":"VLOOKUP(C3838,Referencias!$B$18:$C$34,2,FALSE())","v":"CL"},"C"]
["4771162","Díaz Arribas, M. Teresa","Castilla y León","D","Tercera Corazón","Competición",3,{"$f":"VLOOKUP(E3839,Referencias!$B$4:$C$15,2,FALSE())","v":"3C"},{"$f":"VLOOKUP(C3839,Referencias!$B$18:$C$34,2,FALSE())","v":"CL"},"C"]
["4771175","De Ugarte Lozano, Yolanda","Castilla y León","D","Primera Diamante","Competición",1,{"$f":"VLOOKUP(E3840,Referencias!$B$4:$C$15,2,FALSE())","v":"1D"},{"$f":"VLOOKUP(C3840,Referencias!$B$18:$C$34,2,FALSE())","v":"CL"},{"$f":"IF(D3840=\"Dama\",\"D\",\"C\")","v":"C"}]
["4771203","Rodríguez Asensio, Mª Jesús","Castilla y León","D","Primera Diamante","Competición",1,{"$f":"VLOOKUP(E3841,Referencias!$B$4:$C$15,2,FALSE())","v":"1D"},{"$f":"VLOOKUP(C3841,Referencias!$B$18:$C$34,2,FALSE())","v":"CL"},"C"]
["4771209","Alonso González, Pilar","Castilla y León","D","Segunda Picas","Competición",2,{"$f":"VLOOKUP(E3842,Referencias!$B$4:$C$15,2,FALSE())","v":"2P"},{"$f":"VLOOKUP(C3842,Referencias!$B$18:$C$34,2,FALSE())","v":"CL"},"C"]
["4771221","De la Cruz Revesado, Mª Socorro","Castilla y León","D","Primera Diamante","Competición",1,{"$f":"VLOOKUP(E3843,Referencias!$B$4:$C$15,2,FALSE())","v":"1D"},{"$f":"VLOOKUP(C3843,Referencias!$B$18:$C$34,2,FALSE())","v":"CL"},"C"]
["4771222","Alonso Pérez, José Andrés","Castilla y León","C","Sin Categoría","Competición",4,{"$f":"VLOOKUP(E3844,Referencias!$B$4:$C$15,2,FALSE())","v":"SC"},{"$f":"VLOOKUP(C3844,Referencias!$B$18:$C$34,2,FALSE())","v":"CL"},"C"]
["4771234","Escudero Díez, Maribel","Castilla y León","D","Tercera Corazón","Competición",3,{"$f":"VLOOKUP(E3845,Referencias!$B$4:$C$15,2,FALSE())","v":"3C"},{"$f":"VLOOKUP(C3845,Referencias!$B$18:$C$34,2,FALSE())","v":"CL"},"C"]
["4771239","Nieto Fernández, Milu","Castilla y León","D","Primera Diamante","Competición",1,{"$f":"VLOOKUP(E3846,Referencias!$B$4:$C$15,2,FALSE())","v":"1D"},{"$f":"VLOOKUP(C3846,Referencias!$B$18:$C$34,2,FALSE())","v":"CL"},"C"]
["4771241","Burgoa Arribas, Mª Carmen","Castilla y León","D","Tercera Diamante","Competición",3,{"$f":"VLOOKUP(E3847,Referencias!$B$4:$C$15,2,FALSE())","v":"3D"},{"$f":"VLOOKUP(C3847,Referencias!$B$18:$C$34,2,FALSE())","v":"CL"},"C"]
["4771244","Martínez Castrillo, Matilde","Castilla y León","D","Sin Categoría","Competición",4,{"$f":"VLOOKUP(E3848,Referencias!$B$4:$C$15,2,FALSE())","v":"SC"},{"$f":"VLOOKUP(C3848,Referencias!$B$18:$C$34,2,FALSE())","v":"CL"},"C"]
["4771246","Ramírez Carballedo, Mª Luisa","Castilla y León","D","Sin Categoría","Competición",4,{"$f":"VLOOKUP(E3849,Referencias!$B$4:$C$15,2,FALSE())","v":"SC"},{"$f":"VLOOKUP(C3849,Referencias!$B$18:$C$34,2,FALSE())","v":"CL"},"C"]
["4771250","Martínez Castrillo, Maru","Castilla y León","D","Sin Categoría","Competición",4,{"$f":"VLOOKUP(E3850,Referencias!$B$4:$C$15,2,FALSE())","v":"SC"},{"$f":"VLOOKUP(C3850,Referencias!$B$18:$C$34,2,FALSE())","v":"CL"},"C"]
["4771251","Martínez Nogueras, Luisa","Castilla y León","D","Sin Categoría","Competición",4,{"$f":"VLOOKUP(E3851,Referencias!$B$4:$C$15,2,FALSE())","v":"SC"},{"$f":"VLOOKUP(C3851,Referencias!$B$18:$C$34,2,FALSE())","v":"CL"},"C"]
["4771253","Paja del Río, José Antonio","Castilla y León","C","Tercera Diamante","Competición",3,{"$f":"VLOOKUP(E3852,Referencias!$B$4:$C$15,2,FALSE())","v":"3D"},{"$f":"VLOOKUP(C3852,Referencias!$B$18:$C$34,2,FALSE())","v":"CL"},"C"]
["4771261","Fernández Castañón, Mª Isabel","Castilla y León","D","Tercera Picas","Competición",3,{"$f":"VLOOKUP(E3853,Referencias!$B$4:$C$15,2,FALSE())","v":"3P"},{"$f":"VLOOKUP(C3853,Referencias!$B$18:$C$34,2,FALSE())","v":"CL"},"C"]
["4771265","Ortiz Baños, Begoña","Castilla y León","D","Primera Diamante","Competición",1,{"$f":"VLOOKUP(E3854,Referencias!$B$4:$C$15,2,FALSE())","v":"1D"},{"$f":"VLOOKUP(C3854,Referencias!$B$18:$C$34,2,FALSE())","v":"CL"},"C"]
["4771279","De Lozoya Rey, Mª Jesús","Castilla y León","D","Segunda Diamante","Competición",2,{"$f":"VLOOKUP(E3855,Referencias!$B$4:$C$15,2,FALSE())","v":"2D"},{"$f":"VLOOKUP(C3855,Referencias!$B$18:$C$34,2,FALSE())","v":"CL"},"C"]
["4771280","Elorza González, Carmen","Castilla y León","D","Segunda Diamante","Competición",2,{"$f":"VLOOKUP(E3856,Referencias!$B$4:$C$15,2,FALSE())","v":"2D"},{"$f":"VLOOKUP(C3856,Referencias!$B$18:$C$34,2,FALSE())","v":"CL"},"C"]
["4771283","Barrio Castellanos, Rosalia","Castilla y León","D","Sin Categoría","Competición",4,{"$f":"VLOOKUP(E3857,Referencias!$B$4:$C$15,2,FALSE())","v":"SC"},{"$f":"VLOOKUP(C3857,Referencias!$B$18:$C$34,2,FALSE())","v":"CL"},"C"]
["4771284","Carril Rodríguez, Marisa","Castilla y León","D","Sin Categoría","Competición",4,{"$f":"VLOOKUP(E3858,Referencias!$B$4:$C$15,2,FALSE())","v":"SC"},{"$f":"VLOOKUP(C3858,Referencias!$B$18:$C$34,2,FALSE())","v":"CL"},"C"]
["4771285","Ferreiro Chao, Mª Luisa","Castilla y León","D","Sin Categoría","Competición",4,{"$f":"VLOOKUP(E3859,Referencias!$B$4:$C$15,2,FALSE())","v":"SC"},{"$f":"VLOOKUP(C3859,Referencias!$B$18:$C$34,2,FALSE())","v":"CL"},"C"]
["4771291","Ruiz de la Riva, Mª Luz","Castilla y León","D","Sin Categoría","Competición",4,{"$f":"VLOOKUP(E3860,Referencias!$B$4:$C$15,2,FALSE())","v":"SC"},{"$f":"VLOOKUP(C3860,Referencias!$B$18:$C$34,2,FALSE())","v":"CL"},"C"]
["4771298","Frias García, Chari","Castilla y León","D","Sin Categoría","Competición",4,{"$f":"VLOOKUP(E3861,Referencias!$B$4:$C$15,2,FALSE())","v":"SC"},{"$f":"VLOOKUP(C3861,Referencias!$B$18:$C$34,2,FALSE())","v":"CL"},"C"]
["4771299","Díez González, Carmen","Castilla y León","D","Tercera Diamante","Competición",3,{"$f":"VLOOKUP(E3862,Referencias!$B$4:$C$15,2,FALSE())","v":"3D"},{"$f":"VLOOKUP(C3862,Referencias!$B$18:$C$34,2,FALSE())","v":"CL"},"C"]
["4771335","Turrau González, Lola","Castilla y León","D","Tercera Picas","Competición",3,{"$f":"VLOOKUP(E3863,Referencias!$B$4:$C$15,2,FALSE())","v":"3P"},{"$f":"VLOOKUP(C3863,Referencias!$B$18:$C$34,2,FALSE())","v":"CL"},"C"]
["4771336","Balseiro Alonso, Cruz","Castilla y León","D","Sin Categoría","Competición",4,{"$f":"VLOOKUP(E3864,Referencias!$B$4:$C$15,2,FALSE())","v":"SC"},{"$f":"VLOOKUP(C3864,Referencias!$B$18:$C$34,2,FALSE())","v":"CL"},"C"]
["4771337","Fernández Temprano, Jose Luis","Castilla y León","C","Sin Categoría","Competición",4,{"$f":"VLOOKUP(E3865,Referencias!$B$4:$C$15,2,FALSE())","v":"SC"},{"$f":"VLOOKUP(C3865,Referencias!$B$18:$C$34,2,FALSE())","v":"CL"},"C"]
["4771344","Huerga Rodríguez, Francisca","Castilla y León","D","Tercera Corazón","Competición",3,{"$f":"VLOOKUP(E3866,Referencias!$B$4:$C$15,2,FALSE())","v":"3C"},{"$f":"VLOOKUP(C3866,Referencias!$B$18:$C$34,2,FALSE())","v":"CL"},"C"]
["4771346","Gil Rodríguez, Esteban","Castilla y León","C","Tercera Picas","Competición",3,{"$f":"VLOOKUP(E3867,Referencias!$B$4:$C$15,2,FALSE())","v":"3P"},{"$f":"VLOOKUP(C3867,Referencias!$B$18:$C$34,2,FALSE())","v":"CL"},"C"]
["4771350","García Manso, María del Pilar","Castilla y León","D","Sin Categoría","Competición",4,{"$f":"VLOOKUP(E3868,Referencias!$B$4:$C$15,2,FALSE())","v":"SC"},{"$f":"VLOOKUP(C3868,Referencias!$B$18:$C$34,2,FALSE())","v":"CL"},"C"]
["4771355","Concellón Muñoz, Inmaculada","Castilla y León","D","Sin Categoría","Competición",4,{"$f":"VLOOKUP(E3869,Referencias!$B$4:$C$15,2,FALSE())","v":"SC"},{"$f":"VLOOKUP(C3869,Referencias!$B$18:$C$34,2,FALSE())","v":"CL"},"C"]
["4771358","Aparicio Verge, Ana María","Castilla y León","D","Sin Categoría","Competición",4,{"$f":"VLOOKUP(E3870,Referencias!$B$4:$C$15,2,FALSE())","v":"SC"},{"$f":"VLOOKUP(C3870,Referencias!$B$18:$C$34,2,FALSE())","v":"CL"},"C"]
["4771359","Tomillo, María del Prado","Castilla y León","D","Primera Diamante","Competición",1,{"$f":"VLOOKUP(E3871,Referencias!$B$4:$C$15,2,FALSE())","v":"1D"},{"$f":"VLOOKUP(C3871,Referencias!$B$18:$C$34,2,FALSE())","v":"CL"},"C"]
["4771360","Pinto Rico, María Cruz","Castilla y León","D","Tercera Corazón","Competición",3,{"$f":"VLOOKUP(E3872,Referencias!$B$4:$C$15,2,FALSE())","v":"3C"},{"$f":"VLOOKUP(C3872,Referencias!$B$18:$C$34,2,FALSE())","v":"CL"},"C"]
["4771362","Manteca Gómez Pallete, Julian","Castilla y León","C","Sin Categoría","Competición",4,{"$f":"VLOOKUP(E3873,Referencias!$B$4:$C$15,2,FALSE())","v":"SC"},{"$f":"VLOOKUP(C3873,Referencias!$B$18:$C$34,2,FALSE())","v":"CL"},"C"]
["4771368","Ruiz González, María Esther","Castilla y León","D","Sin Categoría","Competición",4,{"$f":"VLOOKUP(E3874,Referencias!$B$4:$C$15,2,FALSE())","v":"SC"},{"$f":"VLOOKUP(C3874,Referencias!$B$18:$C$34,2,FALSE())","v":"CL"},"C"]
["4771370","Casanova Alonso, Isabel","Castilla y León","D","Sin Categoría","Competición",4,{"$f":"VLOOKUP(E3875,Referencias!$B$4:$C$15,2,FALSE())","v":"SC"},{"$f":"VLOOKUP(C3875,Referencias!$B$18:$C$34,2,FALSE())","v":"CL"},"C"]
["4771371","Fontanillas Fernández, Carmen","Castilla y León","D","Sin Categoría","Competición",4,{"$f":"VLOOKUP(E3876,Referencias!$B$4:$C$15,2,FALSE())","v":"SC"},{"$f":"VLOOKUP(C3876,Referencias!$B$18:$C$34,2,FALSE())","v":"CL"},"C"]
["4771372","Alonso Diez, Carmen","Castilla y León","D","Sin Categoría","Competición",4,{"$f":"VLOOKUP(E3877,Referencias!$B$4:$C$15,2,FALSE())","v":"SC"},{"$f":"VLOOKUP(C3877,Referencias!$B$18:$C$34,2,FALSE())","v":"CL"},"C"]
["4771374","Padró Sánchez, Ramón","Castilla y León","C","Segunda Diamante","Competición",2,{"$f":"VLOOKUP(E3878,Referencias!$B$4:$C$15,2,FALSE())","v":"2D"},{"$f":"VLOOKUP(C3878,Referencias!$B$18:$C$34,2,FALSE())","v":"CL"},"C"]
["4771377","Padró Sánchez, Rosa","Castilla y León","D","Tercera Diamante","Competición",3,{"$f":"VLOOKUP(E3879,Referencias!$B$4:$C$15,2,FALSE())","v":"3D"},{"$f":"VLOOKUP(C3879,Referencias!$B$18:$C$34,2,FALSE())","v":"CL"},"C"]
["4771378","Madrigal Llamas, Mª Ines","Castilla y León","D","Segunda Diamante","Competición",2,{"$f":"VLOOKUP(E3880,Referencias!$B$4:$C$15,2,FALSE())","v":"2D"},{"$f":"VLOOKUP(C3880,Referencias!$B$18:$C$34,2,FALSE())","v":"CL"},"C"]
["4771379","Martín Casas, Mª José","Castilla y León","D","Tercera Picas","Competición",3,{"$f":"VLOOKUP(E3881,Referencias!$B$4:$C$15,2,FALSE())","v":"3P"},{"$f":"VLOOKUP(C3881,Referencias!$B$18:$C$34,2,FALSE())","v":"CL"},"C"]
["4771380","Alcalde Martín-Calero, Reyes","Castilla y León","D","Segunda Corazón","Competición",2,{"$f":"VLOOKUP(E3882,Referencias!$B$4:$C$15,2,FALSE())","v":"2C"},{"$f":"VLOOKUP(C3882,Referencias!$B$18:$C$34,2,FALSE())","v":"CL"},"C"]
["4771384","Gómez López, Isabel","Castilla y León","D","Sin Categoría","Competición",4,{"$f":"VLOOKUP(E3883,Referencias!$B$4:$C$15,2,FALSE())","v":"SC"},{"$f":"VLOOKUP(C3883,Referencias!$B$18:$C$34,2,FALSE())","v":"CL"},"C"]
["4771387","Bravo Lara, Marupe","Castilla y León","D","Tercera Diamante","Competición",3,{"$f":"VLOOKUP(E3884,Referencias!$B$4:$C$15,2,FALSE())","v":"3D"},{"$f":"VLOOKUP(C3884,Referencias!$B$18:$C$34,2,FALSE())","v":"CL"},"C"]
["4771394","Escudero Bores, Ana","Castilla y León","D","Sin Categoría","Competición",4,{"$f":"VLOOKUP(E3885,Referencias!$B$4:$C$15,2,FALSE())","v":"SC"},{"$f":"VLOOKUP(C3885,Referencias!$B$18:$C$34,2,FALSE())","v":"CL"},"C"]
["4771396","Pino Homedes, Montserrat","Castilla y León","D","Sin Categoría","Competición",4,{"$f":"VLOOKUP(E3886,Referencias!$B$4:$C$15,2,FALSE())","v":"SC"},{"$f":"VLOOKUP(C3886,Referencias!$B$18:$C$34,2,FALSE())","v":"CL"},"C"]
["4771400","Añón Perereira, Carmen","Castilla y León","D","Sin Categoría","Competición",4,{"$f":"VLOOKUP(E3887,Referencias!$B$4:$C$15,2,FALSE())","v":"SC"},{"$f":"VLOOKUP(C3887,Referencias!$B$18:$C$34,2,FALSE())","v":"CL"},"C"]
["4771406","San José Alonso, Mª Luisa","Castilla y León","D","Sin Categoría","Competición",4,{"$f":"VLOOKUP(E3888,Referencias!$B$4:$C$15,2,FALSE())","v":"SC"},{"$f":"VLOOKUP(C3888,Referencias!$B$18:$C$34,2,FALSE())","v":"CL"},"C"]
["4771414","Díez García, Susana","Castilla y León","D","Segunda Diamante","Competición",2,{"$f":"VLOOKUP(E3889,Referencias!$B$4:$C$15,2,FALSE())","v":"2D"},{"$f":"VLOOKUP(C3889,Referencias!$B$18:$C$34,2,FALSE())","v":"CL"},"C"]
["4771415","Santos Bobillo, Rosa","Castilla y León","D","Segunda Corazón","Competición",2,{"$f":"VLOOKUP(E3890,Referencias!$B$4:$C$15,2,FALSE())","v":"2C"},{"$f":"VLOOKUP(C3890,Referencias!$B$18:$C$34,2,FALSE())","v":"CL"},"C"]
["4771418","Salgado Gimeno, Soledad","Castilla y León","D","Tercera Diamante","Competición",3,{"$f":"VLOOKUP(E3891,Referencias!$B$4:$C$15,2,FALSE())","v":"3D"},{"$f":"VLOOKUP(C3891,Referencias!$B$18:$C$34,2,FALSE())","v":"CL"},"C"]
["4771441","Martínez Sánchez, Memi","Castilla y León","D","Sin Categoría","Competición",4,{"$f":"VLOOKUP(E3892,Referencias!$B$4:$C$15,2,FALSE())","v":"SC"},{"$f":"VLOOKUP(C3892,Referencias!$B$18:$C$34,2,FALSE())","v":"CL"},"C"]
["4771442","Barrio Castellano, Isabel","Castilla y León","D","Sin Categoría","Competición",4,{"$f":"VLOOKUP(E3893,Referencias!$B$4:$C$15,2,FALSE())","v":"SC"},{"$f":"VLOOKUP(C3893,Referencias!$B$18:$C$34,2,FALSE())","v":"CL"},"C"]
["4771446","Postigo Mantecón, Gloria","Castilla y León","D","Tercera Diamante","Competición",3,{"$f":"VLOOKUP(E3894,Referencias!$B$4:$C$15,2,FALSE())","v":"3D"},{"$f":"VLOOKUP(C3894,Referencias!$B$18:$C$34,2,FALSE())","v":"CL"},"C"]
["4771447","Castro de la Fuente, Inmaculada","Castilla y León","D","Sin Categoría","Competición",4,{"$f":"VLOOKUP(E3895,Referencias!$B$4:$C$15,2,FALSE())","v":"SC"},{"$f":"VLOOKUP(C3895,Referencias!$B$18:$C$34,2,FALSE())","v":"CL"},"C"]
["4771450","Alvarez Perez, Lola","Castilla y León","D","Tercera Corazón","Competición",3,{"$f":"VLOOKUP(E3896,Referencias!$B$4:$C$15,2,FALSE())","v":"3C"},{"$f":"VLOOKUP(C3896,Referencias!$B$18:$C$34,2,FALSE())","v":"CL"},"C"]
["4771460","Castro de la Fuente, Gemma","Castilla y León","D","Sin Categoría","Competición",4,{"$f":"VLOOKUP(E3897,Referencias!$B$4:$C$15,2,FALSE())","v":"SC"},{"$f":"VLOOKUP(C3897,Referencias!$B$18:$C$34,2,FALSE())","v":"CL"},"C"]
["4771464","Villaverde Arcos, Helena","Castilla y León","D","Sin Categoría","Competición",4,{"$f":"VLOOKUP(E3898,Referencias!$B$4:$C$15,2,FALSE())","v":"SC"},{"$f":"VLOOKUP(C3898,Referencias!$B$18:$C$34,2,FALSE())","v":"CL"},"C"]
["4771465","Rodríguez Mateos, Marcela","Castilla y León","D","Tercera Diamante","Competición",3,{"$f":"VLOOKUP(E3899,Referencias!$B$4:$C$15,2,FALSE())","v":"3D"},{"$f":"VLOOKUP(C3899,Referencias!$B$18:$C$34,2,FALSE())","v":"CL"},"C"]
["4771467","del Palacio, Isabel","Castilla y León","D","Sin Categoría","Competición",4,{"$f":"VLOOKUP(E3900,Referencias!$B$4:$C$15,2,FALSE())","v":"SC"},{"$f":"VLOOKUP(C3900,Referencias!$B$18:$C$34,2,FALSE())","v":"CL"},"C"]
["4771469","Lorente Moore, Marta","Castilla y León","D","Tercera Diamante","Competición",3,{"$f":"VLOOKUP(E3901,Referencias!$B$4:$C$15,2,FALSE())","v":"3D"},{"$f":"VLOOKUP(C3901,Referencias!$B$18:$C$34,2,FALSE())","v":"CL"},"C"]
["4771470","Velasco Domínguez, Pilar","Castilla y León","D","Tercera Picas","Competición",3,{"$f":"VLOOKUP(E3902,Referencias!$B$4:$C$15,2,FALSE())","v":"3P"},{"$f":"VLOOKUP(C3902,Referencias!$B$18:$C$34,2,FALSE())","v":"CL"},"C"]
["4771471","Van Camp Meir, Viviane","Castilla y León","D","Segunda Diamante","Competición",2,{"$f":"VLOOKUP(E3903,Referencias!$B$4:$C$15,2,FALSE())","v":"2D"},{"$f":"VLOOKUP(C3903,Referencias!$B$18:$C$34,2,FALSE())","v":"CL"},"C"]
["4771472","De Miguel Simón, María Luisa- Mónica","Castilla y León","D","Tercera Corazón","Competición",3,{"$f":"VLOOKUP(E3904,Referencias!$B$4:$C$15,2,FALSE())","v":"3C"},{"$f":"VLOOKUP(C3904,Referencias!$B$18:$C$34,2,FALSE())","v":"CL"},{"$f":"IF(D3904=\"Dama\",\"D\",\"C\")","v":"C"}]
["4771473","Aragoneses Fraito, Henar","Castilla y León","C","Tercera Diamante","Competición",3,{"$f":"VLOOKUP(E3905,Referencias!$B$4:$C$15,2,FALSE())","v":"3D"},{"$f":"VLOOKUP(C3905,Referencias!$B$18:$C$34,2,FALSE())","v":"CL"},"C"]
["4771474","Lozano del Moral, Julian","Castilla y León","C","Tercera Diamante","Competición",3,{"$f":"VLOOKUP(E3906,Referencias!$B$4:$C$15,2,FALSE())","v":"3D"},{"$f":"VLOOKUP(C3906,Referencias!$B$18:$C$34,2,FALSE())","v":"CL"},"C"]
["4771475","Pardo Almudi, Margarita","Castilla y León","D","Sin Categoría","Competición",4,{"$f":"VLOOKUP(E3907,Referencias!$B$4:$C$15,2,FALSE())","v":"SC"},{"$f":"VLOOKUP(C3907,Referencias!$B$18:$C$34,2,FALSE())","v":"CL"},"C"]
["4771481","Llorente Martín, Cayetano","Castilla y León","C","Sin Categoría","Competición",4,{"$f":"VLOOKUP(E3908,Referencias!$B$4:$C$15,2,FALSE())","v":"SC"},{"$f":"VLOOKUP(C3908,Referencias!$B$18:$C$34,2,FALSE())","v":"CL"},"C"]
["4771482","Bartolome Calvo, M. Pilar","Castilla y León","D","Tercera Diamante","Competición",3,{"$f":"VLOOKUP(E3909,Referencias!$B$4:$C$15,2,FALSE())","v":"3D"},{"$f":"VLOOKUP(C3909,Referencias!$B$18:$C$34,2,FALSE())","v":"CL"},"C"]
["4771483","Minguez Bellosta, María Cándida","Castilla y León","D","Tercera Picas","Competición",3,{"$f":"VLOOKUP(E3910,Referencias!$B$4:$C$15,2,FALSE())","v":"3P"},{"$f":"VLOOKUP(C3910,Referencias!$B$18:$C$34,2,FALSE())","v":"CL"},"C"]
["4771484","Alonso López, Pilar","Castilla y León","D","Sin Categoría","Competición",4,{"$f":"VLOOKUP(E3911,Referencias!$B$4:$C$15,2,FALSE())","v":"SC"},{"$f":"VLOOKUP(C3911,Referencias!$B$18:$C$34,2,FALSE())","v":"CL"},"C"]
["4771485","Martín-Torres Pardo, Rosario","Castilla y León","D","Sin Categoría","Competición",4,{"$f":"VLOOKUP(E3912,Referencias!$B$4:$C$15,2,FALSE())","v":"SC"},{"$f":"VLOOKUP(C3912,Referencias!$B$18:$C$34,2,FALSE())","v":"CL"},"C"]
["4771487","Valderrama Guerra, Raquel","Castilla y León","D","Tercera Diamante","Competición",3,{"$f":"VLOOKUP(E3913,Referencias!$B$4:$C$15,2,FALSE())","v":"3D"},{"$f":"VLOOKUP(C3913,Referencias!$B$18:$C$34,2,FALSE())","v":"CL"},"C"]
["4771488","Piera Beltrán, Carmen","Castilla y León","D","Tercera Diamante","Competición",3,{"$f":"VLOOKUP(E3914,Referencias!$B$4:$C$15,2,FALSE())","v":"3D"},{"$f":"VLOOKUP(C3914,Referencias!$B$18:$C$34,2,FALSE())","v":"CL"},"C"]
["4771490","González Martín, Mª Mar","Castilla y León","D","Tercera Diamante","Competición",3,{"$f":"VLOOKUP(E3915,Referencias!$B$4:$C$15,2,FALSE())","v":"3D"},{"$f":"VLOOKUP(C3915,Referencias!$B$18:$C$34,2,FALSE())","v":"CL"},"C"]
["4771491","Galván Fraile, Alicia","Castilla y León","D","Tercera Diamante","Competición",3,{"$f":"VLOOKUP(E3916,Referencias!$B$4:$C$15,2,FALSE())","v":"3D"},{"$f":"VLOOKUP(C3916,Referencias!$B$18:$C$34,2,FALSE())","v":"CL"},"C"]
["4771492","Gavilán Domínguez, Carolina","Castilla y León","D","Tercera Corazón","Competición",3,{"$f":"VLOOKUP(E3917,Referencias!$B$4:$C$15,2,FALSE())","v":"3C"},{"$f":"VLOOKUP(C3917,Referencias!$B$18:$C$34,2,FALSE())","v":"CL"},"C"]
["4771493","Fernandez-Laguilhoat, Begoña","Castilla y León","D","Tercera Corazón","Competición",3,{"$f":"VLOOKUP(E3918,Referencias!$B$4:$C$15,2,FALSE())","v":"3C"},{"$f":"VLOOKUP(C3918,Referencias!$B$18:$C$34,2,FALSE())","v":"CL"},"C"]
["4771494","Martínez González, Laura","Castilla y León","D","Sin Categoría","Competición",4,{"$f":"VLOOKUP(E3919,Referencias!$B$4:$C$15,2,FALSE())","v":"SC"},{"$f":"VLOOKUP(C3919,Referencias!$B$18:$C$34,2,FALSE())","v":"CL"},"C"]
["4771496","Sánz Labajo, Celina","Castilla y León","D","Tercera Diamante","Competición",3,{"$f":"VLOOKUP(E3920,Referencias!$B$4:$C$15,2,FALSE())","v":"3D"},{"$f":"VLOOKUP(C3920,Referencias!$B$18:$C$34,2,FALSE())","v":"CL"},"C"]
["4771497","Criado González, Isabel","Castilla y León","D","Tercera Diamante","Competición",3,{"$f":"VLOOKUP(E3921,Referencias!$B$4:$C$15,2,FALSE())","v":"3D"},{"$f":"VLOOKUP(C3921,Referencias!$B$18:$C$34,2,FALSE())","v":"CL"},"C"]
["4771498","Alcalde García, Nieves","Castilla y León","D","Tercera Diamante","Competición",3,{"$f":"VLOOKUP(E3922,Referencias!$B$4:$C$15,2,FALSE())","v":"3D"},{"$f":"VLOOKUP(C3922,Referencias!$B$18:$C$34,2,FALSE())","v":"CL"},"C"]
["4771499","Romero Gómez, Mercedes","Castilla y León","D","Tercera Diamante","Competición",3,{"$f":"VLOOKUP(E3923,Referencias!$B$4:$C$15,2,FALSE())","v":"3D"},{"$f":"VLOOKUP(C3923,Referencias!$B$18:$C$34,2,FALSE())","v":"CL"},"C"]
["4771501","Beortegui Garde, Francisco","Castilla y León","C","Tercera Diamante","Competición",3,{"$f":"VLOOKUP(E3924,Referencias!$B$4:$C$15,2,FALSE())","v":"3D"},{"$f":"VLOOKUP(C3924,Referencias!$B$18:$C$34,2,FALSE())","v":"CL"},"C"]
["4771502","García Reglero, María del Carmen","Castilla y León","D","Sin Categoría","Competición",4,{"$f":"VLOOKUP(E3925,Referencias!$B$4:$C$15,2,FALSE())","v":"SC"},{"$f":"VLOOKUP(C3925,Referencias!$B$18:$C$34,2,FALSE())","v":"CL"},"C"]
["4771503","Valbuena Rodrigo, María Yolanda","Castilla y León","D","Tercera Picas","Competición",3,{"$f":"VLOOKUP(E3926,Referencias!$B$4:$C$15,2,FALSE())","v":"3P"},{"$f":"VLOOKUP(C3926,Referencias!$B$18:$C$34,2,FALSE())","v":"CL"},"C"]
["4771504","Aguado Aguado, Primitivo","Castilla y León","C","Tercera Diamante","Competición",3,{"$f":"VLOOKUP(E3927,Referencias!$B$4:$C$15,2,FALSE())","v":"3D"},{"$f":"VLOOKUP(C3927,Referencias!$B$18:$C$34,2,FALSE())","v":"CL"},"C"]
["4771505","Hernández Martín, María Jesús","Castilla y León","D","Sin Categoría","Competición",4,{"$f":"VLOOKUP(E3928,Referencias!$B$4:$C$15,2,FALSE())","v":"SC"},{"$f":"VLOOKUP(C3928,Referencias!$B$18:$C$34,2,FALSE())","v":"CL"},"C"]
["4771507","Rodríguez Gónzalez, María Mercedes","Castilla y León","D","Sin Categoría","Competición",4,{"$f":"VLOOKUP(E3929,Referencias!$B$4:$C$15,2,FALSE())","v":"SC"},{"$f":"VLOOKUP(C3929,Referencias!$B$18:$C$34,2,FALSE())","v":"CL"},"C"]
["4771508","Martín-Serrano Parreño, Gabino","Castilla y León","C","Sin Categoría","Competición",4,{"$f":"VLOOKUP(E3930,Referencias!$B$4:$C$15,2,FALSE())","v":"SC"},{"$f":"VLOOKUP(C3930,Referencias!$B$18:$C$34,2,FALSE())","v":"CL"},"C"]
["4771509","Ramos Polo, Margarita","Castilla y León","D","Sin Categoría","Competición",4,{"$f":"VLOOKUP(E3931,Referencias!$B$4:$C$15,2,FALSE())","v":"SC"},{"$f":"VLOOKUP(C3931,Referencias!$B$18:$C$34,2,FALSE())","v":"CL"},"C"]
["4771510","Gavilán Domínguez, María Zarza","Castilla y León","D","Tercera Corazón","Competición",3,{"$f":"VLOOKUP(E3932,Referencias!$B$4:$C$15,2,FALSE())","v":"3C"},{"$f":"VLOOKUP(C3932,Referencias!$B$18:$C$34,2,FALSE())","v":"CL"},"C"]
["4771511","Fernández Pires, Covadonga","Castilla y León","D","Tercera Diamante","Competición",3,{"$f":"VLOOKUP(E3933,Referencias!$B$4:$C$15,2,FALSE())","v":"3D"},{"$f":"VLOOKUP(C3933,Referencias!$B$18:$C$34,2,FALSE())","v":"CL"},"C"]
["4771512","Abad Pérez, Adela","Castilla y León","D","Tercera Diamante","Competición",3,{"$f":"VLOOKUP(E3934,Referencias!$B$4:$C$15,2,FALSE())","v":"3D"},{"$f":"VLOOKUP(C3934,Referencias!$B$18:$C$34,2,FALSE())","v":"CL"},"C"]
["4771515","Salaverri Fernández de la Puente, María Dolores","Castilla y León","D","Tercera Diamante","Competición",3,{"$f":"VLOOKUP(E3935,Referencias!$B$4:$C$15,2,FALSE())","v":"3D"},{"$f":"VLOOKUP(C3935,Referencias!$B$18:$C$34,2,FALSE())","v":"CL"},"C"]
["4771516","Finat Gómez, Berta","Castilla y León","D","Tercera Diamante","Competición",3,{"$f":"VLOOKUP(E3936,Referencias!$B$4:$C$15,2,FALSE())","v":"3D"},{"$f":"VLOOKUP(C3936,Referencias!$B$18:$C$34,2,FALSE())","v":"CL"},"C"]
["4771517","Valverde Bellido, Mª Paz","Castilla y León","D","Tercera Diamante","Competición",3,{"$f":"VLOOKUP(E3937,Referencias!$B$4:$C$15,2,FALSE())","v":"3D"},{"$f":"VLOOKUP(C3937,Referencias!$B$18:$C$34,2,FALSE())","v":"CL"},"C"]
["4771518","Sánchez Palla, María Pilar","Castilla y León","D","Tercera Diamante","Competición",3,{"$f":"VLOOKUP(E3938,Referencias!$B$4:$C$15,2,FALSE())","v":"3D"},{"$f":"VLOOKUP(C3938,Referencias!$B$18:$C$34,2,FALSE())","v":"CL"},"C"]
["4771520","Merino Andrés, María Piedad","Castilla y León","D","Tercera Diamante","Competición",3,{"$f":"VLOOKUP(E3939,Referencias!$B$4:$C$15,2,FALSE())","v":"3D"},{"$f":"VLOOKUP(C3939,Referencias!$B$18:$C$34,2,FALSE())","v":"CL"},"C"]
["4771521","Liebana Pérez, Elisa","Castilla y León","D","Sin Categoría","Competición",4,{"$f":"VLOOKUP(E3940,Referencias!$B$4:$C$15,2,FALSE())","v":"SC"},{"$f":"VLOOKUP(C3940,Referencias!$B$18:$C$34,2,FALSE())","v":"CL"},"C"]
["4771522","Rueda Sabater, Cristina","Castilla y León","D","Tercera Diamante","Competición",3,{"$f":"VLOOKUP(E3941,Referencias!$B$4:$C$15,2,FALSE())","v":"3D"},{"$f":"VLOOKUP(C3941,Referencias!$B$18:$C$34,2,FALSE())","v":"CL"},"C"]
["4771523","López de Arbina Rodríguez, María Victoría","Castilla y León","D","Tercera Corazón","Competición",3,{"$f":"VLOOKUP(E3942,Referencias!$B$4:$C$15,2,FALSE())","v":"3C"},{"$f":"VLOOKUP(C3942,Referencias!$B$18:$C$34,2,FALSE())","v":"CL"},"C"]
["4771524","Sánchez Cuesta, Marina","Castilla y León","D","Tercera Corazón","Competición",3,{"$f":"VLOOKUP(E3943,Referencias!$B$4:$C$15,2,FALSE())","v":"3C"},{"$f":"VLOOKUP(C3943,Referencias!$B$18:$C$34,2,FALSE())","v":"CL"},"C"]
["4771525","Alonso Marinero, Esther","Castilla y León","D","Sin Categoría","Competición",4,{"$f":"VLOOKUP(E3944,Referencias!$B$4:$C$15,2,FALSE())","v":"SC"},{"$f":"VLOOKUP(C3944,Referencias!$B$18:$C$34,2,FALSE())","v":"CL"},"C"]
["4771535","Martín Gutiérrez, Magdalena","Castilla y León","D","Sin Categoría","Competición",4,{"$f":"VLOOKUP(E3945,Referencias!$B$4:$C$15,2,FALSE())","v":"SC"},{"$f":"VLOOKUP(C3945,Referencias!$B$18:$C$34,2,FALSE())","v":"CL"},"C"]
["4771537","Regueras Escudero, Elias","Castilla y León","C","Tercera Picas","Competición",3,{"$f":"VLOOKUP(E3946,Referencias!$B$4:$C$15,2,FALSE())","v":"3P"},{"$f":"VLOOKUP(C3946,Referencias!$B$18:$C$34,2,FALSE())","v":"CL"},"C"]
["4775902","Manteca, Julian","Castilla y León","C","Primera Diamante","Competición",1,{"$f":"VLOOKUP(E3947,Referencias!$B$4:$C$15,2,FALSE())","v":"1D"},{"$f":"VLOOKUP(C3947,Referencias!$B$18:$C$34,2,FALSE())","v":"CL"},"C"]
["4775903","Gómez Pallete de Manteca, Mar","Castilla y León","D","Primera Picas","Competición",1,{"$f":"VLOOKUP(E3948,Referencias!$B$4:$C$15,2,FALSE())","v":"1P"},{"$f":"VLOOKUP(C3948,Referencias!$B$18:$C$34,2,FALSE())","v":"CL"},"C"]
["4775907","García Espino, Teresa","Castilla y León","D","Tercera Diamante","Competición",3,{"$f":"VLOOKUP(E3949,Referencias!$B$4:$C$15,2,FALSE())","v":"3D"},{"$f":"VLOOKUP(C3949,Referencias!$B$18:$C$34,2,FALSE())","v":"CL"},"C"]
["4775914","Chamorro Moliner, Angel","Castilla y León","C","Tercera Corazón","Competición",3,{"$f":"VLOOKUP(E3950,Referencias!$B$4:$C$15,2,FALSE())","v":"3C"},{"$f":"VLOOKUP(C3950,Referencias!$B$18:$C$34,2,FALSE())","v":"CL"},"C"]
["4775915","Estevez de Chamorro, Concha","Castilla y León","D","Tercera Corazón","Competición",3,{"$f":"VLOOKUP(E3951,Referencias!$B$4:$C$15,2,FALSE())","v":"3C"},{"$f":"VLOOKUP(C3951,Referencias!$B$18:$C$34,2,FALSE())","v":"CL"},"C"]
["4775917","Sagarra Rodríguez, Alicia","Castilla y León","D","Sin Categoría","Competición",4,{"$f":"VLOOKUP(E3952,Referencias!$B$4:$C$15,2,FALSE())","v":"SC"},{"$f":"VLOOKUP(C3952,Referencias!$B$18:$C$34,2,FALSE())","v":"CL"},"C"]
["4775920","Martín de Vena, Angelines","Castilla y León","D","Segunda Corazón","Competición",2,{"$f":"VLOOKUP(E3953,Referencias!$B$4:$C$15,2,FALSE())","v":"2C"},{"$f":"VLOOKUP(C3953,Referencias!$B$18:$C$34,2,FALSE())","v":"CL"},"C"]
["4775922","Gómez-Pallete Moliner, M. Pilar","Castilla y León","D","Primera Corazón","Competición",1,{"$f":"VLOOKUP(E3954,Referencias!$B$4:$C$15,2,FALSE())","v":"1C"},{"$f":"VLOOKUP(C3954,Referencias!$B$18:$C$34,2,FALSE())","v":"CL"},"C"]
["4775923","Puras Ripollés, Fernando","Castilla y León","C","Primera Picas","Competición",1,{"$f":"VLOOKUP(E3955,Referencias!$B$4:$C$15,2,FALSE())","v":"1P"},{"$f":"VLOOKUP(C3955,Referencias!$B$18:$C$34,2,FALSE())","v":"CL"},"C"]
["4775926","Sanz Sanantonio, M. del Carmen","Castilla y León","D","Tercera Corazón","Competición",3,{"$f":"VLOOKUP(E3956,Referencias!$B$4:$C$15,2,FALSE())","v":"3C"},{"$f":"VLOOKUP(C3956,Referencias!$B$18:$C$34,2,FALSE())","v":"CL"},"C"]
["4775928","Moretón, Alfonsa","Castilla y León","D","Segunda Diamante","Competición",2,{"$f":"VLOOKUP(E3957,Referencias!$B$4:$C$15,2,FALSE())","v":"2D"},{"$f":"VLOOKUP(C3957,Referencias!$B$18:$C$34,2,FALSE())","v":"CL"},"C"]
["4775930","Borrego, Josefina","Castilla y León","D","Segunda Diamante","Competición",2,{"$f":"VLOOKUP(E3958,Referencias!$B$4:$C$15,2,FALSE())","v":"2D"},{"$f":"VLOOKUP(C3958,Referencias!$B$18:$C$34,2,FALSE())","v":"CL"},"C"]
["4775938","García Gallego, M. Jesús","Castilla y León","D","Tercera Corazón","Competición",3,{"$f":"VLOOKUP(E3959,Referencias!$B$4:$C$15,2,FALSE())","v":"3C"},{"$f":"VLOOKUP(C3959,Referencias!$B$18:$C$34,2,FALSE())","v":"CL"},"C"]
["4775942","Monsalve, M. Josefa","Castilla y León","D","Tercera Corazón","Competición",3,{"$f":"VLOOKUP(E3960,Referencias!$B$4:$C$15,2,FALSE())","v":"3C"},{"$f":"VLOOKUP(C3960,Referencias!$B$18:$C$34,2,FALSE())","v":"CL"},"C"]
["4775944","Serrano Márquez, Mª Victoria","Castilla y León","D","Sin Categoría","Competición",4,{"$f":"VLOOKUP(E3961,Referencias!$B$4:$C$15,2,FALSE())","v":"SC"},{"$f":"VLOOKUP(C3961,Referencias!$B$18:$C$34,2,FALSE())","v":"CL"},"C"]
["4775954","Gómez-Pallete Moliner, Alfonso","Castilla y León","C","Primera Picas","Competición",1,{"$f":"VLOOKUP(E3962,Referencias!$B$4:$C$15,2,FALSE())","v":"1P"},{"$f":"VLOOKUP(C3962,Referencias!$B$18:$C$34,2,FALSE())","v":"CL"},"C"]
["4775958","Casares, Fernando","Castilla y León","C","Sin Categoría","Competición",4,{"$f":"VLOOKUP(E3963,Referencias!$B$4:$C$15,2,FALSE())","v":"SC"},{"$f":"VLOOKUP(C3963,Referencias!$B$18:$C$34,2,FALSE())","v":"CL"},"C"]
["4775962","Martín Torres Pardo, Consuelo","Castilla y León","D","Tercera Picas","Competición",3,{"$f":"VLOOKUP(E3964,Referencias!$B$4:$C$15,2,FALSE())","v":"3P"},{"$f":"VLOOKUP(C3964,Referencias!$B$18:$C$34,2,FALSE())","v":"CL"},"C"]
["4775967","Mediante Blazquez, M. Antonia","Castilla y León","D","Segunda Picas","Competición",2,{"$f":"VLOOKUP(E3965,Referencias!$B$4:$C$15,2,FALSE())","v":"2P"},{"$f":"VLOOKUP(C3965,Referencias!$B$18:$C$34,2,FALSE())","v":"CL"},"C"]
["4775981","Gómez Heredia, Irene","Castilla y León","D","Tercera Picas","Competición",3,{"$f":"VLOOKUP(E3966,Referencias!$B$4:$C$15,2,FALSE())","v":"3P"},{"$f":"VLOOKUP(C3966,Referencias!$B$18:$C$34,2,FALSE())","v":"CL"},"C"]
["4775982","Sandoval, M. Teresa","Castilla y León","D","Segunda Diamante","Competición",2,{"$f":"VLOOKUP(E3967,Referencias!$B$4:$C$15,2,FALSE())","v":"2D"},{"$f":"VLOOKUP(C3967,Referencias!$B$18:$C$34,2,FALSE())","v":"CL"},"C"]
["4775986","Perdiguero, M. del Carmen","Castilla y León","D","Tercera Corazón","Competición",3,{"$f":"VLOOKUP(E3968,Referencias!$B$4:$C$15,2,FALSE())","v":"3C"},{"$f":"VLOOKUP(C3968,Referencias!$B$18:$C$34,2,FALSE())","v":"CL"},{"$f":"IF(D3968=\"Dama\",\"D\",\"C\")","v":"C"}]
["4775990","Camiruaga, M. Concepción","Castilla y León","D","Segunda Corazón","Competición",2,{"$f":"VLOOKUP(E3969,Referencias!$B$4:$C$15,2,FALSE())","v":"2C"},{"$f":"VLOOKUP(C3969,Referencias!$B$18:$C$34,2,FALSE())","v":"CL"},"C"]
["4775992","Marín, Josefa","Castilla y León","D","Segunda Diamante","Competición",2,{"$f":"VLOOKUP(E3970,Referencias!$B$4:$C$15,2,FALSE())","v":"2D"},{"$f":"VLOOKUP(C3970,Referencias!$B$18:$C$34,2,FALSE())","v":"CL"},"C"]
["4881008","Garrote, María Luisa","Vasca","D","Tercera Diamante","Competición",3,{"$f":"VLOOKUP(E3971,Referencias!$B$4:$C$15,2,FALSE())","v":"3D"},{"$f":"VLOOKUP(C3971,Referencias!$B$18:$C$34,2,FALSE())","v":"PV"},"C"]
["4881019","Cadiñanos Díaz Tejeiro, Eugenia","Vasca","D","Segunda Diamante","Competición",2,{"$f":"VLOOKUP(E3972,Referencias!$B$4:$C$15,2,FALSE())","v":"2D"},{"$f":"VLOOKUP(C3972,Referencias!$B$18:$C$34,2,FALSE())","v":"PV"},"C"]
["4881022","Marcos, Igone","Vasca","D","Tercera Diamante","Competición",3,{"$f":"VLOOKUP(E3973,Referencias!$B$4:$C$15,2,FALSE())","v":"3D"},{"$f":"VLOOKUP(C3973,Referencias!$B$18:$C$34,2,FALSE())","v":"PV"},"C"]
["4881053","Villalba Lang, Aurora","Vasca","D","Tercera Picas","Competición",3,{"$f":"VLOOKUP(E3974,Referencias!$B$4:$C$15,2,FALSE())","v":"3P"},{"$f":"VLOOKUP(C3974,Referencias!$B$18:$C$34,2,FALSE())","v":"PV"},"C"]
["4881060","Cuesta Pedraz, Elena","Vasca","D","Sin Categoría","Competición",4,{"$f":"VLOOKUP(E3975,Referencias!$B$4:$C$15,2,FALSE())","v":"SC"},{"$f":"VLOOKUP(C3975,Referencias!$B$18:$C$34,2,FALSE())","v":"PV"},"C"]
["4881061","Beraza López Jacoisti, Mercedes","Vasca","D","Tercera Diamante","Competición",3,{"$f":"VLOOKUP(E3976,Referencias!$B$4:$C$15,2,FALSE())","v":"3D"},{"$f":"VLOOKUP(C3976,Referencias!$B$18:$C$34,2,FALSE())","v":"PV"},"C"]
["4881062","Beraza López Jacoisti, Eugenia","Vasca","D","Tercera Corazón","Competición",3,{"$f":"VLOOKUP(E3977,Referencias!$B$4:$C$15,2,FALSE())","v":"3C"},{"$f":"VLOOKUP(C3977,Referencias!$B$18:$C$34,2,FALSE())","v":"PV"},"C"]
["4881063","Castellanos Borrego, Anni","Vasca","D","Segunda Picas","Competición",2,{"$f":"VLOOKUP(E3978,Referencias!$B$4:$C$15,2,FALSE())","v":"2P"},{"$f":"VLOOKUP(C3978,Referencias!$B$18:$C$34,2,FALSE())","v":"PV"},"C"]
["4881064","Garteiz Iguain, Inmaculada","Vasca","D","Segunda Picas","Competición",2,{"$f":"VLOOKUP(E3979,Referencias!$B$4:$C$15,2,FALSE())","v":"2P"},{"$f":"VLOOKUP(C3979,Referencias!$B$18:$C$34,2,FALSE())","v":"PV"},"C"]
["4881065","Lozano Allende, Clara","Vasca","D","Segunda Corazón","Competición",2,{"$f":"VLOOKUP(E3980,Referencias!$B$4:$C$15,2,FALSE())","v":"2C"},{"$f":"VLOOKUP(C3980,Referencias!$B$18:$C$34,2,FALSE())","v":"PV"},"C"]
["4881083","Sainz de Aja Nieto, Mari Paz","Vasca","D","Segunda Picas","Competición",2,{"$f":"VLOOKUP(E3981,Referencias!$B$4:$C$15,2,FALSE())","v":"2P"},{"$f":"VLOOKUP(C3981,Referencias!$B$18:$C$34,2,FALSE())","v":"PV"},"C"]
["4881106","Cavestany, María Salud","Vasca","D","Tercera Corazón","Competición",3,{"$f":"VLOOKUP(E3982,Referencias!$B$4:$C$15,2,FALSE())","v":"3C"},{"$f":"VLOOKUP(C3982,Referencias!$B$18:$C$34,2,FALSE())","v":"PV"},"C"]
["4881110","Eguillor Gutierrez, Begoña","Vasca","D","Sin Categoría","Competición",4,{"$f":"VLOOKUP(E3983,Referencias!$B$4:$C$15,2,FALSE())","v":"SC"},{"$f":"VLOOKUP(C3983,Referencias!$B$18:$C$34,2,FALSE())","v":"PV"},"C"]
["4881111","Peña Sánchez, Mª Asunción","Vasca","D","Segunda Picas","Competición",2,{"$f":"VLOOKUP(E3984,Referencias!$B$4:$C$15,2,FALSE())","v":"2P"},{"$f":"VLOOKUP(C3984,Referencias!$B$18:$C$34,2,FALSE())","v":"PV"},"C"]
["4881121","Barandiaran Benito del Valle, Mercedes","Vasca","D","Tercera Corazón","Competición",3,{"$f":"VLOOKUP(E3985,Referencias!$B$4:$C$15,2,FALSE())","v":"3C"},{"$f":"VLOOKUP(C3985,Referencias!$B$18:$C$34,2,FALSE())","v":"PV"},"C"]
["4881123","Muguruza Garteiz, Eugenia","Vasca","D","Tercera Corazón","Competición",3,{"$f":"VLOOKUP(E3986,Referencias!$B$4:$C$15,2,FALSE())","v":"3C"},{"$f":"VLOOKUP(C3986,Referencias!$B$18:$C$34,2,FALSE())","v":"PV"},"C"]
["4881124","Ruiz, Estrella","Vasca","D","Tercera Picas","Competición",3,{"$f":"VLOOKUP(E3987,Referencias!$B$4:$C$15,2,FALSE())","v":"3P"},{"$f":"VLOOKUP(C3987,Referencias!$B$18:$C$34,2,FALSE())","v":"PV"},"C"]
["4881128","Ferrer Barrio, Carmen","Vasca","D","Tercera Picas","Competición",3,{"$f":"VLOOKUP(E3988,Referencias!$B$4:$C$15,2,FALSE())","v":"3P"},{"$f":"VLOOKUP(C3988,Referencias!$B$18:$C$34,2,FALSE())","v":"PV"},"C"]
["4881129","Laso de la Vega, Mª Angeles","Vasca","D","Tercera Diamante","Competición",3,{"$f":"VLOOKUP(E3989,Referencias!$B$4:$C$15,2,FALSE())","v":"3D"},{"$f":"VLOOKUP(C3989,Referencias!$B$18:$C$34,2,FALSE())","v":"PV"},"C"]
["4881131","García Espiga, Elvira","Vasca","D","Sin Categoría","Competición",4,{"$f":"VLOOKUP(E3990,Referencias!$B$4:$C$15,2,FALSE())","v":"SC"},{"$f":"VLOOKUP(C3990,Referencias!$B$18:$C$34,2,FALSE())","v":"PV"},"C"]
["4881145","Eguillor Gutierrez, Mª José","Vasca","D","Sin Categoría","Competición",4,{"$f":"VLOOKUP(E3991,Referencias!$B$4:$C$15,2,FALSE())","v":"SC"},{"$f":"VLOOKUP(C3991,Referencias!$B$18:$C$34,2,FALSE())","v":"PV"},"C"]
["4881151","Urieta Arbaizagoitia, Mª Mercedes","Vasca","D","Tercera Picas","Competición",3,{"$f":"VLOOKUP(E3992,Referencias!$B$4:$C$15,2,FALSE())","v":"3P"},{"$f":"VLOOKUP(C3992,Referencias!$B$18:$C$34,2,FALSE())","v":"PV"},"C"]
["4881156","Peña Rodríguez, Mª Rosario","Vasca","D","Tercera Picas","Competición",3,{"$f":"VLOOKUP(E3993,Referencias!$B$4:$C$15,2,FALSE())","v":"3P"},{"$f":"VLOOKUP(C3993,Referencias!$B$18:$C$34,2,FALSE())","v":"PV"},"C"]
["4881163","Darriba, María Cruz","Vasca","D","Tercera Corazón","Competición",3,{"$f":"VLOOKUP(E3994,Referencias!$B$4:$C$15,2,FALSE())","v":"3C"},{"$f":"VLOOKUP(C3994,Referencias!$B$18:$C$34,2,FALSE())","v":"PV"},"C"]
["4881164","Arenaza Castellanos, Jesús","Vasca","C","Primera Picas","Competición",1,{"$f":"VLOOKUP(E3995,Referencias!$B$4:$C$15,2,FALSE())","v":"1P"},{"$f":"VLOOKUP(C3995,Referencias!$B$18:$C$34,2,FALSE())","v":"PV"},"C"]
["4881165","Herrera, Maite","Vasca","D","Sin Categoría","Competición",4,{"$f":"VLOOKUP(E3996,Referencias!$B$4:$C$15,2,FALSE())","v":"SC"},{"$f":"VLOOKUP(C3996,Referencias!$B$18:$C$34,2,FALSE())","v":"PV"},"C"]
["4881166","Zumárraga Ortiz, Mercedes","Vasca","D","Primera Diamante","Competición",1,{"$f":"VLOOKUP(E3997,Referencias!$B$4:$C$15,2,FALSE())","v":"1D"},{"$f":"VLOOKUP(C3997,Referencias!$B$18:$C$34,2,FALSE())","v":"PV"},"C"]
["4881179","Puerta Díez, Pilar","Vasca","D","Tercera Diamante","Competición",3,{"$f":"VLOOKUP(E3998,Referencias!$B$4:$C$15,2,FALSE())","v":"3D"},{"$f":"VLOOKUP(C3998,Referencias!$B$18:$C$34,2,FALSE())","v":"PV"},"C"]
["4881180","Ramírez Oyanguren, Gemma","Vasca","D","Tercera Corazón","Competición",3,{"$f":"VLOOKUP(E3999,Referencias!$B$4:$C$15,2,FALSE())","v":"3C"},{"$f":"VLOOKUP(C3999,Referencias!$B$18:$C$34,2,FALSE())","v":"PV"},"C"]
["4881181","Pellón Ureta, Esther","Vasca","D","Tercera Corazón","Competición",3,{"$f":"VLOOKUP(E4000,Referencias!$B$4:$C$15,2,FALSE())","v":"3C"},{"$f":"VLOOKUP(C4000,Referencias!$B$18:$C$34,2,FALSE())","v":"PV"},"C"]
["4881182","Lejarraga Lejarraga, Felicidad","Vasca","D","Tercera Diamante","Competición",3,{"$f":"VLOOKUP(E4001,Referencias!$B$4:$C$15,2,FALSE())","v":"3D"},{"$f":"VLOOKUP(C4001,Referencias!$B$18:$C$34,2,FALSE())","v":"PV"},"C"]
["4881189","Mancisidor Iturregui, Belen","Vasca","D","Tercera Diamante","Competición",3,{"$f":"VLOOKUP(E4002,Referencias!$B$4:$C$15,2,FALSE())","v":"3D"},{"$f":"VLOOKUP(C4002,Referencias!$B$18:$C$34,2,FALSE())","v":"PV"},"C"]
["4881193","Sánchez Movilla, Pilar","Vasca","D","Tercera Diamante","Competición",3,{"$f":"VLOOKUP(E4003,Referencias!$B$4:$C$15,2,FALSE())","v":"3D"},{"$f":"VLOOKUP(C4003,Referencias!$B$18:$C$34,2,FALSE())","v":"PV"},"C"]
["4881199","Jado Mazas, Mª Angeles","Vasca","D","Tercera Diamante","Competición",3,{"$f":"VLOOKUP(E4004,Referencias!$B$4:$C$15,2,FALSE())","v":"3D"},{"$f":"VLOOKUP(C4004,Referencias!$B$18:$C$34,2,FALSE())","v":"PV"},"C"]
["4881200","Serna Cuevas, Mª Sol","Vasca","D","Tercera Picas","Competición",3,{"$f":"VLOOKUP(E4005,Referencias!$B$4:$C$15,2,FALSE())","v":"3P"},{"$f":"VLOOKUP(C4005,Referencias!$B$18:$C$34,2,FALSE())","v":"PV"},"C"]
["4881201","Telleria Altuna, Amaya","Vasca","D","Sin Categoría","Competición",4,{"$f":"VLOOKUP(E4006,Referencias!$B$4:$C$15,2,FALSE())","v":"SC"},{"$f":"VLOOKUP(C4006,Referencias!$B$18:$C$34,2,FALSE())","v":"PV"},"C"]
["4881203","Elguezabal, Begoña","Vasca","D","Tercera Corazón","Competición",3,{"$f":"VLOOKUP(E4007,Referencias!$B$4:$C$15,2,FALSE())","v":"3C"},{"$f":"VLOOKUP(C4007,Referencias!$B$18:$C$34,2,FALSE())","v":"PV"},"C"]
["4881204","Aldazabal García, Pilar","Vasca","D","Tercera Corazón","Competición",3,{"$f":"VLOOKUP(E4008,Referencias!$B$4:$C$15,2,FALSE())","v":"3C"},{"$f":"VLOOKUP(C4008,Referencias!$B$18:$C$34,2,FALSE())","v":"PV"},"C"]
["4881211","Basterra Gallano, Pepa","Vasca","D","Sin Categoría","Competición",4,{"$f":"VLOOKUP(E4009,Referencias!$B$4:$C$15,2,FALSE())","v":"SC"},{"$f":"VLOOKUP(C4009,Referencias!$B$18:$C$34,2,FALSE())","v":"PV"},"C"]
["4881212","Eguzquiaguirre, Lori","Vasca","D","Tercera Picas","Competición",3,{"$f":"VLOOKUP(E4010,Referencias!$B$4:$C$15,2,FALSE())","v":"3P"},{"$f":"VLOOKUP(C4010,Referencias!$B$18:$C$34,2,FALSE())","v":"PV"},"C"]
["4881218","De Diego Zuazo, Mabe","Vasca","C","Sin Categoría","Competición",4,{"$f":"VLOOKUP(E4011,Referencias!$B$4:$C$15,2,FALSE())","v":"SC"},{"$f":"VLOOKUP(C4011,Referencias!$B$18:$C$34,2,FALSE())","v":"PV"},"C"]
["4881219","Gorostiza, Carmen","Vasca","D","Sin Categoría","Competición",4,{"$f":"VLOOKUP(E4012,Referencias!$B$4:$C$15,2,FALSE())","v":"SC"},{"$f":"VLOOKUP(C4012,Referencias!$B$18:$C$34,2,FALSE())","v":"PV"},"C"]
["4881223","Hurtado de Saracho, María","Vasca","D","Tercera Diamante","Competición",3,{"$f":"VLOOKUP(E4013,Referencias!$B$4:$C$15,2,FALSE())","v":"3D"},{"$f":"VLOOKUP(C4013,Referencias!$B$18:$C$34,2,FALSE())","v":"PV"},"C"]
["4881224","Echevarría de Rada, Maria","Vasca","D","Tercera Diamante","Competición",3,{"$f":"VLOOKUP(E4014,Referencias!$B$4:$C$15,2,FALSE())","v":"3D"},{"$f":"VLOOKUP(C4014,Referencias!$B$18:$C$34,2,FALSE())","v":"PV"},"C"]
["4881225","Maguregui, Clara","Vasca","D","Tercera Diamante","Competición",3,{"$f":"VLOOKUP(E4015,Referencias!$B$4:$C$15,2,FALSE())","v":"3D"},{"$f":"VLOOKUP(C4015,Referencias!$B$18:$C$34,2,FALSE())","v":"PV"},"C"]
["4881231","Elejalde Errasti, Arantza","Vasca","D","Tercera Diamante","Competición",3,{"$f":"VLOOKUP(E4016,Referencias!$B$4:$C$15,2,FALSE())","v":"3D"},{"$f":"VLOOKUP(C4016,Referencias!$B$18:$C$34,2,FALSE())","v":"PV"},"C"]
["4881233","Santiago Ortúzar, Concepción","Vasca","D","Tercera Picas","Competición",3,{"$f":"VLOOKUP(E4017,Referencias!$B$4:$C$15,2,FALSE())","v":"3P"},{"$f":"VLOOKUP(C4017,Referencias!$B$18:$C$34,2,FALSE())","v":"PV"},"C"]
["4881234","Goicoechea Bartolome, Natividad","Vasca","D","Sin Categoría","Competición",4,{"$f":"VLOOKUP(E4018,Referencias!$B$4:$C$15,2,FALSE())","v":"SC"},{"$f":"VLOOKUP(C4018,Referencias!$B$18:$C$34,2,FALSE())","v":"PV"},"C"]
["4881235","Gaytan de Ayala, Alejandro","Vasca","C","Segunda Diamante","Competición",2,{"$f":"VLOOKUP(E4019,Referencias!$B$4:$C$15,2,FALSE())","v":"2D"},{"$f":"VLOOKUP(C4019,Referencias!$B$18:$C$34,2,FALSE())","v":"PV"},"C"]
["4881236","Martínez Martínez, Pilar","Vasca","D","Tercera Corazón","Competición",3,{"$f":"VLOOKUP(E4020,Referencias!$B$4:$C$15,2,FALSE())","v":"3C"},{"$f":"VLOOKUP(C4020,Referencias!$B$18:$C$34,2,FALSE())","v":"PV"},"C"]
["4881237","Regalado Marichalar, Francisco","Vasca","C","Tercera Corazón","Competición",3,{"$f":"VLOOKUP(E4021,Referencias!$B$4:$C$15,2,FALSE())","v":"3C"},{"$f":"VLOOKUP(C4021,Referencias!$B$18:$C$34,2,FALSE())","v":"PV"},"C"]
["4881238","Carranza Irusta, Mª Jesús","Vasca","D","Tercera Corazón","Competición",3,{"$f":"VLOOKUP(E4022,Referencias!$B$4:$C$15,2,FALSE())","v":"3C"},{"$f":"VLOOKUP(C4022,Referencias!$B$18:$C$34,2,FALSE())","v":"PV"},"C"]
["4881240","Cadarso Manzanares, María","Vasca","D","Tercera Diamante","Competición",3,{"$f":"VLOOKUP(E4023,Referencias!$B$4:$C$15,2,FALSE())","v":"3D"},{"$f":"VLOOKUP(C4023,Referencias!$B$18:$C$34,2,FALSE())","v":"PV"},"C"]
["4881241","Ceberio Seco, Marta","Vasca","D","Sin Categoría","Competición",4,{"$f":"VLOOKUP(E4024,Referencias!$B$4:$C$15,2,FALSE())","v":"SC"},{"$f":"VLOOKUP(C4024,Referencias!$B$18:$C$34,2,FALSE())","v":"PV"},"C"]
["4881251","Salazar, Mercedes","Vasca","D","Tercera Corazón","Competición",3,{"$f":"VLOOKUP(E4025,Referencias!$B$4:$C$15,2,FALSE())","v":"3C"},{"$f":"VLOOKUP(C4025,Referencias!$B$18:$C$34,2,FALSE())","v":"PV"},"C"]
["4881252","Salazar, Marta","Vasca","D","Tercera Corazón","Competición",3,{"$f":"VLOOKUP(E4026,Referencias!$B$4:$C$15,2,FALSE())","v":"3C"},{"$f":"VLOOKUP(C4026,Referencias!$B$18:$C$34,2,FALSE())","v":"PV"},"C"]
["4881256","Fabregas, Ana","Vasca","D","Sin Categoría","Competición",4,{"$f":"VLOOKUP(E4027,Referencias!$B$4:$C$15,2,FALSE())","v":"SC"},{"$f":"VLOOKUP(C4027,Referencias!$B$18:$C$34,2,FALSE())","v":"PV"},"C"]
["4881260","Arbaiza, Lourdes","Vasca","D","Sin Categoría","Competición",4,{"$f":"VLOOKUP(E4028,Referencias!$B$4:$C$15,2,FALSE())","v":"SC"},{"$f":"VLOOKUP(C4028,Referencias!$B$18:$C$34,2,FALSE())","v":"PV"},"C"]
["4881263","López Gónzalez, Dolores","Vasca","D","Tercera Corazón","Competición",3,{"$f":"VLOOKUP(E4029,Referencias!$B$4:$C$15,2,FALSE())","v":"3C"},{"$f":"VLOOKUP(C4029,Referencias!$B$18:$C$34,2,FALSE())","v":"PV"},"C"]
["4881267","Trevijano Arístegui, Mª Jesús","Vasca","D","Sin Categoría","Competición",4,{"$f":"VLOOKUP(E4030,Referencias!$B$4:$C$15,2,FALSE())","v":"SC"},{"$f":"VLOOKUP(C4030,Referencias!$B$18:$C$34,2,FALSE())","v":"PV"},"C"]
["4881268","García Zalbidea, Mª Luisa","Vasca","D","Tercera Picas","Competición",3,{"$f":"VLOOKUP(E4031,Referencias!$B$4:$C$15,2,FALSE())","v":"3P"},{"$f":"VLOOKUP(C4031,Referencias!$B$18:$C$34,2,FALSE())","v":"PV"},"C"]
["4881269","Estella Escudero, Enrique","Vasca","C","Tercera Diamante","Competición",3,{"$f":"VLOOKUP(E4032,Referencias!$B$4:$C$15,2,FALSE())","v":"3D"},{"$f":"VLOOKUP(C4032,Referencias!$B$18:$C$34,2,FALSE())","v":"PV"},{"$f":"IF(D4032=\"Dama\",\"D\",\"C\")","v":"C"}]
["4881272","Uruñuela del Rio, Cristina","Vasca","D","Tercera Diamante","Competición",3,{"$f":"VLOOKUP(E4033,Referencias!$B$4:$C$15,2,FALSE())","v":"3D"},{"$f":"VLOOKUP(C4033,Referencias!$B$18:$C$34,2,FALSE())","v":"PV"},"C"]
["4881273","Landin, Teresa","Vasca","D","Sin Categoría","Competición",4,{"$f":"VLOOKUP(E4034,Referencias!$B$4:$C$15,2,FALSE())","v":"SC"},{"$f":"VLOOKUP(C4034,Referencias!$B$18:$C$34,2,FALSE())","v":"PV"},"C"]
["4881274","Franks, Jeffrey Roy","Vasca","C","Tercera Picas","Competición",3,{"$f":"VLOOKUP(E4035,Referencias!$B$4:$C$15,2,FALSE())","v":"3P"},{"$f":"VLOOKUP(C4035,Referencias!$B$18:$C$34,2,FALSE())","v":"PV"},"C"]
["4883601","Landabaso Vergara, Nieves","Vasca","D","Primera Diamante","Competición",1,{"$f":"VLOOKUP(E4036,Referencias!$B$4:$C$15,2,FALSE())","v":"1D"},{"$f":"VLOOKUP(C4036,Referencias!$B$18:$C$34,2,FALSE())","v":"PV"},"C"]
["4883623","Calonge de Olabe, Paz","Vasca","D","Tercera Picas","Competición",3,{"$f":"VLOOKUP(E4037,Referencias!$B$4:$C$15,2,FALSE())","v":"3P"},{"$f":"VLOOKUP(C4037,Referencias!$B$18:$C$34,2,FALSE())","v":"PV"},"C"]
["4883624","Velasco de Hurtado de Mendoza, M. Gabriela","Vasca","D","Segunda Corazón","Competición",2,{"$f":"VLOOKUP(E4038,Referencias!$B$4:$C$15,2,FALSE())","v":"2C"},{"$f":"VLOOKUP(C4038,Referencias!$B$18:$C$34,2,FALSE())","v":"PV"},"C"]
["4883630","Couceiro, María Paz","Vasca","D","Segunda Corazón","Competición",2,{"$f":"VLOOKUP(E4039,Referencias!$B$4:$C$15,2,FALSE())","v":"2C"},{"$f":"VLOOKUP(C4039,Referencias!$B$18:$C$34,2,FALSE())","v":"PV"},"C"]
["4883641","De Collell, Mercedes","Vasca","D","Sin Categoría","Competición",4,{"$f":"VLOOKUP(E4040,Referencias!$B$4:$C$15,2,FALSE())","v":"SC"},{"$f":"VLOOKUP(C4040,Referencias!$B$18:$C$34,2,FALSE())","v":"PV"},"C"]
["4883650","Maeso de Acillona, Esther","Vasca","D","Tercera Picas","Competición",3,{"$f":"VLOOKUP(E4041,Referencias!$B$4:$C$15,2,FALSE())","v":"3P"},{"$f":"VLOOKUP(C4041,Referencias!$B$18:$C$34,2,FALSE())","v":"PV"},"C"]
["4883658","Calzada Rodríguez, Juan","Vasca","C","Tercera Corazón","Competición",3,{"$f":"VLOOKUP(E4042,Referencias!$B$4:$C$15,2,FALSE())","v":"3C"},{"$f":"VLOOKUP(C4042,Referencias!$B$18:$C$34,2,FALSE())","v":"PV"},"C"]
["4883661","Fincias, Patrice","Vasca","C","Primera Picas","Competición",1,{"$f":"VLOOKUP(E4043,Referencias!$B$4:$C$15,2,FALSE())","v":"1P"},{"$f":"VLOOKUP(C4043,Referencias!$B$18:$C$34,2,FALSE())","v":"PV"},"C"]
["4883679","Navea, Carmen","Vasca","D","Segunda Diamante","Competición",2,{"$f":"VLOOKUP(E4044,Referencias!$B$4:$C$15,2,FALSE())","v":"2D"},{"$f":"VLOOKUP(C4044,Referencias!$B$18:$C$34,2,FALSE())","v":"PV"},"C"]
["4883680","Abrisketa González, M. Angeles","Vasca","D","Segunda Corazón","Competición",2,{"$f":"VLOOKUP(E4045,Referencias!$B$4:$C$15,2,FALSE())","v":"2C"},{"$f":"VLOOKUP(C4045,Referencias!$B$18:$C$34,2,FALSE())","v":"PV"},"C"]
["4883682","Zarauz Elguezabal, Fco. Javier","Vasca","C","Tercera Picas","Competición",3,{"$f":"VLOOKUP(E4046,Referencias!$B$4:$C$15,2,FALSE())","v":"3P"},{"$f":"VLOOKUP(C4046,Referencias!$B$18:$C$34,2,FALSE())","v":"PV"},"C"]
["4883683","Saralegui de Zarauz, M. Covadonga","Vasca","D","Segunda Corazón","Competición",2,{"$f":"VLOOKUP(E4047,Referencias!$B$4:$C$15,2,FALSE())","v":"2C"},{"$f":"VLOOKUP(C4047,Referencias!$B$18:$C$34,2,FALSE())","v":"PV"},"C"]
["4883688","Casla Barrios, Carmen","Vasca","D","Segunda Picas","Competición",2,{"$f":"VLOOKUP(E4048,Referencias!$B$4:$C$15,2,FALSE())","v":"2P"},{"$f":"VLOOKUP(C4048,Referencias!$B$18:$C$34,2,FALSE())","v":"PV"},"C"]
["4883698","Besga López, José Angel","Vasca","C","Sin Categoría","Competición",4,{"$f":"VLOOKUP(E4049,Referencias!$B$4:$C$15,2,FALSE())","v":"SC"},{"$f":"VLOOKUP(C4049,Referencias!$B$18:$C$34,2,FALSE())","v":"PV"},"C"]
["4883705","Moreno Rojo, Severiano","Vasca","C","Segunda Picas","Competición",2,{"$f":"VLOOKUP(E4050,Referencias!$B$4:$C$15,2,FALSE())","v":"2P"},{"$f":"VLOOKUP(C4050,Referencias!$B$18:$C$34,2,FALSE())","v":"PV"},"C"]
["4883721","Oliva Albalete, María","Vasca","D","Sin Categoría","Competición",4,{"$f":"VLOOKUP(E4051,Referencias!$B$4:$C$15,2,FALSE())","v":"SC"},{"$f":"VLOOKUP(C4051,Referencias!$B$18:$C$34,2,FALSE())","v":"PV"},"C"]
["4883723","Castilla Díez, Ana","Vasca","D","Tercera Picas","Competición",3,{"$f":"VLOOKUP(E4052,Referencias!$B$4:$C$15,2,FALSE())","v":"3P"},{"$f":"VLOOKUP(C4052,Referencias!$B$18:$C$34,2,FALSE())","v":"PV"},"C"]
["4883726","Vasquez de Wencelblat, Gladys","Vasca","D","Segunda Diamante","Competición",2,{"$f":"VLOOKUP(E4053,Referencias!$B$4:$C$15,2,FALSE())","v":"2D"},{"$f":"VLOOKUP(C4053,Referencias!$B$18:$C$34,2,FALSE())","v":"PV"},"C"]
["4883730","Sierra Calderón, Eva","Vasca","D","Tercera Picas","Competición",3,{"$f":"VLOOKUP(E4054,Referencias!$B$4:$C$15,2,FALSE())","v":"3P"},{"$f":"VLOOKUP(C4054,Referencias!$B$18:$C$34,2,FALSE())","v":"PV"},"C"]
["4883732","Borao de la Fuente, Adela","Vasca","D","Tercera Picas","Competición",3,{"$f":"VLOOKUP(E4055,Referencias!$B$4:$C$15,2,FALSE())","v":"3P"},{"$f":"VLOOKUP(C4055,Referencias!$B$18:$C$34,2,FALSE())","v":"PV"},"C"]
["4883733","Etxebarría Mezo, Arantxa","Vasca","D","Tercera Picas","Competición",3,{"$f":"VLOOKUP(E4056,Referencias!$B$4:$C$15,2,FALSE())","v":"3P"},{"$f":"VLOOKUP(C4056,Referencias!$B$18:$C$34,2,FALSE())","v":"PV"},"C"]
["4883736","Mendi, Charo","Vasca","D","Primera Diamante","Competición",1,{"$f":"VLOOKUP(E4057,Referencias!$B$4:$C$15,2,FALSE())","v":"1D"},{"$f":"VLOOKUP(C4057,Referencias!$B$18:$C$34,2,FALSE())","v":"PV"},"C"]
["4883740","Ruiz de Velasco, Mónica","Vasca","D","Tercera Corazón","Competición",3,{"$f":"VLOOKUP(E4058,Referencias!$B$4:$C$15,2,FALSE())","v":"3C"},{"$f":"VLOOKUP(C4058,Referencias!$B$18:$C$34,2,FALSE())","v":"PV"},"C"]
["4883747","Puerta de Olabarría, M. Asunción","Vasca","D","Tercera Corazón","Competición",3,{"$f":"VLOOKUP(E4059,Referencias!$B$4:$C$15,2,FALSE())","v":"3C"},{"$f":"VLOOKUP(C4059,Referencias!$B$18:$C$34,2,FALSE())","v":"PV"},"C"]
["4883756","Villa Pastor, Mila","Vasca","D","Sin Categoría","Competición",4,{"$f":"VLOOKUP(E4060,Referencias!$B$4:$C$15,2,FALSE())","v":"SC"},{"$f":"VLOOKUP(C4060,Referencias!$B$18:$C$34,2,FALSE())","v":"PV"},"C"]
["4883759","Ledo Pozueta, Isabel","Vasca","D","Tercera Diamante","Competición",3,{"$f":"VLOOKUP(E4061,Referencias!$B$4:$C$15,2,FALSE())","v":"3D"},{"$f":"VLOOKUP(C4061,Referencias!$B$18:$C$34,2,FALSE())","v":"PV"},"C"]
["4883760","Ros Eguia, Begoña","Vasca","D","Sin Categoría","Competición",4,{"$f":"VLOOKUP(E4062,Referencias!$B$4:$C$15,2,FALSE())","v":"SC"},{"$f":"VLOOKUP(C4062,Referencias!$B$18:$C$34,2,FALSE())","v":"PV"},"C"]
["4883761","Uriarte Martínez, Inmaculada","Vasca","D","Tercera Diamante","Competición",3,{"$f":"VLOOKUP(E4063,Referencias!$B$4:$C$15,2,FALSE())","v":"3D"},{"$f":"VLOOKUP(C4063,Referencias!$B$18:$C$34,2,FALSE())","v":"PV"},"C"]
["5002016","Bellota Gallardo, Maria Rosario","Aragonesa","D","Sin Categoría","Competición",4,{"$f":"VLOOKUP(E4064,Referencias!$B$4:$C$15,2,FALSE())","v":"SC"},{"$f":"VLOOKUP(C4064,Referencias!$B$18:$C$34,2,FALSE())","v":"AR"},"C"]
["5002035","Cortés Arnal, Mª Luz","Aragonesa","D","Sin Categoría","Competición",4,{"$f":"VLOOKUP(E4065,Referencias!$B$4:$C$15,2,FALSE())","v":"SC"},{"$f":"VLOOKUP(C4065,Referencias!$B$18:$C$34,2,FALSE())","v":"AR"},"C"]
["5002041","Zueco Ruiz, Enrique","Aragonesa","C","Sin Categoría","Competición",4,{"$f":"VLOOKUP(E4066,Referencias!$B$4:$C$15,2,FALSE())","v":"SC"},{"$f":"VLOOKUP(C4066,Referencias!$B$18:$C$34,2,FALSE())","v":"AR"},"C"]
["5002050","Pastor Sánchez, Ana Mª","Aragonesa","D","Sin Categoría","Competición",4,{"$f":"VLOOKUP(E4067,Referencias!$B$4:$C$15,2,FALSE())","v":"SC"},{"$f":"VLOOKUP(C4067,Referencias!$B$18:$C$34,2,FALSE())","v":"AR"},"C"]
["5002052","Hernández Herrera, Rosa","Aragonesa","D","Sin Categoría","Competición",4,{"$f":"VLOOKUP(E4068,Referencias!$B$4:$C$15,2,FALSE())","v":"SC"},{"$f":"VLOOKUP(C4068,Referencias!$B$18:$C$34,2,FALSE())","v":"AR"},"C"]
["5002053","Lete del Río, Mª Dolores","Aragonesa","D","Sin Categoría","Competición",4,{"$f":"VLOOKUP(E4069,Referencias!$B$4:$C$15,2,FALSE())","v":"SC"},{"$f":"VLOOKUP(C4069,Referencias!$B$18:$C$34,2,FALSE())","v":"AR"},"C"]
["5002054","Embid Marco, Mª Teresa","Aragonesa","D","Sin Categoría","Competición",4,{"$f":"VLOOKUP(E4070,Referencias!$B$4:$C$15,2,FALSE())","v":"SC"},{"$f":"VLOOKUP(C4070,Referencias!$B$18:$C$34,2,FALSE())","v":"AR"},"C"]
["5002061","Morales Hernández, Mª Luisa","Aragonesa","D","Sin Categoría","Competición",4,{"$f":"VLOOKUP(E4071,Referencias!$B$4:$C$15,2,FALSE())","v":"SC"},{"$f":"VLOOKUP(C4071,Referencias!$B$18:$C$34,2,FALSE())","v":"AR"},"C"]
["5002062","Olivan Moliner, Mª Elena","Aragonesa","D","Sin Categoría","Competición",4,{"$f":"VLOOKUP(E4072,Referencias!$B$4:$C$15,2,FALSE())","v":"SC"},{"$f":"VLOOKUP(C4072,Referencias!$B$18:$C$34,2,FALSE())","v":"AR"},"C"]
["5002070","Gómez Díaz-Bravo, Elena","Aragonesa","D","Sin Categoría","Competición",4,{"$f":"VLOOKUP(E4073,Referencias!$B$4:$C$15,2,FALSE())","v":"SC"},{"$f":"VLOOKUP(C4073,Referencias!$B$18:$C$34,2,FALSE())","v":"AR"},"C"]
["5002080","Irigoyen Jadraque, Mª Victoria","Aragonesa","D","Sin Categoría","Competición",4,{"$f":"VLOOKUP(E4074,Referencias!$B$4:$C$15,2,FALSE())","v":"SC"},{"$f":"VLOOKUP(C4074,Referencias!$B$18:$C$34,2,FALSE())","v":"AR"},"C"]
["5002081","Jimeno Lascorz, Elisa","Aragonesa","D","Sin Categoría","Competición",4,{"$f":"VLOOKUP(E4075,Referencias!$B$4:$C$15,2,FALSE())","v":"SC"},{"$f":"VLOOKUP(C4075,Referencias!$B$18:$C$34,2,FALSE())","v":"AR"},"C"]
["5002084","Lorenzo Boldova, Mª Olvido","Aragonesa","D","Sin Categoría","Competición",4,{"$f":"VLOOKUP(E4076,Referencias!$B$4:$C$15,2,FALSE())","v":"SC"},{"$f":"VLOOKUP(C4076,Referencias!$B$18:$C$34,2,FALSE())","v":"AR"},"C"]
["5002089","Alfageme Ortells, Concha","Aragonesa","D","Sin Categoría","Competición",4,{"$f":"VLOOKUP(E4077,Referencias!$B$4:$C$15,2,FALSE())","v":"SC"},{"$f":"VLOOKUP(C4077,Referencias!$B$18:$C$34,2,FALSE())","v":"AR"},"C"]
["5002091","Vargas Moreno, Natividad","Aragonesa","D","Sin Categoría","Competición",4,{"$f":"VLOOKUP(E4078,Referencias!$B$4:$C$15,2,FALSE())","v":"SC"},{"$f":"VLOOKUP(C4078,Referencias!$B$18:$C$34,2,FALSE())","v":"AR"},"C"]
["5002095","Mir Borraz, Mª Elena","Aragonesa","D","Sin Categoría","Competición",4,{"$f":"VLOOKUP(E4079,Referencias!$B$4:$C$15,2,FALSE())","v":"SC"},{"$f":"VLOOKUP(C4079,Referencias!$B$18:$C$34,2,FALSE())","v":"AR"},"C"]
["5002096","Goyanes Carnicer, Ana","Aragonesa","D","Sin Categoría","Competición",4,{"$f":"VLOOKUP(E4080,Referencias!$B$4:$C$15,2,FALSE())","v":"SC"},{"$f":"VLOOKUP(C4080,Referencias!$B$18:$C$34,2,FALSE())","v":"AR"},"C"]
["5002103","Gonzaléz Usón, María Pilar","Aragonesa","D","Sin Categoría","Competición",4,{"$f":"VLOOKUP(E4081,Referencias!$B$4:$C$15,2,FALSE())","v":"SC"},{"$f":"VLOOKUP(C4081,Referencias!$B$18:$C$34,2,FALSE())","v":"AR"},"C"]
["5002104","Jiménez Cauhe, José María","Aragonesa","C","Segunda Corazón","Competición",2,{"$f":"VLOOKUP(E4082,Referencias!$B$4:$C$15,2,FALSE())","v":"2C"},{"$f":"VLOOKUP(C4082,Referencias!$B$18:$C$34,2,FALSE())","v":"AR"},"C"]
["5002105","Burgos Pérez, Rosa María","Aragonesa","D","Sin Categoría","Competición",4,{"$f":"VLOOKUP(E4083,Referencias!$B$4:$C$15,2,FALSE())","v":"SC"},{"$f":"VLOOKUP(C4083,Referencias!$B$18:$C$34,2,FALSE())","v":"AR"},"C"]
["5002106","Peirote Vallino, Jose Antonio","Aragonesa","C","Sin Categoría","Competición",4,{"$f":"VLOOKUP(E4084,Referencias!$B$4:$C$15,2,FALSE())","v":"SC"},{"$f":"VLOOKUP(C4084,Referencias!$B$18:$C$34,2,FALSE())","v":"AR"},"C"]
["5002107","Cauhe Polo, María Victoria","Aragonesa","D","Segunda Corazón","Competición",2,{"$f":"VLOOKUP(E4085,Referencias!$B$4:$C$15,2,FALSE())","v":"2C"},{"$f":"VLOOKUP(C4085,Referencias!$B$18:$C$34,2,FALSE())","v":"AR"},"C"]
["5002108","Valderrábano, José","Aragonesa","C","Sin Categoría","Competición",4,{"$f":"VLOOKUP(E4086,Referencias!$B$4:$C$15,2,FALSE())","v":"SC"},{"$f":"VLOOKUP(C4086,Referencias!$B$18:$C$34,2,FALSE())","v":"AR"},"C"]
["5002109","Petersen, Mitte","Aragonesa","D","Sin Categoría","Competición",4,{"$f":"VLOOKUP(E4087,Referencias!$B$4:$C$15,2,FALSE())","v":"SC"},{"$f":"VLOOKUP(C4087,Referencias!$B$18:$C$34,2,FALSE())","v":"AR"},"C"]
["5002112","Armentía Marcelina,  Mª Isabel","Aragonesa","D","Sin Categoría","Competición",4,{"$f":"VLOOKUP(E4088,Referencias!$B$4:$C$15,2,FALSE())","v":"SC"},{"$f":"VLOOKUP(C4088,Referencias!$B$18:$C$34,2,FALSE())","v":"AR"},"C"]
["5002113","González Alvarez, Mª Teresa","Aragonesa","D","Sin Categoría","Competición",4,{"$f":"VLOOKUP(E4089,Referencias!$B$4:$C$15,2,FALSE())","v":"SC"},{"$f":"VLOOKUP(C4089,Referencias!$B$18:$C$34,2,FALSE())","v":"AR"},"C"]
["5002136","Rodríguez de Pérez, Elena","Aragonesa","D","Sin Categoría","Competición",4,{"$f":"VLOOKUP(E4090,Referencias!$B$4:$C$15,2,FALSE())","v":"SC"},{"$f":"VLOOKUP(C4090,Referencias!$B$18:$C$34,2,FALSE())","v":"AR"},"C"]
["5002140","Fernández de Pierola, Enriqueta","Aragonesa","D","Tercera Picas","Competición",3,{"$f":"VLOOKUP(E4091,Referencias!$B$4:$C$15,2,FALSE())","v":"3P"},{"$f":"VLOOKUP(C4091,Referencias!$B$18:$C$34,2,FALSE())","v":"AR"},"C"]
["5002176","Chappell, Mark","Asturiana","C","Primera Picas","Competición",1,{"$f":"VLOOKUP(E4092,Referencias!$B$4:$C$15,2,FALSE())","v":"1P"},{"$f":"VLOOKUP(C4092,Referencias!$B$18:$C$34,2,FALSE())","v":"PA"},"C"]
["5002177","Díaz de Fdez.-Granados, Carmen","Aragonesa","D","Sin Categoría","Competición",4,{"$f":"VLOOKUP(E4093,Referencias!$B$4:$C$15,2,FALSE())","v":"SC"},{"$f":"VLOOKUP(C4093,Referencias!$B$18:$C$34,2,FALSE())","v":"AR"},"C"]
["5002222","Díaz de Argandoña, Fernando Luis","Aragonesa","C","Sin Categoría","Competición",4,{"$f":"VLOOKUP(E4094,Referencias!$B$4:$C$15,2,FALSE())","v":"SC"},{"$f":"VLOOKUP(C4094,Referencias!$B$18:$C$34,2,FALSE())","v":"AR"},"C"]
["5002223","Veciana Rión, María","Aragonesa","D","Sin Categoría","Competición",4,{"$f":"VLOOKUP(E4095,Referencias!$B$4:$C$15,2,FALSE())","v":"SC"},{"$f":"VLOOKUP(C4095,Referencias!$B$18:$C$34,2,FALSE())","v":"AR"},"C"]
["5002228","Sau Llanas, Mª Carmen","Aragonesa","D","Sin Categoría","Competición",4,{"$f":"VLOOKUP(E4096,Referencias!$B$4:$C$15,2,FALSE())","v":"SC"},{"$f":"VLOOKUP(C4096,Referencias!$B$18:$C$34,2,FALSE())","v":"AR"},{"$f":"IF(D4096=\"Dama\",\"D\",\"C\")","v":"C"}]
["5002231","Lausin Miguel, Mª Rosa","Aragonesa","D","Sin Categoría","Competición",4,{"$f":"VLOOKUP(E4097,Referencias!$B$4:$C$15,2,FALSE())","v":"SC"},{"$f":"VLOOKUP(C4097,Referencias!$B$18:$C$34,2,FALSE())","v":"AR"},"C"]
["5002232","Boix Pau, Gerardo","Aragonesa","C","Sin Categoría","Competición",4,{"$f":"VLOOKUP(E4098,Referencias!$B$4:$C$15,2,FALSE())","v":"SC"},{"$f":"VLOOKUP(C4098,Referencias!$B$18:$C$34,2,FALSE())","v":"AR"},"C"]
["5002233","Tejero Arbues, Cristina","Aragonesa","D","Sin Categoría","Competición",4,{"$f":"VLOOKUP(E4099,Referencias!$B$4:$C$15,2,FALSE())","v":"SC"},{"$f":"VLOOKUP(C4099,Referencias!$B$18:$C$34,2,FALSE())","v":"AR"},"C"]
["5002235","López Zaro, Angela","Aragonesa","D","Sin Categoría","Competición",4,{"$f":"VLOOKUP(E4100,Referencias!$B$4:$C$15,2,FALSE())","v":"SC"},{"$f":"VLOOKUP(C4100,Referencias!$B$18:$C$34,2,FALSE())","v":"AR"},"C"]
["5002236","De Roncali, Exmo. Sr. Marq.","Aragonesa","C","Tercera Corazón","Competición",3,{"$f":"VLOOKUP(E4101,Referencias!$B$4:$C$15,2,FALSE())","v":"3C"},{"$f":"VLOOKUP(C4101,Referencias!$B$18:$C$34,2,FALSE())","v":"AR"},"C"]
["5002237","Gutierrez Laguna, María Jesús","Aragonesa","D","Sin Categoría","Competición",4,{"$f":"VLOOKUP(E4102,Referencias!$B$4:$C$15,2,FALSE())","v":"SC"},{"$f":"VLOOKUP(C4102,Referencias!$B$18:$C$34,2,FALSE())","v":"AR"},"C"]
["5002238","Valenzuela García Polavieja, Concepción","Aragonesa","D","Sin Categoría","Competición",4,{"$f":"VLOOKUP(E4103,Referencias!$B$4:$C$15,2,FALSE())","v":"SC"},{"$f":"VLOOKUP(C4103,Referencias!$B$18:$C$34,2,FALSE())","v":"AR"},"C"]
["5002239","Cubero Espun, Mª Pilar","Aragonesa","D","Sin Categoría","Competición",4,{"$f":"VLOOKUP(E4104,Referencias!$B$4:$C$15,2,FALSE())","v":"SC"},{"$f":"VLOOKUP(C4104,Referencias!$B$18:$C$34,2,FALSE())","v":"AR"},"C"]
["5002240","De Luis Carnicer, María Pilar","Aragonesa","D","Sin Categoría","Competición",4,{"$f":"VLOOKUP(E4105,Referencias!$B$4:$C$15,2,FALSE())","v":"SC"},{"$f":"VLOOKUP(C4105,Referencias!$B$18:$C$34,2,FALSE())","v":"AR"},"C"]
["5002241","Ramírez Ponce, Concepción","Aragonesa","D","Sin Categoría","Competición",4,{"$f":"VLOOKUP(E4106,Referencias!$B$4:$C$15,2,FALSE())","v":"SC"},{"$f":"VLOOKUP(C4106,Referencias!$B$18:$C$34,2,FALSE())","v":"AR"},"C"]
["5002242","Gutiérrez de la Chica, Ramón","Aragonesa","C","Sin Categoría","Competición",4,{"$f":"VLOOKUP(E4107,Referencias!$B$4:$C$15,2,FALSE())","v":"SC"},{"$f":"VLOOKUP(C4107,Referencias!$B$18:$C$34,2,FALSE())","v":"AR"},"C"]
["5911742","Gruening, Waltraud","AEB","C","Sin Categoría","Competición",4,{"$f":"VLOOKUP(E4108,Referencias!$B$4:$C$15,2,FALSE())","v":"SC"},{"$f":"VLOOKUP(C4108,Referencias!$B$18:$C$34,2,FALSE())","v":{"$error":"#N/A"}},"C"]
["5911743","Di Franco, Massimiliano","AEB","C","Primera Picas","Competición",1,{"$f":"VLOOKUP(E4109,Referencias!$B$4:$C$15,2,FALSE())","v":"1P"},{"$f":"VLOOKUP(C4109,Referencias!$B$18:$C$34,2,FALSE())","v":{"$error":"#N/A"}},"C"]
["5911745","Grossi, Giuseppe","AEB","C","Primera Picas","Competición",1,{"$f":"VLOOKUP(E4110,Referencias!$B$4:$C$15,2,FALSE())","v":"1P"},{"$f":"VLOOKUP(C4110,Referencias!$B$18:$C$34,2,FALSE())","v":{"$error":"#N/A"}},"C"]
["5911746","Brugnago De Grossi, Alessandra","AEB","D","Primera Diamante","Competición",1,{"$f":"VLOOKUP(E4111,Referencias!$B$4:$C$15,2,FALSE())","v":"1D"},{"$f":"VLOOKUP(C4111,Referencias!$B$18:$C$34,2,FALSE())","v":{"$error":"#N/A"}},"C"]
["5911748","Araujo, Inocencio","AEB","C","Primera Corazón","Competición",1,{"$f":"VLOOKUP(E4112,Referencias!$B$4:$C$15,2,FALSE())","v":"1C"},{"$f":"VLOOKUP(C4112,Referencias!$B$18:$C$34,2,FALSE())","v":{"$error":"#N/A"}},"C"]
["5911749","Alves Pedroso Rodrigues Oliveira, Anabela","AEB","D","Primera Picas","Competición",1,{"$f":"VLOOKUP(E4113,Referencias!$B$4:$C$15,2,FALSE())","v":"1P"},{"$f":"VLOOKUP(C4113,Referencias!$B$18:$C$34,2,FALSE())","v":{"$error":"#N/A"}},"C"]
["5911750","Ribeiro Oliveira, Luis Antonio","AEB","C","Primera Picas","Competición",1,{"$f":"VLOOKUP(E4114,Referencias!$B$4:$C$15,2,FALSE())","v":"1P"},{"$f":"VLOOKUP(C4114,Referencias!$B$18:$C$34,2,FALSE())","v":{"$error":"#N/A"}},"C"]
["5911751","Moraes, José Manuel","Gallega","C","Primera Picas","Competición",1,{"$f":"VLOOKUP(E4115,Referencias!$B$4:$C$15,2,FALSE())","v":"1P"},{"$f":"VLOOKUP(C4115,Referencias!$B$18:$C$34,2,FALSE())","v":"G"},"C"]
["5911752","Faria, Joao","AEB","C","Sin Categoría","Competición",4,{"$f":"VLOOKUP(E4116,Referencias!$B$4:$C$15,2,FALSE())","v":"SC"},{"$f":"VLOOKUP(C4116,Referencias!$B$18:$C$34,2,FALSE())","v":{"$error":"#N/A"}},"C"]
["5911753","Boychev , Yordan","AEB","C","Sin Categoría","Competición",4,{"$f":"VLOOKUP(E4117,Referencias!$B$4:$C$15,2,FALSE())","v":"SC"},{"$f":"VLOOKUP(C4117,Referencias!$B$18:$C$34,2,FALSE())","v":{"$error":"#N/A"}},"C"]
["5911754","Nuno Moraes, José","AEB","C","Primera Diamante","Competición",1,{"$f":"VLOOKUP(E4118,Referencias!$B$4:$C$15,2,FALSE())","v":"1D"},{"$f":"VLOOKUP(C4118,Referencias!$B$18:$C$34,2,FALSE())","v":{"$error":"#N/A"}},"C"]
["5911755","Arraiano, Rita","AEB","D","Segunda Picas","Competición",2,{"$f":"VLOOKUP(E4119,Referencias!$B$4:$C$15,2,FALSE())","v":"2P"},{"$f":"VLOOKUP(C4119,Referencias!$B$18:$C$34,2,FALSE())","v":{"$error":"#N/A"}},"C"]
["5911756","de Carvalho, João","AEB","C","Primera Picas","Competición",1,{"$f":"VLOOKUP(E4120,Referencias!$B$4:$C$15,2,FALSE())","v":"1P"},{"$f":"VLOOKUP(C4120,Referencias!$B$18:$C$34,2,FALSE())","v":{"$error":"#N/A"}},"C"]
["5911757","Santos Silva, Rui Manuel","AEB","C","Primera Picas","Competición",1,{"$f":"VLOOKUP(E4121,Referencias!$B$4:$C$15,2,FALSE())","v":"1P"},{"$f":"VLOOKUP(C4121,Referencias!$B$18:$C$34,2,FALSE())","v":{"$error":"#N/A"}},"C"]
["5911758","Bowdery, Richard","AEB",null,"Sin Categoría","Competición",4,{"$f":"VLOOKUP(E4122,Referencias!$B$4:$C$15,2,FALSE())","v":"SC"},{"$f":"VLOOKUP(C4122,Referencias!$B$18:$C$34,2,FALSE())","v":{"$error":"#N/A"}},"C"]
["5911759","Folques Matos, Luis","Gallega","C","Sin Categoría","Competición",4,{"$f":"VLOOKUP(E4123,Referencias!$B$4:$C$15,2,FALSE())","v":"SC"},{"$f":"VLOOKUP(C4123,Referencias!$B$18:$C$34,2,FALSE())","v":"G"},"C"]
["5911760","Henriques, Jose Carlos","Gallega","C","Sin Categoría","Competición",4,{"$f":"VLOOKUP(E4124,Referencias!$B$4:$C$15,2,FALSE())","v":"SC"},{"$f":"VLOOKUP(C4124,Referencias!$B$18:$C$34,2,FALSE())","v":"G"},"C"]
["5911761","Torrelles Llorens, Mª Victoria","AEB","D","Sin Categoría","Competición",4,{"$f":"VLOOKUP(E4125,Referencias!$B$4:$C$15,2,FALSE())","v":"SC"},{"$f":"VLOOKUP(C4125,Referencias!$B$18:$C$34,2,FALSE())","v":{"$error":"#N/A"}},"C"]
["5911762","Manchion de Uribe, Gemma","AEB","D","Sin Categoría","Competición",4,{"$f":"VLOOKUP(E4126,Referencias!$B$4:$C$15,2,FALSE())","v":"SC"},{"$f":"VLOOKUP(C4126,Referencias!$B$18:$C$34,2,FALSE())","v":{"$error":"#N/A"}},"C"]
["5911763","Torras García, Magda","AEB","D","Sin Categoría","Competición",4,{"$f":"VLOOKUP(E4127,Referencias!$B$4:$C$15,2,FALSE())","v":"SC"},{"$f":"VLOOKUP(C4127,Referencias!$B$18:$C$34,2,FALSE())","v":{"$error":"#N/A"}},"C"]
["5911764","Venarell Busquets, Maria Teresa","AEB","D","Sin Categoría","Competición",4,{"$f":"VLOOKUP(E4128,Referencias!$B$4:$C$15,2,FALSE())","v":"SC"},{"$f":"VLOOKUP(C4128,Referencias!$B$18:$C$34,2,FALSE())","v":{"$error":"#N/A"}},"C"]
["5911765","Rebon Fernandez, Lucia","AEB","D","Sin Categoría","Competición",4,{"$f":"VLOOKUP(E4129,Referencias!$B$4:$C$15,2,FALSE())","v":"SC"},{"$f":"VLOOKUP(C4129,Referencias!$B$18:$C$34,2,FALSE())","v":{"$error":"#N/A"}},"C"]
["999111","Martínez, Rafael","Andaluza","C","Tercera Picas","Competición",3,{"$f":"VLOOKUP(E4130,Referencias!$B$4:$C$15,2,FALSE())","v":"3P"},{"$f":"VLOOKUP(C4130,Referencias!$B$18:$C$34,2,FALSE())","v":"A"},"C"]
["999910","Club de Bridge, Vergara","Madrileña",null,null,"Competición",null,{"$f":"VLOOKUP(E4131,Referencias!$B$4:$C$15,2,FALSE())","v":{"$error":"#N/A"}},{"$f":"VLOOKUP(C4131,Referencias!$B$18:$C$34,2,FALSE())","v":"M"},"C"]
["999981","De Tenerife, Real Club de Golf","Canaria",null,null,"Competición - Cloned",null,{"$f":"VLOOKUP(E4132,Referencias!$B$4:$C$15,2,FALSE())","v":{"$error":"#N/A"}},{"$f":"VLOOKUP(C4132,Referencias!$B$18:$C$34,2,FALSE())","v":"IC"},"C"]
["999995","Madrid, Bridge Comunidad","AEB",null,"Sin Categoría","Competición",4,{"$f":"VLOOKUP(E4134,Referencias!$B$4:$C$15,2,FALSE())","v":{"$error":"#N/A"}},{"$f":"VLOOKUP(C4134,Referencias!$B$18:$C$34,2,FALSE())","v":"IC"},{"$f":"IF(D4134=\"Dama\",\"D\",\"C\")","v":"C"}]
["9999980","De Tenerife, Club Casino","Canaria",null,null,"Competición",null,{"$f":"VLOOKUP(E4135,Referencias!$B$4:$C$15,2,FALSE())","v":{"$error":"#N/A"}},{"$f":"VLOOKUP(C4135,Referencias!$B$18:$C$34,2,FALSE())","v":{"$error":"#N/A"}},{"$f":"IF(D4135=\"Dama\",\"D\",\"C\")","v":"C"}]
[null,null,null,null,null,null,null,{"$f":"VLOOKUP(E4136,Referencias!$B$4:$C$15,2,FALSE())","v":{"$error":"#N/A"}},{"$f":"VLOOKUP(C4136,Referencias!$B$18:$C$34,2,FALSE())","v":{"$error":"#N/A"}},{"$f":"IF(D4136=\"Dama\",\"D\",\"C\")","v":"C"}]
[null,null,null,null,null,null,null,{"$f":"VLOOKUP(E4137,Referencias!$B$4:$C$15,2,FALSE())","v":{"$error":"#N/A"}},{"$f":"VLOOKUP(C4137,Referencias!$B$18:$C$34,2,FALSE())","v":{"$error":"#N/A"}},{"$f":"IF(D4137=\"Dama\",\"D\",\"C\")","v":"C"}]
[null,null,null,null,null,null,null,{"$f":"VLOOKUP(E4138,Referencias!$B$4:$C$15,2,FALSE())","v":{"$error":"#N/A"}},{"$f":"VLOOKUP(C4138,Referencias!$B$18:$C$34,2,FALSE())","v":{"$error":"#N/A"}},{"$f":"IF(D4138=\"Dama\",\"D\",\"C\")","v":"C"}]
[null,null,null,null,null,null,null,{"$f":"VLOOKUP(E4139,Referencias!$B$4:$C$15,2,FALSE())","v":{"$error":"#N/A"}},{"$f":"VLOOKUP(C4139,Referencias!$B$18:$C$34,2,FALSE())","v":{"$error":"#N/A"}},{"$f":"IF(D4139=\"Dama\",\"D\",\"C\")","v":"C"}]
[null,null,null,null,null,null,null,{"$f":"VLOOKUP(E4140,Referencias!$B$4:$C$15,2,FALSE())","v":{"$error":"#N/A"}},{"$f":"VLOOKUP(C4140,Referencias!$B$18:$C$34,2,FALSE())","v":{"$error":"#N/A"}},{"$f":"IF(D4140=\"Dama\",\"D\",\"C\")","v":"C"}]
[null,null,null,null,null,null,null,{"$f":"VLOOKUP(E4141,Referencias!$B$4:$C$15,2,FALSE())","v":{"$error":"#N/A"}},{"$f":"VLOOKUP(C4141,Referencias!$B$18:$C$34,2,FALSE())","v":{"$error":"#N/A"}},{"$f":"IF(D4141=\"Dama\",\"D\",\"C\")","v":"C"}]
[null,null,null,null,null,null,null,{"$f":"VLOOKUP(E4142,Referencias!$B$4:$C$15,2,FALSE())","v":{"$error":"#N/A"}},{"$f":"VLOOKUP(C4142,Referencias!$B$18:$C$34,2,FALSE())","v":{"$error":"#N/A"}},{"$f":"IF(D4142=\"Dama\",\"D\",\"C\")","v":"C"}]
[null,null,null,null,null,null,null,{"$f":"VLOOKUP(E4143,Referencias!$B$4:$C$15,2,FALSE())","v":{"$error":"#N/A"}},{"$f":"VLOOKUP(C4143,Referencias!$B$18:$C$34,2,FALSE())","v":{"$error":"#N/A"}},{"$f":"IF(D4143=\"Dama\",\"D\",\"C\")","v":"C"}]
[null,null,null,null,null,null,null,{"$f":"VLOOKUP(E4144,Referencias!$B$4:$C$15,2,FALSE())","v":{"$error":"#N/A"}},{"$f":"VLOOKUP(C4144,Referencias!$B$18:$C$34,2,FALSE())","v":{"$error":"#N/A"}},{"$f":"IF(D4144=\"Dama\",\"D\",\"C\")","v":"C"}]
[null,null,null,null,null,null,null,{"$f":"VLOOKUP(E4145,Referencias!$B$4:$C$15,2,FALSE())","v":{"$error":"#N/A"}},{"$f":"VLOOKUP(C4145,Referencias!$B$18:$C$34,2,FALSE())","v":{"$error":"#N/A"}},{"$f":"IF(D4145=\"Dama\",\"D\",\"C\")","v":"C"}]
[null,null,null,null,null,null,null,{"$f":"VLOOKUP(E4146,Referencias!$B$4:$C$15,2,FALSE())","v":{"$error":"#N/A"}},{"$f":"VLOOKUP(C4146,Referencias!$B$18:$C$34,2,FALSE())","v":{"$error":"#N/A"}},{"$f":"IF(D4146=\"Dama\",\"D\",\"C\")","v":"C"}]
[null,null,null,null,null,null,null,{"$f":"VLOOKUP(E4147,Referencias!$B$4:$C$15,2,FALSE())","v":{"$error":"#N/A"}},{"$f":"VLOOKUP(C4147,Referencias!$B$18:$C$34,2,FALSE())","v":{"$error":"#N/A"}},{"$f":"IF(D4147=\"Dama\",\"D\",\"C\")","v":"C"}]
[null,null,null,null,null,null,null,{"$f":"VLOOKUP(E4148,Referencias!$B$4:$C$15,2,FALSE())","v":{"$error":"#N/A"}},{"$f":"VLOOKUP(C4148,Referencias!$B$18:$C$34,2,FALSE())","v":{"$error":"#N/A"}},{"$f":"IF(D4148=\"Dama\",\"D\",\"C\")","v":"C"}]
[null,null,null,null,null,null,null,{"$f":"VLOOKUP(E4149,Referencias!$B$4:$C$15,2,FALSE())","v":{"$error":"#N/A"}},{"$f":"VLOOKUP(C4149,Referencias!$B$18:$C$34,2,FALSE())","v":{"$error":"#N/A"}},{"$f":"IF(D4149=\"Dama\",\"D\",\"C\")","v":"C"}]
[null,null,null,null,null,null,null,{"$f":"VLOOKUP(E4150,Referencias!$B$4:$C$15,2,FALSE())","v":{"$error":"#N/A"}},{"$f":"VLOOKUP(C4150,Referencias!$B$18:$C$34,2,FALSE())","v":{"$error":"#N/A"}},{"$f":"IF(D4150=\"Dama\",\"D\",\"C\")","v":"C"}]
[null,null,null,null,null,null,null,{"$f":"VLOOKUP(E4151,Referencias!$B$4:$C$15,2,FALSE())","v":{"$error":"#N/A"}},{"$f":"VLOOKUP(C4151,Referencias!$B$18:$C$34,2,FALSE())","v":{"$error":"#N/A"}},{"$f":"IF(D4151=\"Dama\",\"D\",\"C\")","v":"C"}]
[null,null,null,null,null,null,null,{"$f":"VLOOKUP(E4152,Referencias!$B$4:$C$15,2,FALSE())","v":{"$error":"#N/A"}},{"$f":"VLOOKUP(C4152,Referencias!$B$18:$C$34,2,FALSE())","v":{"$error":"#N/A"}},{"$f":"IF(D4152=\"Dama\",\"D\",\"C\")","v":"C"}]
[null,null,null,null,null,null,null,{"$f":"VLOOKUP(E4153,Referencias!$B$4:$C$15,2,FALSE())","v":{"$error":"#N/A"}},{"$f":"VLOOKUP(C4153,Referencias!$B$18:$C$34,2,FALSE())","v":{"$error":"#N/A"}},{"$f":"IF(D4153=\"Dama\",\"D\",\"C\")","v":"C"}]
[null,null,null,null,null,null,null,{"$f":"VLOOKUP(E4154,Referencias!$B$4:$C$15,2,FALSE())","v":{"$error":"#N/A"}},{"$f":"VLOOKUP(C4154,Referencias!$B$18:$C$34,2,FALSE())","v":{"$error":"#N/A"}},{"$f":"IF(D4154=\"Dama\",\"D\",\"C\")","v":"C"}]
[null,null,null,null,null,null,null,{"$f":"VLOOKUP(E4155,Referencias!$B$4:$C$15,2,FALSE())","v":{"$error":"#N/A"}},{"$f":"VLOOKUP(C4155,Referencias!$B$18:$C$34,2,FALSE())","v":{"$error":"#N/A"}},{"$f":"IF(D4155=\"Dama\",\"D\",\"C\")","v":"C"}]
[null,null,null,null,null,null,null,{"$f":"VLOOKUP(E4156,Referencias!$B$4:$C$15,2,FALSE())","v":{"$error":"#N/A"}},{"$f":"VLOOKUP(C4156,Referencias!$B$18:$C$34,2,FALSE())","v":{"$error":"#N/A"}},{"$f":"IF(D4156=\"Dama\",\"D\",\"C\")","v":"C"}]
[null,null,null,null,null,null,null,{"$f":"VLOOKUP(E4157,Referencias!$B$4:$C$15,2,FALSE())","v":{"$error":"#N/A"}},{"$f":"VLOOKUP(C4157,Referencias!$B$18:$C$34,2,FALSE())","v":{"$error":"#N/A"}},{"$f":"IF(D4157=\"Dama\",\"D\",\"C\")","v":"C"}]
[null,null,null,null,null,null,null,{"$f":"VLOOKUP(E4158,Referencias!$B$4:$C$15,2,FALSE())","v":{"$error":"#N/A"}},{"$f":"VLOOKUP(C4158,Referencias!$B$18:$C$34,2,FALSE())","v":{"$error":"#N/A"}},{"$f":"IF(D4158=\"Dama\",\"D\",\"C\")","v":"C"}]
[null,null,null,null,null,null,null,{"$f":"VLOOKUP(E4159,Referencias!$B$4:$C$15,2,FALSE())","v":{"$error":"#N/A"}},{"$f":"VLOOKUP(C4159,Referencias!$B$18:$C$34,2,FALSE())","v":{"$error":"#N/A"}},{"$f":"IF(D4159=\"Dama\",\"D\",\"C\")","v":"C"}]
[null,null,null,null,null,null,null,{"$f":"VLOOKUP(E4160,Referencias!$B$4:$C$15,2,FALSE())","v":{"$error":"#N/A"}},{"$f":"VLOOKUP(C4160,Referencias!$B$18:$C$34,2,FALSE())","v":{"$error":"#N/A"}},{"$f":"IF(D4160=\"Dama\",\"D\",\"C\")","v":"C"}]
[null,null,null,null,null,null,null,{"$f":"VLOOKUP(E4161,Referencias!$B$4:$C$15,2,FALSE())","v":{"$error":"#N/A"}},{"$f":"VLOOKUP(C4161,Referencias!$B$18:$C$34,2,FALSE())","v":{"$error":"#N/A"}},{"$f":"IF(D4161=\"Dama\",\"D\",\"C\")","v":"C"}]
[null,null,null,null,null,null,null,{"$f":"VLOOKUP(E4162,Referencias!$B$4:$C$15,2,FALSE())","v":{"$error":"#N/A"}},{"$f":"VLOOKUP(C4162,Referencias!$B$18:$C$34,2,FALSE())","v":{"$error":"#N/A"}},"C"]
[null,null,null,null,null,null,null,{"$f":"VLOOKUP(E4163,Referencias!$B$4:$C$15,2,FALSE())","v":{"$error":"#N/A"}},{"$f":"VLOOKUP(C4163,Referencias!$B$18:$C$34,2,FALSE())","v":{"$error":"#N/A"}},"C"]
[null,null,null,null,null,null,null,{"$f":"VLOOKUP(E4164,Referencias!$B$4:$C$15,2,FALSE())","v":{"$error":"#N/A"}},{"$f":"VLOOKUP(C4164,Referencias!$B$18:$C$34,2,FALSE())","v":{"$error":"#N/A"}},"C"]
[null,null,null,null,null,null,null,{"$f":"VLOOKUP(E4165,Referencias!$B$4:$C$15,2,FALSE())","v":{"$error":"#N/A"}},{"$f":"VLOOKUP(C4165,Referencias!$B$18:$C$34,2,FALSE())","v":{"$error":"#N/A"}},"C"]
[null,null,null,null,null,null,null,{"$f":"VLOOKUP(E4166,Referencias!$B$4:$C$15,2,FALSE())","v":{"$error":"#N/A"}},{"$f":"VLOOKUP(C4166,Referencias!$B$18:$C$34,2,FALSE())","v":{"$error":"#N/A"}},"C"]
[null,null,null,null,null,null,null,{"$f":"VLOOKUP(E4167,Referencias!$B$4:$C$15,2,FALSE())","v":{"$error":"#N/A"}},{"$f":"VLOOKUP(C4167,Referencias!$B$18:$C$34,2,FALSE())","v":{"$error":"#N/A"}},"C"]
[null,null,null,null,null,null,null,{"$f":"VLOOKUP(E4168,Referencias!$B$4:$C$15,2,FALSE())","v":{"$error":"#N/A"}},{"$f":"VLOOKUP(C4168,Referencias!$B$18:$C$34,2,FALSE())","v":{"$error":"#N/A"}},"C"]
[null,null,null,null,null,null,null,{"$f":"VLOOKUP(E4169,Referencias!$B$4:$C$15,2,FALSE())","v":{"$error":"#N/A"}},{"$f":"VLOOKUP(C4169,Referencias!$B$18:$C$34,2,FALSE())","v":{"$error":"#N/A"}},"C"]
[null,null,null,null,null,null,null,{"$f":"VLOOKUP(E4170,Referencias!$B$4:$C$15,2,FALSE())","v":{"$error":"#N/A"}},{"$f":"VLOOKUP(C4170,Referencias!$B$18:$C$34,2,FALSE())","v":{"$error":"#N/A"}},"C"]
[null,null,null,null,null,null,null,{"$f":"VLOOKUP(E4171,Referencias!$B$4:$C$15,2,FALSE())","v":{"$error":"#N/A"}},{"$f":"VLOOKUP(C4171,Referencias!$B$18:$C$34,2,FALSE())","v":{"$error":"#N/A"}},"C"]
[null,null,null,null,null,null,null,{"$f":"VLOOKUP(E4172,Referencias!$B$4:$C$15,2,FALSE())","v":{"$error":"#N/A"}},{"$f":"VLOOKUP(C4172,Referencias!$B$18:$C$34,2,FALSE())","v":{"$error":"#N/A"}},"C"]
[null,null,null,null,null,null,null,{"$f":"VLOOKUP(E4173,Referencias!$B$4:$C$15,2,FALSE())","v":{"$error":"#N/A"}},{"$f":"VLOOKUP(C4173,Referencias!$B$18:$C$34,2,FALSE())","v":{"$error":"#N/A"}},"C"]
[null,null,null,null,null,null,null,{"$f":"VLOOKUP(E4174,Referencias!$B$4:$C$15,2,FALSE())","v":{"$error":"#N/A"}},{"$f":"VLOOKUP(C4174,Referencias!$B$18:$C$34,2,FALSE())","v":{"$error":"#N/A"}},"C"]
[null,null,null,null,null,null,null,{"$f":"VLOOKUP(E4175,Referencias!$B$4:$C$15,2,FALSE())","v":{"$error":"#N/A"}},{"$f":"VLOOKUP(C4175,Referencias!$B$18:$C$34,2,FALSE())","v":{"$error":"#N/A"}},"C"]
[null,null,null,null,null,null,null,{"$f":"VLOOKUP(E4176,Referencias!$B$4:$C$15,2,FALSE())","v":{"$error":"#N/A"}},{"$f":"VLOOKUP(C4176,Referencias!$B$18:$C$34,2,FALSE())","v":{"$error":"#N/A"}},"C"]
[null,null,null,null,null,null,null,{"$f":"VLOOKUP(E4177,Referencias!$B$4:$C$15,2,FALSE())","v":{"$error":"#N/A"}},{"$f":"VLOOKUP(C4177,Referencias!$B$18:$C$34,2,FALSE())","v":{"$error":"#N/A"}},"C"]
[null,null,null,null,null,null,null,{"$f":"VLOOKUP(E4178,Referencias!$B$4:$C$15,2,FALSE())","v":{"$error":"#N/A"}},{"$f":"VLOOKUP(C4178,Referencias!$B$18:$C$34,2,FALSE())","v":{"$error":"#N/A"}},"C"]
[null,null,null,null,null,null,null,{"$f":"VLOOKUP(E4179,Referencias!$B$4:$C$15,2,FALSE())","v":{"$error":"#N/A"}},{"$f":"VLOOKUP(C4179,Referencias!$B$18:$C$34,2,FALSE())","v":{"$error":"#N/A"}},"C"]
[null,null,null,null,null,null,null,{"$f":"VLOOKUP(E4180,Referencias!$B$4:$C$15,2,FALSE())","v":{"$error":"#N/A"}},{"$f":"VLOOKUP(C4180,Referencias!$B$18:$C$34,2,FALSE())","v":{"$error":"#N/A"}},"C"]
[null,null,null,null,null,null,null,{"$f":"VLOOKUP(E4181,Referencias!$B$4:$C$15,2,FALSE())","v":{"$error":"#N/A"}},{"$f":"VLOOKUP(C4181,Referencias!$B$18:$C$34,2,FALSE())","v":{"$error":"#N/A"}},"C"]
[null,null,null,null,null,null,null,{"$f":"VLOOKUP(E4182,Referencias!$B$4:$C$15,2,FALSE())","v":{"$error":"#N/A"}},{"$f":"VLOOKUP(C4182,Referencias!$B$18:$C$34,2,FALSE())","v":{"$error":"#N/A"}},"C"]
[null,null,null,null,null,null,null,{"$f":"VLOOKUP(E4183,Referencias!$B$4:$C$15,2,FALSE())","v":{"$error":"#N/A"}},{"$f":"VLOOKUP(C4183,Referencias!$B$18:$C$34,2,FALSE())","v":{"$error":"#N/A"}},"C"]
[null,null,null,null,null,null,null,{"$f":"VLOOKUP(E4184,Referencias!$B$4:$C$15,2,FALSE())","v":{"$error":"#N/A"}},{"$f":"VLOOKUP(C4184,Referencias!$B$18:$C$34,2,FALSE())","v":{"$error":"#N/A"}},"C"]
[null,null,null,null,null,null,null,{"$f":"VLOOKUP(E4185,Referencias!$B$4:$C$15,2,FALSE())","v":{"$error":"#N/A"}},{"$f":"VLOOKUP(C4185,Referencias!$B$18:$C$34,2,FALSE())","v":{"$error":"#N/A"}},"C"]
[null,null,null,null,null,null,null,{"$f":"VLOOKUP(E4186,Referencias!$B$4:$C$15,2,FALSE())","v":{"$error":"#N/A"}},{"$f":"VLOOKUP(C4186,Referencias!$B$18:$C$34,2,FALSE())","v":{"$error":"#N/A"}},"C"]
[null,null,null,null,null,null,null,{"$f":"VLOOKUP(E4187,Referencias!$B$4:$C$15,2,FALSE())","v":{"$error":"#N/A"}},{"$f":"VLOOKUP(C4187,Referencias!$B$18:$C$34,2,FALSE())","v":{"$error":"#N/A"}},"C"]
[null,null,null,null,null,null,null,{"$f":"VLOOKUP(E4188,Referencias!$B$4:$C$15,2,FALSE())","v":{"$error":"#N/A"}},{"$f":"VLOOKUP(C4188,Referencias!$B$18:$C$34,2,FALSE())","v":{"$error":"#N/A"}},"C"]
[null,null,null,null,null,null,null,{"$f":"VLOOKUP(E4189,Referencias!$B$4:$C$15,2,FALSE())","v":{"$error":"#N/A"}},{"$f":"VLOOKUP(C4189,Referencias!$B$18:$C$34,2,FALSE())","v":{"$error":"#N/A"}},"C"]
[null,null,null,null,null,null,null,{"$f":"VLOOKUP(E4190,Referencias!$B$4:$C$15,2,FALSE())","v":{"$error":"#N/A"}},{"$f":"VLOOKUP(C4190,Referencias!$B$18:$C$34,2,FALSE())","v":{"$error":"#N/A"}},"C"]
[null,null,null,null,null,null,null,{"$f":"VLOOKUP(E4191,Referencias!$B$4:$C$15,2,FALSE())","v":{"$error":"#N/A"}},{"$f":"VLOOKUP(C4191,Referencias!$B$18:$C$34,2,FALSE())","v":{"$error":"#N/A"}},"C"]
[null,null,null,null,null,null,null,{"$f":"VLOOKUP(E4192,Referencias!$B$4:$C$15,2,FALSE())","v":{"$error":"#N/A"}},{"$f":"VLOOKUP(C4192,Referencias!$B$18:$C$34,2,FALSE())","v":{"$error":"#N/A"}},"C"]
[null,null,null,null,null,null,null,{"$f":"VLOOKUP(E4193,Referencias!$B$4:$C$15,2,FALSE())","v":{"$error":"#N/A"}},{"$f":"VLOOKUP(C4193,Referencias!$B$18:$C$34,2,FALSE())","v":{"$error":"#N/A"}},"C"]
[null,null,null,null,null,null,null,{"$f":"VLOOKUP(E4194,Referencias!$B$4:$C$15,2,FALSE())","v":{"$error":"#N/A"}},{"$f":"VLOOKUP(C4194,Referencias!$B$18:$C$34,2,FALSE())","v":{"$error":"#N/A"}},"C"]
[null,null,null,null,null,null,null,{"$f":"VLOOKUP(E4195,Referencias!$B$4:$C$15,2,FALSE())","v":{"$error":"#N/A"}},{"$f":"VLOOKUP(C4195,Referencias!$B$18:$C$34,2,FALSE())","v":{"$error":"#N/A"}},"C"]
[null,null,null,null,null,null,null,{"$f":"VLOOKUP(E4196,Referencias!$B$4:$C$15,2,FALSE())","v":{"$error":"#N/A"}},{"$f":"VLOOKUP(C4196,Referencias!$B$18:$C$34,2,FALSE())","v":{"$error":"#N/A"}},"C"]
[null,null,null,null,null,null,null,{"$f":"VLOOKUP(E4197,Referencias!$B$4:$C$15,2,FALSE())","v":{"$error":"#N/A"}},{"$f":"VLOOKUP(C4197,Referencias!$B$18:$C$34,2,FALSE())","v":{"$error":"#N/A"}},"C"]
[null,null,null,null,null,null,null,{"$f":"VLOOKUP(E4198,Referencias!$B$4:$C$15,2,FALSE())","v":{"$error":"#N/A"}},{"$f":"VLOOKUP(C4198,Referencias!$B$18:$C$34,2,FALSE())","v":{"$error":"#N/A"}},"C"]
[null,null,null,null,null,null,null,{"$f":"VLOOKUP(E4199,Referencias!$B$4:$C$15,2,FALSE())","v":{"$error":"#N/A"}},{"$f":"VLOOKUP(C4199,Referencias!$B$18:$C$34,2,FALSE())","v":{"$error":"#N/A"}},"C"]
[null,null,null,null,null,null,null,{"$f":"VLOOKUP(E4200,Referencias!$B$4:$C$15,2,FALSE())","v":{"$error":"#N/A"}},{"$f":"VLOOKUP(C4200,Referencias!$B$18:$C$34,2,FALSE())","v":{"$error":"#N/A"}},"C"]
[null,null,null,null,null,null,null,{"$f":"VLOOKUP(E4201,Referencias!$B$4:$C$15,2,FALSE())","v":{"$error":"#N/A"}},{"$f":"VLOOKUP(C4201,Referencias!$B$18:$C$34,2,FALSE())","v":{"$error":"#N/A"}},"C"]
[null,null,null,null,null,null,null,{"$f":"VLOOKUP(E4202,Referencias!$B$4:$C$15,2,FALSE())","v":{"$error":"#N/A"}},{"$f":"VLOOKUP(C4202,Referencias!$B$18:$C$34,2,FALSE())","v":{"$error":"#N/A"}},"C"]
[null,null,null,null,null,null,null,{"$f":"VLOOKUP(E4203,Referencias!$B$4:$C$15,2,FALSE())","v":{"$error":"#N/A"}},{"$f":"VLOOKUP(C4203,Referencias!$B$18:$C$34,2,FALSE())","v":{"$error":"#N/A"}},"C"]
[null,null,null,null,null,null,null,{"$f":"VLOOKUP(E4204,Referencias!$B$4:$C$15,2,FALSE())","v":{"$error":"#N/A"}},{"$f":"VLOOKUP(C4204,Referencias!$B$18:$C$34,2,FALSE())","v":{"$error":"#N/A"}},"C"]
[null,null,null,null,null,null,null,{"$f":"VLOOKUP(E4205,Referencias!$B$4:$C$15,2,FALSE())","v":{"$error":"#N/A"}},{"$f":"VLOOKUP(C4205,Referencias!$B$18:$C$34,2,FALSE())","v":{"$error":"#N/A"}},"C"]
[null,null,null,null,null,null,null,{"$f":"VLOOKUP(E4206,Referencias!$B$4:$C$15,2,FALSE())","v":{"$error":"#N/A"}},{"$f":"VLOOKUP(C4206,Referencias!$B$18:$C$34,2,FALSE())","v":{"$error":"#N/A"}},"C"]
[null,null,null,null,null,null,null,{"$f":"VLOOKUP(E4207,Referencias!$B$4:$C$15,2,FALSE())","v":{"$error":"#N/A"}},{"$f":"VLOOKUP(C4207,Referencias!$B$18:$C$34,2,FALSE())","v":{"$error":"#N/A"}},"C"]
[null,null,null,null,null,null,null,{"$f":"VLOOKUP(E4208,Referencias!$B$4:$C$15,2,FALSE())","v":{"$error":"#N/A"}},{"$f":"VLOOKUP(C4208,Referencias!$B$18:$C$34,2,FALSE())","v":{"$error":"#N/A"}},"C"]
[null,null,null,null,null,null,null,{"$f":"VLOOKUP(E4209,Referencias!$B$4:$C$15,2,FALSE())","v":{"$error":"#N/A"}},{"$f":"VLOOKUP(C4209,Referencias!$B$18:$C$34,2,FALSE())","v":{"$error":"#N/A"}},"C"]
[null,null,null,null,null,null,null,{"$f":"VLOOKUP(E4210,Referencias!$B$4:$C$15,2,FALSE())","v":{"$error":"#N/A"}},{"$f":"VLOOKUP(C4210,Referencias!$B$18:$C$34,2,FALSE())","v":{"$error":"#N/A"}},"C"]
[null,null,null,null,null,null,null,{"$f":"VLOOKUP(E4211,Referencias!$B$4:$C$15,2,FALSE())","v":{"$error":"#N/A"}},{"$f":"VLOOKUP(C4211,Referencias!$B$18:$C$34,2,FALSE())","v":{"$error":"#N/A"}},"C"]
[null,null,null,null,null,null,null,{"$f":"VLOOKUP(E4212,Referencias!$B$4:$C$15,2,FALSE())","v":{"$error":"#N/A"}},{"$f":"VLOOKUP(C4212,Referencias!$B$18:$C$34,2,FALSE())","v":{"$error":"#N/A"}},"C"]
[null,null,null,null,null,null,null,{"$f":"VLOOKUP(E4213,Referencias!$B$4:$C$15,2,FALSE())","v":{"$error":"#N/A"}},{"$f":"VLOOKUP(C4213,Referencias!$B$18:$C$34,2,FALSE())","v":{"$error":"#N/A"}},"C"]
[null,null,null,null,null,null,null,{"$f":"VLOOKUP(E4214,Referencias!$B$4:$C$15,2,FALSE())","v":{"$error":"#N/A"}},{"$f":"VLOOKUP(C4214,Referencias!$B$18:$C$34,2,FALSE())","v":{"$error":"#N/A"}},"C"]
[null,null,null,null,null,null,null,{"$f":"VLOOKUP(E4215,Referencias!$B$4:$C$15,2,FALSE())","v":{"$error":"#N/A"}},{"$f":"VLOOKUP(C4215,Referencias!$B$18:$C$34,2,FALSE())","v":{"$error":"#N/A"}},"C"]
[null,null,null,null,null,null,null,{"$f":"VLOOKUP(E4216,Referencias!$B$4:$C$15,2,FALSE())","v":{"$error":"#N/A"}},{"$f":"VLOOKUP(C4216,Referencias!$B$18:$C$34,2,FALSE())","v":{"$error":"#N/A"}},"C"]
[null,null,null,null,null,null,null,{"$f":"VLOOKUP(E4217,Referencias!$B$4:$C$15,2,FALSE())","v":{"$error":"#N/A"}},{"$f":"VLOOKUP(C4217,Referencias!$B$18:$C$34,2,FALSE())","v":{"$error":"#N/A"}},"C"]
[null,null,null,null,null,null,null,{"$f":"VLOOKUP(E4218,Referencias!$B$4:$C$15,2,FALSE())","v":{"$error":"#N/A"}},{"$f":"VLOOKUP(C4218,Referencias!$B$18:$C$34,2,FALSE())","v":{"$error":"#N/A"}},"C"]
[null,null,null,null,null,null,null,{"$f":"VLOOKUP(E4219,Referencias!$B$4:$C$15,2,FALSE())","v":{"$error":"#N/A"}},{"$f":"VLOOKUP(C4219,Referencias!$B$18:$C$34,2,FALSE())","v":{"$error":"#N/A"}},"C"]
[null,null,null,null,null,null,null,{"$f":"VLOOKUP(E4220,Referencias!$B$4:$C$15,2,FALSE())","v":{"$error":"#N/A"}},{"$f":"VLOOKUP(C4220,Referencias!$B$18:$C$34,2,FALSE())","v":{"$error":"#N/A"}},"C"]
[null,null,null,null,null,null,null,{"$f":"VLOOKUP(E4221,Referencias!$B$4:$C$15,2,FALSE())","v":{"$error":"#N/A"}},{"$f":"VLOOKUP(C4221,Referencias!$B$18:$C$34,2,FALSE())","v":{"$error":"#N/A"}},"C"]
[null,null,null,null,null,null,null,{"$f":"VLOOKUP(E4222,Referencias!$B$4:$C$15,2,FALSE())","v":{"$error":"#N/A"}},{"$f":"VLOOKUP(C4222,Referencias!$B$18:$C$34,2,FALSE())","v":{"$error":"#N/A"}},"C"]
[null,null,null,null,null,null,null,{"$f":"VLOOKUP(E4223,Referencias!$B$4:$C$15,2,FALSE())","v":{"$error":"#N/A"}},{"$f":"VLOOKUP(C4223,Referencias!$B$18:$C$34,2,FALSE())","v":{"$error":"#N/A"}},"C"]
[null,null,null,null,null,null,null,{"$f":"VLOOKUP(E4224,Referencias!$B$4:$C$15,2,FALSE())","v":{"$error":"#N/A"}},{"$f":"VLOOKUP(C4224,Referencias!$B$18:$C$34,2,FALSE())","v":{"$error":"#N/A"}},"C"]
[null,null,null,null,null,null,null,{"$f":"VLOOKUP(E4225,Referencias!$B$4:$C$15,2,FALSE())","v":{"$error":"#N/A"}},{"$f":"VLOOKUP(C4225,Referencias!$B$18:$C$34,2,FALSE())","v":{"$error":"#N/A"}},{"$f":"IF(D4225=\"Dama\",\"D\",\"C\")","v":"C"}]
[null,null,null,null,null,null,null,{"$f":"VLOOKUP(E4226,Referencias!$B$4:$C$15,2,FALSE())","v":{"$error":"#N/A"}},{"$f":"VLOOKUP(C4226,Referencias!$B$18:$C$34,2,FALSE())","v":{"$error":"#N/A"}},"C"]
[null,null,null,null,null,null,null,{"$f":"VLOOKUP(E4227,Referencias!$B$4:$C$15,2,FALSE())","v":{"$error":"#N/A"}},{"$f":"VLOOKUP(C4227,Referencias!$B$18:$C$34,2,FALSE())","v":{"$error":"#N/A"}},"C"]
[null,null,null,null,null,null,null,{"$f":"VLOOKUP(E4228,Referencias!$B$4:$C$15,2,FALSE())","v":{"$error":"#N/A"}},{"$f":"VLOOKUP(C4228,Referencias!$B$18:$C$34,2,FALSE())","v":{"$error":"#N/A"}},"C"]
[null,null,null,null,null,null,null,{"$f":"VLOOKUP(E4229,Referencias!$B$4:$C$15,2,FALSE())","v":{"$error":"#N/A"}},{"$f":"VLOOKUP(C4229,Referencias!$B$18:$C$34,2,FALSE())","v":{"$error":"#N/A"}},"C"]
[null,null,null,null,null,null,null,{"$f":"VLOOKUP(E4230,Referencias!$B$4:$C$15,2,FALSE())","v":{"$error":"#N/A"}},{"$f":"VLOOKUP(C4230,Referencias!$B$18:$C$34,2,FALSE())","v":{"$error":"#N/A"}},"C"]
[null,null,null,null,null,null,null,{"$f":"VLOOKUP(E4231,Referencias!$B$4:$C$15,2,FALSE())","v":{"$error":"#N/A"}},{"$f":"VLOOKUP(C4231,Referencias!$B$18:$C$34,2,FALSE())","v":{"$error":"#N/A"}},"C"]
[null,null,null,null,null,null,null,{"$f":"VLOOKUP(E4232,Referencias!$B$4:$C$15,2,FALSE())","v":{"$error":"#N/A"}},{"$f":"VLOOKUP(C4232,Referencias!$B$18:$C$34,2,FALSE())","v":{"$error":"#N/A"}},"C"]
[null,null,null,null,null,null,null,{"$f":"VLOOKUP(E4233,Referencias!$B$4:$C$15,2,FALSE())","v":{"$error":"#N/A"}},{"$f":"VLOOKUP(C4233,Referencias!$B$18:$C$34,2,FALSE())","v":{"$error":"#N/A"}},"C"]
[null,null,null,null,null,null,null,{"$f":"VLOOKUP(E4234,Referencias!$B$4:$C$15,2,FALSE())","v":{"$error":"#N/A"}},{"$f":"VLOOKUP(C4234,Referencias!$B$18:$C$34,2,FALSE())","v":{"$error":"#N/A"}},"C"]
[null,null,null,null,null,null,null,{"$f":"VLOOKUP(E4235,Referencias!$B$4:$C$15,2,FALSE())","v":{"$error":"#N/A"}},{"$f":"VLOOKUP(C4235,Referencias!$B$18:$C$34,2,FALSE())","v":{"$error":"#N/A"}},"C"]
[null,null,null,null,null,null,null,{"$f":"VLOOKUP(E4236,Referencias!$B$4:$C$15,2,FALSE())","v":{"$error":"#N/A"}},{"$f":"VLOOKUP(C4236,Referencias!$B$18:$C$34,2,FALSE())","v":{"$error":"#N/A"}},"C"]
[null,null,null,null,null,null,null,{"$f":"VLOOKUP(E4237,Referencias!$B$4:$C$15,2,FALSE())","v":{"$error":"#N/A"}},{"$f":"VLOOKUP(C4237,Referencias!$B$18:$C$34,2,FALSE())","v":{"$error":"#N/A"}},"C"]
[null,null,null,null,null,null,null,{"$f":"VLOOKUP(E4238,Referencias!$B$4:$C$15,2,FALSE())","v":{"$error":"#N/A"}},{"$f":"VLOOKUP(C4238,Referencias!$B$18:$C$34,2,FALSE())","v":{"$error":"#N/A"}},"C"]
[null,null,null,null,null,null,null,{"$f":"VLOOKUP(E4239,Referencias!$B$4:$C$15,2,FALSE())","v":{"$error":"#N/A"}},{"$f":"VLOOKUP(C4239,Referencias!$B$18:$C$34,2,FALSE())","v":{"$error":"#N/A"}},"C"]
[null,null,null,null,null,null,null,{"$f":"VLOOKUP(E4240,Referencias!$B$4:$C$15,2,FALSE())","v":{"$error":"#N/A"}},{"$f":"VLOOKUP(C4240,Referencias!$B$18:$C$34,2,FALSE())","v":{"$error":"#N/A"}},"C"]
[null,null,null,null,null,null,null,{"$f":"VLOOKUP(E4241,Referencias!$B$4:$C$15,2,FALSE())","v":{"$error":"#N/A"}},{"$f":"VLOOKUP(C4241,Referencias!$B$18:$C$34,2,FALSE())","v":{"$error":"#N/A"}},"C"]
[null,null,null,null,null,null,null,{"$f":"VLOOKUP(E4242,Referencias!$B$4:$C$15,2,FALSE())","v":{"$error":"#N/A"}},{"$f":"VLOOKUP(C4242,Referencias!$B$18:$C$34,2,FALSE())","v":{"$error":"#N/A"}},"C"]
[null,null,null,null,null,null,null,{"$f":"VLOOKUP(E4243,Referencias!$B$4:$C$15,2,FALSE())","v":{"$error":"#N/A"}},{"$f":"VLOOKUP(C4243,Referencias!$B$18:$C$34,2,FALSE())","v":{"$error":"#N/A"}},"C"]
[null,null,null,null,null,null,null,{"$f":"VLOOKUP(E4244,Referencias!$B$4:$C$15,2,FALSE())","v":{"$error":"#N/A"}},{"$f":"VLOOKUP(C4244,Referencias!$B$18:$C$34,2,FALSE())","v":{"$error":"#N/A"}},"C"]
[null,null,null,null,null,null,null,{"$f":"VLOOKUP(E4245,Referencias!$B$4:$C$15,2,FALSE())","v":{"$error":"#N/A"}},{"$f":"VLOOKUP(C4245,Referencias!$B$18:$C$34,2,FALSE())","v":{"$error":"#N/A"}},"C"]
[null,null,null,null,null,null,null,{"$f":"VLOOKUP(E4246,Referencias!$B$4:$C$15,2,FALSE())","v":{"$error":"#N/A"}},{"$f":"VLOOKUP(C4246,Referencias!$B$18:$C$34,2,FALSE())","v":{"$error":"#N/A"}},"C"]
[null,null,null,null,null,null,null,{"$f":"VLOOKUP(E4247,Referencias!$B$4:$C$15,2,FALSE())","v":{"$error":"#N/A"}},{"$f":"VLOOKUP(C4247,Referencias!$B$18:$C$34,2,FALSE())","v":{"$error":"#N/A"}},"C"]
[null,null,null,null,null,null,null,{"$f":"VLOOKUP(E4248,Referencias!$B$4:$C$15,2,FALSE())","v":{"$error":"#N/A"}},{"$f":"VLOOKUP(C4248,Referencias!$B$18:$C$34,2,FALSE())","v":{"$error":"#N/A"}},"C"]
[null,null,null,null,null,null,null,{"$f":"VLOOKUP(E4249,Referencias!$B$4:$C$15,2,FALSE())","v":{"$error":"#N/A"}},{"$f":"VLOOKUP(C4249,Referencias!$B$18:$C$34,2,FALSE())","v":{"$error":"#N/A"}},"C"]
[null,null,null,null,null,null,null,{"$f":"VLOOKUP(E4250,Referencias!$B$4:$C$15,2,FALSE())","v":{"$error":"#N/A"}},{"$f":"VLOOKUP(C4250,Referencias!$B$18:$C$34,2,FALSE())","v":{"$error":"#N/A"}},"C"]
[null,null,null,null,null,null,null,{"$f":"VLOOKUP(E4251,Referencias!$B$4:$C$15,2,FALSE())","v":{"$error":"#N/A"}},{"$f":"VLOOKUP(C4251,Referencias!$B$18:$C$34,2,FALSE())","v":{"$error":"#N/A"}},"C"]
[null,null,null,null,null,null,null,{"$f":"VLOOKUP(E4252,Referencias!$B$4:$C$15,2,FALSE())","v":{"$error":"#N/A"}},{"$f":"VLOOKUP(C4252,Referencias!$B$18:$C$34,2,FALSE())","v":{"$error":"#N/A"}},"C"]
[null,null,null,null,null,null,null,{"$f":"VLOOKUP(E4253,Referencias!$B$4:$C$15,2,FALSE())","v":{"$error":"#N/A"}},{"$f":"VLOOKUP(C4253,Referencias!$B$18:$C$34,2,FALSE())","v":{"$error":"#N/A"}},"C"]
[null,null,null,null,null,null,null,{"$f":"VLOOKUP(E4254,Referencias!$B$4:$C$15,2,FALSE())","v":{"$error":"#N/A"}},{"$f":"VLOOKUP(C4254,Referencias!$B$18:$C$34,2,FALSE())","v":{"$error":"#N/A"}},"C"]
[null,null,null,null,null,null,null,{"$f":"VLOOKUP(E4255,Referencias!$B$4:$C$15,2,FALSE())","v":{"$error":"#N/A"}},{"$f":"VLOOKUP(C4255,Referencias!$B$18:$C$34,2,FALSE())","v":{"$error":"#N/A"}},"C"]
[null,null,null,null,null,null,null,{"$f":"VLOOKUP(E4256,Referencias!$B$4:$C$15,2,FALSE())","v":{"$error":"#N/A"}},{"$f":"VLOOKUP(C4256,Referencias!$B$18:$C$34,2,FALSE())","v":{"$error":"#N/A"}},"C"]
[null,null,null,null,null,null,null,{"$f":"VLOOKUP(E4257,Referencias!$B$4:$C$15,2,FALSE())","v":{"$error":"#N/A"}},{"$f":"VLOOKUP(C4257,Referencias!$B$18:$C$34,2,FALSE())","v":{"$error":"#N/A"}},"C"]
[null,null,null,null,null,null,null,{"$f":"VLOOKUP(E4258,Referencias!$B$4:$C$15,2,FALSE())","v":{"$error":"#N/A"}},{"$f":"VLOOKUP(C4258,Referencias!$B$18:$C$34,2,FALSE())","v":{"$error":"#N/A"}},"C"]
[null,null,null,null,null,null,null,{"$f":"VLOOKUP(E4259,Referencias!$B$4:$C$15,2,FALSE())","v":{"$error":"#N/A"}},{"$f":"VLOOKUP(C4259,Referencias!$B$18:$C$34,2,FALSE())","v":{"$error":"#N/A"}},"C"]
[null,null,null,null,null,null,null,{"$f":"VLOOKUP(E4260,Referencias!$B$4:$C$15,2,FALSE())","v":{"$error":"#N/A"}},{"$f":"VLOOKUP(C4260,Referencias!$B$18:$C$34,2,FALSE())","v":{"$error":"#N/A"}},"C"]
[null,null,null,null,null,null,null,{"$f":"VLOOKUP(E4261,Referencias!$B$4:$C$15,2,FALSE())","v":{"$error":"#N/A"}},{"$f":"VLOOKUP(C4261,Referencias!$B$18:$C$34,2,FALSE())","v":{"$error":"#N/A"}},"C"]
[null,null,null,null,null,null,null,{"$f":"VLOOKUP(E4262,Referencias!$B$4:$C$15,2,FALSE())","v":{"$error":"#N/A"}},{"$f":"VLOOKUP(C4262,Referencias!$B$18:$C$34,2,FALSE())","v":{"$error":"#N/A"}},"C"]
[null,null,null,null,null,null,null,{"$f":"VLOOKUP(E4263,Referencias!$B$4:$C$15,2,FALSE())","v":{"$error":"#N/A"}},{"$f":"VLOOKUP(C4263,Referencias!$B$18:$C$34,2,FALSE())","v":{"$error":"#N/A"}},"C"]
[null,null,null,null,null,null,null,{"$f":"VLOOKUP(E4264,Referencias!$B$4:$C$15,2,FALSE())","v":{"$error":"#N/A"}},{"$f":"VLOOKUP(C4264,Referencias!$B$18:$C$34,2,FALSE())","v":{"$error":"#N/A"}},"C"]
[null,null,null,null,null,null,null,{"$f":"VLOOKUP(E4265,Referencias!$B$4:$C$15,2,FALSE())","v":{"$error":"#N/A"}},{"$f":"VLOOKUP(C4265,Referencias!$B$18:$C$34,2,FALSE())","v":{"$error":"#N/A"}},"C"]
[null,null,null,null,null,null,null,{"$f":"VLOOKUP(E4266,Referencias!$B$4:$C$15,2,FALSE())","v":{"$error":"#N/A"}},{"$f":"VLOOKUP(C4266,Referencias!$B$18:$C$34,2,FALSE())","v":{"$error":"#N/A"}},"C"]
[null,null,null,null,null,null,null,{"$f":"VLOOKUP(E4267,Referencias!$B$4:$C$15,2,FALSE())","v":{"$error":"#N/A"}},{"$f":"VLOOKUP(C4267,Referencias!$B$18:$C$34,2,FALSE())","v":{"$error":"#N/A"}},"C"]
[null,null,null,null,null,null,null,{"$f":"VLOOKUP(E4268,Referencias!$B$4:$C$15,2,FALSE())","v":{"$error":"#N/A"}},{"$f":"VLOOKUP(C4268,Referencias!$B$18:$C$34,2,FALSE())","v":{"$error":"#N/A"}},"C"]
[null,null,null,null,null,null,null,{"$f":"VLOOKUP(E4269,Referencias!$B$4:$C$15,2,FALSE())","v":{"$error":"#N/A"}},{"$f":"VLOOKUP(C4269,Referencias!$B$18:$C$34,2,FALSE())","v":{"$error":"#N/A"}},"C"]
[null,null,null,null,null,null,null,{"$f":"VLOOKUP(E4270,Referencias!$B$4:$C$15,2,FALSE())","v":{"$error":"#N/A"}},{"$f":"VLOOKUP(C4270,Referencias!$B$18:$C$34,2,FALSE())","v":{"$error":"#N/A"}},"C"]
[null,null,null,null,null,null,null,{"$f":"VLOOKUP(E4271,Referencias!$B$4:$C$15,2,FALSE())","v":{"$error":"#N/A"}},{"$f":"VLOOKUP(C4271,Referencias!$B$18:$C$34,2,FALSE())","v":{"$error":"#N/A"}},"C"]
[null,null,null,null,null,null,null,{"$f":"VLOOKUP(E4272,Referencias!$B$4:$C$15,2,FALSE())","v":{"$error":"#N/A"}},{"$f":"VLOOKUP(C4272,Referencias!$B$18:$C$34,2,FALSE())","v":{"$error":"#N/A"}},"C"]
[null,null,null,null,null,null,null,{"$f":"VLOOKUP(E4273,Referencias!$B$4:$C$15,2,FALSE())","v":{"$error":"#N/A"}},{"$f":"VLOOKUP(C4273,Referencias!$B$18:$C$34,2,FALSE())","v":{"$error":"#N/A"}},"C"]
[null,null,null,null,null,null,null,{"$f":"VLOOKUP(E4274,Referencias!$B$4:$C$15,2,FALSE())","v":{"$error":"#N/A"}},{"$f":"VLOOKUP(C4274,Referencias!$B$18:$C$34,2,FALSE())","v":{"$error":"#N/A"}},"C"]
[null,null,null,null,null,null,null,{"$f":"VLOOKUP(E4275,Referencias!$B$4:$C$15,2,FALSE())","v":{"$error":"#N/A"}},{"$f":"VLOOKUP(C4275,Referencias!$B$18:$C$34,2,FALSE())","v":{"$error":"#N/A"}},"C"]
[null,null,null,null,null,null,null,{"$f":"VLOOKUP(E4276,Referencias!$B$4:$C$15,2,FALSE())","v":{"$error":"#N/A"}},{"$f":"VLOOKUP(C4276,Referencias!$B$18:$C$34,2,FALSE())","v":{"$error":"#N/A"}},"C"]
[null,null,null,null,null,null,null,{"$f":"VLOOKUP(E4277,Referencias!$B$4:$C$15,2,FALSE())","v":{"$error":"#N/A"}},{"$f":"VLOOKUP(C4277,Referencias!$B$18:$C$34,2,FALSE())","v":{"$error":"#N/A"}},"C"]
[null,null,null,null,null,null,null,{"$f":"VLOOKUP(E4278,Referencias!$B$4:$C$15,2,FALSE())","v":{"$error":"#N/A"}},{"$f":"VLOOKUP(C4278,Referencias!$B$18:$C$34,2,FALSE())","v":{"$error":"#N/A"}},"C"]
[null,null,null,null,null,null,null,{"$f":"VLOOKUP(E4279,Referencias!$B$4:$C$15,2,FALSE())","v":{"$error":"#N/A"}},{"$f":"VLOOKUP(C4279,Referencias!$B$18:$C$34,2,FALSE())","v":{"$error":"#N/A"}},"C"]
[null,null,null,null,null,null,null,{"$f":"VLOOKUP(E4280,Referencias!$B$4:$C$15,2,FALSE())","v":{"$error":"#N/A"}},{"$f":"VLOOKUP(C4280,Referencias!$B$18:$C$34,2,FALSE())","v":{"$error":"#N/A"}},"C"]
[null,null,null,null,null,null,null,{"$f":"VLOOKUP(E4281,Referencias!$B$4:$C$15,2,FALSE())","v":{"$error":"#N/A"}},{"$f":"VLOOKUP(C4281,Referencias!$B$18:$C$34,2,FALSE())","v":{"$error":"#N/A"}},"C"]
[null,null,null,null,null,null,null,{"$f":"VLOOKUP(E4282,Referencias!$B$4:$C$15,2,FALSE())","v":{"$error":"#N/A"}},{"$f":"VLOOKUP(C4282,Referencias!$B$18:$C$34,2,FALSE())","v":{"$error":"#N/A"}},"C"]
[null,null,null,null,null,null,null,{"$f":"VLOOKUP(E4283,Referencias!$B$4:$C$15,2,FALSE())","v":{"$error":"#N/A"}},{"$f":"VLOOKUP(C4283,Referencias!$B$18:$C$34,2,FALSE())","v":{"$error":"#N/A"}},"C"]
[null,null,null,null,null,null,null,{"$f":"VLOOKUP(E4284,Referencias!$B$4:$C$15,2,FALSE())","v":{"$error":"#N/A"}},{"$f":"VLOOKUP(C4284,Referencias!$B$18:$C$34,2,FALSE())","v":{"$error":"#N/A"}},"C"]
[null,null,null,null,null,null,null,{"$f":"VLOOKUP(E4285,Referencias!$B$4:$C$15,2,FALSE())","v":{"$error":"#N/A"}},{"$f":"VLOOKUP(C4285,Referencias!$B$18:$C$34,2,FALSE())","v":{"$error":"#N/A"}},"C"]
[null,null,null,null,null,null,null,{"$f":"VLOOKUP(E4286,Referencias!$B$4:$C$15,2,FALSE())","v":{"$error":"#N/A"}},{"$f":"VLOOKUP(C4286,Referencias!$B$18:$C$34,2,FALSE())","v":{"$error":"#N/A"}},"C"]
[null,null,null,null,null,null,null,{"$f":"VLOOKUP(E4287,Referencias!$B$4:$C$15,2,FALSE())","v":{"$error":"#N/A"}},{"$f":"VLOOKUP(C4287,Referencias!$B$18:$C$34,2,FALSE())","v":{"$error":"#N/A"}},"C"]
[null,null,null,null,null,null,null,{"$f":"VLOOKUP(E4288,Referencias!$B$4:$C$15,2,FALSE())","v":{"$error":"#N/A"}},{"$f":"VLOOKUP(C4288,Referencias!$B$18:$C$34,2,FALSE())","v":{"$error":"#N/A"}},"C"]
[null,null,null,null,null,null,null,{"$f":"VLOOKUP(E4289,Referencias!$B$4:$C$15,2,FALSE())","v":{"$error":"#N/A"}},{"$f":"VLOOKUP(C4289,Referencias!$B$18:$C$34,2,FALSE())","v":{"$error":"#N/A"}},{"$f":"IF(D4289=\"Dama\",\"D\",\"C\")","v":"C"}]
[null,null,null,null,null,null,null,{"$f":"VLOOKUP(E4290,Referencias!$B$4:$C$15,2,FALSE())","v":{"$error":"#N/A"}},{"$f":"VLOOKUP(C4290,Referencias!$B$18:$C$34,2,FALSE())","v":{"$error":"#N/A"}},"C"]
[null,null,null,null,null,null,null,{"$f":"VLOOKUP(E4291,Referencias!$B$4:$C$15,2,FALSE())","v":{"$error":"#N/A"}},{"$f":"VLOOKUP(C4291,Referencias!$B$18:$C$34,2,FALSE())","v":{"$error":"#N/A"}},"C"]
[null,null,null,null,null,null,null,{"$f":"VLOOKUP(E4292,Referencias!$B$4:$C$15,2,FALSE())","v":{"$error":"#N/A"}},{"$f":"VLOOKUP(C4292,Referencias!$B$18:$C$34,2,FALSE())","v":{"$error":"#N/A"}},"C"]
[null,null,null,null,null,null,null,{"$f":"VLOOKUP(E4293,Referencias!$B$4:$C$15,2,FALSE())","v":{"$error":"#N/A"}},{"$f":"VLOOKUP(C4293,Referencias!$B$18:$C$34,2,FALSE())","v":{"$error":"#N/A"}},"C"]
[null,null,null,null,null,null,null,{"$f":"VLOOKUP(E4294,Referencias!$B$4:$C$15,2,FALSE())","v":{"$error":"#N/A"}},{"$f":"VLOOKUP(C4294,Referencias!$B$18:$C$34,2,FALSE())","v":{"$error":"#N/A"}},"C"]
[null,null,null,null,null,null,null,{"$f":"VLOOKUP(E4295,Referencias!$B$4:$C$15,2,FALSE())","v":{"$error":"#N/A"}},{"$f":"VLOOKUP(C4295,Referencias!$B$18:$C$34,2,FALSE())","v":{"$error":"#N/A"}},"C"]
[null,null,null,null,null,null,null,{"$f":"VLOOKUP(E4296,Referencias!$B$4:$C$15,2,FALSE())","v":{"$error":"#N/A"}},{"$f":"VLOOKUP(C4296,Referencias!$B$18:$C$34,2,FALSE())","v":{"$error":"#N/A"}},"C"]
[null,null,null,null,null,null,null,{"$f":"VLOOKUP(E4297,Referencias!$B$4:$C$15,2,FALSE())","v":{"$error":"#N/A"}},{"$f":"VLOOKUP(C4297,Referencias!$B$18:$C$34,2,FALSE())","v":{"$error":"#N/A"}},"C"]
[null,null,null,null,null,null,null,{"$f":"VLOOKUP(E4298,Referencias!$B$4:$C$15,2,FALSE())","v":{"$error":"#N/A"}},{"$f":"VLOOKUP(C4298,Referencias!$B$18:$C$34,2,FALSE())","v":{"$error":"#N/A"}},"C"]
[null,null,null,null,null,null,null,{"$f":"VLOOKUP(E4299,Referencias!$B$4:$C$15,2,FALSE())","v":{"$error":"#N/A"}},{"$f":"VLOOKUP(C4299,Referencias!$B$18:$C$34,2,FALSE())","v":{"$error":"#N/A"}},"C"]
[null,null,null,null,null,null,null,{"$f":"VLOOKUP(E4300,Referencias!$B$4:$C$15,2,FALSE())","v":{"$error":"#N/A"}},{"$f":"VLOOKUP(C4300,Referencias!$B$18:$C$34,2,FALSE())","v":{"$error":"#N/A"}},"C"]
[null,null,null,null,null,null,null,{"$f":"VLOOKUP(E4301,Referencias!$B$4:$C$15,2,FALSE())","v":{"$error":"#N/A"}},{"$f":"VLOOKUP(C4301,Referencias!$B$18:$C$34,2,FALSE())","v":{"$error":"#N/A"}},"C"]
[null,null,null,null,null,null,null,{"$f":"VLOOKUP(E4302,Referencias!$B$4:$C$15,2,FALSE())","v":{"$error":"#N/A"}},{"$f":"VLOOKUP(C4302,Referencias!$B$18:$C$34,2,FALSE())","v":{"$error":"#N/A"}},"C"]
[null,null,null,null,null,null,null,{"$f":"VLOOKUP(E4303,Referencias!$B$4:$C$15,2,FALSE())","v":{"$error":"#N/A"}},{"$f":"VLOOKUP(C4303,Referencias!$B$18:$C$34,2,FALSE())","v":{"$error":"#N/A"}},"C"]
[null,null,null,null,null,null,null,{"$f":"VLOOKUP(E4304,Referencias!$B$4:$C$15,2,FALSE())","v":{"$error":"#N/A"}},{"$f":"VLOOKUP(C4304,Referencias!$B$18:$C$34,2,FALSE())","v":{"$error":"#N/A"}},"C"]
[null,null,null,null,null,null,null,{"$f":"VLOOKUP(E4305,Referencias!$B$4:$C$15,2,FALSE())","v":{"$error":"#N/A"}},{"$f":"VLOOKUP(C4305,Referencias!$B$18:$C$34,2,FALSE())","v":{"$error":"#N/A"}},"C"]
[null,null,null,null,null,null,null,{"$f":"VLOOKUP(E4306,Referencias!$B$4:$C$15,2,FALSE())","v":{"$error":"#N/A"}},{"$f":"VLOOKUP(C4306,Referencias!$B$18:$C$34,2,FALSE())","v":{"$error":"#N/A"}},"C"]
[null,null,null,null,null,null,null,{"$f":"VLOOKUP(E4307,Referencias!$B$4:$C$15,2,FALSE())","v":{"$error":"#N/A"}},{"$f":"VLOOKUP(C4307,Referencias!$B$18:$C$34,2,FALSE())","v":{"$error":"#N/A"}},"C"]
[null,null,null,null,null,null,null,{"$f":"VLOOKUP(E4308,Referencias!$B$4:$C$15,2,FALSE())","v":{"$error":"#N/A"}},{"$f":"VLOOKUP(C4308,Referencias!$B$18:$C$34,2,FALSE())","v":{"$error":"#N/A"}},"C"]
[null,null,null,null,null,null,null,{"$f":"VLOOKUP(E4309,Referencias!$B$4:$C$15,2,FALSE())","v":{"$error":"#N/A"}},{"$f":"VLOOKUP(C4309,Referencias!$B$18:$C$34,2,FALSE())","v":{"$error":"#N/A"}},"C"]
[null,null,null,null,null,null,null,{"$f":"VLOOKUP(E4310,Referencias!$B$4:$C$15,2,FALSE())","v":{"$error":"#N/A"}},{"$f":"VLOOKUP(C4310,Referencias!$B$18:$C$34,2,FALSE())","v":{"$error":"#N/A"}},"C"]
[null,null,null,null,null,null,null,{"$f":"VLOOKUP(E4311,Referencias!$B$4:$C$15,2,FALSE())","v":{"$error":"#N/A"}},{"$f":"VLOOKUP(C4311,Referencias!$B$18:$C$34,2,FALSE())","v":{"$error":"#N/A"}},"C"]
[null,null,null,null,null,null,null,{"$f":"VLOOKUP(E4312,Referencias!$B$4:$C$15,2,FALSE())","v":{"$error":"#N/A"}},{"$f":"VLOOKUP(C4312,Referencias!$B$18:$C$34,2,FALSE())","v":{"$error":"#N/A"}},"C"]
[null,null,null,null,null,null,null,{"$f":"VLOOKUP(E4313,Referencias!$B$4:$C$15,2,FALSE())","v":{"$error":"#N/A"}},{"$f":"VLOOKUP(C4313,Referencias!$B$18:$C$34,2,FALSE())","v":{"$error":"#N/A"}},"C"]
[null,null,null,null,null,null,null,{"$f":"VLOOKUP(E4314,Referencias!$B$4:$C$15,2,FALSE())","v":{"$error":"#N/A"}},{"$f":"VLOOKUP(C4314,Referencias!$B$18:$C$34,2,FALSE())","v":{"$error":"#N/A"}},"C"]
[null,null,null,null,null,null,null,{"$f":"VLOOKUP(E4315,Referencias!$B$4:$C$15,2,FALSE())","v":{"$error":"#N/A"}},{"$f":"VLOOKUP(C4315,Referencias!$B$18:$C$34,2,FALSE())","v":{"$error":"#N/A"}},"C"]
[null,null,null,null,null,null,null,{"$f":"VLOOKUP(E4316,Referencias!$B$4:$C$15,2,FALSE())","v":{"$error":"#N/A"}},{"$f":"VLOOKUP(C4316,Referencias!$B$18:$C$34,2,FALSE())","v":{"$error":"#N/A"}},"C"]
[null,null,null,null,null,null,null,{"$f":"VLOOKUP(E4317,Referencias!$B$4:$C$15,2,FALSE())","v":{"$error":"#N/A"}},{"$f":"VLOOKUP(C4317,Referencias!$B$18:$C$34,2,FALSE())","v":{"$error":"#N/A"}},"C"]
[null,null,null,null,null,null,null,{"$f":"VLOOKUP(E4318,Referencias!$B$4:$C$15,2,FALSE())","v":{"$error":"#N/A"}},{"$f":"VLOOKUP(C4318,Referencias!$B$18:$C$34,2,FALSE())","v":{"$error":"#N/A"}},"C"]
[null,null,null,null,null,null,null,{"$f":"VLOOKUP(E4319,Referencias!$B$4:$C$15,2,FALSE())","v":{"$error":"#N/A"}},{"$f":"VLOOKUP(C4319,Referencias!$B$18:$C$34,2,FALSE())","v":{"$error":"#N/A"}},"C"]
[null,null,null,null,null,null,null,{"$f":"VLOOKUP(E4320,Referencias!$B$4:$C$15,2,FALSE())","v":{"$error":"#N/A"}},{"$f":"VLOOKUP(C4320,Referencias!$B$18:$C$34,2,FALSE())","v":{"$error":"#N/A"}},"C"]
[null,null,null,null,null,null,null,{"$f":"VLOOKUP(E4321,Referencias!$B$4:$C$15,2,FALSE())","v":{"$error":"#N/A"}},{"$f":"VLOOKUP(C4321,Referencias!$B$18:$C$34,2,FALSE())","v":{"$error":"#N/A"}},"C"]
[null,null,null,null,null,null,null,{"$f":"VLOOKUP(E4322,Referencias!$B$4:$C$15,2,FALSE())","v":{"$error":"#N/A"}},{"$f":"VLOOKUP(C4322,Referencias!$B$18:$C$34,2,FALSE())","v":{"$error":"#N/A"}},"C"]
[null,null,null,null,null,null,null,{"$f":"VLOOKUP(E4323,Referencias!$B$4:$C$15,2,FALSE())","v":{"$error":"#N/A"}},{"$f":"VLOOKUP(C4323,Referencias!$B$18:$C$34,2,FALSE())","v":{"$error":"#N/A"}},"C"]
[null,null,null,null,null,null,null,{"$f":"VLOOKUP(E4324,Referencias!$B$4:$C$15,2,FALSE())","v":{"$error":"#N/A"}},{"$f":"VLOOKUP(C4324,Referencias!$B$18:$C$34,2,FALSE())","v":{"$error":"#N/A"}},"C"]
[null,null,null,null,null,null,null,{"$f":"VLOOKUP(E4325,Referencias!$B$4:$C$15,2,FALSE())","v":{"$error":"#N/A"}},{"$f":"VLOOKUP(C4325,Referencias!$B$18:$C$34,2,FALSE())","v":{"$error":"#N/A"}},"C"]
[null,null,null,null,null,null,null,{"$f":"VLOOKUP(E4326,Referencias!$B$4:$C$15,2,FALSE())","v":{"$error":"#N/A"}},{"$f":"VLOOKUP(C4326,Referencias!$B$18:$C$34,2,FALSE())","v":{"$error":"#N/A"}},"C"]
[null,null,null,null,null,null,null,{"$f":"VLOOKUP(E4327,Referencias!$B$4:$C$15,2,FALSE())","v":{"$error":"#N/A"}},{"$f":"VLOOKUP(C4327,Referencias!$B$18:$C$34,2,FALSE())","v":{"$error":"#N/A"}},"C"]
[null,null,null,null,null,null,null,{"$f":"VLOOKUP(E4328,Referencias!$B$4:$C$15,2,FALSE())","v":{"$error":"#N/A"}},{"$f":"VLOOKUP(C4328,Referencias!$B$18:$C$34,2,FALSE())","v":{"$error":"#N/A"}},"C"]
[null,null,null,null,null,null,null,{"$f":"VLOOKUP(E4329,Referencias!$B$4:$C$15,2,FALSE())","v":{"$error":"#N/A"}},{"$f":"VLOOKUP(C4329,Referencias!$B$18:$C$34,2,FALSE())","v":{"$error":"#N/A"}},"C"]
[null,null,null,null,null,null,null,{"$f":"VLOOKUP(E4330,Referencias!$B$4:$C$15,2,FALSE())","v":{"$error":"#N/A"}},{"$f":"VLOOKUP(C4330,Referencias!$B$18:$C$34,2,FALSE())","v":{"$error":"#N/A"}},"C"]
[null,null,null,null,null,null,null,{"$f":"VLOOKUP(E4331,Referencias!$B$4:$C$15,2,FALSE())","v":{"$error":"#N/A"}},{"$f":"VLOOKUP(C4331,Referencias!$B$18:$C$34,2,FALSE())","v":{"$error":"#N/A"}},"C"]
[null,null,null,null,null,null,null,{"$f":"VLOOKUP(E4332,Referencias!$B$4:$C$15,2,FALSE())","v":{"$error":"#N/A"}},{"$f":"VLOOKUP(C4332,Referencias!$B$18:$C$34,2,FALSE())","v":{"$error":"#N/A"}},"C"]
[null,null,null,null,null,null,null,{"$f":"VLOOKUP(E4333,Referencias!$B$4:$C$15,2,FALSE())","v":{"$error":"#N/A"}},{"$f":"VLOOKUP(C4333,Referencias!$B$18:$C$34,2,FALSE())","v":{"$error":"#N/A"}},"C"]
[null,null,null,null,null,null,null,{"$f":"VLOOKUP(E4334,Referencias!$B$4:$C$15,2,FALSE())","v":{"$error":"#N/A"}},{"$f":"VLOOKUP(C4334,Referencias!$B$18:$C$34,2,FALSE())","v":{"$error":"#N/A"}},"C"]
[null,null,null,null,null,null,null,{"$f":"VLOOKUP(E4335,Referencias!$B$4:$C$15,2,FALSE())","v":{"$error":"#N/A"}},{"$f":"VLOOKUP(C4335,Referencias!$B$18:$C$34,2,FALSE())","v":{"$error":"#N/A"}},"C"]
[null,null,null,null,null,null,null,{"$f":"VLOOKUP(E4336,Referencias!$B$4:$C$15,2,FALSE())","v":{"$error":"#N/A"}},{"$f":"VLOOKUP(C4336,Referencias!$B$18:$C$34,2,FALSE())","v":{"$error":"#N/A"}},"C"]
[null,null,null,null,null,null,null,{"$f":"VLOOKUP(E4337,Referencias!$B$4:$C$15,2,FALSE())","v":{"$error":"#N/A"}},{"$f":"VLOOKUP(C4337,Referencias!$B$18:$C$34,2,FALSE())","v":{"$error":"#N/A"}},"C"]
[null,null,null,null,null,null,null,{"$f":"VLOOKUP(E4338,Referencias!$B$4:$C$15,2,FALSE())","v":{"$error":"#N/A"}},{"$f":"VLOOKUP(C4338,Referencias!$B$18:$C$34,2,FALSE())","v":{"$error":"#N/A"}},"C"]
[null,null,null,null,null,null,null,{"$f":"VLOOKUP(E4339,Referencias!$B$4:$C$15,2,FALSE())","v":{"$error":"#N/A"}},{"$f":"VLOOKUP(C4339,Referencias!$B$18:$C$34,2,FALSE())","v":{"$error":"#N/A"}},"C"]
[null,null,null,null,null,null,null,{"$f":"VLOOKUP(E4340,Referencias!$B$4:$C$15,2,FALSE())","v":{"$error":"#N/A"}},{"$f":"VLOOKUP(C4340,Referencias!$B$18:$C$34,2,FALSE())","v":{"$error":"#N/A"}},"C"]
[null,null,null,null,null,null,null,{"$f":"VLOOKUP(E4341,Referencias!$B$4:$C$15,2,FALSE())","v":{"$error":"#N/A"}},{"$f":"VLOOKUP(C4341,Referencias!$B$18:$C$34,2,FALSE())","v":{"$error":"#N/A"}},"C"]
[null,null,null,null,null,null,null,{"$f":"VLOOKUP(E4342,Referencias!$B$4:$C$15,2,FALSE())","v":{"$error":"#N/A"}},{"$f":"VLOOKUP(C4342,Referencias!$B$18:$C$34,2,FALSE())","v":{"$error":"#N/A"}},"C"]
[null,null,null,null,null,null,null,{"$f":"VLOOKUP(E4343,Referencias!$B$4:$C$15,2,FALSE())","v":{"$error":"#N/A"}},{"$f":"VLOOKUP(C4343,Referencias!$B$18:$C$34,2,FALSE())","v":{"$error":"#N/A"}},"C"]
[null,null,null,null,null,null,null,{"$f":"VLOOKUP(E4344,Referencias!$B$4:$C$15,2,FALSE())","v":{"$error":"#N/A"}},{"$f":"VLOOKUP(C4344,Referencias!$B$18:$C$34,2,FALSE())","v":{"$error":"#N/A"}},"C"]
[null,null,null,null,null,null,null,{"$f":"VLOOKUP(E4345,Referencias!$B$4:$C$15,2,FALSE())","v":{"$error":"#N/A"}},{"$f":"VLOOKUP(C4345,Referencias!$B$18:$C$34,2,FALSE())","v":{"$error":"#N/A"}},"C"]
[null,null,null,null,null,null,null,{"$f":"VLOOKUP(E4346,Referencias!$B$4:$C$15,2,FALSE())","v":{"$error":"#N/A"}},{"$f":"VLOOKUP(C4346,Referencias!$B$18:$C$34,2,FALSE())","v":{"$error":"#N/A"}},"C"]
[null,null,null,null,null,null,null,{"$f":"VLOOKUP(E4347,Referencias!$B$4:$C$15,2,FALSE())","v":{"$error":"#N/A"}},{"$f":"VLOOKUP(C4347,Referencias!$B$18:$C$34,2,FALSE())","v":{"$error":"#N/A"}},"C"]
[null,null,null,null,null,null,null,{"$f":"VLOOKUP(E4348,Referencias!$B$4:$C$15,2,FALSE())","v":{"$error":"#N/A"}},{"$f":"VLOOKUP(C4348,Referencias!$B$18:$C$34,2,FALSE())","v":{"$error":"#N/A"}},"C"]
[null,null,null,null,null,null,null,{"$f":"VLOOKUP(E4349,Referencias!$B$4:$C$15,2,FALSE())","v":{"$error":"#N/A"}},{"$f":"VLOOKUP(C4349,Referencias!$B$18:$C$34,2,FALSE())","v":{"$error":"#N/A"}},"C"]
[null,null,null,null,null,null,null,{"$f":"VLOOKUP(E4350,Referencias!$B$4:$C$15,2,FALSE())","v":{"$error":"#N/A"}},{"$f":"VLOOKUP(C4350,Referencias!$B$18:$C$34,2,FALSE())","v":{"$error":"#N/A"}},"C"]
[null,null,null,null,null,null,null,{"$f":"VLOOKUP(E4351,Referencias!$B$4:$C$15,2,FALSE())","v":{"$error":"#N/A"}},{"$f":"VLOOKUP(C4351,Referencias!$B$18:$C$34,2,FALSE())","v":{"$error":"#N/A"}},"C"]
[null,null,null,null,null,null,null,{"$f":"VLOOKUP(E4352,Referencias!$B$4:$C$15,2,FALSE())","v":{"$error":"#N/A"}},{"$f":"VLOOKUP(C4352,Referencias!$B$18:$C$34,2,FALSE())","v":{"$error":"#N/A"}},"C"]
[null,null,null,null,null,null,null,{"$f":"VLOOKUP(E4353,Referencias!$B$4:$C$15,2,FALSE())","v":{"$error":"#N/A"}},{"$f":"VLOOKUP(C4353,Referencias!$B$18:$C$34,2,FALSE())","v":{"$error":"#N/A"}},{"$f":"IF(D4353=\"Dama\",\"D\",\"C\")","v":"C"}]
[null,null,null,null,null,null,null,{"$f":"VLOOKUP(E4354,Referencias!$B$4:$C$15,2,FALSE())","v":{"$error":"#N/A"}},{"$f":"VLOOKUP(C4354,Referencias!$B$18:$C$34,2,FALSE())","v":{"$error":"#N/A"}},"C"]
[null,null,null,null,null,null,null,{"$f":"VLOOKUP(E4355,Referencias!$B$4:$C$15,2,FALSE())","v":{"$error":"#N/A"}},{"$f":"VLOOKUP(C4355,Referencias!$B$18:$C$34,2,FALSE())","v":{"$error":"#N/A"}},"C"]
[null,null,null,null,null,null,null,{"$f":"VLOOKUP(E4356,Referencias!$B$4:$C$15,2,FALSE())","v":{"$error":"#N/A"}},{"$f":"VLOOKUP(C4356,Referencias!$B$18:$C$34,2,FALSE())","v":{"$error":"#N/A"}},"C"]
[null,null,null,null,null,null,null,{"$f":"VLOOKUP(E4357,Referencias!$B$4:$C$15,2,FALSE())","v":{"$error":"#N/A"}},{"$f":"VLOOKUP(C4357,Referencias!$B$18:$C$34,2,FALSE())","v":{"$error":"#N/A"}},"C"]
[null,null,null,null,null,null,null,{"$f":"VLOOKUP(E4358,Referencias!$B$4:$C$15,2,FALSE())","v":{"$error":"#N/A"}},{"$f":"VLOOKUP(C4358,Referencias!$B$18:$C$34,2,FALSE())","v":{"$error":"#N/A"}},"C"]
[null,null,null,null,null,null,null,{"$f":"VLOOKUP(E4359,Referencias!$B$4:$C$15,2,FALSE())","v":{"$error":"#N/A"}},{"$f":"VLOOKUP(C4359,Referencias!$B$18:$C$34,2,FALSE())","v":{"$error":"#N/A"}},"C"]
[null,null,null,null,null,null,null,{"$f":"VLOOKUP(E4360,Referencias!$B$4:$C$15,2,FALSE())","v":{"$error":"#N/A"}},{"$f":"VLOOKUP(C4360,Referencias!$B$18:$C$34,2,FALSE())","v":{"$error":"#N/A"}},"C"]
[null,null,null,null,null,null,null,{"$f":"VLOOKUP(E4361,Referencias!$B$4:$C$15,2,FALSE())","v":{"$error":"#N/A"}},{"$f":"VLOOKUP(C4361,Referencias!$B$18:$C$34,2,FALSE())","v":{"$error":"#N/A"}},"C"]
[null,null,null,null,null,null,null,{"$f":"VLOOKUP(E4362,Referencias!$B$4:$C$15,2,FALSE())","v":{"$error":"#N/A"}},{"$f":"VLOOKUP(C4362,Referencias!$B$18:$C$34,2,FALSE())","v":{"$error":"#N/A"}},"C"]
[null,null,null,null,null,null,null,{"$f":"VLOOKUP(E4363,Referencias!$B$4:$C$15,2,FALSE())","v":{"$error":"#N/A"}},{"$f":"VLOOKUP(C4363,Referencias!$B$18:$C$34,2,FALSE())","v":{"$error":"#N/A"}},"C"]
[null,null,null,null,null,null,null,{"$f":"VLOOKUP(E4364,Referencias!$B$4:$C$15,2,FALSE())","v":{"$error":"#N/A"}},{"$f":"VLOOKUP(C4364,Referencias!$B$18:$C$34,2,FALSE())","v":{"$error":"#N/A"}},"C"]
[null,null,null,null,null,null,null,{"$f":"VLOOKUP(E4365,Referencias!$B$4:$C$15,2,FALSE())","v":{"$error":"#N/A"}},{"$f":"VLOOKUP(C4365,Referencias!$B$18:$C$34,2,FALSE())","v":{"$error":"#N/A"}},"C"]
[null,null,null,null,null,null,null,{"$f":"VLOOKUP(E4366,Referencias!$B$4:$C$15,2,FALSE())","v":{"$error":"#N/A"}},{"$f":"VLOOKUP(C4366,Referencias!$B$18:$C$34,2,FALSE())","v":{"$error":"#N/A"}},"C"]
[null,null,null,null,null,null,null,{"$f":"VLOOKUP(E4367,Referencias!$B$4:$C$15,2,FALSE())","v":{"$error":"#N/A"}},{"$f":"VLOOKUP(C4367,Referencias!$B$18:$C$34,2,FALSE())","v":{"$error":"#N/A"}},"C"]
[null,null,null,null,null,null,null,{"$f":"VLOOKUP(E4368,Referencias!$B$4:$C$15,2,FALSE())","v":{"$error":"#N/A"}},{"$f":"VLOOKUP(C4368,Referencias!$B$18:$C$34,2,FALSE())","v":{"$error":"#N/A"}},"C"]
[null,null,null,null,null,null,null,{"$f":"VLOOKUP(E4369,Referencias!$B$4:$C$15,2,FALSE())","v":{"$error":"#N/A"}},{"$f":"VLOOKUP(C4369,Referencias!$B$18:$C$34,2,FALSE())","v":{"$error":"#N/A"}},"C"]
[null,null,null,null,null,null,null,{"$f":"VLOOKUP(E4370,Referencias!$B$4:$C$15,2,FALSE())","v":{"$error":"#N/A"}},{"$f":"VLOOKUP(C4370,Referencias!$B$18:$C$34,2,FALSE())","v":{"$error":"#N/A"}},"C"]
[null,null,null,null,null,null,null,{"$f":"VLOOKUP(E4371,Referencias!$B$4:$C$15,2,FALSE())","v":{"$error":"#N/A"}},{"$f":"VLOOKUP(C4371,Referencias!$B$18:$C$34,2,FALSE())","v":{"$error":"#N/A"}},"C"]
[null,null,null,null,null,null,null,{"$f":"VLOOKUP(E4372,Referencias!$B$4:$C$15,2,FALSE())","v":{"$error":"#N/A"}},{"$f":"VLOOKUP(C4372,Referencias!$B$18:$C$34,2,FALSE())","v":{"$error":"#N/A"}},"C"]
[null,null,null,null,null,null,null,{"$f":"VLOOKUP(E4373,Referencias!$B$4:$C$15,2,FALSE())","v":{"$error":"#N/A"}},{"$f":"VLOOKUP(C4373,Referencias!$B$18:$C$34,2,FALSE())","v":{"$error":"#N/A"}},"C"]
[null,null,null,null,null,null,null,{"$f":"VLOOKUP(E4374,Referencias!$B$4:$C$15,2,FALSE())","v":{"$error":"#N/A"}},{"$f":"VLOOKUP(C4374,Referencias!$B$18:$C$34,2,FALSE())","v":{"$error":"#N/A"}},"C"]
[null,null,null,null,null,null,null,{"$f":"VLOOKUP(E4375,Referencias!$B$4:$C$15,2,FALSE())","v":{"$error":"#N/A"}},{"$f":"VLOOKUP(C4375,Referencias!$B$18:$C$34,2,FALSE())","v":{"$error":"#N/A"}},"C"]
[null,null,null,null,null,null,null,{"$f":"VLOOKUP(E4376,Referencias!$B$4:$C$15,2,FALSE())","v":{"$error":"#N/A"}},{"$f":"VLOOKUP(C4376,Referencias!$B$18:$C$34,2,FALSE())","v":{"$error":"#N/A"}},"C"]
[null,null,null,null,null,null,null,{"$f":"VLOOKUP(E4377,Referencias!$B$4:$C$15,2,FALSE())","v":{"$error":"#N/A"}},{"$f":"VLOOKUP(C4377,Referencias!$B$18:$C$34,2,FALSE())","v":{"$error":"#N/A"}},"C"]
[null,null,null,null,null,null,null,{"$f":"VLOOKUP(E4378,Referencias!$B$4:$C$15,2,FALSE())","v":{"$error":"#N/A"}},{"$f":"VLOOKUP(C4378,Referencias!$B$18:$C$34,2,FALSE())","v":{"$error":"#N/A"}},"C"]
[null,null,null,null,null,null,null,{"$f":"VLOOKUP(E4379,Referencias!$B$4:$C$15,2,FALSE())","v":{"$error":"#N/A"}},{"$f":"VLOOKUP(C4379,Referencias!$B$18:$C$34,2,FALSE())","v":{"$error":"#N/A"}},"C"]
[null,null,null,null,null,null,null,{"$f":"VLOOKUP(E4380,Referencias!$B$4:$C$15,2,FALSE())","v":{"$error":"#N/A"}},{"$f":"VLOOKUP(C4380,Referencias!$B$18:$C$34,2,FALSE())","v":{"$error":"#N/A"}},"C"]
[null,null,null,null,null,null,null,{"$f":"VLOOKUP(E4381,Referencias!$B$4:$C$15,2,FALSE())","v":{"$error":"#N/A"}},{"$f":"VLOOKUP(C4381,Referencias!$B$18:$C$34,2,FALSE())","v":{"$error":"#N/A"}},"C"]
[null,null,null,null,null,null,null,{"$f":"VLOOKUP(E4382,Referencias!$B$4:$C$15,2,FALSE())","v":{"$error":"#N/A"}},{"$f":"VLOOKUP(C4382,Referencias!$B$18:$C$34,2,FALSE())","v":{"$error":"#N/A"}},"C"]
[null,null,null,null,null,null,null,{"$f":"VLOOKUP(E4383,Referencias!$B$4:$C$15,2,FALSE())","v":{"$error":"#N/A"}},{"$f":"VLOOKUP(C4383,Referencias!$B$18:$C$34,2,FALSE())","v":{"$error":"#N/A"}},"C"]
[null,null,null,null,null,null,null,{"$f":"VLOOKUP(E4384,Referencias!$B$4:$C$15,2,FALSE())","v":{"$error":"#N/A"}},{"$f":"VLOOKUP(C4384,Referencias!$B$18:$C$34,2,FALSE())","v":{"$error":"#N/A"}},"C"]
[null,null,null,null,null,null,null,{"$f":"VLOOKUP(E4385,Referencias!$B$4:$C$15,2,FALSE())","v":{"$error":"#N/A"}},{"$f":"VLOOKUP(C4385,Referencias!$B$18:$C$34,2,FALSE())","v":{"$error":"#N/A"}},"C"]
[null,null,null,null,null,null,null,{"$f":"VLOOKUP(E4386,Referencias!$B$4:$C$15,2,FALSE())","v":{"$error":"#N/A"}},{"$f":"VLOOKUP(C4386,Referencias!$B$18:$C$34,2,FALSE())","v":{"$error":"#N/A"}},"C"]
[null,null,null,null,null,null,null,{"$f":"VLOOKUP(E4387,Referencias!$B$4:$C$15,2,FALSE())","v":{"$error":"#N/A"}},{"$f":"VLOOKUP(C4387,Referencias!$B$18:$C$34,2,FALSE())","v":{"$error":"#N/A"}},"C"]
[null,null,null,null,null,null,null,{"$f":"VLOOKUP(E4388,Referencias!$B$4:$C$15,2,FALSE())","v":{"$error":"#N/A"}},{"$f":"VLOOKUP(C4388,Referencias!$B$18:$C$34,2,FALSE())","v":{"$error":"#N/A"}},"C"]
[null,null,null,null,null,null,null,{"$f":"VLOOKUP(E4389,Referencias!$B$4:$C$15,2,FALSE())","v":{"$error":"#N/A"}},{"$f":"VLOOKUP(C4389,Referencias!$B$18:$C$34,2,FALSE())","v":{"$error":"#N/A"}},"C"]
[null,null,null,null,null,null,null,{"$f":"VLOOKUP(E4390,Referencias!$B$4:$C$15,2,FALSE())","v":{"$error":"#N/A"}},{"$f":"VLOOKUP(C4390,Referencias!$B$18:$C$34,2,FALSE())","v":{"$error":"#N/A"}},"C"]
[null,null,null,null,null,null,null,{"$f":"VLOOKUP(E4391,Referencias!$B$4:$C$15,2,FALSE())","v":{"$error":"#N/A"}},{"$f":"VLOOKUP(C4391,Referencias!$B$18:$C$34,2,FALSE())","v":{"$error":"#N/A"}},"C"]
[null,null,null,null,null,null,null,{"$f":"VLOOKUP(E4392,Referencias!$B$4:$C$15,2,FALSE())","v":{"$error":"#N/A"}},{"$f":"VLOOKUP(C4392,Referencias!$B$18:$C$34,2,FALSE())","v":{"$error":"#N/A"}},"C"]
[null,null,null,null,null,null,null,{"$f":"VLOOKUP(E4393,Referencias!$B$4:$C$15,2,FALSE())","v":{"$error":"#N/A"}},{"$f":"VLOOKUP(C4393,Referencias!$B$18:$C$34,2,FALSE())","v":{"$error":"#N/A"}},"C"]
[null,null,null,null,null,null,null,{"$f":"VLOOKUP(E4394,Referencias!$B$4:$C$15,2,FALSE())","v":{"$error":"#N/A"}},{"$f":"VLOOKUP(C4394,Referencias!$B$18:$C$34,2,FALSE())","v":{"$error":"#N/A"}},"C"]
[null,null,null,null,null,null,null,{"$f":"VLOOKUP(E4395,Referencias!$B$4:$C$15,2,FALSE())","v":{"$error":"#N/A"}},{"$f":"VLOOKUP(C4395,Referencias!$B$18:$C$34,2,FALSE())","v":{"$error":"#N/A"}},"C"]
[null,null,null,null,null,null,null,{"$f":"VLOOKUP(E4396,Referencias!$B$4:$C$15,2,FALSE())","v":{"$error":"#N/A"}},{"$f":"VLOOKUP(C4396,Referencias!$B$18:$C$34,2,FALSE())","v":{"$error":"#N/A"}},"C"]
[null,null,null,null,null,null,null,{"$f":"VLOOKUP(E4397,Referencias!$B$4:$C$15,2,FALSE())","v":{"$error":"#N/A"}},{"$f":"VLOOKUP(C4397,Referencias!$B$18:$C$34,2,FALSE())","v":{"$error":"#N/A"}},"C"]
[null,null,null,null,null,null,null,{"$f":"VLOOKUP(E4398,Referencias!$B$4:$C$15,2,FALSE())","v":{"$error":"#N/A"}},{"$f":"VLOOKUP(C4398,Referencias!$B$18:$C$34,2,FALSE())","v":{"$error":"#N/A"}},"C"]
[null,null,null,null,null,null,null,{"$f":"VLOOKUP(E4399,Referencias!$B$4:$C$15,2,FALSE())","v":{"$error":"#N/A"}},{"$f":"VLOOKUP(C4399,Referencias!$B$18:$C$34,2,FALSE())","v":{"$error":"#N/A"}},"C"]
[null,null,null,null,null,null,null,{"$f":"VLOOKUP(E4400,Referencias!$B$4:$C$15,2,FALSE())","v":{"$error":"#N/A"}},{"$f":"VLOOKUP(C4400,Referencias!$B$18:$C$34,2,FALSE())","v":{"$error":"#N/A"}},"C"]
[null,null,null,null,null,null,null,{"$f":"VLOOKUP(E4401,Referencias!$B$4:$C$15,2,FALSE())","v":{"$error":"#N/A"}},{"$f":"VLOOKUP(C4401,Referencias!$B$18:$C$34,2,FALSE())","v":{"$error":"#N/A"}},"C"]
[null,null,null,null,null,null,null,{"$f":"VLOOKUP(E4402,Referencias!$B$4:$C$15,2,FALSE())","v":{"$error":"#N/A"}},{"$f":"VLOOKUP(C4402,Referencias!$B$18:$C$34,2,FALSE())","v":{"$error":"#N/A"}},"C"]
[null,null,null,null,null,null,null,{"$f":"VLOOKUP(E4403,Referencias!$B$4:$C$15,2,FALSE())","v":{"$error":"#N/A"}},{"$f":"VLOOKUP(C4403,Referencias!$B$18:$C$34,2,FALSE())","v":{"$error":"#N/A"}},"C"]
[null,null,null,null,null,null,null,{"$f":"VLOOKUP(E4404,Referencias!$B$4:$C$15,2,FALSE())","v":{"$error":"#N/A"}},{"$f":"VLOOKUP(C4404,Referencias!$B$18:$C$34,2,FALSE())","v":{"$error":"#N/A"}},"C"]
[null,null,null,null,null,null,null,{"$f":"VLOOKUP(E4405,Referencias!$B$4:$C$15,2,FALSE())","v":{"$error":"#N/A"}},{"$f":"VLOOKUP(C4405,Referencias!$B$18:$C$34,2,FALSE())","v":{"$error":"#N/A"}},"C"]
[null,null,null,null,null,null,null,{"$f":"VLOOKUP(E4406,Referencias!$B$4:$C$15,2,FALSE())","v":{"$error":"#N/A"}},{"$f":"VLOOKUP(C4406,Referencias!$B$18:$C$34,2,FALSE())","v":{"$error":"#N/A"}},"C"]
[null,null,null,null,null,null,null,{"$f":"VLOOKUP(E4407,Referencias!$B$4:$C$15,2,FALSE())","v":{"$error":"#N/A"}},{"$f":"VLOOKUP(C4407,Referencias!$B$18:$C$34,2,FALSE())","v":{"$error":"#N/A"}},"C"]
[null,null,null,null,null,null,null,{"$f":"VLOOKUP(E4408,Referencias!$B$4:$C$15,2,FALSE())","v":{"$error":"#N/A"}},{"$f":"VLOOKUP(C4408,Referencias!$B$18:$C$34,2,FALSE())","v":{"$error":"#N/A"}},"C"]
[null,null,null,null,null,null,null,{"$f":"VLOOKUP(E4409,Referencias!$B$4:$C$15,2,FALSE())","v":{"$error":"#N/A"}},{"$f":"VLOOKUP(C4409,Referencias!$B$18:$C$34,2,FALSE())","v":{"$error":"#N/A"}},"C"]
[null,null,null,null,null,null,null,{"$f":"VLOOKUP(E4410,Referencias!$B$4:$C$15,2,FALSE())","v":{"$error":"#N/A"}},{"$f":"VLOOKUP(C4410,Referencias!$B$18:$C$34,2,FALSE())","v":{"$error":"#N/A"}},"C"]
[null,null,null,null,null,null,null,{"$f":"VLOOKUP(E4411,Referencias!$B$4:$C$15,2,FALSE())","v":{"$error":"#N/A"}},{"$f":"VLOOKUP(C4411,Referencias!$B$18:$C$34,2,FALSE())","v":{"$error":"#N/A"}},"C"]
[null,null,null,null,null,null,null,{"$f":"VLOOKUP(E4412,Referencias!$B$4:$C$15,2,FALSE())","v":{"$error":"#N/A"}},{"$f":"VLOOKUP(C4412,Referencias!$B$18:$C$34,2,FALSE())","v":{"$error":"#N/A"}},"C"]
[null,null,null,null,null,null,null,{"$f":"VLOOKUP(E4413,Referencias!$B$4:$C$15,2,FALSE())","v":{"$error":"#N/A"}},{"$f":"VLOOKUP(C4413,Referencias!$B$18:$C$34,2,FALSE())","v":{"$error":"#N/A"}},"C"]
[null,null,null,null,null,null,null,{"$f":"VLOOKUP(E4414,Referencias!$B$4:$C$15,2,FALSE())","v":{"$error":"#N/A"}},{"$f":"VLOOKUP(C4414,Referencias!$B$18:$C$34,2,FALSE())","v":{"$error":"#N/A"}},"C"]
[null,null,null,null,null,null,null,{"$f":"VLOOKUP(E4415,Referencias!$B$4:$C$15,2,FALSE())","v":{"$error":"#N/A"}},{"$f":"VLOOKUP(C4415,Referencias!$B$18:$C$34,2,FALSE())","v":{"$error":"#N/A"}},"C"]
[null,null,null,null,null,null,null,{"$f":"VLOOKUP(E4416,Referencias!$B$4:$C$15,2,FALSE())","v":{"$error":"#N/A"}},{"$f":"VLOOKUP(C4416,Referencias!$B$18:$C$34,2,FALSE())","v":{"$error":"#N/A"}},"C"]
[null,null,null,null,null,null,null,{"$f":"VLOOKUP(E4417,Referencias!$B$4:$C$15,2,FALSE())","v":{"$error":"#N/A"}},{"$f":"VLOOKUP(C4417,Referencias!$B$18:$C$34,2,FALSE())","v":{"$error":"#N/A"}},{"$f":"IF(D4417=\"Dama\",\"D\",\"C\")","v":"C"}]
[null,null,null,null,null,null,null,{"$f":"VLOOKUP(E4418,Referencias!$B$4:$C$15,2,FALSE())","v":{"$error":"#N/A"}},{"$f":"VLOOKUP(C4418,Referencias!$B$18:$C$34,2,FALSE())","v":{"$error":"#N/A"}},"C"]
[null,null,null,null,null,null,null,{"$f":"VLOOKUP(E4419,Referencias!$B$4:$C$15,2,FALSE())","v":{"$error":"#N/A"}},{"$f":"VLOOKUP(C4419,Referencias!$B$18:$C$34,2,FALSE())","v":{"$error":"#N/A"}},"C"]
[null,null,null,null,null,null,null,{"$f":"VLOOKUP(E4420,Referencias!$B$4:$C$15,2,FALSE())","v":{"$error":"#N/A"}},{"$f":"VLOOKUP(C4420,Referencias!$B$18:$C$34,2,FALSE())","v":{"$error":"#N/A"}},"C"]
[null,null,null,null,null,null,null,{"$f":"VLOOKUP(E4421,Referencias!$B$4:$C$15,2,FALSE())","v":{"$error":"#N/A"}},{"$f":"VLOOKUP(C4421,Referencias!$B$18:$C$34,2,FALSE())","v":{"$error":"#N/A"}},"C"]
[null,null,null,null,null,null,null,{"$f":"VLOOKUP(E4422,Referencias!$B$4:$C$15,2,FALSE())","v":{"$error":"#N/A"}},{"$f":"VLOOKUP(C4422,Referencias!$B$18:$C$34,2,FALSE())","v":{"$error":"#N/A"}},"C"]
[null,null,null,null,null,null,null,{"$f":"VLOOKUP(E4423,Referencias!$B$4:$C$15,2,FALSE())","v":{"$error":"#N/A"}},{"$f":"VLOOKUP(C4423,Referencias!$B$18:$C$34,2,FALSE())","v":{"$error":"#N/A"}},"C"]
[null,null,null,null,null,null,null,{"$f":"VLOOKUP(E4424,Referencias!$B$4:$C$15,2,FALSE())","v":{"$error":"#N/A"}},{"$f":"VLOOKUP(C4424,Referencias!$B$18:$C$34,2,FALSE())","v":{"$error":"#N/A"}},"C"]
[null,null,null,null,null,null,null,{"$f":"VLOOKUP(E4425,Referencias!$B$4:$C$15,2,FALSE())","v":{"$error":"#N/A"}},{"$f":"VLOOKUP(C4425,Referencias!$B$18:$C$34,2,FALSE())","v":{"$error":"#N/A"}},"C"]
[null,null,null,null,null,null,null,{"$f":"VLOOKUP(E4426,Referencias!$B$4:$C$15,2,FALSE())","v":{"$error":"#N/A"}},{"$f":"VLOOKUP(C4426,Referencias!$B$18:$C$34,2,FALSE())","v":{"$error":"#N/A"}},"C"]
[null,null,null,null,null,null,null,{"$f":"VLOOKUP(E4427,Referencias!$B$4:$C$15,2,FALSE())","v":{"$error":"#N/A"}},{"$f":"VLOOKUP(C4427,Referencias!$B$18:$C$34,2,FALSE())","v":{"$error":"#N/A"}},"C"]
[null,null,null,null,null,null,null,{"$f":"VLOOKUP(E4428,Referencias!$B$4:$C$15,2,FALSE())","v":{"$error":"#N/A"}},{"$f":"VLOOKUP(C4428,Referencias!$B$18:$C$34,2,FALSE())","v":{"$error":"#N/A"}},"C"]
[null,null,null,null,null,null,null,{"$f":"VLOOKUP(E4429,Referencias!$B$4:$C$15,2,FALSE())","v":{"$error":"#N/A"}},{"$f":"VLOOKUP(C4429,Referencias!$B$18:$C$34,2,FALSE())","v":{"$error":"#N/A"}},"C"]
[null,null,null,null,null,null,null,{"$f":"VLOOKUP(E4430,Referencias!$B$4:$C$15,2,FALSE())","v":{"$error":"#N/A"}},{"$f":"VLOOKUP(C4430,Referencias!$B$18:$C$34,2,FALSE())","v":{"$error":"#N/A"}},"C"]
[null,null,null,null,null,null,null,{"$f":"VLOOKUP(E4431,Referencias!$B$4:$C$15,2,FALSE())","v":{"$error":"#N/A"}},{"$f":"VLOOKUP(C4431,Referencias!$B$18:$C$34,2,FALSE())","v":{"$error":"#N/A"}},"C"]
[null,null,null,null,null,null,null,{"$f":"VLOOKUP(E4432,Referencias!$B$4:$C$15,2,FALSE())","v":{"$error":"#N/A"}},{"$f":"VLOOKUP(C4432,Referencias!$B$18:$C$34,2,FALSE())","v":{"$error":"#N/A"}},"C"]
[null,null,null,null,null,null,null,{"$f":"VLOOKUP(E4433,Referencias!$B$4:$C$15,2,FALSE())","v":{"$error":"#N/A"}},{"$f":"VLOOKUP(C4433,Referencias!$B$18:$C$34,2,FALSE())","v":{"$error":"#N/A"}},"C"]
[null,null,null,null,null,null,null,{"$f":"VLOOKUP(E4434,Referencias!$B$4:$C$15,2,FALSE())","v":{"$error":"#N/A"}},{"$f":"VLOOKUP(C4434,Referencias!$B$18:$C$34,2,FALSE())","v":{"$error":"#N/A"}},"C"]
[null,null,null,null,null,null,null,{"$f":"VLOOKUP(E4435,Referencias!$B$4:$C$15,2,FALSE())","v":{"$error":"#N/A"}},{"$f":"VLOOKUP(C4435,Referencias!$B$18:$C$34,2,FALSE())","v":{"$error":"#N/A"}},"C"]
[null,null,null,null,null,null,null,{"$f":"VLOOKUP(E4436,Referencias!$B$4:$C$15,2,FALSE())","v":{"$error":"#N/A"}},{"$f":"VLOOKUP(C4436,Referencias!$B$18:$C$34,2,FALSE())","v":{"$error":"#N/A"}},"C"]
[null,null,null,null,null,null,null,{"$f":"VLOOKUP(E4437,Referencias!$B$4:$C$15,2,FALSE())","v":{"$error":"#N/A"}},{"$f":"VLOOKUP(C4437,Referencias!$B$18:$C$34,2,FALSE())","v":{"$error":"#N/A"}},"C"]
[null,null,null,null,null,null,null,{"$f":"VLOOKUP(E4438,Referencias!$B$4:$C$15,2,FALSE())","v":{"$error":"#N/A"}},{"$f":"VLOOKUP(C4438,Referencias!$B$18:$C$34,2,FALSE())","v":{"$error":"#N/A"}},"C"]
[null,null,null,null,null,null,null,{"$f":"VLOOKUP(E4439,Referencias!$B$4:$C$15,2,FALSE())","v":{"$error":"#N/A"}},{"$f":"VLOOKUP(C4439,Referencias!$B$18:$C$34,2,FALSE())","v":{"$error":"#N/A"}},"C"]
[null,null,null,null,null,null,null,{"$f":"VLOOKUP(E4440,Referencias!$B$4:$C$15,2,FALSE())","v":{"$error":"#N/A"}},{"$f":"VLOOKUP(C4440,Referencias!$B$18:$C$34,2,FALSE())","v":{"$error":"#N/A"}},"C"]
[null,null,null,null,null,null,null,{"$f":"VLOOKUP(E4441,Referencias!$B$4:$C$15,2,FALSE())","v":{"$error":"#N/A"}},{"$f":"VLOOKUP(C4441,Referencias!$B$18:$C$34,2,FALSE())","v":{"$error":"#N/A"}},"C"]
[null,null,null,null,null,null,null,{"$f":"VLOOKUP(E4442,Referencias!$B$4:$C$15,2,FALSE())","v":{"$error":"#N/A"}},{"$f":"VLOOKUP(C4442,Referencias!$B$18:$C$34,2,FALSE())","v":{"$error":"#N/A"}},"C"]
[null,null,null,null,null,null,null,{"$f":"VLOOKUP(E4443,Referencias!$B$4:$C$15,2,FALSE())","v":{"$error":"#N/A"}},{"$f":"VLOOKUP(C4443,Referencias!$B$18:$C$34,2,FALSE())","v":{"$error":"#N/A"}},"C"]
[null,null,null,null,null,null,null,{"$f":"VLOOKUP(E4444,Referencias!$B$4:$C$15,2,FALSE())","v":{"$error":"#N/A"}},{"$f":"VLOOKUP(C4444,Referencias!$B$18:$C$34,2,FALSE())","v":{"$error":"#N/A"}},"C"]
[null,null,null,null,null,null,null,{"$f":"VLOOKUP(E4445,Referencias!$B$4:$C$15,2,FALSE())","v":{"$error":"#N/A"}},{"$f":"VLOOKUP(C4445,Referencias!$B$18:$C$34,2,FALSE())","v":{"$error":"#N/A"}},"C"]
[null,null,null,null,null,null,null,{"$f":"VLOOKUP(E4446,Referencias!$B$4:$C$15,2,FALSE())","v":{"$error":"#N/A"}},{"$f":"VLOOKUP(C4446,Referencias!$B$18:$C$34,2,FALSE())","v":{"$error":"#N/A"}},"C"]
[null,null,null,null,null,null,null,{"$f":"VLOOKUP(E4447,Referencias!$B$4:$C$15,2,FALSE())","v":{"$error":"#N/A"}},{"$f":"VLOOKUP(C4447,Referencias!$B$18:$C$34,2,FALSE())","v":{"$error":"#N/A"}},"C"]
[null,null,null,null,null,null,null,{"$f":"VLOOKUP(E4448,Referencias!$B$4:$C$15,2,FALSE())","v":{"$error":"#N/A"}},{"$f":"VLOOKUP(C4448,Referencias!$B$18:$C$34,2,FALSE())","v":{"$error":"#N/A"}},"C"]
[null,null,null,null,null,null,null,{"$f":"VLOOKUP(E4449,Referencias!$B$4:$C$15,2,FALSE())","v":{"$error":"#N/A"}},{"$f":"VLOOKUP(C4449,Referencias!$B$18:$C$34,2,FALSE())","v":{"$error":"#N/A"}},"C"]
[null,null,null,null,null,null,null,{"$f":"VLOOKUP(E4450,Referencias!$B$4:$C$15,2,FALSE())","v":{"$error":"#N/A"}},{"$f":"VLOOKUP(C4450,Referencias!$B$18:$C$34,2,FALSE())","v":{"$error":"#N/A"}},"C"]
[null,null,null,null,null,null,null,{"$f":"VLOOKUP(E4451,Referencias!$B$4:$C$15,2,FALSE())","v":{"$error":"#N/A"}},{"$f":"VLOOKUP(C4451,Referencias!$B$18:$C$34,2,FALSE())","v":{"$error":"#N/A"}},"C"]
[null,null,null,null,null,null,null,{"$f":"VLOOKUP(E4452,Referencias!$B$4:$C$15,2,FALSE())","v":{"$error":"#N/A"}},{"$f":"VLOOKUP(C4452,Referencias!$B$18:$C$34,2,FALSE())","v":{"$error":"#N/A"}},"C"]
[null,null,null,null,null,null,null,{"$f":"VLOOKUP(E4453,Referencias!$B$4:$C$15,2,FALSE())","v":{"$error":"#N/A"}},{"$f":"VLOOKUP(C4453,Referencias!$B$18:$C$34,2,FALSE())","v":{"$error":"#N/A"}},"C"]
[null,null,null,null,null,null,null,{"$f":"VLOOKUP(E4454,Referencias!$B$4:$C$15,2,FALSE())","v":{"$error":"#N/A"}},{"$f":"VLOOKUP(C4454,Referencias!$B$18:$C$34,2,FALSE())","v":{"$error":"#N/A"}},"C"]
[null,null,null,null,null,null,null,{"$f":"VLOOKUP(E4455,Referencias!$B$4:$C$15,2,FALSE())","v":{"$error":"#N/A"}},{"$f":"VLOOKUP(C4455,Referencias!$B$18:$C$34,2,FALSE())","v":{"$error":"#N/A"}},"C"]
[null,null,null,null,null,null,null,{"$f":"VLOOKUP(E4456,Referencias!$B$4:$C$15,2,FALSE())","v":{"$error":"#N/A"}},{"$f":"VLOOKUP(C4456,Referencias!$B$18:$C$34,2,FALSE())","v":{"$error":"#N/A"}},"C"]
[null,null,null,null,null,null,null,{"$f":"VLOOKUP(E4457,Referencias!$B$4:$C$15,2,FALSE())","v":{"$error":"#N/A"}},{"$f":"VLOOKUP(C4457,Referencias!$B$18:$C$34,2,FALSE())","v":{"$error":"#N/A"}},"C"]
[null,null,null,null,null,null,null,{"$f":"VLOOKUP(E4458,Referencias!$B$4:$C$15,2,FALSE())","v":{"$error":"#N/A"}},{"$f":"VLOOKUP(C4458,Referencias!$B$18:$C$34,2,FALSE())","v":{"$error":"#N/A"}},"C"]
[null,null,null,null,null,null,null,{"$f":"VLOOKUP(E4459,Referencias!$B$4:$C$15,2,FALSE())","v":{"$error":"#N/A"}},{"$f":"VLOOKUP(C4459,Referencias!$B$18:$C$34,2,FALSE())","v":{"$error":"#N/A"}},"C"]
[null,null,null,null,null,null,null,{"$f":"VLOOKUP(E4460,Referencias!$B$4:$C$15,2,FALSE())","v":{"$error":"#N/A"}},{"$f":"VLOOKUP(C4460,Referencias!$B$18:$C$34,2,FALSE())","v":{"$error":"#N/A"}},"C"]
[null,null,null,null,null,null,null,{"$f":"VLOOKUP(E4461,Referencias!$B$4:$C$15,2,FALSE())","v":{"$error":"#N/A"}},{"$f":"VLOOKUP(C4461,Referencias!$B$18:$C$34,2,FALSE())","v":{"$error":"#N/A"}},"C"]
[null,null,null,null,null,null,null,{"$f":"VLOOKUP(E4462,Referencias!$B$4:$C$15,2,FALSE())","v":{"$error":"#N/A"}},{"$f":"VLOOKUP(C4462,Referencias!$B$18:$C$34,2,FALSE())","v":{"$error":"#N/A"}},"C"]
[null,null,null,null,null,null,null,{"$f":"VLOOKUP(E4463,Referencias!$B$4:$C$15,2,FALSE())","v":{"$error":"#N/A"}},{"$f":"VLOOKUP(C4463,Referencias!$B$18:$C$34,2,FALSE())","v":{"$error":"#N/A"}},"C"]
[null,null,null,null,null,null,null,{"$f":"VLOOKUP(E4464,Referencias!$B$4:$C$15,2,FALSE())","v":{"$error":"#N/A"}},{"$f":"VLOOKUP(C4464,Referencias!$B$18:$C$34,2,FALSE())","v":{"$error":"#N/A"}},"C"]
[null,null,null,null,null,null,null,{"$f":"VLOOKUP(E4465,Referencias!$B$4:$C$15,2,FALSE())","v":{"$error":"#N/A"}},{"$f":"VLOOKUP(C4465,Referencias!$B$18:$C$34,2,FALSE())","v":{"$error":"#N/A"}},"C"]
[null,null,null,null,null,null,null,{"$f":"VLOOKUP(E4466,Referencias!$B$4:$C$15,2,FALSE())","v":{"$error":"#N/A"}},{"$f":"VLOOKUP(C4466,Referencias!$B$18:$C$34,2,FALSE())","v":{"$error":"#N/A"}},"C"]
[null,null,null,null,null,null,null,{"$f":"VLOOKUP(E4467,Referencias!$B$4:$C$15,2,FALSE())","v":{"$error":"#N/A"}},{"$f":"VLOOKUP(C4467,Referencias!$B$18:$C$34,2,FALSE())","v":{"$error":"#N/A"}},"C"]
[null,null,null,null,null,null,null,{"$f":"VLOOKUP(E4468,Referencias!$B$4:$C$15,2,FALSE())","v":{"$error":"#N/A"}},{"$f":"VLOOKUP(C4468,Referencias!$B$18:$C$34,2,FALSE())","v":{"$error":"#N/A"}},"C"]
[null,null,null,null,null,null,null,{"$f":"VLOOKUP(E4469,Referencias!$B$4:$C$15,2,FALSE())","v":{"$error":"#N/A"}},{"$f":"VLOOKUP(C4469,Referencias!$B$18:$C$34,2,FALSE())","v":{"$error":"#N/A"}},"C"]
[null,null,null,null,null,null,null,{"$f":"VLOOKUP(E4470,Referencias!$B$4:$C$15,2,FALSE())","v":{"$error":"#N/A"}},{"$f":"VLOOKUP(C4470,Referencias!$B$18:$C$34,2,FALSE())","v":{"$error":"#N/A"}},"C"]
[null,null,null,null,null,null,null,{"$f":"VLOOKUP(E4471,Referencias!$B$4:$C$15,2,FALSE())","v":{"$error":"#N/A"}},{"$f":"VLOOKUP(C4471,Referencias!$B$18:$C$34,2,FALSE())","v":{"$error":"#N/A"}},"C"]
[null,null,null,null,null,null,null,{"$f":"VLOOKUP(E4472,Referencias!$B$4:$C$15,2,FALSE())","v":{"$error":"#N/A"}},{"$f":"VLOOKUP(C4472,Referencias!$B$18:$C$34,2,FALSE())","v":{"$error":"#N/A"}},"C"]
[null,null,null,null,null,null,null,{"$f":"VLOOKUP(E4473,Referencias!$B$4:$C$15,2,FALSE())","v":{"$error":"#N/A"}},{"$f":"VLOOKUP(C4473,Referencias!$B$18:$C$34,2,FALSE())","v":{"$error":"#N/A"}},"C"]
[null,null,null,null,null,null,null,{"$f":"VLOOKUP(E4474,Referencias!$B$4:$C$15,2,FALSE())","v":{"$error":"#N/A"}},{"$f":"VLOOKUP(C4474,Referencias!$B$18:$C$34,2,FALSE())","v":{"$error":"#N/A"}},"C"]
[null,null,null,null,null,null,null,{"$f":"VLOOKUP(E4475,Referencias!$B$4:$C$15,2,FALSE())","v":{"$error":"#N/A"}},{"$f":"VLOOKUP(C4475,Referencias!$B$18:$C$34,2,FALSE())","v":{"$error":"#N/A"}},"C"]
[null,null,null,null,null,null,null,{"$f":"VLOOKUP(E4476,Referencias!$B$4:$C$15,2,FALSE())","v":{"$error":"#N/A"}},{"$f":"VLOOKUP(C4476,Referencias!$B$18:$C$34,2,FALSE())","v":{"$error":"#N/A"}},"C"]
[null,null,null,null,null,null,null,{"$f":"VLOOKUP(E4477,Referencias!$B$4:$C$15,2,FALSE())","v":{"$error":"#N/A"}},{"$f":"VLOOKUP(C4477,Referencias!$B$18:$C$34,2,FALSE())","v":{"$error":"#N/A"}},"C"]
[null,null,null,null,null,null,null,{"$f":"VLOOKUP(E4478,Referencias!$B$4:$C$15,2,FALSE())","v":{"$error":"#N/A"}},{"$f":"VLOOKUP(C4478,Referencias!$B$18:$C$34,2,FALSE())","v":{"$error":"#N/A"}},"C"]
[null,null,null,null,null,null,null,{"$f":"VLOOKUP(E4479,Referencias!$B$4:$C$15,2,FALSE())","v":{"$error":"#N/A"}},{"$f":"VLOOKUP(C4479,Referencias!$B$18:$C$34,2,FALSE())","v":{"$error":"#N/A"}},"C"]
[null,null,null,null,null,null,null,{"$f":"VLOOKUP(E4480,Referencias!$B$4:$C$15,2,FALSE())","v":{"$error":"#N/A"}},{"$f":"VLOOKUP(C4480,Referencias!$B$18:$C$34,2,FALSE())","v":{"$error":"#N/A"}},"C"]
[null,null,null,null,null,null,null,{"$f":"VLOOKUP(E4481,Referencias!$B$4:$C$15,2,FALSE())","v":{"$error":"#N/A"}},{"$f":"VLOOKUP(C4481,Referencias!$B$18:$C$34,2,FALSE())","v":{"$error":"#N/A"}},{"$f":"IF(D4481=\"Dama\",\"D\",\"C\")","v":"C"}]
[null,null,null,null,null,null,null,{"$f":"VLOOKUP(E4482,Referencias!$B$4:$C$15,2,FALSE())","v":{"$error":"#N/A"}},{"$f":"VLOOKUP(C4482,Referencias!$B$18:$C$34,2,FALSE())","v":{"$error":"#N/A"}},"C"]
[null,null,null,null,null,null,null,{"$f":"VLOOKUP(E4483,Referencias!$B$4:$C$15,2,FALSE())","v":{"$error":"#N/A"}},{"$f":"VLOOKUP(C4483,Referencias!$B$18:$C$34,2,FALSE())","v":{"$error":"#N/A"}},"C"]
[null,null,null,null,null,null,null,{"$f":"VLOOKUP(E4484,Referencias!$B$4:$C$15,2,FALSE())","v":{"$error":"#N/A"}},{"$f":"VLOOKUP(C4484,Referencias!$B$18:$C$34,2,FALSE())","v":{"$error":"#N/A"}},"C"]
[null,null,null,null,null,null,null,{"$f":"VLOOKUP(E4485,Referencias!$B$4:$C$15,2,FALSE())","v":{"$error":"#N/A"}},{"$f":"VLOOKUP(C4485,Referencias!$B$18:$C$34,2,FALSE())","v":{"$error":"#N/A"}},"C"]
[null,null,null,null,null,null,null,{"$f":"VLOOKUP(E4486,Referencias!$B$4:$C$15,2,FALSE())","v":{"$error":"#N/A"}},{"$f":"VLOOKUP(C4486,Referencias!$B$18:$C$34,2,FALSE())","v":{"$error":"#N/A"}},"C"]
[null,null,null,null,null,null,null,{"$f":"VLOOKUP(E4487,Referencias!$B$4:$C$15,2,FALSE())","v":{"$error":"#N/A"}},{"$f":"VLOOKUP(C4487,Referencias!$B$18:$C$34,2,FALSE())","v":{"$error":"#N/A"}},"C"]
[null,null,null,null,null,null,null,{"$f":"VLOOKUP(E4488,Referencias!$B$4:$C$15,2,FALSE())","v":{"$error":"#N/A"}},{"$f":"VLOOKUP(C4488,Referencias!$B$18:$C$34,2,FALSE())","v":{"$error":"#N/A"}},"C"]
[null,null,null,null,null,null,null,{"$f":"VLOOKUP(E4489,Referencias!$B$4:$C$15,2,FALSE())","v":{"$error":"#N/A"}},{"$f":"VLOOKUP(C4489,Referencias!$B$18:$C$34,2,FALSE())","v":{"$error":"#N/A"}},"C"]
[null,null,null,null,null,null,null,{"$f":"VLOOKUP(E4490,Referencias!$B$4:$C$15,2,FALSE())","v":{"$error":"#N/A"}},{"$f":"VLOOKUP(C4490,Referencias!$B$18:$C$34,2,FALSE())","v":{"$error":"#N/A"}},"C"]
[null,null,null,null,null,null,null,{"$f":"VLOOKUP(E4491,Referencias!$B$4:$C$15,2,FALSE())","v":{"$error":"#N/A"}},{"$f":"VLOOKUP(C4491,Referencias!$B$18:$C$34,2,FALSE())","v":{"$error":"#N/A"}},"C"]
[null,null,null,null,null,null,null,{"$f":"VLOOKUP(E4492,Referencias!$B$4:$C$15,2,FALSE())","v":{"$error":"#N/A"}},{"$f":"VLOOKUP(C4492,Referencias!$B$18:$C$34,2,FALSE())","v":{"$error":"#N/A"}},"C"]
[null,null,null,null,null,null,null,{"$f":"VLOOKUP(E4493,Referencias!$B$4:$C$15,2,FALSE())","v":{"$error":"#N/A"}},{"$f":"VLOOKUP(C4493,Referencias!$B$18:$C$34,2,FALSE())","v":{"$error":"#N/A"}},"C"]
[null,null,null,null,null,null,null,{"$f":"VLOOKUP(E4494,Referencias!$B$4:$C$15,2,FALSE())","v":{"$error":"#N/A"}},{"$f":"VLOOKUP(C4494,Referencias!$B$18:$C$34,2,FALSE())","v":{"$error":"#N/A"}},"C"]
[null,null,null,null,null,null,null,{"$f":"VLOOKUP(E4495,Referencias!$B$4:$C$15,2,FALSE())","v":{"$error":"#N/A"}},{"$f":"VLOOKUP(C4495,Referencias!$B$18:$C$34,2,FALSE())","v":{"$error":"#N/A"}},"C"]
[null,null,null,null,null,null,null,{"$f":"VLOOKUP(E4496,Referencias!$B$4:$C$15,2,FALSE())","v":{"$error":"#N/A"}},{"$f":"VLOOKUP(C4496,Referencias!$B$18:$C$34,2,FALSE())","v":{"$error":"#N/A"}},"C"]
[null,null,null,null,null,null,null,{"$f":"VLOOKUP(E4497,Referencias!$B$4:$C$15,2,FALSE())","v":{"$error":"#N/A"}},{"$f":"VLOOKUP(C4497,Referencias!$B$18:$C$34,2,FALSE())","v":{"$error":"#N/A"}},"C"]
[null,null,null,null,null,null,null,{"$f":"VLOOKUP(E4498,Referencias!$B$4:$C$15,2,FALSE())","v":{"$error":"#N/A"}},{"$f":"VLOOKUP(C4498,Referencias!$B$18:$C$34,2,FALSE())","v":{"$error":"#N/A"}},"C"]
[null,null,null,null,null,null,null,{"$f":"VLOOKUP(E4499,Referencias!$B$4:$C$15,2,FALSE())","v":{"$error":"#N/A"}},{"$f":"VLOOKUP(C4499,Referencias!$B$18:$C$34,2,FALSE())","v":{"$error":"#N/A"}},"C"]
[null,null,null,null,null,null,null,{"$f":"VLOOKUP(E4500,Referencias!$B$4:$C$15,2,FALSE())","v":{"$error":"#N/A"}},{"$f":"VLOOKUP(C4500,Referencias!$B$18:$C$34,2,FALSE())","v":{"$error":"#N/A"}},"C"]
[null,null,null,null,null,null,null,{"$f":"VLOOKUP(E4501,Referencias!$B$4:$C$15,2,FALSE())","v":{"$error":"#N/A"}},{"$f":"VLOOKUP(C4501,Referencias!$B$18:$C$34,2,FALSE())","v":{"$error":"#N/A"}},"C"]
[null,null,null,null,null,null,null,{"$f":"VLOOKUP(E4502,Referencias!$B$4:$C$15,2,FALSE())","v":{"$error":"#N/A"}},{"$f":"VLOOKUP(C4502,Referencias!$B$18:$C$34,2,FALSE())","v":{"$error":"#N/A"}},"C"]
[null,null,null,null,null,null,null,{"$f":"VLOOKUP(E4503,Referencias!$B$4:$C$15,2,FALSE())","v":{"$error":"#N/A"}},{"$f":"VLOOKUP(C4503,Referencias!$B$18:$C$34,2,FALSE())","v":{"$error":"#N/A"}},"C"]
[null,null,null,null,null,null,null,{"$f":"VLOOKUP(E4504,Referencias!$B$4:$C$15,2,FALSE())","v":{"$error":"#N/A"}},{"$f":"VLOOKUP(C4504,Referencias!$B$18:$C$34,2,FALSE())","v":{"$error":"#N/A"}},"C"]
[null,null,null,null,null,null,null,{"$f":"VLOOKUP(E4505,Referencias!$B$4:$C$15,2,FALSE())","v":{"$error":"#N/A"}},{"$f":"VLOOKUP(C4505,Referencias!$B$18:$C$34,2,FALSE())","v":{"$error":"#N/A"}},"C"]
[null,null,null,null,null,null,null,{"$f":"VLOOKUP(E4506,Referencias!$B$4:$C$15,2,FALSE())","v":{"$error":"#N/A"}},{"$f":"VLOOKUP(C4506,Referencias!$B$18:$C$34,2,FALSE())","v":{"$error":"#N/A"}},"C"]
[null,null,null,null,null,null,null,{"$f":"VLOOKUP(E4507,Referencias!$B$4:$C$15,2,FALSE())","v":{"$error":"#N/A"}},{"$f":"VLOOKUP(C4507,Referencias!$B$18:$C$34,2,FALSE())","v":{"$error":"#N/A"}},"C"]
[null,null,null,null,null,null,null,{"$f":"VLOOKUP(E4508,Referencias!$B$4:$C$15,2,FALSE())","v":{"$error":"#N/A"}},{"$f":"VLOOKUP(C4508,Referencias!$B$18:$C$34,2,FALSE())","v":{"$error":"#N/A"}},"C"]
[null,null,null,null,null,null,null,{"$f":"VLOOKUP(E4509,Referencias!$B$4:$C$15,2,FALSE())","v":{"$error":"#N/A"}},{"$f":"VLOOKUP(C4509,Referencias!$B$18:$C$34,2,FALSE())","v":{"$error":"#N/A"}},"C"]
[null,null,null,null,null,null,null,{"$f":"VLOOKUP(E4510,Referencias!$B$4:$C$15,2,FALSE())","v":{"$error":"#N/A"}},{"$f":"VLOOKUP(C4510,Referencias!$B$18:$C$34,2,FALSE())","v":{"$error":"#N/A"}},"C"]
[null,null,null,null,null,null,null,{"$f":"VLOOKUP(E4511,Referencias!$B$4:$C$15,2,FALSE())","v":{"$error":"#N/A"}},{"$f":"VLOOKUP(C4511,Referencias!$B$18:$C$34,2,FALSE())","v":{"$error":"#N/A"}},"C"]
[null,null,null,null,null,null,null,{"$f":"VLOOKUP(E4512,Referencias!$B$4:$C$15,2,FALSE())","v":{"$error":"#N/A"}},{"$f":"VLOOKUP(C4512,Referencias!$B$18:$C$34,2,FALSE())","v":{"$error":"#N/A"}},"C"]
[null,null,null,null,null,null,null,{"$f":"VLOOKUP(E4513,Referencias!$B$4:$C$15,2,FALSE())","v":{"$error":"#N/A"}},{"$f":"VLOOKUP(C4513,Referencias!$B$18:$C$34,2,FALSE())","v":{"$error":"#N/A"}},"C"]
[null,null,null,null,null,null,null,{"$f":"VLOOKUP(E4514,Referencias!$B$4:$C$15,2,FALSE())","v":{"$error":"#N/A"}},{"$f":"VLOOKUP(C4514,Referencias!$B$18:$C$34,2,FALSE())","v":{"$error":"#N/A"}},"C"]
[null,null,null,null,null,null,null,{"$f":"VLOOKUP(E4515,Referencias!$B$4:$C$15,2,FALSE())","v":{"$error":"#N/A"}},{"$f":"VLOOKUP(C4515,Referencias!$B$18:$C$34,2,FALSE())","v":{"$error":"#N/A"}},"C"]
[null,null,null,null,null,null,null,{"$f":"VLOOKUP(E4516,Referencias!$B$4:$C$15,2,FALSE())","v":{"$error":"#N/A"}},{"$f":"VLOOKUP(C4516,Referencias!$B$18:$C$34,2,FALSE())","v":{"$error":"#N/A"}},"C"]
[null,null,null,null,null,null,null,{"$f":"VLOOKUP(E4517,Referencias!$B$4:$C$15,2,FALSE())","v":{"$error":"#N/A"}},{"$f":"VLOOKUP(C4517,Referencias!$B$18:$C$34,2,FALSE())","v":{"$error":"#N/A"}},"C"]
[null,null,null,null,null,null,null,{"$f":"VLOOKUP(E4518,Referencias!$B$4:$C$15,2,FALSE())","v":{"$error":"#N/A"}},{"$f":"VLOOKUP(C4518,Referencias!$B$18:$C$34,2,FALSE())","v":{"$error":"#N/A"}},"C"]
[null,null,null,null,null,null,null,{"$f":"VLOOKUP(E4519,Referencias!$B$4:$C$15,2,FALSE())","v":{"$error":"#N/A"}},{"$f":"VLOOKUP(C4519,Referencias!$B$18:$C$34,2,FALSE())","v":{"$error":"#N/A"}},"C"]
[null,null,null,null,null,null,null,{"$f":"VLOOKUP(E4520,Referencias!$B$4:$C$15,2,FALSE())","v":{"$error":"#N/A"}},{"$f":"VLOOKUP(C4520,Referencias!$B$18:$C$34,2,FALSE())","v":{"$error":"#N/A"}},"C"]
[null,null,null,null,null,null,null,{"$f":"VLOOKUP(E4521,Referencias!$B$4:$C$15,2,FALSE())","v":{"$error":"#N/A"}},{"$f":"VLOOKUP(C4521,Referencias!$B$18:$C$34,2,FALSE())","v":{"$error":"#N/A"}},"C"]
[null,null,null,null,null,null,null,{"$f":"VLOOKUP(E4522,Referencias!$B$4:$C$15,2,FALSE())","v":{"$error":"#N/A"}},{"$f":"VLOOKUP(C4522,Referencias!$B$18:$C$34,2,FALSE())","v":{"$error":"#N/A"}},"C"]
[null,null,null,null,null,null,null,{"$f":"VLOOKUP(E4523,Referencias!$B$4:$C$15,2,FALSE())","v":{"$error":"#N/A"}},{"$f":"VLOOKUP(C4523,Referencias!$B$18:$C$34,2,FALSE())","v":{"$error":"#N/A"}},"C"]
[null,null,null,null,null,null,null,{"$f":"VLOOKUP(E4524,Referencias!$B$4:$C$15,2,FALSE())","v":{"$error":"#N/A"}},{"$f":"VLOOKUP(C4524,Referencias!$B$18:$C$34,2,FALSE())","v":{"$error":"#N/A"}},"C"]
[null,null,null,null,null,null,null,{"$f":"VLOOKUP(E4525,Referencias!$B$4:$C$15,2,FALSE())","v":{"$error":"#N/A"}},{"$f":"VLOOKUP(C4525,Referencias!$B$18:$C$34,2,FALSE())","v":{"$error":"#N/A"}},"C"]
[null,null,null,null,null,null,null,{"$f":"VLOOKUP(E4526,Referencias!$B$4:$C$15,2,FALSE())","v":{"$error":"#N/A"}},{"$f":"VLOOKUP(C4526,Referencias!$B$18:$C$34,2,FALSE())","v":{"$error":"#N/A"}},"C"]
[null,null,null,null,null,null,null,{"$f":"VLOOKUP(E4527,Referencias!$B$4:$C$15,2,FALSE())","v":{"$error":"#N/A"}},{"$f":"VLOOKUP(C4527,Referencias!$B$18:$C$34,2,FALSE())","v":{"$error":"#N/A"}},"C"]
[null,null,null,null,null,null,null,{"$f":"VLOOKUP(E4528,Referencias!$B$4:$C$15,2,FALSE())","v":{"$error":"#N/A"}},{"$f":"VLOOKUP(C4528,Referencias!$B$18:$C$34,2,FALSE())","v":{"$error":"#N/A"}},"C"]
[null,null,null,null,null,null,null,{"$f":"VLOOKUP(E4529,Referencias!$B$4:$C$15,2,FALSE())","v":{"$error":"#N/A"}},{"$f":"VLOOKUP(C4529,Referencias!$B$18:$C$34,2,FALSE())","v":{"$error":"#N/A"}},"C"]
[null,null,null,null,null,null,null,{"$f":"VLOOKUP(E4530,Referencias!$B$4:$C$15,2,FALSE())","v":{"$error":"#N/A"}},{"$f":"VLOOKUP(C4530,Referencias!$B$18:$C$34,2,FALSE())","v":{"$error":"#N/A"}},"C"]
[null,null,null,null,null,null,null,{"$f":"VLOOKUP(E4531,Referencias!$B$4:$C$15,2,FALSE())","v":{"$error":"#N/A"}},{"$f":"VLOOKUP(C4531,Referencias!$B$18:$C$34,2,FALSE())","v":{"$error":"#N/A"}},"C"]
[null,null,null,null,null,null,null,{"$f":"VLOOKUP(E4532,Referencias!$B$4:$C$15,2,FALSE())","v":{"$error":"#N/A"}},{"$f":"VLOOKUP(C4532,Referencias!$B$18:$C$34,2,FALSE())","v":{"$error":"#N/A"}},"C"]
[null,null,null,null,null,null,null,{"$f":"VLOOKUP(E4533,Referencias!$B$4:$C$15,2,FALSE())","v":{"$error":"#N/A"}},{"$f":"VLOOKUP(C4533,Referencias!$B$18:$C$34,2,FALSE())","v":{"$error":"#N/A"}},"C"]
[null,null,null,null,null,null,null,{"$f":"VLOOKUP(E4534,Referencias!$B$4:$C$15,2,FALSE())","v":{"$error":"#N/A"}},{"$f":"VLOOKUP(C4534,Referencias!$B$18:$C$34,2,FALSE())","v":{"$error":"#N/A"}},"C"]
[null,null,null,null,null,null,null,{"$f":"VLOOKUP(E4535,Referencias!$B$4:$C$15,2,FALSE())","v":{"$error":"#N/A"}},{"$f":"VLOOKUP(C4535,Referencias!$B$18:$C$34,2,FALSE())","v":{"$error":"#N/A"}},"C"]
[null,null,null,null,null,null,null,{"$f":"VLOOKUP(E4536,Referencias!$B$4:$C$15,2,FALSE())","v":{"$error":"#N/A"}},{"$f":"VLOOKUP(C4536,Referencias!$B$18:$C$34,2,FALSE())","v":{"$error":"#N/A"}},"C"]
[null,null,null,null,null,null,null,{"$f":"VLOOKUP(E4537,Referencias!$B$4:$C$15,2,FALSE())","v":{"$error":"#N/A"}},{"$f":"VLOOKUP(C4537,Referencias!$B$18:$C$34,2,FALSE())","v":{"$error":"#N/A"}},"C"]
[null,null,null,null,null,null,null,{"$f":"VLOOKUP(E4538,Referencias!$B$4:$C$15,2,FALSE())","v":{"$error":"#N/A"}},{"$f":"VLOOKUP(C4538,Referencias!$B$18:$C$34,2,FALSE())","v":{"$error":"#N/A"}},"C"]
[null,null,null,null,null,null,null,{"$f":"VLOOKUP(E4539,Referencias!$B$4:$C$15,2,FALSE())","v":{"$error":"#N/A"}},{"$f":"VLOOKUP(C4539,Referencias!$B$18:$C$34,2,FALSE())","v":{"$error":"#N/A"}},"C"]
[null,null,null,null,null,null,null,{"$f":"VLOOKUP(E4540,Referencias!$B$4:$C$15,2,FALSE())","v":{"$error":"#N/A"}},{"$f":"VLOOKUP(C4540,Referencias!$B$18:$C$34,2,FALSE())","v":{"$error":"#N/A"}},"C"]
[null,null,null,null,null,null,null,{"$f":"VLOOKUP(E4541,Referencias!$B$4:$C$15,2,FALSE())","v":{"$error":"#N/A"}},{"$f":"VLOOKUP(C4541,Referencias!$B$18:$C$34,2,FALSE())","v":{"$error":"#N/A"}},"C"]
[null,null,null,null,null,null,null,{"$f":"VLOOKUP(E4542,Referencias!$B$4:$C$15,2,FALSE())","v":{"$error":"#N/A"}},{"$f":"VLOOKUP(C4542,Referencias!$B$18:$C$34,2,FALSE())","v":{"$error":"#N/A"}},"C"]
[null,null,null,null,null,null,null,{"$f":"VLOOKUP(E4543,Referencias!$B$4:$C$15,2,FALSE())","v":{"$error":"#N/A"}},{"$f":"VLOOKUP(C4543,Referencias!$B$18:$C$34,2,FALSE())","v":{"$error":"#N/A"}},"C"]
[null,null,null,null,null,null,null,{"$f":"VLOOKUP(E4544,Referencias!$B$4:$C$15,2,FALSE())","v":{"$error":"#N/A"}},{"$f":"VLOOKUP(C4544,Referencias!$B$18:$C$34,2,FALSE())","v":{"$error":"#N/A"}},"C"]
[null,null,null,null,null,null,null,{"$f":"VLOOKUP(E4545,Referencias!$B$4:$C$15,2,FALSE())","v":{"$error":"#N/A"}},{"$f":"VLOOKUP(C4545,Referencias!$B$18:$C$34,2,FALSE())","v":{"$error":"#N/A"}},{"$f":"IF(D4545=\"Dama\",\"D\",\"C\")","v":"C"}]
[null,null,null,null,null,null,null,{"$f":"VLOOKUP(E4546,Referencias!$B$4:$C$15,2,FALSE())","v":{"$error":"#N/A"}},{"$f":"VLOOKUP(C4546,Referencias!$B$18:$C$34,2,FALSE())","v":{"$error":"#N/A"}},"C"]
[null,null,null,null,null,null,null,{"$f":"VLOOKUP(E4547,Referencias!$B$4:$C$15,2,FALSE())","v":{"$error":"#N/A"}},{"$f":"VLOOKUP(C4547,Referencias!$B$18:$C$34,2,FALSE())","v":{"$error":"#N/A"}},"C"]
[null,null,null,null,null,null,null,{"$f":"VLOOKUP(E4548,Referencias!$B$4:$C$15,2,FALSE())","v":{"$error":"#N/A"}},{"$f":"VLOOKUP(C4548,Referencias!$B$18:$C$34,2,FALSE())","v":{"$error":"#N/A"}},"C"]
[null,null,null,null,null,null,null,{"$f":"VLOOKUP(E4549,Referencias!$B$4:$C$15,2,FALSE())","v":{"$error":"#N/A"}},{"$f":"VLOOKUP(C4549,Referencias!$B$18:$C$34,2,FALSE())","v":{"$error":"#N/A"}},"C"]
[null,null,null,null,null,null,null,{"$f":"VLOOKUP(E4550,Referencias!$B$4:$C$15,2,FALSE())","v":{"$error":"#N/A"}},{"$f":"VLOOKUP(C4550,Referencias!$B$18:$C$34,2,FALSE())","v":{"$error":"#N/A"}},"C"]
[null,null,null,null,null,null,null,{"$f":"VLOOKUP(E4551,Referencias!$B$4:$C$15,2,FALSE())","v":{"$error":"#N/A"}},{"$f":"VLOOKUP(C4551,Referencias!$B$18:$C$34,2,FALSE())","v":{"$error":"#N/A"}},"C"]
[null,null,null,null,null,null,null,{"$f":"VLOOKUP(E4552,Referencias!$B$4:$C$15,2,FALSE())","v":{"$error":"#N/A"}},{"$f":"VLOOKUP(C4552,Referencias!$B$18:$C$34,2,FALSE())","v":{"$error":"#N/A"}},"C"]
[null,null,null,null,null,null,null,{"$f":"VLOOKUP(E4553,Referencias!$B$4:$C$15,2,FALSE())","v":{"$error":"#N/A"}},{"$f":"VLOOKUP(C4553,Referencias!$B$18:$C$34,2,FALSE())","v":{"$error":"#N/A"}},"C"]
[null,null,null,null,null,null,null,{"$f":"VLOOKUP(E4554,Referencias!$B$4:$C$15,2,FALSE())","v":{"$error":"#N/A"}},{"$f":"VLOOKUP(C4554,Referencias!$B$18:$C$34,2,FALSE())","v":{"$error":"#N/A"}},"C"]
[null,null,null,null,null,null,null,{"$f":"VLOOKUP(E4555,Referencias!$B$4:$C$15,2,FALSE())","v":{"$error":"#N/A"}},{"$f":"VLOOKUP(C4555,Referencias!$B$18:$C$34,2,FALSE())","v":{"$error":"#N/A"}},"C"]
[null,null,null,null,null,null,null,{"$f":"VLOOKUP(E4556,Referencias!$B$4:$C$15,2,FALSE())","v":{"$error":"#N/A"}},{"$f":"VLOOKUP(C4556,Referencias!$B$18:$C$34,2,FALSE())","v":{"$error":"#N/A"}},"C"]
[null,null,null,null,null,null,null,{"$f":"VLOOKUP(E4557,Referencias!$B$4:$C$15,2,FALSE())","v":{"$error":"#N/A"}},{"$f":"VLOOKUP(C4557,Referencias!$B$18:$C$34,2,FALSE())","v":{"$error":"#N/A"}},"C"]
[null,null,null,null,null,null,null,{"$f":"VLOOKUP(E4558,Referencias!$B$4:$C$15,2,FALSE())","v":{"$error":"#N/A"}},{"$f":"VLOOKUP(C4558,Referencias!$B$18:$C$34,2,FALSE())","v":{"$error":"#N/A"}},"C"]
[null,null,null,null,null,null,null,{"$f":"VLOOKUP(E4559,Referencias!$B$4:$C$15,2,FALSE())","v":{"$error":"#N/A"}},{"$f":"VLOOKUP(C4559,Referencias!$B$18:$C$34,2,FALSE())","v":{"$error":"#N/A"}},"C"]
[null,null,null,null,null,null,null,{"$f":"VLOOKUP(E4560,Referencias!$B$4:$C$15,2,FALSE())","v":{"$error":"#N/A"}},{"$f":"VLOOKUP(C4560,Referencias!$B$18:$C$34,2,FALSE())","v":{"$error":"#N/A"}},"C"]
[null,null,null,null,null,null,null,{"$f":"VLOOKUP(E4561,Referencias!$B$4:$C$15,2,FALSE())","v":{"$error":"#N/A"}},{"$f":"VLOOKUP(C4561,Referencias!$B$18:$C$34,2,FALSE())","v":{"$error":"#N/A"}},"C"]
[null,null,null,null,null,null,null,{"$f":"VLOOKUP(E4562,Referencias!$B$4:$C$15,2,FALSE())","v":{"$error":"#N/A"}},{"$f":"VLOOKUP(C4562,Referencias!$B$18:$C$34,2,FALSE())","v":{"$error":"#N/A"}},"C"]
[null,null,null,null,null,null,null,{"$f":"VLOOKUP(E4563,Referencias!$B$4:$C$15,2,FALSE())","v":{"$error":"#N/A"}},{"$f":"VLOOKUP(C4563,Referencias!$B$18:$C$34,2,FALSE())","v":{"$error":"#N/A"}},"C"]
[null,null,null,null,null,null,null,{"$f":"VLOOKUP(E4564,Referencias!$B$4:$C$15,2,FALSE())","v":{"$error":"#N/A"}},{"$f":"VLOOKUP(C4564,Referencias!$B$18:$C$34,2,FALSE())","v":{"$error":"#N/A"}},"C"]
[null,null,null,null,null,null,null,{"$f":"VLOOKUP(E4565,Referencias!$B$4:$C$15,2,FALSE())","v":{"$error":"#N/A"}},{"$f":"VLOOKUP(C4565,Referencias!$B$18:$C$34,2,FALSE())","v":{"$error":"#N/A"}},"C"]
[null,null,null,null,null,null,null,{"$f":"VLOOKUP(E4566,Referencias!$B$4:$C$15,2,FALSE())","v":{"$error":"#N/A"}},{"$f":"VLOOKUP(C4566,Referencias!$B$18:$C$34,2,FALSE())","v":{"$error":"#N/A"}},"C"]
[null,null,null,null,null,null,null,{"$f":"VLOOKUP(E4567,Referencias!$B$4:$C$15,2,FALSE())","v":{"$error":"#N/A"}},{"$f":"VLOOKUP(C4567,Referencias!$B$18:$C$34,2,FALSE())","v":{"$error":"#N/A"}},"C"]
[null,null,null,null,null,null,null,{"$f":"VLOOKUP(E4568,Referencias!$B$4:$C$15,2,FALSE())","v":{"$error":"#N/A"}},{"$f":"VLOOKUP(C4568,Referencias!$B$18:$C$34,2,FALSE())","v":{"$error":"#N/A"}},"C"]
[null,null,null,null,null,null,null,{"$f":"VLOOKUP(E4569,Referencias!$B$4:$C$15,2,FALSE())","v":{"$error":"#N/A"}},{"$f":"VLOOKUP(C4569,Referencias!$B$18:$C$34,2,FALSE())","v":{"$error":"#N/A"}},"C"]
[null,null,null,null,null,null,null,{"$f":"VLOOKUP(E4570,Referencias!$B$4:$C$15,2,FALSE())","v":{"$error":"#N/A"}},{"$f":"VLOOKUP(C4570,Referencias!$B$18:$C$34,2,FALSE())","v":{"$error":"#N/A"}},"C"]
[null,null,null,null,null,null,null,{"$f":"VLOOKUP(E4571,Referencias!$B$4:$C$15,2,FALSE())","v":{"$error":"#N/A"}},{"$f":"VLOOKUP(C4571,Referencias!$B$18:$C$34,2,FALSE())","v":{"$error":"#N/A"}},"C"]
[null,null,null,null,null,null,null,{"$f":"VLOOKUP(E4572,Referencias!$B$4:$C$15,2,FALSE())","v":{"$error":"#N/A"}},{"$f":"VLOOKUP(C4572,Referencias!$B$18:$C$34,2,FALSE())","v":{"$error":"#N/A"}},"C"]
[null,null,null,null,null,null,null,{"$f":"VLOOKUP(E4573,Referencias!$B$4:$C$15,2,FALSE())","v":{"$error":"#N/A"}},{"$f":"VLOOKUP(C4573,Referencias!$B$18:$C$34,2,FALSE())","v":{"$error":"#N/A"}},"C"]
[null,null,null,null,null,null,null,{"$f":"VLOOKUP(E4574,Referencias!$B$4:$C$15,2,FALSE())","v":{"$error":"#N/A"}},{"$f":"VLOOKUP(C4574,Referencias!$B$18:$C$34,2,FALSE())","v":{"$error":"#N/A"}},"C"]
[null,null,null,null,null,null,null,{"$f":"VLOOKUP(E4575,Referencias!$B$4:$C$15,2,FALSE())","v":{"$error":"#N/A"}},{"$f":"VLOOKUP(C4575,Referencias!$B$18:$C$34,2,FALSE())","v":{"$error":"#N/A"}},"C"]
[null,null,null,null,null,null,null,{"$f":"VLOOKUP(E4576,Referencias!$B$4:$C$15,2,FALSE())","v":{"$error":"#N/A"}},{"$f":"VLOOKUP(C4576,Referencias!$B$18:$C$34,2,FALSE())","v":{"$error":"#N/A"}},"C"]
[null,null,null,null,null,null,null,{"$f":"VLOOKUP(E4577,Referencias!$B$4:$C$15,2,FALSE())","v":{"$error":"#N/A"}},{"$f":"VLOOKUP(C4577,Referencias!$B$18:$C$34,2,FALSE())","v":{"$error":"#N/A"}},"C"]
[null,null,null,null,null,null,null,{"$f":"VLOOKUP(E4578,Referencias!$B$4:$C$15,2,FALSE())","v":{"$error":"#N/A"}},{"$f":"VLOOKUP(C4578,Referencias!$B$18:$C$34,2,FALSE())","v":{"$error":"#N/A"}},"C"]
[null,null,null,null,null,null,null,{"$f":"VLOOKUP(E4579,Referencias!$B$4:$C$15,2,FALSE())","v":{"$error":"#N/A"}},{"$f":"VLOOKUP(C4579,Referencias!$B$18:$C$34,2,FALSE())","v":{"$error":"#N/A"}},"C"]
[null,null,null,null,null,null,null,{"$f":"VLOOKUP(E4580,Referencias!$B$4:$C$15,2,FALSE())","v":{"$error":"#N/A"}},{"$f":"VLOOKUP(C4580,Referencias!$B$18:$C$34,2,FALSE())","v":{"$error":"#N/A"}},"C"]
[null,null,null,null,null,null,null,{"$f":"VLOOKUP(E4581,Referencias!$B$4:$C$15,2,FALSE())","v":{"$error":"#N/A"}},{"$f":"VLOOKUP(C4581,Referencias!$B$18:$C$34,2,FALSE())","v":{"$error":"#N/A"}},"C"]
[null,null,null,null,null,null,null,{"$f":"VLOOKUP(E4582,Referencias!$B$4:$C$15,2,FALSE())","v":{"$error":"#N/A"}},{"$f":"VLOOKUP(C4582,Referencias!$B$18:$C$34,2,FALSE())","v":{"$error":"#N/A"}},"C"]
[null,null,null,null,null,null,null,{"$f":"VLOOKUP(E4583,Referencias!$B$4:$C$15,2,FALSE())","v":{"$error":"#N/A"}},{"$f":"VLOOKUP(C4583,Referencias!$B$18:$C$34,2,FALSE())","v":{"$error":"#N/A"}},"C"]
[null,null,null,null,null,null,null,{"$f":"VLOOKUP(E4584,Referencias!$B$4:$C$15,2,FALSE())","v":{"$error":"#N/A"}},{"$f":"VLOOKUP(C4584,Referencias!$B$18:$C$34,2,FALSE())","v":{"$error":"#N/A"}},"C"]
[null,null,null,null,null,null,null,{"$f":"VLOOKUP(E4585,Referencias!$B$4:$C$15,2,FALSE())","v":{"$error":"#N/A"}},{"$f":"VLOOKUP(C4585,Referencias!$B$18:$C$34,2,FALSE())","v":{"$error":"#N/A"}},"C"]
[null,null,null,null,null,null,null,{"$f":"VLOOKUP(E4586,Referencias!$B$4:$C$15,2,FALSE())","v":{"$error":"#N/A"}},{"$f":"VLOOKUP(C4586,Referencias!$B$18:$C$34,2,FALSE())","v":{"$error":"#N/A"}},"C"]
[null,null,null,null,null,null,null,{"$f":"VLOOKUP(E4587,Referencias!$B$4:$C$15,2,FALSE())","v":{"$error":"#N/A"}},{"$f":"VLOOKUP(C4587,Referencias!$B$18:$C$34,2,FALSE())","v":{"$error":"#N/A"}},"C"]
[null,null,null,null,null,null,null,{"$f":"VLOOKUP(E4588,Referencias!$B$4:$C$15,2,FALSE())","v":{"$error":"#N/A"}},{"$f":"VLOOKUP(C4588,Referencias!$B$18:$C$34,2,FALSE())","v":{"$error":"#N/A"}},"C"]
[null,null,null,null,null,null,null,{"$f":"VLOOKUP(E4589,Referencias!$B$4:$C$15,2,FALSE())","v":{"$error":"#N/A"}},{"$f":"VLOOKUP(C4589,Referencias!$B$18:$C$34,2,FALSE())","v":{"$error":"#N/A"}},"C"]
[null,null,null,null,null,null,null,{"$f":"VLOOKUP(E4590,Referencias!$B$4:$C$15,2,FALSE())","v":{"$error":"#N/A"}},{"$f":"VLOOKUP(C4590,Referencias!$B$18:$C$34,2,FALSE())","v":{"$error":"#N/A"}},"C"]
[null,null,null,null,null,null,null,{"$f":"VLOOKUP(E4591,Referencias!$B$4:$C$15,2,FALSE())","v":{"$error":"#N/A"}},{"$f":"VLOOKUP(C4591,Referencias!$B$18:$C$34,2,FALSE())","v":{"$error":"#N/A"}},"C"]
[null,null,null,null,null,null,null,{"$f":"VLOOKUP(E4592,Referencias!$B$4:$C$15,2,FALSE())","v":{"$error":"#N/A"}},{"$f":"VLOOKUP(C4592,Referencias!$B$18:$C$34,2,FALSE())","v":{"$error":"#N/A"}},"C"]
[null,null,null,null,null,null,null,{"$f":"VLOOKUP(E4593,Referencias!$B$4:$C$15,2,FALSE())","v":{"$error":"#N/A"}},{"$f":"VLOOKUP(C4593,Referencias!$B$18:$C$34,2,FALSE())","v":{"$error":"#N/A"}},"C"]
[null,null,null,null,null,null,null,{"$f":"VLOOKUP(E4594,Referencias!$B$4:$C$15,2,FALSE())","v":{"$error":"#N/A"}},{"$f":"VLOOKUP(C4594,Referencias!$B$18:$C$34,2,FALSE())","v":{"$error":"#N/A"}},"C"]
[null,null,null,null,null,null,null,{"$f":"VLOOKUP(E4595,Referencias!$B$4:$C$15,2,FALSE())","v":{"$error":"#N/A"}},{"$f":"VLOOKUP(C4595,Referencias!$B$18:$C$34,2,FALSE())","v":{"$error":"#N/A"}},"C"]
[null,null,null,null,null,null,null,{"$f":"VLOOKUP(E4596,Referencias!$B$4:$C$15,2,FALSE())","v":{"$error":"#N/A"}},{"$f":"VLOOKUP(C4596,Referencias!$B$18:$C$34,2,FALSE())","v":{"$error":"#N/A"}},"C"]
[null,null,null,null,null,null,null,{"$f":"VLOOKUP(E4597,Referencias!$B$4:$C$15,2,FALSE())","v":{"$error":"#N/A"}},{"$f":"VLOOKUP(C4597,Referencias!$B$18:$C$34,2,FALSE())","v":{"$error":"#N/A"}},"C"]
[null,null,null,null,null,null,null,{"$f":"VLOOKUP(E4598,Referencias!$B$4:$C$15,2,FALSE())","v":{"$error":"#N/A"}},{"$f":"VLOOKUP(C4598,Referencias!$B$18:$C$34,2,FALSE())","v":{"$error":"#N/A"}},"C"]
[null,null,null,null,null,null,null,{"$f":"VLOOKUP(E4599,Referencias!$B$4:$C$15,2,FALSE())","v":{"$error":"#N/A"}},{"$f":"VLOOKUP(C4599,Referencias!$B$18:$C$34,2,FALSE())","v":{"$error":"#N/A"}},"C"]
[null,null,null,null,null,null,null,{"$f":"VLOOKUP(E4600,Referencias!$B$4:$C$15,2,FALSE())","v":{"$error":"#N/A"}},{"$f":"VLOOKUP(C4600,Referencias!$B$18:$C$34,2,FALSE())","v":{"$error":"#N/A"}},"C"]
[null,null,null,null,null,null,null,{"$f":"VLOOKUP(E4601,Referencias!$B$4:$C$15,2,FALSE())","v":{"$error":"#N/A"}},{"$f":"VLOOKUP(C4601,Referencias!$B$18:$C$34,2,FALSE())","v":{"$error":"#N/A"}},"C"]
[null,null,null,null,null,null,null,{"$f":"VLOOKUP(E4602,Referencias!$B$4:$C$15,2,FALSE())","v":{"$error":"#N/A"}},{"$f":"VLOOKUP(C4602,Referencias!$B$18:$C$34,2,FALSE())","v":{"$error":"#N/A"}},"C"]
[null,null,null,null,null,null,null,{"$f":"VLOOKUP(E4603,Referencias!$B$4:$C$15,2,FALSE())","v":{"$error":"#N/A"}},{"$f":"VLOOKUP(C4603,Referencias!$B$18:$C$34,2,FALSE())","v":{"$error":"#N/A"}},"C"]
[null,null,null,null,null,null,null,{"$f":"VLOOKUP(E4604,Referencias!$B$4:$C$15,2,FALSE())","v":{"$error":"#N/A"}},{"$f":"VLOOKUP(C4604,Referencias!$B$18:$C$34,2,FALSE())","v":{"$error":"#N/A"}},"C"]
[null,null,null,null,null,null,null,{"$f":"VLOOKUP(E4605,Referencias!$B$4:$C$15,2,FALSE())","v":{"$error":"#N/A"}},{"$f":"VLOOKUP(C4605,Referencias!$B$18:$C$34,2,FALSE())","v":{"$error":"#N/A"}},"C"]
[null,null,null,null,null,null,null,{"$f":"VLOOKUP(E4606,Referencias!$B$4:$C$15,2,FALSE())","v":{"$error":"#N/A"}},{"$f":"VLOOKUP(C4606,Referencias!$B$18:$C$34,2,FALSE())","v":{"$error":"#N/A"}},"C"]
[null,null,null,null,null,null,null,{"$f":"VLOOKUP(E4607,Referencias!$B$4:$C$15,2,FALSE())","v":{"$error":"#N/A"}},{"$f":"VLOOKUP(C4607,Referencias!$B$18:$C$34,2,FALSE())","v":{"$error":"#N/A"}},"C"]
[null,null,null,null,null,null,null,{"$f":"VLOOKUP(E4608,Referencias!$B$4:$C$15,2,FALSE())","v":{"$error":"#N/A"}},{"$f":"VLOOKUP(C4608,Referencias!$B$18:$C$34,2,FALSE())","v":{"$error":"#N/A"}},"C"]
[null,null,null,null,null,null,null,{"$f":"VLOOKUP(E4609,Referencias!$B$4:$C$15,2,FALSE())","v":{"$error":"#N/A"}},{"$f":"VLOOKUP(C4609,Referencias!$B$18:$C$34,2,FALSE())","v":{"$error":"#N/A"}},{"$f":"IF(D4609=\"Dama\",\"D\",\"C\")","v":"C"}]
[null,null,null,null,null,null,null,{"$f":"VLOOKUP(E4610,Referencias!$B$4:$C$15,2,FALSE())","v":{"$error":"#N/A"}},{"$f":"VLOOKUP(C4610,Referencias!$B$18:$C$34,2,FALSE())","v":{"$error":"#N/A"}},"C"]
[null,null,null,null,null,null,null,{"$f":"VLOOKUP(E4611,Referencias!$B$4:$C$15,2,FALSE())","v":{"$error":"#N/A"}},{"$f":"VLOOKUP(C4611,Referencias!$B$18:$C$34,2,FALSE())","v":{"$error":"#N/A"}},"C"]
[null,null,null,null,null,null,null,{"$f":"VLOOKUP(E4612,Referencias!$B$4:$C$15,2,FALSE())","v":{"$error":"#N/A"}},{"$f":"VLOOKUP(C4612,Referencias!$B$18:$C$34,2,FALSE())","v":{"$error":"#N/A"}},"C"]
[null,null,null,null,null,null,null,{"$f":"VLOOKUP(E4613,Referencias!$B$4:$C$15,2,FALSE())","v":{"$error":"#N/A"}},{"$f":"VLOOKUP(C4613,Referencias!$B$18:$C$34,2,FALSE())","v":{"$error":"#N/A"}},"C"]
[null,null,null,null,null,null,null,{"$f":"VLOOKUP(E4614,Referencias!$B$4:$C$15,2,FALSE())","v":{"$error":"#N/A"}},{"$f":"VLOOKUP(C4614,Referencias!$B$18:$C$34,2,FALSE())","v":{"$error":"#N/A"}},"C"]
[null,null,null,null,null,null,null,{"$f":"VLOOKUP(E4615,Referencias!$B$4:$C$15,2,FALSE())","v":{"$error":"#N/A"}},{"$f":"VLOOKUP(C4615,Referencias!$B$18:$C$34,2,FALSE())","v":{"$error":"#N/A"}},"C"]
[null,null,null,null,null,null,null,{"$f":"VLOOKUP(E4616,Referencias!$B$4:$C$15,2,FALSE())","v":{"$error":"#N/A"}},{"$f":"VLOOKUP(C4616,Referencias!$B$18:$C$34,2,FALSE())","v":{"$error":"#N/A"}},"C"]
[null,null,null,null,null,null,null,{"$f":"VLOOKUP(E4617,Referencias!$B$4:$C$15,2,FALSE())","v":{"$error":"#N/A"}},{"$f":"VLOOKUP(C4617,Referencias!$B$18:$C$34,2,FALSE())","v":{"$error":"#N/A"}},"C"]
[null,null,null,null,null,null,null,{"$f":"VLOOKUP(E4618,Referencias!$B$4:$C$15,2,FALSE())","v":{"$error":"#N/A"}},{"$f":"VLOOKUP(C4618,Referencias!$B$18:$C$34,2,FALSE())","v":{"$error":"#N/A"}},"C"]
[null,null,null,null,null,null,null,{"$f":"VLOOKUP(E4619,Referencias!$B$4:$C$15,2,FALSE())","v":{"$error":"#N/A"}},{"$f":"VLOOKUP(C4619,Referencias!$B$18:$C$34,2,FALSE())","v":{"$error":"#N/A"}},"C"]
[null,null,null,null,null,null,null,{"$f":"VLOOKUP(E4620,Referencias!$B$4:$C$15,2,FALSE())","v":{"$error":"#N/A"}},{"$f":"VLOOKUP(C4620,Referencias!$B$18:$C$34,2,FALSE())","v":{"$error":"#N/A"}},"C"]
[null,null,null,null,null,null,null,{"$f":"VLOOKUP(E4621,Referencias!$B$4:$C$15,2,FALSE())","v":{"$error":"#N/A"}},{"$f":"VLOOKUP(C4621,Referencias!$B$18:$C$34,2,FALSE())","v":{"$error":"#N/A"}},"C"]
[null,null,null,null,null,null,null,{"$f":"VLOOKUP(E4622,Referencias!$B$4:$C$15,2,FALSE())","v":{"$error":"#N/A"}},{"$f":"VLOOKUP(C4622,Referencias!$B$18:$C$34,2,FALSE())","v":{"$error":"#N/A"}},"C"]
[null,null,null,null,null,null,null,{"$f":"VLOOKUP(E4623,Referencias!$B$4:$C$15,2,FALSE())","v":{"$error":"#N/A"}},{"$f":"VLOOKUP(C4623,Referencias!$B$18:$C$34,2,FALSE())","v":{"$error":"#N/A"}},"C"]
[null,null,null,null,null,null,null,{"$f":"VLOOKUP(E4624,Referencias!$B$4:$C$15,2,FALSE())","v":{"$error":"#N/A"}},{"$f":"VLOOKUP(C4624,Referencias!$B$18:$C$34,2,FALSE())","v":{"$error":"#N/A"}},"C"]
[null,null,null,null,null,null,null,{"$f":"VLOOKUP(E4625,Referencias!$B$4:$C$15,2,FALSE())","v":{"$error":"#N/A"}},{"$f":"VLOOKUP(C4625,Referencias!$B$18:$C$34,2,FALSE())","v":{"$error":"#N/A"}},"C"]
[null,null,null,null,null,null,null,{"$f":"VLOOKUP(E4626,Referencias!$B$4:$C$15,2,FALSE())","v":{"$error":"#N/A"}},{"$f":"VLOOKUP(C4626,Referencias!$B$18:$C$34,2,FALSE())","v":{"$error":"#N/A"}},"C"]
[null,null,null,null,null,null,null,{"$f":"VLOOKUP(E4627,Referencias!$B$4:$C$15,2,FALSE())","v":{"$error":"#N/A"}},{"$f":"VLOOKUP(C4627,Referencias!$B$18:$C$34,2,FALSE())","v":{"$error":"#N/A"}},"C"]
[null,null,null,null,null,null,null,{"$f":"VLOOKUP(E4628,Referencias!$B$4:$C$15,2,FALSE())","v":{"$error":"#N/A"}},{"$f":"VLOOKUP(C4628,Referencias!$B$18:$C$34,2,FALSE())","v":{"$error":"#N/A"}},"C"]
[null,null,null,null,null,null,null,{"$f":"VLOOKUP(E4629,Referencias!$B$4:$C$15,2,FALSE())","v":{"$error":"#N/A"}},{"$f":"VLOOKUP(C4629,Referencias!$B$18:$C$34,2,FALSE())","v":{"$error":"#N/A"}},"C"]
[null,null,null,null,null,null,null,{"$f":"VLOOKUP(E4630,Referencias!$B$4:$C$15,2,FALSE())","v":{"$error":"#N/A"}},{"$f":"VLOOKUP(C4630,Referencias!$B$18:$C$34,2,FALSE())","v":{"$error":"#N/A"}},"C"]
[null,null,null,null,null,null,null,{"$f":"VLOOKUP(E4631,Referencias!$B$4:$C$15,2,FALSE())","v":{"$error":"#N/A"}},{"$f":"VLOOKUP(C4631,Referencias!$B$18:$C$34,2,FALSE())","v":{"$error":"#N/A"}},"C"]
[null,null,null,null,null,null,null,{"$f":"VLOOKUP(E4632,Referencias!$B$4:$C$15,2,FALSE())","v":{"$error":"#N/A"}},{"$f":"VLOOKUP(C4632,Referencias!$B$18:$C$34,2,FALSE())","v":{"$error":"#N/A"}},"C"]
[null,null,null,null,null,null,null,{"$f":"VLOOKUP(E4633,Referencias!$B$4:$C$15,2,FALSE())","v":{"$error":"#N/A"}},{"$f":"VLOOKUP(C4633,Referencias!$B$18:$C$34,2,FALSE())","v":{"$error":"#N/A"}},"C"]
[null,null,null,null,null,null,null,{"$f":"VLOOKUP(E4634,Referencias!$B$4:$C$15,2,FALSE())","v":{"$error":"#N/A"}},{"$f":"VLOOKUP(C4634,Referencias!$B$18:$C$34,2,FALSE())","v":{"$error":"#N/A"}},"C"]
[null,null,null,null,null,null,null,{"$f":"VLOOKUP(E4635,Referencias!$B$4:$C$15,2,FALSE())","v":{"$error":"#N/A"}},{"$f":"VLOOKUP(C4635,Referencias!$B$18:$C$34,2,FALSE())","v":{"$error":"#N/A"}},"C"]
[null,null,null,null,null,null,null,{"$f":"VLOOKUP(E4636,Referencias!$B$4:$C$15,2,FALSE())","v":{"$error":"#N/A"}},{"$f":"VLOOKUP(C4636,Referencias!$B$18:$C$34,2,FALSE())","v":{"$error":"#N/A"}},"C"]
[null,null,null,null,null,null,null,{"$f":"VLOOKUP(E4637,Referencias!$B$4:$C$15,2,FALSE())","v":{"$error":"#N/A"}},{"$f":"VLOOKUP(C4637,Referencias!$B$18:$C$34,2,FALSE())","v":{"$error":"#N/A"}},"C"]
[null,null,null,null,null,null,null,{"$f":"VLOOKUP(E4638,Referencias!$B$4:$C$15,2,FALSE())","v":{"$error":"#N/A"}},{"$f":"VLOOKUP(C4638,Referencias!$B$18:$C$34,2,FALSE())","v":{"$error":"#N/A"}},"C"]
[null,null,null,null,null,null,null,{"$f":"VLOOKUP(E4639,Referencias!$B$4:$C$15,2,FALSE())","v":{"$error":"#N/A"}},{"$f":"VLOOKUP(C4639,Referencias!$B$18:$C$34,2,FALSE())","v":{"$error":"#N/A"}},"C"]
[null,null,null,null,null,null,null,{"$f":"VLOOKUP(E4640,Referencias!$B$4:$C$15,2,FALSE())","v":{"$error":"#N/A"}},{"$f":"VLOOKUP(C4640,Referencias!$B$18:$C$34,2,FALSE())","v":{"$error":"#N/A"}},"C"]
[null,null,null,null,null,null,null,{"$f":"VLOOKUP(E4641,Referencias!$B$4:$C$15,2,FALSE())","v":{"$error":"#N/A"}},{"$f":"VLOOKUP(C4641,Referencias!$B$18:$C$34,2,FALSE())","v":{"$error":"#N/A"}},"C"]
[null,null,null,null,null,null,null,{"$f":"VLOOKUP(E4642,Referencias!$B$4:$C$15,2,FALSE())","v":{"$error":"#N/A"}},{"$f":"VLOOKUP(C4642,Referencias!$B$18:$C$34,2,FALSE())","v":{"$error":"#N/A"}},"C"]
[null,null,null,null,null,null,null,{"$f":"VLOOKUP(E4643,Referencias!$B$4:$C$15,2,FALSE())","v":{"$error":"#N/A"}},{"$f":"VLOOKUP(C4643,Referencias!$B$18:$C$34,2,FALSE())","v":{"$error":"#N/A"}},"C"]
[null,null,null,null,null,null,null,{"$f":"VLOOKUP(E4644,Referencias!$B$4:$C$15,2,FALSE())","v":{"$error":"#N/A"}},{"$f":"VLOOKUP(C4644,Referencias!$B$18:$C$34,2,FALSE())","v":{"$error":"#N/A"}},"C"]
[null,null,null,null,null,null,null,{"$f":"VLOOKUP(E4645,Referencias!$B$4:$C$15,2,FALSE())","v":{"$error":"#N/A"}},{"$f":"VLOOKUP(C4645,Referencias!$B$18:$C$34,2,FALSE())","v":{"$error":"#N/A"}},"C"]
[null,null,null,null,null,null,null,{"$f":"VLOOKUP(E4646,Referencias!$B$4:$C$15,2,FALSE())","v":{"$error":"#N/A"}},{"$f":"VLOOKUP(C4646,Referencias!$B$18:$C$34,2,FALSE())","v":{"$error":"#N/A"}},"C"]
[null,null,null,null,null,null,null,{"$f":"VLOOKUP(E4647,Referencias!$B$4:$C$15,2,FALSE())","v":{"$error":"#N/A"}},{"$f":"VLOOKUP(C4647,Referencias!$B$18:$C$34,2,FALSE())","v":{"$error":"#N/A"}},"C"]
[null,null,null,null,null,null,null,{"$f":"VLOOKUP(E4648,Referencias!$B$4:$C$15,2,FALSE())","v":{"$error":"#N/A"}},{"$f":"VLOOKUP(C4648,Referencias!$B$18:$C$34,2,FALSE())","v":{"$error":"#N/A"}},"C"]
[null,null,null,null,null,null,null,{"$f":"VLOOKUP(E4649,Referencias!$B$4:$C$15,2,FALSE())","v":{"$error":"#N/A"}},{"$f":"VLOOKUP(C4649,Referencias!$B$18:$C$34,2,FALSE())","v":{"$error":"#N/A"}},"C"]
[null,null,null,null,null,null,null,{"$f":"VLOOKUP(E4650,Referencias!$B$4:$C$15,2,FALSE())","v":{"$error":"#N/A"}},{"$f":"VLOOKUP(C4650,Referencias!$B$18:$C$34,2,FALSE())","v":{"$error":"#N/A"}},"C"]
[null,null,null,null,null,null,null,{"$f":"VLOOKUP(E4651,Referencias!$B$4:$C$15,2,FALSE())","v":{"$error":"#N/A"}},{"$f":"VLOOKUP(C4651,Referencias!$B$18:$C$34,2,FALSE())","v":{"$error":"#N/A"}},"C"]
[null,null,null,null,null,null,null,{"$f":"VLOOKUP(E4652,Referencias!$B$4:$C$15,2,FALSE())","v":{"$error":"#N/A"}},{"$f":"VLOOKUP(C4652,Referencias!$B$18:$C$34,2,FALSE())","v":{"$error":"#N/A"}},"C"]
[null,null,null,null,null,null,null,{"$f":"VLOOKUP(E4653,Referencias!$B$4:$C$15,2,FALSE())","v":{"$error":"#N/A"}},{"$f":"VLOOKUP(C4653,Referencias!$B$18:$C$34,2,FALSE())","v":{"$error":"#N/A"}},"C"]
[null,null,null,null,null,null,null,{"$f":"VLOOKUP(E4654,Referencias!$B$4:$C$15,2,FALSE())","v":{"$error":"#N/A"}},{"$f":"VLOOKUP(C4654,Referencias!$B$18:$C$34,2,FALSE())","v":{"$error":"#N/A"}},"C"]
[null,null,null,null,null,null,null,{"$f":"VLOOKUP(E4655,Referencias!$B$4:$C$15,2,FALSE())","v":{"$error":"#N/A"}},{"$f":"VLOOKUP(C4655,Referencias!$B$18:$C$34,2,FALSE())","v":{"$error":"#N/A"}},"C"]
[null,null,null,null,null,null,null,{"$f":"VLOOKUP(E4656,Referencias!$B$4:$C$15,2,FALSE())","v":{"$error":"#N/A"}},{"$f":"VLOOKUP(C4656,Referencias!$B$18:$C$34,2,FALSE())","v":{"$error":"#N/A"}},"C"]
[null,null,null,null,null,null,null,{"$f":"VLOOKUP(E4657,Referencias!$B$4:$C$15,2,FALSE())","v":{"$error":"#N/A"}},{"$f":"VLOOKUP(C4657,Referencias!$B$18:$C$34,2,FALSE())","v":{"$error":"#N/A"}},"C"]
[null,null,null,null,null,null,null,{"$f":"VLOOKUP(E4658,Referencias!$B$4:$C$15,2,FALSE())","v":{"$error":"#N/A"}},{"$f":"VLOOKUP(C4658,Referencias!$B$18:$C$34,2,FALSE())","v":{"$error":"#N/A"}},"C"]
[null,null,null,null,null,null,null,{"$f":"VLOOKUP(E4659,Referencias!$B$4:$C$15,2,FALSE())","v":{"$error":"#N/A"}},{"$f":"VLOOKUP(C4659,Referencias!$B$18:$C$34,2,FALSE())","v":{"$error":"#N/A"}},"C"]
[null,null,null,null,null,null,null,{"$f":"VLOOKUP(E4660,Referencias!$B$4:$C$15,2,FALSE())","v":{"$error":"#N/A"}},{"$f":"VLOOKUP(C4660,Referencias!$B$18:$C$34,2,FALSE())","v":{"$error":"#N/A"}},"C"]
[null,null,null,null,null,null,null,{"$f":"VLOOKUP(E4661,Referencias!$B$4:$C$15,2,FALSE())","v":{"$error":"#N/A"}},{"$f":"VLOOKUP(C4661,Referencias!$B$18:$C$34,2,FALSE())","v":{"$error":"#N/A"}},"C"]
[null,null,null,null,null,null,null,{"$f":"VLOOKUP(E4662,Referencias!$B$4:$C$15,2,FALSE())","v":{"$error":"#N/A"}},{"$f":"VLOOKUP(C4662,Referencias!$B$18:$C$34,2,FALSE())","v":{"$error":"#N/A"}},"C"]
[null,null,null,null,null,null,null,{"$f":"VLOOKUP(E4663,Referencias!$B$4:$C$15,2,FALSE())","v":{"$error":"#N/A"}},{"$f":"VLOOKUP(C4663,Referencias!$B$18:$C$34,2,FALSE())","v":{"$error":"#N/A"}},"C"]
[null,null,null,null,null,null,null,{"$f":"VLOOKUP(E4664,Referencias!$B$4:$C$15,2,FALSE())","v":{"$error":"#N/A"}},{"$f":"VLOOKUP(C4664,Referencias!$B$18:$C$34,2,FALSE())","v":{"$error":"#N/A"}},"C"]
[null,null,null,null,null,null,null,{"$f":"VLOOKUP(E4665,Referencias!$B$4:$C$15,2,FALSE())","v":{"$error":"#N/A"}},{"$f":"VLOOKUP(C4665,Referencias!$B$18:$C$34,2,FALSE())","v":{"$error":"#N/A"}},"C"]
[null,null,null,null,null,null,null,{"$f":"VLOOKUP(E4666,Referencias!$B$4:$C$15,2,FALSE())","v":{"$error":"#N/A"}},{"$f":"VLOOKUP(C4666,Referencias!$B$18:$C$34,2,FALSE())","v":{"$error":"#N/A"}},"C"]
[null,null,null,null,null,null,null,{"$f":"VLOOKUP(E4667,Referencias!$B$4:$C$15,2,FALSE())","v":{"$error":"#N/A"}},{"$f":"VLOOKUP(C4667,Referencias!$B$18:$C$34,2,FALSE())","v":{"$error":"#N/A"}},"C"]
[null,null,null,null,null,null,null,{"$f":"VLOOKUP(E4668,Referencias!$B$4:$C$15,2,FALSE())","v":{"$error":"#N/A"}},{"$f":"VLOOKUP(C4668,Referencias!$B$18:$C$34,2,FALSE())","v":{"$error":"#N/A"}},"C"]
[null,null,null,null,null,null,null,{"$f":"VLOOKUP(E4669,Referencias!$B$4:$C$15,2,FALSE())","v":{"$error":"#N/A"}},{"$f":"VLOOKUP(C4669,Referencias!$B$18:$C$34,2,FALSE())","v":{"$error":"#N/A"}},"C"]
[null,null,null,null,null,null,null,{"$f":"VLOOKUP(E4670,Referencias!$B$4:$C$15,2,FALSE())","v":{"$error":"#N/A"}},{"$f":"VLOOKUP(C4670,Referencias!$B$18:$C$34,2,FALSE())","v":{"$error":"#N/A"}},"C"]
[null,null,null,null,null,null,null,{"$f":"VLOOKUP(E4671,Referencias!$B$4:$C$15,2,FALSE())","v":{"$error":"#N/A"}},{"$f":"VLOOKUP(C4671,Referencias!$B$18:$C$34,2,FALSE())","v":{"$error":"#N/A"}},"C"]
[null,null,null,null,null,null,null,{"$f":"VLOOKUP(E4672,Referencias!$B$4:$C$15,2,FALSE())","v":{"$error":"#N/A"}},{"$f":"VLOOKUP(C4672,Referencias!$B$18:$C$34,2,FALSE())","v":{"$error":"#N/A"}},"C"]
[null,null,null,null,null,null,null,{"$f":"VLOOKUP(E4673,Referencias!$B$4:$C$15,2,FALSE())","v":{"$error":"#N/A"}},{"$f":"VLOOKUP(C4673,Referencias!$B$18:$C$34,2,FALSE())","v":{"$error":"#N/A"}},{"$f":"IF(D4673=\"Dama\",\"D\",\"C\")","v":"C"}]
[null,null,null,null,null,null,null,{"$f":"VLOOKUP(E4674,Referencias!$B$4:$C$15,2,FALSE())","v":{"$error":"#N/A"}},{"$f":"VLOOKUP(C4674,Referencias!$B$18:$C$34,2,FALSE())","v":{"$error":"#N/A"}},"C"]
[null,null,null,null,null,null,null,{"$f":"VLOOKUP(E4675,Referencias!$B$4:$C$15,2,FALSE())","v":{"$error":"#N/A"}},{"$f":"VLOOKUP(C4675,Referencias!$B$18:$C$34,2,FALSE())","v":{"$error":"#N/A"}},"C"]
[null,null,null,null,null,null,null,{"$f":"VLOOKUP(E4676,Referencias!$B$4:$C$15,2,FALSE())","v":{"$error":"#N/A"}},{"$f":"VLOOKUP(C4676,Referencias!$B$18:$C$34,2,FALSE())","v":{"$error":"#N/A"}},"C"]
[null,null,null,null,null,null,null,{"$f":"VLOOKUP(E4677,Referencias!$B$4:$C$15,2,FALSE())","v":{"$error":"#N/A"}},{"$f":"VLOOKUP(C4677,Referencias!$B$18:$C$34,2,FALSE())","v":{"$error":"#N/A"}},"C"]
[null,null,null,null,null,null,null,{"$f":"VLOOKUP(E4678,Referencias!$B$4:$C$15,2,FALSE())","v":{"$error":"#N/A"}},{"$f":"VLOOKUP(C4678,Referencias!$B$18:$C$34,2,FALSE())","v":{"$error":"#N/A"}},"C"]
[null,null,null,null,null,null,null,{"$f":"VLOOKUP(E4679,Referencias!$B$4:$C$15,2,FALSE())","v":{"$error":"#N/A"}},{"$f":"VLOOKUP(C4679,Referencias!$B$18:$C$34,2,FALSE())","v":{"$error":"#N/A"}},"C"]
[null,null,null,null,null,null,null,{"$f":"VLOOKUP(E4680,Referencias!$B$4:$C$15,2,FALSE())","v":{"$error":"#N/A"}},{"$f":"VLOOKUP(C4680,Referencias!$B$18:$C$34,2,FALSE())","v":{"$error":"#N/A"}},"C"]
[null,null,null,null,null,null,null,{"$f":"VLOOKUP(E4681,Referencias!$B$4:$C$15,2,FALSE())","v":{"$error":"#N/A"}},{"$f":"VLOOKUP(C4681,Referencias!$B$18:$C$34,2,FALSE())","v":{"$error":"#N/A"}},"C"]
[null,null,null,null,null,null,null,{"$f":"VLOOKUP(E4682,Referencias!$B$4:$C$15,2,FALSE())","v":{"$error":"#N/A"}},{"$f":"VLOOKUP(C4682,Referencias!$B$18:$C$34,2,FALSE())","v":{"$error":"#N/A"}},"C"]
[null,null,null,null,null,null,null,{"$f":"VLOOKUP(E4683,Referencias!$B$4:$C$15,2,FALSE())","v":{"$error":"#N/A"}},{"$f":"VLOOKUP(C4683,Referencias!$B$18:$C$34,2,FALSE())","v":{"$error":"#N/A"}},"C"]
[null,null,null,null,null,null,null,{"$f":"VLOOKUP(E4684,Referencias!$B$4:$C$15,2,FALSE())","v":{"$error":"#N/A"}},{"$f":"VLOOKUP(C4684,Referencias!$B$18:$C$34,2,FALSE())","v":{"$error":"#N/A"}},"C"]
[null,null,null,null,null,null,null,{"$f":"VLOOKUP(E4685,Referencias!$B$4:$C$15,2,FALSE())","v":{"$error":"#N/A"}},{"$f":"VLOOKUP(C4685,Referencias!$B$18:$C$34,2,FALSE())","v":{"$error":"#N/A"}},"C"]
[null,null,null,null,null,null,null,{"$f":"VLOOKUP(E4686,Referencias!$B$4:$C$15,2,FALSE())","v":{"$error":"#N/A"}},{"$f":"VLOOKUP(C4686,Referencias!$B$18:$C$34,2,FALSE())","v":{"$error":"#N/A"}},"C"]
[null,null,null,null,null,null,null,{"$f":"VLOOKUP(E4687,Referencias!$B$4:$C$15,2,FALSE())","v":{"$error":"#N/A"}},{"$f":"VLOOKUP(C4687,Referencias!$B$18:$C$34,2,FALSE())","v":{"$error":"#N/A"}},"C"]
[null,null,null,null,null,null,null,{"$f":"VLOOKUP(E4688,Referencias!$B$4:$C$15,2,FALSE())","v":{"$error":"#N/A"}},{"$f":"VLOOKUP(C4688,Referencias!$B$18:$C$34,2,FALSE())","v":{"$error":"#N/A"}},"C"]
[null,null,null,null,null,null,null,{"$f":"VLOOKUP(E4689,Referencias!$B$4:$C$15,2,FALSE())","v":{"$error":"#N/A"}},{"$f":"VLOOKUP(C4689,Referencias!$B$18:$C$34,2,FALSE())","v":{"$error":"#N/A"}},"C"]
[null,null,null,null,null,null,null,{"$f":"VLOOKUP(E4690,Referencias!$B$4:$C$15,2,FALSE())","v":{"$error":"#N/A"}},{"$f":"VLOOKUP(C4690,Referencias!$B$18:$C$34,2,FALSE())","v":{"$error":"#N/A"}},"C"]
[null,null,null,null,null,null,null,{"$f":"VLOOKUP(E4691,Referencias!$B$4:$C$15,2,FALSE())","v":{"$error":"#N/A"}},{"$f":"VLOOKUP(C4691,Referencias!$B$18:$C$34,2,FALSE())","v":{"$error":"#N/A"}},"C"]
[null,null,null,null,null,null,null,{"$f":"VLOOKUP(E4692,Referencias!$B$4:$C$15,2,FALSE())","v":{"$error":"#N/A"}},{"$f":"VLOOKUP(C4692,Referencias!$B$18:$C$34,2,FALSE())","v":{"$error":"#N/A"}},"C"]
[null,null,null,null,null,null,null,{"$f":"VLOOKUP(E4693,Referencias!$B$4:$C$15,2,FALSE())","v":{"$error":"#N/A"}},{"$f":"VLOOKUP(C4693,Referencias!$B$18:$C$34,2,FALSE())","v":{"$error":"#N/A"}},"C"]
[null,null,null,null,null,null,null,{"$f":"VLOOKUP(E4694,Referencias!$B$4:$C$15,2,FALSE())","v":{"$error":"#N/A"}},{"$f":"VLOOKUP(C4694,Referencias!$B$18:$C$34,2,FALSE())","v":{"$error":"#N/A"}},"C"]
[null,null,null,null,null,null,null,{"$f":"VLOOKUP(E4695,Referencias!$B$4:$C$15,2,FALSE())","v":{"$error":"#N/A"}},{"$f":"VLOOKUP(C4695,Referencias!$B$18:$C$34,2,FALSE())","v":{"$error":"#N/A"}},"C"]
[null,null,null,null,null,null,null,{"$f":"VLOOKUP(E4696,Referencias!$B$4:$C$15,2,FALSE())","v":{"$error":"#N/A"}},{"$f":"VLOOKUP(C4696,Referencias!$B$18:$C$34,2,FALSE())","v":{"$error":"#N/A"}},"C"]
[null,null,null,null,null,null,null,{"$f":"VLOOKUP(E4697,Referencias!$B$4:$C$15,2,FALSE())","v":{"$error":"#N/A"}},{"$f":"VLOOKUP(C4697,Referencias!$B$18:$C$34,2,FALSE())","v":{"$error":"#N/A"}},"C"]
[null,null,null,null,null,null,null,{"$f":"VLOOKUP(E4698,Referencias!$B$4:$C$15,2,FALSE())","v":{"$error":"#N/A"}},{"$f":"VLOOKUP(C4698,Referencias!$B$18:$C$34,2,FALSE())","v":{"$error":"#N/A"}},"C"]
[null,null,null,null,null,null,null,{"$f":"VLOOKUP(E4699,Referencias!$B$4:$C$15,2,FALSE())","v":{"$error":"#N/A"}},{"$f":"VLOOKUP(C4699,Referencias!$B$18:$C$34,2,FALSE())","v":{"$error":"#N/A"}},"C"]
[null,null,null,null,null,null,null,{"$f":"VLOOKUP(E4700,Referencias!$B$4:$C$15,2,FALSE())","v":{"$error":"#N/A"}},{"$f":"VLOOKUP(C4700,Referencias!$B$18:$C$34,2,FALSE())","v":{"$error":"#N/A"}},"C"]
[null,null,null,null,null,null,null,{"$f":"VLOOKUP(E4701,Referencias!$B$4:$C$15,2,FALSE())","v":{"$error":"#N/A"}},{"$f":"VLOOKUP(C4701,Referencias!$B$18:$C$34,2,FALSE())","v":{"$error":"#N/A"}},"C"]
[null,null,null,null,null,null,null,{"$f":"VLOOKUP(E4702,Referencias!$B$4:$C$15,2,FALSE())","v":{"$error":"#N/A"}},{"$f":"VLOOKUP(C4702,Referencias!$B$18:$C$34,2,FALSE())","v":{"$error":"#N/A"}},"C"]
[null,null,null,null,null,null,null,{"$f":"VLOOKUP(E4703,Referencias!$B$4:$C$15,2,FALSE())","v":{"$error":"#N/A"}},{"$f":"VLOOKUP(C4703,Referencias!$B$18:$C$34,2,FALSE())","v":{"$error":"#N/A"}},"C"]
[null,null,null,null,null,null,null,{"$f":"VLOOKUP(E4704,Referencias!$B$4:$C$15,2,FALSE())","v":{"$error":"#N/A"}},{"$f":"VLOOKUP(C4704,Referencias!$B$18:$C$34,2,FALSE())","v":{"$error":"#N/A"}},"C"]
[null,null,null,null,null,null,null,{"$f":"VLOOKUP(E4705,Referencias!$B$4:$C$15,2,FALSE())","v":{"$error":"#N/A"}},{"$f":"VLOOKUP(C4705,Referencias!$B$18:$C$34,2,FALSE())","v":{"$error":"#N/A"}},"C"]
[null,null,null,null,null,null,null,{"$f":"VLOOKUP(E4706,Referencias!$B$4:$C$15,2,FALSE())","v":{"$error":"#N/A"}},{"$f":"VLOOKUP(C4706,Referencias!$B$18:$C$34,2,FALSE())","v":{"$error":"#N/A"}},"C"]
[null,null,null,null,null,null,null,{"$f":"VLOOKUP(E4707,Referencias!$B$4:$C$15,2,FALSE())","v":{"$error":"#N/A"}},{"$f":"VLOOKUP(C4707,Referencias!$B$18:$C$34,2,FALSE())","v":{"$error":"#N/A"}},"C"]
[null,null,null,null,null,null,null,{"$f":"VLOOKUP(E4708,Referencias!$B$4:$C$15,2,FALSE())","v":{"$error":"#N/A"}},{"$f":"VLOOKUP(C4708,Referencias!$B$18:$C$34,2,FALSE())","v":{"$error":"#N/A"}},"C"]
[null,null,null,null,null,null,null,{"$f":"VLOOKUP(E4709,Referencias!$B$4:$C$15,2,FALSE())","v":{"$error":"#N/A"}},{"$f":"VLOOKUP(C4709,Referencias!$B$18:$C$34,2,FALSE())","v":{"$error":"#N/A"}},"C"]
[null,null,null,null,null,null,null,{"$f":"VLOOKUP(E4710,Referencias!$B$4:$C$15,2,FALSE())","v":{"$error":"#N/A"}},{"$f":"VLOOKUP(C4710,Referencias!$B$18:$C$34,2,FALSE())","v":{"$error":"#N/A"}},"C"]
[null,null,null,null,null,null,null,{"$f":"VLOOKUP(E4711,Referencias!$B$4:$C$15,2,FALSE())","v":{"$error":"#N/A"}},{"$f":"VLOOKUP(C4711,Referencias!$B$18:$C$34,2,FALSE())","v":{"$error":"#N/A"}},"C"]
[null,null,null,null,null,null,null,{"$f":"VLOOKUP(E4712,Referencias!$B$4:$C$15,2,FALSE())","v":{"$error":"#N/A"}},{"$f":"VLOOKUP(C4712,Referencias!$B$18:$C$34,2,FALSE())","v":{"$error":"#N/A"}},"C"]
[null,null,null,null,null,null,null,{"$f":"VLOOKUP(E4713,Referencias!$B$4:$C$15,2,FALSE())","v":{"$error":"#N/A"}},{"$f":"VLOOKUP(C4713,Referencias!$B$18:$C$34,2,FALSE())","v":{"$error":"#N/A"}},"C"]
[null,null,null,null,null,null,null,{"$f":"VLOOKUP(E4714,Referencias!$B$4:$C$15,2,FALSE())","v":{"$error":"#N/A"}},{"$f":"VLOOKUP(C4714,Referencias!$B$18:$C$34,2,FALSE())","v":{"$error":"#N/A"}},"C"]
[null,null,null,null,null,null,null,{"$f":"VLOOKUP(E4715,Referencias!$B$4:$C$15,2,FALSE())","v":{"$error":"#N/A"}},{"$f":"VLOOKUP(C4715,Referencias!$B$18:$C$34,2,FALSE())","v":{"$error":"#N/A"}},"C"]
[null,null,null,null,null,null,null,{"$f":"VLOOKUP(E4716,Referencias!$B$4:$C$15,2,FALSE())","v":{"$error":"#N/A"}},{"$f":"VLOOKUP(C4716,Referencias!$B$18:$C$34,2,FALSE())","v":{"$error":"#N/A"}},"C"]
[null,null,null,null,null,null,null,{"$f":"VLOOKUP(E4717,Referencias!$B$4:$C$15,2,FALSE())","v":{"$error":"#N/A"}},{"$f":"VLOOKUP(C4717,Referencias!$B$18:$C$34,2,FALSE())","v":{"$error":"#N/A"}},"C"]
[null,null,null,null,null,null,null,{"$f":"VLOOKUP(E4718,Referencias!$B$4:$C$15,2,FALSE())","v":{"$error":"#N/A"}},{"$f":"VLOOKUP(C4718,Referencias!$B$18:$C$34,2,FALSE())","v":{"$error":"#N/A"}},"C"]
[null,null,null,null,null,null,null,{"$f":"VLOOKUP(E4719,Referencias!$B$4:$C$15,2,FALSE())","v":{"$error":"#N/A"}},{"$f":"VLOOKUP(C4719,Referencias!$B$18:$C$34,2,FALSE())","v":{"$error":"#N/A"}},"C"]
[null,null,null,null,null,null,null,{"$f":"VLOOKUP(E4720,Referencias!$B$4:$C$15,2,FALSE())","v":{"$error":"#N/A"}},{"$f":"VLOOKUP(C4720,Referencias!$B$18:$C$34,2,FALSE())","v":{"$error":"#N/A"}},"C"]
[null,null,null,null,null,null,null,{"$f":"VLOOKUP(E4721,Referencias!$B$4:$C$15,2,FALSE())","v":{"$error":"#N/A"}},{"$f":"VLOOKUP(C4721,Referencias!$B$18:$C$34,2,FALSE())","v":{"$error":"#N/A"}},"C"]
[null,null,null,null,null,null,null,{"$f":"VLOOKUP(E4722,Referencias!$B$4:$C$15,2,FALSE())","v":{"$error":"#N/A"}},{"$f":"VLOOKUP(C4722,Referencias!$B$18:$C$34,2,FALSE())","v":{"$error":"#N/A"}},"C"]
[null,null,null,null,null,null,null,{"$f":"VLOOKUP(E4723,Referencias!$B$4:$C$15,2,FALSE())","v":{"$error":"#N/A"}},{"$f":"VLOOKUP(C4723,Referencias!$B$18:$C$34,2,FALSE())","v":{"$error":"#N/A"}},"C"]
[null,null,null,null,null,null,null,{"$f":"VLOOKUP(E4724,Referencias!$B$4:$C$15,2,FALSE())","v":{"$error":"#N/A"}},{"$f":"VLOOKUP(C4724,Referencias!$B$18:$C$34,2,FALSE())","v":{"$error":"#N/A"}},"C"]
[null,null,null,null,null,null,null,{"$f":"VLOOKUP(E4725,Referencias!$B$4:$C$15,2,FALSE())","v":{"$error":"#N/A"}},{"$f":"VLOOKUP(C4725,Referencias!$B$18:$C$34,2,FALSE())","v":{"$error":"#N/A"}},"C"]
[null,null,null,null,null,null,null,{"$f":"VLOOKUP(E4726,Referencias!$B$4:$C$15,2,FALSE())","v":{"$error":"#N/A"}},{"$f":"VLOOKUP(C4726,Referencias!$B$18:$C$34,2,FALSE())","v":{"$error":"#N/A"}},"C"]
[null,null,null,null,null,null,null,{"$f":"VLOOKUP(E4727,Referencias!$B$4:$C$15,2,FALSE())","v":{"$error":"#N/A"}},{"$f":"VLOOKUP(C4727,Referencias!$B$18:$C$34,2,FALSE())","v":{"$error":"#N/A"}},"C"]
[null,null,null,null,null,null,null,{"$f":"VLOOKUP(E4728,Referencias!$B$4:$C$15,2,FALSE())","v":{"$error":"#N/A"}},{"$f":"VLOOKUP(C4728,Referencias!$B$18:$C$34,2,FALSE())","v":{"$error":"#N/A"}},"C"]
[null,null,null,null,null,null,null,{"$f":"VLOOKUP(E4729,Referencias!$B$4:$C$15,2,FALSE())","v":{"$error":"#N/A"}},{"$f":"VLOOKUP(C4729,Referencias!$B$18:$C$34,2,FALSE())","v":{"$error":"#N/A"}},"C"]
[null,null,null,null,null,null,null,{"$f":"VLOOKUP(E4730,Referencias!$B$4:$C$15,2,FALSE())","v":{"$error":"#N/A"}},{"$f":"VLOOKUP(C4730,Referencias!$B$18:$C$34,2,FALSE())","v":{"$error":"#N/A"}},"C"]
[null,null,null,null,null,null,null,{"$f":"VLOOKUP(E4731,Referencias!$B$4:$C$15,2,FALSE())","v":{"$error":"#N/A"}},{"$f":"VLOOKUP(C4731,Referencias!$B$18:$C$34,2,FALSE())","v":{"$error":"#N/A"}},"C"]
[null,null,null,null,null,null,null,{"$f":"VLOOKUP(E4732,Referencias!$B$4:$C$15,2,FALSE())","v":{"$error":"#N/A"}},{"$f":"VLOOKUP(C4732,Referencias!$B$18:$C$34,2,FALSE())","v":{"$error":"#N/A"}},"C"]
[null,null,null,null,null,null,null,{"$f":"VLOOKUP(E4733,Referencias!$B$4:$C$15,2,FALSE())","v":{"$error":"#N/A"}},{"$f":"VLOOKUP(C4733,Referencias!$B$18:$C$34,2,FALSE())","v":{"$error":"#N/A"}},"C"]
[null,null,null,null,null,null,null,{"$f":"VLOOKUP(E4734,Referencias!$B$4:$C$15,2,FALSE())","v":{"$error":"#N/A"}},{"$f":"VLOOKUP(C4734,Referencias!$B$18:$C$34,2,FALSE())","v":{"$error":"#N/A"}},"C"]
[null,null,null,null,null,null,null,{"$f":"VLOOKUP(E4735,Referencias!$B$4:$C$15,2,FALSE())","v":{"$error":"#N/A"}},{"$f":"VLOOKUP(C4735,Referencias!$B$18:$C$34,2,FALSE())","v":{"$error":"#N/A"}},"C"]
[null,null,null,null,null,null,null,{"$f":"VLOOKUP(E4736,Referencias!$B$4:$C$15,2,FALSE())","v":{"$error":"#N/A"}},{"$f":"VLOOKUP(C4736,Referencias!$B$18:$C$34,2,FALSE())","v":{"$error":"#N/A"}},"C"]
[null,null,null,null,null,null,null,{"$f":"VLOOKUP(E4737,Referencias!$B$4:$C$15,2,FALSE())","v":{"$error":"#N/A"}},{"$f":"VLOOKUP(C4737,Referencias!$B$18:$C$34,2,FALSE())","v":{"$error":"#N/A"}},{"$f":"IF(D4737=\"Dama\",\"D\",\"C\")","v":"C"}]
[null,null,null,null,null,null,null,{"$f":"VLOOKUP(E4738,Referencias!$B$4:$C$15,2,FALSE())","v":{"$error":"#N/A"}},{"$f":"VLOOKUP(C4738,Referencias!$B$18:$C$34,2,FALSE())","v":{"$error":"#N/A"}},"C"]
[null,null,null,null,null,null,null,{"$f":"VLOOKUP(E4739,Referencias!$B$4:$C$15,2,FALSE())","v":{"$error":"#N/A"}},{"$f":"VLOOKUP(C4739,Referencias!$B$18:$C$34,2,FALSE())","v":{"$error":"#N/A"}},"C"]
[null,null,null,null,null,null,null,{"$f":"VLOOKUP(E4740,Referencias!$B$4:$C$15,2,FALSE())","v":{"$error":"#N/A"}},{"$f":"VLOOKUP(C4740,Referencias!$B$18:$C$34,2,FALSE())","v":{"$error":"#N/A"}},"C"]
[null,null,null,null,null,null,null,{"$f":"VLOOKUP(E4741,Referencias!$B$4:$C$15,2,FALSE())","v":{"$error":"#N/A"}},{"$f":"VLOOKUP(C4741,Referencias!$B$18:$C$34,2,FALSE())","v":{"$error":"#N/A"}},"C"]
[null,null,null,null,null,null,null,{"$f":"VLOOKUP(E4742,Referencias!$B$4:$C$15,2,FALSE())","v":{"$error":"#N/A"}},{"$f":"VLOOKUP(C4742,Referencias!$B$18:$C$34,2,FALSE())","v":{"$error":"#N/A"}},"C"]
[null,null,null,null,null,null,null,{"$f":"VLOOKUP(E4743,Referencias!$B$4:$C$15,2,FALSE())","v":{"$error":"#N/A"}},{"$f":"VLOOKUP(C4743,Referencias!$B$18:$C$34,2,FALSE())","v":{"$error":"#N/A"}},"C"]
[null,null,null,null,null,null,null,{"$f":"VLOOKUP(E4744,Referencias!$B$4:$C$15,2,FALSE())","v":{"$error":"#N/A"}},{"$f":"VLOOKUP(C4744,Referencias!$B$18:$C$34,2,FALSE())","v":{"$error":"#N/A"}},"C"]
[null,null,null,null,null,null,null,{"$f":"VLOOKUP(E4745,Referencias!$B$4:$C$15,2,FALSE())","v":{"$error":"#N/A"}},{"$f":"VLOOKUP(C4745,Referencias!$B$18:$C$34,2,FALSE())","v":{"$error":"#N/A"}},"C"]
[null,null,null,null,null,null,null,{"$f":"VLOOKUP(E4746,Referencias!$B$4:$C$15,2,FALSE())","v":{"$error":"#N/A"}},{"$f":"VLOOKUP(C4746,Referencias!$B$18:$C$34,2,FALSE())","v":{"$error":"#N/A"}},"C"]
[null,null,null,null,null,null,null,{"$f":"VLOOKUP(E4747,Referencias!$B$4:$C$15,2,FALSE())","v":{"$error":"#N/A"}},{"$f":"VLOOKUP(C4747,Referencias!$B$18:$C$34,2,FALSE())","v":{"$error":"#N/A"}},"C"]
[null,null,null,null,null,null,null,{"$f":"VLOOKUP(E4748,Referencias!$B$4:$C$15,2,FALSE())","v":{"$error":"#N/A"}},{"$f":"VLOOKUP(C4748,Referencias!$B$18:$C$34,2,FALSE())","v":{"$error":"#N/A"}},"C"]
[null,null,null,null,null,null,null,{"$f":"VLOOKUP(E4749,Referencias!$B$4:$C$15,2,FALSE())","v":{"$error":"#N/A"}},{"$f":"VLOOKUP(C4749,Referencias!$B$18:$C$34,2,FALSE())","v":{"$error":"#N/A"}},"C"]
[null,null,null,null,null,null,null,{"$f":"VLOOKUP(E4750,Referencias!$B$4:$C$15,2,FALSE())","v":{"$error":"#N/A"}},{"$f":"VLOOKUP(C4750,Referencias!$B$18:$C$34,2,FALSE())","v":{"$error":"#N/A"}},"C"]
[null,null,null,null,null,null,null,{"$f":"VLOOKUP(E4751,Referencias!$B$4:$C$15,2,FALSE())","v":{"$error":"#N/A"}},{"$f":"VLOOKUP(C4751,Referencias!$B$18:$C$34,2,FALSE())","v":{"$error":"#N/A"}},"C"]
[null,null,null,null,null,null,null,{"$f":"VLOOKUP(E4752,Referencias!$B$4:$C$15,2,FALSE())","v":{"$error":"#N/A"}},{"$f":"VLOOKUP(C4752,Referencias!$B$18:$C$34,2,FALSE())","v":{"$error":"#N/A"}},"C"]
[null,null,null,null,null,null,null,{"$f":"VLOOKUP(E4753,Referencias!$B$4:$C$15,2,FALSE())","v":{"$error":"#N/A"}},{"$f":"VLOOKUP(C4753,Referencias!$B$18:$C$34,2,FALSE())","v":{"$error":"#N/A"}},"C"]
[null,null,null,null,null,null,null,{"$f":"VLOOKUP(E4754,Referencias!$B$4:$C$15,2,FALSE())","v":{"$error":"#N/A"}},{"$f":"VLOOKUP(C4754,Referencias!$B$18:$C$34,2,FALSE())","v":{"$error":"#N/A"}},"C"]
[null,null,null,null,null,null,null,{"$f":"VLOOKUP(E4755,Referencias!$B$4:$C$15,2,FALSE())","v":{"$error":"#N/A"}},{"$f":"VLOOKUP(C4755,Referencias!$B$18:$C$34,2,FALSE())","v":{"$error":"#N/A"}},"C"]
[null,null,null,null,null,null,null,{"$f":"VLOOKUP(E4756,Referencias!$B$4:$C$15,2,FALSE())","v":{"$error":"#N/A"}},{"$f":"VLOOKUP(C4756,Referencias!$B$18:$C$34,2,FALSE())","v":{"$error":"#N/A"}},"C"]
[null,null,null,null,null,null,null,{"$f":"VLOOKUP(E4757,Referencias!$B$4:$C$15,2,FALSE())","v":{"$error":"#N/A"}},{"$f":"VLOOKUP(C4757,Referencias!$B$18:$C$34,2,FALSE())","v":{"$error":"#N/A"}},"C"]
[null,null,null,null,null,null,null,{"$f":"VLOOKUP(E4758,Referencias!$B$4:$C$15,2,FALSE())","v":{"$error":"#N/A"}},{"$f":"VLOOKUP(C4758,Referencias!$B$18:$C$34,2,FALSE())","v":{"$error":"#N/A"}},"C"]
[null,null,null,null,null,null,null,{"$f":"VLOOKUP(E4759,Referencias!$B$4:$C$15,2,FALSE())","v":{"$error":"#N/A"}},{"$f":"VLOOKUP(C4759,Referencias!$B$18:$C$34,2,FALSE())","v":{"$error":"#N/A"}},"C"]
[null,null,null,null,null,null,null,{"$f":"VLOOKUP(E4760,Referencias!$B$4:$C$15,2,FALSE())","v":{"$error":"#N/A"}},{"$f":"VLOOKUP(C4760,Referencias!$B$18:$C$34,2,FALSE())","v":{"$error":"#N/A"}},"C"]
[null,null,null,null,null,null,null,{"$f":"VLOOKUP(E4761,Referencias!$B$4:$C$15,2,FALSE())","v":{"$error":"#N/A"}},{"$f":"VLOOKUP(C4761,Referencias!$B$18:$C$34,2,FALSE())","v":{"$error":"#N/A"}},"C"]
[null,null,null,null,null,null,null,{"$f":"VLOOKUP(E4762,Referencias!$B$4:$C$15,2,FALSE())","v":{"$error":"#N/A"}},{"$f":"VLOOKUP(C4762,Referencias!$B$18:$C$34,2,FALSE())","v":{"$error":"#N/A"}},"C"]
[null,null,null,null,null,null,null,{"$f":"VLOOKUP(E4763,Referencias!$B$4:$C$15,2,FALSE())","v":{"$error":"#N/A"}},{"$f":"VLOOKUP(C4763,Referencias!$B$18:$C$34,2,FALSE())","v":{"$error":"#N/A"}},"C"]
[null,null,null,null,null,null,null,{"$f":"VLOOKUP(E4764,Referencias!$B$4:$C$15,2,FALSE())","v":{"$error":"#N/A"}},{"$f":"VLOOKUP(C4764,Referencias!$B$18:$C$34,2,FALSE())","v":{"$error":"#N/A"}},"C"]
[null,null,null,null,null,null,null,{"$f":"VLOOKUP(E4765,Referencias!$B$4:$C$15,2,FALSE())","v":{"$error":"#N/A"}},{"$f":"VLOOKUP(C4765,Referencias!$B$18:$C$34,2,FALSE())","v":{"$error":"#N/A"}},"C"]
[null,null,null,null,null,null,null,{"$f":"VLOOKUP(E4766,Referencias!$B$4:$C$15,2,FALSE())","v":{"$error":"#N/A"}},{"$f":"VLOOKUP(C4766,Referencias!$B$18:$C$34,2,FALSE())","v":{"$error":"#N/A"}},"C"]
[null,null,null,null,null,null,null,{"$f":"VLOOKUP(E4767,Referencias!$B$4:$C$15,2,FALSE())","v":{"$error":"#N/A"}},{"$f":"VLOOKUP(C4767,Referencias!$B$18:$C$34,2,FALSE())","v":{"$error":"#N/A"}},"C"]
[null,null,null,null,null,null,null,{"$f":"VLOOKUP(E4768,Referencias!$B$4:$C$15,2,FALSE())","v":{"$error":"#N/A"}},{"$f":"VLOOKUP(C4768,Referencias!$B$18:$C$34,2,FALSE())","v":{"$error":"#N/A"}},"C"]
[null,null,null,null,null,null,null,{"$f":"VLOOKUP(E4769,Referencias!$B$4:$C$15,2,FALSE())","v":{"$error":"#N/A"}},{"$f":"VLOOKUP(C4769,Referencias!$B$18:$C$34,2,FALSE())","v":{"$error":"#N/A"}},"C"]
[null,null,null,null,null,null,null,{"$f":"VLOOKUP(E4770,Referencias!$B$4:$C$15,2,FALSE())","v":{"$error":"#N/A"}},{"$f":"VLOOKUP(C4770,Referencias!$B$18:$C$34,2,FALSE())","v":{"$error":"#N/A"}},"C"]
[null,null,null,null,null,null,null,{"$f":"VLOOKUP(E4771,Referencias!$B$4:$C$15,2,FALSE())","v":{"$error":"#N/A"}},{"$f":"VLOOKUP(C4771,Referencias!$B$18:$C$34,2,FALSE())","v":{"$error":"#N/A"}},"C"]
[null,null,null,null,null,null,null,{"$f":"VLOOKUP(E4772,Referencias!$B$4:$C$15,2,FALSE())","v":{"$error":"#N/A"}},{"$f":"VLOOKUP(C4772,Referencias!$B$18:$C$34,2,FALSE())","v":{"$error":"#N/A"}},"C"]
[null,null,null,null,null,null,null,{"$f":"VLOOKUP(E4773,Referencias!$B$4:$C$15,2,FALSE())","v":{"$error":"#N/A"}},{"$f":"VLOOKUP(C4773,Referencias!$B$18:$C$34,2,FALSE())","v":{"$error":"#N/A"}},"C"]
[null,null,null,null,null,null,null,{"$f":"VLOOKUP(E4774,Referencias!$B$4:$C$15,2,FALSE())","v":{"$error":"#N/A"}},{"$f":"VLOOKUP(C4774,Referencias!$B$18:$C$34,2,FALSE())","v":{"$error":"#N/A"}},"C"]
[null,null,null,null,null,null,null,{"$f":"VLOOKUP(E4775,Referencias!$B$4:$C$15,2,FALSE())","v":{"$error":"#N/A"}},{"$f":"VLOOKUP(C4775,Referencias!$B$18:$C$34,2,FALSE())","v":{"$error":"#N/A"}},"C"]
[null,null,null,null,null,null,null,{"$f":"VLOOKUP(E4776,Referencias!$B$4:$C$15,2,FALSE())","v":{"$error":"#N/A"}},{"$f":"VLOOKUP(C4776,Referencias!$B$18:$C$34,2,FALSE())","v":{"$error":"#N/A"}},"C"]
[null,null,null,null,null,null,null,{"$f":"VLOOKUP(E4777,Referencias!$B$4:$C$15,2,FALSE())","v":{"$error":"#N/A"}},{"$f":"VLOOKUP(C4777,Referencias!$B$18:$C$34,2,FALSE())","v":{"$error":"#N/A"}},"C"]
[null,null,null,null,null,null,null,{"$f":"VLOOKUP(E4778,Referencias!$B$4:$C$15,2,FALSE())","v":{"$error":"#N/A"}},{"$f":"VLOOKUP(C4778,Referencias!$B$18:$C$34,2,FALSE())","v":{"$error":"#N/A"}},"C"]
[null,null,null,null,null,null,null,{"$f":"VLOOKUP(E4779,Referencias!$B$4:$C$15,2,FALSE())","v":{"$error":"#N/A"}},{"$f":"VLOOKUP(C4779,Referencias!$B$18:$C$34,2,FALSE())","v":{"$error":"#N/A"}},"C"]
[null,null,null,null,null,null,null,{"$f":"VLOOKUP(E4780,Referencias!$B$4:$C$15,2,FALSE())","v":{"$error":"#N/A"}},{"$f":"VLOOKUP(C4780,Referencias!$B$18:$C$34,2,FALSE())","v":{"$error":"#N/A"}},"C"]
[null,null,null,null,null,null,null,{"$f":"VLOOKUP(E4781,Referencias!$B$4:$C$15,2,FALSE())","v":{"$error":"#N/A"}},{"$f":"VLOOKUP(C4781,Referencias!$B$18:$C$34,2,FALSE())","v":{"$error":"#N/A"}},"C"]
[null,null,null,null,null,null,null,{"$f":"VLOOKUP(E4782,Referencias!$B$4:$C$15,2,FALSE())","v":{"$error":"#N/A"}},{"$f":"VLOOKUP(C4782,Referencias!$B$18:$C$34,2,FALSE())","v":{"$error":"#N/A"}},"C"]
[null,null,null,null,null,null,null,{"$f":"VLOOKUP(E4783,Referencias!$B$4:$C$15,2,FALSE())","v":{"$error":"#N/A"}},{"$f":"VLOOKUP(C4783,Referencias!$B$18:$C$34,2,FALSE())","v":{"$error":"#N/A"}},"C"]
[null,null,null,null,null,null,null,{"$f":"VLOOKUP(E4784,Referencias!$B$4:$C$15,2,FALSE())","v":{"$error":"#N/A"}},{"$f":"VLOOKUP(C4784,Referencias!$B$18:$C$34,2,FALSE())","v":{"$error":"#N/A"}},"C"]
[null,null,null,null,null,null,null,{"$f":"VLOOKUP(E4785,Referencias!$B$4:$C$15,2,FALSE())","v":{"$error":"#N/A"}},{"$f":"VLOOKUP(C4785,Referencias!$B$18:$C$34,2,FALSE())","v":{"$error":"#N/A"}},"C"]
[null,null,null,null,null,null,null,{"$f":"VLOOKUP(E4786,Referencias!$B$4:$C$15,2,FALSE())","v":{"$error":"#N/A"}},{"$f":"VLOOKUP(C4786,Referencias!$B$18:$C$34,2,FALSE())","v":{"$error":"#N/A"}},"C"]
[null,null,null,null,null,null,null,{"$f":"VLOOKUP(E4787,Referencias!$B$4:$C$15,2,FALSE())","v":{"$error":"#N/A"}},{"$f":"VLOOKUP(C4787,Referencias!$B$18:$C$34,2,FALSE())","v":{"$error":"#N/A"}},"C"]
[null,null,null,null,null,null,null,{"$f":"VLOOKUP(E4788,Referencias!$B$4:$C$15,2,FALSE())","v":{"$error":"#N/A"}},{"$f":"VLOOKUP(C4788,Referencias!$B$18:$C$34,2,FALSE())","v":{"$error":"#N/A"}},"C"]
[null,null,null,null,null,null,null,{"$f":"VLOOKUP(E4789,Referencias!$B$4:$C$15,2,FALSE())","v":{"$error":"#N/A"}},{"$f":"VLOOKUP(C4789,Referencias!$B$18:$C$34,2,FALSE())","v":{"$error":"#N/A"}},"C"]
[null,null,null,null,null,null,null,{"$f":"VLOOKUP(E4790,Referencias!$B$4:$C$15,2,FALSE())","v":{"$error":"#N/A"}},{"$f":"VLOOKUP(C4790,Referencias!$B$18:$C$34,2,FALSE())","v":{"$error":"#N/A"}},"C"]
[null,null,null,null,null,null,null,{"$f":"VLOOKUP(E4791,Referencias!$B$4:$C$15,2,FALSE())","v":{"$error":"#N/A"}},{"$f":"VLOOKUP(C4791,Referencias!$B$18:$C$34,2,FALSE())","v":{"$error":"#N/A"}},"C"]
[null,null,null,null,null,null,null,{"$f":"VLOOKUP(E4792,Referencias!$B$4:$C$15,2,FALSE())","v":{"$error":"#N/A"}},{"$f":"VLOOKUP(C4792,Referencias!$B$18:$C$34,2,FALSE())","v":{"$error":"#N/A"}},"C"]
[null,null,null,null,null,null,null,{"$f":"VLOOKUP(E4793,Referencias!$B$4:$C$15,2,FALSE())","v":{"$error":"#N/A"}},{"$f":"VLOOKUP(C4793,Referencias!$B$18:$C$34,2,FALSE())","v":{"$error":"#N/A"}},"C"]
[null,null,null,null,null,null,null,{"$f":"VLOOKUP(E4794,Referencias!$B$4:$C$15,2,FALSE())","v":{"$error":"#N/A"}},{"$f":"VLOOKUP(C4794,Referencias!$B$18:$C$34,2,FALSE())","v":{"$error":"#N/A"}},"C"]
[null,null,null,null,null,null,null,{"$f":"VLOOKUP(E4795,Referencias!$B$4:$C$15,2,FALSE())","v":{"$error":"#N/A"}},{"$f":"VLOOKUP(C4795,Referencias!$B$18:$C$34,2,FALSE())","v":{"$error":"#N/A"}},"C"]
[null,null,null,null,null,null,null,{"$f":"VLOOKUP(E4796,Referencias!$B$4:$C$15,2,FALSE())","v":{"$error":"#N/A"}},{"$f":"VLOOKUP(C4796,Referencias!$B$18:$C$34,2,FALSE())","v":{"$error":"#N/A"}},"C"]
[null,null,null,null,null,null,null,{"$f":"VLOOKUP(E4797,Referencias!$B$4:$C$15,2,FALSE())","v":{"$error":"#N/A"}},{"$f":"VLOOKUP(C4797,Referencias!$B$18:$C$34,2,FALSE())","v":{"$error":"#N/A"}},"C"]
[null,null,null,null,null,null,null,{"$f":"VLOOKUP(E4798,Referencias!$B$4:$C$15,2,FALSE())","v":{"$error":"#N/A"}},{"$f":"VLOOKUP(C4798,Referencias!$B$18:$C$34,2,FALSE())","v":{"$error":"#N/A"}},"C"]
[null,null,null,null,null,null,null,{"$f":"VLOOKUP(E4799,Referencias!$B$4:$C$15,2,FALSE())","v":{"$error":"#N/A"}},{"$f":"VLOOKUP(C4799,Referencias!$B$18:$C$34,2,FALSE())","v":{"$error":"#N/A"}},"C"]
[null,null,null,null,null,null,null,{"$f":"VLOOKUP(E4800,Referencias!$B$4:$C$15,2,FALSE())","v":{"$error":"#N/A"}},{"$f":"VLOOKUP(C4800,Referencias!$B$18:$C$34,2,FALSE())","v":{"$error":"#N/A"}},"C"]
[null,null,null,null,null,null,null,{"$f":"VLOOKUP(E4801,Referencias!$B$4:$C$15,2,FALSE())","v":{"$error":"#N/A"}},{"$f":"VLOOKUP(C4801,Referencias!$B$18:$C$34,2,FALSE())","v":{"$error":"#N/A"}},{"$f":"IF(D4801=\"Dama\",\"D\",\"C\")","v":"C"}]
[null,null,null,null,null,null,null,{"$f":"VLOOKUP(E4802,Referencias!$B$4:$C$15,2,FALSE())","v":{"$error":"#N/A"}},{"$f":"VLOOKUP(C4802,Referencias!$B$18:$C$34,2,FALSE())","v":{"$error":"#N/A"}},"C"]
[null,null,null,null,null,null,null,{"$f":"VLOOKUP(E4803,Referencias!$B$4:$C$15,2,FALSE())","v":{"$error":"#N/A"}},{"$f":"VLOOKUP(C4803,Referencias!$B$18:$C$34,2,FALSE())","v":{"$error":"#N/A"}},"C"]
[null,null,null,null,null,null,null,{"$f":"VLOOKUP(E4804,Referencias!$B$4:$C$15,2,FALSE())","v":{"$error":"#N/A"}},{"$f":"VLOOKUP(C4804,Referencias!$B$18:$C$34,2,FALSE())","v":{"$error":"#N/A"}},"C"]
[null,null,null,null,null,null,null,{"$f":"VLOOKUP(E4805,Referencias!$B$4:$C$15,2,FALSE())","v":{"$error":"#N/A"}},{"$f":"VLOOKUP(C4805,Referencias!$B$18:$C$34,2,FALSE())","v":{"$error":"#N/A"}},"C"]
[null,null,null,null,null,null,null,{"$f":"VLOOKUP(E4806,Referencias!$B$4:$C$15,2,FALSE())","v":{"$error":"#N/A"}},{"$f":"VLOOKUP(C4806,Referencias!$B$18:$C$34,2,FALSE())","v":{"$error":"#N/A"}},"C"]
[null,null,null,null,null,null,null,{"$f":"VLOOKUP(E4807,Referencias!$B$4:$C$15,2,FALSE())","v":{"$error":"#N/A"}},{"$f":"VLOOKUP(C4807,Referencias!$B$18:$C$34,2,FALSE())","v":{"$error":"#N/A"}},"C"]
[null,null,null,null,null,null,null,{"$f":"VLOOKUP(E4808,Referencias!$B$4:$C$15,2,FALSE())","v":{"$error":"#N/A"}},{"$f":"VLOOKUP(C4808,Referencias!$B$18:$C$34,2,FALSE())","v":{"$error":"#N/A"}},"C"]
[null,null,null,null,null,null,null,{"$f":"VLOOKUP(E4809,Referencias!$B$4:$C$15,2,FALSE())","v":{"$error":"#N/A"}},{"$f":"VLOOKUP(C4809,Referencias!$B$18:$C$34,2,FALSE())","v":{"$error":"#N/A"}},"C"]
[null,null,null,null,null,null,null,{"$f":"VLOOKUP(E4810,Referencias!$B$4:$C$15,2,FALSE())","v":{"$error":"#N/A"}},{"$f":"VLOOKUP(C4810,Referencias!$B$18:$C$34,2,FALSE())","v":{"$error":"#N/A"}},"C"]
[null,null,null,null,null,null,null,{"$f":"VLOOKUP(E4811,Referencias!$B$4:$C$15,2,FALSE())","v":{"$error":"#N/A"}},{"$f":"VLOOKUP(C4811,Referencias!$B$18:$C$34,2,FALSE())","v":{"$error":"#N/A"}},"C"]
[null,null,null,null,null,null,null,{"$f":"VLOOKUP(E4812,Referencias!$B$4:$C$15,2,FALSE())","v":{"$error":"#N/A"}},{"$f":"VLOOKUP(C4812,Referencias!$B$18:$C$34,2,FALSE())","v":{"$error":"#N/A"}},"C"]
[null,null,null,null,null,null,null,{"$f":"VLOOKUP(E4813,Referencias!$B$4:$C$15,2,FALSE())","v":{"$error":"#N/A"}},{"$f":"VLOOKUP(C4813,Referencias!$B$18:$C$34,2,FALSE())","v":{"$error":"#N/A"}},"C"]
[null,null,null,null,null,null,null,{"$f":"VLOOKUP(E4814,Referencias!$B$4:$C$15,2,FALSE())","v":{"$error":"#N/A"}},{"$f":"VLOOKUP(C4814,Referencias!$B$18:$C$34,2,FALSE())","v":{"$error":"#N/A"}},"C"]
[null,null,null,null,null,null,null,{"$f":"VLOOKUP(E4815,Referencias!$B$4:$C$15,2,FALSE())","v":{"$error":"#N/A"}},{"$f":"VLOOKUP(C4815,Referencias!$B$18:$C$34,2,FALSE())","v":{"$error":"#N/A"}},"C"]
[null,null,null,null,null,null,null,{"$f":"VLOOKUP(E4816,Referencias!$B$4:$C$15,2,FALSE())","v":{"$error":"#N/A"}},{"$f":"VLOOKUP(C4816,Referencias!$B$18:$C$34,2,FALSE())","v":{"$error":"#N/A"}},"C"]
[null,null,null,null,null,null,null,{"$f":"VLOOKUP(E4817,Referencias!$B$4:$C$15,2,FALSE())","v":{"$error":"#N/A"}},{"$f":"VLOOKUP(C4817,Referencias!$B$18:$C$34,2,FALSE())","v":{"$error":"#N/A"}},"C"]
[null,null,null,null,null,null,null,{"$f":"VLOOKUP(E4818,Referencias!$B$4:$C$15,2,FALSE())","v":{"$error":"#N/A"}},{"$f":"VLOOKUP(C4818,Referencias!$B$18:$C$34,2,FALSE())","v":{"$error":"#N/A"}},"C"]
[null,null,null,null,null,null,null,{"$f":"VLOOKUP(E4819,Referencias!$B$4:$C$15,2,FALSE())","v":{"$error":"#N/A"}},{"$f":"VLOOKUP(C4819,Referencias!$B$18:$C$34,2,FALSE())","v":{"$error":"#N/A"}},"C"]
[null,null,null,null,null,null,null,{"$f":"VLOOKUP(E4820,Referencias!$B$4:$C$15,2,FALSE())","v":{"$error":"#N/A"}},{"$f":"VLOOKUP(C4820,Referencias!$B$18:$C$34,2,FALSE())","v":{"$error":"#N/A"}},"C"]
[null,null,null,null,null,null,null,{"$f":"VLOOKUP(E4821,Referencias!$B$4:$C$15,2,FALSE())","v":{"$error":"#N/A"}},{"$f":"VLOOKUP(C4821,Referencias!$B$18:$C$34,2,FALSE())","v":{"$error":"#N/A"}},"C"]
[null,null,null,null,null,null,null,{"$f":"VLOOKUP(E4822,Referencias!$B$4:$C$15,2,FALSE())","v":{"$error":"#N/A"}},{"$f":"VLOOKUP(C4822,Referencias!$B$18:$C$34,2,FALSE())","v":{"$error":"#N/A"}},"C"]
[null,null,null,null,null,null,null,{"$f":"VLOOKUP(E4823,Referencias!$B$4:$C$15,2,FALSE())","v":{"$error":"#N/A"}},{"$f":"VLOOKUP(C4823,Referencias!$B$18:$C$34,2,FALSE())","v":{"$error":"#N/A"}},"C"]
[null,null,null,null,null,null,null,{"$f":"VLOOKUP(E4824,Referencias!$B$4:$C$15,2,FALSE())","v":{"$error":"#N/A"}},{"$f":"VLOOKUP(C4824,Referencias!$B$18:$C$34,2,FALSE())","v":{"$error":"#N/A"}},"C"]
[null,null,null,null,null,null,null,{"$f":"VLOOKUP(E4825,Referencias!$B$4:$C$15,2,FALSE())","v":{"$error":"#N/A"}},{"$f":"VLOOKUP(C4825,Referencias!$B$18:$C$34,2,FALSE())","v":{"$error":"#N/A"}},"C"]
[null,null,null,null,null,null,null,{"$f":"VLOOKUP(E4826,Referencias!$B$4:$C$15,2,FALSE())","v":{"$error":"#N/A"}},{"$f":"VLOOKUP(C4826,Referencias!$B$18:$C$34,2,FALSE())","v":{"$error":"#N/A"}},"C"]
[null,null,null,null,null,null,null,{"$f":"VLOOKUP(E4827,Referencias!$B$4:$C$15,2,FALSE())","v":{"$error":"#N/A"}},{"$f":"VLOOKUP(C4827,Referencias!$B$18:$C$34,2,FALSE())","v":{"$error":"#N/A"}},"C"]
[null,null,null,null,null,null,null,{"$f":"VLOOKUP(E4828,Referencias!$B$4:$C$15,2,FALSE())","v":{"$error":"#N/A"}},{"$f":"VLOOKUP(C4828,Referencias!$B$18:$C$34,2,FALSE())","v":{"$error":"#N/A"}},"C"]
[null,null,null,null,null,null,null,{"$f":"VLOOKUP(E4829,Referencias!$B$4:$C$15,2,FALSE())","v":{"$error":"#N/A"}},{"$f":"VLOOKUP(C4829,Referencias!$B$18:$C$34,2,FALSE())","v":{"$error":"#N/A"}},"C"]
[null,null,null,null,null,null,null,{"$f":"VLOOKUP(E4830,Referencias!$B$4:$C$15,2,FALSE())","v":{"$error":"#N/A"}},{"$f":"VLOOKUP(C4830,Referencias!$B$18:$C$34,2,FALSE())","v":{"$error":"#N/A"}},"C"]
[null,null,null,null,null,null,null,{"$f":"VLOOKUP(E4831,Referencias!$B$4:$C$15,2,FALSE())","v":{"$error":"#N/A"}},{"$f":"VLOOKUP(C4831,Referencias!$B$18:$C$34,2,FALSE())","v":{"$error":"#N/A"}},"C"]
[null,null,null,null,null,null,null,{"$f":"VLOOKUP(E4832,Referencias!$B$4:$C$15,2,FALSE())","v":{"$error":"#N/A"}},{"$f":"VLOOKUP(C4832,Referencias!$B$18:$C$34,2,FALSE())","v":{"$error":"#N/A"}},"C"]
[null,null,null,null,null,null,null,{"$f":"VLOOKUP(E4833,Referencias!$B$4:$C$15,2,FALSE())","v":{"$error":"#N/A"}},{"$f":"VLOOKUP(C4833,Referencias!$B$18:$C$34,2,FALSE())","v":{"$error":"#N/A"}},"C"]
[null,null,null,null,null,null,null,{"$f":"VLOOKUP(E4834,Referencias!$B$4:$C$15,2,FALSE())","v":{"$error":"#N/A"}},{"$f":"VLOOKUP(C4834,Referencias!$B$18:$C$34,2,FALSE())","v":{"$error":"#N/A"}},"C"]
[null,null,null,null,null,null,null,{"$f":"VLOOKUP(E4835,Referencias!$B$4:$C$15,2,FALSE())","v":{"$error":"#N/A"}},{"$f":"VLOOKUP(C4835,Referencias!$B$18:$C$34,2,FALSE())","v":{"$error":"#N/A"}},"C"]
[null,null,null,null,null,null,null,{"$f":"VLOOKUP(E4836,Referencias!$B$4:$C$15,2,FALSE())","v":{"$error":"#N/A"}},{"$f":"VLOOKUP(C4836,Referencias!$B$18:$C$34,2,FALSE())","v":{"$error":"#N/A"}},"C"]
[null,null,null,null,null,null,null,{"$f":"VLOOKUP(E4837,Referencias!$B$4:$C$15,2,FALSE())","v":{"$error":"#N/A"}},{"$f":"VLOOKUP(C4837,Referencias!$B$18:$C$34,2,FALSE())","v":{"$error":"#N/A"}},"C"]
[null,null,null,null,null,null,null,{"$f":"VLOOKUP(E4838,Referencias!$B$4:$C$15,2,FALSE())","v":{"$error":"#N/A"}},{"$f":"VLOOKUP(C4838,Referencias!$B$18:$C$34,2,FALSE())","v":{"$error":"#N/A"}},"C"]
[null,null,null,null,null,null,null,{"$f":"VLOOKUP(E4839,Referencias!$B$4:$C$15,2,FALSE())","v":{"$error":"#N/A"}},{"$f":"VLOOKUP(C4839,Referencias!$B$18:$C$34,2,FALSE())","v":{"$error":"#N/A"}},"C"]
[null,null,null,null,null,null,null,{"$f":"VLOOKUP(E4840,Referencias!$B$4:$C$15,2,FALSE())","v":{"$error":"#N/A"}},{"$f":"VLOOKUP(C4840,Referencias!$B$18:$C$34,2,FALSE())","v":{"$error":"#N/A"}},"C"]
[null,null,null,null,null,null,null,{"$f":"VLOOKUP(E4841,Referencias!$B$4:$C$15,2,FALSE())","v":{"$error":"#N/A"}},{"$f":"VLOOKUP(C4841,Referencias!$B$18:$C$34,2,FALSE())","v":{"$error":"#N/A"}},"C"]
[null,null,null,null,null,null,null,{"$f":"VLOOKUP(E4842,Referencias!$B$4:$C$15,2,FALSE())","v":{"$error":"#N/A"}},{"$f":"VLOOKUP(C4842,Referencias!$B$18:$C$34,2,FALSE())","v":{"$error":"#N/A"}},"C"]
[null,null,null,null,null,null,null,{"$f":"VLOOKUP(E4843,Referencias!$B$4:$C$15,2,FALSE())","v":{"$error":"#N/A"}},{"$f":"VLOOKUP(C4843,Referencias!$B$18:$C$34,2,FALSE())","v":{"$error":"#N/A"}},"C"]
[null,null,null,null,null,null,null,{"$f":"VLOOKUP(E4844,Referencias!$B$4:$C$15,2,FALSE())","v":{"$error":"#N/A"}},{"$f":"VLOOKUP(C4844,Referencias!$B$18:$C$34,2,FALSE())","v":{"$error":"#N/A"}},"C"]
[null,null,null,null,null,null,null,{"$f":"VLOOKUP(E4845,Referencias!$B$4:$C$15,2,FALSE())","v":{"$error":"#N/A"}},{"$f":"VLOOKUP(C4845,Referencias!$B$18:$C$34,2,FALSE())","v":{"$error":"#N/A"}},"C"]
[null,null,null,null,null,null,null,{"$f":"VLOOKUP(E4846,Referencias!$B$4:$C$15,2,FALSE())","v":{"$error":"#N/A"}},{"$f":"VLOOKUP(C4846,Referencias!$B$18:$C$34,2,FALSE())","v":{"$error":"#N/A"}},"C"]
[null,null,null,null,null,null,null,{"$f":"VLOOKUP(E4847,Referencias!$B$4:$C$15,2,FALSE())","v":{"$error":"#N/A"}},{"$f":"VLOOKUP(C4847,Referencias!$B$18:$C$34,2,FALSE())","v":{"$error":"#N/A"}},"C"]
[null,null,null,null,null,null,null,{"$f":"VLOOKUP(E4848,Referencias!$B$4:$C$15,2,FALSE())","v":{"$error":"#N/A"}},{"$f":"VLOOKUP(C4848,Referencias!$B$18:$C$34,2,FALSE())","v":{"$error":"#N/A"}},"C"]
[null,null,null,null,null,null,null,{"$f":"VLOOKUP(E4849,Referencias!$B$4:$C$15,2,FALSE())","v":{"$error":"#N/A"}},{"$f":"VLOOKUP(C4849,Referencias!$B$18:$C$34,2,FALSE())","v":{"$error":"#N/A"}},"C"]
[null,null,null,null,null,null,null,{"$f":"VLOOKUP(E4850,Referencias!$B$4:$C$15,2,FALSE())","v":{"$error":"#N/A"}},{"$f":"VLOOKUP(C4850,Referencias!$B$18:$C$34,2,FALSE())","v":{"$error":"#N/A"}},"C"]
[null,null,null,null,null,null,null,{"$f":"VLOOKUP(E4851,Referencias!$B$4:$C$15,2,FALSE())","v":{"$error":"#N/A"}},{"$f":"VLOOKUP(C4851,Referencias!$B$18:$C$34,2,FALSE())","v":{"$error":"#N/A"}},"C"]
[null,null,null,null,null,null,null,{"$f":"VLOOKUP(E4852,Referencias!$B$4:$C$15,2,FALSE())","v":{"$error":"#N/A"}},{"$f":"VLOOKUP(C4852,Referencias!$B$18:$C$34,2,FALSE())","v":{"$error":"#N/A"}},"C"]
[null,null,null,null,null,null,null,{"$f":"VLOOKUP(E4853,Referencias!$B$4:$C$15,2,FALSE())","v":{"$error":"#N/A"}},{"$f":"VLOOKUP(C4853,Referencias!$B$18:$C$34,2,FALSE())","v":{"$error":"#N/A"}},"C"]
[null,null,null,null,null,null,null,{"$f":"VLOOKUP(E4854,Referencias!$B$4:$C$15,2,FALSE())","v":{"$error":"#N/A"}},{"$f":"VLOOKUP(C4854,Referencias!$B$18:$C$34,2,FALSE())","v":{"$error":"#N/A"}},"C"]
[null,null,null,null,null,null,null,{"$f":"VLOOKUP(E4855,Referencias!$B$4:$C$15,2,FALSE())","v":{"$error":"#N/A"}},{"$f":"VLOOKUP(C4855,Referencias!$B$18:$C$34,2,FALSE())","v":{"$error":"#N/A"}},"C"]
[null,null,null,null,null,null,null,{"$f":"VLOOKUP(E4856,Referencias!$B$4:$C$15,2,FALSE())","v":{"$error":"#N/A"}},{"$f":"VLOOKUP(C4856,Referencias!$B$18:$C$34,2,FALSE())","v":{"$error":"#N/A"}},"C"]
[null,null,null,null,null,null,null,{"$f":"VLOOKUP(E4857,Referencias!$B$4:$C$15,2,FALSE())","v":{"$error":"#N/A"}},{"$f":"VLOOKUP(C4857,Referencias!$B$18:$C$34,2,FALSE())","v":{"$error":"#N/A"}},"C"]
[null,null,null,null,null,null,null,{"$f":"VLOOKUP(E4858,Referencias!$B$4:$C$15,2,FALSE())","v":{"$error":"#N/A"}},{"$f":"VLOOKUP(C4858,Referencias!$B$18:$C$34,2,FALSE())","v":{"$error":"#N/A"}},"C"]
[null,null,null,null,null,null,null,{"$f":"VLOOKUP(E4859,Referencias!$B$4:$C$15,2,FALSE())","v":{"$error":"#N/A"}},{"$f":"VLOOKUP(C4859,Referencias!$B$18:$C$34,2,FALSE())","v":{"$error":"#N/A"}},"C"]
[null,null,null,null,null,null,null,{"$f":"VLOOKUP(E4860,Referencias!$B$4:$C$15,2,FALSE())","v":{"$error":"#N/A"}},{"$f":"VLOOKUP(C4860,Referencias!$B$18:$C$34,2,FALSE())","v":{"$error":"#N/A"}},"C"]
[null,null,null,null,null,null,null,{"$f":"VLOOKUP(E4861,Referencias!$B$4:$C$15,2,FALSE())","v":{"$error":"#N/A"}},{"$f":"VLOOKUP(C4861,Referencias!$B$18:$C$34,2,FALSE())","v":{"$error":"#N/A"}},"C"]
[null,null,null,null,null,null,null,{"$f":"VLOOKUP(E4862,Referencias!$B$4:$C$15,2,FALSE())","v":{"$error":"#N/A"}},{"$f":"VLOOKUP(C4862,Referencias!$B$18:$C$34,2,FALSE())","v":{"$error":"#N/A"}},"C"]
[null,null,null,null,null,null,null,{"$f":"VLOOKUP(E4863,Referencias!$B$4:$C$15,2,FALSE())","v":{"$error":"#N/A"}},{"$f":"VLOOKUP(C4863,Referencias!$B$18:$C$34,2,FALSE())","v":{"$error":"#N/A"}},"C"]
[null,null,null,null,null,null,null,{"$f":"VLOOKUP(E4864,Referencias!$B$4:$C$15,2,FALSE())","v":{"$error":"#N/A"}},{"$f":"VLOOKUP(C4864,Referencias!$B$18:$C$34,2,FALSE())","v":{"$error":"#N/A"}},"C"]
[null,null,null,null,null,null,null,{"$f":"VLOOKUP(E4865,Referencias!$B$4:$C$15,2,FALSE())","v":{"$error":"#N/A"}},{"$f":"VLOOKUP(C4865,Referencias!$B$18:$C$34,2,FALSE())","v":{"$error":"#N/A"}},{"$f":"IF(D4865=\"Dama\",\"D\",\"C\")","v":"C"}]
[null,null,null,null,null,null,null,{"$f":"VLOOKUP(E4866,Referencias!$B$4:$C$15,2,FALSE())","v":{"$error":"#N/A"}},{"$f":"VLOOKUP(C4866,Referencias!$B$18:$C$34,2,FALSE())","v":{"$error":"#N/A"}},"C"]
[null,null,null,null,null,null,null,{"$f":"VLOOKUP(E4867,Referencias!$B$4:$C$15,2,FALSE())","v":{"$error":"#N/A"}},{"$f":"VLOOKUP(C4867,Referencias!$B$18:$C$34,2,FALSE())","v":{"$error":"#N/A"}},"C"]
[null,null,null,null,null,null,null,{"$f":"VLOOKUP(E4868,Referencias!$B$4:$C$15,2,FALSE())","v":{"$error":"#N/A"}},{"$f":"VLOOKUP(C4868,Referencias!$B$18:$C$34,2,FALSE())","v":{"$error":"#N/A"}},"C"]
[null,null,null,null,null,null,null,{"$f":"VLOOKUP(E4869,Referencias!$B$4:$C$15,2,FALSE())","v":{"$error":"#N/A"}},{"$f":"VLOOKUP(C4869,Referencias!$B$18:$C$34,2,FALSE())","v":{"$error":"#N/A"}},"C"]
[null,null,null,null,null,null,null,{"$f":"VLOOKUP(E4870,Referencias!$B$4:$C$15,2,FALSE())","v":{"$error":"#N/A"}},{"$f":"VLOOKUP(C4870,Referencias!$B$18:$C$34,2,FALSE())","v":{"$error":"#N/A"}},"C"]
[null,null,null,null,null,null,null,{"$f":"VLOOKUP(E4871,Referencias!$B$4:$C$15,2,FALSE())","v":{"$error":"#N/A"}},{"$f":"VLOOKUP(C4871,Referencias!$B$18:$C$34,2,FALSE())","v":{"$error":"#N/A"}},"C"]
[null,null,null,null,null,null,null,{"$f":"VLOOKUP(E4872,Referencias!$B$4:$C$15,2,FALSE())","v":{"$error":"#N/A"}},{"$f":"VLOOKUP(C4872,Referencias!$B$18:$C$34,2,FALSE())","v":{"$error":"#N/A"}},"C"]
[null,null,null,null,null,null,null,{"$f":"VLOOKUP(E4873,Referencias!$B$4:$C$15,2,FALSE())","v":{"$error":"#N/A"}},{"$f":"VLOOKUP(C4873,Referencias!$B$18:$C$34,2,FALSE())","v":{"$error":"#N/A"}},"C"]
[null,null,null,null,null,null,null,{"$f":"VLOOKUP(E4874,Referencias!$B$4:$C$15,2,FALSE())","v":{"$error":"#N/A"}},{"$f":"VLOOKUP(C4874,Referencias!$B$18:$C$34,2,FALSE())","v":{"$error":"#N/A"}},"C"]
[null,null,null,null,null,null,null,{"$f":"VLOOKUP(E4875,Referencias!$B$4:$C$15,2,FALSE())","v":{"$error":"#N/A"}},{"$f":"VLOOKUP(C4875,Referencias!$B$18:$C$34,2,FALSE())","v":{"$error":"#N/A"}},"C"]
[null,null,null,null,null,null,null,{"$f":"VLOOKUP(E4876,Referencias!$B$4:$C$15,2,FALSE())","v":{"$error":"#N/A"}},{"$f":"VLOOKUP(C4876,Referencias!$B$18:$C$34,2,FALSE())","v":{"$error":"#N/A"}},"C"]
[null,null,null,null,null,null,null,{"$f":"VLOOKUP(E4877,Referencias!$B$4:$C$15,2,FALSE())","v":{"$error":"#N/A"}},{"$f":"VLOOKUP(C4877,Referencias!$B$18:$C$34,2,FALSE())","v":{"$error":"#N/A"}},"C"]
[null,null,null,null,null,null,null,{"$f":"VLOOKUP(E4878,Referencias!$B$4:$C$15,2,FALSE())","v":{"$error":"#N/A"}},{"$f":"VLOOKUP(C4878,Referencias!$B$18:$C$34,2,FALSE())","v":{"$error":"#N/A"}},"C"]
[null,null,null,null,null,null,null,{"$f":"VLOOKUP(E4879,Referencias!$B$4:$C$15,2,FALSE())","v":{"$error":"#N/A"}},{"$f":"VLOOKUP(C4879,Referencias!$B$18:$C$34,2,FALSE())","v":{"$error":"#N/A"}},"C"]
[null,null,null,null,null,null,null,{"$f":"VLOOKUP(E4880,Referencias!$B$4:$C$15,2,FALSE())","v":{"$error":"#N/A"}},{"$f":"VLOOKUP(C4880,Referencias!$B$18:$C$34,2,FALSE())","v":{"$error":"#N/A"}},"C"]
[null,null,null,null,null,null,null,{"$f":"VLOOKUP(E4881,Referencias!$B$4:$C$15,2,FALSE())","v":{"$error":"#N/A"}},{"$f":"VLOOKUP(C4881,Referencias!$B$18:$C$34,2,FALSE())","v":{"$error":"#N/A"}},"C"]
[null,null,null,null,null,null,null,{"$f":"VLOOKUP(E4882,Referencias!$B$4:$C$15,2,FALSE())","v":{"$error":"#N/A"}},{"$f":"VLOOKUP(C4882,Referencias!$B$18:$C$34,2,FALSE())","v":{"$error":"#N/A"}},"C"]
[null,null,null,null,null,null,null,{"$f":"VLOOKUP(E4883,Referencias!$B$4:$C$15,2,FALSE())","v":{"$error":"#N/A"}},{"$f":"VLOOKUP(C4883,Referencias!$B$18:$C$34,2,FALSE())","v":{"$error":"#N/A"}},"C"]
[null,null,null,null,null,null,null,{"$f":"VLOOKUP(E4884,Referencias!$B$4:$C$15,2,FALSE())","v":{"$error":"#N/A"}},{"$f":"VLOOKUP(C4884,Referencias!$B$18:$C$34,2,FALSE())","v":{"$error":"#N/A"}},"C"]
[null,null,null,null,null,null,null,{"$f":"VLOOKUP(E4885,Referencias!$B$4:$C$15,2,FALSE())","v":{"$error":"#N/A"}},{"$f":"VLOOKUP(C4885,Referencias!$B$18:$C$34,2,FALSE())","v":{"$error":"#N/A"}},"C"]
[null,null,null,null,null,null,null,{"$f":"VLOOKUP(E4886,Referencias!$B$4:$C$15,2,FALSE())","v":{"$error":"#N/A"}},{"$f":"VLOOKUP(C4886,Referencias!$B$18:$C$34,2,FALSE())","v":{"$error":"#N/A"}},"C"]
[null,null,null,null,null,null,null,{"$f":"VLOOKUP(E4887,Referencias!$B$4:$C$15,2,FALSE())","v":{"$error":"#N/A"}},{"$f":"VLOOKUP(C4887,Referencias!$B$18:$C$34,2,FALSE())","v":{"$error":"#N/A"}},"C"]
[null,null,null,null,null,null,null,{"$f":"VLOOKUP(E4888,Referencias!$B$4:$C$15,2,FALSE())","v":{"$error":"#N/A"}},{"$f":"VLOOKUP(C4888,Referencias!$B$18:$C$34,2,FALSE())","v":{"$error":"#N/A"}},"C"]
[null,null,null,null,null,null,null,{"$f":"VLOOKUP(E4889,Referencias!$B$4:$C$15,2,FALSE())","v":{"$error":"#N/A"}},{"$f":"VLOOKUP(C4889,Referencias!$B$18:$C$34,2,FALSE())","v":{"$error":"#N/A"}},"C"]
[null,null,null,null,null,null,null,{"$f":"VLOOKUP(E4890,Referencias!$B$4:$C$15,2,FALSE())","v":{"$error":"#N/A"}},{"$f":"VLOOKUP(C4890,Referencias!$B$18:$C$34,2,FALSE())","v":{"$error":"#N/A"}},"C"]
[null,null,null,null,null,null,null,{"$f":"VLOOKUP(E4891,Referencias!$B$4:$C$15,2,FALSE())","v":{"$error":"#N/A"}},{"$f":"VLOOKUP(C4891,Referencias!$B$18:$C$34,2,FALSE())","v":{"$error":"#N/A"}},"C"]
[null,null,null,null,null,null,null,{"$f":"VLOOKUP(E4892,Referencias!$B$4:$C$15,2,FALSE())","v":{"$error":"#N/A"}},{"$f":"VLOOKUP(C4892,Referencias!$B$18:$C$34,2,FALSE())","v":{"$error":"#N/A"}},"C"]
[null,null,null,null,null,null,null,{"$f":"VLOOKUP(E4893,Referencias!$B$4:$C$15,2,FALSE())","v":{"$error":"#N/A"}},{"$f":"VLOOKUP(C4893,Referencias!$B$18:$C$34,2,FALSE())","v":{"$error":"#N/A"}},"C"]
[null,null,null,null,null,null,null,{"$f":"VLOOKUP(E4894,Referencias!$B$4:$C$15,2,FALSE())","v":{"$error":"#N/A"}},{"$f":"VLOOKUP(C4894,Referencias!$B$18:$C$34,2,FALSE())","v":{"$error":"#N/A"}},"C"]
[null,null,null,null,null,null,null,{"$f":"VLOOKUP(E4895,Referencias!$B$4:$C$15,2,FALSE())","v":{"$error":"#N/A"}},{"$f":"VLOOKUP(C4895,Referencias!$B$18:$C$34,2,FALSE())","v":{"$error":"#N/A"}},"C"]
[null,null,null,null,null,null,null,{"$f":"VLOOKUP(E4896,Referencias!$B$4:$C$15,2,FALSE())","v":{"$error":"#N/A"}},{"$f":"VLOOKUP(C4896,Referencias!$B$18:$C$34,2,FALSE())","v":{"$error":"#N/A"}},"C"]
[null,null,null,null,null,null,null,{"$f":"VLOOKUP(E4897,Referencias!$B$4:$C$15,2,FALSE())","v":{"$error":"#N/A"}},{"$f":"VLOOKUP(C4897,Referencias!$B$18:$C$34,2,FALSE())","v":{"$error":"#N/A"}},"C"]
[null,null,null,null,null,null,null,{"$f":"VLOOKUP(E4898,Referencias!$B$4:$C$15,2,FALSE())","v":{"$error":"#N/A"}},{"$f":"VLOOKUP(C4898,Referencias!$B$18:$C$34,2,FALSE())","v":{"$error":"#N/A"}},"C"]
[null,null,null,null,null,null,null,{"$f":"VLOOKUP(E4899,Referencias!$B$4:$C$15,2,FALSE())","v":{"$error":"#N/A"}},{"$f":"VLOOKUP(C4899,Referencias!$B$18:$C$34,2,FALSE())","v":{"$error":"#N/A"}},"C"]
[null,null,null,null,null,null,null,{"$f":"VLOOKUP(E4900,Referencias!$B$4:$C$15,2,FALSE())","v":{"$error":"#N/A"}},{"$f":"VLOOKUP(C4900,Referencias!$B$18:$C$34,2,FALSE())","v":{"$error":"#N/A"}},"C"]
[null,null,null,null,null,null,null,{"$f":"VLOOKUP(E4901,Referencias!$B$4:$C$15,2,FALSE())","v":{"$error":"#N/A"}},{"$f":"VLOOKUP(C4901,Referencias!$B$18:$C$34,2,FALSE())","v":{"$error":"#N/A"}},"C"]
[null,null,null,null,null,null,null,{"$f":"VLOOKUP(E4902,Referencias!$B$4:$C$15,2,FALSE())","v":{"$error":"#N/A"}},{"$f":"VLOOKUP(C4902,Referencias!$B$18:$C$34,2,FALSE())","v":{"$error":"#N/A"}},"C"]
[null,null,null,null,null,null,null,{"$f":"VLOOKUP(E4903,Referencias!$B$4:$C$15,2,FALSE())","v":{"$error":"#N/A"}},{"$f":"VLOOKUP(C4903,Referencias!$B$18:$C$34,2,FALSE())","v":{"$error":"#N/A"}},"C"]
[null,null,null,null,null,null,null,{"$f":"VLOOKUP(E4904,Referencias!$B$4:$C$15,2,FALSE())","v":{"$error":"#N/A"}},{"$f":"VLOOKUP(C4904,Referencias!$B$18:$C$34,2,FALSE())","v":{"$error":"#N/A"}},"C"]
[null,null,null,null,null,null,null,{"$f":"VLOOKUP(E4905,Referencias!$B$4:$C$15,2,FALSE())","v":{"$error":"#N/A"}},{"$f":"VLOOKUP(C4905,Referencias!$B$18:$C$34,2,FALSE())","v":{"$error":"#N/A"}},"C"]
[null,null,null,null,null,null,null,{"$f":"VLOOKUP(E4906,Referencias!$B$4:$C$15,2,FALSE())","v":{"$error":"#N/A"}},{"$f":"VLOOKUP(C4906,Referencias!$B$18:$C$34,2,FALSE())","v":{"$error":"#N/A"}},"C"]
[null,null,null,null,null,null,null,{"$f":"VLOOKUP(E4907,Referencias!$B$4:$C$15,2,FALSE())","v":{"$error":"#N/A"}},{"$f":"VLOOKUP(C4907,Referencias!$B$18:$C$34,2,FALSE())","v":{"$error":"#N/A"}},"C"]
[null,null,null,null,null,null,null,{"$f":"VLOOKUP(E4908,Referencias!$B$4:$C$15,2,FALSE())","v":{"$error":"#N/A"}},{"$f":"VLOOKUP(C4908,Referencias!$B$18:$C$34,2,FALSE())","v":{"$error":"#N/A"}},"C"]
[null,null,null,null,null,null,null,{"$f":"VLOOKUP(E4909,Referencias!$B$4:$C$15,2,FALSE())","v":{"$error":"#N/A"}},{"$f":"VLOOKUP(C4909,Referencias!$B$18:$C$34,2,FALSE())","v":{"$error":"#N/A"}},"C"]
[null,null,null,null,null,null,null,{"$f":"VLOOKUP(E4910,Referencias!$B$4:$C$15,2,FALSE())","v":{"$error":"#N/A"}},{"$f":"VLOOKUP(C4910,Referencias!$B$18:$C$34,2,FALSE())","v":{"$error":"#N/A"}},"C"]
[null,null,null,null,null,null,null,{"$f":"VLOOKUP(E4911,Referencias!$B$4:$C$15,2,FALSE())","v":{"$error":"#N/A"}},{"$f":"VLOOKUP(C4911,Referencias!$B$18:$C$34,2,FALSE())","v":{"$error":"#N/A"}},"C"]
[null,null,null,null,null,null,null,{"$f":"VLOOKUP(E4912,Referencias!$B$4:$C$15,2,FALSE())","v":{"$error":"#N/A"}},{"$f":"VLOOKUP(C4912,Referencias!$B$18:$C$34,2,FALSE())","v":{"$error":"#N/A"}},"C"]
[null,null,null,null,null,null,null,{"$f":"VLOOKUP(E4913,Referencias!$B$4:$C$15,2,FALSE())","v":{"$error":"#N/A"}},{"$f":"VLOOKUP(C4913,Referencias!$B$18:$C$34,2,FALSE())","v":{"$error":"#N/A"}},"C"]
[null,null,null,null,null,null,null,{"$f":"VLOOKUP(E4914,Referencias!$B$4:$C$15,2,FALSE())","v":{"$error":"#N/A"}},{"$f":"VLOOKUP(C4914,Referencias!$B$18:$C$34,2,FALSE())","v":{"$error":"#N/A"}},"C"]
[null,null,null,null,null,null,null,{"$f":"VLOOKUP(E4915,Referencias!$B$4:$C$15,2,FALSE())","v":{"$error":"#N/A"}},{"$f":"VLOOKUP(C4915,Referencias!$B$18:$C$34,2,FALSE())","v":{"$error":"#N/A"}},"C"]
[null,null,null,null,null,null,null,{"$f":"VLOOKUP(E4916,Referencias!$B$4:$C$15,2,FALSE())","v":{"$error":"#N/A"}},{"$f":"VLOOKUP(C4916,Referencias!$B$18:$C$34,2,FALSE())","v":{"$error":"#N/A"}},"C"]
[null,null,null,null,null,null,null,{"$f":"VLOOKUP(E4917,Referencias!$B$4:$C$15,2,FALSE())","v":{"$error":"#N/A"}},{"$f":"VLOOKUP(C4917,Referencias!$B$18:$C$34,2,FALSE())","v":{"$error":"#N/A"}},"C"]
[null,null,null,null,null,null,null,{"$f":"VLOOKUP(E4918,Referencias!$B$4:$C$15,2,FALSE())","v":{"$error":"#N/A"}},{"$f":"VLOOKUP(C4918,Referencias!$B$18:$C$34,2,FALSE())","v":{"$error":"#N/A"}},"C"]
[null,null,null,null,null,null,null,{"$f":"VLOOKUP(E4919,Referencias!$B$4:$C$15,2,FALSE())","v":{"$error":"#N/A"}},{"$f":"VLOOKUP(C4919,Referencias!$B$18:$C$34,2,FALSE())","v":{"$error":"#N/A"}},"C"]
[null,null,null,null,null,null,null,{"$f":"VLOOKUP(E4920,Referencias!$B$4:$C$15,2,FALSE())","v":{"$error":"#N/A"}},{"$f":"VLOOKUP(C4920,Referencias!$B$18:$C$34,2,FALSE())","v":{"$error":"#N/A"}},"C"]
[null,null,null,null,null,null,null,{"$f":"VLOOKUP(E4921,Referencias!$B$4:$C$15,2,FALSE())","v":{"$error":"#N/A"}},{"$f":"VLOOKUP(C4921,Referencias!$B$18:$C$34,2,FALSE())","v":{"$error":"#N/A"}},"C"]
[null,null,null,null,null,null,null,{"$f":"VLOOKUP(E4922,Referencias!$B$4:$C$15,2,FALSE())","v":{"$error":"#N/A"}},{"$f":"VLOOKUP(C4922,Referencias!$B$18:$C$34,2,FALSE())","v":{"$error":"#N/A"}},"C"]
[null,null,null,null,null,null,null,{"$f":"VLOOKUP(E4923,Referencias!$B$4:$C$15,2,FALSE())","v":{"$error":"#N/A"}},{"$f":"VLOOKUP(C4923,Referencias!$B$18:$C$34,2,FALSE())","v":{"$error":"#N/A"}},"C"]
[null,null,null,null,null,null,null,{"$f":"VLOOKUP(E4924,Referencias!$B$4:$C$15,2,FALSE())","v":{"$error":"#N/A"}},{"$f":"VLOOKUP(C4924,Referencias!$B$18:$C$34,2,FALSE())","v":{"$error":"#N/A"}},"C"]
[null,null,null,null,null,null,null,{"$f":"VLOOKUP(E4925,Referencias!$B$4:$C$15,2,FALSE())","v":{"$error":"#N/A"}},{"$f":"VLOOKUP(C4925,Referencias!$B$18:$C$34,2,FALSE())","v":{"$error":"#N/A"}},"C"]
[null,null,null,null,null,null,null,{"$f":"VLOOKUP(E4926,Referencias!$B$4:$C$15,2,FALSE())","v":{"$error":"#N/A"}},{"$f":"VLOOKUP(C4926,Referencias!$B$18:$C$34,2,FALSE())","v":{"$error":"#N/A"}},"C"]
[null,null,null,null,null,null,null,{"$f":"VLOOKUP(E4927,Referencias!$B$4:$C$15,2,FALSE())","v":{"$error":"#N/A"}},{"$f":"VLOOKUP(C4927,Referencias!$B$18:$C$34,2,FALSE())","v":{"$error":"#N/A"}},"C"]
[null,null,null,null,null,null,null,{"$f":"VLOOKUP(E4928,Referencias!$B$4:$C$15,2,FALSE())","v":{"$error":"#N/A"}},{"$f":"VLOOKUP(C4928,Referencias!$B$18:$C$34,2,FALSE())","v":{"$error":"#N/A"}},"C"]
[null,null,null,null,null,null,null,{"$f":"VLOOKUP(E4929,Referencias!$B$4:$C$15,2,FALSE())","v":{"$error":"#N/A"}},{"$f":"VLOOKUP(C4929,Referencias!$B$18:$C$34,2,FALSE())","v":{"$error":"#N/A"}},{"$f":"IF(D4929=\"Dama\",\"D\",\"C\")","v":"C"}]
[null,null,null,null,null,null,null,{"$f":"VLOOKUP(E4930,Referencias!$B$4:$C$15,2,FALSE())","v":{"$error":"#N/A"}},{"$f":"VLOOKUP(C4930,Referencias!$B$18:$C$34,2,FALSE())","v":{"$error":"#N/A"}},"C"]
[null,null,null,null,null,null,null,{"$f":"VLOOKUP(E4931,Referencias!$B$4:$C$15,2,FALSE())","v":{"$error":"#N/A"}},{"$f":"VLOOKUP(C4931,Referencias!$B$18:$C$34,2,FALSE())","v":{"$error":"#N/A"}},"C"]
[null,null,null,null,null,null,null,{"$f":"VLOOKUP(E4932,Referencias!$B$4:$C$15,2,FALSE())","v":{"$error":"#N/A"}},{"$f":"VLOOKUP(C4932,Referencias!$B$18:$C$34,2,FALSE())","v":{"$error":"#N/A"}},"C"]
[null,null,null,null,null,null,null,{"$f":"VLOOKUP(E4933,Referencias!$B$4:$C$15,2,FALSE())","v":{"$error":"#N/A"}},{"$f":"VLOOKUP(C4933,Referencias!$B$18:$C$34,2,FALSE())","v":{"$error":"#N/A"}},"C"]
[null,null,null,null,null,null,null,{"$f":"VLOOKUP(E4934,Referencias!$B$4:$C$15,2,FALSE())","v":{"$error":"#N/A"}},{"$f":"VLOOKUP(C4934,Referencias!$B$18:$C$34,2,FALSE())","v":{"$error":"#N/A"}},"C"]
[null,null,null,null,null,null,null,{"$f":"VLOOKUP(E4935,Referencias!$B$4:$C$15,2,FALSE())","v":{"$error":"#N/A"}},{"$f":"VLOOKUP(C4935,Referencias!$B$18:$C$34,2,FALSE())","v":{"$error":"#N/A"}},"C"]
[null,null,null,null,null,null,null,{"$f":"VLOOKUP(E4936,Referencias!$B$4:$C$15,2,FALSE())","v":{"$error":"#N/A"}},{"$f":"VLOOKUP(C4936,Referencias!$B$18:$C$34,2,FALSE())","v":{"$error":"#N/A"}},"C"]
[null,null,null,null,null,null,null,{"$f":"VLOOKUP(E4937,Referencias!$B$4:$C$15,2,FALSE())","v":{"$error":"#N/A"}},{"$f":"VLOOKUP(C4937,Referencias!$B$18:$C$34,2,FALSE())","v":{"$error":"#N/A"}},"C"]
[null,null,null,null,null,null,null,{"$f":"VLOOKUP(E4938,Referencias!$B$4:$C$15,2,FALSE())","v":{"$error":"#N/A"}},{"$f":"VLOOKUP(C4938,Referencias!$B$18:$C$34,2,FALSE())","v":{"$error":"#N/A"}},"C"]
[null,null,null,null,null,null,null,{"$f":"VLOOKUP(E4939,Referencias!$B$4:$C$15,2,FALSE())","v":{"$error":"#N/A"}},{"$f":"VLOOKUP(C4939,Referencias!$B$18:$C$34,2,FALSE())","v":{"$error":"#N/A"}},"C"]
[null,null,null,null,null,null,null,{"$f":"VLOOKUP(E4940,Referencias!$B$4:$C$15,2,FALSE())","v":{"$error":"#N/A"}},{"$f":"VLOOKUP(C4940,Referencias!$B$18:$C$34,2,FALSE())","v":{"$error":"#N/A"}},"C"]
[null,null,null,null,null,null,null,{"$f":"VLOOKUP(E4941,Referencias!$B$4:$C$15,2,FALSE())","v":{"$error":"#N/A"}},{"$f":"VLOOKUP(C4941,Referencias!$B$18:$C$34,2,FALSE())","v":{"$error":"#N/A"}},"C"]
[null,null,null,null,null,null,null,{"$f":"VLOOKUP(E4942,Referencias!$B$4:$C$15,2,FALSE())","v":{"$error":"#N/A"}},{"$f":"VLOOKUP(C4942,Referencias!$B$18:$C$34,2,FALSE())","v":{"$error":"#N/A"}},"C"]
[null,null,null,null,null,null,null,{"$f":"VLOOKUP(E4943,Referencias!$B$4:$C$15,2,FALSE())","v":{"$error":"#N/A"}},{"$f":"VLOOKUP(C4943,Referencias!$B$18:$C$34,2,FALSE())","v":{"$error":"#N/A"}},"C"]
[null,null,null,null,null,null,null,{"$f":"VLOOKUP(E4944,Referencias!$B$4:$C$15,2,FALSE())","v":{"$error":"#N/A"}},{"$f":"VLOOKUP(C4944,Referencias!$B$18:$C$34,2,FALSE())","v":{"$error":"#N/A"}},"C"]
[null,null,null,null,null,null,null,{"$f":"VLOOKUP(E4945,Referencias!$B$4:$C$15,2,FALSE())","v":{"$error":"#N/A"}},{"$f":"VLOOKUP(C4945,Referencias!$B$18:$C$34,2,FALSE())","v":{"$error":"#N/A"}},"C"]
[null,null,null,null,null,null,null,{"$f":"VLOOKUP(E4946,Referencias!$B$4:$C$15,2,FALSE())","v":{"$error":"#N/A"}},{"$f":"VLOOKUP(C4946,Referencias!$B$18:$C$34,2,FALSE())","v":{"$error":"#N/A"}},"C"]
[null,null,null,null,null,null,null,{"$f":"VLOOKUP(E4947,Referencias!$B$4:$C$15,2,FALSE())","v":{"$error":"#N/A"}},{"$f":"VLOOKUP(C4947,Referencias!$B$18:$C$34,2,FALSE())","v":{"$error":"#N/A"}},"C"]
[null,null,null,null,null,null,null,{"$f":"VLOOKUP(E4948,Referencias!$B$4:$C$15,2,FALSE())","v":{"$error":"#N/A"}},{"$f":"VLOOKUP(C4948,Referencias!$B$18:$C$34,2,FALSE())","v":{"$error":"#N/A"}},"C"]
[null,null,null,null,null,null,null,{"$f":"VLOOKUP(E4949,Referencias!$B$4:$C$15,2,FALSE())","v":{"$error":"#N/A"}},{"$f":"VLOOKUP(C4949,Referencias!$B$18:$C$34,2,FALSE())","v":{"$error":"#N/A"}},"C"]
[null,null,null,null,null,null,null,{"$f":"VLOOKUP(E4950,Referencias!$B$4:$C$15,2,FALSE())","v":{"$error":"#N/A"}},{"$f":"VLOOKUP(C4950,Referencias!$B$18:$C$34,2,FALSE())","v":{"$error":"#N/A"}},"C"]
[null,null,null,null,null,null,null,{"$f":"VLOOKUP(E4951,Referencias!$B$4:$C$15,2,FALSE())","v":{"$error":"#N/A"}},{"$f":"VLOOKUP(C4951,Referencias!$B$18:$C$34,2,FALSE())","v":{"$error":"#N/A"}},"C"]
[null,null,null,null,null,null,null,{"$f":"VLOOKUP(E4952,Referencias!$B$4:$C$15,2,FALSE())","v":{"$error":"#N/A"}},{"$f":"VLOOKUP(C4952,Referencias!$B$18:$C$34,2,FALSE())","v":{"$error":"#N/A"}},"C"]
[null,null,null,null,null,null,null,{"$f":"VLOOKUP(E4953,Referencias!$B$4:$C$15,2,FALSE())","v":{"$error":"#N/A"}},{"$f":"VLOOKUP(C4953,Referencias!$B$18:$C$34,2,FALSE())","v":{"$error":"#N/A"}},"C"]
[null,null,null,null,null,null,null,{"$f":"VLOOKUP(E4954,Referencias!$B$4:$C$15,2,FALSE())","v":{"$error":"#N/A"}},{"$f":"VLOOKUP(C4954,Referencias!$B$18:$C$34,2,FALSE())","v":{"$error":"#N/A"}},"C"]
[null,null,null,null,null,null,null,{"$f":"VLOOKUP(E4955,Referencias!$B$4:$C$15,2,FALSE())","v":{"$error":"#N/A"}},{"$f":"VLOOKUP(C4955,Referencias!$B$18:$C$34,2,FALSE())","v":{"$error":"#N/A"}},"C"]
[null,null,null,null,null,null,null,{"$f":"VLOOKUP(E4956,Referencias!$B$4:$C$15,2,FALSE())","v":{"$error":"#N/A"}},{"$f":"VLOOKUP(C4956,Referencias!$B$18:$C$34,2,FALSE())","v":{"$error":"#N/A"}},"C"]
[null,null,null,null,null,null,null,{"$f":"VLOOKUP(E4957,Referencias!$B$4:$C$15,2,FALSE())","v":{"$error":"#N/A"}},{"$f":"VLOOKUP(C4957,Referencias!$B$18:$C$34,2,FALSE())","v":{"$error":"#N/A"}},"C"]
[null,null,null,null,null,null,null,{"$f":"VLOOKUP(E4958,Referencias!$B$4:$C$15,2,FALSE())","v":{"$error":"#N/A"}},{"$f":"VLOOKUP(C4958,Referencias!$B$18:$C$34,2,FALSE())","v":{"$error":"#N/A"}},"C"]
[null,null,null,null,null,null,null,{"$f":"VLOOKUP(E4959,Referencias!$B$4:$C$15,2,FALSE())","v":{"$error":"#N/A"}},{"$f":"VLOOKUP(C4959,Referencias!$B$18:$C$34,2,FALSE())","v":{"$error":"#N/A"}},"C"]
[null,null,null,null,null,null,null,{"$f":"VLOOKUP(E4960,Referencias!$B$4:$C$15,2,FALSE())","v":{"$error":"#N/A"}},{"$f":"VLOOKUP(C4960,Referencias!$B$18:$C$34,2,FALSE())","v":{"$error":"#N/A"}},"C"]
[null,null,null,null,null,null,null,{"$f":"VLOOKUP(E4961,Referencias!$B$4:$C$15,2,FALSE())","v":{"$error":"#N/A"}},{"$f":"VLOOKUP(C4961,Referencias!$B$18:$C$34,2,FALSE())","v":{"$error":"#N/A"}},"C"]
[null,null,null,null,null,null,null,{"$f":"VLOOKUP(E4962,Referencias!$B$4:$C$15,2,FALSE())","v":{"$error":"#N/A"}},{"$f":"VLOOKUP(C4962,Referencias!$B$18:$C$34,2,FALSE())","v":{"$error":"#N/A"}},"C"]
[null,null,null,null,null,null,null,{"$f":"VLOOKUP(E4963,Referencias!$B$4:$C$15,2,FALSE())","v":{"$error":"#N/A"}},{"$f":"VLOOKUP(C4963,Referencias!$B$18:$C$34,2,FALSE())","v":{"$error":"#N/A"}},"C"]
[null,null,null,null,null,null,null,{"$f":"VLOOKUP(E4964,Referencias!$B$4:$C$15,2,FALSE())","v":{"$error":"#N/A"}},{"$f":"VLOOKUP(C4964,Referencias!$B$18:$C$34,2,FALSE())","v":{"$error":"#N/A"}},"C"]
[null,null,null,null,null,null,null,{"$f":"VLOOKUP(E4965,Referencias!$B$4:$C$15,2,FALSE())","v":{"$error":"#N/A"}},{"$f":"VLOOKUP(C4965,Referencias!$B$18:$C$34,2,FALSE())","v":{"$error":"#N/A"}},"C"]
[null,null,null,null,null,null,null,{"$f":"VLOOKUP(E4966,Referencias!$B$4:$C$15,2,FALSE())","v":{"$error":"#N/A"}},{"$f":"VLOOKUP(C4966,Referencias!$B$18:$C$34,2,FALSE())","v":{"$error":"#N/A"}},"C"]
[null,null,null,null,null,null,null,{"$f":"VLOOKUP(E4967,Referencias!$B$4:$C$15,2,FALSE())","v":{"$error":"#N/A"}},{"$f":"VLOOKUP(C4967,Referencias!$B$18:$C$34,2,FALSE())","v":{"$error":"#N/A"}},"C"]
[null,null,null,null,null,null,null,{"$f":"VLOOKUP(E4968,Referencias!$B$4:$C$15,2,FALSE())","v":{"$error":"#N/A"}},{"$f":"VLOOKUP(C4968,Referencias!$B$18:$C$34,2,FALSE())","v":{"$error":"#N/A"}},"C"]
[null,null,null,null,null,null,null,{"$f":"VLOOKUP(E4969,Referencias!$B$4:$C$15,2,FALSE())","v":{"$error":"#N/A"}},{"$f":"VLOOKUP(C4969,Referencias!$B$18:$C$34,2,FALSE())","v":{"$error":"#N/A"}},"C"]
[null,null,null,null,null,null,null,{"$f":"VLOOKUP(E4970,Referencias!$B$4:$C$15,2,FALSE())","v":{"$error":"#N/A"}},{"$f":"VLOOKUP(C4970,Referencias!$B$18:$C$34,2,FALSE())","v":{"$error":"#N/A"}},"C"]
[null,null,null,null,null,null,null,{"$f":"VLOOKUP(E4971,Referencias!$B$4:$C$15,2,FALSE())","v":{"$error":"#N/A"}},{"$f":"VLOOKUP(C4971,Referencias!$B$18:$C$34,2,FALSE())","v":{"$error":"#N/A"}},"C"]
[null,null,null,null,null,null,null,{"$f":"VLOOKUP(E4972,Referencias!$B$4:$C$15,2,FALSE())","v":{"$error":"#N/A"}},{"$f":"VLOOKUP(C4972,Referencias!$B$18:$C$34,2,FALSE())","v":{"$error":"#N/A"}},"C"]
[null,null,null,null,null,null,null,{"$f":"VLOOKUP(E4973,Referencias!$B$4:$C$15,2,FALSE())","v":{"$error":"#N/A"}},{"$f":"VLOOKUP(C4973,Referencias!$B$18:$C$34,2,FALSE())","v":{"$error":"#N/A"}},"C"]
[null,null,null,null,null,null,null,{"$f":"VLOOKUP(E4974,Referencias!$B$4:$C$15,2,FALSE())","v":{"$error":"#N/A"}},{"$f":"VLOOKUP(C4974,Referencias!$B$18:$C$34,2,FALSE())","v":{"$error":"#N/A"}},"C"]
[null,null,null,null,null,null,null,{"$f":"VLOOKUP(E4975,Referencias!$B$4:$C$15,2,FALSE())","v":{"$error":"#N/A"}},{"$f":"VLOOKUP(C4975,Referencias!$B$18:$C$34,2,FALSE())","v":{"$error":"#N/A"}},"C"]
[null,null,null,null,null,null,null,{"$f":"VLOOKUP(E4976,Referencias!$B$4:$C$15,2,FALSE())","v":{"$error":"#N/A"}},{"$f":"VLOOKUP(C4976,Referencias!$B$18:$C$34,2,FALSE())","v":{"$error":"#N/A"}},"C"]
[null,null,null,null,null,null,null,{"$f":"VLOOKUP(E4977,Referencias!$B$4:$C$15,2,FALSE())","v":{"$error":"#N/A"}},{"$f":"VLOOKUP(C4977,Referencias!$B$18:$C$34,2,FALSE())","v":{"$error":"#N/A"}},"C"]
[null,null,null,null,null,null,null,{"$f":"VLOOKUP(E4978,Referencias!$B$4:$C$15,2,FALSE())","v":{"$error":"#N/A"}},{"$f":"VLOOKUP(C4978,Referencias!$B$18:$C$34,2,FALSE())","v":{"$error":"#N/A"}},"C"]
[null,null,null,null,null,null,null,{"$f":"VLOOKUP(E4979,Referencias!$B$4:$C$15,2,FALSE())","v":{"$error":"#N/A"}},{"$f":"VLOOKUP(C4979,Referencias!$B$18:$C$34,2,FALSE())","v":{"$error":"#N/A"}},"C"]
[null,null,null,null,null,null,null,{"$f":"VLOOKUP(E4980,Referencias!$B$4:$C$15,2,FALSE())","v":{"$error":"#N/A"}},{"$f":"VLOOKUP(C4980,Referencias!$B$18:$C$34,2,FALSE())","v":{"$error":"#N/A"}},"C"]
[null,null,null,null,null,null,null,{"$f":"VLOOKUP(E4981,Referencias!$B$4:$C$15,2,FALSE())","v":{"$error":"#N/A"}},{"$f":"VLOOKUP(C4981,Referencias!$B$18:$C$34,2,FALSE())","v":{"$error":"#N/A"}},"C"]
[null,null,null,null,null,null,null,{"$f":"VLOOKUP(E4982,Referencias!$B$4:$C$15,2,FALSE())","v":{"$error":"#N/A"}},{"$f":"VLOOKUP(C4982,Referencias!$B$18:$C$34,2,FALSE())","v":{"$error":"#N/A"}},"C"]
[null,null,null,null,null,null,null,{"$f":"VLOOKUP(E4983,Referencias!$B$4:$C$15,2,FALSE())","v":{"$error":"#N/A"}},{"$f":"VLOOKUP(C4983,Referencias!$B$18:$C$34,2,FALSE())","v":{"$error":"#N/A"}},"C"]
[null,null,null,null,null,null,null,{"$f":"VLOOKUP(E4984,Referencias!$B$4:$C$15,2,FALSE())","v":{"$error":"#N/A"}},{"$f":"VLOOKUP(C4984,Referencias!$B$18:$C$34,2,FALSE())","v":{"$error":"#N/A"}},"C"]
[null,null,null,null,null,null,null,{"$f":"VLOOKUP(E4985,Referencias!$B$4:$C$15,2,FALSE())","v":{"$error":"#N/A"}},{"$f":"VLOOKUP(C4985,Referencias!$B$18:$C$34,2,FALSE())","v":{"$error":"#N/A"}},"C"]
[null,null,null,null,null,null,null,{"$f":"VLOOKUP(E4986,Referencias!$B$4:$C$15,2,FALSE())","v":{"$error":"#N/A"}},{"$f":"VLOOKUP(C4986,Referencias!$B$18:$C$34,2,FALSE())","v":{"$error":"#N/A"}},"C"]
[null,null,null,null,null,null,null,{"$f":"VLOOKUP(E4987,Referencias!$B$4:$C$15,2,FALSE())","v":{"$error":"#N/A"}},{"$f":"VLOOKUP(C4987,Referencias!$B$18:$C$34,2,FALSE())","v":{"$error":"#N/A"}},"C"]
[null,null,null,null,null,null,null,{"$f":"VLOOKUP(E4988,Referencias!$B$4:$C$15,2,FALSE())","v":{"$error":"#N/A"}},{"$f":"VLOOKUP(C4988,Referencias!$B$18:$C$34,2,FALSE())","v":{"$error":"#N/A"}},"C"]
[null,null,null,null,null,null,null,{"$f":"VLOOKUP(E4989,Referencias!$B$4:$C$15,2,FALSE())","v":{"$error":"#N/A"}},{"$f":"VLOOKUP(C4989,Referencias!$B$18:$C$34,2,FALSE())","v":{"$error":"#N/A"}},"C"]
[null,null,null,null,null,null,null,{"$f":"VLOOKUP(E4990,Referencias!$B$4:$C$15,2,FALSE())","v":{"$error":"#N/A"}},{"$f":"VLOOKUP(C4990,Referencias!$B$18:$C$34,2,FALSE())","v":{"$error":"#N/A"}},"C"]
[null,null,null,null,null,null,null,{"$f":"VLOOKUP(E4991,Referencias!$B$4:$C$15,2,FALSE())","v":{"$error":"#N/A"}},{"$f":"VLOOKUP(C4991,Referencias!$B$18:$C$34,2,FALSE())","v":{"$error":"#N/A"}},"C"]
[null,null,null,null,null,null,null,{"$f":"VLOOKUP(E4992,Referencias!$B$4:$C$15,2,FALSE())","v":{"$error":"#N/A"}},{"$f":"VLOOKUP(C4992,Referencias!$B$18:$C$34,2,FALSE())","v":{"$error":"#N/A"}},"C"]
[null,null,null,null,null,null,null,{"$f":"VLOOKUP(E4993,Referencias!$B$4:$C$15,2,FALSE())","v":{"$error":"#N/A"}},{"$f":"VLOOKUP(C4993,Referencias!$B$18:$C$34,2,FALSE())","v":{"$error":"#N/A"}},{"$f":"IF(D4993=\"Dama\",\"D\",\"C\")","v":"C"}]
[null,null,null,null,null,null,null,{"$f":"VLOOKUP(E4994,Referencias!$B$4:$C$15,2,FALSE())","v":{"$error":"#N/A"}},{"$f":"VLOOKUP(C4994,Referencias!$B$18:$C$34,2,FALSE())","v":{"$error":"#N/A"}},"C"]
[null,null,null,null,null,null,null,{"$f":"VLOOKUP(E4995,Referencias!$B$4:$C$15,2,FALSE())","v":{"$error":"#N/A"}},{"$f":"VLOOKUP(C4995,Referencias!$B$18:$C$34,2,FALSE())","v":{"$error":"#N/A"}},"C"]
[null,null,null,null,null,null,null,{"$f":"VLOOKUP(E4996,Referencias!$B$4:$C$15,2,FALSE())","v":{"$error":"#N/A"}},{"$f":"VLOOKUP(C4996,Referencias!$B$18:$C$34,2,FALSE())","v":{"$error":"#N/A"}},"C"]
[null,null,null,null,null,null,null,{"$f":"VLOOKUP(E4997,Referencias!$B$4:$C$15,2,FALSE())","v":{"$error":"#N/A"}},{"$f":"VLOOKUP(C4997,Referencias!$B$18:$C$34,2,FALSE())","v":{"$error":"#N/A"}},"C"]
[null,null,null,null,null,null,null,{"$f":"VLOOKUP(E4998,Referencias!$B$4:$C$15,2,FALSE())","v":{"$error":"#N/A"}},{"$f":"VLOOKUP(C4998,Referencias!$B$18:$C$34,2,FALSE())","v":{"$error":"#N/A"}},"C"]
[null,null,null,null,null,null,null,{"$f":"VLOOKUP(E4999,Referencias!$B$4:$C$15,2,FALSE())","v":{"$error":"#N/A"}},{"$f":"VLOOKUP(C4999,Referencias!$B$18:$C$34,2,FALSE())","v":{"$error":"#N/A"}},"C"]
[null,null,null,null,null,null,null,{"$f":"VLOOKUP(E5000,Referencias!$B$4:$C$15,2,FALSE())","v":{"$error":"#N/A"}},{"$f":"VLOOKUP(C5000,Referencias!$B$18:$C$34,2,FALSE())","v":{"$error":"#N/A"}},"C"]
[null,null,null,null,null,null,null,{"$f":"VLOOKUP(E5001,Referencias!$B$4:$C$15,2,FALSE())","v":{"$error":"#N/A"}},{"$f":"VLOOKUP(C5001,Referencias!$B$18:$C$34,2,FALSE())","v":{"$error":"#N/A"}},"C"]
[null,null,null,null,null,null,null,{"$f":"VLOOKUP(E5002,Referencias!$B$4:$C$15,2,FALSE())","v":{"$error":"#N/A"}},{"$f":"VLOOKUP(C5002,Referencias!$B$18:$C$34,2,FALSE())","v":{"$error":"#N/A"}},"C"]
[null,null,null,null,null,null,null,{"$f":"VLOOKUP(E5003,Referencias!$B$4:$C$15,2,FALSE())","v":{"$error":"#N/A"}},{"$f":"VLOOKUP(C5003,Referencias!$B$18:$C$34,2,FALSE())","v":{"$error":"#N/A"}},"C"]
[null,null,null,null,null,null,null,{"$f":"VLOOKUP(E5004,Referencias!$B$4:$C$15,2,FALSE())","v":{"$error":"#N/A"}},{"$f":"VLOOKUP(C5004,Referencias!$B$18:$C$34,2,FALSE())","v":{"$error":"#N/A"}},"C"]
[null,null,null,null,null,null,null,{"$f":"VLOOKUP(E5005,Referencias!$B$4:$C$15,2,FALSE())","v":{"$error":"#N/A"}},{"$f":"VLOOKUP(C5005,Referencias!$B$18:$C$34,2,FALSE())","v":{"$error":"#N/A"}},"C"]
[null,null,null,null,null,null,null,{"$f":"VLOOKUP(E5006,Referencias!$B$4:$C$15,2,FALSE())","v":{"$error":"#N/A"}},{"$f":"VLOOKUP(C5006,Referencias!$B$18:$C$34,2,FALSE())","v":{"$error":"#N/A"}},"C"]
[null,null,null,null,null,null,null,{"$f":"VLOOKUP(E5007,Referencias!$B$4:$C$15,2,FALSE())","v":{"$error":"#N/A"}},{"$f":"VLOOKUP(C5007,Referencias!$B$18:$C$34,2,FALSE())","v":{"$error":"#N/A"}},"C"]
[null,null,null,null,null,null,null,{"$f":"VLOOKUP(E5008,Referencias!$B$4:$C$15,2,FALSE())","v":{"$error":"#N/A"}},{"$f":"VLOOKUP(C5008,Referencias!$B$18:$C$34,2,FALSE())","v":{"$error":"#N/A"}},"C"]
[null,null,null,null,null,null,null,{"$f":"VLOOKUP(E5009,Referencias!$B$4:$C$15,2,FALSE())","v":{"$error":"#N/A"}},{"$f":"VLOOKUP(C5009,Referencias!$B$18:$C$34,2,FALSE())","v":{"$error":"#N/A"}},"C"]
[null,null,null,null,null,null,null,{"$f":"VLOOKUP(E5010,Referencias!$B$4:$C$15,2,FALSE())","v":{"$error":"#N/A"}},{"$f":"VLOOKUP(C5010,Referencias!$B$18:$C$34,2,FALSE())","v":{"$error":"#N/A"}},"C"]
[null,null,null,null,null,null,null,{"$f":"VLOOKUP(E5011,Referencias!$B$4:$C$15,2,FALSE())","v":{"$error":"#N/A"}},{"$f":"VLOOKUP(C5011,Referencias!$B$18:$C$34,2,FALSE())","v":{"$error":"#N/A"}},"C"]
[null,null,null,null,null,null,null,{"$f":"VLOOKUP(E5012,Referencias!$B$4:$C$15,2,FALSE())","v":{"$error":"#N/A"}},{"$f":"VLOOKUP(C5012,Referencias!$B$18:$C$34,2,FALSE())","v":{"$error":"#N/A"}},"C"]
[null,null,null,null,null,null,null,{"$f":"VLOOKUP(E5013,Referencias!$B$4:$C$15,2,FALSE())","v":{"$error":"#N/A"}},{"$f":"VLOOKUP(C5013,Referencias!$B$18:$C$34,2,FALSE())","v":{"$error":"#N/A"}},"C"]
[null,null,null,null,null,null,null,{"$f":"VLOOKUP(E5014,Referencias!$B$4:$C$15,2,FALSE())","v":{"$error":"#N/A"}},{"$f":"VLOOKUP(C5014,Referencias!$B$18:$C$34,2,FALSE())","v":{"$error":"#N/A"}},"C"]
[null,null,null,null,null,null,null,{"$f":"VLOOKUP(E5015,Referencias!$B$4:$C$15,2,FALSE())","v":{"$error":"#N/A"}},{"$f":"VLOOKUP(C5015,Referencias!$B$18:$C$34,2,FALSE())","v":{"$error":"#N/A"}},"C"]
[null,null,null,null,null,null,null,{"$f":"VLOOKUP(E5016,Referencias!$B$4:$C$15,2,FALSE())","v":{"$error":"#N/A"}},{"$f":"VLOOKUP(C5016,Referencias!$B$18:$C$34,2,FALSE())","v":{"$error":"#N/A"}},"C"]
[null,null,null,null,null,null,null,{"$f":"VLOOKUP(E5017,Referencias!$B$4:$C$15,2,FALSE())","v":{"$error":"#N/A"}},{"$f":"VLOOKUP(C5017,Referencias!$B$18:$C$34,2,FALSE())","v":{"$error":"#N/A"}},"C"]
[null,null,null,null,null,null,null,{"$f":"VLOOKUP(E5018,Referencias!$B$4:$C$15,2,FALSE())","v":{"$error":"#N/A"}},{"$f":"VLOOKUP(C5018,Referencias!$B$18:$C$34,2,FALSE())","v":{"$error":"#N/A"}},"C"]
[null,null,null,null,null,null,null,{"$f":"VLOOKUP(E5019,Referencias!$B$4:$C$15,2,FALSE())","v":{"$error":"#N/A"}},{"$f":"VLOOKUP(C5019,Referencias!$B$18:$C$34,2,FALSE())","v":{"$error":"#N/A"}},"C"]
[null,null,null,null,null,null,null,{"$f":"VLOOKUP(E5020,Referencias!$B$4:$C$15,2,FALSE())","v":{"$error":"#N/A"}},{"$f":"VLOOKUP(C5020,Referencias!$B$18:$C$34,2,FALSE())","v":{"$error":"#N/A"}},"C"]
[null,null,null,null,null,null,null,{"$f":"VLOOKUP(E5021,Referencias!$B$4:$C$15,2,FALSE())","v":{"$error":"#N/A"}},{"$f":"VLOOKUP(C5021,Referencias!$B$18:$C$34,2,FALSE())","v":{"$error":"#N/A"}},"C"]
[null,null,null,null,null,null,null,{"$f":"VLOOKUP(E5022,Referencias!$B$4:$C$15,2,FALSE())","v":{"$error":"#N/A"}},{"$f":"VLOOKUP(C5022,Referencias!$B$18:$C$34,2,FALSE())","v":{"$error":"#N/A"}},"C"]
[null,null,null,null,null,null,null,{"$f":"VLOOKUP(E5023,Referencias!$B$4:$C$15,2,FALSE())","v":{"$error":"#N/A"}},{"$f":"VLOOKUP(C5023,Referencias!$B$18:$C$34,2,FALSE())","v":{"$error":"#N/A"}},"C"]
[null,null,null,null,null,null,null,{"$f":"VLOOKUP(E5024,Referencias!$B$4:$C$15,2,FALSE())","v":{"$error":"#N/A"}},{"$f":"VLOOKUP(C5024,Referencias!$B$18:$C$34,2,FALSE())","v":{"$error":"#N/A"}},"C"]
[null,null,null,null,null,null,null,{"$f":"VLOOKUP(E5025,Referencias!$B$4:$C$15,2,FALSE())","v":{"$error":"#N/A"}},{"$f":"VLOOKUP(C5025,Referencias!$B$18:$C$34,2,FALSE())","v":{"$error":"#N/A"}},"C"]
[null,null,null,null,null,null,null,{"$f":"VLOOKUP(E5026,Referencias!$B$4:$C$15,2,FALSE())","v":{"$error":"#N/A"}},{"$f":"VLOOKUP(C5026,Referencias!$B$18:$C$34,2,FALSE())","v":{"$error":"#N/A"}},"C"]
[null,null,null,null,null,null,null,{"$f":"VLOOKUP(E5027,Referencias!$B$4:$C$15,2,FALSE())","v":{"$error":"#N/A"}},{"$f":"VLOOKUP(C5027,Referencias!$B$18:$C$34,2,FALSE())","v":{"$error":"#N/A"}},"C"]
[null,null,null,null,null,null,null,{"$f":"VLOOKUP(E5028,Referencias!$B$4:$C$15,2,FALSE())","v":{"$error":"#N/A"}},{"$f":"VLOOKUP(C5028,Referencias!$B$18:$C$34,2,FALSE())","v":{"$error":"#N/A"}},"C"]
[null,null,null,null,null,null,null,{"$f":"VLOOKUP(E5029,Referencias!$B$4:$C$15,2,FALSE())","v":{"$error":"#N/A"}},{"$f":"VLOOKUP(C5029,Referencias!$B$18:$C$34,2,FALSE())","v":{"$error":"#N/A"}},"C"]
[null,null,null,null,null,null,null,{"$f":"VLOOKUP(E5030,Referencias!$B$4:$C$15,2,FALSE())","v":{"$error":"#N/A"}},{"$f":"VLOOKUP(C5030,Referencias!$B$18:$C$34,2,FALSE())","v":{"$error":"#N/A"}},"C"]
[null,null,null,null,null,null,null,{"$f":"VLOOKUP(E5031,Referencias!$B$4:$C$15,2,FALSE())","v":{"$error":"#N/A"}},{"$f":"VLOOKUP(C5031,Referencias!$B$18:$C$34,2,FALSE())","v":{"$error":"#N/A"}},"C"]
[null,null,null,null,null,null,null,{"$f":"VLOOKUP(E5032,Referencias!$B$4:$C$15,2,FALSE())","v":{"$error":"#N/A"}},{"$f":"VLOOKUP(C5032,Referencias!$B$18:$C$34,2,FALSE())","v":{"$error":"#N/A"}},"C"]
[null,null,null,null,null,null,null,{"$f":"VLOOKUP(E5033,Referencias!$B$4:$C$15,2,FALSE())","v":{"$error":"#N/A"}},{"$f":"VLOOKUP(C5033,Referencias!$B$18:$C$34,2,FALSE())","v":{"$error":"#N/A"}},"C"]
[null,null,null,null,null,null,null,{"$f":"VLOOKUP(E5034,Referencias!$B$4:$C$15,2,FALSE())","v":{"$error":"#N/A"}},{"$f":"VLOOKUP(C5034,Referencias!$B$18:$C$34,2,FALSE())","v":{"$error":"#N/A"}},"C"]
[null,null,null,null,null,null,null,{"$f":"VLOOKUP(E5035,Referencias!$B$4:$C$15,2,FALSE())","v":{"$error":"#N/A"}},{"$f":"VLOOKUP(C5035,Referencias!$B$18:$C$34,2,FALSE())","v":{"$error":"#N/A"}},"C"]
[null,null,null,null,null,null,null,{"$f":"VLOOKUP(E5036,Referencias!$B$4:$C$15,2,FALSE())","v":{"$error":"#N/A"}},{"$f":"VLOOKUP(C5036,Referencias!$B$18:$C$34,2,FALSE())","v":{"$error":"#N/A"}},"C"]
[null,null,null,null,null,null,null,{"$f":"VLOOKUP(E5037,Referencias!$B$4:$C$15,2,FALSE())","v":{"$error":"#N/A"}},{"$f":"VLOOKUP(C5037,Referencias!$B$18:$C$34,2,FALSE())","v":{"$error":"#N/A"}},"C"]
[null,null,null,null,null,null,null,{"$f":"VLOOKUP(E5038,Referencias!$B$4:$C$15,2,FALSE())","v":{"$error":"#N/A"}},{"$f":"VLOOKUP(C5038,Referencias!$B$18:$C$34,2,FALSE())","v":{"$error":"#N/A"}},"C"]
[null,null,null,null,null,null,null,{"$f":"VLOOKUP(E5039,Referencias!$B$4:$C$15,2,FALSE())","v":{"$error":"#N/A"}},{"$f":"VLOOKUP(C5039,Referencias!$B$18:$C$34,2,FALSE())","v":{"$error":"#N/A"}},"C"]
[null,null,null,null,null,null,null,{"$f":"VLOOKUP(E5040,Referencias!$B$4:$C$15,2,FALSE())","v":{"$error":"#N/A"}},{"$f":"VLOOKUP(C5040,Referencias!$B$18:$C$34,2,FALSE())","v":{"$error":"#N/A"}},"C"]
[null,null,null,null,null,null,null,{"$f":"VLOOKUP(E5041,Referencias!$B$4:$C$15,2,FALSE())","v":{"$error":"#N/A"}},{"$f":"VLOOKUP(C5041,Referencias!$B$18:$C$34,2,FALSE())","v":{"$error":"#N/A"}},"C"]
[null,null,null,null,null,null,null,{"$f":"VLOOKUP(E5042,Referencias!$B$4:$C$15,2,FALSE())","v":{"$error":"#N/A"}},{"$f":"VLOOKUP(C5042,Referencias!$B$18:$C$34,2,FALSE())","v":{"$error":"#N/A"}},"C"]
[null,null,null,null,null,null,null,{"$f":"VLOOKUP(E5043,Referencias!$B$4:$C$15,2,FALSE())","v":{"$error":"#N/A"}},{"$f":"VLOOKUP(C5043,Referencias!$B$18:$C$34,2,FALSE())","v":{"$error":"#N/A"}},"C"]
[null,null,null,null,null,null,null,{"$f":"VLOOKUP(E5044,Referencias!$B$4:$C$15,2,FALSE())","v":{"$error":"#N/A"}},{"$f":"VLOOKUP(C5044,Referencias!$B$18:$C$34,2,FALSE())","v":{"$error":"#N/A"}},"C"]
[null,null,null,null,null,null,null,{"$f":"VLOOKUP(E5045,Referencias!$B$4:$C$15,2,FALSE())","v":{"$error":"#N/A"}},{"$f":"VLOOKUP(C5045,Referencias!$B$18:$C$34,2,FALSE())","v":{"$error":"#N/A"}},"C"]
[null,null,null,null,null,null,null,{"$f":"VLOOKUP(E5046,Referencias!$B$4:$C$15,2,FALSE())","v":{"$error":"#N/A"}},{"$f":"VLOOKUP(C5046,Referencias!$B$18:$C$34,2,FALSE())","v":{"$error":"#N/A"}},"C"]
[null,null,null,null,null,null,null,{"$f":"VLOOKUP(E5047,Referencias!$B$4:$C$15,2,FALSE())","v":{"$error":"#N/A"}},{"$f":"VLOOKUP(C5047,Referencias!$B$18:$C$34,2,FALSE())","v":{"$error":"#N/A"}},"C"]
[null,null,null,null,null,null,null,{"$f":"VLOOKUP(E5048,Referencias!$B$4:$C$15,2,FALSE())","v":{"$error":"#N/A"}},{"$f":"VLOOKUP(C5048,Referencias!$B$18:$C$34,2,FALSE())","v":{"$error":"#N/A"}},"C"]
[null,null,null,null,null,null,null,{"$f":"VLOOKUP(E5049,Referencias!$B$4:$C$15,2,FALSE())","v":{"$error":"#N/A"}},{"$f":"VLOOKUP(C5049,Referencias!$B$18:$C$34,2,FALSE())","v":{"$error":"#N/A"}},"C"]
[null,null,null,null,null,null,null,{"$f":"VLOOKUP(E5050,Referencias!$B$4:$C$15,2,FALSE())","v":{"$error":"#N/A"}},{"$f":"VLOOKUP(C5050,Referencias!$B$18:$C$34,2,FALSE())","v":{"$error":"#N/A"}},"C"]
[null,null,null,null,null,null,null,{"$f":"VLOOKUP(E5051,Referencias!$B$4:$C$15,2,FALSE())","v":{"$error":"#N/A"}},{"$f":"VLOOKUP(C5051,Referencias!$B$18:$C$34,2,FALSE())","v":{"$error":"#N/A"}},"C"]
[null,null,null,null,null,null,null,{"$f":"VLOOKUP(E5052,Referencias!$B$4:$C$15,2,FALSE())","v":{"$error":"#N/A"}},{"$f":"VLOOKUP(C5052,Referencias!$B$18:$C$34,2,FALSE())","v":{"$error":"#N/A"}},"C"]
[null,null,null,null,null,null,null,{"$f":"VLOOKUP(E5053,Referencias!$B$4:$C$15,2,FALSE())","v":{"$error":"#N/A"}},{"$f":"VLOOKUP(C5053,Referencias!$B$18:$C$34,2,FALSE())","v":{"$error":"#N/A"}},"C"]
[null,null,null,null,null,null,null,{"$f":"VLOOKUP(E5054,Referencias!$B$4:$C$15,2,FALSE())","v":{"$error":"#N/A"}},{"$f":"VLOOKUP(C5054,Referencias!$B$18:$C$34,2,FALSE())","v":{"$error":"#N/A"}},"C"]
[null,null,null,null,null,null,null,{"$f":"VLOOKUP(E5055,Referencias!$B$4:$C$15,2,FALSE())","v":{"$error":"#N/A"}},{"$f":"VLOOKUP(C5055,Referencias!$B$18:$C$34,2,FALSE())","v":{"$error":"#N/A"}},"C"]
[null,null,null,null,null,null,null,{"$f":"VLOOKUP(E5056,Referencias!$B$4:$C$15,2,FALSE())","v":{"$error":"#N/A"}},{"$f":"VLOOKUP(C5056,Referencias!$B$18:$C$34,2,FALSE())","v":{"$error":"#N/A"}},"C"]
[null,null,null,null,null,null,null,{"$f":"VLOOKUP(E5057,Referencias!$B$4:$C$15,2,FALSE())","v":{"$error":"#N/A"}},{"$f":"VLOOKUP(C5057,Referencias!$B$18:$C$34,2,FALSE())","v":{"$error":"#N/A"}},"C"]
[null,null,null,null,null,null,null,{"$f":"VLOOKUP(E5058,Referencias!$B$4:$C$15,2,FALSE())","v":{"$error":"#N/A"}},{"$f":"VLOOKUP(C5058,Referencias!$B$18:$C$34,2,FALSE())","v":{"$error":"#N/A"}},"C"]
[null,null,null,null,null,null,null,{"$f":"VLOOKUP(E5059,Referencias!$B$4:$C$15,2,FALSE())","v":{"$error":"#N/A"}},{"$f":"VLOOKUP(C5059,Referencias!$B$18:$C$34,2,FALSE())","v":{"$error":"#N/A"}},"C"]
[null,null,null,null,null,null,null,{"$f":"VLOOKUP(E5060,Referencias!$B$4:$C$15,2,FALSE())","v":{"$error":"#N/A"}},{"$f":"VLOOKUP(C5060,Referencias!$B$18:$C$34,2,FALSE())","v":{"$error":"#N/A"}},"C"]
[null,null,null,null,null,null,null,{"$f":"VLOOKUP(E5061,Referencias!$B$4:$C$15,2,FALSE())","v":{"$error":"#N/A"}},{"$f":"VLOOKUP(C5061,Referencias!$B$18:$C$34,2,FALSE())","v":{"$error":"#N/A"}},"C"]

{"sheet":"Referencias","index":2,"n_rows":34,"n_cols":3,"rows_kept":34,"cut":false,"hidden":true,"merged":[]}
[]
[]
[null,"CATEGORIA DE JUEGO"]
[null,"Maestro Mundial","MM"]
[null,"Maestro Nacional","MN"]
[null,"Primera Picas","1P"]
[null,"Primera Corazón","1C"]
[null,"Primera Diamante","1D"]
[null,"Segunda Picas","2P"]
[null,"Segunda Corazón","2C"]
[null,"Segunda Diamante","2D"]
[null,"Tercera Picas","3P"]
[null,"Tercera Corazón","3C"]
[null,"Tercera Diamante","3D"]
[null,"Sin Categoría","SC"]
[]
[]
[null,"Madrileña","M"]
[null,"Catalana","C"]
[null,"Asturiana","PA"]
[null,"Andaluza","A"]
[null,"Balear","IB"]
[null,"Canaria","IC"]
[null,"Cántabra","CN"]
[null,"Castilla y León","CL"]
[null,"Castellano-Manchega","CM"]
[null,"Gallega","G"]
[null,"Levantina","V"]
[null,"Vasca","PV"]
[null,"Aragonesa","AR"]
[null,"Extremeña","E"]
[null,"Murciana","MU"]
[null,"Navarra","N"]
[null,"Riojana","R"]

{"sheet":"Instrucciones","index":3,"n_rows":31,"n_cols":2,"rows_kept":31,"cut":false,"hidden":false,"merged":[]}
["A.- Identificación del torneo \n\n1. Introducir el nombre del torneo en la celda E1\n2. Introducir el tipo de torneo en la celda T5 (opción de desplegable)\n3. Introducir la categoría del torneo en la celda T6 (opción del desplegable)\n4. Introducir el número de participantes en el torneo en la celda T7 (número de equipos, número de parejas o número de jugadores si es individual)\n5. Introducir el número de manos jugadas por el ganador en la celda T8\n6. Introducir si el torneo es presencial o se ha jugado online en la celda T9\n7. Cerrar y/o guardar. Al estar HOCLAS en modo de solo lectura se debe renombrar el archivo. Dar un nombre que identifique el torneo, por ejemplo HoclasLaToja-Oct-2006. \n"]
["B.- Introducción de la clasificación.\n\n1. Introducir las licencias con siete dígitos. Si se introduce una licencia no válida aparecerá # N/A, (No disponible). Si un jugador carece de licencia introduzca 0, (cero). El titular aparecerá como \"Desconocido\".\n2. Al introducir el nº de licencia aparecerán los datos del jugador. Con ello comprobará que no se ha equivocado al introducir el número de licencia.\n3. Las columnas 1 y 2, (números de licencias) se cumplimentan por orden de clasificación, así como la columna del %"]
["C.- Instrucciones para cumplimentar HOCLAS en las pruebas por equipos \n\n1. Se siguen los mismos pasos que se acaban de exponer, pero con esta variación: Las columnas Licencia 2 y Jugador 2 no se utilizan, se dejan en blanco y en las sucesivas filas se introducen los jugadores de los diferentes equipos por orden de clasificación y poniendo la posición que han obtenido. \n2. Por ejemplo: si el primer clasificado lo forma un equipo de cinco jugadores las primeras cinco líneas tienen todas la posición 1 y los datos de los cinco jugadores. Si el segundo equipo lo forman seis jugadores las siguientes seis líneas tienen todas las posiciones 2 y los datos de los seis jugadores y así sucesivamente. \n"]
[]
[]
["TIPO DE TORNEO"]
["Parejas"]
["Equipos"]
["Individual"]
[]
["CATEGORÍA DE TORNEO"]
["Pool de club (o equivalente)",10]
["Torneo autonómico AEB (o eq.)",30]
["Torneo nacional AEB (o eq.)",70]
["Prueba de Selección Eq. Mixto, Damas o Senior",70]
["Prueba de Selección Eq. Open",100]
["Zonal clasificatorio Camp. España Open",100]
["Camp. España Eq. Mixto o Damas (Diamante)",50]
["Camp. España Eq. Mixto o Damas (Corazón)",75]
["Camp. España Eq. Mixto o Damas (Open)",150]
["Camp. España Parejas (Diamante)",75]
["Camp. España Parejas (Corazón)",112.5]
["Camp. España Parejas (Open)",150]
["Camp. España Eq. Open (Diamante)",112.5]
["Camp. España Eq. Open (Corazón)",168.75]
["Camp. España Eq. Open (Open)",225]
[]
["PRESENCIAL / ONLINE"]
["Presencial"]
["Online con arbitro y cámaras"]
["Online sin arbitro o cámaras"]

{"sheet":"Varios","index":4,"n_rows":96,"n_cols":3,"rows_kept":96,"cut":false,"hidden":false,"merged":[]}
[]
["Camp España Equipos Mixtos"]
[]
[]
[2811080,1,60]
[2811849,1,60]
[2811957,1,60]
[2811414,1,60]
[2811134,1,60]
[2811246,2,58.75]
[2811019,2,58.75]
[2813263,2,58.75]
[2814735,2,58.75]
[5911742,2,58.75]
[2812497,3,57.5]
[2812164,3,57.5]
[2811724,3,57.5]
[2811910,3,57.5]
[2811911,3,57.5]
[2812051,4,56.25]
[2815510,4,56.25]
[5911749,4,56.25]
[5911743,4,56.25]
[5911750,4,56.25]
[2812787,4,56.25]
[2811291,5,55]
[2811479,5,55]
[2811335,5,55]
[2811030,5,55]
[2814435,6,53.75]
[2814434,6,53.75]
[2812961,6,53.75]
[2811666,6,53.75]
[3991048,6,53.75]
[2812784,6,53.75]
[2812379,7,52.5]
[2812224,7,52.5]
[2811583,7,52.5]
[2813140,7,52.5]
[2811596,7,52.5]
[2812510,7,51.25]
[2811127,8,51.25]
[2811906,8,51.25]
[2811346,8,51.25]
[2812161,8,51.25]
[2811001,8,51.25]
[2811085,8,51.25]
[1161699,9,50]
[1161287,9,50]
[1161313,9,50]
[4161121,9,50]
[3635897,10,48.75]
[3631801,10,48.75]
[1535150,10,48.75]
[1535808,10,48.75]
[1531011,10,48.75]
[3635898,10,48.75]
[4641541,11,47.5]
[4646217,11,47.5]
[3551021,11,47.5]
["0821701",11,47.5]
["0821959",11,47.5]
[3551942,11,47.5]
[3631142,12,46.25]
[5911751,12,46.25]
[5911755,12,46.25]
[5911754,12,46.25]
[2811762,13,45]
[2812081,13,45]
[2813611,13,45]
[2813610,13,45]
[2814116,13,45]
[2814115,13,45]
[2811510,14,43.75]
[2811540,14,43.75]
[4641363,14,43.75]
[4641161,14,43.75]
[2811045,14,43.75]
[2811795,14,43.75]
[2731313,15,42.5]
[2813905,15,42.5]
[2814138,15,42.5]
[5911756,15,42.5]
[2812214,15,42.5]
[2812355,16,41.25]
[2812969,16,41.25]
[2812900,16,41.25]
[2812899,16,41.25]
[3995644,16,41.25]
[4881164,16,41.25]
[4641652,17,40]
[3301104,17,40]
[3991045,17,40]
[3991067,17,40]
[2813093,17,40]
[3991088,17,40]